{"text_format":"1","workbook":"xlsx","n_sheets":5,"sheets":["Feuil1","CADETS 1","CADETS 2","JUNIORS","SENIORS"],"not_rendered":{"charts":0,"images":0,"macros":1,"external_links":1,"defined_names":8,"comments":4,"pivot_tables":0},"unopened":[],"bounds":{"document_bytes":16777216,"sheet_cells":100000,"rows_first":2000,"rows_last":500,"rows_between":2000,"halvings":0,"cell_chars":16384,"cell_head_chars":4096},"cells_cut":0,"cells_raw":0,"read":"whole","date_system":"1900"}

{"sheet":"Feuil1","index":0,"n_rows":29,"n_cols":64,"rows_kept":29,"cut":false,"hidden":true,"merged":[]}
[null,null,"FC1 40","FC1 44","FC1 48","FC1 53","FC1 58","FC1 63","FC1 69","FC1 +69","FC2 44","FC2 48","FC2 53","FC2 58","FC2 63","FC2 69","FC2 +69","FJ48","FJ53","FJ58","FJ63","FJ69","FJ75","FJ+75","FS48","FS53","FS58","FS63","FS69","FS75","FS+75","C1 45","C1 50","C1 56","C1 62","C1 69","C1 77","C1 85","C1 94","C1 +94","C2 50","C2 56","C2 62","C2 69","C2 77","C2 85","C2 94","C2 +94","J56","J62","J69","J77","J85","J94","J105","J+105","S56","S62","S69","S77","S85","S94","S105","S+105"]
[null,"DEBUTANT",20,25,25,35,40,45,50,60,30,35,45,50,55,60,70,45,55,60,65,70,80,90,55,65,70,75,80,95,100,35,40,50,75,85,90,100,110,120,45,65,85,95,110,120,125,135,80,90,110,130,145,150,155,165,95,120,130,150,165,170,175,185]
[null,"DEPARTEMENTAL",25,35,35,45,50,55,60,70,40,45,55,60,65,70,80,55,65,70,75,80,95,100,65,75,80,85,90,105,110,50,55,70,95,105,110,120,130,140,65,85,105,115,130,140,145,155,100,120,130,150,165,170,175,185,115,135,150,170,185,190,195,205]
[null,"REGIONAL",35,40,45,55,60,65,70,80,50,55,65,70,75,80,95,65,75,80,85,90,105,110,75,85,90,95,105,115,125,60,65,85,105,115,130,140,145,155,80,100,120,130,150,160,165,175,115,135,150,170,185,190,195,205,130,150,170,190,205,215,220,225]
[null,"INTERREGIONAL",45,50,55,65,70,75,80,95,60,65,75,80,85,90,105,75,85,90,95,105,115,125,85,95,100,110,120,130,140,75,80,100,120,130,150,160,165,175,95,115,135,150,170,180,185,195,130,150,170,190,205,215,220,225,145,170,190,210,225,235,245,250]
[null,"FEDERAL",50,60,65,75,80,85,90,105,70,75,85,90,95,105,115,85,95,100,110,120,130,140,95,105,115,125,135,145,150,90,95,115,135,150,170,180,185,195,110,130,150,170,185,200,210,220,145,170,190,210,225,235,245,250,170,190,220,240,250,260,270,280]
[null,"NATIONAL",60,70,75,85,90,95,105,115,80,85,95,100,110,120,130,95,105,115,125,135,145,150,110,120,130,140,150,160,170,105,110,130,150,170,185,200,210,220,120,145,170,190,200,220,225,235,170,190,220,240,250,260,270,280,190,210,240,265,280,290,300,310]
[null,"INTERNATIONAL B",70,80,85,95,100,110,120,130,90,95,105,115,125,135,145,110,120,130,140,150,160,170,125,140,150,160,170,180,190,115,120,145,170,190,200,220,225,235,135,170,190,210,220,240,250,260,190,210,240,260,280,290,300,310,210,230,260,285,300,310,325,330]
[null,"INTERNATIONAL A",80,90,95,105,115,125,135,145,100,110,120,130,140,150,160,125,135,150,160,170,180,190,140,160,170,180,190,195,210,130,135,170,190,210,220,240,250,260,150,190,210,230,250,260,280,280,210,230,250,285,300,310,325,330,225,255,275,305,325,330,345,355]
[null,"OLYMPIQUE",1000,1000,1000,1000,1000,1000,1000,1000,1000,1000,1000,1000,1000,1000,1000,1000,1000,1000,1000,1000,1000,1000,155,175,190,200,205,210,225,1000,1000,1000,1000,1000,1000,10000,1000,1000,1000,1000,1000,1000,1000,10000,1000,1000,1000,1000,1000,10000,1000,1000,1000,10000,240,270,290,320,345,355,365,375]
[null,"MINIME","CADET","CADET","JUNIOR","SENIOR",null,"MINIME","CADETTE","CADETTE","JUNIOR","SENIOR"]
[20.010000000000002,"NON","C1 45","C2 50","J56","S56",20.010000000000002,"NON","FC1 40","FC2 44","FJ48","FS48"]
[34.01,"NON","C1 45","C2 50","J56","S56",30.01,"NON","FC1 40","FC2 44","FJ48","FS48"]
[38.01,"NON","C1 45","C2 50","J56","S56",35.01,"NON","FC1 40","FC2 44","FJ48","FS48"]
[40.01,"NON","C1 45","C2 50","J56","S56",36.01,"NON","FC1 40","FC2 44","FJ48","FS48"]
[45.01,"NON","C1 50","C2 50","J56","S56",40.01,"NON","FC1 44","FC2 44","FJ48","FS48"]
[50.01,"NON","C1 56","C2 56","J56","S56",44.01,"NON","FC1 48","FC2 48","FJ48","FS48"]
[52.05,"NON","C1 56","C2 56","J56","S56",48.01,"NON","FC1 53","FC2 53","FJ53","FS53"]
[56.01,"NON","C1 62","C2 62","J62","S62",53.01,"NON","FC1 58","FC2 58","FJ58","FS58"]
[62.01,"NON","C1 69","C2 69","J69","S69",58.01,"NON","FC1 63","FC2 63","FJ63","FS63"]
[69.010000000000005,"NON","C1 77","C2 77","J77","S77",63.01,"NON","FC1 69","FC2 69","FJ69","FS69"]
[77.010000000000005,"NON","C1 85","C2 85","J85","S85",69.010000000000005,"NON","FC1 +69","FC2 +69","FJ75","FS75"]
[85.01,"NON","C1 94","C2 94","J94","S94",75.010000000000005,"NON","FC1 +69","FC2 +69","FJ+75","FS+75"]
[94.01,"NON","C1 +94","C2 +94","J105","S105",110,"NON","FC1 +69","FC2 +69","FJ+75","FS+75"]
[105.01,"NON","C1 +94","C2 +94","J+105","S+105",140,"NON","FC1 +69","FC2 +69","FJ+75","FS+75"]
[110,"NON","C1 +94","C2 +94","J+105","S+105"]
[120,"NON","C1 +94","C2 +94","J+105","S+105"]
[130,"NON","C1 +94","C2 +94","J+105","S+105"]
[140,"NON","C1 +94","C2 +94","J+105","S+105",null,null,null,null,null,null,null,null,null,null,null,null,null,null,null,null,null,null,null,null,null,null,null,null,null,null,null," "]

{"sheet":"CADETS 1","index":1,"n_rows":524,"n_cols":50,"rows_kept":524,"cut":false,"hidden":false,"merged":[[3,21,3,22],[0,7,0,14],[0,18,0,21],[1,6,1,10],[1,11,1,13],[1,14,1,17],[1,18,1,19],[1,21,1,22]]}
[null,null,null,null,null,"LISTING NATIONAL",null," FEMININES",null,null,null,null,null,null,null,null,"DATE :",null,"2015-06-30"]
[null,null,null,null,null," ","2014-2015",null,null,null,null,"3° TRIMESTRE"]
[]
["SEXE","ZONE","REG.","CL.","LICENCE","NOMS","Prénoms","AN","POIDS","CLUB","NAT",1,2,3,"ARR",1,2,3,"EP-J","Total","KP-2PC","SERIE",null,"Catég","IWF",null," ","DEB ","DEP +","REG +","IRG +","FED +","NAT +","INTB +","INTA +","OLY +"]
[null,null,null,null,null,null,null,null,null,null,null,null,null,null,null,null,null,null,null,null,null,null,null,null,null,null," ",{"$f":"T5-HLOOKUP(X5,[1]Feuil1!$C$1:$BL$10,2,FALSE)","v":{"$error":"#N/A"}},{"$f":"T5-HLOOKUP(X5,[1]Feuil1!$C$1:$BL$10,3,FALSE)","v":{"$error":"#N/A"}},{"$f":"T5-HLOOKUP(X5,[1]Feuil1!$C$1:$BL$10,4,FALSE)","v":{"$error":"#N/A"}},{"$f":"T5-HLOOKUP(X5,[1]Feuil1!$C$1:$BL$10,5,FALSE)","v":{"$error":"#N/A"}},{"$f":"T5-HLOOKUP(X5,[1]Feuil1!$C$1:$BL$10,6,FALSE)","v":{"$error":"#N/A"}},{"$f":"T5-HLOOKUP(X5,[1]Feuil1!$C$1:$BL$10,7,FALSE)","v":{"$error":"#N/A"}},{"$f":"T5-HLOOKUP(X5,[1]Feuil1!$C$1:$BL$10,8,FALSE)","v":{"$error":"#N/A"}},{"$f":"T5-HLOOKUP(X5,[1]Feuil1!$C$1:$BL$10,9,FALSE)","v":{"$error":"#N/A"}},{"$f":"T5-HLOOKUP(X5,[1]Feuil1!$C$1:$BL$10,10,FALSE)","v":{"$error":"#N/A"}},null,null,null,null,null,null,{"$f":"IF(AJ5>=0,$AJ$4,IF(AI5>=0,$AI$4,IF(AH5>=0,$AH$4,IF(AG5>=0,$AG$4,IF(AF5>=0,$AF$4,IF(AE5>=0,$AE$4,IF(AD5>=0,$AD$4,IF(AC5>=0,$AC$4,$AB$4))))))))","v":{"$error":"#N/A"}}]
["F","NE","LOR",1,191333,"DUCHAUFFOUR","Mélanie",2001,33.380000000000003,"H.VALLEROY-AUBOUÉ","F",21,23,-24,{"$f":"IF(H6=\"\",\"\",IF(MAXA(L6:N6)<=0,0,MAXA(L6:N6)))","v":23},30,32,34,{"$f":"IF(H6=\"\",\"\",IF(MAXA(P6:R6)<=0,0,MAXA(P6:R6)))","v":34},{"$f":"IF(H6=\"\",\"\",IF(OR(O6=0,S6=0),0,O6+S6))","v":57},{"$f":"T6-I6*2","v":-9.7600000000000051},{"$f":"IF(H6=\"\",\"\",AQ6)","v":"FED +"},{"$f":"IF(AJ6>=0,AJ6,IF(AI6>=0,AI6,IF(AH6>=0,AH6,IF(AG6>=0,AG6,IF(AF6>=0,AF6,IF(AE6>=0,AE6,IF(AD6>=0,AD6,IF(AC6>=0,AC6,AB6))))))))","v":7},{"$f":"IF(I6=\"\",\"\",IF(A6=\"H\",IF(OR(H6=\"SEN\",H6<1995),VLOOKUP(I6,Feuil1!$A$11:$G$29,6),IF(AND(H6>1994,H6<1998),VLOOKUP(I6,Feuil1!$A$11:$G$29,5),IF(AND(H6>1997,H6<2000),VLOOKUP(I6,Feuil1!$A$11:$G$29,4),IF(AND(H6>1999,H6<2002),VLOOKUP(I6,Feuil1!$A$11:$G$29,3),VLOOKUP(I6,Feuil1!$A$11:$G$29,2))))),IF(OR(H6=\"SEN\",H6<1995),VLOOKUP(I6,Feuil1!$G$11:$L$25,6),IF(AND(H6>1994,H6<1998),VLOOKUP(I6,Feuil1!$G$11:$L$25,5),IF(AND(H6>1997,H6<2000),VLOOKUP(I6,Feuil1!$G$11:$L$25,4),IF(AND(H6>1999,H6<2002),VLOOKUP(I6,Feuil1!$G$11:$L$25,3),VLOOKUP(I6,Feuil1!$G$11:$L$25,2)))))))","v":"FC1 40"},{"$f":"IF(I6=\"\",\"\",IF(A6=\"H\",10^(0.794358141*LOG(I6/174.393)^2)*T6,IF(A6=\"F\",10^(0.89726074*LOG(I6/148.026)^2)*T6,\"\")))","v":135.30195714454129},null," ",{"$f":"T6-HLOOKUP(X6,Feuil1!$C$1:$BL$10,2,FALSE)","v":37},{"$f":"T6-HLOOKUP(X6,Feuil1!$C$1:$BL$10,3,FALSE)","v":32},{"$f":"T6-HLOOKUP(X6,Feuil1!$C$1:$BL$10,4,FALSE)","v":22},{"$f":"T6-HLOOKUP(X6,Feuil1!$C$1:$BL$10,5,FALSE)","v":12},{"$f":"T6-HLOOKUP(X6,Feuil1!$C$1:$BL$10,6,FALSE)","v":7},{"$f":"T6-HLOOKUP(X6,Feuil1!$C$1:$BL$10,7,FALSE)","v":-3},{"$f":"T6-HLOOKUP(X6,Feuil1!$C$1:$BL$10,8,FALSE)","v":-13},{"$f":"T6-HLOOKUP(X6,Feuil1!$C$1:$BL$10,9,FALSE)","v":-23},{"$f":"T6-HLOOKUP(X6,Feuil1!$C$1:$BL$10,10,FALSE)","v":-943},null,null,null,null,null,null,{"$f":"IF(AJ6>=0,$AJ$4,IF(AI6>=0,$AI$4,IF(AH6>=0,$AH$4,IF(AG6>=0,$AG$4,IF(AF6>=0,$AF$4,IF(AE6>=0,$AE$4,IF(AD6>=0,$AD$4,IF(AC6>=0,$AC$4,$AB$4))))))))","v":"FED +"}]
["F","NORD","PIC",2,332467,"FOUCART","Noémie",2000,37.61,"La Ferté Milon CMHM","F",15,18,-20,{"$f":"IF(H7=\"\",\"\",IF(MAXA(L7:N7)<=0,0,MAXA(L7:N7)))","v":18},25,27,-29,{"$f":"IF(H7=\"\",\"\",IF(MAXA(P7:R7)<=0,0,MAXA(P7:R7)))","v":27},{"$f":"IF(H7=\"\",\"\",IF(OR(O7=0,S7=0),0,O7+S7))","v":45},{"$f":"T7-I7*2","v":-30.22},{"$f":"IF(H7=\"\",\"\",AQ7)","v":"IRG +"},{"$f":"IF(AJ7>=0,AJ7,IF(AI7>=0,AI7,IF(AH7>=0,AH7,IF(AG7>=0,AG7,IF(AF7>=0,AF7,IF(AE7>=0,AE7,IF(AD7>=0,AD7,IF(AC7>=0,AC7,AB7))))))))","v":0},{"$f":"IF(I7=\"\",\"\",IF(A7=\"H\",IF(OR(H7=\"SEN\",H7<1995),VLOOKUP(I7,Feuil1!$A$11:$G$29,6),IF(AND(H7>1994,H7<1998),VLOOKUP(I7,Feuil1!$A$11:$G$29,5),IF(AND(H7>1997,H7<2000),VLOOKUP(I7,Feuil1!$A$11:$G$29,4),IF(AND(H7>1999,H7<2002),VLOOKUP(I7,Feuil1!$A$11:$G$29,3),VLOOKUP(I7,Feuil1!$A$11:$G$29,2))))),IF(OR(H7=\"SEN\",H7<1995),VLOOKUP(I7,Feuil1!$G$11:$L$25,6),IF(AND(H7>1994,H7<1998),VLOOKUP(I7,Feuil1!$G$11:$L$25,5),IF(AND(H7>1997,H7<2000),VLOOKUP(I7,Feuil1!$G$11:$L$25,4),IF(AND(H7>1999,H7<2002),VLOOKUP(I7,Feuil1!$G$11:$L$25,3),VLOOKUP(I7,Feuil1!$G$11:$L$25,2)))))))","v":"FC1 40"},{"$f":"IF(I7=\"\",\"\",IF(A7=\"H\",10^(0.794358141*LOG(I7/174.393)^2)*T7,IF(A7=\"F\",10^(0.89726074*LOG(I7/148.026)^2)*T7,\"\")))","v":93.519519582534087},null," ",{"$f":"T7-HLOOKUP(X7,Feuil1!$C$1:$BL$10,2,FALSE)","v":25},{"$f":"T7-HLOOKUP(X7,Feuil1!$C$1:$BL$10,3,FALSE)","v":20},{"$f":"T7-HLOOKUP(X7,Feuil1!$C$1:$BL$10,4,FALSE)","v":10},{"$f":"T7-HLOOKUP(X7,Feuil1!$C$1:$BL$10,5,FALSE)","v":0},{"$f":"T7-HLOOKUP(X7,Feuil1!$C$1:$BL$10,6,FALSE)","v":-5},{"$f":"T7-HLOOKUP(X7,Feuil1!$C$1:$BL$10,7,FALSE)","v":-15},{"$f":"T7-HLOOKUP(X7,Feuil1!$C$1:$BL$10,8,FALSE)","v":-25},{"$f":"T7-HLOOKUP(X7,Feuil1!$C$1:$BL$10,9,FALSE)","v":-35},{"$f":"T7-HLOOKUP(X7,Feuil1!$C$1:$BL$10,10,FALSE)","v":-955},null,null,null,null,null,null,{"$f":"IF(AJ7>=0,$AJ$4,IF(AI7>=0,$AI$4,IF(AH7>=0,$AH$4,IF(AG7>=0,$AG$4,IF(AF7>=0,$AF$4,IF(AE7>=0,$AE$4,IF(AD7>=0,$AD$4,IF(AC7>=0,$AC$4,$AB$4))))))))","v":"IRG +"}]
["F","SEST","LAN ",3,378497,"MONTESSINOS","Lucile",2001,35.200000000000003,"Frontignan AC","F",14,17,19,19,-20,21,23,23,42,-28.400000000000006,"REG +",7,{"$f":"IF(I8=\"\",\"\",IF(A8=\"H\",IF(OR(H8=\"SEN\",H8<1995),VLOOKUP(I8,Feuil1!$A$11:$G$29,6),IF(AND(H8>1994,H8<1998),VLOOKUP(I8,Feuil1!$A$11:$G$29,5),IF(AND(H8>1997,H8<2000),VLOOKUP(I8,Feuil1!$A$11:$G$29,4),IF(AND(H8>1999,H8<2002),VLOOKUP(I8,Feuil1!$A$11:$G$29,3),VLOOKUP(I8,Feuil1!$A$11:$G$29,2))))),IF(OR(H8=\"SEN\",H8<1995),VLOOKUP(I8,Feuil1!$G$11:$L$25,6),IF(AND(H8>1994,H8<1998),VLOOKUP(I8,Feuil1!$G$11:$L$25,5),IF(AND(H8>1997,H8<2000),VLOOKUP(I8,Feuil1!$G$11:$L$25,4),IF(AND(H8>1999,H8<2002),VLOOKUP(I8,Feuil1!$G$11:$L$25,3),VLOOKUP(I8,Feuil1!$G$11:$L$25,2)))))))","v":"FC1 40"},93.840854044000253,null," ",{"$f":"T8-HLOOKUP(X8,Feuil1!$C$1:$BL$10,2,FALSE)","v":22},{"$f":"T8-HLOOKUP(X8,Feuil1!$C$1:$BL$10,3,FALSE)","v":17},{"$f":"T8-HLOOKUP(X8,Feuil1!$C$1:$BL$10,4,FALSE)","v":7},{"$f":"T8-HLOOKUP(X8,Feuil1!$C$1:$BL$10,5,FALSE)","v":-3},{"$f":"T8-HLOOKUP(X8,Feuil1!$C$1:$BL$10,6,FALSE)","v":-8},{"$f":"T8-HLOOKUP(X8,Feuil1!$C$1:$BL$10,7,FALSE)","v":-18},{"$f":"T8-HLOOKUP(X8,Feuil1!$C$1:$BL$10,8,FALSE)","v":-28},{"$f":"T8-HLOOKUP(X8,Feuil1!$C$1:$BL$10,9,FALSE)","v":-38},{"$f":"T8-HLOOKUP(X8,Feuil1!$C$1:$BL$10,10,FALSE)","v":-958},null,null,null,null,null,null,"REG +"]
[null,null,null,null,null,null,null,null,null,null,null,null,null,null,null,null,null,null,null,null,null,null,null,null,null,null," ",{"$f":"T9-HLOOKUP(X9,[1]Feuil1!$C$1:$BL$10,2,FALSE)","v":{"$error":"#N/A"}},{"$f":"T9-HLOOKUP(X9,[1]Feuil1!$C$1:$BL$10,3,FALSE)","v":{"$error":"#N/A"}},{"$f":"T9-HLOOKUP(X9,[1]Feuil1!$C$1:$BL$10,4,FALSE)","v":{"$error":"#N/A"}},{"$f":"T9-HLOOKUP(X9,[1]Feuil1!$C$1:$BL$10,5,FALSE)","v":{"$error":"#N/A"}},{"$f":"T9-HLOOKUP(X9,[1]Feuil1!$C$1:$BL$10,6,FALSE)","v":{"$error":"#N/A"}},{"$f":"T9-HLOOKUP(X9,[1]Feuil1!$C$1:$BL$10,7,FALSE)","v":{"$error":"#N/A"}},{"$f":"T9-HLOOKUP(X9,[1]Feuil1!$C$1:$BL$10,8,FALSE)","v":{"$error":"#N/A"}},{"$f":"T9-HLOOKUP(X9,[1]Feuil1!$C$1:$BL$10,9,FALSE)","v":{"$error":"#N/A"}},{"$f":"T9-HLOOKUP(X9,[1]Feuil1!$C$1:$BL$10,10,FALSE)","v":{"$error":"#N/A"}},null,null,null,null,null,null,{"$error":"#N/A"}]
["F","NE","ALS",1,244336,"CHRISTOPHEL","Marie",2000,43.5,"ASPTT Strasbourg","F",37,40,42,{"$f":"IF(H10=\"\",\"\",IF(MAXA(L10:N10)<=0,0,MAXA(L10:N10)))","v":42},46,49,52,{"$f":"IF(H10=\"\",\"\",IF(MAXA(P10:R10)<=0,0,MAXA(P10:R10)))","v":52},{"$f":"IF(H10=\"\",\"\",IF(OR(O10=0,S10=0),0,O10+S10))","v":94},{"$f":"T10-I10*2","v":7},{"$f":"IF(H10=\"\",\"\",AQ10)","v":"INTA +"},{"$f":"IF(AJ10>=0,AJ10,IF(AI10>=0,AI10,IF(AH10>=0,AH10,IF(AG10>=0,AG10,IF(AF10>=0,AF10,IF(AE10>=0,AE10,IF(AD10>=0,AD10,IF(AC10>=0,AC10,AB10))))))))","v":4},{"$f":"IF(I10=\"\",\"\",IF(A10=\"H\",IF(OR(H10=\"SEN\",H10<1995),VLOOKUP(I10,Feuil1!$A$11:$G$29,6),IF(AND(H10>1994,H10<1998),VLOOKUP(I10,Feuil1!$A$11:$G$29,5),IF(AND(H10>1997,H10<2000),VLOOKUP(I10,Feuil1!$A$11:$G$29,4),IF(AND(H10>1999,H10<2002),VLOOKUP(I10,Feuil1!$A$11:$G$29,3),VLOOKUP(I10,Feuil1!$A$11:$G$29,2))))),IF(OR(H10=\"SEN\",H10<1995),VLOOKUP(I10,Feuil1!$G$11:$L$25,6),IF(AND(H10>1994,H10<1998),VLOOKUP(I10,Feuil1!$G$11:$L$25,5),IF(AND(H10>1997,H10<2000),VLOOKUP(I10,Feuil1!$G$11:$L$25,4),IF(AND(H10>1999,H10<2002),VLOOKUP(I10,Feuil1!$G$11:$L$25,3),VLOOKUP(I10,Feuil1!$G$11:$L$25,2)))))))","v":"FC1 44"},{"$f":"IF(I10=\"\",\"\",IF(A10=\"H\",10^(0.794358141*LOG(I10/174.393)^2)*T10,IF(A10=\"F\",10^(0.89726074*LOG(I10/148.026)^2)*T10,\"\")))","v":168.62804246747376},null," ",{"$f":"T10-HLOOKUP(X10,Feuil1!$C$1:$BL$10,2,FALSE)","v":69},{"$f":"T10-HLOOKUP(X10,Feuil1!$C$1:$BL$10,3,FALSE)","v":59},{"$f":"T10-HLOOKUP(X10,Feuil1!$C$1:$BL$10,4,FALSE)","v":54},{"$f":"T10-HLOOKUP(X10,Feuil1!$C$1:$BL$10,5,FALSE)","v":44},{"$f":"T10-HLOOKUP(X10,Feuil1!$C$1:$BL$10,6,FALSE)","v":34},{"$f":"T10-HLOOKUP(X10,Feuil1!$C$1:$BL$10,7,FALSE)","v":24},{"$f":"T10-HLOOKUP(X10,Feuil1!$C$1:$BL$10,8,FALSE)","v":14},{"$f":"T10-HLOOKUP(X10,Feuil1!$C$1:$BL$10,9,FALSE)","v":4},{"$f":"T10-HLOOKUP(X10,Feuil1!$C$1:$BL$10,10,FALSE)","v":-906},null,null,null,null,null,null,{"$f":"IF(AJ10>=0,$AJ$4,IF(AI10>=0,$AI$4,IF(AH10>=0,$AH$4,IF(AG10>=0,$AG$4,IF(AF10>=0,$AF$4,IF(AE10>=0,$AE$4,IF(AD10>=0,$AD$4,IF(AC10>=0,$AC$4,$AB$4))))))))","v":"INTA +"}]
["F","CO","PDL",2,379232,"HEUZE","Emma",2000,43.96,"CA Evron 53","F",30,33,35,35,40,43,45,45,80,-7.9200000000000017,"INTB +",0,{"$f":"IF(I11=\"\",\"\",IF(A11=\"H\",IF(OR(H11=\"SEN\",H11<1995),VLOOKUP(I11,Feuil1!$A$11:$G$29,6),IF(AND(H11>1994,H11<1998),VLOOKUP(I11,Feuil1!$A$11:$G$29,5),IF(AND(H11>1997,H11<2000),VLOOKUP(I11,Feuil1!$A$11:$G$29,4),IF(AND(H11>1999,H11<2002),VLOOKUP(I11,Feuil1!$A$11:$G$29,3),VLOOKUP(I11,Feuil1!$A$11:$G$29,2))))),IF(OR(H11=\"SEN\",H11<1995),VLOOKUP(I11,Feuil1!$G$11:$L$25,6),IF(AND(H11>1994,H11<1998),VLOOKUP(I11,Feuil1!$G$11:$L$25,5),IF(AND(H11>1997,H11<2000),VLOOKUP(I11,Feuil1!$G$11:$L$25,4),IF(AND(H11>1999,H11<2002),VLOOKUP(I11,Feuil1!$G$11:$L$25,3),VLOOKUP(I11,Feuil1!$G$11:$L$25,2)))))))","v":"FC1 44"},142.08573810880586,null," ",{"$f":"T11-HLOOKUP(X11,Feuil1!$C$1:$BL$10,2,FALSE)","v":55},{"$f":"T11-HLOOKUP(X11,Feuil1!$C$1:$BL$10,3,FALSE)","v":45},{"$f":"T11-HLOOKUP(X11,Feuil1!$C$1:$BL$10,4,FALSE)","v":40},{"$f":"T11-HLOOKUP(X11,Feuil1!$C$1:$BL$10,5,FALSE)","v":30},{"$f":"T11-HLOOKUP(X11,Feuil1!$C$1:$BL$10,6,FALSE)","v":20},{"$f":"T11-HLOOKUP(X11,Feuil1!$C$1:$BL$10,7,FALSE)","v":10},{"$f":"T11-HLOOKUP(X11,Feuil1!$C$1:$BL$10,8,FALSE)","v":0},{"$f":"T11-HLOOKUP(X11,Feuil1!$C$1:$BL$10,9,FALSE)","v":-10},{"$f":"T11-HLOOKUP(X11,Feuil1!$C$1:$BL$10,10,FALSE)","v":-920},null,null,null,null,null,null,"INTB +"]
["F","N","IDF",3,357786,"MACE","DORIANE",2000,43.8,"US METRO","F",30,-34,34,34,40,45,-50,45,79,-8.5999999999999943,"NAT +",9,{"$f":"IF(I12=\"\",\"\",IF(A12=\"H\",IF(OR(H12=\"SEN\",H12<1995),VLOOKUP(I12,Feuil1!$A$11:$G$29,6),IF(AND(H12>1994,H12<1998),VLOOKUP(I12,Feuil1!$A$11:$G$29,5),IF(AND(H12>1997,H12<2000),VLOOKUP(I12,Feuil1!$A$11:$G$29,4),IF(AND(H12>1999,H12<2002),VLOOKUP(I12,Feuil1!$A$11:$G$29,3),VLOOKUP(I12,Feuil1!$A$11:$G$29,2))))),IF(OR(H12=\"SEN\",H12<1995),VLOOKUP(I12,Feuil1!$G$11:$L$25,6),IF(AND(H12>1994,H12<1998),VLOOKUP(I12,Feuil1!$G$11:$L$25,5),IF(AND(H12>1997,H12<2000),VLOOKUP(I12,Feuil1!$G$11:$L$25,4),IF(AND(H12>1999,H12<2002),VLOOKUP(I12,Feuil1!$G$11:$L$25,3),VLOOKUP(I12,Feuil1!$G$11:$L$25,2)))))))","v":"FC1 44"},140.79532809649223,null," ",{"$f":"T12-HLOOKUP(X12,Feuil1!$C$1:$BL$10,2,FALSE)","v":54},{"$f":"T12-HLOOKUP(X12,Feuil1!$C$1:$BL$10,3,FALSE)","v":44},{"$f":"T12-HLOOKUP(X12,Feuil1!$C$1:$BL$10,4,FALSE)","v":39},{"$f":"T12-HLOOKUP(X12,Feuil1!$C$1:$BL$10,5,FALSE)","v":29},{"$f":"T12-HLOOKUP(X12,Feuil1!$C$1:$BL$10,6,FALSE)","v":19},{"$f":"T12-HLOOKUP(X12,Feuil1!$C$1:$BL$10,7,FALSE)","v":9},{"$f":"T12-HLOOKUP(X12,Feuil1!$C$1:$BL$10,8,FALSE)","v":-1},{"$f":"T12-HLOOKUP(X12,Feuil1!$C$1:$BL$10,9,FALSE)","v":-11},{"$f":"T12-HLOOKUP(X12,Feuil1!$C$1:$BL$10,10,FALSE)","v":-921},null,null,null,null,null,null,"NAT +"]
["F","NORD","NPC",4,367010,"PIETERS","Justine",2000,43.96,"C.A.ROSENDAEL","F",30,33,-34,33,42,45,-47,45,78,-9.9200000000000017,"NAT +",8,{"$f":"IF(I13=\"\",\"\",IF(A13=\"H\",IF(OR(H13=\"SEN\",H13<1995),VLOOKUP(I13,Feuil1!$A$11:$G$29,6),IF(AND(H13>1994,H13<1998),VLOOKUP(I13,Feuil1!$A$11:$G$29,5),IF(AND(H13>1997,H13<2000),VLOOKUP(I13,Feuil1!$A$11:$G$29,4),IF(AND(H13>1999,H13<2002),VLOOKUP(I13,Feuil1!$A$11:$G$29,3),VLOOKUP(I13,Feuil1!$A$11:$G$29,2))))),IF(OR(H13=\"SEN\",H13<1995),VLOOKUP(I13,Feuil1!$G$11:$L$25,6),IF(AND(H13>1994,H13<1998),VLOOKUP(I13,Feuil1!$G$11:$L$25,5),IF(AND(H13>1997,H13<2000),VLOOKUP(I13,Feuil1!$G$11:$L$25,4),IF(AND(H13>1999,H13<2002),VLOOKUP(I13,Feuil1!$G$11:$L$25,3),VLOOKUP(I13,Feuil1!$G$11:$L$25,2)))))))","v":"FC1 44"},138.53359465608571,null," ",{"$f":"T13-HLOOKUP(X13,Feuil1!$C$1:$BL$10,2,FALSE)","v":53},{"$f":"T13-HLOOKUP(X13,Feuil1!$C$1:$BL$10,3,FALSE)","v":43},{"$f":"T13-HLOOKUP(X13,Feuil1!$C$1:$BL$10,4,FALSE)","v":38},{"$f":"T13-HLOOKUP(X13,Feuil1!$C$1:$BL$10,5,FALSE)","v":28},{"$f":"T13-HLOOKUP(X13,Feuil1!$C$1:$BL$10,6,FALSE)","v":18},{"$f":"T13-HLOOKUP(X13,Feuil1!$C$1:$BL$10,7,FALSE)","v":8},{"$f":"T13-HLOOKUP(X13,Feuil1!$C$1:$BL$10,8,FALSE)","v":-2},{"$f":"T13-HLOOKUP(X13,Feuil1!$C$1:$BL$10,9,FALSE)","v":-12},{"$f":"T13-HLOOKUP(X13,Feuil1!$C$1:$BL$10,10,FALSE)","v":-922},null,null,null,null,null,null,"NAT +"]
["F","NORD","NPC",5,298339,"RIQUIER","Angélique",2001,43.72,"CHCD COMINES","F",23,25,26,26,34,36,38,38,64,-23.439999999999998,"FED +",4,{"$f":"IF(I14=\"\",\"\",IF(A14=\"H\",IF(OR(H14=\"SEN\",H14<1995),VLOOKUP(I14,Feuil1!$A$11:$G$29,6),IF(AND(H14>1994,H14<1998),VLOOKUP(I14,Feuil1!$A$11:$G$29,5),IF(AND(H14>1997,H14<2000),VLOOKUP(I14,Feuil1!$A$11:$G$29,4),IF(AND(H14>1999,H14<2002),VLOOKUP(I14,Feuil1!$A$11:$G$29,3),VLOOKUP(I14,Feuil1!$A$11:$G$29,2))))),IF(OR(H14=\"SEN\",H14<1995),VLOOKUP(I14,Feuil1!$G$11:$L$25,6),IF(AND(H14>1994,H14<1998),VLOOKUP(I14,Feuil1!$G$11:$L$25,5),IF(AND(H14>1997,H14<2000),VLOOKUP(I14,Feuil1!$G$11:$L$25,4),IF(AND(H14>1999,H14<2002),VLOOKUP(I14,Feuil1!$G$11:$L$25,3),VLOOKUP(I14,Feuil1!$G$11:$L$25,2)))))))","v":"FC1 44"},114.26025886057204,null," ",{"$f":"T14-HLOOKUP(X14,Feuil1!$C$1:$BL$10,2,FALSE)","v":39},{"$f":"T14-HLOOKUP(X14,Feuil1!$C$1:$BL$10,3,FALSE)","v":29},{"$f":"T14-HLOOKUP(X14,Feuil1!$C$1:$BL$10,4,FALSE)","v":24},{"$f":"T14-HLOOKUP(X14,Feuil1!$C$1:$BL$10,5,FALSE)","v":14},{"$f":"T14-HLOOKUP(X14,Feuil1!$C$1:$BL$10,6,FALSE)","v":4},{"$f":"T14-HLOOKUP(X14,Feuil1!$C$1:$BL$10,7,FALSE)","v":-6},{"$f":"T14-HLOOKUP(X14,Feuil1!$C$1:$BL$10,8,FALSE)","v":-16},{"$f":"T14-HLOOKUP(X14,Feuil1!$C$1:$BL$10,9,FALSE)","v":-26},{"$f":"T14-HLOOKUP(X14,Feuil1!$C$1:$BL$10,10,FALSE)","v":-936},null,null,null,null,null,null,"FED +"]
["F","SEST","CAZ",6,397293,"MAILLOT","Bahia",2001,44,"ASLDD TOULON","F",20,22,24,24,28,31,-33,31,55,-33,"IRG +",5,{"$f":"IF(I15=\"\",\"\",IF(A15=\"H\",IF(OR(H15=\"SEN\",H15<1995),VLOOKUP(I15,Feuil1!$A$11:$G$29,6),IF(AND(H15>1994,H15<1998),VLOOKUP(I15,Feuil1!$A$11:$G$29,5),IF(AND(H15>1997,H15<2000),VLOOKUP(I15,Feuil1!$A$11:$G$29,4),IF(AND(H15>1999,H15<2002),VLOOKUP(I15,Feuil1!$A$11:$G$29,3),VLOOKUP(I15,Feuil1!$A$11:$G$29,2))))),IF(OR(H15=\"SEN\",H15<1995),VLOOKUP(I15,Feuil1!$G$11:$L$25,6),IF(AND(H15>1994,H15<1998),VLOOKUP(I15,Feuil1!$G$11:$L$25,5),IF(AND(H15>1997,H15<2000),VLOOKUP(I15,Feuil1!$G$11:$L$25,4),IF(AND(H15>1999,H15<2002),VLOOKUP(I15,Feuil1!$G$11:$L$25,3),VLOOKUP(I15,Feuil1!$G$11:$L$25,2)))))))","v":"FC1 44"},97.599946993340382,null," ",{"$f":"T15-HLOOKUP(X15,Feuil1!$C$1:$BL$10,2,FALSE)","v":30},{"$f":"T15-HLOOKUP(X15,Feuil1!$C$1:$BL$10,3,FALSE)","v":20},{"$f":"T15-HLOOKUP(X15,Feuil1!$C$1:$BL$10,4,FALSE)","v":15},{"$f":"T15-HLOOKUP(X15,Feuil1!$C$1:$BL$10,5,FALSE)","v":5},{"$f":"T15-HLOOKUP(X15,Feuil1!$C$1:$BL$10,6,FALSE)","v":-5},{"$f":"T15-HLOOKUP(X15,Feuil1!$C$1:$BL$10,7,FALSE)","v":-15},{"$f":"T15-HLOOKUP(X15,Feuil1!$C$1:$BL$10,8,FALSE)","v":-25},{"$f":"T15-HLOOKUP(X15,Feuil1!$C$1:$BL$10,9,FALSE)","v":-35},{"$f":"T15-HLOOKUP(X15,Feuil1!$C$1:$BL$10,10,FALSE)","v":-945},null,null,null,null,null,null,"IRG +"]
["F","N","IDF",7,390302,"LE PESSOT","ILLONA",2000,43,"US METRO","F",10,13,15,15,15,-18,18,18,33,-53,"DEB ",8,{"$f":"IF(I16=\"\",\"\",IF(A16=\"H\",IF(OR(H16=\"SEN\",H16<1995),VLOOKUP(I16,Feuil1!$A$11:$G$29,6),IF(AND(H16>1994,H16<1998),VLOOKUP(I16,Feuil1!$A$11:$G$29,5),IF(AND(H16>1997,H16<2000),VLOOKUP(I16,Feuil1!$A$11:$G$29,4),IF(AND(H16>1999,H16<2002),VLOOKUP(I16,Feuil1!$A$11:$G$29,3),VLOOKUP(I16,Feuil1!$A$11:$G$29,2))))),IF(OR(H16=\"SEN\",H16<1995),VLOOKUP(I16,Feuil1!$G$11:$L$25,6),IF(AND(H16>1994,H16<1998),VLOOKUP(I16,Feuil1!$G$11:$L$25,5),IF(AND(H16>1997,H16<2000),VLOOKUP(I16,Feuil1!$G$11:$L$25,4),IF(AND(H16>1999,H16<2002),VLOOKUP(I16,Feuil1!$G$11:$L$25,3),VLOOKUP(I16,Feuil1!$G$11:$L$25,2)))))))","v":"FC1 44"},59.859133582193522,null," ",{"$f":"T16-HLOOKUP(X16,Feuil1!$C$1:$BL$10,2,FALSE)","v":8},{"$f":"T16-HLOOKUP(X16,Feuil1!$C$1:$BL$10,3,FALSE)","v":-2},{"$f":"T16-HLOOKUP(X16,Feuil1!$C$1:$BL$10,4,FALSE)","v":-7},{"$f":"T16-HLOOKUP(X16,Feuil1!$C$1:$BL$10,5,FALSE)","v":-17},{"$f":"T16-HLOOKUP(X16,Feuil1!$C$1:$BL$10,6,FALSE)","v":-27},{"$f":"T16-HLOOKUP(X16,Feuil1!$C$1:$BL$10,7,FALSE)","v":-37},{"$f":"T16-HLOOKUP(X16,Feuil1!$C$1:$BL$10,8,FALSE)","v":-47},{"$f":"T16-HLOOKUP(X16,Feuil1!$C$1:$BL$10,9,FALSE)","v":-57},{"$f":"T16-HLOOKUP(X16,Feuil1!$C$1:$BL$10,10,FALSE)","v":-967},null,null,null,null,null,null,"DEB "]
[null,null,null,null,null,null,null,null,null,null,null,null,null,null,null,null,null,null,null,null,null,null,null,null,null,null," ",{"$f":"T17-HLOOKUP(X17,[1]Feuil1!$C$1:$BL$10,2,FALSE)","v":{"$error":"#N/A"}},{"$f":"T17-HLOOKUP(X17,[1]Feuil1!$C$1:$BL$10,3,FALSE)","v":{"$error":"#N/A"}},{"$f":"T17-HLOOKUP(X17,[1]Feuil1!$C$1:$BL$10,4,FALSE)","v":{"$error":"#N/A"}},{"$f":"T17-HLOOKUP(X17,[1]Feuil1!$C$1:$BL$10,5,FALSE)","v":{"$error":"#N/A"}},{"$f":"T17-HLOOKUP(X17,[1]Feuil1!$C$1:$BL$10,6,FALSE)","v":{"$error":"#N/A"}},{"$f":"T17-HLOOKUP(X17,[1]Feuil1!$C$1:$BL$10,7,FALSE)","v":{"$error":"#N/A"}},{"$f":"T17-HLOOKUP(X17,[1]Feuil1!$C$1:$BL$10,8,FALSE)","v":{"$error":"#N/A"}},{"$f":"T17-HLOOKUP(X17,[1]Feuil1!$C$1:$BL$10,9,FALSE)","v":{"$error":"#N/A"}},{"$f":"T17-HLOOKUP(X17,[1]Feuil1!$C$1:$BL$10,10,FALSE)","v":{"$error":"#N/A"}},null,null,null,null,null,null,{"$f":"IF(AJ17>=0,$AJ$4,IF(AI17>=0,$AI$4,IF(AH17>=0,$AH$4,IF(AG17>=0,$AG$4,IF(AF17>=0,$AF$4,IF(AE17>=0,$AE$4,IF(AD17>=0,$AD$4,IF(AC17>=0,$AC$4,$AB$4))))))))","v":{"$error":"#N/A"}}]
["F","NE","ALS",1,244336,"CHRISTOPHEL","Marie",2000,45.8,"ASPTT Strasbourg","F",44,46,48,{"$f":"IF(H18=\"\",\"\",IF(MAXA(L18:N18)<=0,0,MAXA(L18:N18)))","v":48},58,-60,61,{"$f":"IF(H18=\"\",\"\",IF(MAXA(P18:R18)<=0,0,MAXA(P18:R18)))","v":61},{"$f":"IF(H18=\"\",\"\",IF(OR(O18=0,S18=0),0,O18+S18))","v":109},{"$f":"T18-I18*2","v":17.400000000000006},{"$f":"IF(H18=\"\",\"\",AQ18)","v":"INTA +"},{"$f":"IF(AJ18>=0,AJ18,IF(AI18>=0,AI18,IF(AH18>=0,AH18,IF(AG18>=0,AG18,IF(AF18>=0,AF18,IF(AE18>=0,AE18,IF(AD18>=0,AD18,IF(AC18>=0,AC18,AB18))))))))","v":14},{"$f":"IF(I18=\"\",\"\",IF(A18=\"H\",IF(OR(H18=\"SEN\",H18<1995),VLOOKUP(I18,Feuil1!$A$11:$G$29,6),IF(AND(H18>1994,H18<1998),VLOOKUP(I18,Feuil1!$A$11:$G$29,5),IF(AND(H18>1997,H18<2000),VLOOKUP(I18,Feuil1!$A$11:$G$29,4),IF(AND(H18>1999,H18<2002),VLOOKUP(I18,Feuil1!$A$11:$G$29,3),VLOOKUP(I18,Feuil1!$A$11:$G$29,2))))),IF(OR(H18=\"SEN\",H18<1995),VLOOKUP(I18,Feuil1!$G$11:$L$25,6),IF(AND(H18>1994,H18<1998),VLOOKUP(I18,Feuil1!$G$11:$L$25,5),IF(AND(H18>1997,H18<2000),VLOOKUP(I18,Feuil1!$G$11:$L$25,4),IF(AND(H18>1999,H18<2002),VLOOKUP(I18,Feuil1!$G$11:$L$25,3),VLOOKUP(I18,Feuil1!$G$11:$L$25,2)))))))","v":"FC1 48"},{"$f":"IF(I18=\"\",\"\",IF(A18=\"H\",10^(0.794358141*LOG(I18/174.393)^2)*T18,IF(A18=\"F\",10^(0.89726074*LOG(I18/148.026)^2)*T18,\"\")))","v":186.34661939282228},null," ",{"$f":"T18-HLOOKUP(X18,Feuil1!$C$1:$BL$10,2,FALSE)","v":84},{"$f":"T18-HLOOKUP(X18,Feuil1!$C$1:$BL$10,3,FALSE)","v":74},{"$f":"T18-HLOOKUP(X18,Feuil1!$C$1:$BL$10,4,FALSE)","v":64},{"$f":"T18-HLOOKUP(X18,Feuil1!$C$1:$BL$10,5,FALSE)","v":54},{"$f":"T18-HLOOKUP(X18,Feuil1!$C$1:$BL$10,6,FALSE)","v":44},{"$f":"T18-HLOOKUP(X18,Feuil1!$C$1:$BL$10,7,FALSE)","v":34},{"$f":"T18-HLOOKUP(X18,Feuil1!$C$1:$BL$10,8,FALSE)","v":24},{"$f":"T18-HLOOKUP(X18,Feuil1!$C$1:$BL$10,9,FALSE)","v":14},{"$f":"T18-HLOOKUP(X18,Feuil1!$C$1:$BL$10,10,FALSE)","v":-891},null,null,null,null,null,null,{"$f":"IF(AJ18>=0,$AJ$4,IF(AI18>=0,$AI$4,IF(AH18>=0,$AH$4,IF(AG18>=0,$AG$4,IF(AF18>=0,$AF$4,IF(AE18>=0,$AE$4,IF(AD18>=0,$AD$4,IF(AC18>=0,$AC$4,$AB$4))))))))","v":"INTA +"}]
["F","N","IDF",2,357786,"MACE","DORIANE",2000,46.4,"US METRO","F",39,42,43,43,47,52,-55,52,95,2.2000000000000028,"INTA +",0,{"$f":"IF(I19=\"\",\"\",IF(A19=\"H\",IF(OR(H19=\"SEN\",H19<1995),VLOOKUP(I19,Feuil1!$A$11:$G$29,6),IF(AND(H19>1994,H19<1998),VLOOKUP(I19,Feuil1!$A$11:$G$29,5),IF(AND(H19>1997,H19<2000),VLOOKUP(I19,Feuil1!$A$11:$G$29,4),IF(AND(H19>1999,H19<2002),VLOOKUP(I19,Feuil1!$A$11:$G$29,3),VLOOKUP(I19,Feuil1!$A$11:$G$29,2))))),IF(OR(H19=\"SEN\",H19<1995),VLOOKUP(I19,Feuil1!$G$11:$L$25,6),IF(AND(H19>1994,H19<1998),VLOOKUP(I19,Feuil1!$G$11:$L$25,5),IF(AND(H19>1997,H19<2000),VLOOKUP(I19,Feuil1!$G$11:$L$25,4),IF(AND(H19>1999,H19<2002),VLOOKUP(I19,Feuil1!$G$11:$L$25,3),VLOOKUP(I19,Feuil1!$G$11:$L$25,2)))))))","v":"FC1 48"},160.50162744710303,null," ",{"$f":"T19-HLOOKUP(X19,Feuil1!$C$1:$BL$10,2,FALSE)","v":70},{"$f":"T19-HLOOKUP(X19,Feuil1!$C$1:$BL$10,3,FALSE)","v":60},{"$f":"T19-HLOOKUP(X19,Feuil1!$C$1:$BL$10,4,FALSE)","v":50},{"$f":"T19-HLOOKUP(X19,Feuil1!$C$1:$BL$10,5,FALSE)","v":40},{"$f":"T19-HLOOKUP(X19,Feuil1!$C$1:$BL$10,6,FALSE)","v":30},{"$f":"T19-HLOOKUP(X19,Feuil1!$C$1:$BL$10,7,FALSE)","v":20},{"$f":"T19-HLOOKUP(X19,Feuil1!$C$1:$BL$10,8,FALSE)","v":10},{"$f":"T19-HLOOKUP(X19,Feuil1!$C$1:$BL$10,9,FALSE)","v":0},{"$f":"T19-HLOOKUP(X19,Feuil1!$C$1:$BL$10,10,FALSE)","v":-905},null,null,null,null,null,null,"INTA +"]
["F","CO","PDL",3,379232,"HEUZE","Emma",2000,45.82,"CA Evron 53","F",34,36,38,38,43,46,48,48,86,-5.6400000000000006,"INTB +",1,{"$f":"IF(I20=\"\",\"\",IF(A20=\"H\",IF(OR(H20=\"SEN\",H20<1995),VLOOKUP(I20,Feuil1!$A$11:$G$29,6),IF(AND(H20>1994,H20<1998),VLOOKUP(I20,Feuil1!$A$11:$G$29,5),IF(AND(H20>1997,H20<2000),VLOOKUP(I20,Feuil1!$A$11:$G$29,4),IF(AND(H20>1999,H20<2002),VLOOKUP(I20,Feuil1!$A$11:$G$29,3),VLOOKUP(I20,Feuil1!$A$11:$G$29,2))))),IF(OR(H20=\"SEN\",H20<1995),VLOOKUP(I20,Feuil1!$G$11:$L$25,6),IF(AND(H20>1994,H20<1998),VLOOKUP(I20,Feuil1!$G$11:$L$25,5),IF(AND(H20>1997,H20<2000),VLOOKUP(I20,Feuil1!$G$11:$L$25,4),IF(AND(H20>1999,H20<2002),VLOOKUP(I20,Feuil1!$G$11:$L$25,3),VLOOKUP(I20,Feuil1!$G$11:$L$25,2)))))))","v":"FC1 48"},146.96710998195883,null," ",{"$f":"T20-HLOOKUP(X20,Feuil1!$C$1:$BL$10,2,FALSE)","v":61},{"$f":"T20-HLOOKUP(X20,Feuil1!$C$1:$BL$10,3,FALSE)","v":51},{"$f":"T20-HLOOKUP(X20,Feuil1!$C$1:$BL$10,4,FALSE)","v":41},{"$f":"T20-HLOOKUP(X20,Feuil1!$C$1:$BL$10,5,FALSE)","v":31},{"$f":"T20-HLOOKUP(X20,Feuil1!$C$1:$BL$10,6,FALSE)","v":21},{"$f":"T20-HLOOKUP(X20,Feuil1!$C$1:$BL$10,7,FALSE)","v":11},{"$f":"T20-HLOOKUP(X20,Feuil1!$C$1:$BL$10,8,FALSE)","v":1},{"$f":"T20-HLOOKUP(X20,Feuil1!$C$1:$BL$10,9,FALSE)","v":-9},{"$f":"T20-HLOOKUP(X20,Feuil1!$C$1:$BL$10,10,FALSE)","v":-914},null,null,null,null,null,null,"INTB +"]
["F","SEST","LAN ",4,290105,"ROMERO","Héloïse",2000,47,"Narbonne Haltéro","F",32,35,37,37,46,49,-53,49,86,-8,"INTB +",1,{"$f":"IF(I21=\"\",\"\",IF(A21=\"H\",IF(OR(H21=\"SEN\",H21<1995),VLOOKUP(I21,Feuil1!$A$11:$G$29,6),IF(AND(H21>1994,H21<1998),VLOOKUP(I21,Feuil1!$A$11:$G$29,5),IF(AND(H21>1997,H21<2000),VLOOKUP(I21,Feuil1!$A$11:$G$29,4),IF(AND(H21>1999,H21<2002),VLOOKUP(I21,Feuil1!$A$11:$G$29,3),VLOOKUP(I21,Feuil1!$A$11:$G$29,2))))),IF(OR(H21=\"SEN\",H21<1995),VLOOKUP(I21,Feuil1!$G$11:$L$25,6),IF(AND(H21>1994,H21<1998),VLOOKUP(I21,Feuil1!$G$11:$L$25,5),IF(AND(H21>1997,H21<2000),VLOOKUP(I21,Feuil1!$G$11:$L$25,4),IF(AND(H21>1999,H21<2002),VLOOKUP(I21,Feuil1!$G$11:$L$25,3),VLOOKUP(I21,Feuil1!$G$11:$L$25,2)))))))","v":"FC1 48"},143.62742256205317,null," ",{"$f":"T21-HLOOKUP(X21,Feuil1!$C$1:$BL$10,2,FALSE)","v":61},{"$f":"T21-HLOOKUP(X21,Feuil1!$C$1:$BL$10,3,FALSE)","v":51},{"$f":"T21-HLOOKUP(X21,Feuil1!$C$1:$BL$10,4,FALSE)","v":41},{"$f":"T21-HLOOKUP(X21,Feuil1!$C$1:$BL$10,5,FALSE)","v":31},{"$f":"T21-HLOOKUP(X21,Feuil1!$C$1:$BL$10,6,FALSE)","v":21},{"$f":"T21-HLOOKUP(X21,Feuil1!$C$1:$BL$10,7,FALSE)","v":11},{"$f":"T21-HLOOKUP(X21,Feuil1!$C$1:$BL$10,8,FALSE)","v":1},{"$f":"T21-HLOOKUP(X21,Feuil1!$C$1:$BL$10,9,FALSE)","v":-9},{"$f":"T21-HLOOKUP(X21,Feuil1!$C$1:$BL$10,10,FALSE)","v":-914},null,null,null,null,null,null,"INTB +"]
["F","NE","ALS",5,300315,"IMBS","HONORINE",2001,47.5,"Dorlisheim FH","F",30,34,36,36,40,45,48,48,84,-11,"NAT +",9,{"$f":"IF(I22=\"\",\"\",IF(A22=\"H\",IF(OR(H22=\"SEN\",H22<1995),VLOOKUP(I22,Feuil1!$A$11:$G$29,6),IF(AND(H22>1994,H22<1998),VLOOKUP(I22,Feuil1!$A$11:$G$29,5),IF(AND(H22>1997,H22<2000),VLOOKUP(I22,Feuil1!$A$11:$G$29,4),IF(AND(H22>1999,H22<2002),VLOOKUP(I22,Feuil1!$A$11:$G$29,3),VLOOKUP(I22,Feuil1!$A$11:$G$29,2))))),IF(OR(H22=\"SEN\",H22<1995),VLOOKUP(I22,Feuil1!$G$11:$L$25,6),IF(AND(H22>1994,H22<1998),VLOOKUP(I22,Feuil1!$G$11:$L$25,5),IF(AND(H22>1997,H22<2000),VLOOKUP(I22,Feuil1!$G$11:$L$25,4),IF(AND(H22>1999,H22<2002),VLOOKUP(I22,Feuil1!$G$11:$L$25,3),VLOOKUP(I22,Feuil1!$G$11:$L$25,2)))))))","v":"FC1 48"},138.97224684574039,null," ",{"$f":"T22-HLOOKUP(X22,Feuil1!$C$1:$BL$10,2,FALSE)","v":59},{"$f":"T22-HLOOKUP(X22,Feuil1!$C$1:$BL$10,3,FALSE)","v":49},{"$f":"T22-HLOOKUP(X22,Feuil1!$C$1:$BL$10,4,FALSE)","v":39},{"$f":"T22-HLOOKUP(X22,Feuil1!$C$1:$BL$10,5,FALSE)","v":29},{"$f":"T22-HLOOKUP(X22,Feuil1!$C$1:$BL$10,6,FALSE)","v":19},{"$f":"T22-HLOOKUP(X22,Feuil1!$C$1:$BL$10,7,FALSE)","v":9},{"$f":"T22-HLOOKUP(X22,Feuil1!$C$1:$BL$10,8,FALSE)","v":-1},{"$f":"T22-HLOOKUP(X22,Feuil1!$C$1:$BL$10,9,FALSE)","v":-11},{"$f":"T22-HLOOKUP(X22,Feuil1!$C$1:$BL$10,10,FALSE)","v":-916},null,null,null,null,null,null,"NAT +"]
["F","NORD","NPC",6,367010,"PIETERS","Justine",2000,45.31,"C.A.ROSENDAEL","F",30,32,-34,32,43,45,47,47,79,-11.620000000000005,"NAT +",4,{"$f":"IF(I23=\"\",\"\",IF(A23=\"H\",IF(OR(H23=\"SEN\",H23<1995),VLOOKUP(I23,Feuil1!$A$11:$G$29,6),IF(AND(H23>1994,H23<1998),VLOOKUP(I23,Feuil1!$A$11:$G$29,5),IF(AND(H23>1997,H23<2000),VLOOKUP(I23,Feuil1!$A$11:$G$29,4),IF(AND(H23>1999,H23<2002),VLOOKUP(I23,Feuil1!$A$11:$G$29,3),VLOOKUP(I23,Feuil1!$A$11:$G$29,2))))),IF(OR(H23=\"SEN\",H23<1995),VLOOKUP(I23,Feuil1!$G$11:$L$25,6),IF(AND(H23>1994,H23<1998),VLOOKUP(I23,Feuil1!$G$11:$L$25,5),IF(AND(H23>1997,H23<2000),VLOOKUP(I23,Feuil1!$G$11:$L$25,4),IF(AND(H23>1999,H23<2002),VLOOKUP(I23,Feuil1!$G$11:$L$25,3),VLOOKUP(I23,Feuil1!$G$11:$L$25,2)))))))","v":"FC1 48"},136.39943698206957,null," ",{"$f":"T23-HLOOKUP(X23,Feuil1!$C$1:$BL$10,2,FALSE)","v":54},{"$f":"T23-HLOOKUP(X23,Feuil1!$C$1:$BL$10,3,FALSE)","v":44},{"$f":"T23-HLOOKUP(X23,Feuil1!$C$1:$BL$10,4,FALSE)","v":34},{"$f":"T23-HLOOKUP(X23,Feuil1!$C$1:$BL$10,5,FALSE)","v":24},{"$f":"T23-HLOOKUP(X23,Feuil1!$C$1:$BL$10,6,FALSE)","v":14},{"$f":"T23-HLOOKUP(X23,Feuil1!$C$1:$BL$10,7,FALSE)","v":4},{"$f":"T23-HLOOKUP(X23,Feuil1!$C$1:$BL$10,8,FALSE)","v":-6},{"$f":"T23-HLOOKUP(X23,Feuil1!$C$1:$BL$10,9,FALSE)","v":-16},{"$f":"T23-HLOOKUP(X23,Feuil1!$C$1:$BL$10,10,FALSE)","v":-921},null,null,null,null,null,null,"NAT +"]
["F","CO","BRE",7,339426,"PIRIS","Océanne",2000,47.4,"ES Saint Avé","F",30,32,-34,32,35,40,43,43,75,-19.799999999999997,"NAT +",0,{"$f":"IF(I24=\"\",\"\",IF(A24=\"H\",IF(OR(H24=\"SEN\",H24<1995),VLOOKUP(I24,Feuil1!$A$11:$G$29,6),IF(AND(H24>1994,H24<1998),VLOOKUP(I24,Feuil1!$A$11:$G$29,5),IF(AND(H24>1997,H24<2000),VLOOKUP(I24,Feuil1!$A$11:$G$29,4),IF(AND(H24>1999,H24<2002),VLOOKUP(I24,Feuil1!$A$11:$G$29,3),VLOOKUP(I24,Feuil1!$A$11:$G$29,2))))),IF(OR(H24=\"SEN\",H24<1995),VLOOKUP(I24,Feuil1!$G$11:$L$25,6),IF(AND(H24>1994,H24<1998),VLOOKUP(I24,Feuil1!$G$11:$L$25,5),IF(AND(H24>1997,H24<2000),VLOOKUP(I24,Feuil1!$G$11:$L$25,4),IF(AND(H24>1999,H24<2002),VLOOKUP(I24,Feuil1!$G$11:$L$25,3),VLOOKUP(I24,Feuil1!$G$11:$L$25,2)))))))","v":"FC1 48"},124.3144472195891,null," ",{"$f":"T24-HLOOKUP(X24,Feuil1!$C$1:$BL$10,2,FALSE)","v":50},{"$f":"T24-HLOOKUP(X24,Feuil1!$C$1:$BL$10,3,FALSE)","v":40},{"$f":"T24-HLOOKUP(X24,Feuil1!$C$1:$BL$10,4,FALSE)","v":30},{"$f":"T24-HLOOKUP(X24,Feuil1!$C$1:$BL$10,5,FALSE)","v":20},{"$f":"T24-HLOOKUP(X24,Feuil1!$C$1:$BL$10,6,FALSE)","v":10},{"$f":"T24-HLOOKUP(X24,Feuil1!$C$1:$BL$10,7,FALSE)","v":0},{"$f":"T24-HLOOKUP(X24,Feuil1!$C$1:$BL$10,8,FALSE)","v":-10},{"$f":"T24-HLOOKUP(X24,Feuil1!$C$1:$BL$10,9,FALSE)","v":-20},{"$f":"T24-HLOOKUP(X24,Feuil1!$C$1:$BL$10,10,FALSE)","v":-925},null,null,null,null,null,null,"NAT +"]
["F","NE","ALS",8,340255,"MIGUEL","LEA",2001,47.47,"Dorlisheim FH","F",28,30,32,32,38,40,43,43,75,-19.939999999999998,"NAT +",0,{"$f":"IF(I25=\"\",\"\",IF(A25=\"H\",IF(OR(H25=\"SEN\",H25<1995),VLOOKUP(I25,Feuil1!$A$11:$G$29,6),IF(AND(H25>1994,H25<1998),VLOOKUP(I25,Feuil1!$A$11:$G$29,5),IF(AND(H25>1997,H25<2000),VLOOKUP(I25,Feuil1!$A$11:$G$29,4),IF(AND(H25>1999,H25<2002),VLOOKUP(I25,Feuil1!$A$11:$G$29,3),VLOOKUP(I25,Feuil1!$A$11:$G$29,2))))),IF(OR(H25=\"SEN\",H25<1995),VLOOKUP(I25,Feuil1!$G$11:$L$25,6),IF(AND(H25>1994,H25<1998),VLOOKUP(I25,Feuil1!$G$11:$L$25,5),IF(AND(H25>1997,H25<2000),VLOOKUP(I25,Feuil1!$G$11:$L$25,4),IF(AND(H25>1999,H25<2002),VLOOKUP(I25,Feuil1!$G$11:$L$25,3),VLOOKUP(I25,Feuil1!$G$11:$L$25,2)))))))","v":"FC1 48"},124.15184648546446,null," ",{"$f":"T25-HLOOKUP(X25,Feuil1!$C$1:$BL$10,2,FALSE)","v":50},{"$f":"T25-HLOOKUP(X25,Feuil1!$C$1:$BL$10,3,FALSE)","v":40},{"$f":"T25-HLOOKUP(X25,Feuil1!$C$1:$BL$10,4,FALSE)","v":30},{"$f":"T25-HLOOKUP(X25,Feuil1!$C$1:$BL$10,5,FALSE)","v":20},{"$f":"T25-HLOOKUP(X25,Feuil1!$C$1:$BL$10,6,FALSE)","v":10},{"$f":"T25-HLOOKUP(X25,Feuil1!$C$1:$BL$10,7,FALSE)","v":0},{"$f":"T25-HLOOKUP(X25,Feuil1!$C$1:$BL$10,8,FALSE)","v":-10},{"$f":"T25-HLOOKUP(X25,Feuil1!$C$1:$BL$10,9,FALSE)","v":-20},{"$f":"T25-HLOOKUP(X25,Feuil1!$C$1:$BL$10,10,FALSE)","v":-925},null,null,null,null,null,null,"NAT +"]
["F","NORD","PIC",9,378365,"MONTOYA","Chloé",2000,47.7,"Villers-Bretonneux KC","F",25,27,-29,27,35,-38,38,38,65,-30.400000000000006,"FED +",0,{"$f":"IF(I26=\"\",\"\",IF(A26=\"H\",IF(OR(H26=\"SEN\",H26<1995),VLOOKUP(I26,Feuil1!$A$11:$G$29,6),IF(AND(H26>1994,H26<1998),VLOOKUP(I26,Feuil1!$A$11:$G$29,5),IF(AND(H26>1997,H26<2000),VLOOKUP(I26,Feuil1!$A$11:$G$29,4),IF(AND(H26>1999,H26<2002),VLOOKUP(I26,Feuil1!$A$11:$G$29,3),VLOOKUP(I26,Feuil1!$A$11:$G$29,2))))),IF(OR(H26=\"SEN\",H26<1995),VLOOKUP(I26,Feuil1!$G$11:$L$25,6),IF(AND(H26>1994,H26<1998),VLOOKUP(I26,Feuil1!$G$11:$L$25,5),IF(AND(H26>1997,H26<2000),VLOOKUP(I26,Feuil1!$G$11:$L$25,4),IF(AND(H26>1999,H26<2002),VLOOKUP(I26,Feuil1!$G$11:$L$25,3),VLOOKUP(I26,Feuil1!$G$11:$L$25,2)))))))","v":"FC1 48"},107.13926319372706,null," ",{"$f":"T26-HLOOKUP(X26,Feuil1!$C$1:$BL$10,2,FALSE)","v":40},{"$f":"T26-HLOOKUP(X26,Feuil1!$C$1:$BL$10,3,FALSE)","v":30},{"$f":"T26-HLOOKUP(X26,Feuil1!$C$1:$BL$10,4,FALSE)","v":20},{"$f":"T26-HLOOKUP(X26,Feuil1!$C$1:$BL$10,5,FALSE)","v":10},{"$f":"T26-HLOOKUP(X26,Feuil1!$C$1:$BL$10,6,FALSE)","v":0},{"$f":"T26-HLOOKUP(X26,Feuil1!$C$1:$BL$10,7,FALSE)","v":-10},{"$f":"T26-HLOOKUP(X26,Feuil1!$C$1:$BL$10,8,FALSE)","v":-20},{"$f":"T26-HLOOKUP(X26,Feuil1!$C$1:$BL$10,9,FALSE)","v":-30},{"$f":"T26-HLOOKUP(X26,Feuil1!$C$1:$BL$10,10,FALSE)","v":-935},null,null,null,null,null,null,"FED +"]
["F","SEST","RAL",10,388548,"FERRAPIE","Loane",2000,47.7,"HC CHAMBON FEUGEROLLES","F",23,25,27,27,35,38,-40,38,65,-30.400000000000006,"FED +",0,{"$f":"IF(I27=\"\",\"\",IF(A27=\"H\",IF(OR(H27=\"SEN\",H27<1995),VLOOKUP(I27,Feuil1!$A$11:$G$29,6),IF(AND(H27>1994,H27<1998),VLOOKUP(I27,Feuil1!$A$11:$G$29,5),IF(AND(H27>1997,H27<2000),VLOOKUP(I27,Feuil1!$A$11:$G$29,4),IF(AND(H27>1999,H27<2002),VLOOKUP(I27,Feuil1!$A$11:$G$29,3),VLOOKUP(I27,Feuil1!$A$11:$G$29,2))))),IF(OR(H27=\"SEN\",H27<1995),VLOOKUP(I27,Feuil1!$G$11:$L$25,6),IF(AND(H27>1994,H27<1998),VLOOKUP(I27,Feuil1!$G$11:$L$25,5),IF(AND(H27>1997,H27<2000),VLOOKUP(I27,Feuil1!$G$11:$L$25,4),IF(AND(H27>1999,H27<2002),VLOOKUP(I27,Feuil1!$G$11:$L$25,3),VLOOKUP(I27,Feuil1!$G$11:$L$25,2)))))))","v":"FC1 48"},107.13926319372706,null," ",{"$f":"T27-HLOOKUP(X27,Feuil1!$C$1:$BL$10,2,FALSE)","v":40},{"$f":"T27-HLOOKUP(X27,Feuil1!$C$1:$BL$10,3,FALSE)","v":30},{"$f":"T27-HLOOKUP(X27,Feuil1!$C$1:$BL$10,4,FALSE)","v":20},{"$f":"T27-HLOOKUP(X27,Feuil1!$C$1:$BL$10,5,FALSE)","v":10},{"$f":"T27-HLOOKUP(X27,Feuil1!$C$1:$BL$10,6,FALSE)","v":0},{"$f":"T27-HLOOKUP(X27,Feuil1!$C$1:$BL$10,7,FALSE)","v":-10},{"$f":"T27-HLOOKUP(X27,Feuil1!$C$1:$BL$10,8,FALSE)","v":-20},{"$f":"T27-HLOOKUP(X27,Feuil1!$C$1:$BL$10,9,FALSE)","v":-30},{"$f":"T27-HLOOKUP(X27,Feuil1!$C$1:$BL$10,10,FALSE)","v":-935},null,null,null,null,null,null,"FED +"]
["F","NORD","NPC",11,311483,"DEFONTAINE","Katy",2001,46.5,"ST POL SUR MER","F",22,-25,25,25,26,30,33,33,58,-35,"IRG +",3,{"$f":"IF(I28=\"\",\"\",IF(A28=\"H\",IF(OR(H28=\"SEN\",H28<1995),VLOOKUP(I28,Feuil1!$A$11:$G$29,6),IF(AND(H28>1994,H28<1998),VLOOKUP(I28,Feuil1!$A$11:$G$29,5),IF(AND(H28>1997,H28<2000),VLOOKUP(I28,Feuil1!$A$11:$G$29,4),IF(AND(H28>1999,H28<2002),VLOOKUP(I28,Feuil1!$A$11:$G$29,3),VLOOKUP(I28,Feuil1!$A$11:$G$29,2))))),IF(OR(H28=\"SEN\",H28<1995),VLOOKUP(I28,Feuil1!$G$11:$L$25,6),IF(AND(H28>1994,H28<1998),VLOOKUP(I28,Feuil1!$G$11:$L$25,5),IF(AND(H28>1997,H28<2000),VLOOKUP(I28,Feuil1!$G$11:$L$25,4),IF(AND(H28>1999,H28<2002),VLOOKUP(I28,Feuil1!$G$11:$L$25,3),VLOOKUP(I28,Feuil1!$G$11:$L$25,2)))))))","v":"FC1 48"},97.800097945356256,null," ",{"$f":"T28-HLOOKUP(X28,Feuil1!$C$1:$BL$10,2,FALSE)","v":33},{"$f":"T28-HLOOKUP(X28,Feuil1!$C$1:$BL$10,3,FALSE)","v":23},{"$f":"T28-HLOOKUP(X28,Feuil1!$C$1:$BL$10,4,FALSE)","v":13},{"$f":"T28-HLOOKUP(X28,Feuil1!$C$1:$BL$10,5,FALSE)","v":3},{"$f":"T28-HLOOKUP(X28,Feuil1!$C$1:$BL$10,6,FALSE)","v":-7},{"$f":"T28-HLOOKUP(X28,Feuil1!$C$1:$BL$10,7,FALSE)","v":-17},{"$f":"T28-HLOOKUP(X28,Feuil1!$C$1:$BL$10,8,FALSE)","v":-27},{"$f":"T28-HLOOKUP(X28,Feuil1!$C$1:$BL$10,9,FALSE)","v":-37},{"$f":"T28-HLOOKUP(X28,Feuil1!$C$1:$BL$10,10,FALSE)","v":-942},null,null,null,null,null,null,"IRG +"]
["F","NE","ALS",12,366668,"BURCKEL","Mélissa",2001,47.8,"Dorlisheim FH","F",20,22,25,25,23,25,27,27,52,-43.599999999999994,"REG +",7,{"$f":"IF(I29=\"\",\"\",IF(A29=\"H\",IF(OR(H29=\"SEN\",H29<1995),VLOOKUP(I29,Feuil1!$A$11:$G$29,6),IF(AND(H29>1994,H29<1998),VLOOKUP(I29,Feuil1!$A$11:$G$29,5),IF(AND(H29>1997,H29<2000),VLOOKUP(I29,Feuil1!$A$11:$G$29,4),IF(AND(H29>1999,H29<2002),VLOOKUP(I29,Feuil1!$A$11:$G$29,3),VLOOKUP(I29,Feuil1!$A$11:$G$29,2))))),IF(OR(H29=\"SEN\",H29<1995),VLOOKUP(I29,Feuil1!$G$11:$L$25,6),IF(AND(H29>1994,H29<1998),VLOOKUP(I29,Feuil1!$G$11:$L$25,5),IF(AND(H29>1997,H29<2000),VLOOKUP(I29,Feuil1!$G$11:$L$25,4),IF(AND(H29>1999,H29<2002),VLOOKUP(I29,Feuil1!$G$11:$L$25,3),VLOOKUP(I29,Feuil1!$G$11:$L$25,2)))))))","v":"FC1 48"},85.553279467547384,null," ",{"$f":"T29-HLOOKUP(X29,Feuil1!$C$1:$BL$10,2,FALSE)","v":27},{"$f":"T29-HLOOKUP(X29,Feuil1!$C$1:$BL$10,3,FALSE)","v":17},{"$f":"T29-HLOOKUP(X29,Feuil1!$C$1:$BL$10,4,FALSE)","v":7},{"$f":"T29-HLOOKUP(X29,Feuil1!$C$1:$BL$10,5,FALSE)","v":-3},{"$f":"T29-HLOOKUP(X29,Feuil1!$C$1:$BL$10,6,FALSE)","v":-13},{"$f":"T29-HLOOKUP(X29,Feuil1!$C$1:$BL$10,7,FALSE)","v":-23},{"$f":"T29-HLOOKUP(X29,Feuil1!$C$1:$BL$10,8,FALSE)","v":-33},{"$f":"T29-HLOOKUP(X29,Feuil1!$C$1:$BL$10,9,FALSE)","v":-43},{"$f":"T29-HLOOKUP(X29,Feuil1!$C$1:$BL$10,10,FALSE)","v":-948},null,null,null,null,null,null,"REG +"]
["F","NORD","PIC",13,378362,"CHAUVIN","Appoline",2001,47,"Villers-Bretonneux KC","F",18,20,-22,20,26,-28,28,28,48,-46,"REG +",3,{"$f":"IF(I30=\"\",\"\",IF(A30=\"H\",IF(OR(H30=\"SEN\",H30<1995),VLOOKUP(I30,Feuil1!$A$11:$G$29,6),IF(AND(H30>1994,H30<1998),VLOOKUP(I30,Feuil1!$A$11:$G$29,5),IF(AND(H30>1997,H30<2000),VLOOKUP(I30,Feuil1!$A$11:$G$29,4),IF(AND(H30>1999,H30<2002),VLOOKUP(I30,Feuil1!$A$11:$G$29,3),VLOOKUP(I30,Feuil1!$A$11:$G$29,2))))),IF(OR(H30=\"SEN\",H30<1995),VLOOKUP(I30,Feuil1!$G$11:$L$25,6),IF(AND(H30>1994,H30<1998),VLOOKUP(I30,Feuil1!$G$11:$L$25,5),IF(AND(H30>1997,H30<2000),VLOOKUP(I30,Feuil1!$G$11:$L$25,4),IF(AND(H30>1999,H30<2002),VLOOKUP(I30,Feuil1!$G$11:$L$25,3),VLOOKUP(I30,Feuil1!$G$11:$L$25,2)))))))","v":"FC1 48"},80.164142825331993,null," ",{"$f":"T30-HLOOKUP(X30,Feuil1!$C$1:$BL$10,2,FALSE)","v":23},{"$f":"T30-HLOOKUP(X30,Feuil1!$C$1:$BL$10,3,FALSE)","v":13},{"$f":"T30-HLOOKUP(X30,Feuil1!$C$1:$BL$10,4,FALSE)","v":3},{"$f":"T30-HLOOKUP(X30,Feuil1!$C$1:$BL$10,5,FALSE)","v":-7},{"$f":"T30-HLOOKUP(X30,Feuil1!$C$1:$BL$10,6,FALSE)","v":-17},{"$f":"T30-HLOOKUP(X30,Feuil1!$C$1:$BL$10,7,FALSE)","v":-27},{"$f":"T30-HLOOKUP(X30,Feuil1!$C$1:$BL$10,8,FALSE)","v":-37},{"$f":"T30-HLOOKUP(X30,Feuil1!$C$1:$BL$10,9,FALSE)","v":-47},{"$f":"T30-HLOOKUP(X30,Feuil1!$C$1:$BL$10,10,FALSE)","v":-952},null,null,null,null,null,null,"REG +"]
[null,null,null,null,null,null,null,null,null,null,null,null,null,null,null,null,null,null,null,null,null,null,null,null,null,null," ",{"$f":"T31-HLOOKUP(X31,[1]Feuil1!$C$1:$BL$10,2,FALSE)","v":{"$error":"#N/A"}},{"$f":"T31-HLOOKUP(X31,[1]Feuil1!$C$1:$BL$10,3,FALSE)","v":{"$error":"#N/A"}},{"$f":"T31-HLOOKUP(X31,[1]Feuil1!$C$1:$BL$10,4,FALSE)","v":{"$error":"#N/A"}},{"$f":"T31-HLOOKUP(X31,[1]Feuil1!$C$1:$BL$10,5,FALSE)","v":{"$error":"#N/A"}},{"$f":"T31-HLOOKUP(X31,[1]Feuil1!$C$1:$BL$10,6,FALSE)","v":{"$error":"#N/A"}},{"$f":"T31-HLOOKUP(X31,[1]Feuil1!$C$1:$BL$10,7,FALSE)","v":{"$error":"#N/A"}},{"$f":"T31-HLOOKUP(X31,[1]Feuil1!$C$1:$BL$10,8,FALSE)","v":{"$error":"#N/A"}},{"$f":"T31-HLOOKUP(X31,[1]Feuil1!$C$1:$BL$10,9,FALSE)","v":{"$error":"#N/A"}},{"$f":"T31-HLOOKUP(X31,[1]Feuil1!$C$1:$BL$10,10,FALSE)","v":{"$error":"#N/A"}},null,null,null,null,null,null,{"$error":"#N/A"}]
["F","SEST","RAL",1,280309,"BARBIER","Clarisse",2000,52.06,"VAULX EN VELIN ","F",41,44,46,{"$f":"IF(H32=\"\",\"\",IF(MAXA(L32:N32)<=0,0,MAXA(L32:N32)))","v":46},55,59,62,{"$f":"IF(H32=\"\",\"\",IF(MAXA(P32:R32)<=0,0,MAXA(P32:R32)))","v":62},{"$f":"IF(H32=\"\",\"\",IF(OR(O32=0,S32=0),0,O32+S32))","v":108},{"$f":"T32-I32*2","v":3.8799999999999955},{"$f":"IF(H32=\"\",\"\",AQ32)","v":"INTA +"},{"$f":"IF(AJ32>=0,AJ32,IF(AI32>=0,AI32,IF(AH32>=0,AH32,IF(AG32>=0,AG32,IF(AF32>=0,AF32,IF(AE32>=0,AE32,IF(AD32>=0,AD32,IF(AC32>=0,AC32,AB32))))))))","v":3},{"$f":"IF(I32=\"\",\"\",IF(A32=\"H\",IF(OR(H32=\"SEN\",H32<1995),VLOOKUP(I32,Feuil1!$A$11:$G$29,6),IF(AND(H32>1994,H32<1998),VLOOKUP(I32,Feuil1!$A$11:$G$29,5),IF(AND(H32>1997,H32<2000),VLOOKUP(I32,Feuil1!$A$11:$G$29,4),IF(AND(H32>1999,H32<2002),VLOOKUP(I32,Feuil1!$A$11:$G$29,3),VLOOKUP(I32,Feuil1!$A$11:$G$29,2))))),IF(OR(H32=\"SEN\",H32<1995),VLOOKUP(I32,Feuil1!$G$11:$L$25,6),IF(AND(H32>1994,H32<1998),VLOOKUP(I32,Feuil1!$G$11:$L$25,5),IF(AND(H32>1997,H32<2000),VLOOKUP(I32,Feuil1!$G$11:$L$25,4),IF(AND(H32>1999,H32<2002),VLOOKUP(I32,Feuil1!$G$11:$L$25,3),VLOOKUP(I32,Feuil1!$G$11:$L$25,2)))))))","v":"FC1 53"},{"$f":"IF(I32=\"\",\"\",IF(A32=\"H\",10^(0.794358141*LOG(I32/174.393)^2)*T32,IF(A32=\"F\",10^(0.89726074*LOG(I32/148.026)^2)*T32,\"\")))","v":165.2830057850754},null," ",{"$f":"T32-HLOOKUP(X32,Feuil1!$C$1:$BL$10,2,FALSE)","v":73},{"$f":"T32-HLOOKUP(X32,Feuil1!$C$1:$BL$10,3,FALSE)","v":63},{"$f":"T32-HLOOKUP(X32,Feuil1!$C$1:$BL$10,4,FALSE)","v":53},{"$f":"T32-HLOOKUP(X32,Feuil1!$C$1:$BL$10,5,FALSE)","v":43},{"$f":"T32-HLOOKUP(X32,Feuil1!$C$1:$BL$10,6,FALSE)","v":33},{"$f":"T32-HLOOKUP(X32,Feuil1!$C$1:$BL$10,7,FALSE)","v":23},{"$f":"T32-HLOOKUP(X32,Feuil1!$C$1:$BL$10,8,FALSE)","v":13},{"$f":"T32-HLOOKUP(X32,Feuil1!$C$1:$BL$10,9,FALSE)","v":3},{"$f":"T32-HLOOKUP(X32,Feuil1!$C$1:$BL$10,10,FALSE)","v":-892},null,null,null,null,null,null,{"$f":"IF(AJ32>=0,$AJ$4,IF(AI32>=0,$AI$4,IF(AH32>=0,$AH$4,IF(AG32>=0,$AG$4,IF(AF32>=0,$AF$4,IF(AE32>=0,$AE$4,IF(AD32>=0,$AD$4,IF(AC32>=0,$AC$4,$AB$4))))))))","v":"INTA +"}]
["F","NE","ALS",2,300315,"IMBS","HONORINE",2001,48.9,"Dorlisheim FH","F",37,40,42,42,47,50,53,53,95,-2.7999999999999972,"INTB +",0,{"$f":"IF(I33=\"\",\"\",IF(A33=\"H\",IF(OR(H33=\"SEN\",H33<1995),VLOOKUP(I33,Feuil1!$A$11:$G$29,6),IF(AND(H33>1994,H33<1998),VLOOKUP(I33,Feuil1!$A$11:$G$29,5),IF(AND(H33>1997,H33<2000),VLOOKUP(I33,Feuil1!$A$11:$G$29,4),IF(AND(H33>1999,H33<2002),VLOOKUP(I33,Feuil1!$A$11:$G$29,3),VLOOKUP(I33,Feuil1!$A$11:$G$29,2))))),IF(OR(H33=\"SEN\",H33<1995),VLOOKUP(I33,Feuil1!$G$11:$L$25,6),IF(AND(H33>1994,H33<1998),VLOOKUP(I33,Feuil1!$G$11:$L$25,5),IF(AND(H33>1997,H33<2000),VLOOKUP(I33,Feuil1!$G$11:$L$25,4),IF(AND(H33>1999,H33<2002),VLOOKUP(I33,Feuil1!$G$11:$L$25,3),VLOOKUP(I33,Feuil1!$G$11:$L$25,2)))))))","v":"FC1 53"},153.22862507634554,null," ",{"$f":"T33-HLOOKUP(X33,Feuil1!$C$1:$BL$10,2,FALSE)","v":60},{"$f":"T33-HLOOKUP(X33,Feuil1!$C$1:$BL$10,3,FALSE)","v":50},{"$f":"T33-HLOOKUP(X33,Feuil1!$C$1:$BL$10,4,FALSE)","v":40},{"$f":"T33-HLOOKUP(X33,Feuil1!$C$1:$BL$10,5,FALSE)","v":30},{"$f":"T33-HLOOKUP(X33,Feuil1!$C$1:$BL$10,6,FALSE)","v":20},{"$f":"T33-HLOOKUP(X33,Feuil1!$C$1:$BL$10,7,FALSE)","v":10},{"$f":"T33-HLOOKUP(X33,Feuil1!$C$1:$BL$10,8,FALSE)","v":0},{"$f":"T33-HLOOKUP(X33,Feuil1!$C$1:$BL$10,9,FALSE)","v":-10},{"$f":"T33-HLOOKUP(X33,Feuil1!$C$1:$BL$10,10,FALSE)","v":-905},null,null,null,null,null,null,"INTB +"]
["F","SEST","LAN ",3,290105,"ROMERO","Héloïse",2000,49.57,"Narbonne Haltéro","F",35,38,-40,38,52,55,57,57,95,-4.1400000000000006,"INTB +",0,{"$f":"IF(I34=\"\",\"\",IF(A34=\"H\",IF(OR(H34=\"SEN\",H34<1995),VLOOKUP(I34,Feuil1!$A$11:$G$29,6),IF(AND(H34>1994,H34<1998),VLOOKUP(I34,Feuil1!$A$11:$G$29,5),IF(AND(H34>1997,H34<2000),VLOOKUP(I34,Feuil1!$A$11:$G$29,4),IF(AND(H34>1999,H34<2002),VLOOKUP(I34,Feuil1!$A$11:$G$29,3),VLOOKUP(I34,Feuil1!$A$11:$G$29,2))))),IF(OR(H34=\"SEN\",H34<1995),VLOOKUP(I34,Feuil1!$G$11:$L$25,6),IF(AND(H34>1994,H34<1998),VLOOKUP(I34,Feuil1!$G$11:$L$25,5),IF(AND(H34>1997,H34<2000),VLOOKUP(I34,Feuil1!$G$11:$L$25,4),IF(AND(H34>1999,H34<2002),VLOOKUP(I34,Feuil1!$G$11:$L$25,3),VLOOKUP(I34,Feuil1!$G$11:$L$25,2)))))))","v":"FC1 53"},151.45010545050971,null," ",{"$f":"T34-HLOOKUP(X34,Feuil1!$C$1:$BL$10,2,FALSE)","v":60},{"$f":"T34-HLOOKUP(X34,Feuil1!$C$1:$BL$10,3,FALSE)","v":50},{"$f":"T34-HLOOKUP(X34,Feuil1!$C$1:$BL$10,4,FALSE)","v":40},{"$f":"T34-HLOOKUP(X34,Feuil1!$C$1:$BL$10,5,FALSE)","v":30},{"$f":"T34-HLOOKUP(X34,Feuil1!$C$1:$BL$10,6,FALSE)","v":20},{"$f":"T34-HLOOKUP(X34,Feuil1!$C$1:$BL$10,7,FALSE)","v":10},{"$f":"T34-HLOOKUP(X34,Feuil1!$C$1:$BL$10,8,FALSE)","v":0},{"$f":"T34-HLOOKUP(X34,Feuil1!$C$1:$BL$10,9,FALSE)","v":-10},{"$f":"T34-HLOOKUP(X34,Feuil1!$C$1:$BL$10,10,FALSE)","v":-905},null,null,null,null,null,null,"INTB +"]
["F","NE","CHA",4,320210,"ROEHRIG","Ludivine",2000,52.6,"Langres HM","F",32,34,38,38,44,48,52,52,90,-15.200000000000003,"NAT +",5,{"$f":"IF(I35=\"\",\"\",IF(A35=\"H\",IF(OR(H35=\"SEN\",H35<1995),VLOOKUP(I35,Feuil1!$A$11:$G$29,6),IF(AND(H35>1994,H35<1998),VLOOKUP(I35,Feuil1!$A$11:$G$29,5),IF(AND(H35>1997,H35<2000),VLOOKUP(I35,Feuil1!$A$11:$G$29,4),IF(AND(H35>1999,H35<2002),VLOOKUP(I35,Feuil1!$A$11:$G$29,3),VLOOKUP(I35,Feuil1!$A$11:$G$29,2))))),IF(OR(H35=\"SEN\",H35<1995),VLOOKUP(I35,Feuil1!$G$11:$L$25,6),IF(AND(H35>1994,H35<1998),VLOOKUP(I35,Feuil1!$G$11:$L$25,5),IF(AND(H35>1997,H35<2000),VLOOKUP(I35,Feuil1!$G$11:$L$25,4),IF(AND(H35>1999,H35<2002),VLOOKUP(I35,Feuil1!$G$11:$L$25,3),VLOOKUP(I35,Feuil1!$G$11:$L$25,2)))))))","v":"FC1 53"},136.58880732897993,null," ",{"$f":"T35-HLOOKUP(X35,Feuil1!$C$1:$BL$10,2,FALSE)","v":55},{"$f":"T35-HLOOKUP(X35,Feuil1!$C$1:$BL$10,3,FALSE)","v":45},{"$f":"T35-HLOOKUP(X35,Feuil1!$C$1:$BL$10,4,FALSE)","v":35},{"$f":"T35-HLOOKUP(X35,Feuil1!$C$1:$BL$10,5,FALSE)","v":25},{"$f":"T35-HLOOKUP(X35,Feuil1!$C$1:$BL$10,6,FALSE)","v":15},{"$f":"T35-HLOOKUP(X35,Feuil1!$C$1:$BL$10,7,FALSE)","v":5},{"$f":"T35-HLOOKUP(X35,Feuil1!$C$1:$BL$10,8,FALSE)","v":-5},{"$f":"T35-HLOOKUP(X35,Feuil1!$C$1:$BL$10,9,FALSE)","v":-15},{"$f":"T35-HLOOKUP(X35,Feuil1!$C$1:$BL$10,10,FALSE)","v":-910},null,null,null,null,null,null,"NAT +"]
["F","SO","LIM",5,326705,"LOPEZ","Mélissa",2001,50.22,"LIMOGES AVA","F",32,35,-37,35,45,-50,-50,45,80,-20.439999999999998,"FED +",5,{"$f":"IF(I36=\"\",\"\",IF(A36=\"H\",IF(OR(H36=\"SEN\",H36<1995),VLOOKUP(I36,Feuil1!$A$11:$G$29,6),IF(AND(H36>1994,H36<1998),VLOOKUP(I36,Feuil1!$A$11:$G$29,5),IF(AND(H36>1997,H36<2000),VLOOKUP(I36,Feuil1!$A$11:$G$29,4),IF(AND(H36>1999,H36<2002),VLOOKUP(I36,Feuil1!$A$11:$G$29,3),VLOOKUP(I36,Feuil1!$A$11:$G$29,2))))),IF(OR(H36=\"SEN\",H36<1995),VLOOKUP(I36,Feuil1!$G$11:$L$25,6),IF(AND(H36>1994,H36<1998),VLOOKUP(I36,Feuil1!$G$11:$L$25,5),IF(AND(H36>1997,H36<2000),VLOOKUP(I36,Feuil1!$G$11:$L$25,4),IF(AND(H36>1999,H36<2002),VLOOKUP(I36,Feuil1!$G$11:$L$25,3),VLOOKUP(I36,Feuil1!$G$11:$L$25,2)))))))","v":"FC1 53"},126.13650337879926,null," ",{"$f":"T36-HLOOKUP(X36,Feuil1!$C$1:$BL$10,2,FALSE)","v":45},{"$f":"T36-HLOOKUP(X36,Feuil1!$C$1:$BL$10,3,FALSE)","v":35},{"$f":"T36-HLOOKUP(X36,Feuil1!$C$1:$BL$10,4,FALSE)","v":25},{"$f":"T36-HLOOKUP(X36,Feuil1!$C$1:$BL$10,5,FALSE)","v":15},{"$f":"T36-HLOOKUP(X36,Feuil1!$C$1:$BL$10,6,FALSE)","v":5},{"$f":"T36-HLOOKUP(X36,Feuil1!$C$1:$BL$10,7,FALSE)","v":-5},{"$f":"T36-HLOOKUP(X36,Feuil1!$C$1:$BL$10,8,FALSE)","v":-15},{"$f":"T36-HLOOKUP(X36,Feuil1!$C$1:$BL$10,9,FALSE)","v":-25},{"$f":"T36-HLOOKUP(X36,Feuil1!$C$1:$BL$10,10,FALSE)","v":-920},null,null,null,null,null,null,"FED +"]
["F","SO","LIM",6,326707,"LAMARGUE ","Loriane",2000,52.5,"LIMOGES AVA","F",28,31,32,32,39,43,-45,43,75,-30,"FED +",0,{"$f":"IF(I37=\"\",\"\",IF(A37=\"H\",IF(OR(H37=\"SEN\",H37<1995),VLOOKUP(I37,Feuil1!$A$11:$G$29,6),IF(AND(H37>1994,H37<1998),VLOOKUP(I37,Feuil1!$A$11:$G$29,5),IF(AND(H37>1997,H37<2000),VLOOKUP(I37,Feuil1!$A$11:$G$29,4),IF(AND(H37>1999,H37<2002),VLOOKUP(I37,Feuil1!$A$11:$G$29,3),VLOOKUP(I37,Feuil1!$A$11:$G$29,2))))),IF(OR(H37=\"SEN\",H37<1995),VLOOKUP(I37,Feuil1!$G$11:$L$25,6),IF(AND(H37>1994,H37<1998),VLOOKUP(I37,Feuil1!$G$11:$L$25,5),IF(AND(H37>1997,H37<2000),VLOOKUP(I37,Feuil1!$G$11:$L$25,4),IF(AND(H37>1999,H37<2002),VLOOKUP(I37,Feuil1!$G$11:$L$25,3),VLOOKUP(I37,Feuil1!$G$11:$L$25,2)))))))","v":"FC1 53"},113.99896242007074,null," ",{"$f":"T37-HLOOKUP(X37,Feuil1!$C$1:$BL$10,2,FALSE)","v":40},{"$f":"T37-HLOOKUP(X37,Feuil1!$C$1:$BL$10,3,FALSE)","v":30},{"$f":"T37-HLOOKUP(X37,Feuil1!$C$1:$BL$10,4,FALSE)","v":20},{"$f":"T37-HLOOKUP(X37,Feuil1!$C$1:$BL$10,5,FALSE)","v":10},{"$f":"T37-HLOOKUP(X37,Feuil1!$C$1:$BL$10,6,FALSE)","v":0},{"$f":"T37-HLOOKUP(X37,Feuil1!$C$1:$BL$10,7,FALSE)","v":-10},{"$f":"T37-HLOOKUP(X37,Feuil1!$C$1:$BL$10,8,FALSE)","v":-20},{"$f":"T37-HLOOKUP(X37,Feuil1!$C$1:$BL$10,9,FALSE)","v":-30},{"$f":"T37-HLOOKUP(X37,Feuil1!$C$1:$BL$10,10,FALSE)","v":-925},null,null,null,null,null,null,"FED +"]
["F","NE","ALS",7,340255,"MIGUEL","LEA",2001,49.4,"Dorlisheim FH","F",28,-31,-32,28,37,40,-42,40,68,-30.799999999999997,"IRG +",3,{"$f":"IF(I38=\"\",\"\",IF(A38=\"H\",IF(OR(H38=\"SEN\",H38<1995),VLOOKUP(I38,Feuil1!$A$11:$G$29,6),IF(AND(H38>1994,H38<1998),VLOOKUP(I38,Feuil1!$A$11:$G$29,5),IF(AND(H38>1997,H38<2000),VLOOKUP(I38,Feuil1!$A$11:$G$29,4),IF(AND(H38>1999,H38<2002),VLOOKUP(I38,Feuil1!$A$11:$G$29,3),VLOOKUP(I38,Feuil1!$A$11:$G$29,2))))),IF(OR(H38=\"SEN\",H38<1995),VLOOKUP(I38,Feuil1!$G$11:$L$25,6),IF(AND(H38>1994,H38<1998),VLOOKUP(I38,Feuil1!$G$11:$L$25,5),IF(AND(H38>1997,H38<2000),VLOOKUP(I38,Feuil1!$G$11:$L$25,4),IF(AND(H38>1999,H38<2002),VLOOKUP(I38,Feuil1!$G$11:$L$25,3),VLOOKUP(I38,Feuil1!$G$11:$L$25,2)))))))","v":"FC1 53"},108.72488459815537,null," ",{"$f":"T38-HLOOKUP(X38,Feuil1!$C$1:$BL$10,2,FALSE)","v":33},{"$f":"T38-HLOOKUP(X38,Feuil1!$C$1:$BL$10,3,FALSE)","v":23},{"$f":"T38-HLOOKUP(X38,Feuil1!$C$1:$BL$10,4,FALSE)","v":13},{"$f":"T38-HLOOKUP(X38,Feuil1!$C$1:$BL$10,5,FALSE)","v":3},{"$f":"T38-HLOOKUP(X38,Feuil1!$C$1:$BL$10,6,FALSE)","v":-7},{"$f":"T38-HLOOKUP(X38,Feuil1!$C$1:$BL$10,7,FALSE)","v":-17},{"$f":"T38-HLOOKUP(X38,Feuil1!$C$1:$BL$10,8,FALSE)","v":-27},{"$f":"T38-HLOOKUP(X38,Feuil1!$C$1:$BL$10,9,FALSE)","v":-37},{"$f":"T38-HLOOKUP(X38,Feuil1!$C$1:$BL$10,10,FALSE)","v":-932},null,null,null,null,null,null,"IRG +"]
["F","NE","CHA",8,355066,"MECHIAKH","Chloé",2001,52.4,"Langres HM","F",22,25,27,27,30,35,38,38,65,-39.799999999999997,"IRG +",0,{"$f":"IF(I39=\"\",\"\",IF(A39=\"H\",IF(OR(H39=\"SEN\",H39<1995),VLOOKUP(I39,Feuil1!$A$11:$G$29,6),IF(AND(H39>1994,H39<1998),VLOOKUP(I39,Feuil1!$A$11:$G$29,5),IF(AND(H39>1997,H39<2000),VLOOKUP(I39,Feuil1!$A$11:$G$29,4),IF(AND(H39>1999,H39<2002),VLOOKUP(I39,Feuil1!$A$11:$G$29,3),VLOOKUP(I39,Feuil1!$A$11:$G$29,2))))),IF(OR(H39=\"SEN\",H39<1995),VLOOKUP(I39,Feuil1!$G$11:$L$25,6),IF(AND(H39>1994,H39<1998),VLOOKUP(I39,Feuil1!$G$11:$L$25,5),IF(AND(H39>1997,H39<2000),VLOOKUP(I39,Feuil1!$G$11:$L$25,4),IF(AND(H39>1999,H39<2002),VLOOKUP(I39,Feuil1!$G$11:$L$25,3),VLOOKUP(I39,Feuil1!$G$11:$L$25,2)))))))","v":"FC1 53"},98.951532452757249,null," ",{"$f":"T39-HLOOKUP(X39,Feuil1!$C$1:$BL$10,2,FALSE)","v":30},{"$f":"T39-HLOOKUP(X39,Feuil1!$C$1:$BL$10,3,FALSE)","v":20},{"$f":"T39-HLOOKUP(X39,Feuil1!$C$1:$BL$10,4,FALSE)","v":10},{"$f":"T39-HLOOKUP(X39,Feuil1!$C$1:$BL$10,5,FALSE)","v":0},{"$f":"T39-HLOOKUP(X39,Feuil1!$C$1:$BL$10,6,FALSE)","v":-10},{"$f":"T39-HLOOKUP(X39,Feuil1!$C$1:$BL$10,7,FALSE)","v":-20},{"$f":"T39-HLOOKUP(X39,Feuil1!$C$1:$BL$10,8,FALSE)","v":-30},{"$f":"T39-HLOOKUP(X39,Feuil1!$C$1:$BL$10,9,FALSE)","v":-40},{"$f":"T39-HLOOKUP(X39,Feuil1!$C$1:$BL$10,10,FALSE)","v":-935},null,null,null,null,null,null,"IRG +"]
["F","NE","ALS",9,366668,"BURCKEL","Mélissa",2001,51.1,"Dorlisheim FH","F",25,28,-30,28,30,33,35,35,63,-39.200000000000003,"REG +",8,{"$f":"IF(I40=\"\",\"\",IF(A40=\"H\",IF(OR(H40=\"SEN\",H40<1995),VLOOKUP(I40,Feuil1!$A$11:$G$29,6),IF(AND(H40>1994,H40<1998),VLOOKUP(I40,Feuil1!$A$11:$G$29,5),IF(AND(H40>1997,H40<2000),VLOOKUP(I40,Feuil1!$A$11:$G$29,4),IF(AND(H40>1999,H40<2002),VLOOKUP(I40,Feuil1!$A$11:$G$29,3),VLOOKUP(I40,Feuil1!$A$11:$G$29,2))))),IF(OR(H40=\"SEN\",H40<1995),VLOOKUP(I40,Feuil1!$G$11:$L$25,6),IF(AND(H40>1994,H40<1998),VLOOKUP(I40,Feuil1!$G$11:$L$25,5),IF(AND(H40>1997,H40<2000),VLOOKUP(I40,Feuil1!$G$11:$L$25,4),IF(AND(H40>1999,H40<2002),VLOOKUP(I40,Feuil1!$G$11:$L$25,3),VLOOKUP(I40,Feuil1!$G$11:$L$25,2)))))))","v":"FC1 53"},97.900914843862608,null," ",{"$f":"T40-HLOOKUP(X40,Feuil1!$C$1:$BL$10,2,FALSE)","v":28},{"$f":"T40-HLOOKUP(X40,Feuil1!$C$1:$BL$10,3,FALSE)","v":18},{"$f":"T40-HLOOKUP(X40,Feuil1!$C$1:$BL$10,4,FALSE)","v":8},{"$f":"T40-HLOOKUP(X40,Feuil1!$C$1:$BL$10,5,FALSE)","v":-2},{"$f":"T40-HLOOKUP(X40,Feuil1!$C$1:$BL$10,6,FALSE)","v":-12},{"$f":"T40-HLOOKUP(X40,Feuil1!$C$1:$BL$10,7,FALSE)","v":-22},{"$f":"T40-HLOOKUP(X40,Feuil1!$C$1:$BL$10,8,FALSE)","v":-32},{"$f":"T40-HLOOKUP(X40,Feuil1!$C$1:$BL$10,9,FALSE)","v":-42},{"$f":"T40-HLOOKUP(X40,Feuil1!$C$1:$BL$10,10,FALSE)","v":-937},null,null,null,null,null,null,"REG +"]
["F","NE","BOU",10,394339,"DORIDOT","ANAIS",2000,51.4,"HMDB21","F",20,23,26,26,30,34,36,36,62,-40.799999999999997,"REG +",7,{"$f":"IF(I41=\"\",\"\",IF(A41=\"H\",IF(OR(H41=\"SEN\",H41<1995),VLOOKUP(I41,Feuil1!$A$11:$G$29,6),IF(AND(H41>1994,H41<1998),VLOOKUP(I41,Feuil1!$A$11:$G$29,5),IF(AND(H41>1997,H41<2000),VLOOKUP(I41,Feuil1!$A$11:$G$29,4),IF(AND(H41>1999,H41<2002),VLOOKUP(I41,Feuil1!$A$11:$G$29,3),VLOOKUP(I41,Feuil1!$A$11:$G$29,2))))),IF(OR(H41=\"SEN\",H41<1995),VLOOKUP(I41,Feuil1!$G$11:$L$25,6),IF(AND(H41>1994,H41<1998),VLOOKUP(I41,Feuil1!$G$11:$L$25,5),IF(AND(H41>1997,H41<2000),VLOOKUP(I41,Feuil1!$G$11:$L$25,4),IF(AND(H41>1999,H41<2002),VLOOKUP(I41,Feuil1!$G$11:$L$25,3),VLOOKUP(I41,Feuil1!$G$11:$L$25,2)))))))","v":"FC1 53"},95.881847264254901,null," ",{"$f":"T41-HLOOKUP(X41,Feuil1!$C$1:$BL$10,2,FALSE)","v":27},{"$f":"T41-HLOOKUP(X41,Feuil1!$C$1:$BL$10,3,FALSE)","v":17},{"$f":"T41-HLOOKUP(X41,Feuil1!$C$1:$BL$10,4,FALSE)","v":7},{"$f":"T41-HLOOKUP(X41,Feuil1!$C$1:$BL$10,5,FALSE)","v":-3},{"$f":"T41-HLOOKUP(X41,Feuil1!$C$1:$BL$10,6,FALSE)","v":-13},{"$f":"T41-HLOOKUP(X41,Feuil1!$C$1:$BL$10,7,FALSE)","v":-23},{"$f":"T41-HLOOKUP(X41,Feuil1!$C$1:$BL$10,8,FALSE)","v":-33},{"$f":"T41-HLOOKUP(X41,Feuil1!$C$1:$BL$10,9,FALSE)","v":-43},{"$f":"T41-HLOOKUP(X41,Feuil1!$C$1:$BL$10,10,FALSE)","v":-938},null,null,null,null,null,null,"REG +"]
["F","NORD","PIC",11,378365,"MONTOYA","Chloé",2000,48.24,"Villers-Bretonneux KC","F",25,-27,-27,25,33,-36,36,36,61,-35.480000000000004,"REG +",6,{"$f":"IF(I42=\"\",\"\",IF(A42=\"H\",IF(OR(H42=\"SEN\",H42<1995),VLOOKUP(I42,Feuil1!$A$11:$G$29,6),IF(AND(H42>1994,H42<1998),VLOOKUP(I42,Feuil1!$A$11:$G$29,5),IF(AND(H42>1997,H42<2000),VLOOKUP(I42,Feuil1!$A$11:$G$29,4),IF(AND(H42>1999,H42<2002),VLOOKUP(I42,Feuil1!$A$11:$G$29,3),VLOOKUP(I42,Feuil1!$A$11:$G$29,2))))),IF(OR(H42=\"SEN\",H42<1995),VLOOKUP(I42,Feuil1!$G$11:$L$25,6),IF(AND(H42>1994,H42<1998),VLOOKUP(I42,Feuil1!$G$11:$L$25,5),IF(AND(H42>1997,H42<2000),VLOOKUP(I42,Feuil1!$G$11:$L$25,4),IF(AND(H42>1999,H42<2002),VLOOKUP(I42,Feuil1!$G$11:$L$25,3),VLOOKUP(I42,Feuil1!$G$11:$L$25,2)))))))","v":"FC1 53"},99.556979579714707,null," ",{"$f":"T42-HLOOKUP(X42,Feuil1!$C$1:$BL$10,2,FALSE)","v":26},{"$f":"T42-HLOOKUP(X42,Feuil1!$C$1:$BL$10,3,FALSE)","v":16},{"$f":"T42-HLOOKUP(X42,Feuil1!$C$1:$BL$10,4,FALSE)","v":6},{"$f":"T42-HLOOKUP(X42,Feuil1!$C$1:$BL$10,5,FALSE)","v":-4},{"$f":"T42-HLOOKUP(X42,Feuil1!$C$1:$BL$10,6,FALSE)","v":-14},{"$f":"T42-HLOOKUP(X42,Feuil1!$C$1:$BL$10,7,FALSE)","v":-24},{"$f":"T42-HLOOKUP(X42,Feuil1!$C$1:$BL$10,8,FALSE)","v":-34},{"$f":"T42-HLOOKUP(X42,Feuil1!$C$1:$BL$10,9,FALSE)","v":-44},{"$f":"T42-HLOOKUP(X42,Feuil1!$C$1:$BL$10,10,FALSE)","v":-939},null,null,null,null,null,null,"REG +"]
["F","NE","BOU",12,390850,"LARGE","Margaux",2000,50.1,"HMDB21","F",15,19,20,20,25,28,30,30,50,-50.2,"DEP +",5,{"$f":"IF(I43=\"\",\"\",IF(A43=\"H\",IF(OR(H43=\"SEN\",H43<1995),VLOOKUP(I43,Feuil1!$A$11:$G$29,6),IF(AND(H43>1994,H43<1998),VLOOKUP(I43,Feuil1!$A$11:$G$29,5),IF(AND(H43>1997,H43<2000),VLOOKUP(I43,Feuil1!$A$11:$G$29,4),IF(AND(H43>1999,H43<2002),VLOOKUP(I43,Feuil1!$A$11:$G$29,3),VLOOKUP(I43,Feuil1!$A$11:$G$29,2))))),IF(OR(H43=\"SEN\",H43<1995),VLOOKUP(I43,Feuil1!$G$11:$L$25,6),IF(AND(H43>1994,H43<1998),VLOOKUP(I43,Feuil1!$G$11:$L$25,5),IF(AND(H43>1997,H43<2000),VLOOKUP(I43,Feuil1!$G$11:$L$25,4),IF(AND(H43>1999,H43<2002),VLOOKUP(I43,Feuil1!$G$11:$L$25,3),VLOOKUP(I43,Feuil1!$G$11:$L$25,2)))))))","v":"FC1 53"},78.99453977508098,null," ",{"$f":"T43-HLOOKUP(X43,Feuil1!$C$1:$BL$10,2,FALSE)","v":15},{"$f":"T43-HLOOKUP(X43,Feuil1!$C$1:$BL$10,3,FALSE)","v":5},{"$f":"T43-HLOOKUP(X43,Feuil1!$C$1:$BL$10,4,FALSE)","v":-5},{"$f":"T43-HLOOKUP(X43,Feuil1!$C$1:$BL$10,5,FALSE)","v":-15},{"$f":"T43-HLOOKUP(X43,Feuil1!$C$1:$BL$10,6,FALSE)","v":-25},{"$f":"T43-HLOOKUP(X43,Feuil1!$C$1:$BL$10,7,FALSE)","v":-35},{"$f":"T43-HLOOKUP(X43,Feuil1!$C$1:$BL$10,8,FALSE)","v":-45},{"$f":"T43-HLOOKUP(X43,Feuil1!$C$1:$BL$10,9,FALSE)","v":-55},{"$f":"T43-HLOOKUP(X43,Feuil1!$C$1:$BL$10,10,FALSE)","v":-950},null,null,null,null,null,null,"DEP +"]
["F","NORD","PIC",13,378362,"CHAUVIN","Appoline",2001,48.14,"Villers-Bretonneux KC","F",16,19,21,21,20,24,27,27,48,-48.28,"DEP +",3,{"$f":"IF(I44=\"\",\"\",IF(A44=\"H\",IF(OR(H44=\"SEN\",H44<1995),VLOOKUP(I44,Feuil1!$A$11:$G$29,6),IF(AND(H44>1994,H44<1998),VLOOKUP(I44,Feuil1!$A$11:$G$29,5),IF(AND(H44>1997,H44<2000),VLOOKUP(I44,Feuil1!$A$11:$G$29,4),IF(AND(H44>1999,H44<2002),VLOOKUP(I44,Feuil1!$A$11:$G$29,3),VLOOKUP(I44,Feuil1!$A$11:$G$29,2))))),IF(OR(H44=\"SEN\",H44<1995),VLOOKUP(I44,Feuil1!$G$11:$L$25,6),IF(AND(H44>1994,H44<1998),VLOOKUP(I44,Feuil1!$G$11:$L$25,5),IF(AND(H44>1997,H44<2000),VLOOKUP(I44,Feuil1!$G$11:$L$25,4),IF(AND(H44>1999,H44<2002),VLOOKUP(I44,Feuil1!$G$11:$L$25,3),VLOOKUP(I44,Feuil1!$G$11:$L$25,2)))))))","v":"FC1 53"},78.482229218299835,null," ",{"$f":"T44-HLOOKUP(X44,Feuil1!$C$1:$BL$10,2,FALSE)","v":13},{"$f":"T44-HLOOKUP(X44,Feuil1!$C$1:$BL$10,3,FALSE)","v":3},{"$f":"T44-HLOOKUP(X44,Feuil1!$C$1:$BL$10,4,FALSE)","v":-7},{"$f":"T44-HLOOKUP(X44,Feuil1!$C$1:$BL$10,5,FALSE)","v":-17},{"$f":"T44-HLOOKUP(X44,Feuil1!$C$1:$BL$10,6,FALSE)","v":-27},{"$f":"T44-HLOOKUP(X44,Feuil1!$C$1:$BL$10,7,FALSE)","v":-37},{"$f":"T44-HLOOKUP(X44,Feuil1!$C$1:$BL$10,8,FALSE)","v":-47},{"$f":"T44-HLOOKUP(X44,Feuil1!$C$1:$BL$10,9,FALSE)","v":-57},{"$f":"T44-HLOOKUP(X44,Feuil1!$C$1:$BL$10,10,FALSE)","v":-952},null,null,null,null,null,null,"DEP +"]
["F","SEST","CAZ",14,385819,"POIRSON","Alicia",2000,53,"ASLDD TOULON","F",10,15,20,20,25,27,-28,27,47,-59,"DEP +",2,{"$f":"IF(I45=\"\",\"\",IF(A45=\"H\",IF(OR(H45=\"SEN\",H45<1995),VLOOKUP(I45,Feuil1!$A$11:$G$29,6),IF(AND(H45>1994,H45<1998),VLOOKUP(I45,Feuil1!$A$11:$G$29,5),IF(AND(H45>1997,H45<2000),VLOOKUP(I45,Feuil1!$A$11:$G$29,4),IF(AND(H45>1999,H45<2002),VLOOKUP(I45,Feuil1!$A$11:$G$29,3),VLOOKUP(I45,Feuil1!$A$11:$G$29,2))))),IF(OR(H45=\"SEN\",H45<1995),VLOOKUP(I45,Feuil1!$G$11:$L$25,6),IF(AND(H45>1994,H45<1998),VLOOKUP(I45,Feuil1!$G$11:$L$25,5),IF(AND(H45>1997,H45<2000),VLOOKUP(I45,Feuil1!$G$11:$L$25,4),IF(AND(H45>1999,H45<2002),VLOOKUP(I45,Feuil1!$G$11:$L$25,3),VLOOKUP(I45,Feuil1!$G$11:$L$25,2)))))))","v":"FC1 53"},70.896877520961326,null," ",{"$f":"T45-HLOOKUP(X45,Feuil1!$C$1:$BL$10,2,FALSE)","v":12},{"$f":"T45-HLOOKUP(X45,Feuil1!$C$1:$BL$10,3,FALSE)","v":2},{"$f":"T45-HLOOKUP(X45,Feuil1!$C$1:$BL$10,4,FALSE)","v":-8},{"$f":"T45-HLOOKUP(X45,Feuil1!$C$1:$BL$10,5,FALSE)","v":-18},{"$f":"T45-HLOOKUP(X45,Feuil1!$C$1:$BL$10,6,FALSE)","v":-28},{"$f":"T45-HLOOKUP(X45,Feuil1!$C$1:$BL$10,7,FALSE)","v":-38},{"$f":"T45-HLOOKUP(X45,Feuil1!$C$1:$BL$10,8,FALSE)","v":-48},{"$f":"T45-HLOOKUP(X45,Feuil1!$C$1:$BL$10,9,FALSE)","v":-58},{"$f":"T45-HLOOKUP(X45,Feuil1!$C$1:$BL$10,10,FALSE)","v":-953},null,null,null,null,null,null,"DEP +"]
["F","DOM","GUY",15,382075,"VEDDIE","Tessa",2001,50,"ASCPG/Rémire Montjoly","F",15,-20,-20,15,20,-25,25,25,40,-60,"DEB ",5,{"$f":"IF(I46=\"\",\"\",IF(A46=\"H\",IF(OR(H46=\"SEN\",H46<1995),VLOOKUP(I46,Feuil1!$A$11:$G$29,6),IF(AND(H46>1994,H46<1998),VLOOKUP(I46,Feuil1!$A$11:$G$29,5),IF(AND(H46>1997,H46<2000),VLOOKUP(I46,Feuil1!$A$11:$G$29,4),IF(AND(H46>1999,H46<2002),VLOOKUP(I46,Feuil1!$A$11:$G$29,3),VLOOKUP(I46,Feuil1!$A$11:$G$29,2))))),IF(OR(H46=\"SEN\",H46<1995),VLOOKUP(I46,Feuil1!$G$11:$L$25,6),IF(AND(H46>1994,H46<1998),VLOOKUP(I46,Feuil1!$G$11:$L$25,5),IF(AND(H46>1997,H46<2000),VLOOKUP(I46,Feuil1!$G$11:$L$25,4),IF(AND(H46>1999,H46<2002),VLOOKUP(I46,Feuil1!$G$11:$L$25,3),VLOOKUP(I46,Feuil1!$G$11:$L$25,2)))))))","v":"FC1 53"},63.302428724844816,null," ",{"$f":"T46-HLOOKUP(X46,Feuil1!$C$1:$BL$10,2,FALSE)","v":5},{"$f":"T46-HLOOKUP(X46,Feuil1!$C$1:$BL$10,3,FALSE)","v":-5},{"$f":"T46-HLOOKUP(X46,Feuil1!$C$1:$BL$10,4,FALSE)","v":-15},{"$f":"T46-HLOOKUP(X46,Feuil1!$C$1:$BL$10,5,FALSE)","v":-25},{"$f":"T46-HLOOKUP(X46,Feuil1!$C$1:$BL$10,6,FALSE)","v":-35},{"$f":"T46-HLOOKUP(X46,Feuil1!$C$1:$BL$10,7,FALSE)","v":-45},{"$f":"T46-HLOOKUP(X46,Feuil1!$C$1:$BL$10,8,FALSE)","v":-55},{"$f":"T46-HLOOKUP(X46,Feuil1!$C$1:$BL$10,9,FALSE)","v":-65},{"$f":"T46-HLOOKUP(X46,Feuil1!$C$1:$BL$10,10,FALSE)","v":-960},null,null,null,null,null,null,"DEB "]
[null,null,null,null,null,null,null,null,null,null,null,null,null,null,null,null,null,null,null,null,null,null,null,null,null,null," ",{"$f":"T47-HLOOKUP(X47,[1]Feuil1!$C$1:$BL$10,2,FALSE)","v":{"$error":"#N/A"}},{"$f":"T47-HLOOKUP(X47,[1]Feuil1!$C$1:$BL$10,3,FALSE)","v":{"$error":"#N/A"}},{"$f":"T47-HLOOKUP(X47,[1]Feuil1!$C$1:$BL$10,4,FALSE)","v":{"$error":"#N/A"}},{"$f":"T47-HLOOKUP(X47,[1]Feuil1!$C$1:$BL$10,5,FALSE)","v":{"$error":"#N/A"}},{"$f":"T47-HLOOKUP(X47,[1]Feuil1!$C$1:$BL$10,6,FALSE)","v":{"$error":"#N/A"}},{"$f":"T47-HLOOKUP(X47,[1]Feuil1!$C$1:$BL$10,7,FALSE)","v":{"$error":"#N/A"}},{"$f":"T47-HLOOKUP(X47,[1]Feuil1!$C$1:$BL$10,8,FALSE)","v":{"$error":"#N/A"}},{"$f":"T47-HLOOKUP(X47,[1]Feuil1!$C$1:$BL$10,9,FALSE)","v":{"$error":"#N/A"}},{"$f":"T47-HLOOKUP(X47,[1]Feuil1!$C$1:$BL$10,10,FALSE)","v":{"$error":"#N/A"}},null,null,null,null,null,null,{"$f":"IF(AJ47>=0,$AJ$4,IF(AI47>=0,$AI$4,IF(AH47>=0,$AH$4,IF(AG47>=0,$AG$4,IF(AF47>=0,$AF$4,IF(AE47>=0,$AE$4,IF(AD47>=0,$AD$4,IF(AC47>=0,$AC$4,$AB$4))))))))","v":{"$error":"#N/A"}}]
["F","SEST","RAL",1,280309,"BARBIER","Clarisse",2000,54,"VAULX EN VELIN ","F",41,44,-46,{"$f":"IF(H48=\"\",\"\",IF(MAXA(L48:N48)<=0,0,MAXA(L48:N48)))","v":44},54,58,61,{"$f":"IF(H48=\"\",\"\",IF(MAXA(P48:R48)<=0,0,MAXA(P48:R48)))","v":61},{"$f":"IF(H48=\"\",\"\",IF(OR(O48=0,S48=0),0,O48+S48))","v":105},{"$f":"T48-I48*2","v":-3},{"$f":"IF(H48=\"\",\"\",AQ48)","v":"INTB +"},{"$f":"IF(AJ48>=0,AJ48,IF(AI48>=0,AI48,IF(AH48>=0,AH48,IF(AG48>=0,AG48,IF(AF48>=0,AF48,IF(AE48>=0,AE48,IF(AD48>=0,AD48,IF(AC48>=0,AC48,AB48))))))))","v":5},{"$f":"IF(I48=\"\",\"\",IF(A48=\"H\",IF(OR(H48=\"SEN\",H48<1995),VLOOKUP(I48,Feuil1!$A$11:$G$29,6),IF(AND(H48>1994,H48<1998),VLOOKUP(I48,Feuil1!$A$11:$G$29,5),IF(AND(H48>1997,H48<2000),VLOOKUP(I48,Feuil1!$A$11:$G$29,4),IF(AND(H48>1999,H48<2002),VLOOKUP(I48,Feuil1!$A$11:$G$29,3),VLOOKUP(I48,Feuil1!$A$11:$G$29,2))))),IF(OR(H48=\"SEN\",H48<1995),VLOOKUP(I48,Feuil1!$G$11:$L$25,6),IF(AND(H48>1994,H48<1998),VLOOKUP(I48,Feuil1!$G$11:$L$25,5),IF(AND(H48>1997,H48<2000),VLOOKUP(I48,Feuil1!$G$11:$L$25,4),IF(AND(H48>1999,H48<2002),VLOOKUP(I48,Feuil1!$G$11:$L$25,3),VLOOKUP(I48,Feuil1!$G$11:$L$25,2)))))))","v":"FC1 58"},{"$f":"IF(I48=\"\",\"\",IF(A48=\"H\",10^(0.794358141*LOG(I48/174.393)^2)*T48,IF(A48=\"F\",10^(0.89726074*LOG(I48/148.026)^2)*T48,\"\")))","v":156.05567514359063},null," ",{"$f":"T48-HLOOKUP(X48,Feuil1!$C$1:$BL$10,2,FALSE)","v":65},{"$f":"T48-HLOOKUP(X48,Feuil1!$C$1:$BL$10,3,FALSE)","v":55},{"$f":"T48-HLOOKUP(X48,Feuil1!$C$1:$BL$10,4,FALSE)","v":45},{"$f":"T48-HLOOKUP(X48,Feuil1!$C$1:$BL$10,5,FALSE)","v":35},{"$f":"T48-HLOOKUP(X48,Feuil1!$C$1:$BL$10,6,FALSE)","v":25},{"$f":"T48-HLOOKUP(X48,Feuil1!$C$1:$BL$10,7,FALSE)","v":15},{"$f":"T48-HLOOKUP(X48,Feuil1!$C$1:$BL$10,8,FALSE)","v":5},{"$f":"T48-HLOOKUP(X48,Feuil1!$C$1:$BL$10,9,FALSE)","v":-10},{"$f":"T48-HLOOKUP(X48,Feuil1!$C$1:$BL$10,10,FALSE)","v":-895},null,null,null,null,null,null,{"$f":"IF(AJ48>=0,$AJ$4,IF(AI48>=0,$AI$4,IF(AH48>=0,$AH$4,IF(AG48>=0,$AG$4,IF(AF48>=0,$AF$4,IF(AE48>=0,$AE$4,IF(AD48>=0,$AD$4,IF(AC48>=0,$AC$4,$AB$4))))))))","v":"INTB +"}]
["F","SO","LIM",2,326707,"LAMARGUE ","Loriane",2000,53.86,"LIMOGES AVA","F",32,35,37,37,46,50,53,53,90,-17.72,"NAT +",0,{"$f":"IF(I49=\"\",\"\",IF(A49=\"H\",IF(OR(H49=\"SEN\",H49<1995),VLOOKUP(I49,Feuil1!$A$11:$G$29,6),IF(AND(H49>1994,H49<1998),VLOOKUP(I49,Feuil1!$A$11:$G$29,5),IF(AND(H49>1997,H49<2000),VLOOKUP(I49,Feuil1!$A$11:$G$29,4),IF(AND(H49>1999,H49<2002),VLOOKUP(I49,Feuil1!$A$11:$G$29,3),VLOOKUP(I49,Feuil1!$A$11:$G$29,2))))),IF(OR(H49=\"SEN\",H49<1995),VLOOKUP(I49,Feuil1!$G$11:$L$25,6),IF(AND(H49>1994,H49<1998),VLOOKUP(I49,Feuil1!$G$11:$L$25,5),IF(AND(H49>1997,H49<2000),VLOOKUP(I49,Feuil1!$G$11:$L$25,4),IF(AND(H49>1999,H49<2002),VLOOKUP(I49,Feuil1!$G$11:$L$25,3),VLOOKUP(I49,Feuil1!$G$11:$L$25,2)))))))","v":"FC1 58"},134.03553440955974,null," ",{"$f":"T49-HLOOKUP(X49,Feuil1!$C$1:$BL$10,2,FALSE)","v":50},{"$f":"T49-HLOOKUP(X49,Feuil1!$C$1:$BL$10,3,FALSE)","v":40},{"$f":"T49-HLOOKUP(X49,Feuil1!$C$1:$BL$10,4,FALSE)","v":30},{"$f":"T49-HLOOKUP(X49,Feuil1!$C$1:$BL$10,5,FALSE)","v":20},{"$f":"T49-HLOOKUP(X49,Feuil1!$C$1:$BL$10,6,FALSE)","v":10},{"$f":"T49-HLOOKUP(X49,Feuil1!$C$1:$BL$10,7,FALSE)","v":0},{"$f":"T49-HLOOKUP(X49,Feuil1!$C$1:$BL$10,8,FALSE)","v":-10},{"$f":"T49-HLOOKUP(X49,Feuil1!$C$1:$BL$10,9,FALSE)","v":-25},{"$f":"T49-HLOOKUP(X49,Feuil1!$C$1:$BL$10,10,FALSE)","v":-910},null,null,null,null,null,null,"NAT +"]
["F","NORD","NPC",3,359845,"PARANTHOEN","Kimberley",2000,57.27,"C.A.ROSENDAEL","F",35,38,-40,38,48,-52,52,52,90,-24.540000000000006,"NAT +",0,{"$f":"IF(I50=\"\",\"\",IF(A50=\"H\",IF(OR(H50=\"SEN\",H50<1995),VLOOKUP(I50,Feuil1!$A$11:$G$29,6),IF(AND(H50>1994,H50<1998),VLOOKUP(I50,Feuil1!$A$11:$G$29,5),IF(AND(H50>1997,H50<2000),VLOOKUP(I50,Feuil1!$A$11:$G$29,4),IF(AND(H50>1999,H50<2002),VLOOKUP(I50,Feuil1!$A$11:$G$29,3),VLOOKUP(I50,Feuil1!$A$11:$G$29,2))))),IF(OR(H50=\"SEN\",H50<1995),VLOOKUP(I50,Feuil1!$G$11:$L$25,6),IF(AND(H50>1994,H50<1998),VLOOKUP(I50,Feuil1!$G$11:$L$25,5),IF(AND(H50>1997,H50<2000),VLOOKUP(I50,Feuil1!$G$11:$L$25,4),IF(AND(H50>1999,H50<2002),VLOOKUP(I50,Feuil1!$G$11:$L$25,3),VLOOKUP(I50,Feuil1!$G$11:$L$25,2)))))))","v":"FC1 58"},127.89425167905696,null," ",{"$f":"T50-HLOOKUP(X50,Feuil1!$C$1:$BL$10,2,FALSE)","v":50},{"$f":"T50-HLOOKUP(X50,Feuil1!$C$1:$BL$10,3,FALSE)","v":40},{"$f":"T50-HLOOKUP(X50,Feuil1!$C$1:$BL$10,4,FALSE)","v":30},{"$f":"T50-HLOOKUP(X50,Feuil1!$C$1:$BL$10,5,FALSE)","v":20},{"$f":"T50-HLOOKUP(X50,Feuil1!$C$1:$BL$10,6,FALSE)","v":10},{"$f":"T50-HLOOKUP(X50,Feuil1!$C$1:$BL$10,7,FALSE)","v":0},{"$f":"T50-HLOOKUP(X50,Feuil1!$C$1:$BL$10,8,FALSE)","v":-10},{"$f":"T50-HLOOKUP(X50,Feuil1!$C$1:$BL$10,9,FALSE)","v":-25},{"$f":"T50-HLOOKUP(X50,Feuil1!$C$1:$BL$10,10,FALSE)","v":-910},null,null,null,null,null,null,"NAT +"]
["F","NE","CHA",4,320210,"ROEHRIG","Ludivine",2000,54.9,"Langres HM","F",35,38,40,40,45,"-","-",45,85,-24.799999999999997,"FED +",5,{"$f":"IF(I51=\"\",\"\",IF(A51=\"H\",IF(OR(H51=\"SEN\",H51<1995),VLOOKUP(I51,Feuil1!$A$11:$G$29,6),IF(AND(H51>1994,H51<1998),VLOOKUP(I51,Feuil1!$A$11:$G$29,5),IF(AND(H51>1997,H51<2000),VLOOKUP(I51,Feuil1!$A$11:$G$29,4),IF(AND(H51>1999,H51<2002),VLOOKUP(I51,Feuil1!$A$11:$G$29,3),VLOOKUP(I51,Feuil1!$A$11:$G$29,2))))),IF(OR(H51=\"SEN\",H51<1995),VLOOKUP(I51,Feuil1!$G$11:$L$25,6),IF(AND(H51>1994,H51<1998),VLOOKUP(I51,Feuil1!$G$11:$L$25,5),IF(AND(H51>1997,H51<2000),VLOOKUP(I51,Feuil1!$G$11:$L$25,4),IF(AND(H51>1999,H51<2002),VLOOKUP(I51,Feuil1!$G$11:$L$25,3),VLOOKUP(I51,Feuil1!$G$11:$L$25,2)))))))","v":"FC1 58"},124.71358944915011,null," ",{"$f":"T51-HLOOKUP(X51,Feuil1!$C$1:$BL$10,2,FALSE)","v":45},{"$f":"T51-HLOOKUP(X51,Feuil1!$C$1:$BL$10,3,FALSE)","v":35},{"$f":"T51-HLOOKUP(X51,Feuil1!$C$1:$BL$10,4,FALSE)","v":25},{"$f":"T51-HLOOKUP(X51,Feuil1!$C$1:$BL$10,5,FALSE)","v":15},{"$f":"T51-HLOOKUP(X51,Feuil1!$C$1:$BL$10,6,FALSE)","v":5},{"$f":"T51-HLOOKUP(X51,Feuil1!$C$1:$BL$10,7,FALSE)","v":-5},{"$f":"T51-HLOOKUP(X51,Feuil1!$C$1:$BL$10,8,FALSE)","v":-15},{"$f":"T51-HLOOKUP(X51,Feuil1!$C$1:$BL$10,9,FALSE)","v":-30},{"$f":"T51-HLOOKUP(X51,Feuil1!$C$1:$BL$10,10,FALSE)","v":-915},null,null,null,null,null,null,"FED +"]
["F","SO","AQU",5,277040,"GIRAUD","Hectorine",2000,58,"ASOA Aquitaine","F",32,-35,35,35,42,45,47,47,82,-34,"FED +",2,{"$f":"IF(I52=\"\",\"\",IF(A52=\"H\",IF(OR(H52=\"SEN\",H52<1995),VLOOKUP(I52,Feuil1!$A$11:$G$29,6),IF(AND(H52>1994,H52<1998),VLOOKUP(I52,Feuil1!$A$11:$G$29,5),IF(AND(H52>1997,H52<2000),VLOOKUP(I52,Feuil1!$A$11:$G$29,4),IF(AND(H52>1999,H52<2002),VLOOKUP(I52,Feuil1!$A$11:$G$29,3),VLOOKUP(I52,Feuil1!$A$11:$G$29,2))))),IF(OR(H52=\"SEN\",H52<1995),VLOOKUP(I52,Feuil1!$G$11:$L$25,6),IF(AND(H52>1994,H52<1998),VLOOKUP(I52,Feuil1!$G$11:$L$25,5),IF(AND(H52>1997,H52<2000),VLOOKUP(I52,Feuil1!$G$11:$L$25,4),IF(AND(H52>1999,H52<2002),VLOOKUP(I52,Feuil1!$G$11:$L$25,3),VLOOKUP(I52,Feuil1!$G$11:$L$25,2)))))))","v":"FC1 58"},115.44589049472269,null," ",{"$f":"T52-HLOOKUP(X52,Feuil1!$C$1:$BL$10,2,FALSE)","v":42},{"$f":"T52-HLOOKUP(X52,Feuil1!$C$1:$BL$10,3,FALSE)","v":32},{"$f":"T52-HLOOKUP(X52,Feuil1!$C$1:$BL$10,4,FALSE)","v":22},{"$f":"T52-HLOOKUP(X52,Feuil1!$C$1:$BL$10,5,FALSE)","v":12},{"$f":"T52-HLOOKUP(X52,Feuil1!$C$1:$BL$10,6,FALSE)","v":2},{"$f":"T52-HLOOKUP(X52,Feuil1!$C$1:$BL$10,7,FALSE)","v":-8},{"$f":"T52-HLOOKUP(X52,Feuil1!$C$1:$BL$10,8,FALSE)","v":-18},{"$f":"T52-HLOOKUP(X52,Feuil1!$C$1:$BL$10,9,FALSE)","v":-33},{"$f":"T52-HLOOKUP(X52,Feuil1!$C$1:$BL$10,10,FALSE)","v":-918},null,null,null,null,null,null,"FED +"]
["F","NE","CHA",6,355066,"MECHIAKH","Chloé",2001,54.1,"Langres HM","F",26,29,-31,29,35,38,41,41,70,-38.200000000000003,"IRG +",0,{"$f":"IF(I53=\"\",\"\",IF(A53=\"H\",IF(OR(H53=\"SEN\",H53<1995),VLOOKUP(I53,Feuil1!$A$11:$G$29,6),IF(AND(H53>1994,H53<1998),VLOOKUP(I53,Feuil1!$A$11:$G$29,5),IF(AND(H53>1997,H53<2000),VLOOKUP(I53,Feuil1!$A$11:$G$29,4),IF(AND(H53>1999,H53<2002),VLOOKUP(I53,Feuil1!$A$11:$G$29,3),VLOOKUP(I53,Feuil1!$A$11:$G$29,2))))),IF(OR(H53=\"SEN\",H53<1995),VLOOKUP(I53,Feuil1!$G$11:$L$25,6),IF(AND(H53>1994,H53<1998),VLOOKUP(I53,Feuil1!$G$11:$L$25,5),IF(AND(H53>1997,H53<2000),VLOOKUP(I53,Feuil1!$G$11:$L$25,4),IF(AND(H53>1999,H53<2002),VLOOKUP(I53,Feuil1!$G$11:$L$25,3),VLOOKUP(I53,Feuil1!$G$11:$L$25,2)))))))","v":"FC1 58"},103.88609267501297,null," ",{"$f":"T53-HLOOKUP(X53,Feuil1!$C$1:$BL$10,2,FALSE)","v":30},{"$f":"T53-HLOOKUP(X53,Feuil1!$C$1:$BL$10,3,FALSE)","v":20},{"$f":"T53-HLOOKUP(X53,Feuil1!$C$1:$BL$10,4,FALSE)","v":10},{"$f":"T53-HLOOKUP(X53,Feuil1!$C$1:$BL$10,5,FALSE)","v":0},{"$f":"T53-HLOOKUP(X53,Feuil1!$C$1:$BL$10,6,FALSE)","v":-10},{"$f":"T53-HLOOKUP(X53,Feuil1!$C$1:$BL$10,7,FALSE)","v":-20},{"$f":"T53-HLOOKUP(X53,Feuil1!$C$1:$BL$10,8,FALSE)","v":-30},{"$f":"T53-HLOOKUP(X53,Feuil1!$C$1:$BL$10,9,FALSE)","v":-45},{"$f":"T53-HLOOKUP(X53,Feuil1!$C$1:$BL$10,10,FALSE)","v":-930},null,null,null,null,null,null,"IRG +"]
["F","SEST","PRO",7,391362,"PEREIRA MARTIN","TATIANA",2001,57.5,"EEAR MONTEUX","F",18,-22,22,22,28,32,35,35,57,-58,"DEP +",7,{"$f":"IF(I54=\"\",\"\",IF(A54=\"H\",IF(OR(H54=\"SEN\",H54<1995),VLOOKUP(I54,Feuil1!$A$11:$G$29,6),IF(AND(H54>1994,H54<1998),VLOOKUP(I54,Feuil1!$A$11:$G$29,5),IF(AND(H54>1997,H54<2000),VLOOKUP(I54,Feuil1!$A$11:$G$29,4),IF(AND(H54>1999,H54<2002),VLOOKUP(I54,Feuil1!$A$11:$G$29,3),VLOOKUP(I54,Feuil1!$A$11:$G$29,2))))),IF(OR(H54=\"SEN\",H54<1995),VLOOKUP(I54,Feuil1!$G$11:$L$25,6),IF(AND(H54>1994,H54<1998),VLOOKUP(I54,Feuil1!$G$11:$L$25,5),IF(AND(H54>1997,H54<2000),VLOOKUP(I54,Feuil1!$G$11:$L$25,4),IF(AND(H54>1999,H54<2002),VLOOKUP(I54,Feuil1!$G$11:$L$25,3),VLOOKUP(I54,Feuil1!$G$11:$L$25,2)))))))","v":"FC1 58"},80.760288380025955,null," ",{"$f":"T54-HLOOKUP(X54,Feuil1!$C$1:$BL$10,2,FALSE)","v":17},{"$f":"T54-HLOOKUP(X54,Feuil1!$C$1:$BL$10,3,FALSE)","v":7},{"$f":"T54-HLOOKUP(X54,Feuil1!$C$1:$BL$10,4,FALSE)","v":-3},{"$f":"T54-HLOOKUP(X54,Feuil1!$C$1:$BL$10,5,FALSE)","v":-13},{"$f":"T54-HLOOKUP(X54,Feuil1!$C$1:$BL$10,6,FALSE)","v":-23},{"$f":"T54-HLOOKUP(X54,Feuil1!$C$1:$BL$10,7,FALSE)","v":-33},{"$f":"T54-HLOOKUP(X54,Feuil1!$C$1:$BL$10,8,FALSE)","v":-43},{"$f":"T54-HLOOKUP(X54,Feuil1!$C$1:$BL$10,9,FALSE)","v":-58},{"$f":"T54-HLOOKUP(X54,Feuil1!$C$1:$BL$10,10,FALSE)","v":-943},null,null,null,null,null,null,"DEP +"]
["F","NE","ALS",8,374732,"FERON-GRIMM","LILOU",2001,57,"ASPTT Strasbourg","F",21,23,25,25,25,28,30,30,55,-59,"DEP +",5,{"$f":"IF(I55=\"\",\"\",IF(A55=\"H\",IF(OR(H55=\"SEN\",H55<1995),VLOOKUP(I55,Feuil1!$A$11:$G$29,6),IF(AND(H55>1994,H55<1998),VLOOKUP(I55,Feuil1!$A$11:$G$29,5),IF(AND(H55>1997,H55<2000),VLOOKUP(I55,Feuil1!$A$11:$G$29,4),IF(AND(H55>1999,H55<2002),VLOOKUP(I55,Feuil1!$A$11:$G$29,3),VLOOKUP(I55,Feuil1!$A$11:$G$29,2))))),IF(OR(H55=\"SEN\",H55<1995),VLOOKUP(I55,Feuil1!$G$11:$L$25,6),IF(AND(H55>1994,H55<1998),VLOOKUP(I55,Feuil1!$G$11:$L$25,5),IF(AND(H55>1997,H55<2000),VLOOKUP(I55,Feuil1!$G$11:$L$25,4),IF(AND(H55>1999,H55<2002),VLOOKUP(I55,Feuil1!$G$11:$L$25,3),VLOOKUP(I55,Feuil1!$G$11:$L$25,2)))))))","v":"FC1 58"},78.432105035288586,null," ",{"$f":"T55-HLOOKUP(X55,Feuil1!$C$1:$BL$10,2,FALSE)","v":15},{"$f":"T55-HLOOKUP(X55,Feuil1!$C$1:$BL$10,3,FALSE)","v":5},{"$f":"T55-HLOOKUP(X55,Feuil1!$C$1:$BL$10,4,FALSE)","v":-5},{"$f":"T55-HLOOKUP(X55,Feuil1!$C$1:$BL$10,5,FALSE)","v":-15},{"$f":"T55-HLOOKUP(X55,Feuil1!$C$1:$BL$10,6,FALSE)","v":-25},{"$f":"T55-HLOOKUP(X55,Feuil1!$C$1:$BL$10,7,FALSE)","v":-35},{"$f":"T55-HLOOKUP(X55,Feuil1!$C$1:$BL$10,8,FALSE)","v":-45},{"$f":"T55-HLOOKUP(X55,Feuil1!$C$1:$BL$10,9,FALSE)","v":-60},{"$f":"T55-HLOOKUP(X55,Feuil1!$C$1:$BL$10,10,FALSE)","v":-945},null,null,null,null,null,null,"DEP +"]
["F","SEST","CAZ",9,385819,"POIRSON","Alicia",2000,57.3,"ASLDD TOULON","F",22,24,-26,24,-28,28,30,30,54,-60.599999999999994,"DEP +",4,{"$f":"IF(I56=\"\",\"\",IF(A56=\"H\",IF(OR(H56=\"SEN\",H56<1995),VLOOKUP(I56,Feuil1!$A$11:$G$29,6),IF(AND(H56>1994,H56<1998),VLOOKUP(I56,Feuil1!$A$11:$G$29,5),IF(AND(H56>1997,H56<2000),VLOOKUP(I56,Feuil1!$A$11:$G$29,4),IF(AND(H56>1999,H56<2002),VLOOKUP(I56,Feuil1!$A$11:$G$29,3),VLOOKUP(I56,Feuil1!$A$11:$G$29,2))))),IF(OR(H56=\"SEN\",H56<1995),VLOOKUP(I56,Feuil1!$G$11:$L$25,6),IF(AND(H56>1994,H56<1998),VLOOKUP(I56,Feuil1!$G$11:$L$25,5),IF(AND(H56>1997,H56<2000),VLOOKUP(I56,Feuil1!$G$11:$L$25,4),IF(AND(H56>1999,H56<2002),VLOOKUP(I56,Feuil1!$G$11:$L$25,3),VLOOKUP(I56,Feuil1!$G$11:$L$25,2)))))))","v":"FC1 58"},76.706823573022675,null," ",{"$f":"T56-HLOOKUP(X56,Feuil1!$C$1:$BL$10,2,FALSE)","v":14},{"$f":"T56-HLOOKUP(X56,Feuil1!$C$1:$BL$10,3,FALSE)","v":4},{"$f":"T56-HLOOKUP(X56,Feuil1!$C$1:$BL$10,4,FALSE)","v":-6},{"$f":"T56-HLOOKUP(X56,Feuil1!$C$1:$BL$10,5,FALSE)","v":-16},{"$f":"T56-HLOOKUP(X56,Feuil1!$C$1:$BL$10,6,FALSE)","v":-26},{"$f":"T56-HLOOKUP(X56,Feuil1!$C$1:$BL$10,7,FALSE)","v":-36},{"$f":"T56-HLOOKUP(X56,Feuil1!$C$1:$BL$10,8,FALSE)","v":-46},{"$f":"T56-HLOOKUP(X56,Feuil1!$C$1:$BL$10,9,FALSE)","v":-61},{"$f":"T56-HLOOKUP(X56,Feuil1!$C$1:$BL$10,10,FALSE)","v":-946},null,null,null,null,null,null,"DEP +"]
["F","CO","BNO",10,395060,"SOREAU","ALIA",2001,54.6,"Caen CHM","F",16,18,20,20,26,-30,30,30,50,-59.2,"DEP +",0,{"$f":"IF(I57=\"\",\"\",IF(A57=\"H\",IF(OR(H57=\"SEN\",H57<1995),VLOOKUP(I57,Feuil1!$A$11:$G$29,6),IF(AND(H57>1994,H57<1998),VLOOKUP(I57,Feuil1!$A$11:$G$29,5),IF(AND(H57>1997,H57<2000),VLOOKUP(I57,Feuil1!$A$11:$G$29,4),IF(AND(H57>1999,H57<2002),VLOOKUP(I57,Feuil1!$A$11:$G$29,3),VLOOKUP(I57,Feuil1!$A$11:$G$29,2))))),IF(OR(H57=\"SEN\",H57<1995),VLOOKUP(I57,Feuil1!$G$11:$L$25,6),IF(AND(H57>1994,H57<1998),VLOOKUP(I57,Feuil1!$G$11:$L$25,5),IF(AND(H57>1997,H57<2000),VLOOKUP(I57,Feuil1!$G$11:$L$25,4),IF(AND(H57>1999,H57<2002),VLOOKUP(I57,Feuil1!$G$11:$L$25,3),VLOOKUP(I57,Feuil1!$G$11:$L$25,2)))))))","v":"FC1 58"},73.673192844005271,null," ",{"$f":"T57-HLOOKUP(X57,Feuil1!$C$1:$BL$10,2,FALSE)","v":10},{"$f":"T57-HLOOKUP(X57,Feuil1!$C$1:$BL$10,3,FALSE)","v":0},{"$f":"T57-HLOOKUP(X57,Feuil1!$C$1:$BL$10,4,FALSE)","v":-10},{"$f":"T57-HLOOKUP(X57,Feuil1!$C$1:$BL$10,5,FALSE)","v":-20},{"$f":"T57-HLOOKUP(X57,Feuil1!$C$1:$BL$10,6,FALSE)","v":-30},{"$f":"T57-HLOOKUP(X57,Feuil1!$C$1:$BL$10,7,FALSE)","v":-40},{"$f":"T57-HLOOKUP(X57,Feuil1!$C$1:$BL$10,8,FALSE)","v":-50},{"$f":"T57-HLOOKUP(X57,Feuil1!$C$1:$BL$10,9,FALSE)","v":-65},{"$f":"T57-HLOOKUP(X57,Feuil1!$C$1:$BL$10,10,FALSE)","v":-950},null,null,null,null,null,null,"DEP +"]
["F","CO","BRE",11,381211,"VAN KERKHOVE","Charline",2001,57.8,"AL Quimper","F",15,18,20,20,20,-23,23,23,43,-72.599999999999994,"DEB ",3,{"$f":"IF(I58=\"\",\"\",IF(A58=\"H\",IF(OR(H58=\"SEN\",H58<1995),VLOOKUP(I58,Feuil1!$A$11:$G$29,6),IF(AND(H58>1994,H58<1998),VLOOKUP(I58,Feuil1!$A$11:$G$29,5),IF(AND(H58>1997,H58<2000),VLOOKUP(I58,Feuil1!$A$11:$G$29,4),IF(AND(H58>1999,H58<2002),VLOOKUP(I58,Feuil1!$A$11:$G$29,3),VLOOKUP(I58,Feuil1!$A$11:$G$29,2))))),IF(OR(H58=\"SEN\",H58<1995),VLOOKUP(I58,Feuil1!$G$11:$L$25,6),IF(AND(H58>1994,H58<1998),VLOOKUP(I58,Feuil1!$G$11:$L$25,5),IF(AND(H58>1997,H58<2000),VLOOKUP(I58,Feuil1!$G$11:$L$25,4),IF(AND(H58>1999,H58<2002),VLOOKUP(I58,Feuil1!$G$11:$L$25,3),VLOOKUP(I58,Feuil1!$G$11:$L$25,2)))))))","v":"FC1 58"},60.691871116673781,null," ",{"$f":"T58-HLOOKUP(X58,Feuil1!$C$1:$BL$10,2,FALSE)","v":3},{"$f":"T58-HLOOKUP(X58,Feuil1!$C$1:$BL$10,3,FALSE)","v":-7},{"$f":"T58-HLOOKUP(X58,Feuil1!$C$1:$BL$10,4,FALSE)","v":-17},{"$f":"T58-HLOOKUP(X58,Feuil1!$C$1:$BL$10,5,FALSE)","v":-27},{"$f":"T58-HLOOKUP(X58,Feuil1!$C$1:$BL$10,6,FALSE)","v":-37},{"$f":"T58-HLOOKUP(X58,Feuil1!$C$1:$BL$10,7,FALSE)","v":-47},{"$f":"T58-HLOOKUP(X58,Feuil1!$C$1:$BL$10,8,FALSE)","v":-57},{"$f":"T58-HLOOKUP(X58,Feuil1!$C$1:$BL$10,9,FALSE)","v":-72},{"$f":"T58-HLOOKUP(X58,Feuil1!$C$1:$BL$10,10,FALSE)","v":-957},null,null,null,null,null,null,"DEB "]
[null,null,null,null,null,null,null,null,null,null,null,null,null,null,null,null,null,null,null,null,null,null,null,null,null,null," ",{"$f":"T59-HLOOKUP(X59,[1]Feuil1!$C$1:$BL$10,2,FALSE)","v":{"$error":"#N/A"}},{"$f":"T59-HLOOKUP(X59,[1]Feuil1!$C$1:$BL$10,3,FALSE)","v":{"$error":"#N/A"}},{"$f":"T59-HLOOKUP(X59,[1]Feuil1!$C$1:$BL$10,4,FALSE)","v":{"$error":"#N/A"}},{"$f":"T59-HLOOKUP(X59,[1]Feuil1!$C$1:$BL$10,5,FALSE)","v":{"$error":"#N/A"}},{"$f":"T59-HLOOKUP(X59,[1]Feuil1!$C$1:$BL$10,6,FALSE)","v":{"$error":"#N/A"}},{"$f":"T59-HLOOKUP(X59,[1]Feuil1!$C$1:$BL$10,7,FALSE)","v":{"$error":"#N/A"}},{"$f":"T59-HLOOKUP(X59,[1]Feuil1!$C$1:$BL$10,8,FALSE)","v":{"$error":"#N/A"}},{"$f":"T59-HLOOKUP(X59,[1]Feuil1!$C$1:$BL$10,9,FALSE)","v":{"$error":"#N/A"}},{"$f":"T59-HLOOKUP(X59,[1]Feuil1!$C$1:$BL$10,10,FALSE)","v":{"$error":"#N/A"}},null,null,null,null,null,null,{"$f":"IF(AJ59>=0,$AJ$4,IF(AI59>=0,$AI$4,IF(AH59>=0,$AH$4,IF(AG59>=0,$AG$4,IF(AF59>=0,$AF$4,IF(AE59>=0,$AE$4,IF(AD59>=0,$AD$4,IF(AC59>=0,$AC$4,$AB$4))))))))","v":{"$error":"#N/A"}}]
["F","NE","BOU",1,363267,"GRAILLOT","Vicky",2000,59.4,"HMD B21","F",50,54,57,{"$f":"IF(H60=\"\",\"\",IF(MAXA(L60:N60)<=0,0,MAXA(L60:N60)))","v":57},62,66,70,{"$f":"IF(H60=\"\",\"\",IF(MAXA(P60:R60)<=0,0,MAXA(P60:R60)))","v":70},{"$f":"IF(H60=\"\",\"\",IF(OR(O60=0,S60=0),0,O60+S60))","v":127},{"$f":"T60-I60*2","v":8.2000000000000028},{"$f":"IF(H60=\"\",\"\",AQ60)","v":"INTA +"},{"$f":"IF(AJ60>=0,AJ60,IF(AI60>=0,AI60,IF(AH60>=0,AH60,IF(AG60>=0,AG60,IF(AF60>=0,AF60,IF(AE60>=0,AE60,IF(AD60>=0,AD60,IF(AC60>=0,AC60,AB60))))))))","v":2},{"$f":"IF(I60=\"\",\"\",IF(A60=\"H\",IF(OR(H60=\"SEN\",H60<1995),VLOOKUP(I60,Feuil1!$A$11:$G$29,6),IF(AND(H60>1994,H60<1998),VLOOKUP(I60,Feuil1!$A$11:$G$29,5),IF(AND(H60>1997,H60<2000),VLOOKUP(I60,Feuil1!$A$11:$G$29,4),IF(AND(H60>1999,H60<2002),VLOOKUP(I60,Feuil1!$A$11:$G$29,3),VLOOKUP(I60,Feuil1!$A$11:$G$29,2))))),IF(OR(H60=\"SEN\",H60<1995),VLOOKUP(I60,Feuil1!$G$11:$L$25,6),IF(AND(H60>1994,H60<1998),VLOOKUP(I60,Feuil1!$G$11:$L$25,5),IF(AND(H60>1997,H60<2000),VLOOKUP(I60,Feuil1!$G$11:$L$25,4),IF(AND(H60>1999,H60<2002),VLOOKUP(I60,Feuil1!$G$11:$L$25,3),VLOOKUP(I60,Feuil1!$G$11:$L$25,2)))))))","v":"FC1 63"},{"$f":"IF(I60=\"\",\"\",IF(A60=\"H\",10^(0.794358141*LOG(I60/174.393)^2)*T60,IF(A60=\"F\",10^(0.89726074*LOG(I60/148.026)^2)*T60,\"\")))","v":175.75220748317915},null," ",{"$f":"T60-HLOOKUP(X60,Feuil1!$C$1:$BL$10,2,FALSE)","v":82},{"$f":"T60-HLOOKUP(X60,Feuil1!$C$1:$BL$10,3,FALSE)","v":72},{"$f":"T60-HLOOKUP(X60,Feuil1!$C$1:$BL$10,4,FALSE)","v":62},{"$f":"T60-HLOOKUP(X60,Feuil1!$C$1:$BL$10,5,FALSE)","v":52},{"$f":"T60-HLOOKUP(X60,Feuil1!$C$1:$BL$10,6,FALSE)","v":42},{"$f":"T60-HLOOKUP(X60,Feuil1!$C$1:$BL$10,7,FALSE)","v":32},{"$f":"T60-HLOOKUP(X60,Feuil1!$C$1:$BL$10,8,FALSE)","v":17},{"$f":"T60-HLOOKUP(X60,Feuil1!$C$1:$BL$10,9,FALSE)","v":2},{"$f":"T60-HLOOKUP(X60,Feuil1!$C$1:$BL$10,10,FALSE)","v":-873},null,null,null,null,null,null,{"$f":"IF(AJ60>=0,$AJ$4,IF(AI60>=0,$AI$4,IF(AH60>=0,$AH$4,IF(AG60>=0,$AG$4,IF(AF60>=0,$AF$4,IF(AE60>=0,$AE$4,IF(AD60>=0,$AD$4,IF(AC60>=0,$AC$4,$AB$4))))))))","v":"INTA +"}]
["F","CO","BRE",2,394300,"RUMEN","Camille",2001,62.15,"AL Quimper","F",44,47,50,50,47,-50,52,52,102,-22.299999999999997,"NAT +",7,{"$f":"IF(I61=\"\",\"\",IF(A61=\"H\",IF(OR(H61=\"SEN\",H61<1995),VLOOKUP(I61,Feuil1!$A$11:$G$29,6),IF(AND(H61>1994,H61<1998),VLOOKUP(I61,Feuil1!$A$11:$G$29,5),IF(AND(H61>1997,H61<2000),VLOOKUP(I61,Feuil1!$A$11:$G$29,4),IF(AND(H61>1999,H61<2002),VLOOKUP(I61,Feuil1!$A$11:$G$29,3),VLOOKUP(I61,Feuil1!$A$11:$G$29,2))))),IF(OR(H61=\"SEN\",H61<1995),VLOOKUP(I61,Feuil1!$G$11:$L$25,6),IF(AND(H61>1994,H61<1998),VLOOKUP(I61,Feuil1!$G$11:$L$25,5),IF(AND(H61>1997,H61<2000),VLOOKUP(I61,Feuil1!$G$11:$L$25,4),IF(AND(H61>1999,H61<2002),VLOOKUP(I61,Feuil1!$G$11:$L$25,3),VLOOKUP(I61,Feuil1!$G$11:$L$25,2)))))))","v":"FC1 63"},136.79089229105733,null," ",{"$f":"T61-HLOOKUP(X61,Feuil1!$C$1:$BL$10,2,FALSE)","v":57},{"$f":"T61-HLOOKUP(X61,Feuil1!$C$1:$BL$10,3,FALSE)","v":47},{"$f":"T61-HLOOKUP(X61,Feuil1!$C$1:$BL$10,4,FALSE)","v":37},{"$f":"T61-HLOOKUP(X61,Feuil1!$C$1:$BL$10,5,FALSE)","v":27},{"$f":"T61-HLOOKUP(X61,Feuil1!$C$1:$BL$10,6,FALSE)","v":17},{"$f":"T61-HLOOKUP(X61,Feuil1!$C$1:$BL$10,7,FALSE)","v":7},{"$f":"T61-HLOOKUP(X61,Feuil1!$C$1:$BL$10,8,FALSE)","v":-8},{"$f":"T61-HLOOKUP(X61,Feuil1!$C$1:$BL$10,9,FALSE)","v":-23},{"$f":"T61-HLOOKUP(X61,Feuil1!$C$1:$BL$10,10,FALSE)","v":-898},null,null,null,null,null,null,"NAT +"]
["F","NORD","NPC",3,359845,"PARANTHOEN","Kimberley",2000,60.16,"C.A.ROSENDAEL","F",38,41,43,43,50,54,57,57,100,-20.319999999999993,"NAT +",5,{"$f":"IF(I62=\"\",\"\",IF(A62=\"H\",IF(OR(H62=\"SEN\",H62<1995),VLOOKUP(I62,Feuil1!$A$11:$G$29,6),IF(AND(H62>1994,H62<1998),VLOOKUP(I62,Feuil1!$A$11:$G$29,5),IF(AND(H62>1997,H62<2000),VLOOKUP(I62,Feuil1!$A$11:$G$29,4),IF(AND(H62>1999,H62<2002),VLOOKUP(I62,Feuil1!$A$11:$G$29,3),VLOOKUP(I62,Feuil1!$A$11:$G$29,2))))),IF(OR(H62=\"SEN\",H62<1995),VLOOKUP(I62,Feuil1!$G$11:$L$25,6),IF(AND(H62>1994,H62<1998),VLOOKUP(I62,Feuil1!$G$11:$L$25,5),IF(AND(H62>1997,H62<2000),VLOOKUP(I62,Feuil1!$G$11:$L$25,4),IF(AND(H62>1999,H62<2002),VLOOKUP(I62,Feuil1!$G$11:$L$25,3),VLOOKUP(I62,Feuil1!$G$11:$L$25,2)))))))","v":"FC1 63"},137.14983621328903,null," ",{"$f":"T62-HLOOKUP(X62,Feuil1!$C$1:$BL$10,2,FALSE)","v":55},{"$f":"T62-HLOOKUP(X62,Feuil1!$C$1:$BL$10,3,FALSE)","v":45},{"$f":"T62-HLOOKUP(X62,Feuil1!$C$1:$BL$10,4,FALSE)","v":35},{"$f":"T62-HLOOKUP(X62,Feuil1!$C$1:$BL$10,5,FALSE)","v":25},{"$f":"T62-HLOOKUP(X62,Feuil1!$C$1:$BL$10,6,FALSE)","v":15},{"$f":"T62-HLOOKUP(X62,Feuil1!$C$1:$BL$10,7,FALSE)","v":5},{"$f":"T62-HLOOKUP(X62,Feuil1!$C$1:$BL$10,8,FALSE)","v":-10},{"$f":"T62-HLOOKUP(X62,Feuil1!$C$1:$BL$10,9,FALSE)","v":-25},{"$f":"T62-HLOOKUP(X62,Feuil1!$C$1:$BL$10,10,FALSE)","v":-900},null,null,null,null,null,null,"NAT +"]
["F","SO","AQU",4,277040,"GIRAUD","Hectorine",2000,58.1,"ASOA Aquitaine","F",35,37,-39,37,47,50,-52,50,87,-29.200000000000003,"FED +",2,{"$f":"IF(I63=\"\",\"\",IF(A63=\"H\",IF(OR(H63=\"SEN\",H63<1995),VLOOKUP(I63,Feuil1!$A$11:$G$29,6),IF(AND(H63>1994,H63<1998),VLOOKUP(I63,Feuil1!$A$11:$G$29,5),IF(AND(H63>1997,H63<2000),VLOOKUP(I63,Feuil1!$A$11:$G$29,4),IF(AND(H63>1999,H63<2002),VLOOKUP(I63,Feuil1!$A$11:$G$29,3),VLOOKUP(I63,Feuil1!$A$11:$G$29,2))))),IF(OR(H63=\"SEN\",H63<1995),VLOOKUP(I63,Feuil1!$G$11:$L$25,6),IF(AND(H63>1994,H63<1998),VLOOKUP(I63,Feuil1!$G$11:$L$25,5),IF(AND(H63>1997,H63<2000),VLOOKUP(I63,Feuil1!$G$11:$L$25,4),IF(AND(H63>1999,H63<2002),VLOOKUP(I63,Feuil1!$G$11:$L$25,3),VLOOKUP(I63,Feuil1!$G$11:$L$25,2)))))))","v":"FC1 63"},122.33143858535939,null," ",{"$f":"T63-HLOOKUP(X63,Feuil1!$C$1:$BL$10,2,FALSE)","v":42},{"$f":"T63-HLOOKUP(X63,Feuil1!$C$1:$BL$10,3,FALSE)","v":32},{"$f":"T63-HLOOKUP(X63,Feuil1!$C$1:$BL$10,4,FALSE)","v":22},{"$f":"T63-HLOOKUP(X63,Feuil1!$C$1:$BL$10,5,FALSE)","v":12},{"$f":"T63-HLOOKUP(X63,Feuil1!$C$1:$BL$10,6,FALSE)","v":2},{"$f":"T63-HLOOKUP(X63,Feuil1!$C$1:$BL$10,7,FALSE)","v":-8},{"$f":"T63-HLOOKUP(X63,Feuil1!$C$1:$BL$10,8,FALSE)","v":-23},{"$f":"T63-HLOOKUP(X63,Feuil1!$C$1:$BL$10,9,FALSE)","v":-38},{"$f":"T63-HLOOKUP(X63,Feuil1!$C$1:$BL$10,10,FALSE)","v":-913},null,null,null,null,null,null,"FED +"]
["F","SEST","AUV",5,332457,"FILIQUIER","Léa",2001,59.7,"CHM AURILLAC","F",25,27,-30,27,35,40,42,42,69,-50.400000000000006,"REG +",4,{"$f":"IF(I64=\"\",\"\",IF(A64=\"H\",IF(OR(H64=\"SEN\",H64<1995),VLOOKUP(I64,Feuil1!$A$11:$G$29,6),IF(AND(H64>1994,H64<1998),VLOOKUP(I64,Feuil1!$A$11:$G$29,5),IF(AND(H64>1997,H64<2000),VLOOKUP(I64,Feuil1!$A$11:$G$29,4),IF(AND(H64>1999,H64<2002),VLOOKUP(I64,Feuil1!$A$11:$G$29,3),VLOOKUP(I64,Feuil1!$A$11:$G$29,2))))),IF(OR(H64=\"SEN\",H64<1995),VLOOKUP(I64,Feuil1!$G$11:$L$25,6),IF(AND(H64>1994,H64<1998),VLOOKUP(I64,Feuil1!$G$11:$L$25,5),IF(AND(H64>1997,H64<2000),VLOOKUP(I64,Feuil1!$G$11:$L$25,4),IF(AND(H64>1999,H64<2002),VLOOKUP(I64,Feuil1!$G$11:$L$25,3),VLOOKUP(I64,Feuil1!$G$11:$L$25,2)))))))","v":"FC1 63"},95.146651600508974,null," ",{"$f":"T64-HLOOKUP(X64,Feuil1!$C$1:$BL$10,2,FALSE)","v":24},{"$f":"T64-HLOOKUP(X64,Feuil1!$C$1:$BL$10,3,FALSE)","v":14},{"$f":"T64-HLOOKUP(X64,Feuil1!$C$1:$BL$10,4,FALSE)","v":4},{"$f":"T64-HLOOKUP(X64,Feuil1!$C$1:$BL$10,5,FALSE)","v":-6},{"$f":"T64-HLOOKUP(X64,Feuil1!$C$1:$BL$10,6,FALSE)","v":-16},{"$f":"T64-HLOOKUP(X64,Feuil1!$C$1:$BL$10,7,FALSE)","v":-26},{"$f":"T64-HLOOKUP(X64,Feuil1!$C$1:$BL$10,8,FALSE)","v":-41},{"$f":"T64-HLOOKUP(X64,Feuil1!$C$1:$BL$10,9,FALSE)","v":-56},{"$f":"T64-HLOOKUP(X64,Feuil1!$C$1:$BL$10,10,FALSE)","v":-931},null,null,null,null,null,null,"REG +"]
["F","CO","BRE",6,381211,"VAN KERKHOVE","Charline",2001,60.9,"AL Quimper","F",25,28,31,31,-34,-34,34,34,65,-56.8,"REG +",0,{"$f":"IF(I65=\"\",\"\",IF(A65=\"H\",IF(OR(H65=\"SEN\",H65<1995),VLOOKUP(I65,Feuil1!$A$11:$G$29,6),IF(AND(H65>1994,H65<1998),VLOOKUP(I65,Feuil1!$A$11:$G$29,5),IF(AND(H65>1997,H65<2000),VLOOKUP(I65,Feuil1!$A$11:$G$29,4),IF(AND(H65>1999,H65<2002),VLOOKUP(I65,Feuil1!$A$11:$G$29,3),VLOOKUP(I65,Feuil1!$A$11:$G$29,2))))),IF(OR(H65=\"SEN\",H65<1995),VLOOKUP(I65,Feuil1!$G$11:$L$25,6),IF(AND(H65>1994,H65<1998),VLOOKUP(I65,Feuil1!$G$11:$L$25,5),IF(AND(H65>1997,H65<2000),VLOOKUP(I65,Feuil1!$G$11:$L$25,4),IF(AND(H65>1999,H65<2002),VLOOKUP(I65,Feuil1!$G$11:$L$25,3),VLOOKUP(I65,Feuil1!$G$11:$L$25,2)))))))","v":"FC1 63"},88.39103688568207,null," ",{"$f":"T65-HLOOKUP(X65,Feuil1!$C$1:$BL$10,2,FALSE)","v":20},{"$f":"T65-HLOOKUP(X65,Feuil1!$C$1:$BL$10,3,FALSE)","v":10},{"$f":"T65-HLOOKUP(X65,Feuil1!$C$1:$BL$10,4,FALSE)","v":0},{"$f":"T65-HLOOKUP(X65,Feuil1!$C$1:$BL$10,5,FALSE)","v":-10},{"$f":"T65-HLOOKUP(X65,Feuil1!$C$1:$BL$10,6,FALSE)","v":-20},{"$f":"T65-HLOOKUP(X65,Feuil1!$C$1:$BL$10,7,FALSE)","v":-30},{"$f":"T65-HLOOKUP(X65,Feuil1!$C$1:$BL$10,8,FALSE)","v":-45},{"$f":"T65-HLOOKUP(X65,Feuil1!$C$1:$BL$10,9,FALSE)","v":-60},{"$f":"T65-HLOOKUP(X65,Feuil1!$C$1:$BL$10,10,FALSE)","v":-935},null,null,null,null,null,null,"REG +"]
["F","CO","BRE",7,378676,"JAFFRY","Lauréline",2001,62.8,"CHM Plouhinec PR","F",22,-25,-25,22,28,30,32,32,54,-71.599999999999994,"DEB ",9,{"$f":"IF(I66=\"\",\"\",IF(A66=\"H\",IF(OR(H66=\"SEN\",H66<1995),VLOOKUP(I66,Feuil1!$A$11:$G$29,6),IF(AND(H66>1994,H66<1998),VLOOKUP(I66,Feuil1!$A$11:$G$29,5),IF(AND(H66>1997,H66<2000),VLOOKUP(I66,Feuil1!$A$11:$G$29,4),IF(AND(H66>1999,H66<2002),VLOOKUP(I66,Feuil1!$A$11:$G$29,3),VLOOKUP(I66,Feuil1!$A$11:$G$29,2))))),IF(OR(H66=\"SEN\",H66<1995),VLOOKUP(I66,Feuil1!$G$11:$L$25,6),IF(AND(H66>1994,H66<1998),VLOOKUP(I66,Feuil1!$G$11:$L$25,5),IF(AND(H66>1997,H66<2000),VLOOKUP(I66,Feuil1!$G$11:$L$25,4),IF(AND(H66>1999,H66<2002),VLOOKUP(I66,Feuil1!$G$11:$L$25,3),VLOOKUP(I66,Feuil1!$G$11:$L$25,2)))))))","v":"FC1 63"},71.913925729833736,null," ",{"$f":"T66-HLOOKUP(X66,Feuil1!$C$1:$BL$10,2,FALSE)","v":9},{"$f":"T66-HLOOKUP(X66,Feuil1!$C$1:$BL$10,3,FALSE)","v":-1},{"$f":"T66-HLOOKUP(X66,Feuil1!$C$1:$BL$10,4,FALSE)","v":-11},{"$f":"T66-HLOOKUP(X66,Feuil1!$C$1:$BL$10,5,FALSE)","v":-21},{"$f":"T66-HLOOKUP(X66,Feuil1!$C$1:$BL$10,6,FALSE)","v":-31},{"$f":"T66-HLOOKUP(X66,Feuil1!$C$1:$BL$10,7,FALSE)","v":-41},{"$f":"T66-HLOOKUP(X66,Feuil1!$C$1:$BL$10,8,FALSE)","v":-56},{"$f":"T66-HLOOKUP(X66,Feuil1!$C$1:$BL$10,9,FALSE)","v":-71},{"$f":"T66-HLOOKUP(X66,Feuil1!$C$1:$BL$10,10,FALSE)","v":-946},null,null,null,null,null,null,"DEB "]
["F","SEST","CAZ",8,335291,"ROGUET","Cassandra",2001,58.3,"ES VILLENEUVE LOUBET","F",22,24,-26,24,26,28,-30,28,52,-64.599999999999994,"DEB ",7,{"$f":"IF(I67=\"\",\"\",IF(A67=\"H\",IF(OR(H67=\"SEN\",H67<1995),VLOOKUP(I67,Feuil1!$A$11:$G$29,6),IF(AND(H67>1994,H67<1998),VLOOKUP(I67,Feuil1!$A$11:$G$29,5),IF(AND(H67>1997,H67<2000),VLOOKUP(I67,Feuil1!$A$11:$G$29,4),IF(AND(H67>1999,H67<2002),VLOOKUP(I67,Feuil1!$A$11:$G$29,3),VLOOKUP(I67,Feuil1!$A$11:$G$29,2))))),IF(OR(H67=\"SEN\",H67<1995),VLOOKUP(I67,Feuil1!$G$11:$L$25,6),IF(AND(H67>1994,H67<1998),VLOOKUP(I67,Feuil1!$G$11:$L$25,5),IF(AND(H67>1997,H67<2000),VLOOKUP(I67,Feuil1!$G$11:$L$25,4),IF(AND(H67>1999,H67<2002),VLOOKUP(I67,Feuil1!$G$11:$L$25,3),VLOOKUP(I67,Feuil1!$G$11:$L$25,2)))))))","v":"FC1 63"},72.935068677745562,null," ",{"$f":"T67-HLOOKUP(X67,Feuil1!$C$1:$BL$10,2,FALSE)","v":7},{"$f":"T67-HLOOKUP(X67,Feuil1!$C$1:$BL$10,3,FALSE)","v":-3},{"$f":"T67-HLOOKUP(X67,Feuil1!$C$1:$BL$10,4,FALSE)","v":-13},{"$f":"T67-HLOOKUP(X67,Feuil1!$C$1:$BL$10,5,FALSE)","v":-23},{"$f":"T67-HLOOKUP(X67,Feuil1!$C$1:$BL$10,6,FALSE)","v":-33},{"$f":"T67-HLOOKUP(X67,Feuil1!$C$1:$BL$10,7,FALSE)","v":-43},{"$f":"T67-HLOOKUP(X67,Feuil1!$C$1:$BL$10,8,FALSE)","v":-58},{"$f":"T67-HLOOKUP(X67,Feuil1!$C$1:$BL$10,9,FALSE)","v":-73},{"$f":"T67-HLOOKUP(X67,Feuil1!$C$1:$BL$10,10,FALSE)","v":-948},null,null,null,null,null,null,"DEB "]
[null,null,null,null,null,null,null,null,null,null,null,null,null,null,null,null,null,null,null,null,null,null,null,null,null,null," ",{"$f":"T68-HLOOKUP(X68,[1]Feuil1!$C$1:$BL$10,2,FALSE)","v":{"$error":"#N/A"}},{"$f":"T68-HLOOKUP(X68,[1]Feuil1!$C$1:$BL$10,3,FALSE)","v":{"$error":"#N/A"}},{"$f":"T68-HLOOKUP(X68,[1]Feuil1!$C$1:$BL$10,4,FALSE)","v":{"$error":"#N/A"}},{"$f":"T68-HLOOKUP(X68,[1]Feuil1!$C$1:$BL$10,5,FALSE)","v":{"$error":"#N/A"}},{"$f":"T68-HLOOKUP(X68,[1]Feuil1!$C$1:$BL$10,6,FALSE)","v":{"$error":"#N/A"}},{"$f":"T68-HLOOKUP(X68,[1]Feuil1!$C$1:$BL$10,7,FALSE)","v":{"$error":"#N/A"}},{"$f":"T68-HLOOKUP(X68,[1]Feuil1!$C$1:$BL$10,8,FALSE)","v":{"$error":"#N/A"}},{"$f":"T68-HLOOKUP(X68,[1]Feuil1!$C$1:$BL$10,9,FALSE)","v":{"$error":"#N/A"}},{"$f":"T68-HLOOKUP(X68,[1]Feuil1!$C$1:$BL$10,10,FALSE)","v":{"$error":"#N/A"}},null,null,null,null,null,null,{"$error":"#N/A"}]
["F","NORD","NPC",1,300212,"GUILLEMIN","Elise",2000,67.540000000000006,"C.A.ROSENDAEL","F",37,39,-41,{"$f":"IF(H69=\"\",\"\",IF(MAXA(L69:N69)<=0,0,MAXA(L69:N69)))","v":39},52,55,57,{"$f":"IF(H69=\"\",\"\",IF(MAXA(P69:R69)<=0,0,MAXA(P69:R69)))","v":57},{"$f":"IF(H69=\"\",\"\",IF(OR(O69=0,S69=0),0,O69+S69))","v":96},{"$f":"T69-I69*2","v":-39.080000000000013},{"$f":"IF(H69=\"\",\"\",AQ69)","v":"FED +"},{"$f":"IF(AJ69>=0,AJ69,IF(AI69>=0,AI69,IF(AH69>=0,AH69,IF(AG69>=0,AG69,IF(AF69>=0,AF69,IF(AE69>=0,AE69,IF(AD69>=0,AD69,IF(AC69>=0,AC69,AB69))))))))","v":6},{"$f":"IF(I69=\"\",\"\",IF(A69=\"H\",IF(OR(H69=\"SEN\",H69<1995),VLOOKUP(I69,Feuil1!$A$11:$G$29,6),IF(AND(H69>1994,H69<1998),VLOOKUP(I69,Feuil1!$A$11:$G$29,5),IF(AND(H69>1997,H69<2000),VLOOKUP(I69,Feuil1!$A$11:$G$29,4),IF(AND(H69>1999,H69<2002),VLOOKUP(I69,Feuil1!$A$11:$G$29,3),VLOOKUP(I69,Feuil1!$A$11:$G$29,2))))),IF(OR(H69=\"SEN\",H69<1995),VLOOKUP(I69,Feuil1!$G$11:$L$25,6),IF(AND(H69>1994,H69<1998),VLOOKUP(I69,Feuil1!$G$11:$L$25,5),IF(AND(H69>1997,H69<2000),VLOOKUP(I69,Feuil1!$G$11:$L$25,4),IF(AND(H69>1999,H69<2002),VLOOKUP(I69,Feuil1!$G$11:$L$25,3),VLOOKUP(I69,Feuil1!$G$11:$L$25,2)))))))","v":"FC1 69"},{"$f":"IF(I69=\"\",\"\",IF(A69=\"H\",10^(0.794358141*LOG(I69/174.393)^2)*T69,IF(A69=\"F\",10^(0.89726074*LOG(I69/148.026)^2)*T69,\"\")))","v":122.03071637613849},null," ",{"$f":"T69-HLOOKUP(X69,Feuil1!$C$1:$BL$10,2,FALSE)","v":46},{"$f":"T69-HLOOKUP(X69,Feuil1!$C$1:$BL$10,3,FALSE)","v":36},{"$f":"T69-HLOOKUP(X69,Feuil1!$C$1:$BL$10,4,FALSE)","v":26},{"$f":"T69-HLOOKUP(X69,Feuil1!$C$1:$BL$10,5,FALSE)","v":16},{"$f":"T69-HLOOKUP(X69,Feuil1!$C$1:$BL$10,6,FALSE)","v":6},{"$f":"T69-HLOOKUP(X69,Feuil1!$C$1:$BL$10,7,FALSE)","v":-9},{"$f":"T69-HLOOKUP(X69,Feuil1!$C$1:$BL$10,8,FALSE)","v":-24},{"$f":"T69-HLOOKUP(X69,Feuil1!$C$1:$BL$10,9,FALSE)","v":-39},{"$f":"T69-HLOOKUP(X69,Feuil1!$C$1:$BL$10,10,FALSE)","v":-904},null,null,null,null,null,null,{"$f":"IF(AJ69>=0,$AJ$4,IF(AI69>=0,$AI$4,IF(AH69>=0,$AH$4,IF(AG69>=0,$AG$4,IF(AF69>=0,$AF$4,IF(AE69>=0,$AE$4,IF(AD69>=0,$AD$4,IF(AC69>=0,$AC$4,$AB$4))))))))","v":"FED +"}]
["F","SEST","CAZ",2,391830,"GIANNETTI","Margot",2000,68.150000000000006,"E.S. VILLENEUVE LOUBET","F",36,39,-41,{"$f":"IF(H70=\"\",\"\",IF(MAXA(L70:N70)<=0,0,MAXA(L70:N70)))","v":39},41,46,-51,{"$f":"IF(H70=\"\",\"\",IF(MAXA(P70:R70)<=0,0,MAXA(P70:R70)))","v":46},{"$f":"IF(H70=\"\",\"\",IF(OR(O70=0,S70=0),0,O70+S70))","v":85},{"$f":"T70-I70*2","v":-51.300000000000011},{"$f":"IF(H70=\"\",\"\",AQ70)","v":"IRG +"},{"$f":"IF(AJ70>=0,AJ70,IF(AI70>=0,AI70,IF(AH70>=0,AH70,IF(AG70>=0,AG70,IF(AF70>=0,AF70,IF(AE70>=0,AE70,IF(AD70>=0,AD70,IF(AC70>=0,AC70,AB70))))))))","v":5},{"$f":"IF(I70=\"\",\"\",IF(A70=\"H\",IF(OR(H70=\"SEN\",H70<1995),VLOOKUP(I70,Feuil1!$A$11:$G$29,6),IF(AND(H70>1994,H70<1998),VLOOKUP(I70,Feuil1!$A$11:$G$29,5),IF(AND(H70>1997,H70<2000),VLOOKUP(I70,Feuil1!$A$11:$G$29,4),IF(AND(H70>1999,H70<2002),VLOOKUP(I70,Feuil1!$A$11:$G$29,3),VLOOKUP(I70,Feuil1!$A$11:$G$29,2))))),IF(OR(H70=\"SEN\",H70<1995),VLOOKUP(I70,Feuil1!$G$11:$L$25,6),IF(AND(H70>1994,H70<1998),VLOOKUP(I70,Feuil1!$G$11:$L$25,5),IF(AND(H70>1997,H70<2000),VLOOKUP(I70,Feuil1!$G$11:$L$25,4),IF(AND(H70>1999,H70<2002),VLOOKUP(I70,Feuil1!$G$11:$L$25,3),VLOOKUP(I70,Feuil1!$G$11:$L$25,2)))))))","v":"FC1 69"},{"$f":"IF(I70=\"\",\"\",IF(A70=\"H\",10^(0.794358141*LOG(I70/174.393)^2)*T70,IF(A70=\"F\",10^(0.89726074*LOG(I70/148.026)^2)*T70,\"\")))","v":107.4589576654575},null," ",{"$f":"T70-HLOOKUP(X70,Feuil1!$C$1:$BL$10,2,FALSE)","v":35},{"$f":"T70-HLOOKUP(X70,Feuil1!$C$1:$BL$10,3,FALSE)","v":25},{"$f":"T70-HLOOKUP(X70,Feuil1!$C$1:$BL$10,4,FALSE)","v":15},{"$f":"T70-HLOOKUP(X70,Feuil1!$C$1:$BL$10,5,FALSE)","v":5},{"$f":"T70-HLOOKUP(X70,Feuil1!$C$1:$BL$10,6,FALSE)","v":-5},{"$f":"T70-HLOOKUP(X70,Feuil1!$C$1:$BL$10,7,FALSE)","v":-20},{"$f":"T70-HLOOKUP(X70,Feuil1!$C$1:$BL$10,8,FALSE)","v":-35},{"$f":"T70-HLOOKUP(X70,Feuil1!$C$1:$BL$10,9,FALSE)","v":-50},{"$f":"T70-HLOOKUP(X70,Feuil1!$C$1:$BL$10,10,FALSE)","v":-915},null,null,null,null,null,null,{"$f":"IF(AJ70>=0,$AJ$4,IF(AI70>=0,$AI$4,IF(AH70>=0,$AH$4,IF(AG70>=0,$AG$4,IF(AF70>=0,$AF$4,IF(AE70>=0,$AE$4,IF(AD70>=0,$AD$4,IF(AC70>=0,$AC$4,$AB$4))))))))","v":"IRG +"}]
["F","CO","BRE",3,378876,"JAFFRY","Laureline",2001,65.2,"CHM Plouhinec PR","F",25,28,-31,{"$f":"IF(H71=\"\",\"\",IF(MAXA(L71:N71)<=0,0,MAXA(L71:N71)))","v":28},35,38,-41,{"$f":"IF(H71=\"\",\"\",IF(MAXA(P71:R71)<=0,0,MAXA(P71:R71)))","v":38},{"$f":"IF(H71=\"\",\"\",IF(OR(O71=0,S71=0),0,O71+S71))","v":66},{"$f":"T71-I71*2","v":-64.400000000000006},{"$f":"IF(H71=\"\",\"\",AQ71)","v":"DEP +"},{"$f":"IF(AJ71>=0,AJ71,IF(AI71>=0,AI71,IF(AH71>=0,AH71,IF(AG71>=0,AG71,IF(AF71>=0,AF71,IF(AE71>=0,AE71,IF(AD71>=0,AD71,IF(AC71>=0,AC71,AB71))))))))","v":6},{"$f":"IF(I71=\"\",\"\",IF(A71=\"H\",IF(OR(H71=\"SEN\",H71<1995),VLOOKUP(I71,Feuil1!$A$11:$G$29,6),IF(AND(H71>1994,H71<1998),VLOOKUP(I71,Feuil1!$A$11:$G$29,5),IF(AND(H71>1997,H71<2000),VLOOKUP(I71,Feuil1!$A$11:$G$29,4),IF(AND(H71>1999,H71<2002),VLOOKUP(I71,Feuil1!$A$11:$G$29,3),VLOOKUP(I71,Feuil1!$A$11:$G$29,2))))),IF(OR(H71=\"SEN\",H71<1995),VLOOKUP(I71,Feuil1!$G$11:$L$25,6),IF(AND(H71>1994,H71<1998),VLOOKUP(I71,Feuil1!$G$11:$L$25,5),IF(AND(H71>1997,H71<2000),VLOOKUP(I71,Feuil1!$G$11:$L$25,4),IF(AND(H71>1999,H71<2002),VLOOKUP(I71,Feuil1!$G$11:$L$25,3),VLOOKUP(I71,Feuil1!$G$11:$L$25,2)))))))","v":"FC1 69"},{"$f":"IF(I71=\"\",\"\",IF(A71=\"H\",10^(0.794358141*LOG(I71/174.393)^2)*T71,IF(A71=\"F\",10^(0.89726074*LOG(I71/148.026)^2)*T71,\"\")))","v":85.766351798948108},null," ",{"$f":"T71-HLOOKUP(X71,Feuil1!$C$1:$BL$10,2,FALSE)","v":16},{"$f":"T71-HLOOKUP(X71,Feuil1!$C$1:$BL$10,3,FALSE)","v":6},{"$f":"T71-HLOOKUP(X71,Feuil1!$C$1:$BL$10,4,FALSE)","v":-4},{"$f":"T71-HLOOKUP(X71,Feuil1!$C$1:$BL$10,5,FALSE)","v":-14},{"$f":"T71-HLOOKUP(X71,Feuil1!$C$1:$BL$10,6,FALSE)","v":-24},{"$f":"T71-HLOOKUP(X71,Feuil1!$C$1:$BL$10,7,FALSE)","v":-39},{"$f":"T71-HLOOKUP(X71,Feuil1!$C$1:$BL$10,8,FALSE)","v":-54},{"$f":"T71-HLOOKUP(X71,Feuil1!$C$1:$BL$10,9,FALSE)","v":-69},{"$f":"T71-HLOOKUP(X71,Feuil1!$C$1:$BL$10,10,FALSE)","v":-934},null,null,null,null,null,null,{"$f":"IF(AJ71>=0,$AJ$4,IF(AI71>=0,$AI$4,IF(AH71>=0,$AH$4,IF(AG71>=0,$AG$4,IF(AF71>=0,$AF$4,IF(AE71>=0,$AE$4,IF(AD71>=0,$AD$4,IF(AC71>=0,$AC$4,$AB$4))))))))","v":"DEP +"}]
["F","NORD","PIC",4,371430,"LEMORT","Marine",2000,68.7,"La Ferté Milon CMHM","F",23,26,28,{"$f":"IF(H72=\"\",\"\",IF(MAXA(L72:N72)<=0,0,MAXA(L72:N72)))","v":28},32,37,-40,{"$f":"IF(H72=\"\",\"\",IF(MAXA(P72:R72)<=0,0,MAXA(P72:R72)))","v":37},{"$f":"IF(H72=\"\",\"\",IF(OR(O72=0,S72=0),0,O72+S72))","v":65},{"$f":"T72-I72*2","v":-72.400000000000006},{"$f":"IF(H72=\"\",\"\",AQ72)","v":"DEP +"},{"$f":"IF(AJ72>=0,AJ72,IF(AI72>=0,AI72,IF(AH72>=0,AH72,IF(AG72>=0,AG72,IF(AF72>=0,AF72,IF(AE72>=0,AE72,IF(AD72>=0,AD72,IF(AC72>=0,AC72,AB72))))))))","v":5},{"$f":"IF(I72=\"\",\"\",IF(A72=\"H\",IF(OR(H72=\"SEN\",H72<1995),VLOOKUP(I72,Feuil1!$A$11:$G$29,6),IF(AND(H72>1994,H72<1998),VLOOKUP(I72,Feuil1!$A$11:$G$29,5),IF(AND(H72>1997,H72<2000),VLOOKUP(I72,Feuil1!$A$11:$G$29,4),IF(AND(H72>1999,H72<2002),VLOOKUP(I72,Feuil1!$A$11:$G$29,3),VLOOKUP(I72,Feuil1!$A$11:$G$29,2))))),IF(OR(H72=\"SEN\",H72<1995),VLOOKUP(I72,Feuil1!$G$11:$L$25,6),IF(AND(H72>1994,H72<1998),VLOOKUP(I72,Feuil1!$G$11:$L$25,5),IF(AND(H72>1997,H72<2000),VLOOKUP(I72,Feuil1!$G$11:$L$25,4),IF(AND(H72>1999,H72<2002),VLOOKUP(I72,Feuil1!$G$11:$L$25,3),VLOOKUP(I72,Feuil1!$G$11:$L$25,2)))))))","v":"FC1 69"},{"$f":"IF(I72=\"\",\"\",IF(A72=\"H\",10^(0.794358141*LOG(I72/174.393)^2)*T72,IF(A72=\"F\",10^(0.89726074*LOG(I72/148.026)^2)*T72,\"\")))","v":81.778222923934905},null," ",{"$f":"T72-HLOOKUP(X72,Feuil1!$C$1:$BL$10,2,FALSE)","v":15},{"$f":"T72-HLOOKUP(X72,Feuil1!$C$1:$BL$10,3,FALSE)","v":5},{"$f":"T72-HLOOKUP(X72,Feuil1!$C$1:$BL$10,4,FALSE)","v":-5},{"$f":"T72-HLOOKUP(X72,Feuil1!$C$1:$BL$10,5,FALSE)","v":-15},{"$f":"T72-HLOOKUP(X72,Feuil1!$C$1:$BL$10,6,FALSE)","v":-25},{"$f":"T72-HLOOKUP(X72,Feuil1!$C$1:$BL$10,7,FALSE)","v":-40},{"$f":"T72-HLOOKUP(X72,Feuil1!$C$1:$BL$10,8,FALSE)","v":-55},{"$f":"T72-HLOOKUP(X72,Feuil1!$C$1:$BL$10,9,FALSE)","v":-70},{"$f":"T72-HLOOKUP(X72,Feuil1!$C$1:$BL$10,10,FALSE)","v":-935},null,null,null,null,null,null,{"$f":"IF(AJ72>=0,$AJ$4,IF(AI72>=0,$AI$4,IF(AH72>=0,$AH$4,IF(AG72>=0,$AG$4,IF(AF72>=0,$AF$4,IF(AE72>=0,$AE$4,IF(AD72>=0,$AD$4,IF(AC72>=0,$AC$4,$AB$4))))))))","v":"DEP +"}]
["F","SEST","AUV",5,376754,"FAUBLADIER","Anaïs",2000,69,"CHM AURILLAC","F",20,25,-27,{"$f":"IF(H73=\"\",\"\",IF(MAXA(L73:N73)<=0,0,MAXA(L73:N73)))","v":25},25,27,30,{"$f":"IF(H73=\"\",\"\",IF(MAXA(P73:R73)<=0,0,MAXA(P73:R73)))","v":30},{"$f":"IF(H73=\"\",\"\",IF(OR(O73=0,S73=0),0,O73+S73))","v":55},{"$f":"T73-I73*2","v":-83},{"$f":"IF(H73=\"\",\"\",AQ73)","v":"DEB "},{"$f":"IF(AJ73>=0,AJ73,IF(AI73>=0,AI73,IF(AH73>=0,AH73,IF(AG73>=0,AG73,IF(AF73>=0,AF73,IF(AE73>=0,AE73,IF(AD73>=0,AD73,IF(AC73>=0,AC73,AB73))))))))","v":5},{"$f":"IF(I73=\"\",\"\",IF(A73=\"H\",IF(OR(H73=\"SEN\",H73<1995),VLOOKUP(I73,Feuil1!$A$11:$G$29,6),IF(AND(H73>1994,H73<1998),VLOOKUP(I73,Feuil1!$A$11:$G$29,5),IF(AND(H73>1997,H73<2000),VLOOKUP(I73,Feuil1!$A$11:$G$29,4),IF(AND(H73>1999,H73<2002),VLOOKUP(I73,Feuil1!$A$11:$G$29,3),VLOOKUP(I73,Feuil1!$A$11:$G$29,2))))),IF(OR(H73=\"SEN\",H73<1995),VLOOKUP(I73,Feuil1!$G$11:$L$25,6),IF(AND(H73>1994,H73<1998),VLOOKUP(I73,Feuil1!$G$11:$L$25,5),IF(AND(H73>1997,H73<2000),VLOOKUP(I73,Feuil1!$G$11:$L$25,4),IF(AND(H73>1999,H73<2002),VLOOKUP(I73,Feuil1!$G$11:$L$25,3),VLOOKUP(I73,Feuil1!$G$11:$L$25,2)))))))","v":"FC1 69"},{"$f":"IF(I73=\"\",\"\",IF(A73=\"H\",10^(0.794358141*LOG(I73/174.393)^2)*T73,IF(A73=\"F\",10^(0.89726074*LOG(I73/148.026)^2)*T73,\"\")))","v":69.017320695456277},null," ",{"$f":"T73-HLOOKUP(X73,Feuil1!$C$1:$BL$10,2,FALSE)","v":5},{"$f":"T73-HLOOKUP(X73,Feuil1!$C$1:$BL$10,3,FALSE)","v":-5},{"$f":"T73-HLOOKUP(X73,Feuil1!$C$1:$BL$10,4,FALSE)","v":-15},{"$f":"T73-HLOOKUP(X73,Feuil1!$C$1:$BL$10,5,FALSE)","v":-25},{"$f":"T73-HLOOKUP(X73,Feuil1!$C$1:$BL$10,6,FALSE)","v":-35},{"$f":"T73-HLOOKUP(X73,Feuil1!$C$1:$BL$10,7,FALSE)","v":-50},{"$f":"T73-HLOOKUP(X73,Feuil1!$C$1:$BL$10,8,FALSE)","v":-65},{"$f":"T73-HLOOKUP(X73,Feuil1!$C$1:$BL$10,9,FALSE)","v":-80},{"$f":"T73-HLOOKUP(X73,Feuil1!$C$1:$BL$10,10,FALSE)","v":-945},null,null,null,null,null,null,{"$f":"IF(AJ73>=0,$AJ$4,IF(AI73>=0,$AI$4,IF(AH73>=0,$AH$4,IF(AG73>=0,$AG$4,IF(AF73>=0,$AF$4,IF(AE73>=0,$AE$4,IF(AD73>=0,$AD$4,IF(AC73>=0,$AC$4,$AB$4))))))))","v":"DEB "}]
[null,null,null,null,null,null,null,null,null,null,null,null,null,null,null,null,null,null,null,null,null,null,null,null,null,null," ",{"$f":"T74-HLOOKUP(X74,[1]Feuil1!$C$1:$BL$10,2,FALSE)","v":{"$error":"#N/A"}},{"$f":"T74-HLOOKUP(X74,[1]Feuil1!$C$1:$BL$10,3,FALSE)","v":{"$error":"#N/A"}},{"$f":"T74-HLOOKUP(X74,[1]Feuil1!$C$1:$BL$10,4,FALSE)","v":{"$error":"#N/A"}},{"$f":"T74-HLOOKUP(X74,[1]Feuil1!$C$1:$BL$10,5,FALSE)","v":{"$error":"#N/A"}},{"$f":"T74-HLOOKUP(X74,[1]Feuil1!$C$1:$BL$10,6,FALSE)","v":{"$error":"#N/A"}},{"$f":"T74-HLOOKUP(X74,[1]Feuil1!$C$1:$BL$10,7,FALSE)","v":{"$error":"#N/A"}},{"$f":"T74-HLOOKUP(X74,[1]Feuil1!$C$1:$BL$10,8,FALSE)","v":{"$error":"#N/A"}},{"$f":"T74-HLOOKUP(X74,[1]Feuil1!$C$1:$BL$10,9,FALSE)","v":{"$error":"#N/A"}},{"$f":"T74-HLOOKUP(X74,[1]Feuil1!$C$1:$BL$10,10,FALSE)","v":{"$error":"#N/A"}},null,null,null,null,null,null,{"$f":"IF(AJ74>=0,$AJ$4,IF(AI74>=0,$AI$4,IF(AH74>=0,$AH$4,IF(AG74>=0,$AG$4,IF(AF74>=0,$AF$4,IF(AE74>=0,$AE$4,IF(AD74>=0,$AD$4,IF(AC74>=0,$AC$4,$AB$4))))))))","v":{"$error":"#N/A"}}]
["F","CO","PDL",1,36748,"COGNON","Alexia",2000,72.540000000000006,"CJF Laval-Voutré","F",48,51,52,{"$f":"IF(H75=\"\",\"\",IF(MAXA(L75:N75)<=0,0,MAXA(L75:N75)))","v":52},60,63,64,{"$f":"IF(H75=\"\",\"\",IF(MAXA(P75:R75)<=0,0,MAXA(P75:R75)))","v":64},{"$f":"IF(H75=\"\",\"\",IF(OR(O75=0,S75=0),0,O75+S75))","v":116},{"$f":"T75-I75*2","v":-29.080000000000013},{"$f":"IF(H75=\"\",\"\",AQ75)","v":"NAT +"},{"$f":"IF(AJ75>=0,AJ75,IF(AI75>=0,AI75,IF(AH75>=0,AH75,IF(AG75>=0,AG75,IF(AF75>=0,AF75,IF(AE75>=0,AE75,IF(AD75>=0,AD75,IF(AC75>=0,AC75,AB75))))))))","v":1},{"$f":"IF(I75=\"\",\"\",IF(A75=\"H\",IF(OR(H75=\"SEN\",H75<1995),VLOOKUP(I75,Feuil1!$A$11:$G$29,6),IF(AND(H75>1994,H75<1998),VLOOKUP(I75,Feuil1!$A$11:$G$29,5),IF(AND(H75>1997,H75<2000),VLOOKUP(I75,Feuil1!$A$11:$G$29,4),IF(AND(H75>1999,H75<2002),VLOOKUP(I75,Feuil1!$A$11:$G$29,3),VLOOKUP(I75,Feuil1!$A$11:$G$29,2))))),IF(OR(H75=\"SEN\",H75<1995),VLOOKUP(I75,Feuil1!$G$11:$L$25,6),IF(AND(H75>1994,H75<1998),VLOOKUP(I75,Feuil1!$G$11:$L$25,5),IF(AND(H75>1997,H75<2000),VLOOKUP(I75,Feuil1!$G$11:$L$25,4),IF(AND(H75>1999,H75<2002),VLOOKUP(I75,Feuil1!$G$11:$L$25,3),VLOOKUP(I75,Feuil1!$G$11:$L$25,2)))))))","v":"FC1 +69"},{"$f":"IF(I75=\"\",\"\",IF(A75=\"H\",10^(0.794358141*LOG(I75/174.393)^2)*T75,IF(A75=\"F\",10^(0.89726074*LOG(I75/148.026)^2)*T75,\"\")))","v":141.43325519684413},null," ",{"$f":"T75-HLOOKUP(X75,Feuil1!$C$1:$BL$10,2,FALSE)","v":56},{"$f":"T75-HLOOKUP(X75,Feuil1!$C$1:$BL$10,3,FALSE)","v":46},{"$f":"T75-HLOOKUP(X75,Feuil1!$C$1:$BL$10,4,FALSE)","v":36},{"$f":"T75-HLOOKUP(X75,Feuil1!$C$1:$BL$10,5,FALSE)","v":21},{"$f":"T75-HLOOKUP(X75,Feuil1!$C$1:$BL$10,6,FALSE)","v":11},{"$f":"T75-HLOOKUP(X75,Feuil1!$C$1:$BL$10,7,FALSE)","v":1},{"$f":"T75-HLOOKUP(X75,Feuil1!$C$1:$BL$10,8,FALSE)","v":-14},{"$f":"T75-HLOOKUP(X75,Feuil1!$C$1:$BL$10,9,FALSE)","v":-29},{"$f":"T75-HLOOKUP(X75,Feuil1!$C$1:$BL$10,10,FALSE)","v":-884},null,null,null,null,null,null,{"$f":"IF(AJ75>=0,$AJ$4,IF(AI75>=0,$AI$4,IF(AH75>=0,$AH$4,IF(AG75>=0,$AG$4,IF(AF75>=0,$AF$4,IF(AE75>=0,$AE$4,IF(AD75>=0,$AD$4,IF(AC75>=0,$AC$4,$AB$4))))))))","v":"NAT +"}]
["F","NORD","PIC",2,328806,"ALLAL BEN MAATI","Chloé",2000,73.599999999999994,"Péronne AAEEP","F",31,33,34,{"$f":"IF(H76=\"\",\"\",IF(MAXA(L76:N76)<=0,0,MAXA(L76:N76)))","v":34},41,44,46,{"$f":"IF(H76=\"\",\"\",IF(MAXA(P76:R76)<=0,0,MAXA(P76:R76)))","v":46},{"$f":"IF(H76=\"\",\"\",IF(OR(O76=0,S76=0),0,O76+S76))","v":80},{"$f":"T76-I76*2","v":-67.199999999999989},{"$f":"IF(H76=\"\",\"\",AQ76)","v":"REG +"},{"$f":"IF(AJ76>=0,AJ76,IF(AI76>=0,AI76,IF(AH76>=0,AH76,IF(AG76>=0,AG76,IF(AF76>=0,AF76,IF(AE76>=0,AE76,IF(AD76>=0,AD76,IF(AC76>=0,AC76,AB76))))))))","v":0},{"$f":"IF(I76=\"\",\"\",IF(A76=\"H\",IF(OR(H76=\"SEN\",H76<1995),VLOOKUP(I76,Feuil1!$A$11:$G$29,6),IF(AND(H76>1994,H76<1998),VLOOKUP(I76,Feuil1!$A$11:$G$29,5),IF(AND(H76>1997,H76<2000),VLOOKUP(I76,Feuil1!$A$11:$G$29,4),IF(AND(H76>1999,H76<2002),VLOOKUP(I76,Feuil1!$A$11:$G$29,3),VLOOKUP(I76,Feuil1!$A$11:$G$29,2))))),IF(OR(H76=\"SEN\",H76<1995),VLOOKUP(I76,Feuil1!$G$11:$L$25,6),IF(AND(H76>1994,H76<1998),VLOOKUP(I76,Feuil1!$G$11:$L$25,5),IF(AND(H76>1997,H76<2000),VLOOKUP(I76,Feuil1!$G$11:$L$25,4),IF(AND(H76>1999,H76<2002),VLOOKUP(I76,Feuil1!$G$11:$L$25,3),VLOOKUP(I76,Feuil1!$G$11:$L$25,2)))))))","v":"FC1 +69"},{"$f":"IF(I76=\"\",\"\",IF(A76=\"H\",10^(0.794358141*LOG(I76/174.393)^2)*T76,IF(A76=\"F\",10^(0.89726074*LOG(I76/148.026)^2)*T76,\"\")))","v":96.764712729607595},null," ",{"$f":"T76-HLOOKUP(X76,Feuil1!$C$1:$BL$10,2,FALSE)","v":20},{"$f":"T76-HLOOKUP(X76,Feuil1!$C$1:$BL$10,3,FALSE)","v":10},{"$f":"T76-HLOOKUP(X76,Feuil1!$C$1:$BL$10,4,FALSE)","v":0},{"$f":"T76-HLOOKUP(X76,Feuil1!$C$1:$BL$10,5,FALSE)","v":-15},{"$f":"T76-HLOOKUP(X76,Feuil1!$C$1:$BL$10,6,FALSE)","v":-25},{"$f":"T76-HLOOKUP(X76,Feuil1!$C$1:$BL$10,7,FALSE)","v":-35},{"$f":"T76-HLOOKUP(X76,Feuil1!$C$1:$BL$10,8,FALSE)","v":-50},{"$f":"T76-HLOOKUP(X76,Feuil1!$C$1:$BL$10,9,FALSE)","v":-65},{"$f":"T76-HLOOKUP(X76,Feuil1!$C$1:$BL$10,10,FALSE)","v":-920},null,null,null,null,null,null,{"$f":"IF(AJ76>=0,$AJ$4,IF(AI76>=0,$AI$4,IF(AH76>=0,$AH$4,IF(AG76>=0,$AG$4,IF(AF76>=0,$AF$4,IF(AE76>=0,$AE$4,IF(AD76>=0,$AD$4,IF(AC76>=0,$AC$4,$AB$4))))))))","v":"REG +"}]
["F","NORD","PIC",3,371430,"LEMORT","Marine",2000,72.260000000000005,"La Ferté Milon CMHM","F",25,-28,30,{"$f":"IF(H77=\"\",\"\",IF(MAXA(L77:N77)<=0,0,MAXA(L77:N77)))","v":30},35,38,40,{"$f":"IF(H77=\"\",\"\",IF(MAXA(P77:R77)<=0,0,MAXA(P77:R77)))","v":40},{"$f":"IF(H77=\"\",\"\",IF(OR(O77=0,S77=0),0,O77+S77))","v":70},{"$f":"T77-I77*2","v":-74.52000000000001},{"$f":"IF(H77=\"\",\"\",AQ77)","v":"DEP +"},{"$f":"IF(AJ77>=0,AJ77,IF(AI77>=0,AI77,IF(AH77>=0,AH77,IF(AG77>=0,AG77,IF(AF77>=0,AF77,IF(AE77>=0,AE77,IF(AD77>=0,AD77,IF(AC77>=0,AC77,AB77))))))))","v":0},{"$f":"IF(I77=\"\",\"\",IF(A77=\"H\",IF(OR(H77=\"SEN\",H77<1995),VLOOKUP(I77,Feuil1!$A$11:$G$29,6),IF(AND(H77>1994,H77<1998),VLOOKUP(I77,Feuil1!$A$11:$G$29,5),IF(AND(H77>1997,H77<2000),VLOOKUP(I77,Feuil1!$A$11:$G$29,4),IF(AND(H77>1999,H77<2002),VLOOKUP(I77,Feuil1!$A$11:$G$29,3),VLOOKUP(I77,Feuil1!$A$11:$G$29,2))))),IF(OR(H77=\"SEN\",H77<1995),VLOOKUP(I77,Feuil1!$G$11:$L$25,6),IF(AND(H77>1994,H77<1998),VLOOKUP(I77,Feuil1!$G$11:$L$25,5),IF(AND(H77>1997,H77<2000),VLOOKUP(I77,Feuil1!$G$11:$L$25,4),IF(AND(H77>1999,H77<2002),VLOOKUP(I77,Feuil1!$G$11:$L$25,3),VLOOKUP(I77,Feuil1!$G$11:$L$25,2)))))))","v":"FC1 +69"},{"$f":"IF(I77=\"\",\"\",IF(A77=\"H\",10^(0.794358141*LOG(I77/174.393)^2)*T77,IF(A77=\"F\",10^(0.89726074*LOG(I77/148.026)^2)*T77,\"\")))","v":85.531828805664958},null," ",{"$f":"T77-HLOOKUP(X77,Feuil1!$C$1:$BL$10,2,FALSE)","v":10},{"$f":"T77-HLOOKUP(X77,Feuil1!$C$1:$BL$10,3,FALSE)","v":0},{"$f":"T77-HLOOKUP(X77,Feuil1!$C$1:$BL$10,4,FALSE)","v":-10},{"$f":"T77-HLOOKUP(X77,Feuil1!$C$1:$BL$10,5,FALSE)","v":-25},{"$f":"T77-HLOOKUP(X77,Feuil1!$C$1:$BL$10,6,FALSE)","v":-35},{"$f":"T77-HLOOKUP(X77,Feuil1!$C$1:$BL$10,7,FALSE)","v":-45},{"$f":"T77-HLOOKUP(X77,Feuil1!$C$1:$BL$10,8,FALSE)","v":-60},{"$f":"T77-HLOOKUP(X77,Feuil1!$C$1:$BL$10,9,FALSE)","v":-75},{"$f":"T77-HLOOKUP(X77,Feuil1!$C$1:$BL$10,10,FALSE)","v":-930},null,null,null,null,null,null,{"$f":"IF(AJ77>=0,$AJ$4,IF(AI77>=0,$AI$4,IF(AH77>=0,$AH$4,IF(AG77>=0,$AG$4,IF(AF77>=0,$AF$4,IF(AE77>=0,$AE$4,IF(AD77>=0,$AD$4,IF(AC77>=0,$AC$4,$AB$4))))))))","v":"DEP +"}]
["F","SEST","CAZ",4,391830,"GIANETTI","Margot",2000,69.5,"ES VILLE LOUBET","F",28,31,-33,{"$f":"IF(H78=\"\",\"\",IF(MAXA(L78:N78)<=0,0,MAXA(L78:N78)))","v":31},37,-40,-42,{"$f":"IF(H78=\"\",\"\",IF(MAXA(P78:R78)<=0,0,MAXA(P78:R78)))","v":37},{"$f":"IF(H78=\"\",\"\",IF(OR(O78=0,S78=0),0,O78+S78))","v":68},{"$f":"T78-I78*2","v":-71},{"$f":"IF(H78=\"\",\"\",AQ78)","v":"DEB "},{"$f":"IF(AJ78>=0,AJ78,IF(AI78>=0,AI78,IF(AH78>=0,AH78,IF(AG78>=0,AG78,IF(AF78>=0,AF78,IF(AE78>=0,AE78,IF(AD78>=0,AD78,IF(AC78>=0,AC78,AB78))))))))","v":8},{"$f":"IF(I78=\"\",\"\",IF(A78=\"H\",IF(OR(H78=\"SEN\",H78<1995),VLOOKUP(I78,Feuil1!$A$11:$G$29,6),IF(AND(H78>1994,H78<1998),VLOOKUP(I78,Feuil1!$A$11:$G$29,5),IF(AND(H78>1997,H78<2000),VLOOKUP(I78,Feuil1!$A$11:$G$29,4),IF(AND(H78>1999,H78<2002),VLOOKUP(I78,Feuil1!$A$11:$G$29,3),VLOOKUP(I78,Feuil1!$A$11:$G$29,2))))),IF(OR(H78=\"SEN\",H78<1995),VLOOKUP(I78,Feuil1!$G$11:$L$25,6),IF(AND(H78>1994,H78<1998),VLOOKUP(I78,Feuil1!$G$11:$L$25,5),IF(AND(H78>1997,H78<2000),VLOOKUP(I78,Feuil1!$G$11:$L$25,4),IF(AND(H78>1999,H78<2002),VLOOKUP(I78,Feuil1!$G$11:$L$25,3),VLOOKUP(I78,Feuil1!$G$11:$L$25,2)))))))","v":"FC1 +69"},{"$f":"IF(I78=\"\",\"\",IF(A78=\"H\",10^(0.794358141*LOG(I78/174.393)^2)*T78,IF(A78=\"F\",10^(0.89726074*LOG(I78/148.026)^2)*T78,\"\")))","v":84.966517468714656},null," ",{"$f":"T78-HLOOKUP(X78,Feuil1!$C$1:$BL$10,2,FALSE)","v":8},{"$f":"T78-HLOOKUP(X78,Feuil1!$C$1:$BL$10,3,FALSE)","v":-2},{"$f":"T78-HLOOKUP(X78,Feuil1!$C$1:$BL$10,4,FALSE)","v":-12},{"$f":"T78-HLOOKUP(X78,Feuil1!$C$1:$BL$10,5,FALSE)","v":-27},{"$f":"T78-HLOOKUP(X78,Feuil1!$C$1:$BL$10,6,FALSE)","v":-37},{"$f":"T78-HLOOKUP(X78,Feuil1!$C$1:$BL$10,7,FALSE)","v":-47},{"$f":"T78-HLOOKUP(X78,Feuil1!$C$1:$BL$10,8,FALSE)","v":-62},{"$f":"T78-HLOOKUP(X78,Feuil1!$C$1:$BL$10,9,FALSE)","v":-77},{"$f":"T78-HLOOKUP(X78,Feuil1!$C$1:$BL$10,10,FALSE)","v":-932},null,null,null,null,null,null,{"$f":"IF(AJ78>=0,$AJ$4,IF(AI78>=0,$AI$4,IF(AH78>=0,$AH$4,IF(AG78>=0,$AG$4,IF(AF78>=0,$AF$4,IF(AE78>=0,$AE$4,IF(AD78>=0,$AD$4,IF(AC78>=0,$AC$4,$AB$4))))))))","v":"DEB "}]
["F","NE","ALS",5,369106,"MAILLOT","Océane",2000,78.2,"ASPTT Strasbourg","F",20,22,-23,{"$f":"IF(H79=\"\",\"\",IF(MAXA(L79:N79)<=0,0,MAXA(L79:N79)))","v":22},22,25,27,{"$f":"IF(H79=\"\",\"\",IF(MAXA(P79:R79)<=0,0,MAXA(P79:R79)))","v":27},{"$f":"IF(H79=\"\",\"\",IF(OR(O79=0,S79=0),0,O79+S79))","v":49},{"$f":"T79-I79*2","v":-107.4},{"$f":"IF(H79=\"\",\"\",AQ79)","v":"DEB "},{"$f":"IF(AJ79>=0,AJ79,IF(AI79>=0,AI79,IF(AH79>=0,AH79,IF(AG79>=0,AG79,IF(AF79>=0,AF79,IF(AE79>=0,AE79,IF(AD79>=0,AD79,IF(AC79>=0,AC79,AB79))))))))","v":-11},{"$f":"IF(I79=\"\",\"\",IF(A79=\"H\",IF(OR(H79=\"SEN\",H79<1995),VLOOKUP(I79,Feuil1!$A$11:$G$29,6),IF(AND(H79>1994,H79<1998),VLOOKUP(I79,Feuil1!$A$11:$G$29,5),IF(AND(H79>1997,H79<2000),VLOOKUP(I79,Feuil1!$A$11:$G$29,4),IF(AND(H79>1999,H79<2002),VLOOKUP(I79,Feuil1!$A$11:$G$29,3),VLOOKUP(I79,Feuil1!$A$11:$G$29,2))))),IF(OR(H79=\"SEN\",H79<1995),VLOOKUP(I79,Feuil1!$G$11:$L$25,6),IF(AND(H79>1994,H79<1998),VLOOKUP(I79,Feuil1!$G$11:$L$25,5),IF(AND(H79>1997,H79<2000),VLOOKUP(I79,Feuil1!$G$11:$L$25,4),IF(AND(H79>1999,H79<2002),VLOOKUP(I79,Feuil1!$G$11:$L$25,3),VLOOKUP(I79,Feuil1!$G$11:$L$25,2)))))))","v":"FC1 +69"},{"$f":"IF(I79=\"\",\"\",IF(A79=\"H\",10^(0.794358141*LOG(I79/174.393)^2)*T79,IF(A79=\"F\",10^(0.89726074*LOG(I79/148.026)^2)*T79,\"\")))","v":57.425826856195357},null," ",{"$f":"T79-HLOOKUP(X79,Feuil1!$C$1:$BL$10,2,FALSE)","v":-11},{"$f":"T79-HLOOKUP(X79,Feuil1!$C$1:$BL$10,3,FALSE)","v":-21},{"$f":"T79-HLOOKUP(X79,Feuil1!$C$1:$BL$10,4,FALSE)","v":-31},{"$f":"T79-HLOOKUP(X79,Feuil1!$C$1:$BL$10,5,FALSE)","v":-46},{"$f":"T79-HLOOKUP(X79,Feuil1!$C$1:$BL$10,6,FALSE)","v":-56},{"$f":"T79-HLOOKUP(X79,Feuil1!$C$1:$BL$10,7,FALSE)","v":-66},{"$f":"T79-HLOOKUP(X79,Feuil1!$C$1:$BL$10,8,FALSE)","v":-81},{"$f":"T79-HLOOKUP(X79,Feuil1!$C$1:$BL$10,9,FALSE)","v":-96},{"$f":"T79-HLOOKUP(X79,Feuil1!$C$1:$BL$10,10,FALSE)","v":-951},null,null,null,null,null,null,{"$f":"IF(AJ79>=0,$AJ$4,IF(AI79>=0,$AI$4,IF(AH79>=0,$AH$4,IF(AG79>=0,$AG$4,IF(AF79>=0,$AF$4,IF(AE79>=0,$AE$4,IF(AD79>=0,$AD$4,IF(AC79>=0,$AC$4,$AB$4))))))))","v":"DEB "}]
[null,null,null,null,null,null,null,null,null,null,null,null,null,null,null,null,null,null,null,null,null,null,null,null,null,null," ",{"$f":"T80-HLOOKUP(X80,[1]Feuil1!$C$1:$BL$10,2,FALSE)","v":{"$error":"#N/A"}},{"$f":"T80-HLOOKUP(X80,[1]Feuil1!$C$1:$BL$10,3,FALSE)","v":{"$error":"#N/A"}},{"$f":"T80-HLOOKUP(X80,[1]Feuil1!$C$1:$BL$10,4,FALSE)","v":{"$error":"#N/A"}},{"$f":"T80-HLOOKUP(X80,[1]Feuil1!$C$1:$BL$10,5,FALSE)","v":{"$error":"#N/A"}},{"$f":"T80-HLOOKUP(X80,[1]Feuil1!$C$1:$BL$10,6,FALSE)","v":{"$error":"#N/A"}},{"$f":"T80-HLOOKUP(X80,[1]Feuil1!$C$1:$BL$10,7,FALSE)","v":{"$error":"#N/A"}},{"$f":"T80-HLOOKUP(X80,[1]Feuil1!$C$1:$BL$10,8,FALSE)","v":{"$error":"#N/A"}},{"$f":"T80-HLOOKUP(X80,[1]Feuil1!$C$1:$BL$10,9,FALSE)","v":{"$error":"#N/A"}},{"$f":"T80-HLOOKUP(X80,[1]Feuil1!$C$1:$BL$10,10,FALSE)","v":{"$error":"#N/A"}},null,null,null,null,null,null,{"$f":"IF(AJ80>=0,$AJ$4,IF(AI80>=0,$AI$4,IF(AH80>=0,$AH$4,IF(AG80>=0,$AG$4,IF(AF80>=0,$AF$4,IF(AE80>=0,$AE$4,IF(AD80>=0,$AD$4,IF(AC80>=0,$AC$4,$AB$4))))))))","v":{"$error":"#N/A"}}]
[]
[]
[]
[]
[]
[]
[]
[]
[]
[]
[]
[]
[]
[]
[]
[]
[]
[]
[]
[]
[]
[]
[]
[]
[]
[]
[]
[]
[]
[]
[]
[]
[]
[]
[]
[]
[]
[]
[]
[]
[]
[]
[]
[]
[]
[]
[]
[]
[]
[]
[]
[]
[]
[]
[]
[]
[]
[]
[]
[]
[]
[]
[]
[]
[]
[]
[]
[]
[]
[]
[]
[]
[]
[]
[]
[]
[]
[]
[]
[]
[]
[]
[]
[]
[]
[]
[]
[]
[]
[]
[]
[]
[]
[]
[]
[]
[]
[]
[]
[]
[]
[]
[]
[]
[]
[]
[]
[]
[]
[]
[]
[]
[]
[]
[]
[]
[]
[]
[]
[]
[]
[]
[]
[]
[]
[]
[]
[]
[]
[]
[]
[]
[]
[]
[]
[]
[]
[]
[]
[]
[]
[]
[]
[]
[]
[]
[]
[]
[]
[]
[]
[]
[]
[]
[]
[]
[]
[]
[]
[]
[]
[]
[]
[]
[]
[]
[]
[]
[]
[]
[]
[]
[]
[]
[]
[]
[]
[]
[]
[]
[]
[]
[]
[]
[]
[]
[]
[]
[]
[]
[]
[]
[]
[]
[]
[]
[]
[]
[]
[]
[]
[]
[]
[]
[]
[]
[]
[]
[]
[]
[]
[]
[]
[]
[]
[]
[]
[]
[]
[]
[]
[]
[]
[]
[]
[]
[]
[]
[]
[]
[]
[]
[]
[]
[]
[]
[]
[]
[]
[]
[]
[]
[]
[]
[]
[]
[]
[]
[]
[]
[]
[]
[]
[]
[]
[]
[]
[]
[]
[]
[]
[]
[]
[]
[]
[]
[]
[]
[]
[]
[]
[]
[]
[]
[]
[]
[]
[]
[]
[]
[]
[]
[]
[]
[]
[]
[]
[]
[]
[]
[]
[]
[]
[]
[]
[]
[]
[]
[]
[]
[]
[]
[]
[]
[]
[]
[]
[]
[]
[]
[]
[]
[]
[]
[]
[]
[]
[]
[]
[]
[]
[]
[]
[]
[]
[]
[]
[]
[]
[]
[]
[]
[]
[]
[]
[]
[]
[]
[]
[]
[]
[]
[]
[]
[]
[]
[]
[]
[]
[]
[]
[]
[]
[]
[]
[]
[]
[]
[]
[]
[]
[]
[]
[]
[]
[]
[]
[]
[]
[]
[]
[]
[]
[]
[]
[]
[]
[]
[]
[]
[]
[]
[]
[]
[]
[]
[]
[]
[]
[]
[]
[]
[]
[]
[]
[]
[]
[]
[]
[]
[]
[]
[]
[]
[]
[]
[]
[]
[]
[]
[]
[]
[]
[]
[]
[]
[]
[]
[]
[]
[]
[]
[]
[]
[]
[]
[]
[]
[]
[]
[]
[]
[]
[]
[]
[]
[null,null,null,null,null,null,null,null,null,null,null,null,null,null,null,null,null,null,null,null,null,null,null,null,null,null,null,"J77","J85","J94","J105","J+105",null,"J56","J62","J69","J77","J85","J94","J105","J+105",null,"S56","S62","S69","S77","S85","S94","S105","S+105"]
[null,null,null,null,null,null,null,null,null,null,null,null,null,null,null,null,null,null,null,null,null,null,null,null,null,null,null,145,160,170,180,190,null,100,115,130,145,160,170,180,190,null,115,135,150,165,180,190,200,210]
[null,null,null,null,null,null,null,null,null,null,null,null,null,null,null,null,null,null,null,null,null,null,null,null,null,null,null,165,180,190,200,210,null,115,135,150,165,180,190,200,210,null,130,150,165,185,200,210,220,230]
[null,null,null,null,null,null,null,null,null,null,null,null,null,null,null,null,null,null,null,null,null,null,null,null,null,null,null,185,200,210,220,230,null,130,150,165,185,200,210,220,230,null,145,165,180,200,220,230,240,250]
[null,null,null,null,null,null,null,null,null,null,null,null,null,null,null,null,null,null,null,null,null,null,null,null,null,null,null,200,220,230,240,250,null,145,165,180,200,220,230,240,250,null,175,195,215,235,250,260,275,280]
[null,null,null,null,null,null,null,null,null,null,null,null,null,null,null,null,null,null,null,null,null,null,null,null,null,null,null,235,250,260,275,280,null,175,195,215,235,250,260,275,280,null,210,230,250,270,290,300,310,325]
[null,null,null,null,null,null,null,null,null,null,null,null,null,null,null,null,null,null,null,null,null,null,null,null,null,null,null,270,290,300,310,325,null,210,230,250,270,290,300,310,325,null,230,255,275,300,315,335,345,355]
[null,null,null,null,null,null,null,null,null,null,null,null,null,null,null,null,null,null,null,null,null,null,null,null,null,null,null,320,335,355,370,380,null,245,270,295,320,335,355,370,380,null,245,270,295,320,335,355,370,380]

{"sheet":"CADETS 2","index":2,"n_rows":549,"n_cols":50,"rows_kept":549,"cut":false,"hidden":false,"merged":[[3,21,3,22],[0,7,0,14],[0,18,0,21],[1,6,1,10],[1,11,1,13],[1,14,1,17],[1,18,1,19],[1,21,1,22]]}
[null,null,null,null,null,"LISTING NATIONAL",null,"FEMININES",null,null,null,null,null,null,null,null,"DATE :",null,"2015-06-30"]
[null,null,null,null,null," ","2014-2015",null,null,null,null,"3° TRIMESTRE"]
[]
["SEXE","ZONE","REG.","CL.","LICENCE","NOMS","Prénoms","AN","POIDS","CLUB","NAT",1,2,3,"ARR",1,2,3,"EP-J","Total","KP-2PC","SERIE",null,"Catég","IWF",null," ","DEB ","DEP +","REG +","IRG +","FED +","NAT +","INTB +","INTA +","OLY +"]
[null,null,null,null,null,null,null,null,null,null,null,null,null,null,null,null,null,null,null,null,null,null,null,null,null,null," ",{"$f":"T5-HLOOKUP(X5,[1]Feuil1!$C$1:$BL$10,2,FALSE)","v":{"$error":"#N/A"}},{"$f":"T5-HLOOKUP(X5,[1]Feuil1!$C$1:$BL$10,3,FALSE)","v":{"$error":"#N/A"}},{"$f":"T5-HLOOKUP(X5,[1]Feuil1!$C$1:$BL$10,4,FALSE)","v":{"$error":"#N/A"}},{"$f":"T5-HLOOKUP(X5,[1]Feuil1!$C$1:$BL$10,5,FALSE)","v":{"$error":"#N/A"}},{"$f":"T5-HLOOKUP(X5,[1]Feuil1!$C$1:$BL$10,6,FALSE)","v":{"$error":"#N/A"}},{"$f":"T5-HLOOKUP(X5,[1]Feuil1!$C$1:$BL$10,7,FALSE)","v":{"$error":"#N/A"}},{"$f":"T5-HLOOKUP(X5,[1]Feuil1!$C$1:$BL$10,8,FALSE)","v":{"$error":"#N/A"}},{"$f":"T5-HLOOKUP(X5,[1]Feuil1!$C$1:$BL$10,9,FALSE)","v":{"$error":"#N/A"}},{"$f":"T5-HLOOKUP(X5,[1]Feuil1!$C$1:$BL$10,10,FALSE)","v":{"$error":"#N/A"}},null,null,null,null,null,null,{"$f":"IF(AJ5>=0,$AJ$4,IF(AI5>=0,$AI$4,IF(AH5>=0,$AH$4,IF(AG5>=0,$AG$4,IF(AF5>=0,$AF$4,IF(AE5>=0,$AE$4,IF(AD5>=0,$AD$4,IF(AC5>=0,$AC$4,$AB$4))))))))","v":{"$error":"#N/A"}}]
["F","SO","AQU",1,298421,"MOCAER","Nolwenn",1999,43.3,"ST MEDARD","F",47,51,53,{"$f":"IF(H6=\"\",\"\",IF(MAXA(L6:N6)<=0,0,MAXA(L6:N6)))","v":53},61,65,-67,{"$f":"IF(H6=\"\",\"\",IF(MAXA(P6:R6)<=0,0,MAXA(P6:R6)))","v":65},{"$f":"IF(H6=\"\",\"\",IF(OR(O6=0,S6=0),0,O6+S6))","v":118},{"$f":"T6-I6*2","v":31.400000000000006},{"$f":"IF(H6=\"\",\"\",AQ6)","v":"INTA +"},{"$f":"IF(AJ6>=0,AJ6,IF(AI6>=0,AI6,IF(AH6>=0,AH6,IF(AG6>=0,AG6,IF(AF6>=0,AF6,IF(AE6>=0,AE6,IF(AD6>=0,AD6,IF(AC6>=0,AC6,AB6))))))))","v":18},{"$f":"IF(I6=\"\",\"\",IF(A6=\"H\",IF(OR(H6=\"SEN\",H6<1995),VLOOKUP(I6,Feuil1!$A$11:$G$29,6),IF(AND(H6>1994,H6<1998),VLOOKUP(I6,Feuil1!$A$11:$G$29,5),IF(AND(H6>1997,H6<2000),VLOOKUP(I6,Feuil1!$A$11:$G$29,4),IF(AND(H6>1999,H6<2002),VLOOKUP(I6,Feuil1!$A$11:$G$29,3),VLOOKUP(I6,Feuil1!$A$11:$G$29,2))))),IF(OR(H6=\"SEN\",H6<1995),VLOOKUP(I6,Feuil1!$G$11:$L$25,6),IF(AND(H6>1994,H6<1998),VLOOKUP(I6,Feuil1!$G$11:$L$25,5),IF(AND(H6>1997,H6<2000),VLOOKUP(I6,Feuil1!$G$11:$L$25,4),IF(AND(H6>1999,H6<2002),VLOOKUP(I6,Feuil1!$G$11:$L$25,3),VLOOKUP(I6,Feuil1!$G$11:$L$25,2)))))))","v":"FC2 44"},{"$f":"IF(I6=\"\",\"\",IF(A6=\"H\",10^(0.794358141*LOG(I6/174.393)^2)*T6,IF(A6=\"F\",10^(0.89726074*LOG(I6/148.026)^2)*T6,\"\")))","v":212.61684661558871},null," ",{"$f":"T6-HLOOKUP(X6,Feuil1!$C$1:$BL$10,2,FALSE)","v":88},{"$f":"T6-HLOOKUP(X6,Feuil1!$C$1:$BL$10,3,FALSE)","v":78},{"$f":"T6-HLOOKUP(X6,Feuil1!$C$1:$BL$10,4,FALSE)","v":68},{"$f":"T6-HLOOKUP(X6,Feuil1!$C$1:$BL$10,5,FALSE)","v":58},{"$f":"T6-HLOOKUP(X6,Feuil1!$C$1:$BL$10,6,FALSE)","v":48},{"$f":"T6-HLOOKUP(X6,Feuil1!$C$1:$BL$10,7,FALSE)","v":38},{"$f":"T6-HLOOKUP(X6,Feuil1!$C$1:$BL$10,8,FALSE)","v":28},{"$f":"T6-HLOOKUP(X6,Feuil1!$C$1:$BL$10,9,FALSE)","v":18},{"$f":"T6-HLOOKUP(X6,Feuil1!$C$1:$BL$10,10,FALSE)","v":-882},null,null,null,null,null,null,{"$f":"IF(AJ6>=0,$AJ$4,IF(AI6>=0,$AI$4,IF(AH6>=0,$AH$4,IF(AG6>=0,$AG$4,IF(AF6>=0,$AF$4,IF(AE6>=0,$AE$4,IF(AD6>=0,$AD$4,IF(AC6>=0,$AC$4,$AB$4))))))))","v":"INTA +"}]
["F","CO","PDL",2,191138,"L'HERMIER","Nolwen",1999,43.7,"CJF Laval-Voutré","F",43,45,-48,45,60,63,65,65,110,22.599999999999994,"INTA +",10,{"$f":"IF(I7=\"\",\"\",IF(A7=\"H\",IF(OR(H7=\"SEN\",H7<1995),VLOOKUP(I7,Feuil1!$A$11:$G$29,6),IF(AND(H7>1994,H7<1998),VLOOKUP(I7,Feuil1!$A$11:$G$29,5),IF(AND(H7>1997,H7<2000),VLOOKUP(I7,Feuil1!$A$11:$G$29,4),IF(AND(H7>1999,H7<2002),VLOOKUP(I7,Feuil1!$A$11:$G$29,3),VLOOKUP(I7,Feuil1!$A$11:$G$29,2))))),IF(OR(H7=\"SEN\",H7<1995),VLOOKUP(I7,Feuil1!$G$11:$L$25,6),IF(AND(H7>1994,H7<1998),VLOOKUP(I7,Feuil1!$G$11:$L$25,5),IF(AND(H7>1997,H7<2000),VLOOKUP(I7,Feuil1!$G$11:$L$25,4),IF(AND(H7>1999,H7<2002),VLOOKUP(I7,Feuil1!$G$11:$L$25,3),VLOOKUP(I7,Feuil1!$G$11:$L$25,2)))))))","v":"FC2 44"},196.47026303828019,null," ",{"$f":"T7-HLOOKUP(X7,Feuil1!$C$1:$BL$10,2,FALSE)","v":80},{"$f":"T7-HLOOKUP(X7,Feuil1!$C$1:$BL$10,3,FALSE)","v":70},{"$f":"T7-HLOOKUP(X7,Feuil1!$C$1:$BL$10,4,FALSE)","v":60},{"$f":"T7-HLOOKUP(X7,Feuil1!$C$1:$BL$10,5,FALSE)","v":50},{"$f":"T7-HLOOKUP(X7,Feuil1!$C$1:$BL$10,6,FALSE)","v":40},{"$f":"T7-HLOOKUP(X7,Feuil1!$C$1:$BL$10,7,FALSE)","v":30},{"$f":"T7-HLOOKUP(X7,Feuil1!$C$1:$BL$10,8,FALSE)","v":20},{"$f":"T7-HLOOKUP(X7,Feuil1!$C$1:$BL$10,9,FALSE)","v":10},{"$f":"T7-HLOOKUP(X7,Feuil1!$C$1:$BL$10,10,FALSE)","v":-890},null,null,null,null,null,null,"INTA +"]
["F","NORD","NPC",3,344393,"CNOCKAERT","Kelly-Ann",1999,42.2,"CHCD COMINES","BEL",20,23,-26,{"$f":"IF(H8=\"\",\"\",IF(MAXA(L8:N8)<=0,0,MAXA(L8:N8)))","v":23},25,30,-32,{"$f":"IF(H8=\"\",\"\",IF(MAXA(P8:R8)<=0,0,MAXA(P8:R8)))","v":30},{"$f":"IF(H8=\"\",\"\",IF(OR(O8=0,S8=0),0,O8+S8))","v":53},{"$f":"T8-I8*2","v":-31.400000000000006},{"$f":"IF(H8=\"\",\"\",AQ8)","v":"REG +"},{"$f":"IF(AJ8>=0,AJ8,IF(AI8>=0,AI8,IF(AH8>=0,AH8,IF(AG8>=0,AG8,IF(AF8>=0,AF8,IF(AE8>=0,AE8,IF(AD8>=0,AD8,IF(AC8>=0,AC8,AB8))))))))","v":3},{"$f":"IF(I8=\"\",\"\",IF(A8=\"H\",IF(OR(H8=\"SEN\",H8<1995),VLOOKUP(I8,Feuil1!$A$11:$G$29,6),IF(AND(H8>1994,H8<1998),VLOOKUP(I8,Feuil1!$A$11:$G$29,5),IF(AND(H8>1997,H8<2000),VLOOKUP(I8,Feuil1!$A$11:$G$29,4),IF(AND(H8>1999,H8<2002),VLOOKUP(I8,Feuil1!$A$11:$G$29,3),VLOOKUP(I8,Feuil1!$A$11:$G$29,2))))),IF(OR(H8=\"SEN\",H8<1995),VLOOKUP(I8,Feuil1!$G$11:$L$25,6),IF(AND(H8>1994,H8<1998),VLOOKUP(I8,Feuil1!$G$11:$L$25,5),IF(AND(H8>1997,H8<2000),VLOOKUP(I8,Feuil1!$G$11:$L$25,4),IF(AND(H8>1999,H8<2002),VLOOKUP(I8,Feuil1!$G$11:$L$25,3),VLOOKUP(I8,Feuil1!$G$11:$L$25,2)))))))","v":"FC2 44"},{"$f":"IF(I8=\"\",\"\",IF(A8=\"H\",10^(0.794358141*LOG(I8/174.393)^2)*T8,IF(A8=\"F\",10^(0.89726074*LOG(I8/148.026)^2)*T8,\"\")))","v":97.906095763873878},null," ",{"$f":"T8-HLOOKUP(X8,Feuil1!$C$1:$BL$10,2,FALSE)","v":23},{"$f":"T8-HLOOKUP(X8,Feuil1!$C$1:$BL$10,3,FALSE)","v":13},{"$f":"T8-HLOOKUP(X8,Feuil1!$C$1:$BL$10,4,FALSE)","v":3},{"$f":"T8-HLOOKUP(X8,Feuil1!$C$1:$BL$10,5,FALSE)","v":-7},{"$f":"T8-HLOOKUP(X8,Feuil1!$C$1:$BL$10,6,FALSE)","v":-17},{"$f":"T8-HLOOKUP(X8,Feuil1!$C$1:$BL$10,7,FALSE)","v":-27},{"$f":"T8-HLOOKUP(X8,Feuil1!$C$1:$BL$10,8,FALSE)","v":-37},{"$f":"T8-HLOOKUP(X8,Feuil1!$C$1:$BL$10,9,FALSE)","v":-47},{"$f":"T8-HLOOKUP(X8,Feuil1!$C$1:$BL$10,10,FALSE)","v":-947},null,null,null,null,null,null,{"$f":"IF(AJ8>=0,$AJ$4,IF(AI8>=0,$AI$4,IF(AH8>=0,$AH$4,IF(AG8>=0,$AG$4,IF(AF8>=0,$AF$4,IF(AE8>=0,$AE$4,IF(AD8>=0,$AD$4,IF(AC8>=0,$AC$4,$AB$4))))))))","v":"REG +"}]
[null,null,null,null,null,null,null,null,null,null,null,null,null,null,null,null,null,null,null,null,null,null,null,null,null,null," ",{"$f":"T9-HLOOKUP(X9,[1]Feuil1!$C$1:$BL$10,2,FALSE)","v":{"$error":"#N/A"}},{"$f":"T9-HLOOKUP(X9,[1]Feuil1!$C$1:$BL$10,3,FALSE)","v":{"$error":"#N/A"}},{"$f":"T9-HLOOKUP(X9,[1]Feuil1!$C$1:$BL$10,4,FALSE)","v":{"$error":"#N/A"}},{"$f":"T9-HLOOKUP(X9,[1]Feuil1!$C$1:$BL$10,5,FALSE)","v":{"$error":"#N/A"}},{"$f":"T9-HLOOKUP(X9,[1]Feuil1!$C$1:$BL$10,6,FALSE)","v":{"$error":"#N/A"}},{"$f":"T9-HLOOKUP(X9,[1]Feuil1!$C$1:$BL$10,7,FALSE)","v":{"$error":"#N/A"}},{"$f":"T9-HLOOKUP(X9,[1]Feuil1!$C$1:$BL$10,8,FALSE)","v":{"$error":"#N/A"}},{"$f":"T9-HLOOKUP(X9,[1]Feuil1!$C$1:$BL$10,9,FALSE)","v":{"$error":"#N/A"}},{"$f":"T9-HLOOKUP(X9,[1]Feuil1!$C$1:$BL$10,10,FALSE)","v":{"$error":"#N/A"}},null,null,null,null,null,null,{"$error":"#N/A"}]
["F","SO","AQU",1,277832,"RIGAUD","Garance",1999,47.42,"ST MEDARD","F",50,53,55,{"$f":"IF(H10=\"\",\"\",IF(MAXA(L10:N10)<=0,0,MAXA(L10:N10)))","v":55},61,66,68,{"$f":"IF(H10=\"\",\"\",IF(MAXA(P10:R10)<=0,0,MAXA(P10:R10)))","v":68},{"$f":"IF(H10=\"\",\"\",IF(OR(O10=0,S10=0),0,O10+S10))","v":123},{"$f":"T10-I10*2","v":28.159999999999997},{"$f":"IF(H10=\"\",\"\",AQ10)","v":"INTA +"},{"$f":"IF(AJ10>=0,AJ10,IF(AI10>=0,AI10,IF(AH10>=0,AH10,IF(AG10>=0,AG10,IF(AF10>=0,AF10,IF(AE10>=0,AE10,IF(AD10>=0,AD10,IF(AC10>=0,AC10,AB10))))))))","v":13},{"$f":"IF(I10=\"\",\"\",IF(A10=\"H\",IF(OR(H10=\"SEN\",H10<1995),VLOOKUP(I10,Feuil1!$A$11:$G$29,6),IF(AND(H10>1994,H10<1998),VLOOKUP(I10,Feuil1!$A$11:$G$29,5),IF(AND(H10>1997,H10<2000),VLOOKUP(I10,Feuil1!$A$11:$G$29,4),IF(AND(H10>1999,H10<2002),VLOOKUP(I10,Feuil1!$A$11:$G$29,3),VLOOKUP(I10,Feuil1!$A$11:$G$29,2))))),IF(OR(H10=\"SEN\",H10<1995),VLOOKUP(I10,Feuil1!$G$11:$L$25,6),IF(AND(H10>1994,H10<1998),VLOOKUP(I10,Feuil1!$G$11:$L$25,5),IF(AND(H10>1997,H10<2000),VLOOKUP(I10,Feuil1!$G$11:$L$25,4),IF(AND(H10>1999,H10<2002),VLOOKUP(I10,Feuil1!$G$11:$L$25,3),VLOOKUP(I10,Feuil1!$G$11:$L$25,2)))))))","v":"FC2 48"},{"$f":"IF(I10=\"\",\"\",IF(A10=\"H\",10^(0.794358141*LOG(I10/174.393)^2)*T10,IF(A10=\"F\",10^(0.89726074*LOG(I10/148.026)^2)*T10,\"\")))","v":203.79939228367741},null," ",{"$f":"T10-HLOOKUP(X10,Feuil1!$C$1:$BL$10,2,FALSE)","v":88},{"$f":"T10-HLOOKUP(X10,Feuil1!$C$1:$BL$10,3,FALSE)","v":78},{"$f":"T10-HLOOKUP(X10,Feuil1!$C$1:$BL$10,4,FALSE)","v":68},{"$f":"T10-HLOOKUP(X10,Feuil1!$C$1:$BL$10,5,FALSE)","v":58},{"$f":"T10-HLOOKUP(X10,Feuil1!$C$1:$BL$10,6,FALSE)","v":48},{"$f":"T10-HLOOKUP(X10,Feuil1!$C$1:$BL$10,7,FALSE)","v":38},{"$f":"T10-HLOOKUP(X10,Feuil1!$C$1:$BL$10,8,FALSE)","v":28},{"$f":"T10-HLOOKUP(X10,Feuil1!$C$1:$BL$10,9,FALSE)","v":13},{"$f":"T10-HLOOKUP(X10,Feuil1!$C$1:$BL$10,10,FALSE)","v":-877},null,null,null,null,null,null,{"$f":"IF(AJ10>=0,$AJ$4,IF(AI10>=0,$AI$4,IF(AH10>=0,$AH$4,IF(AG10>=0,$AG$4,IF(AF10>=0,$AF$4,IF(AE10>=0,$AE$4,IF(AD10>=0,$AD$4,IF(AC10>=0,$AC$4,$AB$4))))))))","v":"INTA +"}]
["F","SO","AQU",2,298421,"MOCAER","Nolwenn",1999,44.8,"ST MEDARD","F",45,49,52,52,58,62,66,66,118,28.400000000000006,"INTA +",8,{"$f":"IF(I11=\"\",\"\",IF(A11=\"H\",IF(OR(H11=\"SEN\",H11<1995),VLOOKUP(I11,Feuil1!$A$11:$G$29,6),IF(AND(H11>1994,H11<1998),VLOOKUP(I11,Feuil1!$A$11:$G$29,5),IF(AND(H11>1997,H11<2000),VLOOKUP(I11,Feuil1!$A$11:$G$29,4),IF(AND(H11>1999,H11<2002),VLOOKUP(I11,Feuil1!$A$11:$G$29,3),VLOOKUP(I11,Feuil1!$A$11:$G$29,2))))),IF(OR(H11=\"SEN\",H11<1995),VLOOKUP(I11,Feuil1!$G$11:$L$25,6),IF(AND(H11>1994,H11<1998),VLOOKUP(I11,Feuil1!$G$11:$L$25,5),IF(AND(H11>1997,H11<2000),VLOOKUP(I11,Feuil1!$G$11:$L$25,4),IF(AND(H11>1999,H11<2002),VLOOKUP(I11,Feuil1!$G$11:$L$25,3),VLOOKUP(I11,Feuil1!$G$11:$L$25,2)))))))","v":"FC2 48"},205.88510703520629,null," ",{"$f":"T11-HLOOKUP(X11,Feuil1!$C$1:$BL$10,2,FALSE)","v":83},{"$f":"T11-HLOOKUP(X11,Feuil1!$C$1:$BL$10,3,FALSE)","v":73},{"$f":"T11-HLOOKUP(X11,Feuil1!$C$1:$BL$10,4,FALSE)","v":63},{"$f":"T11-HLOOKUP(X11,Feuil1!$C$1:$BL$10,5,FALSE)","v":53},{"$f":"T11-HLOOKUP(X11,Feuil1!$C$1:$BL$10,6,FALSE)","v":43},{"$f":"T11-HLOOKUP(X11,Feuil1!$C$1:$BL$10,7,FALSE)","v":33},{"$f":"T11-HLOOKUP(X11,Feuil1!$C$1:$BL$10,8,FALSE)","v":23},{"$f":"T11-HLOOKUP(X11,Feuil1!$C$1:$BL$10,9,FALSE)","v":8},{"$f":"T11-HLOOKUP(X11,Feuil1!$C$1:$BL$10,10,FALSE)","v":-882},null,null,null,null,null,null,"INTA +"]
["F","SEST","CAZ",3,363002,"MAILLOT","Asia",1998,47.4,"ASLDD TOULON","F",44,46,-49,46,58,60,63,63,109,14.200000000000003,"INTB +",14,{"$f":"IF(I12=\"\",\"\",IF(A12=\"H\",IF(OR(H12=\"SEN\",H12<1995),VLOOKUP(I12,Feuil1!$A$11:$G$29,6),IF(AND(H12>1994,H12<1998),VLOOKUP(I12,Feuil1!$A$11:$G$29,5),IF(AND(H12>1997,H12<2000),VLOOKUP(I12,Feuil1!$A$11:$G$29,4),IF(AND(H12>1999,H12<2002),VLOOKUP(I12,Feuil1!$A$11:$G$29,3),VLOOKUP(I12,Feuil1!$A$11:$G$29,2))))),IF(OR(H12=\"SEN\",H12<1995),VLOOKUP(I12,Feuil1!$G$11:$L$25,6),IF(AND(H12>1994,H12<1998),VLOOKUP(I12,Feuil1!$G$11:$L$25,5),IF(AND(H12>1997,H12<2000),VLOOKUP(I12,Feuil1!$G$11:$L$25,4),IF(AND(H12>1999,H12<2002),VLOOKUP(I12,Feuil1!$G$11:$L$25,3),VLOOKUP(I12,Feuil1!$G$11:$L$25,2)))))))","v":"FC2 48"},180.67032995913615,null," ",{"$f":"T12-HLOOKUP(X12,Feuil1!$C$1:$BL$10,2,FALSE)","v":74},{"$f":"T12-HLOOKUP(X12,Feuil1!$C$1:$BL$10,3,FALSE)","v":64},{"$f":"T12-HLOOKUP(X12,Feuil1!$C$1:$BL$10,4,FALSE)","v":54},{"$f":"T12-HLOOKUP(X12,Feuil1!$C$1:$BL$10,5,FALSE)","v":44},{"$f":"T12-HLOOKUP(X12,Feuil1!$C$1:$BL$10,6,FALSE)","v":34},{"$f":"T12-HLOOKUP(X12,Feuil1!$C$1:$BL$10,7,FALSE)","v":24},{"$f":"T12-HLOOKUP(X12,Feuil1!$C$1:$BL$10,8,FALSE)","v":14},{"$f":"T12-HLOOKUP(X12,Feuil1!$C$1:$BL$10,9,FALSE)","v":-1},{"$f":"T12-HLOOKUP(X12,Feuil1!$C$1:$BL$10,10,FALSE)","v":-891},null,null,null,null,null,null,"INTB +"]
["F","CO","PDL",4,191138,"L'HERMIER","Nolwen",1999,44.7,"CJF Laval-Voutré","F",42,44,46,46,58,60,62,62,108,18.599999999999994,"INTB +",13,{"$f":"IF(I13=\"\",\"\",IF(A13=\"H\",IF(OR(H13=\"SEN\",H13<1995),VLOOKUP(I13,Feuil1!$A$11:$G$29,6),IF(AND(H13>1994,H13<1998),VLOOKUP(I13,Feuil1!$A$11:$G$29,5),IF(AND(H13>1997,H13<2000),VLOOKUP(I13,Feuil1!$A$11:$G$29,4),IF(AND(H13>1999,H13<2002),VLOOKUP(I13,Feuil1!$A$11:$G$29,3),VLOOKUP(I13,Feuil1!$A$11:$G$29,2))))),IF(OR(H13=\"SEN\",H13<1995),VLOOKUP(I13,Feuil1!$G$11:$L$25,6),IF(AND(H13>1994,H13<1998),VLOOKUP(I13,Feuil1!$G$11:$L$25,5),IF(AND(H13>1997,H13<2000),VLOOKUP(I13,Feuil1!$G$11:$L$25,4),IF(AND(H13>1999,H13<2002),VLOOKUP(I13,Feuil1!$G$11:$L$25,3),VLOOKUP(I13,Feuil1!$G$11:$L$25,2)))))))","v":"FC2 48"},188.83022184664699,null," ",{"$f":"T13-HLOOKUP(X13,Feuil1!$C$1:$BL$10,2,FALSE)","v":73},{"$f":"T13-HLOOKUP(X13,Feuil1!$C$1:$BL$10,3,FALSE)","v":63},{"$f":"T13-HLOOKUP(X13,Feuil1!$C$1:$BL$10,4,FALSE)","v":53},{"$f":"T13-HLOOKUP(X13,Feuil1!$C$1:$BL$10,5,FALSE)","v":43},{"$f":"T13-HLOOKUP(X13,Feuil1!$C$1:$BL$10,6,FALSE)","v":33},{"$f":"T13-HLOOKUP(X13,Feuil1!$C$1:$BL$10,7,FALSE)","v":23},{"$f":"T13-HLOOKUP(X13,Feuil1!$C$1:$BL$10,8,FALSE)","v":13},{"$f":"T13-HLOOKUP(X13,Feuil1!$C$1:$BL$10,9,FALSE)","v":-2},{"$f":"T13-HLOOKUP(X13,Feuil1!$C$1:$BL$10,10,FALSE)","v":-892},null,null,null,null,null,null,"INTB +"]
["F","SEST","CAZ",5,295873,"RICHET","Catherine",1999,47.9,"ES VILL LOUBET","F",39,44,47,47,52,58,-62,58,105,9.2000000000000028,"INTB +",10,{"$f":"IF(I14=\"\",\"\",IF(A14=\"H\",IF(OR(H14=\"SEN\",H14<1995),VLOOKUP(I14,Feuil1!$A$11:$G$29,6),IF(AND(H14>1994,H14<1998),VLOOKUP(I14,Feuil1!$A$11:$G$29,5),IF(AND(H14>1997,H14<2000),VLOOKUP(I14,Feuil1!$A$11:$G$29,4),IF(AND(H14>1999,H14<2002),VLOOKUP(I14,Feuil1!$A$11:$G$29,3),VLOOKUP(I14,Feuil1!$A$11:$G$29,2))))),IF(OR(H14=\"SEN\",H14<1995),VLOOKUP(I14,Feuil1!$G$11:$L$25,6),IF(AND(H14>1994,H14<1998),VLOOKUP(I14,Feuil1!$G$11:$L$25,5),IF(AND(H14>1997,H14<2000),VLOOKUP(I14,Feuil1!$G$11:$L$25,4),IF(AND(H14>1999,H14<2002),VLOOKUP(I14,Feuil1!$G$11:$L$25,3),VLOOKUP(I14,Feuil1!$G$11:$L$25,2)))))))","v":"FC2 48"},172.43435325137025,null," ",{"$f":"T14-HLOOKUP(X14,Feuil1!$C$1:$BL$10,2,FALSE)","v":70},{"$f":"T14-HLOOKUP(X14,Feuil1!$C$1:$BL$10,3,FALSE)","v":60},{"$f":"T14-HLOOKUP(X14,Feuil1!$C$1:$BL$10,4,FALSE)","v":50},{"$f":"T14-HLOOKUP(X14,Feuil1!$C$1:$BL$10,5,FALSE)","v":40},{"$f":"T14-HLOOKUP(X14,Feuil1!$C$1:$BL$10,6,FALSE)","v":30},{"$f":"T14-HLOOKUP(X14,Feuil1!$C$1:$BL$10,7,FALSE)","v":20},{"$f":"T14-HLOOKUP(X14,Feuil1!$C$1:$BL$10,8,FALSE)","v":10},{"$f":"T14-HLOOKUP(X14,Feuil1!$C$1:$BL$10,9,FALSE)","v":-5},{"$f":"T14-HLOOKUP(X14,Feuil1!$C$1:$BL$10,10,FALSE)","v":-895},null,null,null,null,null,null,"INTB +"]
["F","SEST","CAZ",6,387211,"CUDIA","Charlotte",1999,45.6,"ASLDD. TOULON","F",35,37,-40,37,43,-46,46,46,83,-8.2000000000000028,"FED +",8,{"$f":"IF(I15=\"\",\"\",IF(A15=\"H\",IF(OR(H15=\"SEN\",H15<1995),VLOOKUP(I15,Feuil1!$A$11:$G$29,6),IF(AND(H15>1994,H15<1998),VLOOKUP(I15,Feuil1!$A$11:$G$29,5),IF(AND(H15>1997,H15<2000),VLOOKUP(I15,Feuil1!$A$11:$G$29,4),IF(AND(H15>1999,H15<2002),VLOOKUP(I15,Feuil1!$A$11:$G$29,3),VLOOKUP(I15,Feuil1!$A$11:$G$29,2))))),IF(OR(H15=\"SEN\",H15<1995),VLOOKUP(I15,Feuil1!$G$11:$L$25,6),IF(AND(H15>1994,H15<1998),VLOOKUP(I15,Feuil1!$G$11:$L$25,5),IF(AND(H15>1997,H15<2000),VLOOKUP(I15,Feuil1!$G$11:$L$25,4),IF(AND(H15>1999,H15<2002),VLOOKUP(I15,Feuil1!$G$11:$L$25,3),VLOOKUP(I15,Feuil1!$G$11:$L$25,2)))))))","v":"FC2 48"},142.46691752703805,null," ",{"$f":"T15-HLOOKUP(X15,Feuil1!$C$1:$BL$10,2,FALSE)","v":48},{"$f":"T15-HLOOKUP(X15,Feuil1!$C$1:$BL$10,3,FALSE)","v":38},{"$f":"T15-HLOOKUP(X15,Feuil1!$C$1:$BL$10,4,FALSE)","v":28},{"$f":"T15-HLOOKUP(X15,Feuil1!$C$1:$BL$10,5,FALSE)","v":18},{"$f":"T15-HLOOKUP(X15,Feuil1!$C$1:$BL$10,6,FALSE)","v":8},{"$f":"T15-HLOOKUP(X15,Feuil1!$C$1:$BL$10,7,FALSE)","v":-2},{"$f":"T15-HLOOKUP(X15,Feuil1!$C$1:$BL$10,8,FALSE)","v":-12},{"$f":"T15-HLOOKUP(X15,Feuil1!$C$1:$BL$10,9,FALSE)","v":-27},{"$f":"T15-HLOOKUP(X15,Feuil1!$C$1:$BL$10,10,FALSE)","v":-917},null,null,null,null,null,null,"FED +"]
["F","SEST","CAZ",7,385815,"GOUDE","Zoe",1999,47.25," ASLDD TOULON","F",27,30,31,31,36,38,41,41,72,-22.5,"IRG +",7,{"$f":"IF(I16=\"\",\"\",IF(A16=\"H\",IF(OR(H16=\"SEN\",H16<1995),VLOOKUP(I16,Feuil1!$A$11:$G$29,6),IF(AND(H16>1994,H16<1998),VLOOKUP(I16,Feuil1!$A$11:$G$29,5),IF(AND(H16>1997,H16<2000),VLOOKUP(I16,Feuil1!$A$11:$G$29,4),IF(AND(H16>1999,H16<2002),VLOOKUP(I16,Feuil1!$A$11:$G$29,3),VLOOKUP(I16,Feuil1!$A$11:$G$29,2))))),IF(OR(H16=\"SEN\",H16<1995),VLOOKUP(I16,Feuil1!$G$11:$L$25,6),IF(AND(H16>1994,H16<1998),VLOOKUP(I16,Feuil1!$G$11:$L$25,5),IF(AND(H16>1997,H16<2000),VLOOKUP(I16,Feuil1!$G$11:$L$25,4),IF(AND(H16>1999,H16<2002),VLOOKUP(I16,Feuil1!$G$11:$L$25,3),VLOOKUP(I16,Feuil1!$G$11:$L$25,2)))))))","v":"FC2 48"},119.67851806826289,null," ",{"$f":"T16-HLOOKUP(X16,Feuil1!$C$1:$BL$10,2,FALSE)","v":37},{"$f":"T16-HLOOKUP(X16,Feuil1!$C$1:$BL$10,3,FALSE)","v":27},{"$f":"T16-HLOOKUP(X16,Feuil1!$C$1:$BL$10,4,FALSE)","v":17},{"$f":"T16-HLOOKUP(X16,Feuil1!$C$1:$BL$10,5,FALSE)","v":7},{"$f":"T16-HLOOKUP(X16,Feuil1!$C$1:$BL$10,6,FALSE)","v":-3},{"$f":"T16-HLOOKUP(X16,Feuil1!$C$1:$BL$10,7,FALSE)","v":-13},{"$f":"T16-HLOOKUP(X16,Feuil1!$C$1:$BL$10,8,FALSE)","v":-23},{"$f":"T16-HLOOKUP(X16,Feuil1!$C$1:$BL$10,9,FALSE)","v":-38},{"$f":"T16-HLOOKUP(X16,Feuil1!$C$1:$BL$10,10,FALSE)","v":-928},null,null,null,null,null,null,"IRG +"]
["F","NORD","PIC",8,378364,"LHERBIEZ","Amandine",1999,47.7,"Villers-Bretonneux KC","F",22,25,-27,25,32,34,36,36,61,-34.400000000000006,"REG +",6,{"$f":"IF(I17=\"\",\"\",IF(A17=\"H\",IF(OR(H17=\"SEN\",H17<1995),VLOOKUP(I17,Feuil1!$A$11:$G$29,6),IF(AND(H17>1994,H17<1998),VLOOKUP(I17,Feuil1!$A$11:$G$29,5),IF(AND(H17>1997,H17<2000),VLOOKUP(I17,Feuil1!$A$11:$G$29,4),IF(AND(H17>1999,H17<2002),VLOOKUP(I17,Feuil1!$A$11:$G$29,3),VLOOKUP(I17,Feuil1!$A$11:$G$29,2))))),IF(OR(H17=\"SEN\",H17<1995),VLOOKUP(I17,Feuil1!$G$11:$L$25,6),IF(AND(H17>1994,H17<1998),VLOOKUP(I17,Feuil1!$G$11:$L$25,5),IF(AND(H17>1997,H17<2000),VLOOKUP(I17,Feuil1!$G$11:$L$25,4),IF(AND(H17>1999,H17<2002),VLOOKUP(I17,Feuil1!$G$11:$L$25,3),VLOOKUP(I17,Feuil1!$G$11:$L$25,2)))))))","v":"FC2 48"},100.54607776642078,null," ",{"$f":"T17-HLOOKUP(X17,Feuil1!$C$1:$BL$10,2,FALSE)","v":26},{"$f":"T17-HLOOKUP(X17,Feuil1!$C$1:$BL$10,3,FALSE)","v":16},{"$f":"T17-HLOOKUP(X17,Feuil1!$C$1:$BL$10,4,FALSE)","v":6},{"$f":"T17-HLOOKUP(X17,Feuil1!$C$1:$BL$10,5,FALSE)","v":-4},{"$f":"T17-HLOOKUP(X17,Feuil1!$C$1:$BL$10,6,FALSE)","v":-14},{"$f":"T17-HLOOKUP(X17,Feuil1!$C$1:$BL$10,7,FALSE)","v":-24},{"$f":"T17-HLOOKUP(X17,Feuil1!$C$1:$BL$10,8,FALSE)","v":-34},{"$f":"T17-HLOOKUP(X17,Feuil1!$C$1:$BL$10,9,FALSE)","v":-49},{"$f":"T17-HLOOKUP(X17,Feuil1!$C$1:$BL$10,10,FALSE)","v":-939},null,null,null,null,null,null,"REG +"]
["F","NORD","NPC",9,376716,"IMPINES","Alicia",1999,45.9,"ST POL SUR MER","F",18,21,24,24,24,26,30,30,54,-37.799999999999997,"DEP +",9,{"$f":"IF(I18=\"\",\"\",IF(A18=\"H\",IF(OR(H18=\"SEN\",H18<1995),VLOOKUP(I18,Feuil1!$A$11:$G$29,6),IF(AND(H18>1994,H18<1998),VLOOKUP(I18,Feuil1!$A$11:$G$29,5),IF(AND(H18>1997,H18<2000),VLOOKUP(I18,Feuil1!$A$11:$G$29,4),IF(AND(H18>1999,H18<2002),VLOOKUP(I18,Feuil1!$A$11:$G$29,3),VLOOKUP(I18,Feuil1!$A$11:$G$29,2))))),IF(OR(H18=\"SEN\",H18<1995),VLOOKUP(I18,Feuil1!$G$11:$L$25,6),IF(AND(H18>1994,H18<1998),VLOOKUP(I18,Feuil1!$G$11:$L$25,5),IF(AND(H18>1997,H18<2000),VLOOKUP(I18,Feuil1!$G$11:$L$25,4),IF(AND(H18>1999,H18<2002),VLOOKUP(I18,Feuil1!$G$11:$L$25,3),VLOOKUP(I18,Feuil1!$G$11:$L$25,2)))))))","v":"FC2 48"},92.134777616048183,null," ",{"$f":"T18-HLOOKUP(X18,Feuil1!$C$1:$BL$10,2,FALSE)","v":19},{"$f":"T18-HLOOKUP(X18,Feuil1!$C$1:$BL$10,3,FALSE)","v":9},{"$f":"T18-HLOOKUP(X18,Feuil1!$C$1:$BL$10,4,FALSE)","v":-1},{"$f":"T18-HLOOKUP(X18,Feuil1!$C$1:$BL$10,5,FALSE)","v":-11},{"$f":"T18-HLOOKUP(X18,Feuil1!$C$1:$BL$10,6,FALSE)","v":-21},{"$f":"T18-HLOOKUP(X18,Feuil1!$C$1:$BL$10,7,FALSE)","v":-31},{"$f":"T18-HLOOKUP(X18,Feuil1!$C$1:$BL$10,8,FALSE)","v":-41},{"$f":"T18-HLOOKUP(X18,Feuil1!$C$1:$BL$10,9,FALSE)","v":-56},{"$f":"T18-HLOOKUP(X18,Feuil1!$C$1:$BL$10,10,FALSE)","v":-946},null,null,null,null,null,null,"DEP +"]
["F","NORD","NPC",10,311496,"DEFONTAINE","Elodie",1999,47.2,"ST POL SUR MER","F",16,18,20,20,25,27,29,29,49,-45.400000000000006,"DEP +",4,{"$f":"IF(I19=\"\",\"\",IF(A19=\"H\",IF(OR(H19=\"SEN\",H19<1995),VLOOKUP(I19,Feuil1!$A$11:$G$29,6),IF(AND(H19>1994,H19<1998),VLOOKUP(I19,Feuil1!$A$11:$G$29,5),IF(AND(H19>1997,H19<2000),VLOOKUP(I19,Feuil1!$A$11:$G$29,4),IF(AND(H19>1999,H19<2002),VLOOKUP(I19,Feuil1!$A$11:$G$29,3),VLOOKUP(I19,Feuil1!$A$11:$G$29,2))))),IF(OR(H19=\"SEN\",H19<1995),VLOOKUP(I19,Feuil1!$G$11:$L$25,6),IF(AND(H19>1994,H19<1998),VLOOKUP(I19,Feuil1!$G$11:$L$25,5),IF(AND(H19>1997,H19<2000),VLOOKUP(I19,Feuil1!$G$11:$L$25,4),IF(AND(H19>1999,H19<2002),VLOOKUP(I19,Feuil1!$G$11:$L$25,3),VLOOKUP(I19,Feuil1!$G$11:$L$25,2)))))))","v":"FC2 48"},81.524697527292332,null," ",{"$f":"T19-HLOOKUP(X19,Feuil1!$C$1:$BL$10,2,FALSE)","v":14},{"$f":"T19-HLOOKUP(X19,Feuil1!$C$1:$BL$10,3,FALSE)","v":4},{"$f":"T19-HLOOKUP(X19,Feuil1!$C$1:$BL$10,4,FALSE)","v":-6},{"$f":"T19-HLOOKUP(X19,Feuil1!$C$1:$BL$10,5,FALSE)","v":-16},{"$f":"T19-HLOOKUP(X19,Feuil1!$C$1:$BL$10,6,FALSE)","v":-26},{"$f":"T19-HLOOKUP(X19,Feuil1!$C$1:$BL$10,7,FALSE)","v":-36},{"$f":"T19-HLOOKUP(X19,Feuil1!$C$1:$BL$10,8,FALSE)","v":-46},{"$f":"T19-HLOOKUP(X19,Feuil1!$C$1:$BL$10,9,FALSE)","v":-61},{"$f":"T19-HLOOKUP(X19,Feuil1!$C$1:$BL$10,10,FALSE)","v":-951},null,null,null,null,null,null,"DEP +"]
["F","SO","MPY",11,375975,"GRIMAL","Claire",1999,46.5,"MONTAUBAN HC","F",14,17,20,20,17,21,25,25,45,-48,"DEP +",0,{"$f":"IF(I20=\"\",\"\",IF(A20=\"H\",IF(OR(H20=\"SEN\",H20<1995),VLOOKUP(I20,Feuil1!$A$11:$G$29,6),IF(AND(H20>1994,H20<1998),VLOOKUP(I20,Feuil1!$A$11:$G$29,5),IF(AND(H20>1997,H20<2000),VLOOKUP(I20,Feuil1!$A$11:$G$29,4),IF(AND(H20>1999,H20<2002),VLOOKUP(I20,Feuil1!$A$11:$G$29,3),VLOOKUP(I20,Feuil1!$A$11:$G$29,2))))),IF(OR(H20=\"SEN\",H20<1995),VLOOKUP(I20,Feuil1!$G$11:$L$25,6),IF(AND(H20>1994,H20<1998),VLOOKUP(I20,Feuil1!$G$11:$L$25,5),IF(AND(H20>1997,H20<2000),VLOOKUP(I20,Feuil1!$G$11:$L$25,4),IF(AND(H20>1999,H20<2002),VLOOKUP(I20,Feuil1!$G$11:$L$25,3),VLOOKUP(I20,Feuil1!$G$11:$L$25,2)))))))","v":"FC2 48"},75.879386336914337,null," ",{"$f":"T20-HLOOKUP(X20,Feuil1!$C$1:$BL$10,2,FALSE)","v":10},{"$f":"T20-HLOOKUP(X20,Feuil1!$C$1:$BL$10,3,FALSE)","v":0},{"$f":"T20-HLOOKUP(X20,Feuil1!$C$1:$BL$10,4,FALSE)","v":-10},{"$f":"T20-HLOOKUP(X20,Feuil1!$C$1:$BL$10,5,FALSE)","v":-20},{"$f":"T20-HLOOKUP(X20,Feuil1!$C$1:$BL$10,6,FALSE)","v":-30},{"$f":"T20-HLOOKUP(X20,Feuil1!$C$1:$BL$10,7,FALSE)","v":-40},{"$f":"T20-HLOOKUP(X20,Feuil1!$C$1:$BL$10,8,FALSE)","v":-50},{"$f":"T20-HLOOKUP(X20,Feuil1!$C$1:$BL$10,9,FALSE)","v":-65},{"$f":"T20-HLOOKUP(X20,Feuil1!$C$1:$BL$10,10,FALSE)","v":-955},null,null,null,null,null,null,"DEP +"]
["F","SEST","PRO",12,397193,"PRIBILSKI","CLARA",1999,44.27,"ISTRES SPORTS","F",10,12,15,15,15,17,19,19,34,-54.540000000000006,"DEB ",-1,{"$f":"IF(I21=\"\",\"\",IF(A21=\"H\",IF(OR(H21=\"SEN\",H21<1995),VLOOKUP(I21,Feuil1!$A$11:$G$29,6),IF(AND(H21>1994,H21<1998),VLOOKUP(I21,Feuil1!$A$11:$G$29,5),IF(AND(H21>1997,H21<2000),VLOOKUP(I21,Feuil1!$A$11:$G$29,4),IF(AND(H21>1999,H21<2002),VLOOKUP(I21,Feuil1!$A$11:$G$29,3),VLOOKUP(I21,Feuil1!$A$11:$G$29,2))))),IF(OR(H21=\"SEN\",H21<1995),VLOOKUP(I21,Feuil1!$G$11:$L$25,6),IF(AND(H21>1994,H21<1998),VLOOKUP(I21,Feuil1!$G$11:$L$25,5),IF(AND(H21>1997,H21<2000),VLOOKUP(I21,Feuil1!$G$11:$L$25,4),IF(AND(H21>1999,H21<2002),VLOOKUP(I21,Feuil1!$G$11:$L$25,3),VLOOKUP(I21,Feuil1!$G$11:$L$25,2)))))))","v":"FC2 48"},59.987405232670554,null," ",{"$f":"T21-HLOOKUP(X21,Feuil1!$C$1:$BL$10,2,FALSE)","v":-1},{"$f":"T21-HLOOKUP(X21,Feuil1!$C$1:$BL$10,3,FALSE)","v":-11},{"$f":"T21-HLOOKUP(X21,Feuil1!$C$1:$BL$10,4,FALSE)","v":-21},{"$f":"T21-HLOOKUP(X21,Feuil1!$C$1:$BL$10,5,FALSE)","v":-31},{"$f":"T21-HLOOKUP(X21,Feuil1!$C$1:$BL$10,6,FALSE)","v":-41},{"$f":"T21-HLOOKUP(X21,Feuil1!$C$1:$BL$10,7,FALSE)","v":-51},{"$f":"T21-HLOOKUP(X21,Feuil1!$C$1:$BL$10,8,FALSE)","v":-61},{"$f":"T21-HLOOKUP(X21,Feuil1!$C$1:$BL$10,9,FALSE)","v":-76},{"$f":"T21-HLOOKUP(X21,Feuil1!$C$1:$BL$10,10,FALSE)","v":-966},null,null,null,null,null,null,"DEB "]
[null,null,null,null,null,null,null,null,null,null,null,null,null,null,null,null,null,null,null,null,null,null,null,null,null,null," ",{"$f":"T22-HLOOKUP(X22,[1]Feuil1!$C$1:$BL$10,2,FALSE)","v":{"$error":"#N/A"}},{"$f":"T22-HLOOKUP(X22,[1]Feuil1!$C$1:$BL$10,3,FALSE)","v":{"$error":"#N/A"}},{"$f":"T22-HLOOKUP(X22,[1]Feuil1!$C$1:$BL$10,4,FALSE)","v":{"$error":"#N/A"}},{"$f":"T22-HLOOKUP(X22,[1]Feuil1!$C$1:$BL$10,5,FALSE)","v":{"$error":"#N/A"}},{"$f":"T22-HLOOKUP(X22,[1]Feuil1!$C$1:$BL$10,6,FALSE)","v":{"$error":"#N/A"}},{"$f":"T22-HLOOKUP(X22,[1]Feuil1!$C$1:$BL$10,7,FALSE)","v":{"$error":"#N/A"}},{"$f":"T22-HLOOKUP(X22,[1]Feuil1!$C$1:$BL$10,8,FALSE)","v":{"$error":"#N/A"}},{"$f":"T22-HLOOKUP(X22,[1]Feuil1!$C$1:$BL$10,9,FALSE)","v":{"$error":"#N/A"}},{"$f":"T22-HLOOKUP(X22,[1]Feuil1!$C$1:$BL$10,10,FALSE)","v":{"$error":"#N/A"}},null,null,null,null,null,null,{"$f":"IF(AJ22>=0,$AJ$4,IF(AI22>=0,$AI$4,IF(AH22>=0,$AH$4,IF(AG22>=0,$AG$4,IF(AF22>=0,$AF$4,IF(AE22>=0,$AE$4,IF(AD22>=0,$AD$4,IF(AC22>=0,$AC$4,$AB$4))))))))","v":{"$error":"#N/A"}}]
["F","NE","FCO",1,382515,"PRUVOT","Samantha",1999,52.8,"LF Besançon","F",45,48,51,{"$f":"IF(H23=\"\",\"\",IF(MAXA(L23:N23)<=0,0,MAXA(L23:N23)))","v":51},58,64,68,{"$f":"IF(H23=\"\",\"\",IF(MAXA(P23:R23)<=0,0,MAXA(P23:R23)))","v":68},{"$f":"IF(H23=\"\",\"\",IF(OR(O23=0,S23=0),0,O23+S23))","v":119},{"$f":"T23-I23*2","v":13.400000000000006},{"$f":"IF(H23=\"\",\"\",AQ23)","v":"INTB +"},{"$f":"IF(AJ23>=0,AJ23,IF(AI23>=0,AI23,IF(AH23>=0,AH23,IF(AG23>=0,AG23,IF(AF23>=0,AF23,IF(AE23>=0,AE23,IF(AD23>=0,AD23,IF(AC23>=0,AC23,AB23))))))))","v":14},{"$f":"IF(I23=\"\",\"\",IF(A23=\"H\",IF(OR(H23=\"SEN\",H23<1995),VLOOKUP(I23,Feuil1!$A$11:$G$29,6),IF(AND(H23>1994,H23<1998),VLOOKUP(I23,Feuil1!$A$11:$G$29,5),IF(AND(H23>1997,H23<2000),VLOOKUP(I23,Feuil1!$A$11:$G$29,4),IF(AND(H23>1999,H23<2002),VLOOKUP(I23,Feuil1!$A$11:$G$29,3),VLOOKUP(I23,Feuil1!$A$11:$G$29,2))))),IF(OR(H23=\"SEN\",H23<1995),VLOOKUP(I23,Feuil1!$G$11:$L$25,6),IF(AND(H23>1994,H23<1998),VLOOKUP(I23,Feuil1!$G$11:$L$25,5),IF(AND(H23>1997,H23<2000),VLOOKUP(I23,Feuil1!$G$11:$L$25,4),IF(AND(H23>1999,H23<2002),VLOOKUP(I23,Feuil1!$G$11:$L$25,3),VLOOKUP(I23,Feuil1!$G$11:$L$25,2)))))))","v":"FC2 53"},{"$f":"IF(I23=\"\",\"\",IF(A23=\"H\",10^(0.794358141*LOG(I23/174.393)^2)*T23,IF(A23=\"F\",10^(0.89726074*LOG(I23/148.026)^2)*T23,\"\")))","v":180.04992999508838},null," ",{"$f":"T23-HLOOKUP(X23,Feuil1!$C$1:$BL$10,2,FALSE)","v":74},{"$f":"T23-HLOOKUP(X23,Feuil1!$C$1:$BL$10,3,FALSE)","v":64},{"$f":"T23-HLOOKUP(X23,Feuil1!$C$1:$BL$10,4,FALSE)","v":54},{"$f":"T23-HLOOKUP(X23,Feuil1!$C$1:$BL$10,5,FALSE)","v":44},{"$f":"T23-HLOOKUP(X23,Feuil1!$C$1:$BL$10,6,FALSE)","v":34},{"$f":"T23-HLOOKUP(X23,Feuil1!$C$1:$BL$10,7,FALSE)","v":24},{"$f":"T23-HLOOKUP(X23,Feuil1!$C$1:$BL$10,8,FALSE)","v":14},{"$f":"T23-HLOOKUP(X23,Feuil1!$C$1:$BL$10,9,FALSE)","v":-1},{"$f":"T23-HLOOKUP(X23,Feuil1!$C$1:$BL$10,10,FALSE)","v":-881},null,null,null,null,null,null,{"$f":"IF(AJ23>=0,$AJ$4,IF(AI23>=0,$AI$4,IF(AH23>=0,$AH$4,IF(AG23>=0,$AG$4,IF(AF23>=0,$AF$4,IF(AE23>=0,$AE$4,IF(AD23>=0,$AD$4,IF(AC23>=0,$AC$4,$AB$4))))))))","v":"INTB +"}]
["F","SO","AQU",2,277832,"RIGAUD","Garance",1999,48.1,"ST MEDARD","F",47,51,54,54,60,-65,-65,60,114,17.799999999999997,"INTB +",9,{"$f":"IF(I24=\"\",\"\",IF(A24=\"H\",IF(OR(H24=\"SEN\",H24<1995),VLOOKUP(I24,Feuil1!$A$11:$G$29,6),IF(AND(H24>1994,H24<1998),VLOOKUP(I24,Feuil1!$A$11:$G$29,5),IF(AND(H24>1997,H24<2000),VLOOKUP(I24,Feuil1!$A$11:$G$29,4),IF(AND(H24>1999,H24<2002),VLOOKUP(I24,Feuil1!$A$11:$G$29,3),VLOOKUP(I24,Feuil1!$A$11:$G$29,2))))),IF(OR(H24=\"SEN\",H24<1995),VLOOKUP(I24,Feuil1!$G$11:$L$25,6),IF(AND(H24>1994,H24<1998),VLOOKUP(I24,Feuil1!$G$11:$L$25,5),IF(AND(H24>1997,H24<2000),VLOOKUP(I24,Feuil1!$G$11:$L$25,4),IF(AND(H24>1999,H24<2002),VLOOKUP(I24,Feuil1!$G$11:$L$25,3),VLOOKUP(I24,Feuil1!$G$11:$L$25,2)))))))","v":"FC2 53"},186.53103411899593,null," ",{"$f":"T24-HLOOKUP(X24,Feuil1!$C$1:$BL$10,2,FALSE)","v":69},{"$f":"T24-HLOOKUP(X24,Feuil1!$C$1:$BL$10,3,FALSE)","v":59},{"$f":"T24-HLOOKUP(X24,Feuil1!$C$1:$BL$10,4,FALSE)","v":49},{"$f":"T24-HLOOKUP(X24,Feuil1!$C$1:$BL$10,5,FALSE)","v":39},{"$f":"T24-HLOOKUP(X24,Feuil1!$C$1:$BL$10,6,FALSE)","v":29},{"$f":"T24-HLOOKUP(X24,Feuil1!$C$1:$BL$10,7,FALSE)","v":19},{"$f":"T24-HLOOKUP(X24,Feuil1!$C$1:$BL$10,8,FALSE)","v":9},{"$f":"T24-HLOOKUP(X24,Feuil1!$C$1:$BL$10,9,FALSE)","v":-6},{"$f":"T24-HLOOKUP(X24,Feuil1!$C$1:$BL$10,10,FALSE)","v":-886},null,null,null,null,null,null,"INTB +"]
["F","SEST","CAZ",3,295873,"RICHET","Catherine",1999,49.25,"ES VILL LOUBET","F",-40,41,44,44,54,58,61,61,105,6.5,"INTB +",0,{"$f":"IF(I25=\"\",\"\",IF(A25=\"H\",IF(OR(H25=\"SEN\",H25<1995),VLOOKUP(I25,Feuil1!$A$11:$G$29,6),IF(AND(H25>1994,H25<1998),VLOOKUP(I25,Feuil1!$A$11:$G$29,5),IF(AND(H25>1997,H25<2000),VLOOKUP(I25,Feuil1!$A$11:$G$29,4),IF(AND(H25>1999,H25<2002),VLOOKUP(I25,Feuil1!$A$11:$G$29,3),VLOOKUP(I25,Feuil1!$A$11:$G$29,2))))),IF(OR(H25=\"SEN\",H25<1995),VLOOKUP(I25,Feuil1!$G$11:$L$25,6),IF(AND(H25>1994,H25<1998),VLOOKUP(I25,Feuil1!$G$11:$L$25,5),IF(AND(H25>1997,H25<2000),VLOOKUP(I25,Feuil1!$G$11:$L$25,4),IF(AND(H25>1999,H25<2002),VLOOKUP(I25,Feuil1!$G$11:$L$25,3),VLOOKUP(I25,Feuil1!$G$11:$L$25,2)))))))","v":"FC2 53"},168.3218511576965,null," ",{"$f":"T25-HLOOKUP(X25,Feuil1!$C$1:$BL$10,2,FALSE)","v":60},{"$f":"T25-HLOOKUP(X25,Feuil1!$C$1:$BL$10,3,FALSE)","v":50},{"$f":"T25-HLOOKUP(X25,Feuil1!$C$1:$BL$10,4,FALSE)","v":40},{"$f":"T25-HLOOKUP(X25,Feuil1!$C$1:$BL$10,5,FALSE)","v":30},{"$f":"T25-HLOOKUP(X25,Feuil1!$C$1:$BL$10,6,FALSE)","v":20},{"$f":"T25-HLOOKUP(X25,Feuil1!$C$1:$BL$10,7,FALSE)","v":10},{"$f":"T25-HLOOKUP(X25,Feuil1!$C$1:$BL$10,8,FALSE)","v":0},{"$f":"T25-HLOOKUP(X25,Feuil1!$C$1:$BL$10,9,FALSE)","v":-15},{"$f":"T25-HLOOKUP(X25,Feuil1!$C$1:$BL$10,10,FALSE)","v":-895},null,null,null,null,null,null,"INTB +"]
["F","SEST","RAL",4,392577,"TESTE","Flavie",1998,52.2,"SAINT MARCELLIN","F",40,44,47,47,58,-62,-62,58,105,0.59999999999999432,"INTB +",0,{"$f":"IF(I26=\"\",\"\",IF(A26=\"H\",IF(OR(H26=\"SEN\",H26<1995),VLOOKUP(I26,Feuil1!$A$11:$G$29,6),IF(AND(H26>1994,H26<1998),VLOOKUP(I26,Feuil1!$A$11:$G$29,5),IF(AND(H26>1997,H26<2000),VLOOKUP(I26,Feuil1!$A$11:$G$29,4),IF(AND(H26>1999,H26<2002),VLOOKUP(I26,Feuil1!$A$11:$G$29,3),VLOOKUP(I26,Feuil1!$A$11:$G$29,2))))),IF(OR(H26=\"SEN\",H26<1995),VLOOKUP(I26,Feuil1!$G$11:$L$25,6),IF(AND(H26>1994,H26<1998),VLOOKUP(I26,Feuil1!$G$11:$L$25,5),IF(AND(H26>1997,H26<2000),VLOOKUP(I26,Feuil1!$G$11:$L$25,4),IF(AND(H26>1999,H26<2002),VLOOKUP(I26,Feuil1!$G$11:$L$25,3),VLOOKUP(I26,Feuil1!$G$11:$L$25,2)))))))","v":"FC2 53"},160.34118270036555,null," ",{"$f":"T26-HLOOKUP(X26,Feuil1!$C$1:$BL$10,2,FALSE)","v":60},{"$f":"T26-HLOOKUP(X26,Feuil1!$C$1:$BL$10,3,FALSE)","v":50},{"$f":"T26-HLOOKUP(X26,Feuil1!$C$1:$BL$10,4,FALSE)","v":40},{"$f":"T26-HLOOKUP(X26,Feuil1!$C$1:$BL$10,5,FALSE)","v":30},{"$f":"T26-HLOOKUP(X26,Feuil1!$C$1:$BL$10,6,FALSE)","v":20},{"$f":"T26-HLOOKUP(X26,Feuil1!$C$1:$BL$10,7,FALSE)","v":10},{"$f":"T26-HLOOKUP(X26,Feuil1!$C$1:$BL$10,8,FALSE)","v":0},{"$f":"T26-HLOOKUP(X26,Feuil1!$C$1:$BL$10,9,FALSE)","v":-15},{"$f":"T26-HLOOKUP(X26,Feuil1!$C$1:$BL$10,10,FALSE)","v":-895},null,null,null,null,null,null,"INTB +"]
["F","DOM","MAR",5,362590,"BOISFER","Priscilla",1999,51,"ABBC/Foyal Didier","F",40,43,-45,43,55,58,-60,58,101,-1,"NAT +",6,{"$f":"IF(I27=\"\",\"\",IF(A27=\"H\",IF(OR(H27=\"SEN\",H27<1995),VLOOKUP(I27,Feuil1!$A$11:$G$29,6),IF(AND(H27>1994,H27<1998),VLOOKUP(I27,Feuil1!$A$11:$G$29,5),IF(AND(H27>1997,H27<2000),VLOOKUP(I27,Feuil1!$A$11:$G$29,4),IF(AND(H27>1999,H27<2002),VLOOKUP(I27,Feuil1!$A$11:$G$29,3),VLOOKUP(I27,Feuil1!$A$11:$G$29,2))))),IF(OR(H27=\"SEN\",H27<1995),VLOOKUP(I27,Feuil1!$G$11:$L$25,6),IF(AND(H27>1994,H27<1998),VLOOKUP(I27,Feuil1!$G$11:$L$25,5),IF(AND(H27>1997,H27<2000),VLOOKUP(I27,Feuil1!$G$11:$L$25,4),IF(AND(H27>1999,H27<2002),VLOOKUP(I27,Feuil1!$G$11:$L$25,3),VLOOKUP(I27,Feuil1!$G$11:$L$25,2)))))))","v":"FC2 53"},157.20755240553757,null," ",{"$f":"T27-HLOOKUP(X27,Feuil1!$C$1:$BL$10,2,FALSE)","v":56},{"$f":"T27-HLOOKUP(X27,Feuil1!$C$1:$BL$10,3,FALSE)","v":46},{"$f":"T27-HLOOKUP(X27,Feuil1!$C$1:$BL$10,4,FALSE)","v":36},{"$f":"T27-HLOOKUP(X27,Feuil1!$C$1:$BL$10,5,FALSE)","v":26},{"$f":"T27-HLOOKUP(X27,Feuil1!$C$1:$BL$10,6,FALSE)","v":16},{"$f":"T27-HLOOKUP(X27,Feuil1!$C$1:$BL$10,7,FALSE)","v":6},{"$f":"T27-HLOOKUP(X27,Feuil1!$C$1:$BL$10,8,FALSE)","v":-4},{"$f":"T27-HLOOKUP(X27,Feuil1!$C$1:$BL$10,9,FALSE)","v":-19},{"$f":"T27-HLOOKUP(X27,Feuil1!$C$1:$BL$10,10,FALSE)","v":-899},null,null,null,null,null,null,"NAT +"]
["F","SEST","CAZ",6,363002,"MAILLOT","Asia",1998,48.8,"ASLDD TOULON","F",40,43,-45,43,50,53,55,55,98,0.40000000000000568,"NAT +",3,{"$f":"IF(I28=\"\",\"\",IF(A28=\"H\",IF(OR(H28=\"SEN\",H28<1995),VLOOKUP(I28,Feuil1!$A$11:$G$29,6),IF(AND(H28>1994,H28<1998),VLOOKUP(I28,Feuil1!$A$11:$G$29,5),IF(AND(H28>1997,H28<2000),VLOOKUP(I28,Feuil1!$A$11:$G$29,4),IF(AND(H28>1999,H28<2002),VLOOKUP(I28,Feuil1!$A$11:$G$29,3),VLOOKUP(I28,Feuil1!$A$11:$G$29,2))))),IF(OR(H28=\"SEN\",H28<1995),VLOOKUP(I28,Feuil1!$G$11:$L$25,6),IF(AND(H28>1994,H28<1998),VLOOKUP(I28,Feuil1!$G$11:$L$25,5),IF(AND(H28>1997,H28<2000),VLOOKUP(I28,Feuil1!$G$11:$L$25,4),IF(AND(H28>1999,H28<2002),VLOOKUP(I28,Feuil1!$G$11:$L$25,3),VLOOKUP(I28,Feuil1!$G$11:$L$25,2)))))))","v":"FC2 53"},158.34724668216069,null," ",{"$f":"T28-HLOOKUP(X28,Feuil1!$C$1:$BL$10,2,FALSE)","v":53},{"$f":"T28-HLOOKUP(X28,Feuil1!$C$1:$BL$10,3,FALSE)","v":43},{"$f":"T28-HLOOKUP(X28,Feuil1!$C$1:$BL$10,4,FALSE)","v":33},{"$f":"T28-HLOOKUP(X28,Feuil1!$C$1:$BL$10,5,FALSE)","v":23},{"$f":"T28-HLOOKUP(X28,Feuil1!$C$1:$BL$10,6,FALSE)","v":13},{"$f":"T28-HLOOKUP(X28,Feuil1!$C$1:$BL$10,7,FALSE)","v":3},{"$f":"T28-HLOOKUP(X28,Feuil1!$C$1:$BL$10,8,FALSE)","v":-7},{"$f":"T28-HLOOKUP(X28,Feuil1!$C$1:$BL$10,9,FALSE)","v":-22},{"$f":"T28-HLOOKUP(X28,Feuil1!$C$1:$BL$10,10,FALSE)","v":-902},null,null,null,null,null,null,"NAT +"]
["F","NORD","PIC",7,326995,"BONNIERE","Priscillia",1999,52.93,"Villers-Bretonneux KC","F",40,43,-44,43,48,52,-55,52,95,-10.86,"NAT +",0,{"$f":"IF(I29=\"\",\"\",IF(A29=\"H\",IF(OR(H29=\"SEN\",H29<1995),VLOOKUP(I29,Feuil1!$A$11:$G$29,6),IF(AND(H29>1994,H29<1998),VLOOKUP(I29,Feuil1!$A$11:$G$29,5),IF(AND(H29>1997,H29<2000),VLOOKUP(I29,Feuil1!$A$11:$G$29,4),IF(AND(H29>1999,H29<2002),VLOOKUP(I29,Feuil1!$A$11:$G$29,3),VLOOKUP(I29,Feuil1!$A$11:$G$29,2))))),IF(OR(H29=\"SEN\",H29<1995),VLOOKUP(I29,Feuil1!$G$11:$L$25,6),IF(AND(H29>1994,H29<1998),VLOOKUP(I29,Feuil1!$G$11:$L$25,5),IF(AND(H29>1997,H29<2000),VLOOKUP(I29,Feuil1!$G$11:$L$25,4),IF(AND(H29>1999,H29<2002),VLOOKUP(I29,Feuil1!$G$11:$L$25,3),VLOOKUP(I29,Feuil1!$G$11:$L$25,2)))))))","v":"FC2 53"},143.45397947938741,null," ",{"$f":"T29-HLOOKUP(X29,Feuil1!$C$1:$BL$10,2,FALSE)","v":50},{"$f":"T29-HLOOKUP(X29,Feuil1!$C$1:$BL$10,3,FALSE)","v":40},{"$f":"T29-HLOOKUP(X29,Feuil1!$C$1:$BL$10,4,FALSE)","v":30},{"$f":"T29-HLOOKUP(X29,Feuil1!$C$1:$BL$10,5,FALSE)","v":20},{"$f":"T29-HLOOKUP(X29,Feuil1!$C$1:$BL$10,6,FALSE)","v":10},{"$f":"T29-HLOOKUP(X29,Feuil1!$C$1:$BL$10,7,FALSE)","v":0},{"$f":"T29-HLOOKUP(X29,Feuil1!$C$1:$BL$10,8,FALSE)","v":-10},{"$f":"T29-HLOOKUP(X29,Feuil1!$C$1:$BL$10,9,FALSE)","v":-25},{"$f":"T29-HLOOKUP(X29,Feuil1!$C$1:$BL$10,10,FALSE)","v":-905},null,null,null,null,null,null,"NAT +"]
["F","CO","BNO",8,285369,"VILLENEUVE","Irys",1998,52.54,"Caen CHM","F",40,-43,-43,40,50,-55,-55,50,90,-15.079999999999998,"FED +",5,{"$f":"IF(I30=\"\",\"\",IF(A30=\"H\",IF(OR(H30=\"SEN\",H30<1995),VLOOKUP(I30,Feuil1!$A$11:$G$29,6),IF(AND(H30>1994,H30<1998),VLOOKUP(I30,Feuil1!$A$11:$G$29,5),IF(AND(H30>1997,H30<2000),VLOOKUP(I30,Feuil1!$A$11:$G$29,4),IF(AND(H30>1999,H30<2002),VLOOKUP(I30,Feuil1!$A$11:$G$29,3),VLOOKUP(I30,Feuil1!$A$11:$G$29,2))))),IF(OR(H30=\"SEN\",H30<1995),VLOOKUP(I30,Feuil1!$G$11:$L$25,6),IF(AND(H30>1994,H30<1998),VLOOKUP(I30,Feuil1!$G$11:$L$25,5),IF(AND(H30>1997,H30<2000),VLOOKUP(I30,Feuil1!$G$11:$L$25,4),IF(AND(H30>1999,H30<2002),VLOOKUP(I30,Feuil1!$G$11:$L$25,3),VLOOKUP(I30,Feuil1!$G$11:$L$25,2)))))))","v":"FC2 53"},136.71464291217478,null," ",{"$f":"T30-HLOOKUP(X30,Feuil1!$C$1:$BL$10,2,FALSE)","v":45},{"$f":"T30-HLOOKUP(X30,Feuil1!$C$1:$BL$10,3,FALSE)","v":35},{"$f":"T30-HLOOKUP(X30,Feuil1!$C$1:$BL$10,4,FALSE)","v":25},{"$f":"T30-HLOOKUP(X30,Feuil1!$C$1:$BL$10,5,FALSE)","v":15},{"$f":"T30-HLOOKUP(X30,Feuil1!$C$1:$BL$10,6,FALSE)","v":5},{"$f":"T30-HLOOKUP(X30,Feuil1!$C$1:$BL$10,7,FALSE)","v":-5},{"$f":"T30-HLOOKUP(X30,Feuil1!$C$1:$BL$10,8,FALSE)","v":-15},{"$f":"T30-HLOOKUP(X30,Feuil1!$C$1:$BL$10,9,FALSE)","v":-30},{"$f":"T30-HLOOKUP(X30,Feuil1!$C$1:$BL$10,10,FALSE)","v":-910},null,null,null,null,null,null,"FED +"]
["F","NE","ALS",9,381293,"FEILLARD","LEA",1998,50.2,"SR Obernai HM","F",-37,37,-40,37,46,50,-52,50,87,-13.400000000000006,"FED +",2,{"$f":"IF(I31=\"\",\"\",IF(A31=\"H\",IF(OR(H31=\"SEN\",H31<1995),VLOOKUP(I31,Feuil1!$A$11:$G$29,6),IF(AND(H31>1994,H31<1998),VLOOKUP(I31,Feuil1!$A$11:$G$29,5),IF(AND(H31>1997,H31<2000),VLOOKUP(I31,Feuil1!$A$11:$G$29,4),IF(AND(H31>1999,H31<2002),VLOOKUP(I31,Feuil1!$A$11:$G$29,3),VLOOKUP(I31,Feuil1!$A$11:$G$29,2))))),IF(OR(H31=\"SEN\",H31<1995),VLOOKUP(I31,Feuil1!$G$11:$L$25,6),IF(AND(H31>1994,H31<1998),VLOOKUP(I31,Feuil1!$G$11:$L$25,5),IF(AND(H31>1997,H31<2000),VLOOKUP(I31,Feuil1!$G$11:$L$25,4),IF(AND(H31>1999,H31<2002),VLOOKUP(I31,Feuil1!$G$11:$L$25,3),VLOOKUP(I31,Feuil1!$G$11:$L$25,2)))))))","v":"FC2 53"},137.21949546774215,null," ",{"$f":"T31-HLOOKUP(X31,Feuil1!$C$1:$BL$10,2,FALSE)","v":42},{"$f":"T31-HLOOKUP(X31,Feuil1!$C$1:$BL$10,3,FALSE)","v":32},{"$f":"T31-HLOOKUP(X31,Feuil1!$C$1:$BL$10,4,FALSE)","v":22},{"$f":"T31-HLOOKUP(X31,Feuil1!$C$1:$BL$10,5,FALSE)","v":12},{"$f":"T31-HLOOKUP(X31,Feuil1!$C$1:$BL$10,6,FALSE)","v":2},{"$f":"T31-HLOOKUP(X31,Feuil1!$C$1:$BL$10,7,FALSE)","v":-8},{"$f":"T31-HLOOKUP(X31,Feuil1!$C$1:$BL$10,8,FALSE)","v":-18},{"$f":"T31-HLOOKUP(X31,Feuil1!$C$1:$BL$10,9,FALSE)","v":-33},{"$f":"T31-HLOOKUP(X31,Feuil1!$C$1:$BL$10,10,FALSE)","v":-913},null,null,null,null,null,null,"FED +"]
["F","CO","BNO",10,380061,"HELIE","PAULINE",1998,51.9,"Stade St Lois","F",28,31,-34,31,35,40,42,42,73,-30.799999999999997,"REG +",8,{"$f":"IF(I32=\"\",\"\",IF(A32=\"H\",IF(OR(H32=\"SEN\",H32<1995),VLOOKUP(I32,Feuil1!$A$11:$G$29,6),IF(AND(H32>1994,H32<1998),VLOOKUP(I32,Feuil1!$A$11:$G$29,5),IF(AND(H32>1997,H32<2000),VLOOKUP(I32,Feuil1!$A$11:$G$29,4),IF(AND(H32>1999,H32<2002),VLOOKUP(I32,Feuil1!$A$11:$G$29,3),VLOOKUP(I32,Feuil1!$A$11:$G$29,2))))),IF(OR(H32=\"SEN\",H32<1995),VLOOKUP(I32,Feuil1!$G$11:$L$25,6),IF(AND(H32>1994,H32<1998),VLOOKUP(I32,Feuil1!$G$11:$L$25,5),IF(AND(H32>1997,H32<2000),VLOOKUP(I32,Feuil1!$G$11:$L$25,4),IF(AND(H32>1999,H32<2002),VLOOKUP(I32,Feuil1!$G$11:$L$25,3),VLOOKUP(I32,Feuil1!$G$11:$L$25,2)))))))","v":"FC2 53"},111.99989731670033,null," ",{"$f":"T32-HLOOKUP(X32,Feuil1!$C$1:$BL$10,2,FALSE)","v":28},{"$f":"T32-HLOOKUP(X32,Feuil1!$C$1:$BL$10,3,FALSE)","v":18},{"$f":"T32-HLOOKUP(X32,Feuil1!$C$1:$BL$10,4,FALSE)","v":8},{"$f":"T32-HLOOKUP(X32,Feuil1!$C$1:$BL$10,5,FALSE)","v":-2},{"$f":"T32-HLOOKUP(X32,Feuil1!$C$1:$BL$10,6,FALSE)","v":-12},{"$f":"T32-HLOOKUP(X32,Feuil1!$C$1:$BL$10,7,FALSE)","v":-22},{"$f":"T32-HLOOKUP(X32,Feuil1!$C$1:$BL$10,8,FALSE)","v":-32},{"$f":"T32-HLOOKUP(X32,Feuil1!$C$1:$BL$10,9,FALSE)","v":-47},{"$f":"T32-HLOOKUP(X32,Feuil1!$C$1:$BL$10,10,FALSE)","v":-927},null,null,null,null,null,null,"REG +"]
["F","SO","MPY",11,375895,"CAUSSE","Lucie",1998,50.4,"PAMIERS HC","F",26,28,31,31,38,41,-44,41,72,-28.799999999999997,"REG +",7,{"$f":"IF(I33=\"\",\"\",IF(A33=\"H\",IF(OR(H33=\"SEN\",H33<1995),VLOOKUP(I33,Feuil1!$A$11:$G$29,6),IF(AND(H33>1994,H33<1998),VLOOKUP(I33,Feuil1!$A$11:$G$29,5),IF(AND(H33>1997,H33<2000),VLOOKUP(I33,Feuil1!$A$11:$G$29,4),IF(AND(H33>1999,H33<2002),VLOOKUP(I33,Feuil1!$A$11:$G$29,3),VLOOKUP(I33,Feuil1!$A$11:$G$29,2))))),IF(OR(H33=\"SEN\",H33<1995),VLOOKUP(I33,Feuil1!$G$11:$L$25,6),IF(AND(H33>1994,H33<1998),VLOOKUP(I33,Feuil1!$G$11:$L$25,5),IF(AND(H33>1997,H33<2000),VLOOKUP(I33,Feuil1!$G$11:$L$25,4),IF(AND(H33>1999,H33<2002),VLOOKUP(I33,Feuil1!$G$11:$L$25,3),VLOOKUP(I33,Feuil1!$G$11:$L$25,2)))))))","v":"FC2 53"},113.18175610377283,null," ",{"$f":"T33-HLOOKUP(X33,Feuil1!$C$1:$BL$10,2,FALSE)","v":27},{"$f":"T33-HLOOKUP(X33,Feuil1!$C$1:$BL$10,3,FALSE)","v":17},{"$f":"T33-HLOOKUP(X33,Feuil1!$C$1:$BL$10,4,FALSE)","v":7},{"$f":"T33-HLOOKUP(X33,Feuil1!$C$1:$BL$10,5,FALSE)","v":-3},{"$f":"T33-HLOOKUP(X33,Feuil1!$C$1:$BL$10,6,FALSE)","v":-13},{"$f":"T33-HLOOKUP(X33,Feuil1!$C$1:$BL$10,7,FALSE)","v":-23},{"$f":"T33-HLOOKUP(X33,Feuil1!$C$1:$BL$10,8,FALSE)","v":-33},{"$f":"T33-HLOOKUP(X33,Feuil1!$C$1:$BL$10,9,FALSE)","v":-48},{"$f":"T33-HLOOKUP(X33,Feuil1!$C$1:$BL$10,10,FALSE)","v":-928},null,null,null,null,null,null,"REG +"]
["F","DOM","GUA",12,367888,"BOUDINE","Rémyka",1998,51.8,"AHCS/Pointois","F",28,32,-35,32,32,37,-40,37,69,-34.599999999999994,"REG +",4,{"$f":"IF(I34=\"\",\"\",IF(A34=\"H\",IF(OR(H34=\"SEN\",H34<1995),VLOOKUP(I34,Feuil1!$A$11:$G$29,6),IF(AND(H34>1994,H34<1998),VLOOKUP(I34,Feuil1!$A$11:$G$29,5),IF(AND(H34>1997,H34<2000),VLOOKUP(I34,Feuil1!$A$11:$G$29,4),IF(AND(H34>1999,H34<2002),VLOOKUP(I34,Feuil1!$A$11:$G$29,3),VLOOKUP(I34,Feuil1!$A$11:$G$29,2))))),IF(OR(H34=\"SEN\",H34<1995),VLOOKUP(I34,Feuil1!$G$11:$L$25,6),IF(AND(H34>1994,H34<1998),VLOOKUP(I34,Feuil1!$G$11:$L$25,5),IF(AND(H34>1997,H34<2000),VLOOKUP(I34,Feuil1!$G$11:$L$25,4),IF(AND(H34>1999,H34<2002),VLOOKUP(I34,Feuil1!$G$11:$L$25,3),VLOOKUP(I34,Feuil1!$G$11:$L$25,2)))))))","v":"FC2 53"},106.02997183630214,null," ",{"$f":"T34-HLOOKUP(X34,Feuil1!$C$1:$BL$10,2,FALSE)","v":24},{"$f":"T34-HLOOKUP(X34,Feuil1!$C$1:$BL$10,3,FALSE)","v":14},{"$f":"T34-HLOOKUP(X34,Feuil1!$C$1:$BL$10,4,FALSE)","v":4},{"$f":"T34-HLOOKUP(X34,Feuil1!$C$1:$BL$10,5,FALSE)","v":-6},{"$f":"T34-HLOOKUP(X34,Feuil1!$C$1:$BL$10,6,FALSE)","v":-16},{"$f":"T34-HLOOKUP(X34,Feuil1!$C$1:$BL$10,7,FALSE)","v":-26},{"$f":"T34-HLOOKUP(X34,Feuil1!$C$1:$BL$10,8,FALSE)","v":-36},{"$f":"T34-HLOOKUP(X34,Feuil1!$C$1:$BL$10,9,FALSE)","v":-51},{"$f":"T34-HLOOKUP(X34,Feuil1!$C$1:$BL$10,10,FALSE)","v":-931},null,null,null,null,null,null,"REG +"]
["F","CO","BNO",13,306045,"Gaultier","Esther",1999,48.6,"Stade St Lois","F",28,30,-32,30,32,34,36,36,66,-31.200000000000003,"REG +",1,{"$f":"IF(I35=\"\",\"\",IF(A35=\"H\",IF(OR(H35=\"SEN\",H35<1995),VLOOKUP(I35,Feuil1!$A$11:$G$29,6),IF(AND(H35>1994,H35<1998),VLOOKUP(I35,Feuil1!$A$11:$G$29,5),IF(AND(H35>1997,H35<2000),VLOOKUP(I35,Feuil1!$A$11:$G$29,4),IF(AND(H35>1999,H35<2002),VLOOKUP(I35,Feuil1!$A$11:$G$29,3),VLOOKUP(I35,Feuil1!$A$11:$G$29,2))))),IF(OR(H35=\"SEN\",H35<1995),VLOOKUP(I35,Feuil1!$G$11:$L$25,6),IF(AND(H35>1994,H35<1998),VLOOKUP(I35,Feuil1!$G$11:$L$25,5),IF(AND(H35>1997,H35<2000),VLOOKUP(I35,Feuil1!$G$11:$L$25,4),IF(AND(H35>1999,H35<2002),VLOOKUP(I35,Feuil1!$G$11:$L$25,3),VLOOKUP(I35,Feuil1!$G$11:$L$25,2)))))))","v":"FC2 53"},107.02214945164988,null," ",{"$f":"T35-HLOOKUP(X35,Feuil1!$C$1:$BL$10,2,FALSE)","v":21},{"$f":"T35-HLOOKUP(X35,Feuil1!$C$1:$BL$10,3,FALSE)","v":11},{"$f":"T35-HLOOKUP(X35,Feuil1!$C$1:$BL$10,4,FALSE)","v":1},{"$f":"T35-HLOOKUP(X35,Feuil1!$C$1:$BL$10,5,FALSE)","v":-9},{"$f":"T35-HLOOKUP(X35,Feuil1!$C$1:$BL$10,6,FALSE)","v":-19},{"$f":"T35-HLOOKUP(X35,Feuil1!$C$1:$BL$10,7,FALSE)","v":-29},{"$f":"T35-HLOOKUP(X35,Feuil1!$C$1:$BL$10,8,FALSE)","v":-39},{"$f":"T35-HLOOKUP(X35,Feuil1!$C$1:$BL$10,9,FALSE)","v":-54},{"$f":"T35-HLOOKUP(X35,Feuil1!$C$1:$BL$10,10,FALSE)","v":-934},null,null,null,null,null,null,"REG +"]
["F","NORD","PIC",14,378364,"LHERBIEZ","Amandine",1999,48.2,"Villers-Bretonneux KC","F",-22,24,27,27,32,35,-38,35,62,-34.400000000000006,"DEP +",7,{"$f":"IF(I36=\"\",\"\",IF(A36=\"H\",IF(OR(H36=\"SEN\",H36<1995),VLOOKUP(I36,Feuil1!$A$11:$G$29,6),IF(AND(H36>1994,H36<1998),VLOOKUP(I36,Feuil1!$A$11:$G$29,5),IF(AND(H36>1997,H36<2000),VLOOKUP(I36,Feuil1!$A$11:$G$29,4),IF(AND(H36>1999,H36<2002),VLOOKUP(I36,Feuil1!$A$11:$G$29,3),VLOOKUP(I36,Feuil1!$A$11:$G$29,2))))),IF(OR(H36=\"SEN\",H36<1995),VLOOKUP(I36,Feuil1!$G$11:$L$25,6),IF(AND(H36>1994,H36<1998),VLOOKUP(I36,Feuil1!$G$11:$L$25,5),IF(AND(H36>1997,H36<2000),VLOOKUP(I36,Feuil1!$G$11:$L$25,4),IF(AND(H36>1999,H36<2002),VLOOKUP(I36,Feuil1!$G$11:$L$25,3),VLOOKUP(I36,Feuil1!$G$11:$L$25,2)))))))","v":"FC2 53"},101.26246192793865,null," ",{"$f":"T36-HLOOKUP(X36,Feuil1!$C$1:$BL$10,2,FALSE)","v":17},{"$f":"T36-HLOOKUP(X36,Feuil1!$C$1:$BL$10,3,FALSE)","v":7},{"$f":"T36-HLOOKUP(X36,Feuil1!$C$1:$BL$10,4,FALSE)","v":-3},{"$f":"T36-HLOOKUP(X36,Feuil1!$C$1:$BL$10,5,FALSE)","v":-13},{"$f":"T36-HLOOKUP(X36,Feuil1!$C$1:$BL$10,6,FALSE)","v":-23},{"$f":"T36-HLOOKUP(X36,Feuil1!$C$1:$BL$10,7,FALSE)","v":-33},{"$f":"T36-HLOOKUP(X36,Feuil1!$C$1:$BL$10,8,FALSE)","v":-43},{"$f":"T36-HLOOKUP(X36,Feuil1!$C$1:$BL$10,9,FALSE)","v":-58},{"$f":"T36-HLOOKUP(X36,Feuil1!$C$1:$BL$10,10,FALSE)","v":-938},null,null,null,null,null,null,"DEP +"]
["F","SEST","PRO",15,312868,"BENJABEUR","Rim",1998,50.8,"EEAR MONTEUX","F",20,24,26,26,28,32,35,35,61,-40.599999999999994,"DEP +",6,{"$f":"IF(I37=\"\",\"\",IF(A37=\"H\",IF(OR(H37=\"SEN\",H37<1995),VLOOKUP(I37,Feuil1!$A$11:$G$29,6),IF(AND(H37>1994,H37<1998),VLOOKUP(I37,Feuil1!$A$11:$G$29,5),IF(AND(H37>1997,H37<2000),VLOOKUP(I37,Feuil1!$A$11:$G$29,4),IF(AND(H37>1999,H37<2002),VLOOKUP(I37,Feuil1!$A$11:$G$29,3),VLOOKUP(I37,Feuil1!$A$11:$G$29,2))))),IF(OR(H37=\"SEN\",H37<1995),VLOOKUP(I37,Feuil1!$G$11:$L$25,6),IF(AND(H37>1994,H37<1998),VLOOKUP(I37,Feuil1!$G$11:$L$25,5),IF(AND(H37>1997,H37<2000),VLOOKUP(I37,Feuil1!$G$11:$L$25,4),IF(AND(H37>1999,H37<2002),VLOOKUP(I37,Feuil1!$G$11:$L$25,3),VLOOKUP(I37,Feuil1!$G$11:$L$25,2)))))))","v":"FC2 53"},95.258032602553612,null," ",{"$f":"T37-HLOOKUP(X37,Feuil1!$C$1:$BL$10,2,FALSE)","v":16},{"$f":"T37-HLOOKUP(X37,Feuil1!$C$1:$BL$10,3,FALSE)","v":6},{"$f":"T37-HLOOKUP(X37,Feuil1!$C$1:$BL$10,4,FALSE)","v":-4},{"$f":"T37-HLOOKUP(X37,Feuil1!$C$1:$BL$10,5,FALSE)","v":-14},{"$f":"T37-HLOOKUP(X37,Feuil1!$C$1:$BL$10,6,FALSE)","v":-24},{"$f":"T37-HLOOKUP(X37,Feuil1!$C$1:$BL$10,7,FALSE)","v":-34},{"$f":"T37-HLOOKUP(X37,Feuil1!$C$1:$BL$10,8,FALSE)","v":-44},{"$f":"T37-HLOOKUP(X37,Feuil1!$C$1:$BL$10,9,FALSE)","v":-59},{"$f":"T37-HLOOKUP(X37,Feuil1!$C$1:$BL$10,10,FALSE)","v":-939},null,null,null,null,null,null,"DEP +"]
["F","NORD","PIC",16,378361,"CHARRAUD","Manon",1998,52.52,"Villers-Bretonneux KC","F",22,25,-27,25,32,36,-40,36,61,-44.040000000000006,"DEP +",6,{"$f":"IF(I38=\"\",\"\",IF(A38=\"H\",IF(OR(H38=\"SEN\",H38<1995),VLOOKUP(I38,Feuil1!$A$11:$G$29,6),IF(AND(H38>1994,H38<1998),VLOOKUP(I38,Feuil1!$A$11:$G$29,5),IF(AND(H38>1997,H38<2000),VLOOKUP(I38,Feuil1!$A$11:$G$29,4),IF(AND(H38>1999,H38<2002),VLOOKUP(I38,Feuil1!$A$11:$G$29,3),VLOOKUP(I38,Feuil1!$A$11:$G$29,2))))),IF(OR(H38=\"SEN\",H38<1995),VLOOKUP(I38,Feuil1!$G$11:$L$25,6),IF(AND(H38>1994,H38<1998),VLOOKUP(I38,Feuil1!$G$11:$L$25,5),IF(AND(H38>1997,H38<2000),VLOOKUP(I38,Feuil1!$G$11:$L$25,4),IF(AND(H38>1999,H38<2002),VLOOKUP(I38,Feuil1!$G$11:$L$25,3),VLOOKUP(I38,Feuil1!$G$11:$L$25,2)))))))","v":"FC2 53"},92.690636434056515,null," ",{"$f":"T38-HLOOKUP(X38,Feuil1!$C$1:$BL$10,2,FALSE)","v":16},{"$f":"T38-HLOOKUP(X38,Feuil1!$C$1:$BL$10,3,FALSE)","v":6},{"$f":"T38-HLOOKUP(X38,Feuil1!$C$1:$BL$10,4,FALSE)","v":-4},{"$f":"T38-HLOOKUP(X38,Feuil1!$C$1:$BL$10,5,FALSE)","v":-14},{"$f":"T38-HLOOKUP(X38,Feuil1!$C$1:$BL$10,6,FALSE)","v":-24},{"$f":"T38-HLOOKUP(X38,Feuil1!$C$1:$BL$10,7,FALSE)","v":-34},{"$f":"T38-HLOOKUP(X38,Feuil1!$C$1:$BL$10,8,FALSE)","v":-44},{"$f":"T38-HLOOKUP(X38,Feuil1!$C$1:$BL$10,9,FALSE)","v":-59},{"$f":"T38-HLOOKUP(X38,Feuil1!$C$1:$BL$10,10,FALSE)","v":-939},null,null,null,null,null,null,"DEP +"]
["F","SEST","RAL",17,391553,"FLASSEUR","Amélie",1998,52.6,"SAINT MARCELLIN","F",-25,25,27,27,30,34,-37,34,61,-44.2,"DEP +",6,{"$f":"IF(I39=\"\",\"\",IF(A39=\"H\",IF(OR(H39=\"SEN\",H39<1995),VLOOKUP(I39,Feuil1!$A$11:$G$29,6),IF(AND(H39>1994,H39<1998),VLOOKUP(I39,Feuil1!$A$11:$G$29,5),IF(AND(H39>1997,H39<2000),VLOOKUP(I39,Feuil1!$A$11:$G$29,4),IF(AND(H39>1999,H39<2002),VLOOKUP(I39,Feuil1!$A$11:$G$29,3),VLOOKUP(I39,Feuil1!$A$11:$G$29,2))))),IF(OR(H39=\"SEN\",H39<1995),VLOOKUP(I39,Feuil1!$G$11:$L$25,6),IF(AND(H39>1994,H39<1998),VLOOKUP(I39,Feuil1!$G$11:$L$25,5),IF(AND(H39>1997,H39<2000),VLOOKUP(I39,Feuil1!$G$11:$L$25,4),IF(AND(H39>1999,H39<2002),VLOOKUP(I39,Feuil1!$G$11:$L$25,3),VLOOKUP(I39,Feuil1!$G$11:$L$25,2)))))))","v":"FC2 53"},92.576858300753059,null," ",{"$f":"T39-HLOOKUP(X39,Feuil1!$C$1:$BL$10,2,FALSE)","v":16},{"$f":"T39-HLOOKUP(X39,Feuil1!$C$1:$BL$10,3,FALSE)","v":6},{"$f":"T39-HLOOKUP(X39,Feuil1!$C$1:$BL$10,4,FALSE)","v":-4},{"$f":"T39-HLOOKUP(X39,Feuil1!$C$1:$BL$10,5,FALSE)","v":-14},{"$f":"T39-HLOOKUP(X39,Feuil1!$C$1:$BL$10,6,FALSE)","v":-24},{"$f":"T39-HLOOKUP(X39,Feuil1!$C$1:$BL$10,7,FALSE)","v":-34},{"$f":"T39-HLOOKUP(X39,Feuil1!$C$1:$BL$10,8,FALSE)","v":-44},{"$f":"T39-HLOOKUP(X39,Feuil1!$C$1:$BL$10,9,FALSE)","v":-59},{"$f":"T39-HLOOKUP(X39,Feuil1!$C$1:$BL$10,10,FALSE)","v":-939},null,null,null,null,null,null,"DEP +"]
["F","SEST","RAL",18,364637,"GIRMA","Lucile",1998,50.8,"CH Arbresle","F",18,21,23,23,28,31,34,34,57,-44.599999999999994,"DEP +",2,{"$f":"IF(I40=\"\",\"\",IF(A40=\"H\",IF(OR(H40=\"SEN\",H40<1995),VLOOKUP(I40,Feuil1!$A$11:$G$29,6),IF(AND(H40>1994,H40<1998),VLOOKUP(I40,Feuil1!$A$11:$G$29,5),IF(AND(H40>1997,H40<2000),VLOOKUP(I40,Feuil1!$A$11:$G$29,4),IF(AND(H40>1999,H40<2002),VLOOKUP(I40,Feuil1!$A$11:$G$29,3),VLOOKUP(I40,Feuil1!$A$11:$G$29,2))))),IF(OR(H40=\"SEN\",H40<1995),VLOOKUP(I40,Feuil1!$G$11:$L$25,6),IF(AND(H40>1994,H40<1998),VLOOKUP(I40,Feuil1!$G$11:$L$25,5),IF(AND(H40>1997,H40<2000),VLOOKUP(I40,Feuil1!$G$11:$L$25,4),IF(AND(H40>1999,H40<2002),VLOOKUP(I40,Feuil1!$G$11:$L$25,3),VLOOKUP(I40,Feuil1!$G$11:$L$25,2)))))))","v":"FC2 53"},89.011604235173053,null," ",{"$f":"T40-HLOOKUP(X40,Feuil1!$C$1:$BL$10,2,FALSE)","v":12},{"$f":"T40-HLOOKUP(X40,Feuil1!$C$1:$BL$10,3,FALSE)","v":2},{"$f":"T40-HLOOKUP(X40,Feuil1!$C$1:$BL$10,4,FALSE)","v":-8},{"$f":"T40-HLOOKUP(X40,Feuil1!$C$1:$BL$10,5,FALSE)","v":-18},{"$f":"T40-HLOOKUP(X40,Feuil1!$C$1:$BL$10,6,FALSE)","v":-28},{"$f":"T40-HLOOKUP(X40,Feuil1!$C$1:$BL$10,7,FALSE)","v":-38},{"$f":"T40-HLOOKUP(X40,Feuil1!$C$1:$BL$10,8,FALSE)","v":-48},{"$f":"T40-HLOOKUP(X40,Feuil1!$C$1:$BL$10,9,FALSE)","v":-63},{"$f":"T40-HLOOKUP(X40,Feuil1!$C$1:$BL$10,10,FALSE)","v":-943},null,null,null,null,null,null,"DEP +"]
["F","NE","ALS",19,381287,"NEBOIT","ZOE",1999,52.2,"SR Obernai HM","F",21,23,-25,23,27,30,33,33,56,-48.400000000000006,"DEP +",1,{"$f":"IF(I41=\"\",\"\",IF(A41=\"H\",IF(OR(H41=\"SEN\",H41<1995),VLOOKUP(I41,Feuil1!$A$11:$G$29,6),IF(AND(H41>1994,H41<1998),VLOOKUP(I41,Feuil1!$A$11:$G$29,5),IF(AND(H41>1997,H41<2000),VLOOKUP(I41,Feuil1!$A$11:$G$29,4),IF(AND(H41>1999,H41<2002),VLOOKUP(I41,Feuil1!$A$11:$G$29,3),VLOOKUP(I41,Feuil1!$A$11:$G$29,2))))),IF(OR(H41=\"SEN\",H41<1995),VLOOKUP(I41,Feuil1!$G$11:$L$25,6),IF(AND(H41>1994,H41<1998),VLOOKUP(I41,Feuil1!$G$11:$L$25,5),IF(AND(H41>1997,H41<2000),VLOOKUP(I41,Feuil1!$G$11:$L$25,4),IF(AND(H41>1999,H41<2002),VLOOKUP(I41,Feuil1!$G$11:$L$25,3),VLOOKUP(I41,Feuil1!$G$11:$L$25,2)))))))","v":"FC2 53"},85.515297440194971,null," ",{"$f":"T41-HLOOKUP(X41,Feuil1!$C$1:$BL$10,2,FALSE)","v":11},{"$f":"T41-HLOOKUP(X41,Feuil1!$C$1:$BL$10,3,FALSE)","v":1},{"$f":"T41-HLOOKUP(X41,Feuil1!$C$1:$BL$10,4,FALSE)","v":-9},{"$f":"T41-HLOOKUP(X41,Feuil1!$C$1:$BL$10,5,FALSE)","v":-19},{"$f":"T41-HLOOKUP(X41,Feuil1!$C$1:$BL$10,6,FALSE)","v":-29},{"$f":"T41-HLOOKUP(X41,Feuil1!$C$1:$BL$10,7,FALSE)","v":-39},{"$f":"T41-HLOOKUP(X41,Feuil1!$C$1:$BL$10,8,FALSE)","v":-49},{"$f":"T41-HLOOKUP(X41,Feuil1!$C$1:$BL$10,9,FALSE)","v":-64},{"$f":"T41-HLOOKUP(X41,Feuil1!$C$1:$BL$10,10,FALSE)","v":-944},null,null,null,null,null,null,"DEP +"]
["F","NE","ALS",20,381286,"BALLANB SCHMIDT","ZOE",1998,51.3,"SR Obernai HM","F",-20,-20,20,20,25,27,30,30,50,-52.599999999999994,"DEB ",5,{"$f":"IF(I42=\"\",\"\",IF(A42=\"H\",IF(OR(H42=\"SEN\",H42<1995),VLOOKUP(I42,Feuil1!$A$11:$G$29,6),IF(AND(H42>1994,H42<1998),VLOOKUP(I42,Feuil1!$A$11:$G$29,5),IF(AND(H42>1997,H42<2000),VLOOKUP(I42,Feuil1!$A$11:$G$29,4),IF(AND(H42>1999,H42<2002),VLOOKUP(I42,Feuil1!$A$11:$G$29,3),VLOOKUP(I42,Feuil1!$A$11:$G$29,2))))),IF(OR(H42=\"SEN\",H42<1995),VLOOKUP(I42,Feuil1!$G$11:$L$25,6),IF(AND(H42>1994,H42<1998),VLOOKUP(I42,Feuil1!$G$11:$L$25,5),IF(AND(H42>1997,H42<2000),VLOOKUP(I42,Feuil1!$G$11:$L$25,4),IF(AND(H42>1999,H42<2002),VLOOKUP(I42,Feuil1!$G$11:$L$25,3),VLOOKUP(I42,Feuil1!$G$11:$L$25,2)))))))","v":"FC2 53"},77.448418396072086,null," ",{"$f":"T42-HLOOKUP(X42,Feuil1!$C$1:$BL$10,2,FALSE)","v":5},{"$f":"T42-HLOOKUP(X42,Feuil1!$C$1:$BL$10,3,FALSE)","v":-5},{"$f":"T42-HLOOKUP(X42,Feuil1!$C$1:$BL$10,4,FALSE)","v":-15},{"$f":"T42-HLOOKUP(X42,Feuil1!$C$1:$BL$10,5,FALSE)","v":-25},{"$f":"T42-HLOOKUP(X42,Feuil1!$C$1:$BL$10,6,FALSE)","v":-35},{"$f":"T42-HLOOKUP(X42,Feuil1!$C$1:$BL$10,7,FALSE)","v":-45},{"$f":"T42-HLOOKUP(X42,Feuil1!$C$1:$BL$10,8,FALSE)","v":-55},{"$f":"T42-HLOOKUP(X42,Feuil1!$C$1:$BL$10,9,FALSE)","v":-70},{"$f":"T42-HLOOKUP(X42,Feuil1!$C$1:$BL$10,10,FALSE)","v":-950},null,null,null,null,null,null,"DEB "]
[null,null,null,null,null,null,null,null,null,null,null,null,null,null,null,null,null,null,null,null,null,null,null,null,null,null," ",{"$f":"T43-HLOOKUP(X43,[1]Feuil1!$C$1:$BL$10,2,FALSE)","v":{"$error":"#N/A"}},{"$f":"T43-HLOOKUP(X43,[1]Feuil1!$C$1:$BL$10,3,FALSE)","v":{"$error":"#N/A"}},{"$f":"T43-HLOOKUP(X43,[1]Feuil1!$C$1:$BL$10,4,FALSE)","v":{"$error":"#N/A"}},{"$f":"T43-HLOOKUP(X43,[1]Feuil1!$C$1:$BL$10,5,FALSE)","v":{"$error":"#N/A"}},{"$f":"T43-HLOOKUP(X43,[1]Feuil1!$C$1:$BL$10,6,FALSE)","v":{"$error":"#N/A"}},{"$f":"T43-HLOOKUP(X43,[1]Feuil1!$C$1:$BL$10,7,FALSE)","v":{"$error":"#N/A"}},{"$f":"T43-HLOOKUP(X43,[1]Feuil1!$C$1:$BL$10,8,FALSE)","v":{"$error":"#N/A"}},{"$f":"T43-HLOOKUP(X43,[1]Feuil1!$C$1:$BL$10,9,FALSE)","v":{"$error":"#N/A"}},{"$f":"T43-HLOOKUP(X43,[1]Feuil1!$C$1:$BL$10,10,FALSE)","v":{"$error":"#N/A"}},null,null,null,null,null,null,{"$f":"IF(AJ43>=0,$AJ$4,IF(AI43>=0,$AI$4,IF(AH43>=0,$AH$4,IF(AG43>=0,$AG$4,IF(AF43>=0,$AF$4,IF(AE43>=0,$AE$4,IF(AD43>=0,$AD$4,IF(AC43>=0,$AC$4,$AB$4))))))))","v":{"$error":"#N/A"}}]
["F","NORD","PIC",1,260923,"ARNOULD","Lutricia",1998,57.8,"Villers-Bretonneux KC","F",58,61,63,{"$f":"IF(H44=\"\",\"\",IF(MAXA(L44:N44)<=0,0,MAXA(L44:N44)))","v":63},73,76,78,{"$f":"IF(H44=\"\",\"\",IF(MAXA(P44:R44)<=0,0,MAXA(P44:R44)))","v":78},{"$f":"IF(H44=\"\",\"\",IF(OR(O44=0,S44=0),0,O44+S44))","v":141},{"$f":"T44-I44*2","v":25.400000000000006},{"$f":"IF(H44=\"\",\"\",AQ44)","v":"INTA +"},{"$f":"IF(AJ44>=0,AJ44,IF(AI44>=0,AI44,IF(AH44>=0,AH44,IF(AG44>=0,AG44,IF(AF44>=0,AF44,IF(AE44>=0,AE44,IF(AD44>=0,AD44,IF(AC44>=0,AC44,AB44))))))))","v":11},{"$f":"IF(I44=\"\",\"\",IF(A44=\"H\",IF(OR(H44=\"SEN\",H44<1995),VLOOKUP(I44,Feuil1!$A$11:$G$29,6),IF(AND(H44>1994,H44<1998),VLOOKUP(I44,Feuil1!$A$11:$G$29,5),IF(AND(H44>1997,H44<2000),VLOOKUP(I44,Feuil1!$A$11:$G$29,4),IF(AND(H44>1999,H44<2002),VLOOKUP(I44,Feuil1!$A$11:$G$29,3),VLOOKUP(I44,Feuil1!$A$11:$G$29,2))))),IF(OR(H44=\"SEN\",H44<1995),VLOOKUP(I44,Feuil1!$G$11:$L$25,6),IF(AND(H44>1994,H44<1998),VLOOKUP(I44,Feuil1!$G$11:$L$25,5),IF(AND(H44>1997,H44<2000),VLOOKUP(I44,Feuil1!$G$11:$L$25,4),IF(AND(H44>1999,H44<2002),VLOOKUP(I44,Feuil1!$G$11:$L$25,3),VLOOKUP(I44,Feuil1!$G$11:$L$25,2)))))))","v":"FC2 58"},{"$f":"IF(I44=\"\",\"\",IF(A44=\"H\",10^(0.794358141*LOG(I44/174.393)^2)*T44,IF(A44=\"F\",10^(0.89726074*LOG(I44/148.026)^2)*T44,\"\")))","v":199.01287970816287},null," ",{"$f":"T44-HLOOKUP(X44,Feuil1!$C$1:$BL$10,2,FALSE)","v":91},{"$f":"T44-HLOOKUP(X44,Feuil1!$C$1:$BL$10,3,FALSE)","v":81},{"$f":"T44-HLOOKUP(X44,Feuil1!$C$1:$BL$10,4,FALSE)","v":71},{"$f":"T44-HLOOKUP(X44,Feuil1!$C$1:$BL$10,5,FALSE)","v":61},{"$f":"T44-HLOOKUP(X44,Feuil1!$C$1:$BL$10,6,FALSE)","v":51},{"$f":"T44-HLOOKUP(X44,Feuil1!$C$1:$BL$10,7,FALSE)","v":41},{"$f":"T44-HLOOKUP(X44,Feuil1!$C$1:$BL$10,8,FALSE)","v":26},{"$f":"T44-HLOOKUP(X44,Feuil1!$C$1:$BL$10,9,FALSE)","v":11},{"$f":"T44-HLOOKUP(X44,Feuil1!$C$1:$BL$10,10,FALSE)","v":-859},null,null,null,null,null,null,{"$f":"IF(AJ44>=0,$AJ$4,IF(AI44>=0,$AI$4,IF(AH44>=0,$AH$4,IF(AG44>=0,$AG$4,IF(AF44>=0,$AF$4,IF(AE44>=0,$AE$4,IF(AD44>=0,$AD$4,IF(AC44>=0,$AC$4,$AB$4))))))))","v":"INTA +"}]
["F","DOM","MAR",2,286912,"KICHENAMA","Clara",1999,55,"ABBC/Foyal Didier","F",40,45,50,50,55,60,65,65,115,5,"INTB +",0,{"$f":"IF(I45=\"\",\"\",IF(A45=\"H\",IF(OR(H45=\"SEN\",H45<1995),VLOOKUP(I45,Feuil1!$A$11:$G$29,6),IF(AND(H45>1994,H45<1998),VLOOKUP(I45,Feuil1!$A$11:$G$29,5),IF(AND(H45>1997,H45<2000),VLOOKUP(I45,Feuil1!$A$11:$G$29,4),IF(AND(H45>1999,H45<2002),VLOOKUP(I45,Feuil1!$A$11:$G$29,3),VLOOKUP(I45,Feuil1!$A$11:$G$29,2))))),IF(OR(H45=\"SEN\",H45<1995),VLOOKUP(I45,Feuil1!$G$11:$L$25,6),IF(AND(H45>1994,H45<1998),VLOOKUP(I45,Feuil1!$G$11:$L$25,5),IF(AND(H45>1997,H45<2000),VLOOKUP(I45,Feuil1!$G$11:$L$25,4),IF(AND(H45>1999,H45<2002),VLOOKUP(I45,Feuil1!$G$11:$L$25,3),VLOOKUP(I45,Feuil1!$G$11:$L$25,2)))))))","v":"FC2 58"},168.49317075616256,null," ",{"$f":"T45-HLOOKUP(X45,Feuil1!$C$1:$BL$10,2,FALSE)","v":65},{"$f":"T45-HLOOKUP(X45,Feuil1!$C$1:$BL$10,3,FALSE)","v":55},{"$f":"T45-HLOOKUP(X45,Feuil1!$C$1:$BL$10,4,FALSE)","v":45},{"$f":"T45-HLOOKUP(X45,Feuil1!$C$1:$BL$10,5,FALSE)","v":35},{"$f":"T45-HLOOKUP(X45,Feuil1!$C$1:$BL$10,6,FALSE)","v":25},{"$f":"T45-HLOOKUP(X45,Feuil1!$C$1:$BL$10,7,FALSE)","v":15},{"$f":"T45-HLOOKUP(X45,Feuil1!$C$1:$BL$10,8,FALSE)","v":0},{"$f":"T45-HLOOKUP(X45,Feuil1!$C$1:$BL$10,9,FALSE)","v":-15},{"$f":"T45-HLOOKUP(X45,Feuil1!$C$1:$BL$10,10,FALSE)","v":-885},null,null,null,null,null,null,"INTB +"]
["F","NORD","NPC",3,208590,"HOUZE","Océane",1998,57.1,"CHCD COMINES","F",47,-50,51,51,60,64,-66,64,115,0.79999999999999716,"INTB +",0,{"$f":"IF(I46=\"\",\"\",IF(A46=\"H\",IF(OR(H46=\"SEN\",H46<1995),VLOOKUP(I46,Feuil1!$A$11:$G$29,6),IF(AND(H46>1994,H46<1998),VLOOKUP(I46,Feuil1!$A$11:$G$29,5),IF(AND(H46>1997,H46<2000),VLOOKUP(I46,Feuil1!$A$11:$G$29,4),IF(AND(H46>1999,H46<2002),VLOOKUP(I46,Feuil1!$A$11:$G$29,3),VLOOKUP(I46,Feuil1!$A$11:$G$29,2))))),IF(OR(H46=\"SEN\",H46<1995),VLOOKUP(I46,Feuil1!$G$11:$L$25,6),IF(AND(H46>1994,H46<1998),VLOOKUP(I46,Feuil1!$G$11:$L$25,5),IF(AND(H46>1997,H46<2000),VLOOKUP(I46,Feuil1!$G$11:$L$25,4),IF(AND(H46>1999,H46<2002),VLOOKUP(I46,Feuil1!$G$11:$L$25,3),VLOOKUP(I46,Feuil1!$G$11:$L$25,2)))))))","v":"FC2 58"},163.78093665258106,null," ",{"$f":"T46-HLOOKUP(X46,Feuil1!$C$1:$BL$10,2,FALSE)","v":65},{"$f":"T46-HLOOKUP(X46,Feuil1!$C$1:$BL$10,3,FALSE)","v":55},{"$f":"T46-HLOOKUP(X46,Feuil1!$C$1:$BL$10,4,FALSE)","v":45},{"$f":"T46-HLOOKUP(X46,Feuil1!$C$1:$BL$10,5,FALSE)","v":35},{"$f":"T46-HLOOKUP(X46,Feuil1!$C$1:$BL$10,6,FALSE)","v":25},{"$f":"T46-HLOOKUP(X46,Feuil1!$C$1:$BL$10,7,FALSE)","v":15},{"$f":"T46-HLOOKUP(X46,Feuil1!$C$1:$BL$10,8,FALSE)","v":0},{"$f":"T46-HLOOKUP(X46,Feuil1!$C$1:$BL$10,9,FALSE)","v":-15},{"$f":"T46-HLOOKUP(X46,Feuil1!$C$1:$BL$10,10,FALSE)","v":-885},null,null,null,null,null,null,"INTB +"]
["F","SEST","CAZ",4,339283,"DULIO ","Ambre",1999,57.4,"ES VILL LOUBET","F",46,-50,50,50,56,-59,-60,56,106,-8.7999999999999972,"NAT +",6,{"$f":"IF(I47=\"\",\"\",IF(A47=\"H\",IF(OR(H47=\"SEN\",H47<1995),VLOOKUP(I47,Feuil1!$A$11:$G$29,6),IF(AND(H47>1994,H47<1998),VLOOKUP(I47,Feuil1!$A$11:$G$29,5),IF(AND(H47>1997,H47<2000),VLOOKUP(I47,Feuil1!$A$11:$G$29,4),IF(AND(H47>1999,H47<2002),VLOOKUP(I47,Feuil1!$A$11:$G$29,3),VLOOKUP(I47,Feuil1!$A$11:$G$29,2))))),IF(OR(H47=\"SEN\",H47<1995),VLOOKUP(I47,Feuil1!$G$11:$L$25,6),IF(AND(H47>1994,H47<1998),VLOOKUP(I47,Feuil1!$G$11:$L$25,5),IF(AND(H47>1997,H47<2000),VLOOKUP(I47,Feuil1!$G$11:$L$25,4),IF(AND(H47>1999,H47<2002),VLOOKUP(I47,Feuil1!$G$11:$L$25,3),VLOOKUP(I47,Feuil1!$G$11:$L$25,2)))))))","v":"FC2 58"},150.37875581728613,null," ",{"$f":"T47-HLOOKUP(X47,Feuil1!$C$1:$BL$10,2,FALSE)","v":56},{"$f":"T47-HLOOKUP(X47,Feuil1!$C$1:$BL$10,3,FALSE)","v":46},{"$f":"T47-HLOOKUP(X47,Feuil1!$C$1:$BL$10,4,FALSE)","v":36},{"$f":"T47-HLOOKUP(X47,Feuil1!$C$1:$BL$10,5,FALSE)","v":26},{"$f":"T47-HLOOKUP(X47,Feuil1!$C$1:$BL$10,6,FALSE)","v":16},{"$f":"T47-HLOOKUP(X47,Feuil1!$C$1:$BL$10,7,FALSE)","v":6},{"$f":"T47-HLOOKUP(X47,Feuil1!$C$1:$BL$10,8,FALSE)","v":-9},{"$f":"T47-HLOOKUP(X47,Feuil1!$C$1:$BL$10,9,FALSE)","v":-24},{"$f":"T47-HLOOKUP(X47,Feuil1!$C$1:$BL$10,10,FALSE)","v":-894},null,null,null,null,null,null,"NAT +"]
["F","NORD","NPC",5,280129,"BOUDRAHEM","Inès",1999,56.72,"ST POL SUR MER","F",40,43,45,45,55,58,-61,58,103,-10.439999999999998,"NAT +",3,{"$f":"IF(I48=\"\",\"\",IF(A48=\"H\",IF(OR(H48=\"SEN\",H48<1995),VLOOKUP(I48,Feuil1!$A$11:$G$29,6),IF(AND(H48>1994,H48<1998),VLOOKUP(I48,Feuil1!$A$11:$G$29,5),IF(AND(H48>1997,H48<2000),VLOOKUP(I48,Feuil1!$A$11:$G$29,4),IF(AND(H48>1999,H48<2002),VLOOKUP(I48,Feuil1!$A$11:$G$29,3),VLOOKUP(I48,Feuil1!$A$11:$G$29,2))))),IF(OR(H48=\"SEN\",H48<1995),VLOOKUP(I48,Feuil1!$G$11:$L$25,6),IF(AND(H48>1994,H48<1998),VLOOKUP(I48,Feuil1!$G$11:$L$25,5),IF(AND(H48>1997,H48<2000),VLOOKUP(I48,Feuil1!$G$11:$L$25,4),IF(AND(H48>1999,H48<2002),VLOOKUP(I48,Feuil1!$G$11:$L$25,3),VLOOKUP(I48,Feuil1!$G$11:$L$25,2)))))))","v":"FC2 58"},147.42228785145494,null," ",{"$f":"T48-HLOOKUP(X48,Feuil1!$C$1:$BL$10,2,FALSE)","v":53},{"$f":"T48-HLOOKUP(X48,Feuil1!$C$1:$BL$10,3,FALSE)","v":43},{"$f":"T48-HLOOKUP(X48,Feuil1!$C$1:$BL$10,4,FALSE)","v":33},{"$f":"T48-HLOOKUP(X48,Feuil1!$C$1:$BL$10,5,FALSE)","v":23},{"$f":"T48-HLOOKUP(X48,Feuil1!$C$1:$BL$10,6,FALSE)","v":13},{"$f":"T48-HLOOKUP(X48,Feuil1!$C$1:$BL$10,7,FALSE)","v":3},{"$f":"T48-HLOOKUP(X48,Feuil1!$C$1:$BL$10,8,FALSE)","v":-12},{"$f":"T48-HLOOKUP(X48,Feuil1!$C$1:$BL$10,9,FALSE)","v":-27},{"$f":"T48-HLOOKUP(X48,Feuil1!$C$1:$BL$10,10,FALSE)","v":-897},null,null,null,null,null,null,"NAT +"]
["F","NORD","PIC",6,326995,"BONNIERE","Priscillia",1999,54.8,"Villers-Bretonneux KC","F",38,42,45,45,48,52,-54,52,97,-12.599999999999994,"FED +",7,{"$f":"IF(I49=\"\",\"\",IF(A49=\"H\",IF(OR(H49=\"SEN\",H49<1995),VLOOKUP(I49,Feuil1!$A$11:$G$29,6),IF(AND(H49>1994,H49<1998),VLOOKUP(I49,Feuil1!$A$11:$G$29,5),IF(AND(H49>1997,H49<2000),VLOOKUP(I49,Feuil1!$A$11:$G$29,4),IF(AND(H49>1999,H49<2002),VLOOKUP(I49,Feuil1!$A$11:$G$29,3),VLOOKUP(I49,Feuil1!$A$11:$G$29,2))))),IF(OR(H49=\"SEN\",H49<1995),VLOOKUP(I49,Feuil1!$G$11:$L$25,6),IF(AND(H49>1994,H49<1998),VLOOKUP(I49,Feuil1!$G$11:$L$25,5),IF(AND(H49>1997,H49<2000),VLOOKUP(I49,Feuil1!$G$11:$L$25,4),IF(AND(H49>1999,H49<2002),VLOOKUP(I49,Feuil1!$G$11:$L$25,3),VLOOKUP(I49,Feuil1!$G$11:$L$25,2)))))))","v":"FC2 58"},142.52111623674423,null," ",{"$f":"T49-HLOOKUP(X49,Feuil1!$C$1:$BL$10,2,FALSE)","v":47},{"$f":"T49-HLOOKUP(X49,Feuil1!$C$1:$BL$10,3,FALSE)","v":37},{"$f":"T49-HLOOKUP(X49,Feuil1!$C$1:$BL$10,4,FALSE)","v":27},{"$f":"T49-HLOOKUP(X49,Feuil1!$C$1:$BL$10,5,FALSE)","v":17},{"$f":"T49-HLOOKUP(X49,Feuil1!$C$1:$BL$10,6,FALSE)","v":7},{"$f":"T49-HLOOKUP(X49,Feuil1!$C$1:$BL$10,7,FALSE)","v":-3},{"$f":"T49-HLOOKUP(X49,Feuil1!$C$1:$BL$10,8,FALSE)","v":-18},{"$f":"T49-HLOOKUP(X49,Feuil1!$C$1:$BL$10,9,FALSE)","v":-33},{"$f":"T49-HLOOKUP(X49,Feuil1!$C$1:$BL$10,10,FALSE)","v":-903},null,null,null,null,null,null,"FED +"]
["F","SEST","RAL",7,379666,"RAILLON","Emilie",1998,56.79,"VALENCE","F",-40,-40,40,40,50,52,-54,52,92,-21.58,"FED +",2,{"$f":"IF(I50=\"\",\"\",IF(A50=\"H\",IF(OR(H50=\"SEN\",H50<1995),VLOOKUP(I50,Feuil1!$A$11:$G$29,6),IF(AND(H50>1994,H50<1998),VLOOKUP(I50,Feuil1!$A$11:$G$29,5),IF(AND(H50>1997,H50<2000),VLOOKUP(I50,Feuil1!$A$11:$G$29,4),IF(AND(H50>1999,H50<2002),VLOOKUP(I50,Feuil1!$A$11:$G$29,3),VLOOKUP(I50,Feuil1!$A$11:$G$29,2))))),IF(OR(H50=\"SEN\",H50<1995),VLOOKUP(I50,Feuil1!$G$11:$L$25,6),IF(AND(H50>1994,H50<1998),VLOOKUP(I50,Feuil1!$G$11:$L$25,5),IF(AND(H50>1997,H50<2000),VLOOKUP(I50,Feuil1!$G$11:$L$25,4),IF(AND(H50>1999,H50<2002),VLOOKUP(I50,Feuil1!$G$11:$L$25,3),VLOOKUP(I50,Feuil1!$G$11:$L$25,2)))))))","v":"FC2 58"},131.5568775249607,null," ",{"$f":"T50-HLOOKUP(X50,Feuil1!$C$1:$BL$10,2,FALSE)","v":42},{"$f":"T50-HLOOKUP(X50,Feuil1!$C$1:$BL$10,3,FALSE)","v":32},{"$f":"T50-HLOOKUP(X50,Feuil1!$C$1:$BL$10,4,FALSE)","v":22},{"$f":"T50-HLOOKUP(X50,Feuil1!$C$1:$BL$10,5,FALSE)","v":12},{"$f":"T50-HLOOKUP(X50,Feuil1!$C$1:$BL$10,6,FALSE)","v":2},{"$f":"T50-HLOOKUP(X50,Feuil1!$C$1:$BL$10,7,FALSE)","v":-8},{"$f":"T50-HLOOKUP(X50,Feuil1!$C$1:$BL$10,8,FALSE)","v":-23},{"$f":"T50-HLOOKUP(X50,Feuil1!$C$1:$BL$10,9,FALSE)","v":-38},{"$f":"T50-HLOOKUP(X50,Feuil1!$C$1:$BL$10,10,FALSE)","v":-908},null,null,null,null,null,null,"FED +"]
["F","DOM","GUA",8,367889,"UFREN","Aurore",1998,57.9,"AHCS/Pointois","F",35,40,-43,40,45,50,52,52,92,-23.799999999999997,"FED +",2,{"$f":"IF(I51=\"\",\"\",IF(A51=\"H\",IF(OR(H51=\"SEN\",H51<1995),VLOOKUP(I51,Feuil1!$A$11:$G$29,6),IF(AND(H51>1994,H51<1998),VLOOKUP(I51,Feuil1!$A$11:$G$29,5),IF(AND(H51>1997,H51<2000),VLOOKUP(I51,Feuil1!$A$11:$G$29,4),IF(AND(H51>1999,H51<2002),VLOOKUP(I51,Feuil1!$A$11:$G$29,3),VLOOKUP(I51,Feuil1!$A$11:$G$29,2))))),IF(OR(H51=\"SEN\",H51<1995),VLOOKUP(I51,Feuil1!$G$11:$L$25,6),IF(AND(H51>1994,H51<1998),VLOOKUP(I51,Feuil1!$G$11:$L$25,5),IF(AND(H51>1997,H51<2000),VLOOKUP(I51,Feuil1!$G$11:$L$25,4),IF(AND(H51>1999,H51<2002),VLOOKUP(I51,Feuil1!$G$11:$L$25,3),VLOOKUP(I51,Feuil1!$G$11:$L$25,2)))))))","v":"FC2 58"},129.68812075608454,null," ",{"$f":"T51-HLOOKUP(X51,Feuil1!$C$1:$BL$10,2,FALSE)","v":42},{"$f":"T51-HLOOKUP(X51,Feuil1!$C$1:$BL$10,3,FALSE)","v":32},{"$f":"T51-HLOOKUP(X51,Feuil1!$C$1:$BL$10,4,FALSE)","v":22},{"$f":"T51-HLOOKUP(X51,Feuil1!$C$1:$BL$10,5,FALSE)","v":12},{"$f":"T51-HLOOKUP(X51,Feuil1!$C$1:$BL$10,6,FALSE)","v":2},{"$f":"T51-HLOOKUP(X51,Feuil1!$C$1:$BL$10,7,FALSE)","v":-8},{"$f":"T51-HLOOKUP(X51,Feuil1!$C$1:$BL$10,8,FALSE)","v":-23},{"$f":"T51-HLOOKUP(X51,Feuil1!$C$1:$BL$10,9,FALSE)","v":-38},{"$f":"T51-HLOOKUP(X51,Feuil1!$C$1:$BL$10,10,FALSE)","v":-908},null,null,null,null,null,null,"FED +"]
["F","CO","BNO",9,285369,"VILLENEUVE","IRYS",1998,53.6,"Caen CHM","F",37,-40,40,40,48,51,-54,51,91,-16.200000000000003,"FED +",1,{"$f":"IF(I52=\"\",\"\",IF(A52=\"H\",IF(OR(H52=\"SEN\",H52<1995),VLOOKUP(I52,Feuil1!$A$11:$G$29,6),IF(AND(H52>1994,H52<1998),VLOOKUP(I52,Feuil1!$A$11:$G$29,5),IF(AND(H52>1997,H52<2000),VLOOKUP(I52,Feuil1!$A$11:$G$29,4),IF(AND(H52>1999,H52<2002),VLOOKUP(I52,Feuil1!$A$11:$G$29,3),VLOOKUP(I52,Feuil1!$A$11:$G$29,2))))),IF(OR(H52=\"SEN\",H52<1995),VLOOKUP(I52,Feuil1!$G$11:$L$25,6),IF(AND(H52>1994,H52<1998),VLOOKUP(I52,Feuil1!$G$11:$L$25,5),IF(AND(H52>1997,H52<2000),VLOOKUP(I52,Feuil1!$G$11:$L$25,4),IF(AND(H52>1999,H52<2002),VLOOKUP(I52,Feuil1!$G$11:$L$25,3),VLOOKUP(I52,Feuil1!$G$11:$L$25,2)))))))","v":"FC2 58"},136.04377173259485,null," ",{"$f":"T52-HLOOKUP(X52,Feuil1!$C$1:$BL$10,2,FALSE)","v":41},{"$f":"T52-HLOOKUP(X52,Feuil1!$C$1:$BL$10,3,FALSE)","v":31},{"$f":"T52-HLOOKUP(X52,Feuil1!$C$1:$BL$10,4,FALSE)","v":21},{"$f":"T52-HLOOKUP(X52,Feuil1!$C$1:$BL$10,5,FALSE)","v":11},{"$f":"T52-HLOOKUP(X52,Feuil1!$C$1:$BL$10,6,FALSE)","v":1},{"$f":"T52-HLOOKUP(X52,Feuil1!$C$1:$BL$10,7,FALSE)","v":-9},{"$f":"T52-HLOOKUP(X52,Feuil1!$C$1:$BL$10,8,FALSE)","v":-24},{"$f":"T52-HLOOKUP(X52,Feuil1!$C$1:$BL$10,9,FALSE)","v":-39},{"$f":"T52-HLOOKUP(X52,Feuil1!$C$1:$BL$10,10,FALSE)","v":-909},null,null,null,null,null,null,"FED +"]
["F","SEST","CAZ",10,385817,"POIRSON","Samantha",1998,56.14,"ASLDD. TOULON","F",35,-37,-37,35,50,-53,53,53,88,-24.28,"IRG +",8,{"$f":"IF(I53=\"\",\"\",IF(A53=\"H\",IF(OR(H53=\"SEN\",H53<1995),VLOOKUP(I53,Feuil1!$A$11:$G$29,6),IF(AND(H53>1994,H53<1998),VLOOKUP(I53,Feuil1!$A$11:$G$29,5),IF(AND(H53>1997,H53<2000),VLOOKUP(I53,Feuil1!$A$11:$G$29,4),IF(AND(H53>1999,H53<2002),VLOOKUP(I53,Feuil1!$A$11:$G$29,3),VLOOKUP(I53,Feuil1!$A$11:$G$29,2))))),IF(OR(H53=\"SEN\",H53<1995),VLOOKUP(I53,Feuil1!$G$11:$L$25,6),IF(AND(H53>1994,H53<1998),VLOOKUP(I53,Feuil1!$G$11:$L$25,5),IF(AND(H53>1997,H53<2000),VLOOKUP(I53,Feuil1!$G$11:$L$25,4),IF(AND(H53>1999,H53<2002),VLOOKUP(I53,Feuil1!$G$11:$L$25,3),VLOOKUP(I53,Feuil1!$G$11:$L$25,2)))))))","v":"FC2 58"},126.92980817308982,null," ",{"$f":"T53-HLOOKUP(X53,Feuil1!$C$1:$BL$10,2,FALSE)","v":38},{"$f":"T53-HLOOKUP(X53,Feuil1!$C$1:$BL$10,3,FALSE)","v":28},{"$f":"T53-HLOOKUP(X53,Feuil1!$C$1:$BL$10,4,FALSE)","v":18},{"$f":"T53-HLOOKUP(X53,Feuil1!$C$1:$BL$10,5,FALSE)","v":8},{"$f":"T53-HLOOKUP(X53,Feuil1!$C$1:$BL$10,6,FALSE)","v":-2},{"$f":"T53-HLOOKUP(X53,Feuil1!$C$1:$BL$10,7,FALSE)","v":-12},{"$f":"T53-HLOOKUP(X53,Feuil1!$C$1:$BL$10,8,FALSE)","v":-27},{"$f":"T53-HLOOKUP(X53,Feuil1!$C$1:$BL$10,9,FALSE)","v":-42},{"$f":"T53-HLOOKUP(X53,Feuil1!$C$1:$BL$10,10,FALSE)","v":-912},null,null,null,null,null,null,"IRG +"]
["F","DOM","GUA",11,339433,"CHALDER","Lou Ann",1999,57.5,"AHCS/Pointois","F",30,32,35,35,35,40,-42,40,75,-40,"REG +",5,{"$f":"IF(I54=\"\",\"\",IF(A54=\"H\",IF(OR(H54=\"SEN\",H54<1995),VLOOKUP(I54,Feuil1!$A$11:$G$29,6),IF(AND(H54>1994,H54<1998),VLOOKUP(I54,Feuil1!$A$11:$G$29,5),IF(AND(H54>1997,H54<2000),VLOOKUP(I54,Feuil1!$A$11:$G$29,4),IF(AND(H54>1999,H54<2002),VLOOKUP(I54,Feuil1!$A$11:$G$29,3),VLOOKUP(I54,Feuil1!$A$11:$G$29,2))))),IF(OR(H54=\"SEN\",H54<1995),VLOOKUP(I54,Feuil1!$G$11:$L$25,6),IF(AND(H54>1994,H54<1998),VLOOKUP(I54,Feuil1!$G$11:$L$25,5),IF(AND(H54>1997,H54<2000),VLOOKUP(I54,Feuil1!$G$11:$L$25,4),IF(AND(H54>1999,H54<2002),VLOOKUP(I54,Feuil1!$G$11:$L$25,3),VLOOKUP(I54,Feuil1!$G$11:$L$25,2)))))))","v":"FC2 58"},106.26353734213941,null," ",{"$f":"T54-HLOOKUP(X54,Feuil1!$C$1:$BL$10,2,FALSE)","v":25},{"$f":"T54-HLOOKUP(X54,Feuil1!$C$1:$BL$10,3,FALSE)","v":15},{"$f":"T54-HLOOKUP(X54,Feuil1!$C$1:$BL$10,4,FALSE)","v":5},{"$f":"T54-HLOOKUP(X54,Feuil1!$C$1:$BL$10,5,FALSE)","v":-5},{"$f":"T54-HLOOKUP(X54,Feuil1!$C$1:$BL$10,6,FALSE)","v":-15},{"$f":"T54-HLOOKUP(X54,Feuil1!$C$1:$BL$10,7,FALSE)","v":-25},{"$f":"T54-HLOOKUP(X54,Feuil1!$C$1:$BL$10,8,FALSE)","v":-40},{"$f":"T54-HLOOKUP(X54,Feuil1!$C$1:$BL$10,9,FALSE)","v":-55},{"$f":"T54-HLOOKUP(X54,Feuil1!$C$1:$BL$10,10,FALSE)","v":-925},null,null,null,null,null,null,"REG +"]
["F","NORD","PIC",12,357294,"MICHEL PINGUERBE","Chloé",1999,57.1,"Villers-Bretonneux KC","F",27,30,33,33,35,38,40,40,73,-41.2,"REG +",3,{"$f":"IF(I55=\"\",\"\",IF(A55=\"H\",IF(OR(H55=\"SEN\",H55<1995),VLOOKUP(I55,Feuil1!$A$11:$G$29,6),IF(AND(H55>1994,H55<1998),VLOOKUP(I55,Feuil1!$A$11:$G$29,5),IF(AND(H55>1997,H55<2000),VLOOKUP(I55,Feuil1!$A$11:$G$29,4),IF(AND(H55>1999,H55<2002),VLOOKUP(I55,Feuil1!$A$11:$G$29,3),VLOOKUP(I55,Feuil1!$A$11:$G$29,2))))),IF(OR(H55=\"SEN\",H55<1995),VLOOKUP(I55,Feuil1!$G$11:$L$25,6),IF(AND(H55>1994,H55<1998),VLOOKUP(I55,Feuil1!$G$11:$L$25,5),IF(AND(H55>1997,H55<2000),VLOOKUP(I55,Feuil1!$G$11:$L$25,4),IF(AND(H55>1999,H55<2002),VLOOKUP(I55,Feuil1!$G$11:$L$25,3),VLOOKUP(I55,Feuil1!$G$11:$L$25,2)))))))","v":"FC2 58"},103.96529022294276,null," ",{"$f":"T55-HLOOKUP(X55,Feuil1!$C$1:$BL$10,2,FALSE)","v":23},{"$f":"T55-HLOOKUP(X55,Feuil1!$C$1:$BL$10,3,FALSE)","v":13},{"$f":"T55-HLOOKUP(X55,Feuil1!$C$1:$BL$10,4,FALSE)","v":3},{"$f":"T55-HLOOKUP(X55,Feuil1!$C$1:$BL$10,5,FALSE)","v":-7},{"$f":"T55-HLOOKUP(X55,Feuil1!$C$1:$BL$10,6,FALSE)","v":-17},{"$f":"T55-HLOOKUP(X55,Feuil1!$C$1:$BL$10,7,FALSE)","v":-27},{"$f":"T55-HLOOKUP(X55,Feuil1!$C$1:$BL$10,8,FALSE)","v":-42},{"$f":"T55-HLOOKUP(X55,Feuil1!$C$1:$BL$10,9,FALSE)","v":-57},{"$f":"T55-HLOOKUP(X55,Feuil1!$C$1:$BL$10,10,FALSE)","v":-927},null,null,null,null,null,null,"REG +"]
["F","SO","MPY",13,279235,"AUNAY","Amélie",1998,57.8,"COLOMIERS US","F",25,28,30,30,35,39,42,42,72,-43.599999999999994,"REG +",2,{"$f":"IF(I56=\"\",\"\",IF(A56=\"H\",IF(OR(H56=\"SEN\",H56<1995),VLOOKUP(I56,Feuil1!$A$11:$G$29,6),IF(AND(H56>1994,H56<1998),VLOOKUP(I56,Feuil1!$A$11:$G$29,5),IF(AND(H56>1997,H56<2000),VLOOKUP(I56,Feuil1!$A$11:$G$29,4),IF(AND(H56>1999,H56<2002),VLOOKUP(I56,Feuil1!$A$11:$G$29,3),VLOOKUP(I56,Feuil1!$A$11:$G$29,2))))),IF(OR(H56=\"SEN\",H56<1995),VLOOKUP(I56,Feuil1!$G$11:$L$25,6),IF(AND(H56>1994,H56<1998),VLOOKUP(I56,Feuil1!$G$11:$L$25,5),IF(AND(H56>1997,H56<2000),VLOOKUP(I56,Feuil1!$G$11:$L$25,4),IF(AND(H56>1999,H56<2002),VLOOKUP(I56,Feuil1!$G$11:$L$25,3),VLOOKUP(I56,Feuil1!$G$11:$L$25,2)))))))","v":"FC2 58"},101.62359814884913,null," ",{"$f":"T56-HLOOKUP(X56,Feuil1!$C$1:$BL$10,2,FALSE)","v":22},{"$f":"T56-HLOOKUP(X56,Feuil1!$C$1:$BL$10,3,FALSE)","v":12},{"$f":"T56-HLOOKUP(X56,Feuil1!$C$1:$BL$10,4,FALSE)","v":2},{"$f":"T56-HLOOKUP(X56,Feuil1!$C$1:$BL$10,5,FALSE)","v":-8},{"$f":"T56-HLOOKUP(X56,Feuil1!$C$1:$BL$10,6,FALSE)","v":-18},{"$f":"T56-HLOOKUP(X56,Feuil1!$C$1:$BL$10,7,FALSE)","v":-28},{"$f":"T56-HLOOKUP(X56,Feuil1!$C$1:$BL$10,8,FALSE)","v":-43},{"$f":"T56-HLOOKUP(X56,Feuil1!$C$1:$BL$10,9,FALSE)","v":-58},{"$f":"T56-HLOOKUP(X56,Feuil1!$C$1:$BL$10,10,FALSE)","v":-928},null,null,null,null,null,null,"REG +"]
["F","NORD","PIC",14,378361,"CHARRAUD","Manon",1998,53.3,"Villers-Bretonneux KC","F",24,27,28,28,35,38,-40,38,66,-40.599999999999994,"DEP +",6,{"$f":"IF(I57=\"\",\"\",IF(A57=\"H\",IF(OR(H57=\"SEN\",H57<1995),VLOOKUP(I57,Feuil1!$A$11:$G$29,6),IF(AND(H57>1994,H57<1998),VLOOKUP(I57,Feuil1!$A$11:$G$29,5),IF(AND(H57>1997,H57<2000),VLOOKUP(I57,Feuil1!$A$11:$G$29,4),IF(AND(H57>1999,H57<2002),VLOOKUP(I57,Feuil1!$A$11:$G$29,3),VLOOKUP(I57,Feuil1!$A$11:$G$29,2))))),IF(OR(H57=\"SEN\",H57<1995),VLOOKUP(I57,Feuil1!$G$11:$L$25,6),IF(AND(H57>1994,H57<1998),VLOOKUP(I57,Feuil1!$G$11:$L$25,5),IF(AND(H57>1997,H57<2000),VLOOKUP(I57,Feuil1!$G$11:$L$25,4),IF(AND(H57>1999,H57<2002),VLOOKUP(I57,Feuil1!$G$11:$L$25,3),VLOOKUP(I57,Feuil1!$G$11:$L$25,2)))))))","v":"FC2 58"},99.109744946910752,null," ",{"$f":"T57-HLOOKUP(X57,Feuil1!$C$1:$BL$10,2,FALSE)","v":16},{"$f":"T57-HLOOKUP(X57,Feuil1!$C$1:$BL$10,3,FALSE)","v":6},{"$f":"T57-HLOOKUP(X57,Feuil1!$C$1:$BL$10,4,FALSE)","v":-4},{"$f":"T57-HLOOKUP(X57,Feuil1!$C$1:$BL$10,5,FALSE)","v":-14},{"$f":"T57-HLOOKUP(X57,Feuil1!$C$1:$BL$10,6,FALSE)","v":-24},{"$f":"T57-HLOOKUP(X57,Feuil1!$C$1:$BL$10,7,FALSE)","v":-34},{"$f":"T57-HLOOKUP(X57,Feuil1!$C$1:$BL$10,8,FALSE)","v":-49},{"$f":"T57-HLOOKUP(X57,Feuil1!$C$1:$BL$10,9,FALSE)","v":-64},{"$f":"T57-HLOOKUP(X57,Feuil1!$C$1:$BL$10,10,FALSE)","v":-934},null,null,null,null,null,null,"DEP +"]
["F","SEST","RAL",15,391553,"FLASSEUR","Amélie",1998,54.1,"SAINT MARCELLIN","F",25,27,29,29,32,35,37,37,66,-42.2,"DEP +",6,{"$f":"IF(I58=\"\",\"\",IF(A58=\"H\",IF(OR(H58=\"SEN\",H58<1995),VLOOKUP(I58,Feuil1!$A$11:$G$29,6),IF(AND(H58>1994,H58<1998),VLOOKUP(I58,Feuil1!$A$11:$G$29,5),IF(AND(H58>1997,H58<2000),VLOOKUP(I58,Feuil1!$A$11:$G$29,4),IF(AND(H58>1999,H58<2002),VLOOKUP(I58,Feuil1!$A$11:$G$29,3),VLOOKUP(I58,Feuil1!$A$11:$G$29,2))))),IF(OR(H58=\"SEN\",H58<1995),VLOOKUP(I58,Feuil1!$G$11:$L$25,6),IF(AND(H58>1994,H58<1998),VLOOKUP(I58,Feuil1!$G$11:$L$25,5),IF(AND(H58>1997,H58<2000),VLOOKUP(I58,Feuil1!$G$11:$L$25,4),IF(AND(H58>1999,H58<2002),VLOOKUP(I58,Feuil1!$G$11:$L$25,3),VLOOKUP(I58,Feuil1!$G$11:$L$25,2)))))))","v":"FC2 58"},97.949744522155086,null," ",{"$f":"T58-HLOOKUP(X58,Feuil1!$C$1:$BL$10,2,FALSE)","v":16},{"$f":"T58-HLOOKUP(X58,Feuil1!$C$1:$BL$10,3,FALSE)","v":6},{"$f":"T58-HLOOKUP(X58,Feuil1!$C$1:$BL$10,4,FALSE)","v":-4},{"$f":"T58-HLOOKUP(X58,Feuil1!$C$1:$BL$10,5,FALSE)","v":-14},{"$f":"T58-HLOOKUP(X58,Feuil1!$C$1:$BL$10,6,FALSE)","v":-24},{"$f":"T58-HLOOKUP(X58,Feuil1!$C$1:$BL$10,7,FALSE)","v":-34},{"$f":"T58-HLOOKUP(X58,Feuil1!$C$1:$BL$10,8,FALSE)","v":-49},{"$f":"T58-HLOOKUP(X58,Feuil1!$C$1:$BL$10,9,FALSE)","v":-64},{"$f":"T58-HLOOKUP(X58,Feuil1!$C$1:$BL$10,10,FALSE)","v":-934},null,null,null,null,null,null,"DEP +"]
["F","SEST","RAL",16,378547,"KHERRAF","Léa",1999,55.4,"GAULOISE DE VAISE","F",26,28,30,30,32,36,-38,36,66,-44.8,"DEP +",6,{"$f":"IF(I59=\"\",\"\",IF(A59=\"H\",IF(OR(H59=\"SEN\",H59<1995),VLOOKUP(I59,Feuil1!$A$11:$G$29,6),IF(AND(H59>1994,H59<1998),VLOOKUP(I59,Feuil1!$A$11:$G$29,5),IF(AND(H59>1997,H59<2000),VLOOKUP(I59,Feuil1!$A$11:$G$29,4),IF(AND(H59>1999,H59<2002),VLOOKUP(I59,Feuil1!$A$11:$G$29,3),VLOOKUP(I59,Feuil1!$A$11:$G$29,2))))),IF(OR(H59=\"SEN\",H59<1995),VLOOKUP(I59,Feuil1!$G$11:$L$25,6),IF(AND(H59>1994,H59<1998),VLOOKUP(I59,Feuil1!$G$11:$L$25,5),IF(AND(H59>1997,H59<2000),VLOOKUP(I59,Feuil1!$G$11:$L$25,4),IF(AND(H59>1999,H59<2002),VLOOKUP(I59,Feuil1!$G$11:$L$25,3),VLOOKUP(I59,Feuil1!$G$11:$L$25,2)))))))","v":"FC2 58"},96.163221017360328,null," ",{"$f":"T59-HLOOKUP(X59,Feuil1!$C$1:$BL$10,2,FALSE)","v":16},{"$f":"T59-HLOOKUP(X59,Feuil1!$C$1:$BL$10,3,FALSE)","v":6},{"$f":"T59-HLOOKUP(X59,Feuil1!$C$1:$BL$10,4,FALSE)","v":-4},{"$f":"T59-HLOOKUP(X59,Feuil1!$C$1:$BL$10,5,FALSE)","v":-14},{"$f":"T59-HLOOKUP(X59,Feuil1!$C$1:$BL$10,6,FALSE)","v":-24},{"$f":"T59-HLOOKUP(X59,Feuil1!$C$1:$BL$10,7,FALSE)","v":-34},{"$f":"T59-HLOOKUP(X59,Feuil1!$C$1:$BL$10,8,FALSE)","v":-49},{"$f":"T59-HLOOKUP(X59,Feuil1!$C$1:$BL$10,9,FALSE)","v":-64},{"$f":"T59-HLOOKUP(X59,Feuil1!$C$1:$BL$10,10,FALSE)","v":-934},null,null,null,null,null,null,"DEP +"]
["F","CO","BNO",17,380061,"HELIE","PAULINE",1998,55.2,"Stade St Lois","F",25,-27,27,27,32,35,-37,35,62,-48.400000000000006,"DEP +",2,{"$f":"IF(I60=\"\",\"\",IF(A60=\"H\",IF(OR(H60=\"SEN\",H60<1995),VLOOKUP(I60,Feuil1!$A$11:$G$29,6),IF(AND(H60>1994,H60<1998),VLOOKUP(I60,Feuil1!$A$11:$G$29,5),IF(AND(H60>1997,H60<2000),VLOOKUP(I60,Feuil1!$A$11:$G$29,4),IF(AND(H60>1999,H60<2002),VLOOKUP(I60,Feuil1!$A$11:$G$29,3),VLOOKUP(I60,Feuil1!$A$11:$G$29,2))))),IF(OR(H60=\"SEN\",H60<1995),VLOOKUP(I60,Feuil1!$G$11:$L$25,6),IF(AND(H60>1994,H60<1998),VLOOKUP(I60,Feuil1!$G$11:$L$25,5),IF(AND(H60>1997,H60<2000),VLOOKUP(I60,Feuil1!$G$11:$L$25,4),IF(AND(H60>1999,H60<2002),VLOOKUP(I60,Feuil1!$G$11:$L$25,3),VLOOKUP(I60,Feuil1!$G$11:$L$25,2)))))))","v":"FC2 58"},90.586199792287573,null," ",{"$f":"T60-HLOOKUP(X60,Feuil1!$C$1:$BL$10,2,FALSE)","v":12},{"$f":"T60-HLOOKUP(X60,Feuil1!$C$1:$BL$10,3,FALSE)","v":2},{"$f":"T60-HLOOKUP(X60,Feuil1!$C$1:$BL$10,4,FALSE)","v":-8},{"$f":"T60-HLOOKUP(X60,Feuil1!$C$1:$BL$10,5,FALSE)","v":-18},{"$f":"T60-HLOOKUP(X60,Feuil1!$C$1:$BL$10,6,FALSE)","v":-28},{"$f":"T60-HLOOKUP(X60,Feuil1!$C$1:$BL$10,7,FALSE)","v":-38},{"$f":"T60-HLOOKUP(X60,Feuil1!$C$1:$BL$10,8,FALSE)","v":-53},{"$f":"T60-HLOOKUP(X60,Feuil1!$C$1:$BL$10,9,FALSE)","v":-68},{"$f":"T60-HLOOKUP(X60,Feuil1!$C$1:$BL$10,10,FALSE)","v":-938},null,null,null,null,null,null,"DEP +"]
["F","NE","ALS",18,381288,"PIERRE","ZOE",1998,57.1,"SR Obernai HM","F",21,-23,-23,21,26,28,-30,28,49,-65.2,"DEB ",-1,{"$f":"IF(I61=\"\",\"\",IF(A61=\"H\",IF(OR(H61=\"SEN\",H61<1995),VLOOKUP(I61,Feuil1!$A$11:$G$29,6),IF(AND(H61>1994,H61<1998),VLOOKUP(I61,Feuil1!$A$11:$G$29,5),IF(AND(H61>1997,H61<2000),VLOOKUP(I61,Feuil1!$A$11:$G$29,4),IF(AND(H61>1999,H61<2002),VLOOKUP(I61,Feuil1!$A$11:$G$29,3),VLOOKUP(I61,Feuil1!$A$11:$G$29,2))))),IF(OR(H61=\"SEN\",H61<1995),VLOOKUP(I61,Feuil1!$G$11:$L$25,6),IF(AND(H61>1994,H61<1998),VLOOKUP(I61,Feuil1!$G$11:$L$25,5),IF(AND(H61>1997,H61<2000),VLOOKUP(I61,Feuil1!$G$11:$L$25,4),IF(AND(H61>1999,H61<2002),VLOOKUP(I61,Feuil1!$G$11:$L$25,3),VLOOKUP(I61,Feuil1!$G$11:$L$25,2)))))))","v":"FC2 58"},69.784920834578017,null," ",{"$f":"T61-HLOOKUP(X61,Feuil1!$C$1:$BL$10,2,FALSE)","v":-1},{"$f":"T61-HLOOKUP(X61,Feuil1!$C$1:$BL$10,3,FALSE)","v":-11},{"$f":"T61-HLOOKUP(X61,Feuil1!$C$1:$BL$10,4,FALSE)","v":-21},{"$f":"T61-HLOOKUP(X61,Feuil1!$C$1:$BL$10,5,FALSE)","v":-31},{"$f":"T61-HLOOKUP(X61,Feuil1!$C$1:$BL$10,6,FALSE)","v":-41},{"$f":"T61-HLOOKUP(X61,Feuil1!$C$1:$BL$10,7,FALSE)","v":-51},{"$f":"T61-HLOOKUP(X61,Feuil1!$C$1:$BL$10,8,FALSE)","v":-66},{"$f":"T61-HLOOKUP(X61,Feuil1!$C$1:$BL$10,9,FALSE)","v":-81},{"$f":"T61-HLOOKUP(X61,Feuil1!$C$1:$BL$10,10,FALSE)","v":-951},null,null,null,null,null,null,"DEB "]
["F","SO","MPY",19,365939,"DELPECH","Marine",1999,57.6,"MONTAUBAN HC","F",15,17,-20,17,18,20,22,22,39,-76.2,"DEB ",-11,{"$f":"IF(I62=\"\",\"\",IF(A62=\"H\",IF(OR(H62=\"SEN\",H62<1995),VLOOKUP(I62,Feuil1!$A$11:$G$29,6),IF(AND(H62>1994,H62<1998),VLOOKUP(I62,Feuil1!$A$11:$G$29,5),IF(AND(H62>1997,H62<2000),VLOOKUP(I62,Feuil1!$A$11:$G$29,4),IF(AND(H62>1999,H62<2002),VLOOKUP(I62,Feuil1!$A$11:$G$29,3),VLOOKUP(I62,Feuil1!$A$11:$G$29,2))))),IF(OR(H62=\"SEN\",H62<1995),VLOOKUP(I62,Feuil1!$G$11:$L$25,6),IF(AND(H62>1994,H62<1998),VLOOKUP(I62,Feuil1!$G$11:$L$25,5),IF(AND(H62>1997,H62<2000),VLOOKUP(I62,Feuil1!$G$11:$L$25,4),IF(AND(H62>1999,H62<2002),VLOOKUP(I62,Feuil1!$G$11:$L$25,3),VLOOKUP(I62,Feuil1!$G$11:$L$25,2)))))))","v":"FC2 58"},55.186390224205468,null," ",{"$f":"T62-HLOOKUP(X62,Feuil1!$C$1:$BL$10,2,FALSE)","v":-11},{"$f":"T62-HLOOKUP(X62,Feuil1!$C$1:$BL$10,3,FALSE)","v":-21},{"$f":"T62-HLOOKUP(X62,Feuil1!$C$1:$BL$10,4,FALSE)","v":-31},{"$f":"T62-HLOOKUP(X62,Feuil1!$C$1:$BL$10,5,FALSE)","v":-41},{"$f":"T62-HLOOKUP(X62,Feuil1!$C$1:$BL$10,6,FALSE)","v":-51},{"$f":"T62-HLOOKUP(X62,Feuil1!$C$1:$BL$10,7,FALSE)","v":-61},{"$f":"T62-HLOOKUP(X62,Feuil1!$C$1:$BL$10,8,FALSE)","v":-76},{"$f":"T62-HLOOKUP(X62,Feuil1!$C$1:$BL$10,9,FALSE)","v":-91},{"$f":"T62-HLOOKUP(X62,Feuil1!$C$1:$BL$10,10,FALSE)","v":-961},null,null,null,null,null,null,"DEB "]
[null,null,null,null,null,null,null,null,null,null,null,null,null,null,null,null,null,null,null,null,null,null,null,null,null,null," ",{"$f":"T63-HLOOKUP(X63,[1]Feuil1!$C$1:$BL$10,2,FALSE)","v":{"$error":"#N/A"}},{"$f":"T63-HLOOKUP(X63,[1]Feuil1!$C$1:$BL$10,3,FALSE)","v":{"$error":"#N/A"}},{"$f":"T63-HLOOKUP(X63,[1]Feuil1!$C$1:$BL$10,4,FALSE)","v":{"$error":"#N/A"}},{"$f":"T63-HLOOKUP(X63,[1]Feuil1!$C$1:$BL$10,5,FALSE)","v":{"$error":"#N/A"}},{"$f":"T63-HLOOKUP(X63,[1]Feuil1!$C$1:$BL$10,6,FALSE)","v":{"$error":"#N/A"}},{"$f":"T63-HLOOKUP(X63,[1]Feuil1!$C$1:$BL$10,7,FALSE)","v":{"$error":"#N/A"}},{"$f":"T63-HLOOKUP(X63,[1]Feuil1!$C$1:$BL$10,8,FALSE)","v":{"$error":"#N/A"}},{"$f":"T63-HLOOKUP(X63,[1]Feuil1!$C$1:$BL$10,9,FALSE)","v":{"$error":"#N/A"}},{"$f":"T63-HLOOKUP(X63,[1]Feuil1!$C$1:$BL$10,10,FALSE)","v":{"$error":"#N/A"}},null,null,null,null,null,null,{"$f":"IF(AJ63>=0,$AJ$4,IF(AI63>=0,$AI$4,IF(AH63>=0,$AH$4,IF(AG63>=0,$AG$4,IF(AF63>=0,$AF$4,IF(AE63>=0,$AE$4,IF(AD63>=0,$AD$4,IF(AC63>=0,$AC$4,$AB$4))))))))","v":{"$error":"#N/A"}}]
["F","NE","ALS",1,238723,"OTT","JUSTINE",1998,62.85,"SHC Haguenau","F",64,67,69,{"$f":"IF(H64=\"\",\"\",IF(MAXA(L64:N64)<=0,0,MAXA(L64:N64)))","v":69},82,85,88,{"$f":"IF(H64=\"\",\"\",IF(MAXA(P64:R64)<=0,0,MAXA(P64:R64)))","v":88},{"$f":"IF(H64=\"\",\"\",IF(OR(O64=0,S64=0),0,O64+S64))","v":157},{"$f":"T64-I64*2","v":31.299999999999997},{"$f":"IF(H64=\"\",\"\",AQ64)","v":"INTA +"},{"$f":"IF(AJ64>=0,AJ64,IF(AI64>=0,AI64,IF(AH64>=0,AH64,IF(AG64>=0,AG64,IF(AF64>=0,AF64,IF(AE64>=0,AE64,IF(AD64>=0,AD64,IF(AC64>=0,AC64,AB64))))))))","v":17},{"$f":"IF(I64=\"\",\"\",IF(A64=\"H\",IF(OR(H64=\"SEN\",H64<1995),VLOOKUP(I64,Feuil1!$A$11:$G$29,6),IF(AND(H64>1994,H64<1998),VLOOKUP(I64,Feuil1!$A$11:$G$29,5),IF(AND(H64>1997,H64<2000),VLOOKUP(I64,Feuil1!$A$11:$G$29,4),IF(AND(H64>1999,H64<2002),VLOOKUP(I64,Feuil1!$A$11:$G$29,3),VLOOKUP(I64,Feuil1!$A$11:$G$29,2))))),IF(OR(H64=\"SEN\",H64<1995),VLOOKUP(I64,Feuil1!$G$11:$L$25,6),IF(AND(H64>1994,H64<1998),VLOOKUP(I64,Feuil1!$G$11:$L$25,5),IF(AND(H64>1997,H64<2000),VLOOKUP(I64,Feuil1!$G$11:$L$25,4),IF(AND(H64>1999,H64<2002),VLOOKUP(I64,Feuil1!$G$11:$L$25,3),VLOOKUP(I64,Feuil1!$G$11:$L$25,2)))))))","v":"FC2 63"},{"$f":"IF(I64=\"\",\"\",IF(A64=\"H\",10^(0.794358141*LOG(I64/174.393)^2)*T64,IF(A64=\"F\",10^(0.89726074*LOG(I64/148.026)^2)*T64,\"\")))","v":208.97196541432103},null," ",{"$f":"T64-HLOOKUP(X64,Feuil1!$C$1:$BL$10,2,FALSE)","v":102},{"$f":"T64-HLOOKUP(X64,Feuil1!$C$1:$BL$10,3,FALSE)","v":92},{"$f":"T64-HLOOKUP(X64,Feuil1!$C$1:$BL$10,4,FALSE)","v":82},{"$f":"T64-HLOOKUP(X64,Feuil1!$C$1:$BL$10,5,FALSE)","v":72},{"$f":"T64-HLOOKUP(X64,Feuil1!$C$1:$BL$10,6,FALSE)","v":62},{"$f":"T64-HLOOKUP(X64,Feuil1!$C$1:$BL$10,7,FALSE)","v":47},{"$f":"T64-HLOOKUP(X64,Feuil1!$C$1:$BL$10,8,FALSE)","v":32},{"$f":"T64-HLOOKUP(X64,Feuil1!$C$1:$BL$10,9,FALSE)","v":17},{"$f":"T64-HLOOKUP(X64,Feuil1!$C$1:$BL$10,10,FALSE)","v":-843},null,null,null,null,null,null,{"$f":"IF(AJ64>=0,$AJ$4,IF(AI64>=0,$AI$4,IF(AH64>=0,$AH$4,IF(AG64>=0,$AG$4,IF(AF64>=0,$AF$4,IF(AE64>=0,$AE$4,IF(AD64>=0,$AD$4,IF(AC64>=0,$AC$4,$AB$4))))))))","v":"INTA +"}]
["F","NORD","PIC",2,260923,"ARNOULD","Lutricia",1998,58.8,"Villers-Bretonneux KC","F",56,59,-61,59,72,74,-76,74,133,15.400000000000006,"INTB +",8,{"$f":"IF(I65=\"\",\"\",IF(A65=\"H\",IF(OR(H65=\"SEN\",H65<1995),VLOOKUP(I65,Feuil1!$A$11:$G$29,6),IF(AND(H65>1994,H65<1998),VLOOKUP(I65,Feuil1!$A$11:$G$29,5),IF(AND(H65>1997,H65<2000),VLOOKUP(I65,Feuil1!$A$11:$G$29,4),IF(AND(H65>1999,H65<2002),VLOOKUP(I65,Feuil1!$A$11:$G$29,3),VLOOKUP(I65,Feuil1!$A$11:$G$29,2))))),IF(OR(H65=\"SEN\",H65<1995),VLOOKUP(I65,Feuil1!$G$11:$L$25,6),IF(AND(H65>1994,H65<1998),VLOOKUP(I65,Feuil1!$G$11:$L$25,5),IF(AND(H65>1997,H65<2000),VLOOKUP(I65,Feuil1!$G$11:$L$25,4),IF(AND(H65>1999,H65<2002),VLOOKUP(I65,Feuil1!$G$11:$L$25,3),VLOOKUP(I65,Feuil1!$G$11:$L$25,2)))))))","v":"FC2 63"},185.39745581446761,null," ",{"$f":"T65-HLOOKUP(X65,Feuil1!$C$1:$BL$10,2,FALSE)","v":78},{"$f":"T65-HLOOKUP(X65,Feuil1!$C$1:$BL$10,3,FALSE)","v":68},{"$f":"T65-HLOOKUP(X65,Feuil1!$C$1:$BL$10,4,FALSE)","v":58},{"$f":"T65-HLOOKUP(X65,Feuil1!$C$1:$BL$10,5,FALSE)","v":48},{"$f":"T65-HLOOKUP(X65,Feuil1!$C$1:$BL$10,6,FALSE)","v":38},{"$f":"T65-HLOOKUP(X65,Feuil1!$C$1:$BL$10,7,FALSE)","v":23},{"$f":"T65-HLOOKUP(X65,Feuil1!$C$1:$BL$10,8,FALSE)","v":8},{"$f":"T65-HLOOKUP(X65,Feuil1!$C$1:$BL$10,9,FALSE)","v":-7},{"$f":"T65-HLOOKUP(X65,Feuil1!$C$1:$BL$10,10,FALSE)","v":-867},null,null,null,null,null,null,"INTB +"]
["F","NE","BOU",3,334936,"COMTE ","Pauline",1999,58.3,"HC avallon","F",58,-61,-61,58,67,72,-75,72,130,13.400000000000006,"INTB +",5,{"$f":"IF(I66=\"\",\"\",IF(A66=\"H\",IF(OR(H66=\"SEN\",H66<1995),VLOOKUP(I66,Feuil1!$A$11:$G$29,6),IF(AND(H66>1994,H66<1998),VLOOKUP(I66,Feuil1!$A$11:$G$29,5),IF(AND(H66>1997,H66<2000),VLOOKUP(I66,Feuil1!$A$11:$G$29,4),IF(AND(H66>1999,H66<2002),VLOOKUP(I66,Feuil1!$A$11:$G$29,3),VLOOKUP(I66,Feuil1!$A$11:$G$29,2))))),IF(OR(H66=\"SEN\",H66<1995),VLOOKUP(I66,Feuil1!$G$11:$L$25,6),IF(AND(H66>1994,H66<1998),VLOOKUP(I66,Feuil1!$G$11:$L$25,5),IF(AND(H66>1997,H66<2000),VLOOKUP(I66,Feuil1!$G$11:$L$25,4),IF(AND(H66>1999,H66<2002),VLOOKUP(I66,Feuil1!$G$11:$L$25,3),VLOOKUP(I66,Feuil1!$G$11:$L$25,2)))))))","v":"FC2 63"},182.33767169436391,null," ",{"$f":"T66-HLOOKUP(X66,Feuil1!$C$1:$BL$10,2,FALSE)","v":75},{"$f":"T66-HLOOKUP(X66,Feuil1!$C$1:$BL$10,3,FALSE)","v":65},{"$f":"T66-HLOOKUP(X66,Feuil1!$C$1:$BL$10,4,FALSE)","v":55},{"$f":"T66-HLOOKUP(X66,Feuil1!$C$1:$BL$10,5,FALSE)","v":45},{"$f":"T66-HLOOKUP(X66,Feuil1!$C$1:$BL$10,6,FALSE)","v":35},{"$f":"T66-HLOOKUP(X66,Feuil1!$C$1:$BL$10,7,FALSE)","v":20},{"$f":"T66-HLOOKUP(X66,Feuil1!$C$1:$BL$10,8,FALSE)","v":5},{"$f":"T66-HLOOKUP(X66,Feuil1!$C$1:$BL$10,9,FALSE)","v":-10},{"$f":"T66-HLOOKUP(X66,Feuil1!$C$1:$BL$10,10,FALSE)","v":-870},null,null,null,null,null,null,"INTB +"]
["F","DOM","GUA",4,382038,"NUIRO","Naomi",1999,62.2,"AHCS/Pointois","F",50,55,57,57,63,67,-70,67,124,-0.40000000000000568,"NAT +",14,{"$f":"IF(I67=\"\",\"\",IF(A67=\"H\",IF(OR(H67=\"SEN\",H67<1995),VLOOKUP(I67,Feuil1!$A$11:$G$29,6),IF(AND(H67>1994,H67<1998),VLOOKUP(I67,Feuil1!$A$11:$G$29,5),IF(AND(H67>1997,H67<2000),VLOOKUP(I67,Feuil1!$A$11:$G$29,4),IF(AND(H67>1999,H67<2002),VLOOKUP(I67,Feuil1!$A$11:$G$29,3),VLOOKUP(I67,Feuil1!$A$11:$G$29,2))))),IF(OR(H67=\"SEN\",H67<1995),VLOOKUP(I67,Feuil1!$G$11:$L$25,6),IF(AND(H67>1994,H67<1998),VLOOKUP(I67,Feuil1!$G$11:$L$25,5),IF(AND(H67>1997,H67<2000),VLOOKUP(I67,Feuil1!$G$11:$L$25,4),IF(AND(H67>1999,H67<2002),VLOOKUP(I67,Feuil1!$G$11:$L$25,3),VLOOKUP(I67,Feuil1!$G$11:$L$25,2)))))))","v":"FC2 63"},166.20442764082253,null," ",{"$f":"T67-HLOOKUP(X67,Feuil1!$C$1:$BL$10,2,FALSE)","v":69},{"$f":"T67-HLOOKUP(X67,Feuil1!$C$1:$BL$10,3,FALSE)","v":59},{"$f":"T67-HLOOKUP(X67,Feuil1!$C$1:$BL$10,4,FALSE)","v":49},{"$f":"T67-HLOOKUP(X67,Feuil1!$C$1:$BL$10,5,FALSE)","v":39},{"$f":"T67-HLOOKUP(X67,Feuil1!$C$1:$BL$10,6,FALSE)","v":29},{"$f":"T67-HLOOKUP(X67,Feuil1!$C$1:$BL$10,7,FALSE)","v":14},{"$f":"T67-HLOOKUP(X67,Feuil1!$C$1:$BL$10,8,FALSE)","v":-1},{"$f":"T67-HLOOKUP(X67,Feuil1!$C$1:$BL$10,9,FALSE)","v":-16},{"$f":"T67-HLOOKUP(X67,Feuil1!$C$1:$BL$10,10,FALSE)","v":-876},null,null,null,null,null,null,"NAT +"]
["F","NORD","NPC",5,208590,"HOUZE","Océane",1998,58.6,"CHCD COMINES","F",45,48,50,50,-58,58,62,62,112,-5.2000000000000028,"NAT +",2,{"$f":"IF(I68=\"\",\"\",IF(A68=\"H\",IF(OR(H68=\"SEN\",H68<1995),VLOOKUP(I68,Feuil1!$A$11:$G$29,6),IF(AND(H68>1994,H68<1998),VLOOKUP(I68,Feuil1!$A$11:$G$29,5),IF(AND(H68>1997,H68<2000),VLOOKUP(I68,Feuil1!$A$11:$G$29,4),IF(AND(H68>1999,H68<2002),VLOOKUP(I68,Feuil1!$A$11:$G$29,3),VLOOKUP(I68,Feuil1!$A$11:$G$29,2))))),IF(OR(H68=\"SEN\",H68<1995),VLOOKUP(I68,Feuil1!$G$11:$L$25,6),IF(AND(H68>1994,H68<1998),VLOOKUP(I68,Feuil1!$G$11:$L$25,5),IF(AND(H68>1997,H68<2000),VLOOKUP(I68,Feuil1!$G$11:$L$25,4),IF(AND(H68>1999,H68<2002),VLOOKUP(I68,Feuil1!$G$11:$L$25,3),VLOOKUP(I68,Feuil1!$G$11:$L$25,2)))))))","v":"FC2 63"},156.50809883309333,null," ",{"$f":"T68-HLOOKUP(X68,Feuil1!$C$1:$BL$10,2,FALSE)","v":57},{"$f":"T68-HLOOKUP(X68,Feuil1!$C$1:$BL$10,3,FALSE)","v":47},{"$f":"T68-HLOOKUP(X68,Feuil1!$C$1:$BL$10,4,FALSE)","v":37},{"$f":"T68-HLOOKUP(X68,Feuil1!$C$1:$BL$10,5,FALSE)","v":27},{"$f":"T68-HLOOKUP(X68,Feuil1!$C$1:$BL$10,6,FALSE)","v":17},{"$f":"T68-HLOOKUP(X68,Feuil1!$C$1:$BL$10,7,FALSE)","v":2},{"$f":"T68-HLOOKUP(X68,Feuil1!$C$1:$BL$10,8,FALSE)","v":-13},{"$f":"T68-HLOOKUP(X68,Feuil1!$C$1:$BL$10,9,FALSE)","v":-28},{"$f":"T68-HLOOKUP(X68,Feuil1!$C$1:$BL$10,10,FALSE)","v":-888},null,null,null,null,null,null,"NAT +"]
["F","SEST","CAZ",6,339283,"DULIO","Ambre",1999,59.67,"ES VILLENEUVE LOUBET","F",47,50,-53,50,57,60,-63,60,110,-9.3400000000000034,"NAT +",0,{"$f":"IF(I69=\"\",\"\",IF(A69=\"H\",IF(OR(H69=\"SEN\",H69<1995),VLOOKUP(I69,Feuil1!$A$11:$G$29,6),IF(AND(H69>1994,H69<1998),VLOOKUP(I69,Feuil1!$A$11:$G$29,5),IF(AND(H69>1997,H69<2000),VLOOKUP(I69,Feuil1!$A$11:$G$29,4),IF(AND(H69>1999,H69<2002),VLOOKUP(I69,Feuil1!$A$11:$G$29,3),VLOOKUP(I69,Feuil1!$A$11:$G$29,2))))),IF(OR(H69=\"SEN\",H69<1995),VLOOKUP(I69,Feuil1!$G$11:$L$25,6),IF(AND(H69>1994,H69<1998),VLOOKUP(I69,Feuil1!$G$11:$L$25,5),IF(AND(H69>1997,H69<2000),VLOOKUP(I69,Feuil1!$G$11:$L$25,4),IF(AND(H69>1999,H69<2002),VLOOKUP(I69,Feuil1!$G$11:$L$25,3),VLOOKUP(I69,Feuil1!$G$11:$L$25,2)))))))","v":"FC2 63"},151.73704817911704,null," ",{"$f":"T69-HLOOKUP(X69,Feuil1!$C$1:$BL$10,2,FALSE)","v":55},{"$f":"T69-HLOOKUP(X69,Feuil1!$C$1:$BL$10,3,FALSE)","v":45},{"$f":"T69-HLOOKUP(X69,Feuil1!$C$1:$BL$10,4,FALSE)","v":35},{"$f":"T69-HLOOKUP(X69,Feuil1!$C$1:$BL$10,5,FALSE)","v":25},{"$f":"T69-HLOOKUP(X69,Feuil1!$C$1:$BL$10,6,FALSE)","v":15},{"$f":"T69-HLOOKUP(X69,Feuil1!$C$1:$BL$10,7,FALSE)","v":0},{"$f":"T69-HLOOKUP(X69,Feuil1!$C$1:$BL$10,8,FALSE)","v":-15},{"$f":"T69-HLOOKUP(X69,Feuil1!$C$1:$BL$10,9,FALSE)","v":-30},{"$f":"T69-HLOOKUP(X69,Feuil1!$C$1:$BL$10,10,FALSE)","v":-890},null,null,null,null,null,null,"NAT +"]
["F","CO","BNO",7,288978,"BOURRIEN","Laura",1998,59.8,"Stade St Lois","F",40,45,-48,45,-55,-55,55,55,100,-19.599999999999994,"FED +",5,{"$f":"IF(I70=\"\",\"\",IF(A70=\"H\",IF(OR(H70=\"SEN\",H70<1995),VLOOKUP(I70,Feuil1!$A$11:$G$29,6),IF(AND(H70>1994,H70<1998),VLOOKUP(I70,Feuil1!$A$11:$G$29,5),IF(AND(H70>1997,H70<2000),VLOOKUP(I70,Feuil1!$A$11:$G$29,4),IF(AND(H70>1999,H70<2002),VLOOKUP(I70,Feuil1!$A$11:$G$29,3),VLOOKUP(I70,Feuil1!$A$11:$G$29,2))))),IF(OR(H70=\"SEN\",H70<1995),VLOOKUP(I70,Feuil1!$G$11:$L$25,6),IF(AND(H70>1994,H70<1998),VLOOKUP(I70,Feuil1!$G$11:$L$25,5),IF(AND(H70>1997,H70<2000),VLOOKUP(I70,Feuil1!$G$11:$L$25,4),IF(AND(H70>1999,H70<2002),VLOOKUP(I70,Feuil1!$G$11:$L$25,3),VLOOKUP(I70,Feuil1!$G$11:$L$25,2)))))))","v":"FC2 63"},137.73062017622601,null," ",{"$f":"T70-HLOOKUP(X70,Feuil1!$C$1:$BL$10,2,FALSE)","v":45},{"$f":"T70-HLOOKUP(X70,Feuil1!$C$1:$BL$10,3,FALSE)","v":35},{"$f":"T70-HLOOKUP(X70,Feuil1!$C$1:$BL$10,4,FALSE)","v":25},{"$f":"T70-HLOOKUP(X70,Feuil1!$C$1:$BL$10,5,FALSE)","v":15},{"$f":"T70-HLOOKUP(X70,Feuil1!$C$1:$BL$10,6,FALSE)","v":5},{"$f":"T70-HLOOKUP(X70,Feuil1!$C$1:$BL$10,7,FALSE)","v":-10},{"$f":"T70-HLOOKUP(X70,Feuil1!$C$1:$BL$10,8,FALSE)","v":-25},{"$f":"T70-HLOOKUP(X70,Feuil1!$C$1:$BL$10,9,FALSE)","v":-40},{"$f":"T70-HLOOKUP(X70,Feuil1!$C$1:$BL$10,10,FALSE)","v":-900},null,null,null,null,null,null,"FED +"]
["F","SEST","RAL",8,344106,"LAFAURIE","Lise",1998,60.52,"CH Arbresle","F",40,44,47,47,-53,53,-59,53,100,-21.040000000000006,"FED +",5,{"$f":"IF(I71=\"\",\"\",IF(A71=\"H\",IF(OR(H71=\"SEN\",H71<1995),VLOOKUP(I71,Feuil1!$A$11:$G$29,6),IF(AND(H71>1994,H71<1998),VLOOKUP(I71,Feuil1!$A$11:$G$29,5),IF(AND(H71>1997,H71<2000),VLOOKUP(I71,Feuil1!$A$11:$G$29,4),IF(AND(H71>1999,H71<2002),VLOOKUP(I71,Feuil1!$A$11:$G$29,3),VLOOKUP(I71,Feuil1!$A$11:$G$29,2))))),IF(OR(H71=\"SEN\",H71<1995),VLOOKUP(I71,Feuil1!$G$11:$L$25,6),IF(AND(H71>1994,H71<1998),VLOOKUP(I71,Feuil1!$G$11:$L$25,5),IF(AND(H71>1997,H71<2000),VLOOKUP(I71,Feuil1!$G$11:$L$25,4),IF(AND(H71>1999,H71<2002),VLOOKUP(I71,Feuil1!$G$11:$L$25,3),VLOOKUP(I71,Feuil1!$G$11:$L$25,2)))))))","v":"FC2 63"},136.57874475888298,null," ",{"$f":"T71-HLOOKUP(X71,Feuil1!$C$1:$BL$10,2,FALSE)","v":45},{"$f":"T71-HLOOKUP(X71,Feuil1!$C$1:$BL$10,3,FALSE)","v":35},{"$f":"T71-HLOOKUP(X71,Feuil1!$C$1:$BL$10,4,FALSE)","v":25},{"$f":"T71-HLOOKUP(X71,Feuil1!$C$1:$BL$10,5,FALSE)","v":15},{"$f":"T71-HLOOKUP(X71,Feuil1!$C$1:$BL$10,6,FALSE)","v":5},{"$f":"T71-HLOOKUP(X71,Feuil1!$C$1:$BL$10,7,FALSE)","v":-10},{"$f":"T71-HLOOKUP(X71,Feuil1!$C$1:$BL$10,8,FALSE)","v":-25},{"$f":"T71-HLOOKUP(X71,Feuil1!$C$1:$BL$10,9,FALSE)","v":-40},{"$f":"T71-HLOOKUP(X71,Feuil1!$C$1:$BL$10,10,FALSE)","v":-900},null,null,null,null,null,null,"FED +"]
["F","SO","MPY",9,360521,"JENNISKEN","Laura",1998,62.1,"TOULOUSE HC","F",40,43,-46,43,50,53,-55,53,96,-28.200000000000003,"FED +",1,{"$f":"IF(I72=\"\",\"\",IF(A72=\"H\",IF(OR(H72=\"SEN\",H72<1995),VLOOKUP(I72,Feuil1!$A$11:$G$29,6),IF(AND(H72>1994,H72<1998),VLOOKUP(I72,Feuil1!$A$11:$G$29,5),IF(AND(H72>1997,H72<2000),VLOOKUP(I72,Feuil1!$A$11:$G$29,4),IF(AND(H72>1999,H72<2002),VLOOKUP(I72,Feuil1!$A$11:$G$29,3),VLOOKUP(I72,Feuil1!$A$11:$G$29,2))))),IF(OR(H72=\"SEN\",H72<1995),VLOOKUP(I72,Feuil1!$G$11:$L$25,6),IF(AND(H72>1994,H72<1998),VLOOKUP(I72,Feuil1!$G$11:$L$25,5),IF(AND(H72>1997,H72<2000),VLOOKUP(I72,Feuil1!$G$11:$L$25,4),IF(AND(H72>1999,H72<2002),VLOOKUP(I72,Feuil1!$G$11:$L$25,3),VLOOKUP(I72,Feuil1!$G$11:$L$25,2)))))))","v":"FC2 63"},128.81450225453412,null," ",{"$f":"T72-HLOOKUP(X72,Feuil1!$C$1:$BL$10,2,FALSE)","v":41},{"$f":"T72-HLOOKUP(X72,Feuil1!$C$1:$BL$10,3,FALSE)","v":31},{"$f":"T72-HLOOKUP(X72,Feuil1!$C$1:$BL$10,4,FALSE)","v":21},{"$f":"T72-HLOOKUP(X72,Feuil1!$C$1:$BL$10,5,FALSE)","v":11},{"$f":"T72-HLOOKUP(X72,Feuil1!$C$1:$BL$10,6,FALSE)","v":1},{"$f":"T72-HLOOKUP(X72,Feuil1!$C$1:$BL$10,7,FALSE)","v":-14},{"$f":"T72-HLOOKUP(X72,Feuil1!$C$1:$BL$10,8,FALSE)","v":-29},{"$f":"T72-HLOOKUP(X72,Feuil1!$C$1:$BL$10,9,FALSE)","v":-44},{"$f":"T72-HLOOKUP(X72,Feuil1!$C$1:$BL$10,10,FALSE)","v":-904},null,null,null,null,null,null,"FED +"]
["F","DOM","GUA",10,367889,"UFREN","Aurore",1998,62,"AHCS/Pointois","F",35,-40,40,40,50,55,-58,55,95,-29,"FED +",0,{"$f":"IF(I73=\"\",\"\",IF(A73=\"H\",IF(OR(H73=\"SEN\",H73<1995),VLOOKUP(I73,Feuil1!$A$11:$G$29,6),IF(AND(H73>1994,H73<1998),VLOOKUP(I73,Feuil1!$A$11:$G$29,5),IF(AND(H73>1997,H73<2000),VLOOKUP(I73,Feuil1!$A$11:$G$29,4),IF(AND(H73>1999,H73<2002),VLOOKUP(I73,Feuil1!$A$11:$G$29,3),VLOOKUP(I73,Feuil1!$A$11:$G$29,2))))),IF(OR(H73=\"SEN\",H73<1995),VLOOKUP(I73,Feuil1!$G$11:$L$25,6),IF(AND(H73>1994,H73<1998),VLOOKUP(I73,Feuil1!$G$11:$L$25,5),IF(AND(H73>1997,H73<2000),VLOOKUP(I73,Feuil1!$G$11:$L$25,4),IF(AND(H73>1999,H73<2002),VLOOKUP(I73,Feuil1!$G$11:$L$25,3),VLOOKUP(I73,Feuil1!$G$11:$L$25,2)))))))","v":"FC2 63"},127.61196461695663,null," ",{"$f":"T73-HLOOKUP(X73,Feuil1!$C$1:$BL$10,2,FALSE)","v":40},{"$f":"T73-HLOOKUP(X73,Feuil1!$C$1:$BL$10,3,FALSE)","v":30},{"$f":"T73-HLOOKUP(X73,Feuil1!$C$1:$BL$10,4,FALSE)","v":20},{"$f":"T73-HLOOKUP(X73,Feuil1!$C$1:$BL$10,5,FALSE)","v":10},{"$f":"T73-HLOOKUP(X73,Feuil1!$C$1:$BL$10,6,FALSE)","v":0},{"$f":"T73-HLOOKUP(X73,Feuil1!$C$1:$BL$10,7,FALSE)","v":-15},{"$f":"T73-HLOOKUP(X73,Feuil1!$C$1:$BL$10,8,FALSE)","v":-30},{"$f":"T73-HLOOKUP(X73,Feuil1!$C$1:$BL$10,9,FALSE)","v":-45},{"$f":"T73-HLOOKUP(X73,Feuil1!$C$1:$BL$10,10,FALSE)","v":-905},null,null,null,null,null,null,"FED +"]
["F","SEST","CAZ",11,365254,"GAUJARD","Marine",1998,62.7,"ASLDD TOULON","F",34,37,-39,37,48,51,53,53,90,-35.400000000000006,"IRG +",5,{"$f":"IF(I74=\"\",\"\",IF(A74=\"H\",IF(OR(H74=\"SEN\",H74<1995),VLOOKUP(I74,Feuil1!$A$11:$G$29,6),IF(AND(H74>1994,H74<1998),VLOOKUP(I74,Feuil1!$A$11:$G$29,5),IF(AND(H74>1997,H74<2000),VLOOKUP(I74,Feuil1!$A$11:$G$29,4),IF(AND(H74>1999,H74<2002),VLOOKUP(I74,Feuil1!$A$11:$G$29,3),VLOOKUP(I74,Feuil1!$A$11:$G$29,2))))),IF(OR(H74=\"SEN\",H74<1995),VLOOKUP(I74,Feuil1!$G$11:$L$25,6),IF(AND(H74>1994,H74<1998),VLOOKUP(I74,Feuil1!$G$11:$L$25,5),IF(AND(H74>1997,H74<2000),VLOOKUP(I74,Feuil1!$G$11:$L$25,4),IF(AND(H74>1999,H74<2002),VLOOKUP(I74,Feuil1!$G$11:$L$25,3),VLOOKUP(I74,Feuil1!$G$11:$L$25,2)))))))","v":"FC2 63"},119.9843679675553,null," ",{"$f":"T74-HLOOKUP(X74,Feuil1!$C$1:$BL$10,2,FALSE)","v":35},{"$f":"T74-HLOOKUP(X74,Feuil1!$C$1:$BL$10,3,FALSE)","v":25},{"$f":"T74-HLOOKUP(X74,Feuil1!$C$1:$BL$10,4,FALSE)","v":15},{"$f":"T74-HLOOKUP(X74,Feuil1!$C$1:$BL$10,5,FALSE)","v":5},{"$f":"T74-HLOOKUP(X74,Feuil1!$C$1:$BL$10,6,FALSE)","v":-5},{"$f":"T74-HLOOKUP(X74,Feuil1!$C$1:$BL$10,7,FALSE)","v":-20},{"$f":"T74-HLOOKUP(X74,Feuil1!$C$1:$BL$10,8,FALSE)","v":-35},{"$f":"T74-HLOOKUP(X74,Feuil1!$C$1:$BL$10,9,FALSE)","v":-50},{"$f":"T74-HLOOKUP(X74,Feuil1!$C$1:$BL$10,10,FALSE)","v":-910},null,null,null,null,null,null,"IRG +"]
["F","SO","MPY",12,378625,"GUILLOT","Léa",1998,60.5,"FIGEAC HC","F",32,34,-36,34,52,-54,-54,52,86,-35,"IRG +",1,{"$f":"IF(I75=\"\",\"\",IF(A75=\"H\",IF(OR(H75=\"SEN\",H75<1995),VLOOKUP(I75,Feuil1!$A$11:$G$29,6),IF(AND(H75>1994,H75<1998),VLOOKUP(I75,Feuil1!$A$11:$G$29,5),IF(AND(H75>1997,H75<2000),VLOOKUP(I75,Feuil1!$A$11:$G$29,4),IF(AND(H75>1999,H75<2002),VLOOKUP(I75,Feuil1!$A$11:$G$29,3),VLOOKUP(I75,Feuil1!$A$11:$G$29,2))))),IF(OR(H75=\"SEN\",H75<1995),VLOOKUP(I75,Feuil1!$G$11:$L$25,6),IF(AND(H75>1994,H75<1998),VLOOKUP(I75,Feuil1!$G$11:$L$25,5),IF(AND(H75>1997,H75<2000),VLOOKUP(I75,Feuil1!$G$11:$L$25,4),IF(AND(H75>1999,H75<2002),VLOOKUP(I75,Feuil1!$G$11:$L$25,3),VLOOKUP(I75,Feuil1!$G$11:$L$25,2)))))))","v":"FC2 63"},117.4847903691996,null," ",{"$f":"T75-HLOOKUP(X75,Feuil1!$C$1:$BL$10,2,FALSE)","v":31},{"$f":"T75-HLOOKUP(X75,Feuil1!$C$1:$BL$10,3,FALSE)","v":21},{"$f":"T75-HLOOKUP(X75,Feuil1!$C$1:$BL$10,4,FALSE)","v":11},{"$f":"T75-HLOOKUP(X75,Feuil1!$C$1:$BL$10,5,FALSE)","v":1},{"$f":"T75-HLOOKUP(X75,Feuil1!$C$1:$BL$10,6,FALSE)","v":-9},{"$f":"T75-HLOOKUP(X75,Feuil1!$C$1:$BL$10,7,FALSE)","v":-24},{"$f":"T75-HLOOKUP(X75,Feuil1!$C$1:$BL$10,8,FALSE)","v":-39},{"$f":"T75-HLOOKUP(X75,Feuil1!$C$1:$BL$10,9,FALSE)","v":-54},{"$f":"T75-HLOOKUP(X75,Feuil1!$C$1:$BL$10,10,FALSE)","v":-914},null,null,null,null,null,null,"IRG +"]
["F","SEST","RAL",13,379666,"RAILLON","Emilie",1998,58.3,"VALENCE","F",-30,32,35,35,42,47,-49,47,82,-34.599999999999994,"REG +",7,{"$f":"IF(I76=\"\",\"\",IF(A76=\"H\",IF(OR(H76=\"SEN\",H76<1995),VLOOKUP(I76,Feuil1!$A$11:$G$29,6),IF(AND(H76>1994,H76<1998),VLOOKUP(I76,Feuil1!$A$11:$G$29,5),IF(AND(H76>1997,H76<2000),VLOOKUP(I76,Feuil1!$A$11:$G$29,4),IF(AND(H76>1999,H76<2002),VLOOKUP(I76,Feuil1!$A$11:$G$29,3),VLOOKUP(I76,Feuil1!$A$11:$G$29,2))))),IF(OR(H76=\"SEN\",H76<1995),VLOOKUP(I76,Feuil1!$G$11:$L$25,6),IF(AND(H76>1994,H76<1998),VLOOKUP(I76,Feuil1!$G$11:$L$25,5),IF(AND(H76>1997,H76<2000),VLOOKUP(I76,Feuil1!$G$11:$L$25,4),IF(AND(H76>1999,H76<2002),VLOOKUP(I76,Feuil1!$G$11:$L$25,3),VLOOKUP(I76,Feuil1!$G$11:$L$25,2)))))))","v":"FC2 63"},115.01299291490646,null," ",{"$f":"T76-HLOOKUP(X76,Feuil1!$C$1:$BL$10,2,FALSE)","v":27},{"$f":"T76-HLOOKUP(X76,Feuil1!$C$1:$BL$10,3,FALSE)","v":17},{"$f":"T76-HLOOKUP(X76,Feuil1!$C$1:$BL$10,4,FALSE)","v":7},{"$f":"T76-HLOOKUP(X76,Feuil1!$C$1:$BL$10,5,FALSE)","v":-3},{"$f":"T76-HLOOKUP(X76,Feuil1!$C$1:$BL$10,6,FALSE)","v":-13},{"$f":"T76-HLOOKUP(X76,Feuil1!$C$1:$BL$10,7,FALSE)","v":-28},{"$f":"T76-HLOOKUP(X76,Feuil1!$C$1:$BL$10,8,FALSE)","v":-43},{"$f":"T76-HLOOKUP(X76,Feuil1!$C$1:$BL$10,9,FALSE)","v":-58},{"$f":"T76-HLOOKUP(X76,Feuil1!$C$1:$BL$10,10,FALSE)","v":-918},null,null,null,null,null,null,"REG +"]
["F","NORD","PIC",14,367780,"DENAND","Gwendoline",1998,63,"La Ferté Milon CMHM","F",30,34,-36,34,40,45,-47,45,79,-47,"REG +",4,{"$f":"IF(I77=\"\",\"\",IF(A77=\"H\",IF(OR(H77=\"SEN\",H77<1995),VLOOKUP(I77,Feuil1!$A$11:$G$29,6),IF(AND(H77>1994,H77<1998),VLOOKUP(I77,Feuil1!$A$11:$G$29,5),IF(AND(H77>1997,H77<2000),VLOOKUP(I77,Feuil1!$A$11:$G$29,4),IF(AND(H77>1999,H77<2002),VLOOKUP(I77,Feuil1!$A$11:$G$29,3),VLOOKUP(I77,Feuil1!$A$11:$G$29,2))))),IF(OR(H77=\"SEN\",H77<1995),VLOOKUP(I77,Feuil1!$G$11:$L$25,6),IF(AND(H77>1994,H77<1998),VLOOKUP(I77,Feuil1!$G$11:$L$25,5),IF(AND(H77>1997,H77<2000),VLOOKUP(I77,Feuil1!$G$11:$L$25,4),IF(AND(H77>1999,H77<2002),VLOOKUP(I77,Feuil1!$G$11:$L$25,3),VLOOKUP(I77,Feuil1!$G$11:$L$25,2)))))))","v":"FC2 63"},104.98451878563606,null," ",{"$f":"T77-HLOOKUP(X77,Feuil1!$C$1:$BL$10,2,FALSE)","v":24},{"$f":"T77-HLOOKUP(X77,Feuil1!$C$1:$BL$10,3,FALSE)","v":14},{"$f":"T77-HLOOKUP(X77,Feuil1!$C$1:$BL$10,4,FALSE)","v":4},{"$f":"T77-HLOOKUP(X77,Feuil1!$C$1:$BL$10,5,FALSE)","v":-6},{"$f":"T77-HLOOKUP(X77,Feuil1!$C$1:$BL$10,6,FALSE)","v":-16},{"$f":"T77-HLOOKUP(X77,Feuil1!$C$1:$BL$10,7,FALSE)","v":-31},{"$f":"T77-HLOOKUP(X77,Feuil1!$C$1:$BL$10,8,FALSE)","v":-46},{"$f":"T77-HLOOKUP(X77,Feuil1!$C$1:$BL$10,9,FALSE)","v":-61},{"$f":"T77-HLOOKUP(X77,Feuil1!$C$1:$BL$10,10,FALSE)","v":-921},null,null,null,null,null,null,"REG +"]
["F","NORD","PIC",15,390681,"GALLIAN","Clara",1999,61.24,"La Ferté Milon CMHM","F",28,30,-32,30,35,40,45,45,75,-47.480000000000004,"REG +",0,{"$f":"IF(I78=\"\",\"\",IF(A78=\"H\",IF(OR(H78=\"SEN\",H78<1995),VLOOKUP(I78,Feuil1!$A$11:$G$29,6),IF(AND(H78>1994,H78<1998),VLOOKUP(I78,Feuil1!$A$11:$G$29,5),IF(AND(H78>1997,H78<2000),VLOOKUP(I78,Feuil1!$A$11:$G$29,4),IF(AND(H78>1999,H78<2002),VLOOKUP(I78,Feuil1!$A$11:$G$29,3),VLOOKUP(I78,Feuil1!$A$11:$G$29,2))))),IF(OR(H78=\"SEN\",H78<1995),VLOOKUP(I78,Feuil1!$G$11:$L$25,6),IF(AND(H78>1994,H78<1998),VLOOKUP(I78,Feuil1!$G$11:$L$25,5),IF(AND(H78>1997,H78<2000),VLOOKUP(I78,Feuil1!$G$11:$L$25,4),IF(AND(H78>1999,H78<2002),VLOOKUP(I78,Feuil1!$G$11:$L$25,3),VLOOKUP(I78,Feuil1!$G$11:$L$25,2)))))))","v":"FC2 63"},101.59860764198518,null," ",{"$f":"T78-HLOOKUP(X78,Feuil1!$C$1:$BL$10,2,FALSE)","v":20},{"$f":"T78-HLOOKUP(X78,Feuil1!$C$1:$BL$10,3,FALSE)","v":10},{"$f":"T78-HLOOKUP(X78,Feuil1!$C$1:$BL$10,4,FALSE)","v":0},{"$f":"T78-HLOOKUP(X78,Feuil1!$C$1:$BL$10,5,FALSE)","v":-10},{"$f":"T78-HLOOKUP(X78,Feuil1!$C$1:$BL$10,6,FALSE)","v":-20},{"$f":"T78-HLOOKUP(X78,Feuil1!$C$1:$BL$10,7,FALSE)","v":-35},{"$f":"T78-HLOOKUP(X78,Feuil1!$C$1:$BL$10,8,FALSE)","v":-50},{"$f":"T78-HLOOKUP(X78,Feuil1!$C$1:$BL$10,9,FALSE)","v":-65},{"$f":"T78-HLOOKUP(X78,Feuil1!$C$1:$BL$10,10,FALSE)","v":-925},null,null,null,null,null,null,"REG +"]
["F","SO","MPY",16,357559,"MEUNIER","Julie",1999,59.3,"MONTAUBAN HC","F",26,29,32,32,35,39,-43,39,71,-47.599999999999994,"DEP +",6,{"$f":"IF(I79=\"\",\"\",IF(A79=\"H\",IF(OR(H79=\"SEN\",H79<1995),VLOOKUP(I79,Feuil1!$A$11:$G$29,6),IF(AND(H79>1994,H79<1998),VLOOKUP(I79,Feuil1!$A$11:$G$29,5),IF(AND(H79>1997,H79<2000),VLOOKUP(I79,Feuil1!$A$11:$G$29,4),IF(AND(H79>1999,H79<2002),VLOOKUP(I79,Feuil1!$A$11:$G$29,3),VLOOKUP(I79,Feuil1!$A$11:$G$29,2))))),IF(OR(H79=\"SEN\",H79<1995),VLOOKUP(I79,Feuil1!$G$11:$L$25,6),IF(AND(H79>1994,H79<1998),VLOOKUP(I79,Feuil1!$G$11:$L$25,5),IF(AND(H79>1997,H79<2000),VLOOKUP(I79,Feuil1!$G$11:$L$25,4),IF(AND(H79>1999,H79<2002),VLOOKUP(I79,Feuil1!$G$11:$L$25,3),VLOOKUP(I79,Feuil1!$G$11:$L$25,2)))))))","v":"FC2 63"},98.373160857882482,null," ",{"$f":"T79-HLOOKUP(X79,Feuil1!$C$1:$BL$10,2,FALSE)","v":16},{"$f":"T79-HLOOKUP(X79,Feuil1!$C$1:$BL$10,3,FALSE)","v":6},{"$f":"T79-HLOOKUP(X79,Feuil1!$C$1:$BL$10,4,FALSE)","v":-4},{"$f":"T79-HLOOKUP(X79,Feuil1!$C$1:$BL$10,5,FALSE)","v":-14},{"$f":"T79-HLOOKUP(X79,Feuil1!$C$1:$BL$10,6,FALSE)","v":-24},{"$f":"T79-HLOOKUP(X79,Feuil1!$C$1:$BL$10,7,FALSE)","v":-39},{"$f":"T79-HLOOKUP(X79,Feuil1!$C$1:$BL$10,8,FALSE)","v":-54},{"$f":"T79-HLOOKUP(X79,Feuil1!$C$1:$BL$10,9,FALSE)","v":-69},{"$f":"T79-HLOOKUP(X79,Feuil1!$C$1:$BL$10,10,FALSE)","v":-929},null,null,null,null,null,null,"DEP +"]
["F","SEST","RAL",17,391306,"BERTRAND","Morgane",1998,59,"SAINT MARCELLIN","F",27,29,31,31,35,39,-42,39,70,-48,"DEP +",5,{"$f":"IF(I80=\"\",\"\",IF(A80=\"H\",IF(OR(H80=\"SEN\",H80<1995),VLOOKUP(I80,Feuil1!$A$11:$G$29,6),IF(AND(H80>1994,H80<1998),VLOOKUP(I80,Feuil1!$A$11:$G$29,5),IF(AND(H80>1997,H80<2000),VLOOKUP(I80,Feuil1!$A$11:$G$29,4),IF(AND(H80>1999,H80<2002),VLOOKUP(I80,Feuil1!$A$11:$G$29,3),VLOOKUP(I80,Feuil1!$A$11:$G$29,2))))),IF(OR(H80=\"SEN\",H80<1995),VLOOKUP(I80,Feuil1!$G$11:$L$25,6),IF(AND(H80>1994,H80<1998),VLOOKUP(I80,Feuil1!$G$11:$L$25,5),IF(AND(H80>1997,H80<2000),VLOOKUP(I80,Feuil1!$G$11:$L$25,4),IF(AND(H80>1999,H80<2002),VLOOKUP(I80,Feuil1!$G$11:$L$25,3),VLOOKUP(I80,Feuil1!$G$11:$L$25,2)))))))","v":"FC2 63"},97.339931466361861,null," ",{"$f":"T80-HLOOKUP(X80,Feuil1!$C$1:$BL$10,2,FALSE)","v":15},{"$f":"T80-HLOOKUP(X80,Feuil1!$C$1:$BL$10,3,FALSE)","v":5},{"$f":"T80-HLOOKUP(X80,Feuil1!$C$1:$BL$10,4,FALSE)","v":-5},{"$f":"T80-HLOOKUP(X80,Feuil1!$C$1:$BL$10,5,FALSE)","v":-15},{"$f":"T80-HLOOKUP(X80,Feuil1!$C$1:$BL$10,6,FALSE)","v":-25},{"$f":"T80-HLOOKUP(X80,Feuil1!$C$1:$BL$10,7,FALSE)","v":-40},{"$f":"T80-HLOOKUP(X80,Feuil1!$C$1:$BL$10,8,FALSE)","v":-55},{"$f":"T80-HLOOKUP(X80,Feuil1!$C$1:$BL$10,9,FALSE)","v":-70},{"$f":"T80-HLOOKUP(X80,Feuil1!$C$1:$BL$10,10,FALSE)","v":-930},null,null,null,null,null,null,"DEP +"]
["F","SO","MPY",18,269729,"SYRIEIX","Anne",1998,63,"DECAZEVILLE HC","F",28,30,-32,30,35,40,-45,40,70,-56,"DEP +",5,{"$f":"IF(I81=\"\",\"\",IF(A81=\"H\",IF(OR(H81=\"SEN\",H81<1995),VLOOKUP(I81,Feuil1!$A$11:$G$29,6),IF(AND(H81>1994,H81<1998),VLOOKUP(I81,Feuil1!$A$11:$G$29,5),IF(AND(H81>1997,H81<2000),VLOOKUP(I81,Feuil1!$A$11:$G$29,4),IF(AND(H81>1999,H81<2002),VLOOKUP(I81,Feuil1!$A$11:$G$29,3),VLOOKUP(I81,Feuil1!$A$11:$G$29,2))))),IF(OR(H81=\"SEN\",H81<1995),VLOOKUP(I81,Feuil1!$G$11:$L$25,6),IF(AND(H81>1994,H81<1998),VLOOKUP(I81,Feuil1!$G$11:$L$25,5),IF(AND(H81>1997,H81<2000),VLOOKUP(I81,Feuil1!$G$11:$L$25,4),IF(AND(H81>1999,H81<2002),VLOOKUP(I81,Feuil1!$G$11:$L$25,3),VLOOKUP(I81,Feuil1!$G$11:$L$25,2)))))))","v":"FC2 63"},93.024257151829417,null," ",{"$f":"T81-HLOOKUP(X81,Feuil1!$C$1:$BL$10,2,FALSE)","v":15},{"$f":"T81-HLOOKUP(X81,Feuil1!$C$1:$BL$10,3,FALSE)","v":5},{"$f":"T81-HLOOKUP(X81,Feuil1!$C$1:$BL$10,4,FALSE)","v":-5},{"$f":"T81-HLOOKUP(X81,Feuil1!$C$1:$BL$10,5,FALSE)","v":-15},{"$f":"T81-HLOOKUP(X81,Feuil1!$C$1:$BL$10,6,FALSE)","v":-25},{"$f":"T81-HLOOKUP(X81,Feuil1!$C$1:$BL$10,7,FALSE)","v":-40},{"$f":"T81-HLOOKUP(X81,Feuil1!$C$1:$BL$10,8,FALSE)","v":-55},{"$f":"T81-HLOOKUP(X81,Feuil1!$C$1:$BL$10,9,FALSE)","v":-70},{"$f":"T81-HLOOKUP(X81,Feuil1!$C$1:$BL$10,10,FALSE)","v":-930},null,null,null,null,null,null,"DEP +"]
["F","CO","BNO",19,384450,"RIVIERE","Pauline",1998,59.9,"Stade St Lois","F",25,28,-30,28,30,35,38,38,66,-53.8,"DEP +",1,{"$f":"IF(I82=\"\",\"\",IF(A82=\"H\",IF(OR(H82=\"SEN\",H82<1995),VLOOKUP(I82,Feuil1!$A$11:$G$29,6),IF(AND(H82>1994,H82<1998),VLOOKUP(I82,Feuil1!$A$11:$G$29,5),IF(AND(H82>1997,H82<2000),VLOOKUP(I82,Feuil1!$A$11:$G$29,4),IF(AND(H82>1999,H82<2002),VLOOKUP(I82,Feuil1!$A$11:$G$29,3),VLOOKUP(I82,Feuil1!$A$11:$G$29,2))))),IF(OR(H82=\"SEN\",H82<1995),VLOOKUP(I82,Feuil1!$G$11:$L$25,6),IF(AND(H82>1994,H82<1998),VLOOKUP(I82,Feuil1!$G$11:$L$25,5),IF(AND(H82>1997,H82<2000),VLOOKUP(I82,Feuil1!$G$11:$L$25,4),IF(AND(H82>1999,H82<2002),VLOOKUP(I82,Feuil1!$G$11:$L$25,3),VLOOKUP(I82,Feuil1!$G$11:$L$25,2)))))))","v":"FC2 63"},90.795082486872957,null," ",{"$f":"T82-HLOOKUP(X82,Feuil1!$C$1:$BL$10,2,FALSE)","v":11},{"$f":"T82-HLOOKUP(X82,Feuil1!$C$1:$BL$10,3,FALSE)","v":1},{"$f":"T82-HLOOKUP(X82,Feuil1!$C$1:$BL$10,4,FALSE)","v":-9},{"$f":"T82-HLOOKUP(X82,Feuil1!$C$1:$BL$10,5,FALSE)","v":-19},{"$f":"T82-HLOOKUP(X82,Feuil1!$C$1:$BL$10,6,FALSE)","v":-29},{"$f":"T82-HLOOKUP(X82,Feuil1!$C$1:$BL$10,7,FALSE)","v":-44},{"$f":"T82-HLOOKUP(X82,Feuil1!$C$1:$BL$10,8,FALSE)","v":-59},{"$f":"T82-HLOOKUP(X82,Feuil1!$C$1:$BL$10,9,FALSE)","v":-74},{"$f":"T82-HLOOKUP(X82,Feuil1!$C$1:$BL$10,10,FALSE)","v":-934},null,null,null,null,null,null,"DEP +"]
["F","NORD","PIC",20,357294,"MICHEL PINGUERBE","Chloé",1999,58.82,"Villers-Bretonneux KC","F",20,22,25,25,32,34,36,36,61,-56.64,"DEB ",6,{"$f":"IF(I83=\"\",\"\",IF(A83=\"H\",IF(OR(H83=\"SEN\",H83<1995),VLOOKUP(I83,Feuil1!$A$11:$G$29,6),IF(AND(H83>1994,H83<1998),VLOOKUP(I83,Feuil1!$A$11:$G$29,5),IF(AND(H83>1997,H83<2000),VLOOKUP(I83,Feuil1!$A$11:$G$29,4),IF(AND(H83>1999,H83<2002),VLOOKUP(I83,Feuil1!$A$11:$G$29,3),VLOOKUP(I83,Feuil1!$A$11:$G$29,2))))),IF(OR(H83=\"SEN\",H83<1995),VLOOKUP(I83,Feuil1!$G$11:$L$25,6),IF(AND(H83>1994,H83<1998),VLOOKUP(I83,Feuil1!$G$11:$L$25,5),IF(AND(H83>1997,H83<2000),VLOOKUP(I83,Feuil1!$G$11:$L$25,4),IF(AND(H83>1999,H83<2002),VLOOKUP(I83,Feuil1!$G$11:$L$25,3),VLOOKUP(I83,Feuil1!$G$11:$L$25,2)))))))","v":"FC2 63"},85.011115117000202,null," ",{"$f":"T83-HLOOKUP(X83,Feuil1!$C$1:$BL$10,2,FALSE)","v":6},{"$f":"T83-HLOOKUP(X83,Feuil1!$C$1:$BL$10,3,FALSE)","v":-4},{"$f":"T83-HLOOKUP(X83,Feuil1!$C$1:$BL$10,4,FALSE)","v":-14},{"$f":"T83-HLOOKUP(X83,Feuil1!$C$1:$BL$10,5,FALSE)","v":-24},{"$f":"T83-HLOOKUP(X83,Feuil1!$C$1:$BL$10,6,FALSE)","v":-34},{"$f":"T83-HLOOKUP(X83,Feuil1!$C$1:$BL$10,7,FALSE)","v":-49},{"$f":"T83-HLOOKUP(X83,Feuil1!$C$1:$BL$10,8,FALSE)","v":-64},{"$f":"T83-HLOOKUP(X83,Feuil1!$C$1:$BL$10,9,FALSE)","v":-79},{"$f":"T83-HLOOKUP(X83,Feuil1!$C$1:$BL$10,10,FALSE)","v":-939},null,null,null,null,null,null,"DEB "]
["F","NE","ALS",21,381288,"PIERRE","ZOE",1998,59.2,"SR Obernai HM","F",18,-20,20,20,-24,24,26,26,46,-72.400000000000006,"DEB ",-9,{"$f":"IF(I84=\"\",\"\",IF(A84=\"H\",IF(OR(H84=\"SEN\",H84<1995),VLOOKUP(I84,Feuil1!$A$11:$G$29,6),IF(AND(H84>1994,H84<1998),VLOOKUP(I84,Feuil1!$A$11:$G$29,5),IF(AND(H84>1997,H84<2000),VLOOKUP(I84,Feuil1!$A$11:$G$29,4),IF(AND(H84>1999,H84<2002),VLOOKUP(I84,Feuil1!$A$11:$G$29,3),VLOOKUP(I84,Feuil1!$A$11:$G$29,2))))),IF(OR(H84=\"SEN\",H84<1995),VLOOKUP(I84,Feuil1!$G$11:$L$25,6),IF(AND(H84>1994,H84<1998),VLOOKUP(I84,Feuil1!$G$11:$L$25,5),IF(AND(H84>1997,H84<2000),VLOOKUP(I84,Feuil1!$G$11:$L$25,4),IF(AND(H84>1999,H84<2002),VLOOKUP(I84,Feuil1!$G$11:$L$25,3),VLOOKUP(I84,Feuil1!$G$11:$L$25,2)))))))","v":"FC2 63"},63.81153058965684,null," ",{"$f":"T84-HLOOKUP(X84,Feuil1!$C$1:$BL$10,2,FALSE)","v":-9},{"$f":"T84-HLOOKUP(X84,Feuil1!$C$1:$BL$10,3,FALSE)","v":-19},{"$f":"T84-HLOOKUP(X84,Feuil1!$C$1:$BL$10,4,FALSE)","v":-29},{"$f":"T84-HLOOKUP(X84,Feuil1!$C$1:$BL$10,5,FALSE)","v":-39},{"$f":"T84-HLOOKUP(X84,Feuil1!$C$1:$BL$10,6,FALSE)","v":-49},{"$f":"T84-HLOOKUP(X84,Feuil1!$C$1:$BL$10,7,FALSE)","v":-64},{"$f":"T84-HLOOKUP(X84,Feuil1!$C$1:$BL$10,8,FALSE)","v":-79},{"$f":"T84-HLOOKUP(X84,Feuil1!$C$1:$BL$10,9,FALSE)","v":-94},{"$f":"T84-HLOOKUP(X84,Feuil1!$C$1:$BL$10,10,FALSE)","v":-954},null,null,null,null,null,null,"DEB "]
[null,null,null,null,null,null,null,null,null,null,null,null,null,null,null,null,null,null,null,null,null,null,null,null,null,null," ",{"$f":"T85-HLOOKUP(X85,[1]Feuil1!$C$1:$BL$10,2,FALSE)","v":{"$error":"#N/A"}},{"$f":"T85-HLOOKUP(X85,[1]Feuil1!$C$1:$BL$10,3,FALSE)","v":{"$error":"#N/A"}},{"$f":"T85-HLOOKUP(X85,[1]Feuil1!$C$1:$BL$10,4,FALSE)","v":{"$error":"#N/A"}},{"$f":"T85-HLOOKUP(X85,[1]Feuil1!$C$1:$BL$10,5,FALSE)","v":{"$error":"#N/A"}},{"$f":"T85-HLOOKUP(X85,[1]Feuil1!$C$1:$BL$10,6,FALSE)","v":{"$error":"#N/A"}},{"$f":"T85-HLOOKUP(X85,[1]Feuil1!$C$1:$BL$10,7,FALSE)","v":{"$error":"#N/A"}},{"$f":"T85-HLOOKUP(X85,[1]Feuil1!$C$1:$BL$10,8,FALSE)","v":{"$error":"#N/A"}},{"$f":"T85-HLOOKUP(X85,[1]Feuil1!$C$1:$BL$10,9,FALSE)","v":{"$error":"#N/A"}},{"$f":"T85-HLOOKUP(X85,[1]Feuil1!$C$1:$BL$10,10,FALSE)","v":{"$error":"#N/A"}},null,null,null,null,null,null,{"$f":"IF(AJ85>=0,$AJ$4,IF(AI85>=0,$AI$4,IF(AH85>=0,$AH$4,IF(AG85>=0,$AG$4,IF(AF85>=0,$AF$4,IF(AE85>=0,$AE$4,IF(AD85>=0,$AD$4,IF(AC85>=0,$AC$4,$AB$4))))))))","v":{"$error":"#N/A"}}]
["F","NE","ALS",1,238723,"OTT","JUSTINE",1998,63.75,"SHC Haguenau","F",-64,64,67,{"$f":"IF(H86=\"\",\"\",IF(MAXA(L86:N86)<=0,0,MAXA(L86:N86)))","v":67},83,-87,87,{"$f":"IF(H86=\"\",\"\",IF(MAXA(P86:R86)<=0,0,MAXA(P86:R86)))","v":87},{"$f":"IF(H86=\"\",\"\",IF(OR(O86=0,S86=0),0,O86+S86))","v":154},{"$f":"T86-I86*2","v":26.5},{"$f":"IF(H86=\"\",\"\",AQ86)","v":"INTA +"},{"$f":"IF(AJ86>=0,AJ86,IF(AI86>=0,AI86,IF(AH86>=0,AH86,IF(AG86>=0,AG86,IF(AF86>=0,AF86,IF(AE86>=0,AE86,IF(AD86>=0,AD86,IF(AC86>=0,AC86,AB86))))))))","v":4},{"$f":"IF(I86=\"\",\"\",IF(A86=\"H\",IF(OR(H86=\"SEN\",H86<1995),VLOOKUP(I86,Feuil1!$A$11:$G$29,6),IF(AND(H86>1994,H86<1998),VLOOKUP(I86,Feuil1!$A$11:$G$29,5),IF(AND(H86>1997,H86<2000),VLOOKUP(I86,Feuil1!$A$11:$G$29,4),IF(AND(H86>1999,H86<2002),VLOOKUP(I86,Feuil1!$A$11:$G$29,3),VLOOKUP(I86,Feuil1!$A$11:$G$29,2))))),IF(OR(H86=\"SEN\",H86<1995),VLOOKUP(I86,Feuil1!$G$11:$L$25,6),IF(AND(H86>1994,H86<1998),VLOOKUP(I86,Feuil1!$G$11:$L$25,5),IF(AND(H86>1997,H86<2000),VLOOKUP(I86,Feuil1!$G$11:$L$25,4),IF(AND(H86>1999,H86<2002),VLOOKUP(I86,Feuil1!$G$11:$L$25,3),VLOOKUP(I86,Feuil1!$G$11:$L$25,2)))))))","v":"FC2 69"},{"$f":"IF(I86=\"\",\"\",IF(A86=\"H\",10^(0.794358141*LOG(I86/174.393)^2)*T86,IF(A86=\"F\",10^(0.89726074*LOG(I86/148.026)^2)*T86,\"\")))","v":203.05833087833517},null," ",{"$f":"T86-HLOOKUP(X86,Feuil1!$C$1:$BL$10,2,FALSE)","v":94},{"$f":"T86-HLOOKUP(X86,Feuil1!$C$1:$BL$10,3,FALSE)","v":84},{"$f":"T86-HLOOKUP(X86,Feuil1!$C$1:$BL$10,4,FALSE)","v":74},{"$f":"T86-HLOOKUP(X86,Feuil1!$C$1:$BL$10,5,FALSE)","v":64},{"$f":"T86-HLOOKUP(X86,Feuil1!$C$1:$BL$10,6,FALSE)","v":49},{"$f":"T86-HLOOKUP(X86,Feuil1!$C$1:$BL$10,7,FALSE)","v":34},{"$f":"T86-HLOOKUP(X86,Feuil1!$C$1:$BL$10,8,FALSE)","v":19},{"$f":"T86-HLOOKUP(X86,Feuil1!$C$1:$BL$10,9,FALSE)","v":4},{"$f":"T86-HLOOKUP(X86,Feuil1!$C$1:$BL$10,10,FALSE)","v":-846},null,null,null,null,null,null,{"$f":"IF(AJ86>=0,$AJ$4,IF(AI86>=0,$AI$4,IF(AH86>=0,$AH$4,IF(AG86>=0,$AG$4,IF(AF86>=0,$AF$4,IF(AE86>=0,$AE$4,IF(AD86>=0,$AD$4,IF(AC86>=0,$AC$4,$AB$4))))))))","v":"INTA +"}]
["F","NE","CHA",2,239747,"VAUTARD","Priscillia",1999,66.099999999999994,"Langres HM","F",58,-60,60,60,60,62,64,64,124,-8.1999999999999886,"NAT +",4,{"$f":"IF(I87=\"\",\"\",IF(A87=\"H\",IF(OR(H87=\"SEN\",H87<1995),VLOOKUP(I87,Feuil1!$A$11:$G$29,6),IF(AND(H87>1994,H87<1998),VLOOKUP(I87,Feuil1!$A$11:$G$29,5),IF(AND(H87>1997,H87<2000),VLOOKUP(I87,Feuil1!$A$11:$G$29,4),IF(AND(H87>1999,H87<2002),VLOOKUP(I87,Feuil1!$A$11:$G$29,3),VLOOKUP(I87,Feuil1!$A$11:$G$29,2))))),IF(OR(H87=\"SEN\",H87<1995),VLOOKUP(I87,Feuil1!$G$11:$L$25,6),IF(AND(H87>1994,H87<1998),VLOOKUP(I87,Feuil1!$G$11:$L$25,5),IF(AND(H87>1997,H87<2000),VLOOKUP(I87,Feuil1!$G$11:$L$25,4),IF(AND(H87>1999,H87<2002),VLOOKUP(I87,Feuil1!$G$11:$L$25,3),VLOOKUP(I87,Feuil1!$G$11:$L$25,2)))))))","v":"FC2 69"},159.74302474016821,null," ",{"$f":"T87-HLOOKUP(X87,Feuil1!$C$1:$BL$10,2,FALSE)","v":64},{"$f":"T87-HLOOKUP(X87,Feuil1!$C$1:$BL$10,3,FALSE)","v":54},{"$f":"T87-HLOOKUP(X87,Feuil1!$C$1:$BL$10,4,FALSE)","v":44},{"$f":"T87-HLOOKUP(X87,Feuil1!$C$1:$BL$10,5,FALSE)","v":34},{"$f":"T87-HLOOKUP(X87,Feuil1!$C$1:$BL$10,6,FALSE)","v":19},{"$f":"T87-HLOOKUP(X87,Feuil1!$C$1:$BL$10,7,FALSE)","v":4},{"$f":"T87-HLOOKUP(X87,Feuil1!$C$1:$BL$10,8,FALSE)","v":-11},{"$f":"T87-HLOOKUP(X87,Feuil1!$C$1:$BL$10,9,FALSE)","v":-26},{"$f":"T87-HLOOKUP(X87,Feuil1!$C$1:$BL$10,10,FALSE)","v":-876},null,null,null,null,null,null,"NAT +"]
["F","SEST","CAZ",3,362268,"MAZOUZ","Sophie",1998,66.75,"ASLDD TOULON","F",44,48,50,50,65,70,71,71,121,-12.5,"NAT +",1,{"$f":"IF(I88=\"\",\"\",IF(A88=\"H\",IF(OR(H88=\"SEN\",H88<1995),VLOOKUP(I88,Feuil1!$A$11:$G$29,6),IF(AND(H88>1994,H88<1998),VLOOKUP(I88,Feuil1!$A$11:$G$29,5),IF(AND(H88>1997,H88<2000),VLOOKUP(I88,Feuil1!$A$11:$G$29,4),IF(AND(H88>1999,H88<2002),VLOOKUP(I88,Feuil1!$A$11:$G$29,3),VLOOKUP(I88,Feuil1!$A$11:$G$29,2))))),IF(OR(H88=\"SEN\",H88<1995),VLOOKUP(I88,Feuil1!$G$11:$L$25,6),IF(AND(H88>1994,H88<1998),VLOOKUP(I88,Feuil1!$G$11:$L$25,5),IF(AND(H88>1997,H88<2000),VLOOKUP(I88,Feuil1!$G$11:$L$25,4),IF(AND(H88>1999,H88<2002),VLOOKUP(I88,Feuil1!$G$11:$L$25,3),VLOOKUP(I88,Feuil1!$G$11:$L$25,2)))))))","v":"FC2 69"},154.92857308844304,null," ",{"$f":"T88-HLOOKUP(X88,Feuil1!$C$1:$BL$10,2,FALSE)","v":61},{"$f":"T88-HLOOKUP(X88,Feuil1!$C$1:$BL$10,3,FALSE)","v":51},{"$f":"T88-HLOOKUP(X88,Feuil1!$C$1:$BL$10,4,FALSE)","v":41},{"$f":"T88-HLOOKUP(X88,Feuil1!$C$1:$BL$10,5,FALSE)","v":31},{"$f":"T88-HLOOKUP(X88,Feuil1!$C$1:$BL$10,6,FALSE)","v":16},{"$f":"T88-HLOOKUP(X88,Feuil1!$C$1:$BL$10,7,FALSE)","v":1},{"$f":"T88-HLOOKUP(X88,Feuil1!$C$1:$BL$10,8,FALSE)","v":-14},{"$f":"T88-HLOOKUP(X88,Feuil1!$C$1:$BL$10,9,FALSE)","v":-29},{"$f":"T88-HLOOKUP(X88,Feuil1!$C$1:$BL$10,10,FALSE)","v":-879},null,null,null,null,null,null,"NAT +"]
["F","SEST","CAZ",4,363004,"PEUGNIEZ","Clea",1998,65,"ASLDD TOULON","F",40,43,45,45,55,58,60,60,105,-25,"FED +",0,{"$f":"IF(I89=\"\",\"\",IF(A89=\"H\",IF(OR(H89=\"SEN\",H89<1995),VLOOKUP(I89,Feuil1!$A$11:$G$29,6),IF(AND(H89>1994,H89<1998),VLOOKUP(I89,Feuil1!$A$11:$G$29,5),IF(AND(H89>1997,H89<2000),VLOOKUP(I89,Feuil1!$A$11:$G$29,4),IF(AND(H89>1999,H89<2002),VLOOKUP(I89,Feuil1!$A$11:$G$29,3),VLOOKUP(I89,Feuil1!$A$11:$G$29,2))))),IF(OR(H89=\"SEN\",H89<1995),VLOOKUP(I89,Feuil1!$G$11:$L$25,6),IF(AND(H89>1994,H89<1998),VLOOKUP(I89,Feuil1!$G$11:$L$25,5),IF(AND(H89>1997,H89<2000),VLOOKUP(I89,Feuil1!$G$11:$L$25,4),IF(AND(H89>1999,H89<2002),VLOOKUP(I89,Feuil1!$G$11:$L$25,3),VLOOKUP(I89,Feuil1!$G$11:$L$25,2)))))))","v":"FC2 69"},136.71510255018131,null," ",{"$f":"T89-HLOOKUP(X89,Feuil1!$C$1:$BL$10,2,FALSE)","v":45},{"$f":"T89-HLOOKUP(X89,Feuil1!$C$1:$BL$10,3,FALSE)","v":35},{"$f":"T89-HLOOKUP(X89,Feuil1!$C$1:$BL$10,4,FALSE)","v":25},{"$f":"T89-HLOOKUP(X89,Feuil1!$C$1:$BL$10,5,FALSE)","v":15},{"$f":"T89-HLOOKUP(X89,Feuil1!$C$1:$BL$10,6,FALSE)","v":0},{"$f":"T89-HLOOKUP(X89,Feuil1!$C$1:$BL$10,7,FALSE)","v":-15},{"$f":"T89-HLOOKUP(X89,Feuil1!$C$1:$BL$10,8,FALSE)","v":-30},{"$f":"T89-HLOOKUP(X89,Feuil1!$C$1:$BL$10,9,FALSE)","v":-45},{"$f":"T89-HLOOKUP(X89,Feuil1!$C$1:$BL$10,10,FALSE)","v":-895},null,null,null,null,null,null,"FED +"]
["F","NE","ALS",5,306518,"BURST","JUSTINE",1998,68.3,"SR Obernai HM","F",45,48,50,50,55,-60,-60,55,105,-31.599999999999994,"FED +",0,{"$f":"IF(I90=\"\",\"\",IF(A90=\"H\",IF(OR(H90=\"SEN\",H90<1995),VLOOKUP(I90,Feuil1!$A$11:$G$29,6),IF(AND(H90>1994,H90<1998),VLOOKUP(I90,Feuil1!$A$11:$G$29,5),IF(AND(H90>1997,H90<2000),VLOOKUP(I90,Feuil1!$A$11:$G$29,4),IF(AND(H90>1999,H90<2002),VLOOKUP(I90,Feuil1!$A$11:$G$29,3),VLOOKUP(I90,Feuil1!$A$11:$G$29,2))))),IF(OR(H90=\"SEN\",H90<1995),VLOOKUP(I90,Feuil1!$G$11:$L$25,6),IF(AND(H90>1994,H90<1998),VLOOKUP(I90,Feuil1!$G$11:$L$25,5),IF(AND(H90>1997,H90<2000),VLOOKUP(I90,Feuil1!$G$11:$L$25,4),IF(AND(H90>1999,H90<2002),VLOOKUP(I90,Feuil1!$G$11:$L$25,3),VLOOKUP(I90,Feuil1!$G$11:$L$25,2)))))))","v":"FC2 69"},132.56735429908028,null," ",{"$f":"T90-HLOOKUP(X90,Feuil1!$C$1:$BL$10,2,FALSE)","v":45},{"$f":"T90-HLOOKUP(X90,Feuil1!$C$1:$BL$10,3,FALSE)","v":35},{"$f":"T90-HLOOKUP(X90,Feuil1!$C$1:$BL$10,4,FALSE)","v":25},{"$f":"T90-HLOOKUP(X90,Feuil1!$C$1:$BL$10,5,FALSE)","v":15},{"$f":"T90-HLOOKUP(X90,Feuil1!$C$1:$BL$10,6,FALSE)","v":0},{"$f":"T90-HLOOKUP(X90,Feuil1!$C$1:$BL$10,7,FALSE)","v":-15},{"$f":"T90-HLOOKUP(X90,Feuil1!$C$1:$BL$10,8,FALSE)","v":-30},{"$f":"T90-HLOOKUP(X90,Feuil1!$C$1:$BL$10,9,FALSE)","v":-45},{"$f":"T90-HLOOKUP(X90,Feuil1!$C$1:$BL$10,10,FALSE)","v":-895},null,null,null,null,null,null,"FED +"]
["F","SEST","CAZ",6,365254,"GAUJARD","Marine",1998,65.3," ASLDD TOULON","F",42,45,-47,45,54,57,-60,57,102,-28.599999999999994,"IRG +",12,{"$f":"IF(I91=\"\",\"\",IF(A91=\"H\",IF(OR(H91=\"SEN\",H91<1995),VLOOKUP(I91,Feuil1!$A$11:$G$29,6),IF(AND(H91>1994,H91<1998),VLOOKUP(I91,Feuil1!$A$11:$G$29,5),IF(AND(H91>1997,H91<2000),VLOOKUP(I91,Feuil1!$A$11:$G$29,4),IF(AND(H91>1999,H91<2002),VLOOKUP(I91,Feuil1!$A$11:$G$29,3),VLOOKUP(I91,Feuil1!$A$11:$G$29,2))))),IF(OR(H91=\"SEN\",H91<1995),VLOOKUP(I91,Feuil1!$G$11:$L$25,6),IF(AND(H91>1994,H91<1998),VLOOKUP(I91,Feuil1!$G$11:$L$25,5),IF(AND(H91>1997,H91<2000),VLOOKUP(I91,Feuil1!$G$11:$L$25,4),IF(AND(H91>1999,H91<2002),VLOOKUP(I91,Feuil1!$G$11:$L$25,3),VLOOKUP(I91,Feuil1!$G$11:$L$25,2)))))))","v":"FC2 69"},132.41837490716014,null," ",{"$f":"T91-HLOOKUP(X91,Feuil1!$C$1:$BL$10,2,FALSE)","v":42},{"$f":"T91-HLOOKUP(X91,Feuil1!$C$1:$BL$10,3,FALSE)","v":32},{"$f":"T91-HLOOKUP(X91,Feuil1!$C$1:$BL$10,4,FALSE)","v":22},{"$f":"T91-HLOOKUP(X91,Feuil1!$C$1:$BL$10,5,FALSE)","v":12},{"$f":"T91-HLOOKUP(X91,Feuil1!$C$1:$BL$10,6,FALSE)","v":-3},{"$f":"T91-HLOOKUP(X91,Feuil1!$C$1:$BL$10,7,FALSE)","v":-18},{"$f":"T91-HLOOKUP(X91,Feuil1!$C$1:$BL$10,8,FALSE)","v":-33},{"$f":"T91-HLOOKUP(X91,Feuil1!$C$1:$BL$10,9,FALSE)","v":-48},{"$f":"T91-HLOOKUP(X91,Feuil1!$C$1:$BL$10,10,FALSE)","v":-898},null,null,null,null,null,null,"IRG +"]
["F","NORD","PIC",7,367780,"DENAND","Gwendoline",1998,67.8,"La Ferté Milon CMHM","F",33,35,37,37,43,46,48,48,85,-50.599999999999994,"REG +",5,{"$f":"IF(I92=\"\",\"\",IF(A92=\"H\",IF(OR(H92=\"SEN\",H92<1995),VLOOKUP(I92,Feuil1!$A$11:$G$29,6),IF(AND(H92>1994,H92<1998),VLOOKUP(I92,Feuil1!$A$11:$G$29,5),IF(AND(H92>1997,H92<2000),VLOOKUP(I92,Feuil1!$A$11:$G$29,4),IF(AND(H92>1999,H92<2002),VLOOKUP(I92,Feuil1!$A$11:$G$29,3),VLOOKUP(I92,Feuil1!$A$11:$G$29,2))))),IF(OR(H92=\"SEN\",H92<1995),VLOOKUP(I92,Feuil1!$G$11:$L$25,6),IF(AND(H92>1994,H92<1998),VLOOKUP(I92,Feuil1!$G$11:$L$25,5),IF(AND(H92>1997,H92<2000),VLOOKUP(I92,Feuil1!$G$11:$L$25,4),IF(AND(H92>1999,H92<2002),VLOOKUP(I92,Feuil1!$G$11:$L$25,3),VLOOKUP(I92,Feuil1!$G$11:$L$25,2)))))))","v":"FC2 69"},107.79507703711066,null," ",{"$f":"T92-HLOOKUP(X92,Feuil1!$C$1:$BL$10,2,FALSE)","v":25},{"$f":"T92-HLOOKUP(X92,Feuil1!$C$1:$BL$10,3,FALSE)","v":15},{"$f":"T92-HLOOKUP(X92,Feuil1!$C$1:$BL$10,4,FALSE)","v":5},{"$f":"T92-HLOOKUP(X92,Feuil1!$C$1:$BL$10,5,FALSE)","v":-5},{"$f":"T92-HLOOKUP(X92,Feuil1!$C$1:$BL$10,6,FALSE)","v":-20},{"$f":"T92-HLOOKUP(X92,Feuil1!$C$1:$BL$10,7,FALSE)","v":-35},{"$f":"T92-HLOOKUP(X92,Feuil1!$C$1:$BL$10,8,FALSE)","v":-50},{"$f":"T92-HLOOKUP(X92,Feuil1!$C$1:$BL$10,9,FALSE)","v":-65},{"$f":"T92-HLOOKUP(X92,Feuil1!$C$1:$BL$10,10,FALSE)","v":-915},null,null,null,null,null,null,"REG +"]
["F","NE","FCO",8,370228,"PERRAUT","Fanny",1999,66,"CH Luxeuil","F",25,28,32,32,35,39,42,42,74,-58,"DEP +",4,{"$f":"IF(I93=\"\",\"\",IF(A93=\"H\",IF(OR(H93=\"SEN\",H93<1995),VLOOKUP(I93,Feuil1!$A$11:$G$29,6),IF(AND(H93>1994,H93<1998),VLOOKUP(I93,Feuil1!$A$11:$G$29,5),IF(AND(H93>1997,H93<2000),VLOOKUP(I93,Feuil1!$A$11:$G$29,4),IF(AND(H93>1999,H93<2002),VLOOKUP(I93,Feuil1!$A$11:$G$29,3),VLOOKUP(I93,Feuil1!$A$11:$G$29,2))))),IF(OR(H93=\"SEN\",H93<1995),VLOOKUP(I93,Feuil1!$G$11:$L$25,6),IF(AND(H93>1994,H93<1998),VLOOKUP(I93,Feuil1!$G$11:$L$25,5),IF(AND(H93>1997,H93<2000),VLOOKUP(I93,Feuil1!$G$11:$L$25,4),IF(AND(H93>1999,H93<2002),VLOOKUP(I93,Feuil1!$G$11:$L$25,3),VLOOKUP(I93,Feuil1!$G$11:$L$25,2)))))))","v":"FC2 69"},95.421330200404498,null," ",{"$f":"T93-HLOOKUP(X93,Feuil1!$C$1:$BL$10,2,FALSE)","v":14},{"$f":"T93-HLOOKUP(X93,Feuil1!$C$1:$BL$10,3,FALSE)","v":4},{"$f":"T93-HLOOKUP(X93,Feuil1!$C$1:$BL$10,4,FALSE)","v":-6},{"$f":"T93-HLOOKUP(X93,Feuil1!$C$1:$BL$10,5,FALSE)","v":-16},{"$f":"T93-HLOOKUP(X93,Feuil1!$C$1:$BL$10,6,FALSE)","v":-31},{"$f":"T93-HLOOKUP(X93,Feuil1!$C$1:$BL$10,7,FALSE)","v":-46},{"$f":"T93-HLOOKUP(X93,Feuil1!$C$1:$BL$10,8,FALSE)","v":-61},{"$f":"T93-HLOOKUP(X93,Feuil1!$C$1:$BL$10,9,FALSE)","v":-76},{"$f":"T93-HLOOKUP(X93,Feuil1!$C$1:$BL$10,10,FALSE)","v":-926},null,null,null,null,null,null,"DEP +"]
["F","SO","MPY",9,369729,"SYRIEIX","Anne",1998,63.3,"DECAZEVILLE HC","F",25,28,31,31,32,35,39,39,70,-56.599999999999994,"DEP +",0,{"$f":"IF(I94=\"\",\"\",IF(A94=\"H\",IF(OR(H94=\"SEN\",H94<1995),VLOOKUP(I94,Feuil1!$A$11:$G$29,6),IF(AND(H94>1994,H94<1998),VLOOKUP(I94,Feuil1!$A$11:$G$29,5),IF(AND(H94>1997,H94<2000),VLOOKUP(I94,Feuil1!$A$11:$G$29,4),IF(AND(H94>1999,H94<2002),VLOOKUP(I94,Feuil1!$A$11:$G$29,3),VLOOKUP(I94,Feuil1!$A$11:$G$29,2))))),IF(OR(H94=\"SEN\",H94<1995),VLOOKUP(I94,Feuil1!$G$11:$L$25,6),IF(AND(H94>1994,H94<1998),VLOOKUP(I94,Feuil1!$G$11:$L$25,5),IF(AND(H94>1997,H94<2000),VLOOKUP(I94,Feuil1!$G$11:$L$25,4),IF(AND(H94>1999,H94<2002),VLOOKUP(I94,Feuil1!$G$11:$L$25,3),VLOOKUP(I94,Feuil1!$G$11:$L$25,2)))))))","v":"FC2 69"},92.731322629548089,null," ",{"$f":"T94-HLOOKUP(X94,Feuil1!$C$1:$BL$10,2,FALSE)","v":10},{"$f":"T94-HLOOKUP(X94,Feuil1!$C$1:$BL$10,3,FALSE)","v":0},{"$f":"T94-HLOOKUP(X94,Feuil1!$C$1:$BL$10,4,FALSE)","v":-10},{"$f":"T94-HLOOKUP(X94,Feuil1!$C$1:$BL$10,5,FALSE)","v":-20},{"$f":"T94-HLOOKUP(X94,Feuil1!$C$1:$BL$10,6,FALSE)","v":-35},{"$f":"T94-HLOOKUP(X94,Feuil1!$C$1:$BL$10,7,FALSE)","v":-50},{"$f":"T94-HLOOKUP(X94,Feuil1!$C$1:$BL$10,8,FALSE)","v":-65},{"$f":"T94-HLOOKUP(X94,Feuil1!$C$1:$BL$10,9,FALSE)","v":-80},{"$f":"T94-HLOOKUP(X94,Feuil1!$C$1:$BL$10,10,FALSE)","v":-930},null,null,null,null,null,null,"DEP +"]
["F","SO","MPY",10,365941,"BRANCO","Margaux",1999,66.5,"MONTAUBAN HC","F",24,27,30,30,34,37,40,40,70,-63,"DEP +",0,{"$f":"IF(I95=\"\",\"\",IF(A95=\"H\",IF(OR(H95=\"SEN\",H95<1995),VLOOKUP(I95,Feuil1!$A$11:$G$29,6),IF(AND(H95>1994,H95<1998),VLOOKUP(I95,Feuil1!$A$11:$G$29,5),IF(AND(H95>1997,H95<2000),VLOOKUP(I95,Feuil1!$A$11:$G$29,4),IF(AND(H95>1999,H95<2002),VLOOKUP(I95,Feuil1!$A$11:$G$29,3),VLOOKUP(I95,Feuil1!$A$11:$G$29,2))))),IF(OR(H95=\"SEN\",H95<1995),VLOOKUP(I95,Feuil1!$G$11:$L$25,6),IF(AND(H95>1994,H95<1998),VLOOKUP(I95,Feuil1!$G$11:$L$25,5),IF(AND(H95>1997,H95<2000),VLOOKUP(I95,Feuil1!$G$11:$L$25,4),IF(AND(H95>1999,H95<2002),VLOOKUP(I95,Feuil1!$G$11:$L$25,3),VLOOKUP(I95,Feuil1!$G$11:$L$25,2)))))))","v":"FC2 69"},89.83758804735011,null," ",{"$f":"T95-HLOOKUP(X95,Feuil1!$C$1:$BL$10,2,FALSE)","v":10},{"$f":"T95-HLOOKUP(X95,Feuil1!$C$1:$BL$10,3,FALSE)","v":0},{"$f":"T95-HLOOKUP(X95,Feuil1!$C$1:$BL$10,4,FALSE)","v":-10},{"$f":"T95-HLOOKUP(X95,Feuil1!$C$1:$BL$10,5,FALSE)","v":-20},{"$f":"T95-HLOOKUP(X95,Feuil1!$C$1:$BL$10,6,FALSE)","v":-35},{"$f":"T95-HLOOKUP(X95,Feuil1!$C$1:$BL$10,7,FALSE)","v":-50},{"$f":"T95-HLOOKUP(X95,Feuil1!$C$1:$BL$10,8,FALSE)","v":-65},{"$f":"T95-HLOOKUP(X95,Feuil1!$C$1:$BL$10,9,FALSE)","v":-80},{"$f":"T95-HLOOKUP(X95,Feuil1!$C$1:$BL$10,10,FALSE)","v":-930},null,null,null,null,null,null,"DEP +"]
["F","CO","BNO",11,391674,"KADJAIEV","LARA",1999,68.599999999999994,"Stade St Lois","F",25,28,32,32,30,35,-40,35,67,-70.199999999999989,"DEB ",7,{"$f":"IF(I96=\"\",\"\",IF(A96=\"H\",IF(OR(H96=\"SEN\",H96<1995),VLOOKUP(I96,Feuil1!$A$11:$G$29,6),IF(AND(H96>1994,H96<1998),VLOOKUP(I96,Feuil1!$A$11:$G$29,5),IF(AND(H96>1997,H96<2000),VLOOKUP(I96,Feuil1!$A$11:$G$29,4),IF(AND(H96>1999,H96<2002),VLOOKUP(I96,Feuil1!$A$11:$G$29,3),VLOOKUP(I96,Feuil1!$A$11:$G$29,2))))),IF(OR(H96=\"SEN\",H96<1995),VLOOKUP(I96,Feuil1!$G$11:$L$25,6),IF(AND(H96>1994,H96<1998),VLOOKUP(I96,Feuil1!$G$11:$L$25,5),IF(AND(H96>1997,H96<2000),VLOOKUP(I96,Feuil1!$G$11:$L$25,4),IF(AND(H96>1999,H96<2002),VLOOKUP(I96,Feuil1!$G$11:$L$25,3),VLOOKUP(I96,Feuil1!$G$11:$L$25,2)))))))","v":"FC2 69"},84.368037304486762,null," ",{"$f":"T96-HLOOKUP(X96,Feuil1!$C$1:$BL$10,2,FALSE)","v":7},{"$f":"T96-HLOOKUP(X96,Feuil1!$C$1:$BL$10,3,FALSE)","v":-3},{"$f":"T96-HLOOKUP(X96,Feuil1!$C$1:$BL$10,4,FALSE)","v":-13},{"$f":"T96-HLOOKUP(X96,Feuil1!$C$1:$BL$10,5,FALSE)","v":-23},{"$f":"T96-HLOOKUP(X96,Feuil1!$C$1:$BL$10,6,FALSE)","v":-38},{"$f":"T96-HLOOKUP(X96,Feuil1!$C$1:$BL$10,7,FALSE)","v":-53},{"$f":"T96-HLOOKUP(X96,Feuil1!$C$1:$BL$10,8,FALSE)","v":-68},{"$f":"T96-HLOOKUP(X96,Feuil1!$C$1:$BL$10,9,FALSE)","v":-83},{"$f":"T96-HLOOKUP(X96,Feuil1!$C$1:$BL$10,10,FALSE)","v":-933},null,null,null,null,null,null,"DEB "]
[null,null,null,null,null,null,null,null,null,null,null,null,null,null,null,null,null,null,null,null,null,null,null,null,null,null," ",{"$f":"T97-HLOOKUP(X97,[1]Feuil1!$C$1:$BL$10,2,FALSE)","v":{"$error":"#N/A"}},{"$f":"T97-HLOOKUP(X97,[1]Feuil1!$C$1:$BL$10,3,FALSE)","v":{"$error":"#N/A"}},{"$f":"T97-HLOOKUP(X97,[1]Feuil1!$C$1:$BL$10,4,FALSE)","v":{"$error":"#N/A"}},{"$f":"T97-HLOOKUP(X97,[1]Feuil1!$C$1:$BL$10,5,FALSE)","v":{"$error":"#N/A"}},{"$f":"T97-HLOOKUP(X97,[1]Feuil1!$C$1:$BL$10,6,FALSE)","v":{"$error":"#N/A"}},{"$f":"T97-HLOOKUP(X97,[1]Feuil1!$C$1:$BL$10,7,FALSE)","v":{"$error":"#N/A"}},{"$f":"T97-HLOOKUP(X97,[1]Feuil1!$C$1:$BL$10,8,FALSE)","v":{"$error":"#N/A"}},{"$f":"T97-HLOOKUP(X97,[1]Feuil1!$C$1:$BL$10,9,FALSE)","v":{"$error":"#N/A"}},{"$f":"T97-HLOOKUP(X97,[1]Feuil1!$C$1:$BL$10,10,FALSE)","v":{"$error":"#N/A"}},null,null,null,null,null,null,{"$f":"IF(AJ97>=0,$AJ$4,IF(AI97>=0,$AI$4,IF(AH97>=0,$AH$4,IF(AG97>=0,$AG$4,IF(AF97>=0,$AF$4,IF(AE97>=0,$AE$4,IF(AD97>=0,$AD$4,IF(AC97>=0,$AC$4,$AB$4))))))))","v":{"$error":"#N/A"}}]
["F","CO","BRE",1,210931,"BACCEI","Marilou",1998,83.78,"CHM Plouhinec PR","F",53,57,-60,{"$f":"IF(H98=\"\",\"\",IF(MAXA(L98:N98)<=0,0,MAXA(L98:N98)))","v":57},62,67,-70,{"$f":"IF(H98=\"\",\"\",IF(MAXA(P98:R98)<=0,0,MAXA(P98:R98)))","v":67},{"$f":"IF(H98=\"\",\"\",IF(OR(O98=0,S98=0),0,O98+S98))","v":124},{"$f":"T98-I98*2","v":-43.56},{"$f":"IF(H98=\"\",\"\",AQ98)","v":"FED +"},{"$f":"IF(AJ98>=0,AJ98,IF(AI98>=0,AI98,IF(AH98>=0,AH98,IF(AG98>=0,AG98,IF(AF98>=0,AF98,IF(AE98>=0,AE98,IF(AD98>=0,AD98,IF(AC98>=0,AC98,AB98))))))))","v":9},{"$f":"IF(I98=\"\",\"\",IF(A98=\"H\",IF(OR(H98=\"SEN\",H98<1995),VLOOKUP(I98,Feuil1!$A$11:$G$29,6),IF(AND(H98>1994,H98<1998),VLOOKUP(I98,Feuil1!$A$11:$G$29,5),IF(AND(H98>1997,H98<2000),VLOOKUP(I98,Feuil1!$A$11:$G$29,4),IF(AND(H98>1999,H98<2002),VLOOKUP(I98,Feuil1!$A$11:$G$29,3),VLOOKUP(I98,Feuil1!$A$11:$G$29,2))))),IF(OR(H98=\"SEN\",H98<1995),VLOOKUP(I98,Feuil1!$G$11:$L$25,6),IF(AND(H98>1994,H98<1998),VLOOKUP(I98,Feuil1!$G$11:$L$25,5),IF(AND(H98>1997,H98<2000),VLOOKUP(I98,Feuil1!$G$11:$L$25,4),IF(AND(H98>1999,H98<2002),VLOOKUP(I98,Feuil1!$G$11:$L$25,3),VLOOKUP(I98,Feuil1!$G$11:$L$25,2)))))))","v":"FC2 +69"},{"$f":"IF(I98=\"\",\"\",IF(A98=\"H\",10^(0.794358141*LOG(I98/174.393)^2)*T98,IF(A98=\"F\",10^(0.89726074*LOG(I98/148.026)^2)*T98,\"\")))","v":140.68581389059401},null," ",{"$f":"T98-HLOOKUP(X98,Feuil1!$C$1:$BL$10,2,FALSE)","v":54},{"$f":"T98-HLOOKUP(X98,Feuil1!$C$1:$BL$10,3,FALSE)","v":44},{"$f":"T98-HLOOKUP(X98,Feuil1!$C$1:$BL$10,4,FALSE)","v":29},{"$f":"T98-HLOOKUP(X98,Feuil1!$C$1:$BL$10,5,FALSE)","v":19},{"$f":"T98-HLOOKUP(X98,Feuil1!$C$1:$BL$10,6,FALSE)","v":9},{"$f":"T98-HLOOKUP(X98,Feuil1!$C$1:$BL$10,7,FALSE)","v":-6},{"$f":"T98-HLOOKUP(X98,Feuil1!$C$1:$BL$10,8,FALSE)","v":-21},{"$f":"T98-HLOOKUP(X98,Feuil1!$C$1:$BL$10,9,FALSE)","v":-36},{"$f":"T98-HLOOKUP(X98,Feuil1!$C$1:$BL$10,10,FALSE)","v":-876},null,null,null,null,null,null,{"$f":"IF(AJ98>=0,$AJ$4,IF(AI98>=0,$AI$4,IF(AH98>=0,$AH$4,IF(AG98>=0,$AG$4,IF(AF98>=0,$AF$4,IF(AE98>=0,$AE$4,IF(AD98>=0,$AD$4,IF(AC98>=0,$AC$4,$AB$4))))))))","v":"FED +"}]
["F","NORD","NPC",2,362261,"GODEFROIDT","Charline",1999,81.05,"CHCD COMINES","F",48,-52,52,52,60,-63,63,63,115,-47.099999999999994,"FED +",0,{"$f":"IF(I99=\"\",\"\",IF(A99=\"H\",IF(OR(H99=\"SEN\",H99<1995),VLOOKUP(I99,Feuil1!$A$11:$G$29,6),IF(AND(H99>1994,H99<1998),VLOOKUP(I99,Feuil1!$A$11:$G$29,5),IF(AND(H99>1997,H99<2000),VLOOKUP(I99,Feuil1!$A$11:$G$29,4),IF(AND(H99>1999,H99<2002),VLOOKUP(I99,Feuil1!$A$11:$G$29,3),VLOOKUP(I99,Feuil1!$A$11:$G$29,2))))),IF(OR(H99=\"SEN\",H99<1995),VLOOKUP(I99,Feuil1!$G$11:$L$25,6),IF(AND(H99>1994,H99<1998),VLOOKUP(I99,Feuil1!$G$11:$L$25,5),IF(AND(H99>1997,H99<2000),VLOOKUP(I99,Feuil1!$G$11:$L$25,4),IF(AND(H99>1999,H99<2002),VLOOKUP(I99,Feuil1!$G$11:$L$25,3),VLOOKUP(I99,Feuil1!$G$11:$L$25,2)))))))","v":"FC2 +69"},132.46295390315669,null," ",{"$f":"T99-HLOOKUP(X99,Feuil1!$C$1:$BL$10,2,FALSE)","v":45},{"$f":"T99-HLOOKUP(X99,Feuil1!$C$1:$BL$10,3,FALSE)","v":35},{"$f":"T99-HLOOKUP(X99,Feuil1!$C$1:$BL$10,4,FALSE)","v":20},{"$f":"T99-HLOOKUP(X99,Feuil1!$C$1:$BL$10,5,FALSE)","v":10},{"$f":"T99-HLOOKUP(X99,Feuil1!$C$1:$BL$10,6,FALSE)","v":0},{"$f":"T99-HLOOKUP(X99,Feuil1!$C$1:$BL$10,7,FALSE)","v":-15},{"$f":"T99-HLOOKUP(X99,Feuil1!$C$1:$BL$10,8,FALSE)","v":-30},{"$f":"T99-HLOOKUP(X99,Feuil1!$C$1:$BL$10,9,FALSE)","v":-45},{"$f":"T99-HLOOKUP(X99,Feuil1!$C$1:$BL$10,10,FALSE)","v":-885},null,null,null,null,null,null,"FED +"]
["F","NE","CHA",3,239747,"VAUTARD","Priscillia",1999,69.3,"Langres HM","F",48,-51,51,51,53,57,60,60,111,-27.599999999999994,"IRG +",6,{"$f":"IF(I100=\"\",\"\",IF(A100=\"H\",IF(OR(H100=\"SEN\",H100<1995),VLOOKUP(I100,Feuil1!$A$11:$G$29,6),IF(AND(H100>1994,H100<1998),VLOOKUP(I100,Feuil1!$A$11:$G$29,5),IF(AND(H100>1997,H100<2000),VLOOKUP(I100,Feuil1!$A$11:$G$29,4),IF(AND(H100>1999,H100<2002),VLOOKUP(I100,Feuil1!$A$11:$G$29,3),VLOOKUP(I100,Feuil1!$A$11:$G$29,2))))),IF(OR(H100=\"SEN\",H100<1995),VLOOKUP(I100,Feuil1!$G$11:$L$25,6),IF(AND(H100>1994,H100<1998),VLOOKUP(I100,Feuil1!$G$11:$L$25,5),IF(AND(H100>1997,H100<2000),VLOOKUP(I100,Feuil1!$G$11:$L$25,4),IF(AND(H100>1999,H100<2002),VLOOKUP(I100,Feuil1!$G$11:$L$25,3),VLOOKUP(I100,Feuil1!$G$11:$L$25,2)))))))","v":"FC2 +69"},138.93151158504367,null," ",{"$f":"T100-HLOOKUP(X100,Feuil1!$C$1:$BL$10,2,FALSE)","v":41},{"$f":"T100-HLOOKUP(X100,Feuil1!$C$1:$BL$10,3,FALSE)","v":31},{"$f":"T100-HLOOKUP(X100,Feuil1!$C$1:$BL$10,4,FALSE)","v":16},{"$f":"T100-HLOOKUP(X100,Feuil1!$C$1:$BL$10,5,FALSE)","v":6},{"$f":"T100-HLOOKUP(X100,Feuil1!$C$1:$BL$10,6,FALSE)","v":-4},{"$f":"T100-HLOOKUP(X100,Feuil1!$C$1:$BL$10,7,FALSE)","v":-19},{"$f":"T100-HLOOKUP(X100,Feuil1!$C$1:$BL$10,8,FALSE)","v":-34},{"$f":"T100-HLOOKUP(X100,Feuil1!$C$1:$BL$10,9,FALSE)","v":-49},{"$f":"T100-HLOOKUP(X100,Feuil1!$C$1:$BL$10,10,FALSE)","v":-889},null,null,null,null,null,null,"IRG +"]
["F","NE","ALS",4,306518,"BURST","JUSTINE",1998,70.099999999999994,"SR Obernai HM","F",43,-46,46,46,52,56,60,60,106,-34.199999999999989,"IRG +",1,{"$f":"IF(I101=\"\",\"\",IF(A101=\"H\",IF(OR(H101=\"SEN\",H101<1995),VLOOKUP(I101,Feuil1!$A$11:$G$29,6),IF(AND(H101>1994,H101<1998),VLOOKUP(I101,Feuil1!$A$11:$G$29,5),IF(AND(H101>1997,H101<2000),VLOOKUP(I101,Feuil1!$A$11:$G$29,4),IF(AND(H101>1999,H101<2002),VLOOKUP(I101,Feuil1!$A$11:$G$29,3),VLOOKUP(I101,Feuil1!$A$11:$G$29,2))))),IF(OR(H101=\"SEN\",H101<1995),VLOOKUP(I101,Feuil1!$G$11:$L$25,6),IF(AND(H101>1994,H101<1998),VLOOKUP(I101,Feuil1!$G$11:$L$25,5),IF(AND(H101>1997,H101<2000),VLOOKUP(I101,Feuil1!$G$11:$L$25,4),IF(AND(H101>1999,H101<2002),VLOOKUP(I101,Feuil1!$G$11:$L$25,3),VLOOKUP(I101,Feuil1!$G$11:$L$25,2)))))))","v":"FC2 +69"},131.78243525241186,null," ",{"$f":"T101-HLOOKUP(X101,Feuil1!$C$1:$BL$10,2,FALSE)","v":36},{"$f":"T101-HLOOKUP(X101,Feuil1!$C$1:$BL$10,3,FALSE)","v":26},{"$f":"T101-HLOOKUP(X101,Feuil1!$C$1:$BL$10,4,FALSE)","v":11},{"$f":"T101-HLOOKUP(X101,Feuil1!$C$1:$BL$10,5,FALSE)","v":1},{"$f":"T101-HLOOKUP(X101,Feuil1!$C$1:$BL$10,6,FALSE)","v":-9},{"$f":"T101-HLOOKUP(X101,Feuil1!$C$1:$BL$10,7,FALSE)","v":-24},{"$f":"T101-HLOOKUP(X101,Feuil1!$C$1:$BL$10,8,FALSE)","v":-39},{"$f":"T101-HLOOKUP(X101,Feuil1!$C$1:$BL$10,9,FALSE)","v":-54},{"$f":"T101-HLOOKUP(X101,Feuil1!$C$1:$BL$10,10,FALSE)","v":-894},null,null,null,null,null,null,"IRG +"]
["F","NORD","NPC",5,191850,"GONZALES","Naomi",1998,71.599999999999994,"CHCD COMINES","F",33,35,37,37,45,-48,48,48,85,-58.199999999999989,"DEP +",5,{"$f":"IF(I102=\"\",\"\",IF(A102=\"H\",IF(OR(H102=\"SEN\",H102<1995),VLOOKUP(I102,Feuil1!$A$11:$G$29,6),IF(AND(H102>1994,H102<1998),VLOOKUP(I102,Feuil1!$A$11:$G$29,5),IF(AND(H102>1997,H102<2000),VLOOKUP(I102,Feuil1!$A$11:$G$29,4),IF(AND(H102>1999,H102<2002),VLOOKUP(I102,Feuil1!$A$11:$G$29,3),VLOOKUP(I102,Feuil1!$A$11:$G$29,2))))),IF(OR(H102=\"SEN\",H102<1995),VLOOKUP(I102,Feuil1!$G$11:$L$25,6),IF(AND(H102>1994,H102<1998),VLOOKUP(I102,Feuil1!$G$11:$L$25,5),IF(AND(H102>1997,H102<2000),VLOOKUP(I102,Feuil1!$G$11:$L$25,4),IF(AND(H102>1999,H102<2002),VLOOKUP(I102,Feuil1!$G$11:$L$25,3),VLOOKUP(I102,Feuil1!$G$11:$L$25,2)))))))","v":"FC2 +69"},104.39748003674627,null," ",{"$f":"T102-HLOOKUP(X102,Feuil1!$C$1:$BL$10,2,FALSE)","v":15},{"$f":"T102-HLOOKUP(X102,Feuil1!$C$1:$BL$10,3,FALSE)","v":5},{"$f":"T102-HLOOKUP(X102,Feuil1!$C$1:$BL$10,4,FALSE)","v":-10},{"$f":"T102-HLOOKUP(X102,Feuil1!$C$1:$BL$10,5,FALSE)","v":-20},{"$f":"T102-HLOOKUP(X102,Feuil1!$C$1:$BL$10,6,FALSE)","v":-30},{"$f":"T102-HLOOKUP(X102,Feuil1!$C$1:$BL$10,7,FALSE)","v":-45},{"$f":"T102-HLOOKUP(X102,Feuil1!$C$1:$BL$10,8,FALSE)","v":-60},{"$f":"T102-HLOOKUP(X102,Feuil1!$C$1:$BL$10,9,FALSE)","v":-75},{"$f":"T102-HLOOKUP(X102,Feuil1!$C$1:$BL$10,10,FALSE)","v":-915},null,null,null,null,null,null,"DEP +"]
["F","SEST","RAL",6,363024,"PONCET","Phebe",1999,69.5,"SAINT BALDOPH","F",32,35,-38,35,-42,42,-46,42,77,-62,"DEB ",7,{"$f":"IF(I103=\"\",\"\",IF(A103=\"H\",IF(OR(H103=\"SEN\",H103<1995),VLOOKUP(I103,Feuil1!$A$11:$G$29,6),IF(AND(H103>1994,H103<1998),VLOOKUP(I103,Feuil1!$A$11:$G$29,5),IF(AND(H103>1997,H103<2000),VLOOKUP(I103,Feuil1!$A$11:$G$29,4),IF(AND(H103>1999,H103<2002),VLOOKUP(I103,Feuil1!$A$11:$G$29,3),VLOOKUP(I103,Feuil1!$A$11:$G$29,2))))),IF(OR(H103=\"SEN\",H103<1995),VLOOKUP(I103,Feuil1!$G$11:$L$25,6),IF(AND(H103>1994,H103<1998),VLOOKUP(I103,Feuil1!$G$11:$L$25,5),IF(AND(H103>1997,H103<2000),VLOOKUP(I103,Feuil1!$G$11:$L$25,4),IF(AND(H103>1999,H103<2002),VLOOKUP(I103,Feuil1!$G$11:$L$25,3),VLOOKUP(I103,Feuil1!$G$11:$L$25,2)))))))","v":"FC2 +69"},96.212085957221007,null," ",{"$f":"T103-HLOOKUP(X103,Feuil1!$C$1:$BL$10,2,FALSE)","v":7},{"$f":"T103-HLOOKUP(X103,Feuil1!$C$1:$BL$10,3,FALSE)","v":-3},{"$f":"T103-HLOOKUP(X103,Feuil1!$C$1:$BL$10,4,FALSE)","v":-18},{"$f":"T103-HLOOKUP(X103,Feuil1!$C$1:$BL$10,5,FALSE)","v":-28},{"$f":"T103-HLOOKUP(X103,Feuil1!$C$1:$BL$10,6,FALSE)","v":-38},{"$f":"T103-HLOOKUP(X103,Feuil1!$C$1:$BL$10,7,FALSE)","v":-53},{"$f":"T103-HLOOKUP(X103,Feuil1!$C$1:$BL$10,8,FALSE)","v":-68},{"$f":"T103-HLOOKUP(X103,Feuil1!$C$1:$BL$10,9,FALSE)","v":-83},{"$f":"T103-HLOOKUP(X103,Feuil1!$C$1:$BL$10,10,FALSE)","v":-923},null,null,null,null,null,null,"DEB "]
["F","SEST","RAL",7,367662,"BRUNET","Charlie",1998,71.900000000000006,"SAINT MARCELLIN","F",23,-26,26,26,28,30,32,32,58,-85.800000000000011,"DEB ",-12,{"$f":"IF(I104=\"\",\"\",IF(A104=\"H\",IF(OR(H104=\"SEN\",H104<1995),VLOOKUP(I104,Feuil1!$A$11:$G$29,6),IF(AND(H104>1994,H104<1998),VLOOKUP(I104,Feuil1!$A$11:$G$29,5),IF(AND(H104>1997,H104<2000),VLOOKUP(I104,Feuil1!$A$11:$G$29,4),IF(AND(H104>1999,H104<2002),VLOOKUP(I104,Feuil1!$A$11:$G$29,3),VLOOKUP(I104,Feuil1!$A$11:$G$29,2))))),IF(OR(H104=\"SEN\",H104<1995),VLOOKUP(I104,Feuil1!$G$11:$L$25,6),IF(AND(H104>1994,H104<1998),VLOOKUP(I104,Feuil1!$G$11:$L$25,5),IF(AND(H104>1997,H104<2000),VLOOKUP(I104,Feuil1!$G$11:$L$25,4),IF(AND(H104>1999,H104<2002),VLOOKUP(I104,Feuil1!$G$11:$L$25,3),VLOOKUP(I104,Feuil1!$G$11:$L$25,2)))))))","v":"FC2 +69"},71.068016390406115,null," ",{"$f":"T104-HLOOKUP(X104,Feuil1!$C$1:$BL$10,2,FALSE)","v":-12},{"$f":"T104-HLOOKUP(X104,Feuil1!$C$1:$BL$10,3,FALSE)","v":-22},{"$f":"T104-HLOOKUP(X104,Feuil1!$C$1:$BL$10,4,FALSE)","v":-37},{"$f":"T104-HLOOKUP(X104,Feuil1!$C$1:$BL$10,5,FALSE)","v":-47},{"$f":"T104-HLOOKUP(X104,Feuil1!$C$1:$BL$10,6,FALSE)","v":-57},{"$f":"T104-HLOOKUP(X104,Feuil1!$C$1:$BL$10,7,FALSE)","v":-72},{"$f":"T104-HLOOKUP(X104,Feuil1!$C$1:$BL$10,8,FALSE)","v":-87},{"$f":"T104-HLOOKUP(X104,Feuil1!$C$1:$BL$10,9,FALSE)","v":-102},{"$f":"T104-HLOOKUP(X104,Feuil1!$C$1:$BL$10,10,FALSE)","v":-942},null,null,null,null,null,null,"DEB "]
[null,null,null,null,null,null,null,null,null,null,null,null,null,null,null,null,null,null,null,null,null,null,null,null,null,null," ",{"$f":"T105-HLOOKUP(X105,[1]Feuil1!$C$1:$BL$10,2,FALSE)","v":{"$error":"#N/A"}},{"$f":"T105-HLOOKUP(X105,[1]Feuil1!$C$1:$BL$10,3,FALSE)","v":{"$error":"#N/A"}},{"$f":"T105-HLOOKUP(X105,[1]Feuil1!$C$1:$BL$10,4,FALSE)","v":{"$error":"#N/A"}},{"$f":"T105-HLOOKUP(X105,[1]Feuil1!$C$1:$BL$10,5,FALSE)","v":{"$error":"#N/A"}},{"$f":"T105-HLOOKUP(X105,[1]Feuil1!$C$1:$BL$10,6,FALSE)","v":{"$error":"#N/A"}},{"$f":"T105-HLOOKUP(X105,[1]Feuil1!$C$1:$BL$10,7,FALSE)","v":{"$error":"#N/A"}},{"$f":"T105-HLOOKUP(X105,[1]Feuil1!$C$1:$BL$10,8,FALSE)","v":{"$error":"#N/A"}},{"$f":"T105-HLOOKUP(X105,[1]Feuil1!$C$1:$BL$10,9,FALSE)","v":{"$error":"#N/A"}},{"$f":"T105-HLOOKUP(X105,[1]Feuil1!$C$1:$BL$10,10,FALSE)","v":{"$error":"#N/A"}},null,null,null,null,null,null,{"$f":"IF(AJ105>=0,$AJ$4,IF(AI105>=0,$AI$4,IF(AH105>=0,$AH$4,IF(AG105>=0,$AG$4,IF(AF105>=0,$AF$4,IF(AE105>=0,$AE$4,IF(AD105>=0,$AD$4,IF(AC105>=0,$AC$4,$AB$4))))))))","v":{"$error":"#N/A"}}]
[]
[]
[]
[]
[]
[]
[]
[]
[]
[]
[]
[]
[]
[]
[]
[]
[]
[]
[]
[]
[]
[]
[]
[]
[]
[]
[]
[]
[]
[]
[]
[]
[]
[]
[]
[]
[]
[]
[]
[]
[]
[]
[]
[]
[]
[]
[]
[]
[]
[]
[]
[]
[]
[]
[]
[]
[]
[]
[]
[]
[]
[]
[]
[]
[]
[]
[]
[]
[]
[]
[]
[]
[]
[]
[]
[]
[]
[]
[]
[]
[]
[]
[]
[]
[]
[]
[]
[]
[]
[]
[]
[]
[]
[]
[]
[]
[]
[]
[]
[]
[]
[]
[]
[]
[]
[]
[]
[]
[]
[]
[]
[]
[]
[]
[]
[]
[]
[]
[]
[]
[]
[]
[]
[]
[]
[]
[]
[]
[]
[]
[]
[]
[]
[]
[]
[]
[]
[]
[]
[]
[]
[]
[]
[]
[]
[]
[]
[]
[]
[]
[]
[]
[]
[]
[]
[]
[]
[]
[]
[]
[]
[]
[]
[]
[]
[]
[]
[]
[]
[]
[]
[]
[]
[]
[]
[]
[]
[]
[]
[]
[]
[]
[]
[]
[]
[]
[]
[]
[]
[]
[]
[]
[]
[]
[]
[]
[]
[]
[]
[]
[]
[]
[]
[]
[]
[]
[]
[]
[]
[]
[]
[]
[]
[]
[]
[]
[]
[]
[]
[]
[]
[]
[]
[]
[]
[]
[]
[]
[]
[]
[]
[]
[]
[]
[]
[]
[]
[]
[]
[]
[]
[]
[]
[]
[]
[]
[]
[]
[]
[]
[]
[]
[]
[]
[]
[]
[]
[]
[]
[]
[]
[]
[]
[]
[]
[]
[]
[]
[]
[]
[]
[]
[]
[]
[]
[]
[]
[]
[]
[]
[]
[]
[]
[]
[]
[]
[]
[]
[]
[]
[]
[]
[]
[]
[]
[]
[]
[]
[]
[]
[]
[]
[]
[]
[]
[]
[]
[]
[]
[]
[]
[]
[]
[]
[]
[]
[]
[]
[]
[]
[]
[]
[]
[]
[]
[]
[]
[]
[]
[]
[]
[]
[]
[]
[]
[]
[]
[]
[]
[]
[]
[]
[]
[]
[]
[]
[]
[]
[]
[]
[]
[]
[]
[]
[]
[]
[]
[]
[]
[]
[]
[]
[]
[]
[]
[]
[]
[]
[]
[]
[]
[]
[]
[]
[]
[]
[]
[]
[]
[]
[]
[]
[]
[]
[]
[]
[]
[]
[]
[]
[]
[]
[]
[]
[]
[]
[]
[]
[]
[]
[]
[]
[]
[]
[]
[]
[]
[]
[]
[]
[]
[]
[]
[]
[]
[]
[]
[]
[]
[]
[]
[]
[]
[]
[]
[]
[]
[]
[]
[]
[]
[]
[]
[]
[]
[]
[null,null,null,null,null,null,null,null,null,null,null,null,null,null,null,null,null,null,null,null,null,null,null,null,null,null,null,"J77","J85","J94","J105","J+105",null,"J56","J62","J69","J77","J85","J94","J105","J+105",null,"S56","S62","S69","S77","S85","S94","S105","S+105"]
[null,null,null,null,null,null,null,null,null,null,null,null,null,null,null,null,null,null,null,null,null,null,null,null,null,null,null,145,160,170,180,190,null,100,115,130,145,160,170,180,190,null,115,135,150,165,180,190,200,210]
[null,null,null,null,null,null,null,null,null,null,null,null,null,null,null,null,null,null,null,null,null,null,null,null,null,null,null,165,180,190,200,210,null,115,135,150,165,180,190,200,210,null,130,150,165,185,200,210,220,230]
[null,null,null,null,null,null,null,null,null,null,null,null,null,null,null,null,null,null,null,null,null,null,null,null,null,null,null,185,200,210,220,230,null,130,150,165,185,200,210,220,230,null,145,165,180,200,220,230,240,250]
[null,null,null,null,null,null,null,null,null,null,null,null,null,null,null,null,null,null,null,null,null,null,null,null,null,null,null,200,220,230,240,250,null,145,165,180,200,220,230,240,250,null,175,195,215,235,250,260,275,280]
[null,null,null,null,null,null,null,null,null,null,null,null,null,null,null,null,null,null,null,null,null,null,null,null,null,null,null,235,250,260,275,280,null,175,195,215,235,250,260,275,280,null,210,230,250,270,290,300,310,325]
[null,null,null,null,null,null,null,null,null,null,null,null,null,null,null,null,null,null,null,null,null,null,null,null,null,null,null,270,290,300,310,325,null,210,230,250,270,290,300,310,325,null,230,255,275,300,315,335,345,355]
[null,null,null,null,null,null,null,null,null,null,null,null,null,null,null,null,null,null,null,null,null,null,null,null,null,null,null,320,335,355,370,380,null,245,270,295,320,335,355,370,380,null,245,270,295,320,335,355,370,380]

{"sheet":"JUNIORS","index":3,"n_rows":633,"n_cols":50,"rows_kept":633,"cut":false,"hidden":false,"merged":[[3,21,3,22],[0,7,0,14],[0,18,0,21],[1,6,1,10],[1,11,1,13],[1,14,1,17],[1,18,1,19],[1,21,1,22]]}
[null,null,null,null,null,"LISTING NATIONAL",null,"FEMININES",null,null,null,null,null,null,null,null,"DATE :",null,"2015-06-30"]
[null,null,null,null,null," ","2014-2015",null,null,null,null,"3° TRIMESTRE"]
[]
["SEXE","ZONE","REG.","CL.","LICENCE","NOMS","Prénoms","AN","POIDS","CLUB","NAT",1,2,3,"ARR",1,2,3,"EP-J","Total","KP-2PC","SERIE",null,"Catég","IWF",null," ","DEB ","DEP +","REG +","IRG +","FED +","NAT +","INTB +","INTA +","OLY +"]
[null,null,null,null,null,null,null,null,null,null,null,null,null,null,null,null,null,null,null,null,null,null,null,null,null,null," ",{"$f":"T5-HLOOKUP(X5,[1]Feuil1!$C$1:$BL$10,2,FALSE)","v":{"$error":"#N/A"}},{"$f":"T5-HLOOKUP(X5,[1]Feuil1!$C$1:$BL$10,3,FALSE)","v":{"$error":"#N/A"}},{"$f":"T5-HLOOKUP(X5,[1]Feuil1!$C$1:$BL$10,4,FALSE)","v":{"$error":"#N/A"}},{"$f":"T5-HLOOKUP(X5,[1]Feuil1!$C$1:$BL$10,5,FALSE)","v":{"$error":"#N/A"}},{"$f":"T5-HLOOKUP(X5,[1]Feuil1!$C$1:$BL$10,6,FALSE)","v":{"$error":"#N/A"}},{"$f":"T5-HLOOKUP(X5,[1]Feuil1!$C$1:$BL$10,7,FALSE)","v":{"$error":"#N/A"}},{"$f":"T5-HLOOKUP(X5,[1]Feuil1!$C$1:$BL$10,8,FALSE)","v":{"$error":"#N/A"}},{"$f":"T5-HLOOKUP(X5,[1]Feuil1!$C$1:$BL$10,9,FALSE)","v":{"$error":"#N/A"}},{"$f":"T5-HLOOKUP(X5,[1]Feuil1!$C$1:$BL$10,10,FALSE)","v":{"$error":"#N/A"}},null,null,null,null,null,null,{"$f":"IF(AJ5>=0,$AJ$4,IF(AI5>=0,$AI$4,IF(AH5>=0,$AH$4,IF(AG5>=0,$AG$4,IF(AF5>=0,$AF$4,IF(AE5>=0,$AE$4,IF(AD5>=0,$AD$4,IF(AC5>=0,$AC$4,$AB$4))))))))","v":{"$error":"#N/A"}}]
["F","SEST","PRO",1,361701,"DELEUIL","Fanny",1995,47.5,"EEAR MONTEUX","F",45,50,-52,{"$f":"IF(H6=\"\",\"\",IF(MAXA(L6:N6)<=0,0,MAXA(L6:N6)))","v":50},58,62,-65,{"$f":"IF(H6=\"\",\"\",IF(MAXA(P6:R6)<=0,0,MAXA(P6:R6)))","v":62},{"$f":"IF(H6=\"\",\"\",IF(OR(O6=0,S6=0),0,O6+S6))","v":112},{"$f":"T6-I6*2","v":17},{"$f":"IF(H6=\"\",\"\",AQ6)","v":"INTB +"},{"$f":"IF(AJ6>=0,AJ6,IF(AI6>=0,AI6,IF(AH6>=0,AH6,IF(AG6>=0,AG6,IF(AF6>=0,AF6,IF(AE6>=0,AE6,IF(AD6>=0,AD6,IF(AC6>=0,AC6,AB6))))))))","v":2},{"$f":"IF(I6=\"\",\"\",IF(A6=\"H\",IF(OR(H6=\"SEN\",H6<1995),VLOOKUP(I6,Feuil1!$A$11:$F$29,6),IF(AND(H6>1994,H6<1998),VLOOKUP(I6,Feuil1!$A$11:$F$29,5),IF(AND(H6>1997,H6<2000),VLOOKUP(I6,Feuil1!$A$11:$F$29,4),IF(AND(H6>1999,H6<2002),VLOOKUP(I6,Feuil1!$A$11:$F$29,3),VLOOKUP(I6,Feuil1!$A$11:$F$29,2))))),IF(OR(H6=\"SEN\",H6<1995),VLOOKUP(I6,Feuil1!$G$11:$L$25,6),IF(AND(H6>1994,H6<1998),VLOOKUP(I6,Feuil1!$G$11:$L$25,5),IF(AND(H6>1997,H6<2000),VLOOKUP(I6,Feuil1!$G$11:$L$25,4),IF(AND(H6>1999,H6<2002),VLOOKUP(I6,Feuil1!$G$11:$L$25,3),VLOOKUP(I6,Feuil1!$G$11:$L$25,2)))))))","v":"FJ48"},{"$f":"IF(I6=\"\",\"\",IF(A6=\"H\",10^(0.794358141*LOG(I6/174.393)^2)*T6,IF(A6=\"F\",10^(0.89726074*LOG(I6/148.026)^2)*T6,\"\")))","v":185.29632912765382},null," ",{"$f":"T6-HLOOKUP(X6,Feuil1!$C$1:$BL$10,2,FALSE)","v":67},{"$f":"T6-HLOOKUP(X6,Feuil1!$C$1:$BL$10,3,FALSE)","v":57},{"$f":"T6-HLOOKUP(X6,Feuil1!$C$1:$BL$10,4,FALSE)","v":47},{"$f":"T6-HLOOKUP(X6,Feuil1!$C$1:$BL$10,5,FALSE)","v":37},{"$f":"T6-HLOOKUP(X6,Feuil1!$C$1:$BL$10,6,FALSE)","v":27},{"$f":"T6-HLOOKUP(X6,Feuil1!$C$1:$BL$10,7,FALSE)","v":17},{"$f":"T6-HLOOKUP(X6,Feuil1!$C$1:$BL$10,8,FALSE)","v":2},{"$f":"T6-HLOOKUP(X6,Feuil1!$C$1:$BL$10,9,FALSE)","v":-13},{"$f":"T6-HLOOKUP(X6,Feuil1!$C$1:$BL$10,10,FALSE)","v":-888},null,null,null,null,null,null,{"$f":"IF(AJ6>=0,$AJ$4,IF(AI6>=0,$AI$4,IF(AH6>=0,$AH$4,IF(AG6>=0,$AG$4,IF(AF6>=0,$AF$4,IF(AE6>=0,$AE$4,IF(AD6>=0,$AD$4,IF(AC6>=0,$AC$4,$AB$4))))))))","v":"INTB +"}]
["F","NE","CHA",2,193808,"POIRET ","Kimberley",1997,44.45,"Reims HM","F",43,46,48,48,57,59,61,61,109,20.099999999999994,"NAT +",14,{"$f":"IF(I7=\"\",\"\",IF(A7=\"H\",IF(OR(H7=\"SEN\",H7<1995),VLOOKUP(I7,Feuil1!$A$11:$F$29,6),IF(AND(H7>1994,H7<1998),VLOOKUP(I7,Feuil1!$A$11:$F$29,5),IF(AND(H7>1997,H7<2000),VLOOKUP(I7,Feuil1!$A$11:$F$29,4),IF(AND(H7>1999,H7<2002),VLOOKUP(I7,Feuil1!$A$11:$F$29,3),VLOOKUP(I7,Feuil1!$A$11:$F$29,2))))),IF(OR(H7=\"SEN\",H7<1995),VLOOKUP(I7,Feuil1!$G$11:$L$25,6),IF(AND(H7>1994,H7<1998),VLOOKUP(I7,Feuil1!$G$11:$L$25,5),IF(AND(H7>1997,H7<2000),VLOOKUP(I7,Feuil1!$G$11:$L$25,4),IF(AND(H7>1999,H7<2002),VLOOKUP(I7,Feuil1!$G$11:$L$25,3),VLOOKUP(I7,Feuil1!$G$11:$L$25,2)))))))","v":"FJ48"},191.5810868420148,null," ",{"$f":"T7-HLOOKUP(X7,Feuil1!$C$1:$BL$10,2,FALSE)","v":64},{"$f":"T7-HLOOKUP(X7,Feuil1!$C$1:$BL$10,3,FALSE)","v":54},{"$f":"T7-HLOOKUP(X7,Feuil1!$C$1:$BL$10,4,FALSE)","v":44},{"$f":"T7-HLOOKUP(X7,Feuil1!$C$1:$BL$10,5,FALSE)","v":34},{"$f":"T7-HLOOKUP(X7,Feuil1!$C$1:$BL$10,6,FALSE)","v":24},{"$f":"T7-HLOOKUP(X7,Feuil1!$C$1:$BL$10,7,FALSE)","v":14},{"$f":"T7-HLOOKUP(X7,Feuil1!$C$1:$BL$10,8,FALSE)","v":-1},{"$f":"T7-HLOOKUP(X7,Feuil1!$C$1:$BL$10,9,FALSE)","v":-16},{"$f":"T7-HLOOKUP(X7,Feuil1!$C$1:$BL$10,10,FALSE)","v":-891},null,null,null,null,null,null,"NAT +"]
["F","CO","PDL",3,97644,"L'HERMIER","Mélanie",1996,47.74,"CJF Laval-Voutré","F",-43,43,45,45,53,56,-59,56,101,5.519999999999996,"NAT +",6,{"$f":"IF(I8=\"\",\"\",IF(A8=\"H\",IF(OR(H8=\"SEN\",H8<1995),VLOOKUP(I8,Feuil1!$A$11:$F$29,6),IF(AND(H8>1994,H8<1998),VLOOKUP(I8,Feuil1!$A$11:$F$29,5),IF(AND(H8>1997,H8<2000),VLOOKUP(I8,Feuil1!$A$11:$F$29,4),IF(AND(H8>1999,H8<2002),VLOOKUP(I8,Feuil1!$A$11:$F$29,3),VLOOKUP(I8,Feuil1!$A$11:$F$29,2))))),IF(OR(H8=\"SEN\",H8<1995),VLOOKUP(I8,Feuil1!$G$11:$L$25,6),IF(AND(H8>1994,H8<1998),VLOOKUP(I8,Feuil1!$G$11:$L$25,5),IF(AND(H8>1997,H8<2000),VLOOKUP(I8,Feuil1!$G$11:$L$25,4),IF(AND(H8>1999,H8<2002),VLOOKUP(I8,Feuil1!$G$11:$L$25,3),VLOOKUP(I8,Feuil1!$G$11:$L$25,2)))))))","v":"FJ48"},166.35486282312925,null," ",{"$f":"T8-HLOOKUP(X8,Feuil1!$C$1:$BL$10,2,FALSE)","v":56},{"$f":"T8-HLOOKUP(X8,Feuil1!$C$1:$BL$10,3,FALSE)","v":46},{"$f":"T8-HLOOKUP(X8,Feuil1!$C$1:$BL$10,4,FALSE)","v":36},{"$f":"T8-HLOOKUP(X8,Feuil1!$C$1:$BL$10,5,FALSE)","v":26},{"$f":"T8-HLOOKUP(X8,Feuil1!$C$1:$BL$10,6,FALSE)","v":16},{"$f":"T8-HLOOKUP(X8,Feuil1!$C$1:$BL$10,7,FALSE)","v":6},{"$f":"T8-HLOOKUP(X8,Feuil1!$C$1:$BL$10,8,FALSE)","v":-9},{"$f":"T8-HLOOKUP(X8,Feuil1!$C$1:$BL$10,9,FALSE)","v":-24},{"$f":"T8-HLOOKUP(X8,Feuil1!$C$1:$BL$10,10,FALSE)","v":-899},null,null,null,null,null,null,"NAT +"]
["F","DOM","REU",4,357739,"VIRAMA","DEBORAH",1996,48,"CH LA PLAINE","F",40,-45,-45,40,50,52,55,55,95,-1,"NAT +",0,{"$f":"IF(I9=\"\",\"\",IF(A9=\"H\",IF(OR(H9=\"SEN\",H9<1995),VLOOKUP(I9,Feuil1!$A$11:$F$29,6),IF(AND(H9>1994,H9<1998),VLOOKUP(I9,Feuil1!$A$11:$F$29,5),IF(AND(H9>1997,H9<2000),VLOOKUP(I9,Feuil1!$A$11:$F$29,4),IF(AND(H9>1999,H9<2002),VLOOKUP(I9,Feuil1!$A$11:$F$29,3),VLOOKUP(I9,Feuil1!$A$11:$F$29,2))))),IF(OR(H9=\"SEN\",H9<1995),VLOOKUP(I9,Feuil1!$G$11:$L$25,6),IF(AND(H9>1994,H9<1998),VLOOKUP(I9,Feuil1!$G$11:$L$25,5),IF(AND(H9>1997,H9<2000),VLOOKUP(I9,Feuil1!$G$11:$L$25,4),IF(AND(H9>1999,H9<2002),VLOOKUP(I9,Feuil1!$G$11:$L$25,3),VLOOKUP(I9,Feuil1!$G$11:$L$25,2)))))))","v":"FJ48"},155.72646082499267,null," ",{"$f":"T9-HLOOKUP(X9,Feuil1!$C$1:$BL$10,2,FALSE)","v":50},{"$f":"T9-HLOOKUP(X9,Feuil1!$C$1:$BL$10,3,FALSE)","v":40},{"$f":"T9-HLOOKUP(X9,Feuil1!$C$1:$BL$10,4,FALSE)","v":30},{"$f":"T9-HLOOKUP(X9,Feuil1!$C$1:$BL$10,5,FALSE)","v":20},{"$f":"T9-HLOOKUP(X9,Feuil1!$C$1:$BL$10,6,FALSE)","v":10},{"$f":"T9-HLOOKUP(X9,Feuil1!$C$1:$BL$10,7,FALSE)","v":0},{"$f":"T9-HLOOKUP(X9,Feuil1!$C$1:$BL$10,8,FALSE)","v":-15},{"$f":"T9-HLOOKUP(X9,Feuil1!$C$1:$BL$10,9,FALSE)","v":-30},{"$f":"T9-HLOOKUP(X9,Feuil1!$C$1:$BL$10,10,FALSE)","v":-905},null,null,null,null,null,null,"NAT +"]
["F","N","IDF",5,364789,"RICHARD","IRENE",1996,48,"BLANC-MESNIL","F",35,38,-40,38,49,52,52,52,90,-6,"FED +",5,{"$f":"IF(I10=\"\",\"\",IF(A10=\"H\",IF(OR(H10=\"SEN\",H10<1995),VLOOKUP(I10,Feuil1!$A$11:$F$29,6),IF(AND(H10>1994,H10<1998),VLOOKUP(I10,Feuil1!$A$11:$F$29,5),IF(AND(H10>1997,H10<2000),VLOOKUP(I10,Feuil1!$A$11:$F$29,4),IF(AND(H10>1999,H10<2002),VLOOKUP(I10,Feuil1!$A$11:$F$29,3),VLOOKUP(I10,Feuil1!$A$11:$F$29,2))))),IF(OR(H10=\"SEN\",H10<1995),VLOOKUP(I10,Feuil1!$G$11:$L$25,6),IF(AND(H10>1994,H10<1998),VLOOKUP(I10,Feuil1!$G$11:$L$25,5),IF(AND(H10>1997,H10<2000),VLOOKUP(I10,Feuil1!$G$11:$L$25,4),IF(AND(H10>1999,H10<2002),VLOOKUP(I10,Feuil1!$G$11:$L$25,3),VLOOKUP(I10,Feuil1!$G$11:$L$25,2)))))))","v":"FJ48"},147.53033130788779,null," ",{"$f":"T10-HLOOKUP(X10,Feuil1!$C$1:$BL$10,2,FALSE)","v":45},{"$f":"T10-HLOOKUP(X10,Feuil1!$C$1:$BL$10,3,FALSE)","v":35},{"$f":"T10-HLOOKUP(X10,Feuil1!$C$1:$BL$10,4,FALSE)","v":25},{"$f":"T10-HLOOKUP(X10,Feuil1!$C$1:$BL$10,5,FALSE)","v":15},{"$f":"T10-HLOOKUP(X10,Feuil1!$C$1:$BL$10,6,FALSE)","v":5},{"$f":"T10-HLOOKUP(X10,Feuil1!$C$1:$BL$10,7,FALSE)","v":-5},{"$f":"T10-HLOOKUP(X10,Feuil1!$C$1:$BL$10,8,FALSE)","v":-20},{"$f":"T10-HLOOKUP(X10,Feuil1!$C$1:$BL$10,9,FALSE)","v":-35},{"$f":"T10-HLOOKUP(X10,Feuil1!$C$1:$BL$10,10,FALSE)","v":-910},null,null,null,null,null,null,"FED +"]
["F","NORD","PIC",6,308200,"LEBON","Vanessa",1997,45.66,"Hirson CEHT","F",33,-35,-35,33,48,50,-52,50,83,-8.3199999999999932,"IRG +",8,{"$f":"IF(I11=\"\",\"\",IF(A11=\"H\",IF(OR(H11=\"SEN\",H11<1995),VLOOKUP(I11,Feuil1!$A$11:$F$29,6),IF(AND(H11>1994,H11<1998),VLOOKUP(I11,Feuil1!$A$11:$F$29,5),IF(AND(H11>1997,H11<2000),VLOOKUP(I11,Feuil1!$A$11:$F$29,4),IF(AND(H11>1999,H11<2002),VLOOKUP(I11,Feuil1!$A$11:$F$29,3),VLOOKUP(I11,Feuil1!$A$11:$F$29,2))))),IF(OR(H11=\"SEN\",H11<1995),VLOOKUP(I11,Feuil1!$G$11:$L$25,6),IF(AND(H11>1994,H11<1998),VLOOKUP(I11,Feuil1!$G$11:$L$25,5),IF(AND(H11>1997,H11<2000),VLOOKUP(I11,Feuil1!$G$11:$L$25,4),IF(AND(H11>1999,H11<2002),VLOOKUP(I11,Feuil1!$G$11:$L$25,3),VLOOKUP(I11,Feuil1!$G$11:$L$25,2)))))))","v":"FJ48"},142.29520694907987,null," ",{"$f":"T11-HLOOKUP(X11,Feuil1!$C$1:$BL$10,2,FALSE)","v":38},{"$f":"T11-HLOOKUP(X11,Feuil1!$C$1:$BL$10,3,FALSE)","v":28},{"$f":"T11-HLOOKUP(X11,Feuil1!$C$1:$BL$10,4,FALSE)","v":18},{"$f":"T11-HLOOKUP(X11,Feuil1!$C$1:$BL$10,5,FALSE)","v":8},{"$f":"T11-HLOOKUP(X11,Feuil1!$C$1:$BL$10,6,FALSE)","v":-2},{"$f":"T11-HLOOKUP(X11,Feuil1!$C$1:$BL$10,7,FALSE)","v":-12},{"$f":"T11-HLOOKUP(X11,Feuil1!$C$1:$BL$10,8,FALSE)","v":-27},{"$f":"T11-HLOOKUP(X11,Feuil1!$C$1:$BL$10,9,FALSE)","v":-42},{"$f":"T11-HLOOKUP(X11,Feuil1!$C$1:$BL$10,10,FALSE)","v":-917},null,null,null,null,null,null,"IRG +"]
["F","NE","ALS",7,316601,"TSCHAEN","AMANDINE",1996,47.4,"US Wittenheim","F",33,36,-38,36,44,47,-50,47,83,-11.799999999999997,"IRG +",8,{"$f":"IF(I12=\"\",\"\",IF(A12=\"H\",IF(OR(H12=\"SEN\",H12<1995),VLOOKUP(I12,Feuil1!$A$11:$F$29,6),IF(AND(H12>1994,H12<1998),VLOOKUP(I12,Feuil1!$A$11:$F$29,5),IF(AND(H12>1997,H12<2000),VLOOKUP(I12,Feuil1!$A$11:$F$29,4),IF(AND(H12>1999,H12<2002),VLOOKUP(I12,Feuil1!$A$11:$F$29,3),VLOOKUP(I12,Feuil1!$A$11:$F$29,2))))),IF(OR(H12=\"SEN\",H12<1995),VLOOKUP(I12,Feuil1!$G$11:$L$25,6),IF(AND(H12>1994,H12<1998),VLOOKUP(I12,Feuil1!$G$11:$L$25,5),IF(AND(H12>1997,H12<2000),VLOOKUP(I12,Feuil1!$G$11:$L$25,4),IF(AND(H12>1999,H12<2002),VLOOKUP(I12,Feuil1!$G$11:$L$25,3),VLOOKUP(I12,Feuil1!$G$11:$L$25,2)))))))","v":"FJ48"},137.57465492301193,null," ",{"$f":"T12-HLOOKUP(X12,Feuil1!$C$1:$BL$10,2,FALSE)","v":38},{"$f":"T12-HLOOKUP(X12,Feuil1!$C$1:$BL$10,3,FALSE)","v":28},{"$f":"T12-HLOOKUP(X12,Feuil1!$C$1:$BL$10,4,FALSE)","v":18},{"$f":"T12-HLOOKUP(X12,Feuil1!$C$1:$BL$10,5,FALSE)","v":8},{"$f":"T12-HLOOKUP(X12,Feuil1!$C$1:$BL$10,6,FALSE)","v":-2},{"$f":"T12-HLOOKUP(X12,Feuil1!$C$1:$BL$10,7,FALSE)","v":-12},{"$f":"T12-HLOOKUP(X12,Feuil1!$C$1:$BL$10,8,FALSE)","v":-27},{"$f":"T12-HLOOKUP(X12,Feuil1!$C$1:$BL$10,9,FALSE)","v":-42},{"$f":"T12-HLOOKUP(X12,Feuil1!$C$1:$BL$10,10,FALSE)","v":-917},null,null,null,null,null,null,"IRG +"]
["F","SEST","CAZ",8,341745,"DOLET","Oceane",1997,47.8,"ASLDD TOULON","F",25,30,-32,30,35,37,-40,37,67,-28.599999999999994,"REG +",2,{"$f":"IF(I13=\"\",\"\",IF(A13=\"H\",IF(OR(H13=\"SEN\",H13<1995),VLOOKUP(I13,Feuil1!$A$11:$F$29,6),IF(AND(H13>1994,H13<1998),VLOOKUP(I13,Feuil1!$A$11:$F$29,5),IF(AND(H13>1997,H13<2000),VLOOKUP(I13,Feuil1!$A$11:$F$29,4),IF(AND(H13>1999,H13<2002),VLOOKUP(I13,Feuil1!$A$11:$F$29,3),VLOOKUP(I13,Feuil1!$A$11:$F$29,2))))),IF(OR(H13=\"SEN\",H13<1995),VLOOKUP(I13,Feuil1!$G$11:$L$25,6),IF(AND(H13>1994,H13<1998),VLOOKUP(I13,Feuil1!$G$11:$L$25,5),IF(AND(H13>1997,H13<2000),VLOOKUP(I13,Feuil1!$G$11:$L$25,4),IF(AND(H13>1999,H13<2002),VLOOKUP(I13,Feuil1!$G$11:$L$25,3),VLOOKUP(I13,Feuil1!$G$11:$L$25,2)))))))","v":"FJ48"},110.23211008318606,null," ",{"$f":"T13-HLOOKUP(X13,Feuil1!$C$1:$BL$10,2,FALSE)","v":22},{"$f":"T13-HLOOKUP(X13,Feuil1!$C$1:$BL$10,3,FALSE)","v":12},{"$f":"T13-HLOOKUP(X13,Feuil1!$C$1:$BL$10,4,FALSE)","v":2},{"$f":"T13-HLOOKUP(X13,Feuil1!$C$1:$BL$10,5,FALSE)","v":-8},{"$f":"T13-HLOOKUP(X13,Feuil1!$C$1:$BL$10,6,FALSE)","v":-18},{"$f":"T13-HLOOKUP(X13,Feuil1!$C$1:$BL$10,7,FALSE)","v":-28},{"$f":"T13-HLOOKUP(X13,Feuil1!$C$1:$BL$10,8,FALSE)","v":-43},{"$f":"T13-HLOOKUP(X13,Feuil1!$C$1:$BL$10,9,FALSE)","v":-58},{"$f":"T13-HLOOKUP(X13,Feuil1!$C$1:$BL$10,10,FALSE)","v":-933},null,null,null,null,null,null,"REG +"]
["F","SEST","RAL",9,366936,"MARESCAUX","Amandine",1997,38.200000000000003,"VALENCE","F",22,26,27,27,27,31,34,34,61,-15.400000000000006,"DEP +",6,{"$f":"IF(I14=\"\",\"\",IF(A14=\"H\",IF(OR(H14=\"SEN\",H14<1995),VLOOKUP(I14,Feuil1!$A$11:$F$29,6),IF(AND(H14>1994,H14<1998),VLOOKUP(I14,Feuil1!$A$11:$F$29,5),IF(AND(H14>1997,H14<2000),VLOOKUP(I14,Feuil1!$A$11:$F$29,4),IF(AND(H14>1999,H14<2002),VLOOKUP(I14,Feuil1!$A$11:$F$29,3),VLOOKUP(I14,Feuil1!$A$11:$F$29,2))))),IF(OR(H14=\"SEN\",H14<1995),VLOOKUP(I14,Feuil1!$G$11:$L$25,6),IF(AND(H14>1994,H14<1998),VLOOKUP(I14,Feuil1!$G$11:$L$25,5),IF(AND(H14>1997,H14<2000),VLOOKUP(I14,Feuil1!$G$11:$L$25,4),IF(AND(H14>1999,H14<2002),VLOOKUP(I14,Feuil1!$G$11:$L$25,3),VLOOKUP(I14,Feuil1!$G$11:$L$25,2)))))))","v":"FJ48"},124.69304055394602,null," ",{"$f":"T14-HLOOKUP(X14,Feuil1!$C$1:$BL$10,2,FALSE)","v":16},{"$f":"T14-HLOOKUP(X14,Feuil1!$C$1:$BL$10,3,FALSE)","v":6},{"$f":"T14-HLOOKUP(X14,Feuil1!$C$1:$BL$10,4,FALSE)","v":-4},{"$f":"T14-HLOOKUP(X14,Feuil1!$C$1:$BL$10,5,FALSE)","v":-14},{"$f":"T14-HLOOKUP(X14,Feuil1!$C$1:$BL$10,6,FALSE)","v":-24},{"$f":"T14-HLOOKUP(X14,Feuil1!$C$1:$BL$10,7,FALSE)","v":-34},{"$f":"T14-HLOOKUP(X14,Feuil1!$C$1:$BL$10,8,FALSE)","v":-49},{"$f":"T14-HLOOKUP(X14,Feuil1!$C$1:$BL$10,9,FALSE)","v":-64},{"$f":"T14-HLOOKUP(X14,Feuil1!$C$1:$BL$10,10,FALSE)","v":-939},null,null,null,null,null,null,"DEP +"]
["F","SO","MPY",10,380262,"CRABE","Elise",1996,47.6,"TARBES CUTPH","F",25,-30,-30,25,30,33,-35,33,58,-37.200000000000003,"DEP +",3,{"$f":"IF(I15=\"\",\"\",IF(A15=\"H\",IF(OR(H15=\"SEN\",H15<1995),VLOOKUP(I15,Feuil1!$A$11:$F$29,6),IF(AND(H15>1994,H15<1998),VLOOKUP(I15,Feuil1!$A$11:$F$29,5),IF(AND(H15>1997,H15<2000),VLOOKUP(I15,Feuil1!$A$11:$F$29,4),IF(AND(H15>1999,H15<2002),VLOOKUP(I15,Feuil1!$A$11:$F$29,3),VLOOKUP(I15,Feuil1!$A$11:$F$29,2))))),IF(OR(H15=\"SEN\",H15<1995),VLOOKUP(I15,Feuil1!$G$11:$L$25,6),IF(AND(H15>1994,H15<1998),VLOOKUP(I15,Feuil1!$G$11:$L$25,5),IF(AND(H15>1997,H15<2000),VLOOKUP(I15,Feuil1!$G$11:$L$25,4),IF(AND(H15>1999,H15<2002),VLOOKUP(I15,Feuil1!$G$11:$L$25,3),VLOOKUP(I15,Feuil1!$G$11:$L$25,2)))))))","v":"FJ48"},95.778591273363759,null," ",{"$f":"T15-HLOOKUP(X15,Feuil1!$C$1:$BL$10,2,FALSE)","v":13},{"$f":"T15-HLOOKUP(X15,Feuil1!$C$1:$BL$10,3,FALSE)","v":3},{"$f":"T15-HLOOKUP(X15,Feuil1!$C$1:$BL$10,4,FALSE)","v":-7},{"$f":"T15-HLOOKUP(X15,Feuil1!$C$1:$BL$10,5,FALSE)","v":-17},{"$f":"T15-HLOOKUP(X15,Feuil1!$C$1:$BL$10,6,FALSE)","v":-27},{"$f":"T15-HLOOKUP(X15,Feuil1!$C$1:$BL$10,7,FALSE)","v":-37},{"$f":"T15-HLOOKUP(X15,Feuil1!$C$1:$BL$10,8,FALSE)","v":-52},{"$f":"T15-HLOOKUP(X15,Feuil1!$C$1:$BL$10,9,FALSE)","v":-67},{"$f":"T15-HLOOKUP(X15,Feuil1!$C$1:$BL$10,10,FALSE)","v":-942},null,null,null,null,null,null,"DEP +"]
[null,null,null,null,null,null,null,null,null,null,null,null,null,null,null,null,null,null,null,null,null,null,null,null,null,null," ",{"$f":"T16-HLOOKUP(X16,[1]Feuil1!$C$1:$BL$10,2,FALSE)","v":{"$error":"#N/A"}},{"$f":"T16-HLOOKUP(X16,[1]Feuil1!$C$1:$BL$10,3,FALSE)","v":{"$error":"#N/A"}},{"$f":"T16-HLOOKUP(X16,[1]Feuil1!$C$1:$BL$10,4,FALSE)","v":{"$error":"#N/A"}},{"$f":"T16-HLOOKUP(X16,[1]Feuil1!$C$1:$BL$10,5,FALSE)","v":{"$error":"#N/A"}},{"$f":"T16-HLOOKUP(X16,[1]Feuil1!$C$1:$BL$10,6,FALSE)","v":{"$error":"#N/A"}},{"$f":"T16-HLOOKUP(X16,[1]Feuil1!$C$1:$BL$10,7,FALSE)","v":{"$error":"#N/A"}},{"$f":"T16-HLOOKUP(X16,[1]Feuil1!$C$1:$BL$10,8,FALSE)","v":{"$error":"#N/A"}},{"$f":"T16-HLOOKUP(X16,[1]Feuil1!$C$1:$BL$10,9,FALSE)","v":{"$error":"#N/A"}},{"$f":"T16-HLOOKUP(X16,[1]Feuil1!$C$1:$BL$10,10,FALSE)","v":{"$error":"#N/A"}},null,null,null,null,null,null,{"$f":"IF(AJ16>=0,$AJ$4,IF(AI16>=0,$AI$4,IF(AH16>=0,$AH$4,IF(AG16>=0,$AG$4,IF(AF16>=0,$AF$4,IF(AE16>=0,$AE$4,IF(AD16>=0,$AD$4,IF(AC16>=0,$AC$4,$AB$4))))))))","v":{"$error":"#N/A"}}]
["F","NE","BOU",1,196470,"BALACE","Julie",1996,51.85,"HMDB21","F",60,63,65,{"$f":"IF(H17=\"\",\"\",IF(MAXA(L17:N17)<=0,0,MAXA(L17:N17)))","v":65},74,78,80,{"$f":"IF(H17=\"\",\"\",IF(MAXA(P17:R17)<=0,0,MAXA(P17:R17)))","v":80},{"$f":"IF(H17=\"\",\"\",IF(OR(O17=0,S17=0),0,O17+S17))","v":145},{"$f":"T17-I17*2","v":41.3},{"$f":"IF(H17=\"\",\"\",AQ17)","v":"INTA +"},{"$f":"IF(AJ17>=0,AJ17,IF(AI17>=0,AI17,IF(AH17>=0,AH17,IF(AG17>=0,AG17,IF(AF17>=0,AF17,IF(AE17>=0,AE17,IF(AD17>=0,AD17,IF(AC17>=0,AC17,AB17))))))))","v":10},{"$f":"IF(I17=\"\",\"\",IF(A17=\"H\",IF(OR(H17=\"SEN\",H17<1995),VLOOKUP(I17,Feuil1!$A$11:$F$29,6),IF(AND(H17>1994,H17<1998),VLOOKUP(I17,Feuil1!$A$11:$F$29,5),IF(AND(H17>1997,H17<2000),VLOOKUP(I17,Feuil1!$A$11:$F$29,4),IF(AND(H17>1999,H17<2002),VLOOKUP(I17,Feuil1!$A$11:$F$29,3),VLOOKUP(I17,Feuil1!$A$11:$F$29,2))))),IF(OR(H17=\"SEN\",H17<1995),VLOOKUP(I17,Feuil1!$G$11:$L$25,6),IF(AND(H17>1994,H17<1998),VLOOKUP(I17,Feuil1!$G$11:$L$25,5),IF(AND(H17>1997,H17<2000),VLOOKUP(I17,Feuil1!$G$11:$L$25,4),IF(AND(H17>1999,H17<2002),VLOOKUP(I17,Feuil1!$G$11:$L$25,3),VLOOKUP(I17,Feuil1!$G$11:$L$25,2)))))))","v":"FJ53"},{"$f":"IF(I17=\"\",\"\",IF(A17=\"H\",10^(0.794358141*LOG(I17/174.393)^2)*T17,IF(A17=\"F\",10^(0.89726074*LOG(I17/148.026)^2)*T17,\"\")))","v":222.64084397009631},null," ",{"$f":"T17-HLOOKUP(X17,Feuil1!$C$1:$BL$10,2,FALSE)","v":90},{"$f":"T17-HLOOKUP(X17,Feuil1!$C$1:$BL$10,3,FALSE)","v":80},{"$f":"T17-HLOOKUP(X17,Feuil1!$C$1:$BL$10,4,FALSE)","v":70},{"$f":"T17-HLOOKUP(X17,Feuil1!$C$1:$BL$10,5,FALSE)","v":60},{"$f":"T17-HLOOKUP(X17,Feuil1!$C$1:$BL$10,6,FALSE)","v":50},{"$f":"T17-HLOOKUP(X17,Feuil1!$C$1:$BL$10,7,FALSE)","v":40},{"$f":"T17-HLOOKUP(X17,Feuil1!$C$1:$BL$10,8,FALSE)","v":25},{"$f":"T17-HLOOKUP(X17,Feuil1!$C$1:$BL$10,9,FALSE)","v":10},{"$f":"T17-HLOOKUP(X17,Feuil1!$C$1:$BL$10,10,FALSE)","v":-855},null,null,null,null,null,null,{"$f":"IF(AJ17>=0,$AJ$4,IF(AI17>=0,$AI$4,IF(AH17>=0,$AH$4,IF(AG17>=0,$AG$4,IF(AF17>=0,$AF$4,IF(AE17>=0,$AE$4,IF(AD17>=0,$AD$4,IF(AC17>=0,$AC$4,$AB$4))))))))","v":"INTA +"}]
["F","NORD","PIC",2,280885,"CABON","Ophélie",1997,52.5,"Péronne AAEEP","F",57,60,-62,60,72,76,-80,76,136,31,"INTA +",1,{"$f":"IF(I18=\"\",\"\",IF(A18=\"H\",IF(OR(H18=\"SEN\",H18<1995),VLOOKUP(I18,Feuil1!$A$11:$F$29,6),IF(AND(H18>1994,H18<1998),VLOOKUP(I18,Feuil1!$A$11:$F$29,5),IF(AND(H18>1997,H18<2000),VLOOKUP(I18,Feuil1!$A$11:$F$29,4),IF(AND(H18>1999,H18<2002),VLOOKUP(I18,Feuil1!$A$11:$F$29,3),VLOOKUP(I18,Feuil1!$A$11:$F$29,2))))),IF(OR(H18=\"SEN\",H18<1995),VLOOKUP(I18,Feuil1!$G$11:$L$25,6),IF(AND(H18>1994,H18<1998),VLOOKUP(I18,Feuil1!$G$11:$L$25,5),IF(AND(H18>1997,H18<2000),VLOOKUP(I18,Feuil1!$G$11:$L$25,4),IF(AND(H18>1999,H18<2002),VLOOKUP(I18,Feuil1!$G$11:$L$25,3),VLOOKUP(I18,Feuil1!$G$11:$L$25,2)))))))","v":"FJ53"},206.71811852172829,null," ",{"$f":"T18-HLOOKUP(X18,Feuil1!$C$1:$BL$10,2,FALSE)","v":81},{"$f":"T18-HLOOKUP(X18,Feuil1!$C$1:$BL$10,3,FALSE)","v":71},{"$f":"T18-HLOOKUP(X18,Feuil1!$C$1:$BL$10,4,FALSE)","v":61},{"$f":"T18-HLOOKUP(X18,Feuil1!$C$1:$BL$10,5,FALSE)","v":51},{"$f":"T18-HLOOKUP(X18,Feuil1!$C$1:$BL$10,6,FALSE)","v":41},{"$f":"T18-HLOOKUP(X18,Feuil1!$C$1:$BL$10,7,FALSE)","v":31},{"$f":"T18-HLOOKUP(X18,Feuil1!$C$1:$BL$10,8,FALSE)","v":16},{"$f":"T18-HLOOKUP(X18,Feuil1!$C$1:$BL$10,9,FALSE)","v":1},{"$f":"T18-HLOOKUP(X18,Feuil1!$C$1:$BL$10,10,FALSE)","v":-864},null,null,null,null,null,null,"INTA +"]
["F","CO","CEN",3,357364,"DAUMAS","Solène",1995,52.3,"AAJ Blois","F",55,58,-60,58,66,-69,72,72,130,25.400000000000006,"INTB +",10,{"$f":"IF(I19=\"\",\"\",IF(A19=\"H\",IF(OR(H19=\"SEN\",H19<1995),VLOOKUP(I19,Feuil1!$A$11:$F$29,6),IF(AND(H19>1994,H19<1998),VLOOKUP(I19,Feuil1!$A$11:$F$29,5),IF(AND(H19>1997,H19<2000),VLOOKUP(I19,Feuil1!$A$11:$F$29,4),IF(AND(H19>1999,H19<2002),VLOOKUP(I19,Feuil1!$A$11:$F$29,3),VLOOKUP(I19,Feuil1!$A$11:$F$29,2))))),IF(OR(H19=\"SEN\",H19<1995),VLOOKUP(I19,Feuil1!$G$11:$L$25,6),IF(AND(H19>1994,H19<1998),VLOOKUP(I19,Feuil1!$G$11:$L$25,5),IF(AND(H19>1997,H19<2000),VLOOKUP(I19,Feuil1!$G$11:$L$25,4),IF(AND(H19>1999,H19<2002),VLOOKUP(I19,Feuil1!$G$11:$L$25,3),VLOOKUP(I19,Feuil1!$G$11:$L$25,2)))))))","v":"FJ53"},198.20954547646124,null," ",{"$f":"T19-HLOOKUP(X19,Feuil1!$C$1:$BL$10,2,FALSE)","v":75},{"$f":"T19-HLOOKUP(X19,Feuil1!$C$1:$BL$10,3,FALSE)","v":65},{"$f":"T19-HLOOKUP(X19,Feuil1!$C$1:$BL$10,4,FALSE)","v":55},{"$f":"T19-HLOOKUP(X19,Feuil1!$C$1:$BL$10,5,FALSE)","v":45},{"$f":"T19-HLOOKUP(X19,Feuil1!$C$1:$BL$10,6,FALSE)","v":35},{"$f":"T19-HLOOKUP(X19,Feuil1!$C$1:$BL$10,7,FALSE)","v":25},{"$f":"T19-HLOOKUP(X19,Feuil1!$C$1:$BL$10,8,FALSE)","v":10},{"$f":"T19-HLOOKUP(X19,Feuil1!$C$1:$BL$10,9,FALSE)","v":-5},{"$f":"T19-HLOOKUP(X19,Feuil1!$C$1:$BL$10,10,FALSE)","v":-870},null,null,null,null,null,null,"INTB +"]
["F","NORD","PIC",4,187400,"CARON","Amélie",1996,52.7,"Saleux CHM","F",50,55,58,58,60,65,68,68,126,20.599999999999994,"INTB +",6,{"$f":"IF(I20=\"\",\"\",IF(A20=\"H\",IF(OR(H20=\"SEN\",H20<1995),VLOOKUP(I20,Feuil1!$A$11:$F$29,6),IF(AND(H20>1994,H20<1998),VLOOKUP(I20,Feuil1!$A$11:$F$29,5),IF(AND(H20>1997,H20<2000),VLOOKUP(I20,Feuil1!$A$11:$F$29,4),IF(AND(H20>1999,H20<2002),VLOOKUP(I20,Feuil1!$A$11:$F$29,3),VLOOKUP(I20,Feuil1!$A$11:$F$29,2))))),IF(OR(H20=\"SEN\",H20<1995),VLOOKUP(I20,Feuil1!$G$11:$L$25,6),IF(AND(H20>1994,H20<1998),VLOOKUP(I20,Feuil1!$G$11:$L$25,5),IF(AND(H20>1997,H20<2000),VLOOKUP(I20,Feuil1!$G$11:$L$25,4),IF(AND(H20>1999,H20<2002),VLOOKUP(I20,Feuil1!$G$11:$L$25,3),VLOOKUP(I20,Feuil1!$G$11:$L$25,2)))))))","v":"FJ53"},190.93194904477582,null," ",{"$f":"T20-HLOOKUP(X20,Feuil1!$C$1:$BL$10,2,FALSE)","v":71},{"$f":"T20-HLOOKUP(X20,Feuil1!$C$1:$BL$10,3,FALSE)","v":61},{"$f":"T20-HLOOKUP(X20,Feuil1!$C$1:$BL$10,4,FALSE)","v":51},{"$f":"T20-HLOOKUP(X20,Feuil1!$C$1:$BL$10,5,FALSE)","v":41},{"$f":"T20-HLOOKUP(X20,Feuil1!$C$1:$BL$10,6,FALSE)","v":31},{"$f":"T20-HLOOKUP(X20,Feuil1!$C$1:$BL$10,7,FALSE)","v":21},{"$f":"T20-HLOOKUP(X20,Feuil1!$C$1:$BL$10,8,FALSE)","v":6},{"$f":"T20-HLOOKUP(X20,Feuil1!$C$1:$BL$10,9,FALSE)","v":-9},{"$f":"T20-HLOOKUP(X20,Feuil1!$C$1:$BL$10,10,FALSE)","v":-874},null,null,null,null,null,null,"INTB +"]
["F","NORD","PIC",5,309751,"SEIGNEUR","Manon",1995,52.9,"Villers-Bretonneux KC","F",45,48,50,50,57,61,-63,61,111,5.2000000000000028,"NAT +",6,{"$f":"IF(I21=\"\",\"\",IF(A21=\"H\",IF(OR(H21=\"SEN\",H21<1995),VLOOKUP(I21,Feuil1!$A$11:$F$29,6),IF(AND(H21>1994,H21<1998),VLOOKUP(I21,Feuil1!$A$11:$F$29,5),IF(AND(H21>1997,H21<2000),VLOOKUP(I21,Feuil1!$A$11:$F$29,4),IF(AND(H21>1999,H21<2002),VLOOKUP(I21,Feuil1!$A$11:$F$29,3),VLOOKUP(I21,Feuil1!$A$11:$F$29,2))))),IF(OR(H21=\"SEN\",H21<1995),VLOOKUP(I21,Feuil1!$G$11:$L$25,6),IF(AND(H21>1994,H21<1998),VLOOKUP(I21,Feuil1!$G$11:$L$25,5),IF(AND(H21>1997,H21<2000),VLOOKUP(I21,Feuil1!$G$11:$L$25,4),IF(AND(H21>1999,H21<2002),VLOOKUP(I21,Feuil1!$G$11:$L$25,3),VLOOKUP(I21,Feuil1!$G$11:$L$25,2)))))))","v":"FJ53"},167.69085327957532,null," ",{"$f":"T21-HLOOKUP(X21,Feuil1!$C$1:$BL$10,2,FALSE)","v":56},{"$f":"T21-HLOOKUP(X21,Feuil1!$C$1:$BL$10,3,FALSE)","v":46},{"$f":"T21-HLOOKUP(X21,Feuil1!$C$1:$BL$10,4,FALSE)","v":36},{"$f":"T21-HLOOKUP(X21,Feuil1!$C$1:$BL$10,5,FALSE)","v":26},{"$f":"T21-HLOOKUP(X21,Feuil1!$C$1:$BL$10,6,FALSE)","v":16},{"$f":"T21-HLOOKUP(X21,Feuil1!$C$1:$BL$10,7,FALSE)","v":6},{"$f":"T21-HLOOKUP(X21,Feuil1!$C$1:$BL$10,8,FALSE)","v":-9},{"$f":"T21-HLOOKUP(X21,Feuil1!$C$1:$BL$10,9,FALSE)","v":-24},{"$f":"T21-HLOOKUP(X21,Feuil1!$C$1:$BL$10,10,FALSE)","v":-889},null,null,null,null,null,null,"NAT +"]
["F","SEST","PRO",6,361701,"DELEUIL","Fanny",1995,48.1,"EEAR MONTEUX","F",45,47,-50,47,55,58,62,62,109,12.799999999999997,"NAT +",4,{"$f":"IF(I22=\"\",\"\",IF(A22=\"H\",IF(OR(H22=\"SEN\",H22<1995),VLOOKUP(I22,Feuil1!$A$11:$F$29,6),IF(AND(H22>1994,H22<1998),VLOOKUP(I22,Feuil1!$A$11:$F$29,5),IF(AND(H22>1997,H22<2000),VLOOKUP(I22,Feuil1!$A$11:$F$29,4),IF(AND(H22>1999,H22<2002),VLOOKUP(I22,Feuil1!$A$11:$F$29,3),VLOOKUP(I22,Feuil1!$A$11:$F$29,2))))),IF(OR(H22=\"SEN\",H22<1995),VLOOKUP(I22,Feuil1!$G$11:$L$25,6),IF(AND(H22>1994,H22<1998),VLOOKUP(I22,Feuil1!$G$11:$L$25,5),IF(AND(H22>1997,H22<2000),VLOOKUP(I22,Feuil1!$G$11:$L$25,4),IF(AND(H22>1999,H22<2002),VLOOKUP(I22,Feuil1!$G$11:$L$25,3),VLOOKUP(I22,Feuil1!$G$11:$L$25,2)))))))","v":"FJ53"},178.34984841202242,null," ",{"$f":"T22-HLOOKUP(X22,Feuil1!$C$1:$BL$10,2,FALSE)","v":54},{"$f":"T22-HLOOKUP(X22,Feuil1!$C$1:$BL$10,3,FALSE)","v":44},{"$f":"T22-HLOOKUP(X22,Feuil1!$C$1:$BL$10,4,FALSE)","v":34},{"$f":"T22-HLOOKUP(X22,Feuil1!$C$1:$BL$10,5,FALSE)","v":24},{"$f":"T22-HLOOKUP(X22,Feuil1!$C$1:$BL$10,6,FALSE)","v":14},{"$f":"T22-HLOOKUP(X22,Feuil1!$C$1:$BL$10,7,FALSE)","v":4},{"$f":"T22-HLOOKUP(X22,Feuil1!$C$1:$BL$10,8,FALSE)","v":-11},{"$f":"T22-HLOOKUP(X22,Feuil1!$C$1:$BL$10,9,FALSE)","v":-26},{"$f":"T22-HLOOKUP(X22,Feuil1!$C$1:$BL$10,10,FALSE)","v":-891},null,null,null,null,null,null,"NAT +"]
["F","CO","PDL",7,97644,"L'HERMIER","Mélanie",1996,49.3,"CJF Laval-Voutré","F",44,47,49,49,54,59,-61,59,108,9.4000000000000057,"NAT +",3,{"$f":"IF(I23=\"\",\"\",IF(A23=\"H\",IF(OR(H23=\"SEN\",H23<1995),VLOOKUP(I23,Feuil1!$A$11:$F$29,6),IF(AND(H23>1994,H23<1998),VLOOKUP(I23,Feuil1!$A$11:$F$29,5),IF(AND(H23>1997,H23<2000),VLOOKUP(I23,Feuil1!$A$11:$F$29,4),IF(AND(H23>1999,H23<2002),VLOOKUP(I23,Feuil1!$A$11:$F$29,3),VLOOKUP(I23,Feuil1!$A$11:$F$29,2))))),IF(OR(H23=\"SEN\",H23<1995),VLOOKUP(I23,Feuil1!$G$11:$L$25,6),IF(AND(H23>1994,H23<1998),VLOOKUP(I23,Feuil1!$G$11:$L$25,5),IF(AND(H23>1997,H23<2000),VLOOKUP(I23,Feuil1!$G$11:$L$25,4),IF(AND(H23>1999,H23<2002),VLOOKUP(I23,Feuil1!$G$11:$L$25,3),VLOOKUP(I23,Feuil1!$G$11:$L$25,2)))))))","v":"FJ53"},172.98050972484239,null," ",{"$f":"T23-HLOOKUP(X23,Feuil1!$C$1:$BL$10,2,FALSE)","v":53},{"$f":"T23-HLOOKUP(X23,Feuil1!$C$1:$BL$10,3,FALSE)","v":43},{"$f":"T23-HLOOKUP(X23,Feuil1!$C$1:$BL$10,4,FALSE)","v":33},{"$f":"T23-HLOOKUP(X23,Feuil1!$C$1:$BL$10,5,FALSE)","v":23},{"$f":"T23-HLOOKUP(X23,Feuil1!$C$1:$BL$10,6,FALSE)","v":13},{"$f":"T23-HLOOKUP(X23,Feuil1!$C$1:$BL$10,7,FALSE)","v":3},{"$f":"T23-HLOOKUP(X23,Feuil1!$C$1:$BL$10,8,FALSE)","v":-12},{"$f":"T23-HLOOKUP(X23,Feuil1!$C$1:$BL$10,9,FALSE)","v":-27},{"$f":"T23-HLOOKUP(X23,Feuil1!$C$1:$BL$10,10,FALSE)","v":-892},null,null,null,null,null,null,"NAT +"]
["F","SEST","CAZ",8,323896,"DUPEYROUX","Elise",1997,51.4,"ASLDD TOULON","F",45,48,50,50,53,55,57,57,107,4.2000000000000028,"NAT +",2,{"$f":"IF(I24=\"\",\"\",IF(A24=\"H\",IF(OR(H24=\"SEN\",H24<1995),VLOOKUP(I24,Feuil1!$A$11:$F$29,6),IF(AND(H24>1994,H24<1998),VLOOKUP(I24,Feuil1!$A$11:$F$29,5),IF(AND(H24>1997,H24<2000),VLOOKUP(I24,Feuil1!$A$11:$F$29,4),IF(AND(H24>1999,H24<2002),VLOOKUP(I24,Feuil1!$A$11:$F$29,3),VLOOKUP(I24,Feuil1!$A$11:$F$29,2))))),IF(OR(H24=\"SEN\",H24<1995),VLOOKUP(I24,Feuil1!$G$11:$L$25,6),IF(AND(H24>1994,H24<1998),VLOOKUP(I24,Feuil1!$G$11:$L$25,5),IF(AND(H24>1997,H24<2000),VLOOKUP(I24,Feuil1!$G$11:$L$25,4),IF(AND(H24>1999,H24<2002),VLOOKUP(I24,Feuil1!$G$11:$L$25,3),VLOOKUP(I24,Feuil1!$G$11:$L$25,2)))))))","v":"FJ53"},165.47351060121409,null," ",{"$f":"T24-HLOOKUP(X24,Feuil1!$C$1:$BL$10,2,FALSE)","v":52},{"$f":"T24-HLOOKUP(X24,Feuil1!$C$1:$BL$10,3,FALSE)","v":42},{"$f":"T24-HLOOKUP(X24,Feuil1!$C$1:$BL$10,4,FALSE)","v":32},{"$f":"T24-HLOOKUP(X24,Feuil1!$C$1:$BL$10,5,FALSE)","v":22},{"$f":"T24-HLOOKUP(X24,Feuil1!$C$1:$BL$10,6,FALSE)","v":12},{"$f":"T24-HLOOKUP(X24,Feuil1!$C$1:$BL$10,7,FALSE)","v":2},{"$f":"T24-HLOOKUP(X24,Feuil1!$C$1:$BL$10,8,FALSE)","v":-13},{"$f":"T24-HLOOKUP(X24,Feuil1!$C$1:$BL$10,9,FALSE)","v":-28},{"$f":"T24-HLOOKUP(X24,Feuil1!$C$1:$BL$10,10,FALSE)","v":-893},null,null,null,null,null,null,"NAT +"]
["F","SO","MPY",9,253454,"JOURNET","Mégane",1995,51.4,"FIGEAC HC","F",42,44,46,46,55,57,60,60,106,3.2000000000000028,"NAT +",1,{"$f":"IF(I25=\"\",\"\",IF(A25=\"H\",IF(OR(H25=\"SEN\",H25<1995),VLOOKUP(I25,Feuil1!$A$11:$F$29,6),IF(AND(H25>1994,H25<1998),VLOOKUP(I25,Feuil1!$A$11:$F$29,5),IF(AND(H25>1997,H25<2000),VLOOKUP(I25,Feuil1!$A$11:$F$29,4),IF(AND(H25>1999,H25<2002),VLOOKUP(I25,Feuil1!$A$11:$F$29,3),VLOOKUP(I25,Feuil1!$A$11:$F$29,2))))),IF(OR(H25=\"SEN\",H25<1995),VLOOKUP(I25,Feuil1!$G$11:$L$25,6),IF(AND(H25>1994,H25<1998),VLOOKUP(I25,Feuil1!$G$11:$L$25,5),IF(AND(H25>1997,H25<2000),VLOOKUP(I25,Feuil1!$G$11:$L$25,4),IF(AND(H25>1999,H25<2002),VLOOKUP(I25,Feuil1!$G$11:$L$25,3),VLOOKUP(I25,Feuil1!$G$11:$L$25,2)))))))","v":"FJ53"},163.92702919372613,null," ",{"$f":"T25-HLOOKUP(X25,Feuil1!$C$1:$BL$10,2,FALSE)","v":51},{"$f":"T25-HLOOKUP(X25,Feuil1!$C$1:$BL$10,3,FALSE)","v":41},{"$f":"T25-HLOOKUP(X25,Feuil1!$C$1:$BL$10,4,FALSE)","v":31},{"$f":"T25-HLOOKUP(X25,Feuil1!$C$1:$BL$10,5,FALSE)","v":21},{"$f":"T25-HLOOKUP(X25,Feuil1!$C$1:$BL$10,6,FALSE)","v":11},{"$f":"T25-HLOOKUP(X25,Feuil1!$C$1:$BL$10,7,FALSE)","v":1},{"$f":"T25-HLOOKUP(X25,Feuil1!$C$1:$BL$10,8,FALSE)","v":-14},{"$f":"T25-HLOOKUP(X25,Feuil1!$C$1:$BL$10,9,FALSE)","v":-29},{"$f":"T25-HLOOKUP(X25,Feuil1!$C$1:$BL$10,10,FALSE)","v":-894},null,null,null,null,null,null,"NAT +"]
["F","DOM","REU",10,357739,"VIRAMA","DEBORAH",1996,49.9,"CH LA PLAINE","F",40,44,48,48,50,54,57,57,105,5.2000000000000028,"NAT +",0,{"$f":"IF(I26=\"\",\"\",IF(A26=\"H\",IF(OR(H26=\"SEN\",H26<1995),VLOOKUP(I26,Feuil1!$A$11:$F$29,6),IF(AND(H26>1994,H26<1998),VLOOKUP(I26,Feuil1!$A$11:$F$29,5),IF(AND(H26>1997,H26<2000),VLOOKUP(I26,Feuil1!$A$11:$F$29,4),IF(AND(H26>1999,H26<2002),VLOOKUP(I26,Feuil1!$A$11:$F$29,3),VLOOKUP(I26,Feuil1!$A$11:$F$29,2))))),IF(OR(H26=\"SEN\",H26<1995),VLOOKUP(I26,Feuil1!$G$11:$L$25,6),IF(AND(H26>1994,H26<1998),VLOOKUP(I26,Feuil1!$G$11:$L$25,5),IF(AND(H26>1997,H26<2000),VLOOKUP(I26,Feuil1!$G$11:$L$25,4),IF(AND(H26>1999,H26<2002),VLOOKUP(I26,Feuil1!$G$11:$L$25,3),VLOOKUP(I26,Feuil1!$G$11:$L$25,2)))))))","v":"FJ53"},166.45077312225138,null," ",{"$f":"T26-HLOOKUP(X26,Feuil1!$C$1:$BL$10,2,FALSE)","v":50},{"$f":"T26-HLOOKUP(X26,Feuil1!$C$1:$BL$10,3,FALSE)","v":40},{"$f":"T26-HLOOKUP(X26,Feuil1!$C$1:$BL$10,4,FALSE)","v":30},{"$f":"T26-HLOOKUP(X26,Feuil1!$C$1:$BL$10,5,FALSE)","v":20},{"$f":"T26-HLOOKUP(X26,Feuil1!$C$1:$BL$10,6,FALSE)","v":10},{"$f":"T26-HLOOKUP(X26,Feuil1!$C$1:$BL$10,7,FALSE)","v":0},{"$f":"T26-HLOOKUP(X26,Feuil1!$C$1:$BL$10,8,FALSE)","v":-15},{"$f":"T26-HLOOKUP(X26,Feuil1!$C$1:$BL$10,9,FALSE)","v":-30},{"$f":"T26-HLOOKUP(X26,Feuil1!$C$1:$BL$10,10,FALSE)","v":-895},null,null,null,null,null,null,"NAT +"]
["F","SO","MPY",11,375984,"HEYRAUD","Manon",1996,49.4,"TARBES CUTPH","F",37,-40,42,42,49,-53,53,53,95,-3.7999999999999972,"FED +",0,{"$f":"IF(I27=\"\",\"\",IF(A27=\"H\",IF(OR(H27=\"SEN\",H27<1995),VLOOKUP(I27,Feuil1!$A$11:$F$29,6),IF(AND(H27>1994,H27<1998),VLOOKUP(I27,Feuil1!$A$11:$F$29,5),IF(AND(H27>1997,H27<2000),VLOOKUP(I27,Feuil1!$A$11:$F$29,4),IF(AND(H27>1999,H27<2002),VLOOKUP(I27,Feuil1!$A$11:$F$29,3),VLOOKUP(I27,Feuil1!$A$11:$F$29,2))))),IF(OR(H27=\"SEN\",H27<1995),VLOOKUP(I27,Feuil1!$G$11:$L$25,6),IF(AND(H27>1994,H27<1998),VLOOKUP(I27,Feuil1!$G$11:$L$25,5),IF(AND(H27>1997,H27<2000),VLOOKUP(I27,Feuil1!$G$11:$L$25,4),IF(AND(H27>1999,H27<2002),VLOOKUP(I27,Feuil1!$G$11:$L$25,3),VLOOKUP(I27,Feuil1!$G$11:$L$25,2)))))))","v":"FJ53"},151.89505936507001,null," ",{"$f":"T27-HLOOKUP(X27,Feuil1!$C$1:$BL$10,2,FALSE)","v":40},{"$f":"T27-HLOOKUP(X27,Feuil1!$C$1:$BL$10,3,FALSE)","v":30},{"$f":"T27-HLOOKUP(X27,Feuil1!$C$1:$BL$10,4,FALSE)","v":20},{"$f":"T27-HLOOKUP(X27,Feuil1!$C$1:$BL$10,5,FALSE)","v":10},{"$f":"T27-HLOOKUP(X27,Feuil1!$C$1:$BL$10,6,FALSE)","v":0},{"$f":"T27-HLOOKUP(X27,Feuil1!$C$1:$BL$10,7,FALSE)","v":-10},{"$f":"T27-HLOOKUP(X27,Feuil1!$C$1:$BL$10,8,FALSE)","v":-25},{"$f":"T27-HLOOKUP(X27,Feuil1!$C$1:$BL$10,9,FALSE)","v":-40},{"$f":"T27-HLOOKUP(X27,Feuil1!$C$1:$BL$10,10,FALSE)","v":-905},null,null,null,null,null,null,"FED +"]
["F","NORD","NPC",12,381945,"DEZERABLE","Khaty",1997,48.84,"A.O.SALLAUMINES","F",37,40,42,42,48,51,-53,51,93,-4.6800000000000068,"IRG +",8,{"$f":"IF(I28=\"\",\"\",IF(A28=\"H\",IF(OR(H28=\"SEN\",H28<1995),VLOOKUP(I28,Feuil1!$A$11:$F$29,6),IF(AND(H28>1994,H28<1998),VLOOKUP(I28,Feuil1!$A$11:$F$29,5),IF(AND(H28>1997,H28<2000),VLOOKUP(I28,Feuil1!$A$11:$F$29,4),IF(AND(H28>1999,H28<2002),VLOOKUP(I28,Feuil1!$A$11:$F$29,3),VLOOKUP(I28,Feuil1!$A$11:$F$29,2))))),IF(OR(H28=\"SEN\",H28<1995),VLOOKUP(I28,Feuil1!$G$11:$L$25,6),IF(AND(H28>1994,H28<1998),VLOOKUP(I28,Feuil1!$G$11:$L$25,5),IF(AND(H28>1997,H28<2000),VLOOKUP(I28,Feuil1!$G$11:$L$25,4),IF(AND(H28>1999,H28<2002),VLOOKUP(I28,Feuil1!$G$11:$L$25,3),VLOOKUP(I28,Feuil1!$G$11:$L$25,2)))))))","v":"FJ53"},150.16190655107599,null," ",{"$f":"T28-HLOOKUP(X28,Feuil1!$C$1:$BL$10,2,FALSE)","v":38},{"$f":"T28-HLOOKUP(X28,Feuil1!$C$1:$BL$10,3,FALSE)","v":28},{"$f":"T28-HLOOKUP(X28,Feuil1!$C$1:$BL$10,4,FALSE)","v":18},{"$f":"T28-HLOOKUP(X28,Feuil1!$C$1:$BL$10,5,FALSE)","v":8},{"$f":"T28-HLOOKUP(X28,Feuil1!$C$1:$BL$10,6,FALSE)","v":-2},{"$f":"T28-HLOOKUP(X28,Feuil1!$C$1:$BL$10,7,FALSE)","v":-12},{"$f":"T28-HLOOKUP(X28,Feuil1!$C$1:$BL$10,8,FALSE)","v":-27},{"$f":"T28-HLOOKUP(X28,Feuil1!$C$1:$BL$10,9,FALSE)","v":-42},{"$f":"T28-HLOOKUP(X28,Feuil1!$C$1:$BL$10,10,FALSE)","v":-907},null,null,null,null,null,null,"IRG +"]
["F","N","IDF",13,364789,"RICHARD","IRENE",1996,50.8,"BLANC-MESNIL","F",35,38,40,40,50,53,53,53,93,-8.5999999999999943,"IRG +",8,{"$f":"IF(I29=\"\",\"\",IF(A29=\"H\",IF(OR(H29=\"SEN\",H29<1995),VLOOKUP(I29,Feuil1!$A$11:$F$29,6),IF(AND(H29>1994,H29<1998),VLOOKUP(I29,Feuil1!$A$11:$F$29,5),IF(AND(H29>1997,H29<2000),VLOOKUP(I29,Feuil1!$A$11:$F$29,4),IF(AND(H29>1999,H29<2002),VLOOKUP(I29,Feuil1!$A$11:$F$29,3),VLOOKUP(I29,Feuil1!$A$11:$F$29,2))))),IF(OR(H29=\"SEN\",H29<1995),VLOOKUP(I29,Feuil1!$G$11:$L$25,6),IF(AND(H29>1994,H29<1998),VLOOKUP(I29,Feuil1!$G$11:$L$25,5),IF(AND(H29>1997,H29<2000),VLOOKUP(I29,Feuil1!$G$11:$L$25,4),IF(AND(H29>1999,H29<2002),VLOOKUP(I29,Feuil1!$G$11:$L$25,3),VLOOKUP(I29,Feuil1!$G$11:$L$25,2)))))))","v":"FJ53"},145.22945954159815,null," ",{"$f":"T29-HLOOKUP(X29,Feuil1!$C$1:$BL$10,2,FALSE)","v":38},{"$f":"T29-HLOOKUP(X29,Feuil1!$C$1:$BL$10,3,FALSE)","v":28},{"$f":"T29-HLOOKUP(X29,Feuil1!$C$1:$BL$10,4,FALSE)","v":18},{"$f":"T29-HLOOKUP(X29,Feuil1!$C$1:$BL$10,5,FALSE)","v":8},{"$f":"T29-HLOOKUP(X29,Feuil1!$C$1:$BL$10,6,FALSE)","v":-2},{"$f":"T29-HLOOKUP(X29,Feuil1!$C$1:$BL$10,7,FALSE)","v":-12},{"$f":"T29-HLOOKUP(X29,Feuil1!$C$1:$BL$10,8,FALSE)","v":-27},{"$f":"T29-HLOOKUP(X29,Feuil1!$C$1:$BL$10,9,FALSE)","v":-42},{"$f":"T29-HLOOKUP(X29,Feuil1!$C$1:$BL$10,10,FALSE)","v":-907},null,null,null,null,null,null,"IRG +"]
["F","NORD","NPC",14,211905,"FREMAUX","Julie",1995,52.4,"CHCD COMINES","F",33,36,-38,36,43,46,49,49,85,-19.799999999999997,"IRG +",0,{"$f":"IF(I30=\"\",\"\",IF(A30=\"H\",IF(OR(H30=\"SEN\",H30<1995),VLOOKUP(I30,Feuil1!$A$11:$F$29,6),IF(AND(H30>1994,H30<1998),VLOOKUP(I30,Feuil1!$A$11:$F$29,5),IF(AND(H30>1997,H30<2000),VLOOKUP(I30,Feuil1!$A$11:$F$29,4),IF(AND(H30>1999,H30<2002),VLOOKUP(I30,Feuil1!$A$11:$F$29,3),VLOOKUP(I30,Feuil1!$A$11:$F$29,2))))),IF(OR(H30=\"SEN\",H30<1995),VLOOKUP(I30,Feuil1!$G$11:$L$25,6),IF(AND(H30>1994,H30<1998),VLOOKUP(I30,Feuil1!$G$11:$L$25,5),IF(AND(H30>1997,H30<2000),VLOOKUP(I30,Feuil1!$G$11:$L$25,4),IF(AND(H30>1999,H30<2002),VLOOKUP(I30,Feuil1!$G$11:$L$25,3),VLOOKUP(I30,Feuil1!$G$11:$L$25,2)))))))","v":"FJ53"},129.3981578228364,null," ",{"$f":"T30-HLOOKUP(X30,Feuil1!$C$1:$BL$10,2,FALSE)","v":30},{"$f":"T30-HLOOKUP(X30,Feuil1!$C$1:$BL$10,3,FALSE)","v":20},{"$f":"T30-HLOOKUP(X30,Feuil1!$C$1:$BL$10,4,FALSE)","v":10},{"$f":"T30-HLOOKUP(X30,Feuil1!$C$1:$BL$10,5,FALSE)","v":0},{"$f":"T30-HLOOKUP(X30,Feuil1!$C$1:$BL$10,6,FALSE)","v":-10},{"$f":"T30-HLOOKUP(X30,Feuil1!$C$1:$BL$10,7,FALSE)","v":-20},{"$f":"T30-HLOOKUP(X30,Feuil1!$C$1:$BL$10,8,FALSE)","v":-35},{"$f":"T30-HLOOKUP(X30,Feuil1!$C$1:$BL$10,9,FALSE)","v":-50},{"$f":"T30-HLOOKUP(X30,Feuil1!$C$1:$BL$10,10,FALSE)","v":-915},null,null,null,null,null,null,"IRG +"]
["F","SEST","RAL",15,385864,"BERRUYER","Amélie",1997,52.6,"SAINT MARCELLIN","F",38,-40,40,40,45,-50,-50,45,85,-20.200000000000003,"IRG +",0,{"$f":"IF(I31=\"\",\"\",IF(A31=\"H\",IF(OR(H31=\"SEN\",H31<1995),VLOOKUP(I31,Feuil1!$A$11:$F$29,6),IF(AND(H31>1994,H31<1998),VLOOKUP(I31,Feuil1!$A$11:$F$29,5),IF(AND(H31>1997,H31<2000),VLOOKUP(I31,Feuil1!$A$11:$F$29,4),IF(AND(H31>1999,H31<2002),VLOOKUP(I31,Feuil1!$A$11:$F$29,3),VLOOKUP(I31,Feuil1!$A$11:$F$29,2))))),IF(OR(H31=\"SEN\",H31<1995),VLOOKUP(I31,Feuil1!$G$11:$L$25,6),IF(AND(H31>1994,H31<1998),VLOOKUP(I31,Feuil1!$G$11:$L$25,5),IF(AND(H31>1997,H31<2000),VLOOKUP(I31,Feuil1!$G$11:$L$25,4),IF(AND(H31>1999,H31<2002),VLOOKUP(I31,Feuil1!$G$11:$L$25,3),VLOOKUP(I31,Feuil1!$G$11:$L$25,2)))))))","v":"FJ53"},129.00054025514771,null," ",{"$f":"T31-HLOOKUP(X31,Feuil1!$C$1:$BL$10,2,FALSE)","v":30},{"$f":"T31-HLOOKUP(X31,Feuil1!$C$1:$BL$10,3,FALSE)","v":20},{"$f":"T31-HLOOKUP(X31,Feuil1!$C$1:$BL$10,4,FALSE)","v":10},{"$f":"T31-HLOOKUP(X31,Feuil1!$C$1:$BL$10,5,FALSE)","v":0},{"$f":"T31-HLOOKUP(X31,Feuil1!$C$1:$BL$10,6,FALSE)","v":-10},{"$f":"T31-HLOOKUP(X31,Feuil1!$C$1:$BL$10,7,FALSE)","v":-20},{"$f":"T31-HLOOKUP(X31,Feuil1!$C$1:$BL$10,8,FALSE)","v":-35},{"$f":"T31-HLOOKUP(X31,Feuil1!$C$1:$BL$10,9,FALSE)","v":-50},{"$f":"T31-HLOOKUP(X31,Feuil1!$C$1:$BL$10,10,FALSE)","v":-915},null,null,null,null,null,null,"IRG +"]
["F","NE","ALS",16,316601,"TSCHAEN","AMANDINE",1996,48.8,"US Wittenheim","F",-32,32,35,35,42,45,48,48,83,-14.599999999999994,"REG +",8,{"$f":"IF(I32=\"\",\"\",IF(A32=\"H\",IF(OR(H32=\"SEN\",H32<1995),VLOOKUP(I32,Feuil1!$A$11:$F$29,6),IF(AND(H32>1994,H32<1998),VLOOKUP(I32,Feuil1!$A$11:$F$29,5),IF(AND(H32>1997,H32<2000),VLOOKUP(I32,Feuil1!$A$11:$F$29,4),IF(AND(H32>1999,H32<2002),VLOOKUP(I32,Feuil1!$A$11:$F$29,3),VLOOKUP(I32,Feuil1!$A$11:$F$29,2))))),IF(OR(H32=\"SEN\",H32<1995),VLOOKUP(I32,Feuil1!$G$11:$L$25,6),IF(AND(H32>1994,H32<1998),VLOOKUP(I32,Feuil1!$G$11:$L$25,5),IF(AND(H32>1997,H32<2000),VLOOKUP(I32,Feuil1!$G$11:$L$25,4),IF(AND(H32>1999,H32<2002),VLOOKUP(I32,Feuil1!$G$11:$L$25,3),VLOOKUP(I32,Feuil1!$G$11:$L$25,2)))))))","v":"FJ53"},134.11042321040139,null," ",{"$f":"T32-HLOOKUP(X32,Feuil1!$C$1:$BL$10,2,FALSE)","v":28},{"$f":"T32-HLOOKUP(X32,Feuil1!$C$1:$BL$10,3,FALSE)","v":18},{"$f":"T32-HLOOKUP(X32,Feuil1!$C$1:$BL$10,4,FALSE)","v":8},{"$f":"T32-HLOOKUP(X32,Feuil1!$C$1:$BL$10,5,FALSE)","v":-2},{"$f":"T32-HLOOKUP(X32,Feuil1!$C$1:$BL$10,6,FALSE)","v":-12},{"$f":"T32-HLOOKUP(X32,Feuil1!$C$1:$BL$10,7,FALSE)","v":-22},{"$f":"T32-HLOOKUP(X32,Feuil1!$C$1:$BL$10,8,FALSE)","v":-37},{"$f":"T32-HLOOKUP(X32,Feuil1!$C$1:$BL$10,9,FALSE)","v":-52},{"$f":"T32-HLOOKUP(X32,Feuil1!$C$1:$BL$10,10,FALSE)","v":-917},null,null,null,null,null,null,"REG +"]
["F","N","IDF",17,371173,"HERVET","JUSTINE",1997,51.4,"MANTES","F",30,35,37,37,45,-48,45,45,82,-20.799999999999997,"REG +",7,{"$f":"IF(I33=\"\",\"\",IF(A33=\"H\",IF(OR(H33=\"SEN\",H33<1995),VLOOKUP(I33,Feuil1!$A$11:$F$29,6),IF(AND(H33>1994,H33<1998),VLOOKUP(I33,Feuil1!$A$11:$F$29,5),IF(AND(H33>1997,H33<2000),VLOOKUP(I33,Feuil1!$A$11:$F$29,4),IF(AND(H33>1999,H33<2002),VLOOKUP(I33,Feuil1!$A$11:$F$29,3),VLOOKUP(I33,Feuil1!$A$11:$F$29,2))))),IF(OR(H33=\"SEN\",H33<1995),VLOOKUP(I33,Feuil1!$G$11:$L$25,6),IF(AND(H33>1994,H33<1998),VLOOKUP(I33,Feuil1!$G$11:$L$25,5),IF(AND(H33>1997,H33<2000),VLOOKUP(I33,Feuil1!$G$11:$L$25,4),IF(AND(H33>1999,H33<2002),VLOOKUP(I33,Feuil1!$G$11:$L$25,3),VLOOKUP(I33,Feuil1!$G$11:$L$25,2)))))))","v":"FJ53"},126.81147541401454,null," ",{"$f":"T33-HLOOKUP(X33,Feuil1!$C$1:$BL$10,2,FALSE)","v":27},{"$f":"T33-HLOOKUP(X33,Feuil1!$C$1:$BL$10,3,FALSE)","v":17},{"$f":"T33-HLOOKUP(X33,Feuil1!$C$1:$BL$10,4,FALSE)","v":7},{"$f":"T33-HLOOKUP(X33,Feuil1!$C$1:$BL$10,5,FALSE)","v":-3},{"$f":"T33-HLOOKUP(X33,Feuil1!$C$1:$BL$10,6,FALSE)","v":-13},{"$f":"T33-HLOOKUP(X33,Feuil1!$C$1:$BL$10,7,FALSE)","v":-23},{"$f":"T33-HLOOKUP(X33,Feuil1!$C$1:$BL$10,8,FALSE)","v":-38},{"$f":"T33-HLOOKUP(X33,Feuil1!$C$1:$BL$10,9,FALSE)","v":-53},{"$f":"T33-HLOOKUP(X33,Feuil1!$C$1:$BL$10,10,FALSE)","v":-918},null,null,null,null,null,null,"REG +"]
["F","DOM","GUA",18,383633,"BONNET","Mélissa",1996,52.1,"AHCS/Pointois","F",30,34,-36,34,38,41,-44,41,75,-29.200000000000003,"REG +",0,{"$f":"IF(I34=\"\",\"\",IF(A34=\"H\",IF(OR(H34=\"SEN\",H34<1995),VLOOKUP(I34,Feuil1!$A$11:$F$29,6),IF(AND(H34>1994,H34<1998),VLOOKUP(I34,Feuil1!$A$11:$F$29,5),IF(AND(H34>1997,H34<2000),VLOOKUP(I34,Feuil1!$A$11:$F$29,4),IF(AND(H34>1999,H34<2002),VLOOKUP(I34,Feuil1!$A$11:$F$29,3),VLOOKUP(I34,Feuil1!$A$11:$F$29,2))))),IF(OR(H34=\"SEN\",H34<1995),VLOOKUP(I34,Feuil1!$G$11:$L$25,6),IF(AND(H34>1994,H34<1998),VLOOKUP(I34,Feuil1!$G$11:$L$25,5),IF(AND(H34>1997,H34<2000),VLOOKUP(I34,Feuil1!$G$11:$L$25,4),IF(AND(H34>1999,H34<2002),VLOOKUP(I34,Feuil1!$G$11:$L$25,3),VLOOKUP(I34,Feuil1!$G$11:$L$25,2)))))))","v":"FJ53"},114.70811794048728,null," ",{"$f":"T34-HLOOKUP(X34,Feuil1!$C$1:$BL$10,2,FALSE)","v":20},{"$f":"T34-HLOOKUP(X34,Feuil1!$C$1:$BL$10,3,FALSE)","v":10},{"$f":"T34-HLOOKUP(X34,Feuil1!$C$1:$BL$10,4,FALSE)","v":0},{"$f":"T34-HLOOKUP(X34,Feuil1!$C$1:$BL$10,5,FALSE)","v":-10},{"$f":"T34-HLOOKUP(X34,Feuil1!$C$1:$BL$10,6,FALSE)","v":-20},{"$f":"T34-HLOOKUP(X34,Feuil1!$C$1:$BL$10,7,FALSE)","v":-30},{"$f":"T34-HLOOKUP(X34,Feuil1!$C$1:$BL$10,8,FALSE)","v":-45},{"$f":"T34-HLOOKUP(X34,Feuil1!$C$1:$BL$10,9,FALSE)","v":-60},{"$f":"T34-HLOOKUP(X34,Feuil1!$C$1:$BL$10,10,FALSE)","v":-925},null,null,null,null,null,null,"REG +"]
["F","NORD","PIC",19,386134,"MERLIER","Marie",1997,52.9,"Péronne AAEEP","F",30,-32,-32,30,41,-45,45,45,75,-30.799999999999997,"REG +",0,{"$f":"IF(I35=\"\",\"\",IF(A35=\"H\",IF(OR(H35=\"SEN\",H35<1995),VLOOKUP(I35,Feuil1!$A$11:$F$29,6),IF(AND(H35>1994,H35<1998),VLOOKUP(I35,Feuil1!$A$11:$F$29,5),IF(AND(H35>1997,H35<2000),VLOOKUP(I35,Feuil1!$A$11:$F$29,4),IF(AND(H35>1999,H35<2002),VLOOKUP(I35,Feuil1!$A$11:$F$29,3),VLOOKUP(I35,Feuil1!$A$11:$F$29,2))))),IF(OR(H35=\"SEN\",H35<1995),VLOOKUP(I35,Feuil1!$G$11:$L$25,6),IF(AND(H35>1994,H35<1998),VLOOKUP(I35,Feuil1!$G$11:$L$25,5),IF(AND(H35>1997,H35<2000),VLOOKUP(I35,Feuil1!$G$11:$L$25,4),IF(AND(H35>1999,H35<2002),VLOOKUP(I35,Feuil1!$G$11:$L$25,3),VLOOKUP(I35,Feuil1!$G$11:$L$25,2)))))))","v":"FJ53"},113.30463059430764,null," ",{"$f":"T35-HLOOKUP(X35,Feuil1!$C$1:$BL$10,2,FALSE)","v":20},{"$f":"T35-HLOOKUP(X35,Feuil1!$C$1:$BL$10,3,FALSE)","v":10},{"$f":"T35-HLOOKUP(X35,Feuil1!$C$1:$BL$10,4,FALSE)","v":0},{"$f":"T35-HLOOKUP(X35,Feuil1!$C$1:$BL$10,5,FALSE)","v":-10},{"$f":"T35-HLOOKUP(X35,Feuil1!$C$1:$BL$10,6,FALSE)","v":-20},{"$f":"T35-HLOOKUP(X35,Feuil1!$C$1:$BL$10,7,FALSE)","v":-30},{"$f":"T35-HLOOKUP(X35,Feuil1!$C$1:$BL$10,8,FALSE)","v":-45},{"$f":"T35-HLOOKUP(X35,Feuil1!$C$1:$BL$10,9,FALSE)","v":-60},{"$f":"T35-HLOOKUP(X35,Feuil1!$C$1:$BL$10,10,FALSE)","v":-925},null,null,null,null,null,null,"REG +"]
["F","SEST","CAZ",20,341745,"DOLET","Oceane",1997,49.8,"ASLDD TOULON","F",-28,29,31,31,33,35,37,37,68,-31.599999999999994,"DEP +",3,{"$f":"IF(I36=\"\",\"\",IF(A36=\"H\",IF(OR(H36=\"SEN\",H36<1995),VLOOKUP(I36,Feuil1!$A$11:$F$29,6),IF(AND(H36>1994,H36<1998),VLOOKUP(I36,Feuil1!$A$11:$F$29,5),IF(AND(H36>1997,H36<2000),VLOOKUP(I36,Feuil1!$A$11:$F$29,4),IF(AND(H36>1999,H36<2002),VLOOKUP(I36,Feuil1!$A$11:$F$29,3),VLOOKUP(I36,Feuil1!$A$11:$F$29,2))))),IF(OR(H36=\"SEN\",H36<1995),VLOOKUP(I36,Feuil1!$G$11:$L$25,6),IF(AND(H36>1994,H36<1998),VLOOKUP(I36,Feuil1!$G$11:$L$25,5),IF(AND(H36>1997,H36<2000),VLOOKUP(I36,Feuil1!$G$11:$L$25,4),IF(AND(H36>1999,H36<2002),VLOOKUP(I36,Feuil1!$G$11:$L$25,3),VLOOKUP(I36,Feuil1!$G$11:$L$25,2)))))))","v":"FJ53"},107.98026867003639,null," ",{"$f":"T36-HLOOKUP(X36,Feuil1!$C$1:$BL$10,2,FALSE)","v":13},{"$f":"T36-HLOOKUP(X36,Feuil1!$C$1:$BL$10,3,FALSE)","v":3},{"$f":"T36-HLOOKUP(X36,Feuil1!$C$1:$BL$10,4,FALSE)","v":-7},{"$f":"T36-HLOOKUP(X36,Feuil1!$C$1:$BL$10,5,FALSE)","v":-17},{"$f":"T36-HLOOKUP(X36,Feuil1!$C$1:$BL$10,6,FALSE)","v":-27},{"$f":"T36-HLOOKUP(X36,Feuil1!$C$1:$BL$10,7,FALSE)","v":-37},{"$f":"T36-HLOOKUP(X36,Feuil1!$C$1:$BL$10,8,FALSE)","v":-52},{"$f":"T36-HLOOKUP(X36,Feuil1!$C$1:$BL$10,9,FALSE)","v":-67},{"$f":"T36-HLOOKUP(X36,Feuil1!$C$1:$BL$10,10,FALSE)","v":-932},null,null,null,null,null,null,"DEP +"]
["F","N","IDF",21,380780,"MACE","GWENAELLE",1996,50.1,"US METRO","F",15,18,20,20,23,25,25,25,45,-55.2,"DEB ",-10,{"$f":"IF(I37=\"\",\"\",IF(A37=\"H\",IF(OR(H37=\"SEN\",H37<1995),VLOOKUP(I37,Feuil1!$A$11:$F$29,6),IF(AND(H37>1994,H37<1998),VLOOKUP(I37,Feuil1!$A$11:$F$29,5),IF(AND(H37>1997,H37<2000),VLOOKUP(I37,Feuil1!$A$11:$F$29,4),IF(AND(H37>1999,H37<2002),VLOOKUP(I37,Feuil1!$A$11:$F$29,3),VLOOKUP(I37,Feuil1!$A$11:$F$29,2))))),IF(OR(H37=\"SEN\",H37<1995),VLOOKUP(I37,Feuil1!$G$11:$L$25,6),IF(AND(H37>1994,H37<1998),VLOOKUP(I37,Feuil1!$G$11:$L$25,5),IF(AND(H37>1997,H37<2000),VLOOKUP(I37,Feuil1!$G$11:$L$25,4),IF(AND(H37>1999,H37<2002),VLOOKUP(I37,Feuil1!$G$11:$L$25,3),VLOOKUP(I37,Feuil1!$G$11:$L$25,2)))))))","v":"FJ53"},71.095085797572878,null," ",{"$f":"T37-HLOOKUP(X37,Feuil1!$C$1:$BL$10,2,FALSE)","v":-10},{"$f":"T37-HLOOKUP(X37,Feuil1!$C$1:$BL$10,3,FALSE)","v":-20},{"$f":"T37-HLOOKUP(X37,Feuil1!$C$1:$BL$10,4,FALSE)","v":-30},{"$f":"T37-HLOOKUP(X37,Feuil1!$C$1:$BL$10,5,FALSE)","v":-40},{"$f":"T37-HLOOKUP(X37,Feuil1!$C$1:$BL$10,6,FALSE)","v":-50},{"$f":"T37-HLOOKUP(X37,Feuil1!$C$1:$BL$10,7,FALSE)","v":-60},{"$f":"T37-HLOOKUP(X37,Feuil1!$C$1:$BL$10,8,FALSE)","v":-75},{"$f":"T37-HLOOKUP(X37,Feuil1!$C$1:$BL$10,9,FALSE)","v":-90},{"$f":"T37-HLOOKUP(X37,Feuil1!$C$1:$BL$10,10,FALSE)","v":-955},null,null,null,null,null,null,"DEB "]
[null,null,null,null,null,null,null,null,null,null,null,null,null,null,null,null,null,null,null,null,null,null,null,null,null,null," ",{"$f":"T38-HLOOKUP(X38,[1]Feuil1!$C$1:$BL$10,2,FALSE)","v":{"$error":"#N/A"}},{"$f":"T38-HLOOKUP(X38,[1]Feuil1!$C$1:$BL$10,3,FALSE)","v":{"$error":"#N/A"}},{"$f":"T38-HLOOKUP(X38,[1]Feuil1!$C$1:$BL$10,4,FALSE)","v":{"$error":"#N/A"}},{"$f":"T38-HLOOKUP(X38,[1]Feuil1!$C$1:$BL$10,5,FALSE)","v":{"$error":"#N/A"}},{"$f":"T38-HLOOKUP(X38,[1]Feuil1!$C$1:$BL$10,6,FALSE)","v":{"$error":"#N/A"}},{"$f":"T38-HLOOKUP(X38,[1]Feuil1!$C$1:$BL$10,7,FALSE)","v":{"$error":"#N/A"}},{"$f":"T38-HLOOKUP(X38,[1]Feuil1!$C$1:$BL$10,8,FALSE)","v":{"$error":"#N/A"}},{"$f":"T38-HLOOKUP(X38,[1]Feuil1!$C$1:$BL$10,9,FALSE)","v":{"$error":"#N/A"}},{"$f":"T38-HLOOKUP(X38,[1]Feuil1!$C$1:$BL$10,10,FALSE)","v":{"$error":"#N/A"}},null,null,null,null,null,null,{"$f":"IF(AJ38>=0,$AJ$4,IF(AI38>=0,$AI$4,IF(AH38>=0,$AH$4,IF(AG38>=0,$AG$4,IF(AF38>=0,$AF$4,IF(AE38>=0,$AE$4,IF(AD38>=0,$AD$4,IF(AC38>=0,$AC$4,$AB$4))))))))","v":{"$error":"#N/A"}}]
["F","N","IDF",1,153936,"TCHAKOUNTE","DORA",1995,57.9,"BLANC-MESNIL","F",80,84,88,{"$f":"IF(H39=\"\",\"\",IF(MAXA(L39:N39)<=0,0,MAXA(L39:N39)))","v":88},100,-103,100,{"$f":"IF(H39=\"\",\"\",IF(MAXA(P39:R39)<=0,0,MAXA(P39:R39)))","v":100},{"$f":"IF(H39=\"\",\"\",IF(OR(O39=0,S39=0),0,O39+S39))","v":188},{"$f":"T39-I39*2","v":72.2},{"$f":"IF(H39=\"\",\"\",AQ39)","v":"INTA +"},{"$f":"IF(AJ39>=0,AJ39,IF(AI39>=0,AI39,IF(AH39>=0,AH39,IF(AG39>=0,AG39,IF(AF39>=0,AF39,IF(AE39>=0,AE39,IF(AD39>=0,AD39,IF(AC39>=0,AC39,AB39))))))))","v":38},{"$f":"IF(I39=\"\",\"\",IF(A39=\"H\",IF(OR(H39=\"SEN\",H39<1995),VLOOKUP(I39,Feuil1!$A$11:$F$29,6),IF(AND(H39>1994,H39<1998),VLOOKUP(I39,Feuil1!$A$11:$F$29,5),IF(AND(H39>1997,H39<2000),VLOOKUP(I39,Feuil1!$A$11:$F$29,4),IF(AND(H39>1999,H39<2002),VLOOKUP(I39,Feuil1!$A$11:$F$29,3),VLOOKUP(I39,Feuil1!$A$11:$F$29,2))))),IF(OR(H39=\"SEN\",H39<1995),VLOOKUP(I39,Feuil1!$G$11:$L$25,6),IF(AND(H39>1994,H39<1998),VLOOKUP(I39,Feuil1!$G$11:$L$25,5),IF(AND(H39>1997,H39<2000),VLOOKUP(I39,Feuil1!$G$11:$L$25,4),IF(AND(H39>1999,H39<2002),VLOOKUP(I39,Feuil1!$G$11:$L$25,3),VLOOKUP(I39,Feuil1!$G$11:$L$25,2)))))))","v":"FJ58"},{"$f":"IF(I39=\"\",\"\",IF(A39=\"H\",10^(0.794358141*LOG(I39/174.393)^2)*T39,IF(A39=\"F\",10^(0.89726074*LOG(I39/148.026)^2)*T39,\"\")))","v":265.01485545808583},null," ",{"$f":"T39-HLOOKUP(X39,Feuil1!$C$1:$BL$10,2,FALSE)","v":128},{"$f":"T39-HLOOKUP(X39,Feuil1!$C$1:$BL$10,3,FALSE)","v":118},{"$f":"T39-HLOOKUP(X39,Feuil1!$C$1:$BL$10,4,FALSE)","v":108},{"$f":"T39-HLOOKUP(X39,Feuil1!$C$1:$BL$10,5,FALSE)","v":98},{"$f":"T39-HLOOKUP(X39,Feuil1!$C$1:$BL$10,6,FALSE)","v":88},{"$f":"T39-HLOOKUP(X39,Feuil1!$C$1:$BL$10,7,FALSE)","v":73},{"$f":"T39-HLOOKUP(X39,Feuil1!$C$1:$BL$10,8,FALSE)","v":58},{"$f":"T39-HLOOKUP(X39,Feuil1!$C$1:$BL$10,9,FALSE)","v":38},{"$f":"T39-HLOOKUP(X39,Feuil1!$C$1:$BL$10,10,FALSE)","v":-812},null,null,null,null,null,null,{"$f":"IF(AJ39>=0,$AJ$4,IF(AI39>=0,$AI$4,IF(AH39>=0,$AH$4,IF(AG39>=0,$AG$4,IF(AF39>=0,$AF$4,IF(AE39>=0,$AE$4,IF(AD39>=0,$AD$4,IF(AC39>=0,$AC$4,$AB$4))))))))","v":"INTA +"}]
["F","NORD","PIC",2,280885,"CABON","Ophélie",1997,53.33,"Péronne AAEEP","F",58,61,-64,61,72,76,79,79,140,33.340000000000003,"INTB +",10,{"$f":"IF(I40=\"\",\"\",IF(A40=\"H\",IF(OR(H40=\"SEN\",H40<1995),VLOOKUP(I40,Feuil1!$A$11:$F$29,6),IF(AND(H40>1994,H40<1998),VLOOKUP(I40,Feuil1!$A$11:$F$29,5),IF(AND(H40>1997,H40<2000),VLOOKUP(I40,Feuil1!$A$11:$F$29,4),IF(AND(H40>1999,H40<2002),VLOOKUP(I40,Feuil1!$A$11:$F$29,3),VLOOKUP(I40,Feuil1!$A$11:$F$29,2))))),IF(OR(H40=\"SEN\",H40<1995),VLOOKUP(I40,Feuil1!$G$11:$L$25,6),IF(AND(H40>1994,H40<1998),VLOOKUP(I40,Feuil1!$G$11:$L$25,5),IF(AND(H40>1997,H40<2000),VLOOKUP(I40,Feuil1!$G$11:$L$25,4),IF(AND(H40>1999,H40<2002),VLOOKUP(I40,Feuil1!$G$11:$L$25,3),VLOOKUP(I40,Feuil1!$G$11:$L$25,2)))))))","v":"FJ58"},210.13866704898305,null," ",{"$f":"T40-HLOOKUP(X40,Feuil1!$C$1:$BL$10,2,FALSE)","v":80},{"$f":"T40-HLOOKUP(X40,Feuil1!$C$1:$BL$10,3,FALSE)","v":70},{"$f":"T40-HLOOKUP(X40,Feuil1!$C$1:$BL$10,4,FALSE)","v":60},{"$f":"T40-HLOOKUP(X40,Feuil1!$C$1:$BL$10,5,FALSE)","v":50},{"$f":"T40-HLOOKUP(X40,Feuil1!$C$1:$BL$10,6,FALSE)","v":40},{"$f":"T40-HLOOKUP(X40,Feuil1!$C$1:$BL$10,7,FALSE)","v":25},{"$f":"T40-HLOOKUP(X40,Feuil1!$C$1:$BL$10,8,FALSE)","v":10},{"$f":"T40-HLOOKUP(X40,Feuil1!$C$1:$BL$10,9,FALSE)","v":-10},{"$f":"T40-HLOOKUP(X40,Feuil1!$C$1:$BL$10,10,FALSE)","v":-860},null,null,null,null,null,null,"INTB +"]
["F","CO","CEN",3,357364,"DAUMAS","Solène",1995,55.4,"AAJ Blois","F",56,59,61,61,68,70,-72,70,131,20.200000000000003,"INTB +",1,{"$f":"IF(I41=\"\",\"\",IF(A41=\"H\",IF(OR(H41=\"SEN\",H41<1995),VLOOKUP(I41,Feuil1!$A$11:$F$29,6),IF(AND(H41>1994,H41<1998),VLOOKUP(I41,Feuil1!$A$11:$F$29,5),IF(AND(H41>1997,H41<2000),VLOOKUP(I41,Feuil1!$A$11:$F$29,4),IF(AND(H41>1999,H41<2002),VLOOKUP(I41,Feuil1!$A$11:$F$29,3),VLOOKUP(I41,Feuil1!$A$11:$F$29,2))))),IF(OR(H41=\"SEN\",H41<1995),VLOOKUP(I41,Feuil1!$G$11:$L$25,6),IF(AND(H41>1994,H41<1998),VLOOKUP(I41,Feuil1!$G$11:$L$25,5),IF(AND(H41>1997,H41<2000),VLOOKUP(I41,Feuil1!$G$11:$L$25,4),IF(AND(H41>1999,H41<2002),VLOOKUP(I41,Feuil1!$G$11:$L$25,3),VLOOKUP(I41,Feuil1!$G$11:$L$25,2)))))))","v":"FJ58"},190.86942353445764,null," ",{"$f":"T41-HLOOKUP(X41,Feuil1!$C$1:$BL$10,2,FALSE)","v":71},{"$f":"T41-HLOOKUP(X41,Feuil1!$C$1:$BL$10,3,FALSE)","v":61},{"$f":"T41-HLOOKUP(X41,Feuil1!$C$1:$BL$10,4,FALSE)","v":51},{"$f":"T41-HLOOKUP(X41,Feuil1!$C$1:$BL$10,5,FALSE)","v":41},{"$f":"T41-HLOOKUP(X41,Feuil1!$C$1:$BL$10,6,FALSE)","v":31},{"$f":"T41-HLOOKUP(X41,Feuil1!$C$1:$BL$10,7,FALSE)","v":16},{"$f":"T41-HLOOKUP(X41,Feuil1!$C$1:$BL$10,8,FALSE)","v":1},{"$f":"T41-HLOOKUP(X41,Feuil1!$C$1:$BL$10,9,FALSE)","v":-19},{"$f":"T41-HLOOKUP(X41,Feuil1!$C$1:$BL$10,10,FALSE)","v":-869},null,null,null,null,null,null,"INTB +"]
["F","NORD","PIC",4,140592,"ARANJO","Caroline",1995,57.05,"Villers-Bretonneux KC","F",53,56,57,57,-68,70,-72,70,127,12.900000000000006,"NAT +",12,{"$f":"IF(I42=\"\",\"\",IF(A42=\"H\",IF(OR(H42=\"SEN\",H42<1995),VLOOKUP(I42,Feuil1!$A$11:$F$29,6),IF(AND(H42>1994,H42<1998),VLOOKUP(I42,Feuil1!$A$11:$F$29,5),IF(AND(H42>1997,H42<2000),VLOOKUP(I42,Feuil1!$A$11:$F$29,4),IF(AND(H42>1999,H42<2002),VLOOKUP(I42,Feuil1!$A$11:$F$29,3),VLOOKUP(I42,Feuil1!$A$11:$F$29,2))))),IF(OR(H42=\"SEN\",H42<1995),VLOOKUP(I42,Feuil1!$G$11:$L$25,6),IF(AND(H42>1994,H42<1998),VLOOKUP(I42,Feuil1!$G$11:$L$25,5),IF(AND(H42>1997,H42<2000),VLOOKUP(I42,Feuil1!$G$11:$L$25,4),IF(AND(H42>1999,H42<2002),VLOOKUP(I42,Feuil1!$G$11:$L$25,3),VLOOKUP(I42,Feuil1!$G$11:$L$25,2)))))))","v":"FJ58"},180.98884682576892,null," ",{"$f":"T42-HLOOKUP(X42,Feuil1!$C$1:$BL$10,2,FALSE)","v":67},{"$f":"T42-HLOOKUP(X42,Feuil1!$C$1:$BL$10,3,FALSE)","v":57},{"$f":"T42-HLOOKUP(X42,Feuil1!$C$1:$BL$10,4,FALSE)","v":47},{"$f":"T42-HLOOKUP(X42,Feuil1!$C$1:$BL$10,5,FALSE)","v":37},{"$f":"T42-HLOOKUP(X42,Feuil1!$C$1:$BL$10,6,FALSE)","v":27},{"$f":"T42-HLOOKUP(X42,Feuil1!$C$1:$BL$10,7,FALSE)","v":12},{"$f":"T42-HLOOKUP(X42,Feuil1!$C$1:$BL$10,8,FALSE)","v":-3},{"$f":"T42-HLOOKUP(X42,Feuil1!$C$1:$BL$10,9,FALSE)","v":-23},{"$f":"T42-HLOOKUP(X42,Feuil1!$C$1:$BL$10,10,FALSE)","v":-873},null,null,null,null,null,null,"NAT +"]
["F","SEST","RAL",5,171425,"HOSTALIER","Melinda",1997,54.94,"SAINT BALDOPH","F",54,-56,-56,54,70,-72,72,72,126,16.120000000000005,"NAT +",11,{"$f":"IF(I43=\"\",\"\",IF(A43=\"H\",IF(OR(H43=\"SEN\",H43<1995),VLOOKUP(I43,Feuil1!$A$11:$F$29,6),IF(AND(H43>1994,H43<1998),VLOOKUP(I43,Feuil1!$A$11:$F$29,5),IF(AND(H43>1997,H43<2000),VLOOKUP(I43,Feuil1!$A$11:$F$29,4),IF(AND(H43>1999,H43<2002),VLOOKUP(I43,Feuil1!$A$11:$F$29,3),VLOOKUP(I43,Feuil1!$A$11:$F$29,2))))),IF(OR(H43=\"SEN\",H43<1995),VLOOKUP(I43,Feuil1!$G$11:$L$25,6),IF(AND(H43>1994,H43<1998),VLOOKUP(I43,Feuil1!$G$11:$L$25,5),IF(AND(H43>1997,H43<2000),VLOOKUP(I43,Feuil1!$G$11:$L$25,4),IF(AND(H43>1999,H43<2002),VLOOKUP(I43,Feuil1!$G$11:$L$25,3),VLOOKUP(I43,Feuil1!$G$11:$L$25,2)))))))","v":"FJ58"},184.76553945874076,null," ",{"$f":"T43-HLOOKUP(X43,Feuil1!$C$1:$BL$10,2,FALSE)","v":66},{"$f":"T43-HLOOKUP(X43,Feuil1!$C$1:$BL$10,3,FALSE)","v":56},{"$f":"T43-HLOOKUP(X43,Feuil1!$C$1:$BL$10,4,FALSE)","v":46},{"$f":"T43-HLOOKUP(X43,Feuil1!$C$1:$BL$10,5,FALSE)","v":36},{"$f":"T43-HLOOKUP(X43,Feuil1!$C$1:$BL$10,6,FALSE)","v":26},{"$f":"T43-HLOOKUP(X43,Feuil1!$C$1:$BL$10,7,FALSE)","v":11},{"$f":"T43-HLOOKUP(X43,Feuil1!$C$1:$BL$10,8,FALSE)","v":-4},{"$f":"T43-HLOOKUP(X43,Feuil1!$C$1:$BL$10,9,FALSE)","v":-24},{"$f":"T43-HLOOKUP(X43,Feuil1!$C$1:$BL$10,10,FALSE)","v":-874},null,null,null,null,null,null,"NAT +"]
["F","NORD","PIC",6,187400,"CARON","Amélie",1996,53.79,"Saleux CHM","F",50,53,55,55,60,65,67,67,122,14.420000000000002,"NAT +",7,{"$f":"IF(I44=\"\",\"\",IF(A44=\"H\",IF(OR(H44=\"SEN\",H44<1995),VLOOKUP(I44,Feuil1!$A$11:$F$29,6),IF(AND(H44>1994,H44<1998),VLOOKUP(I44,Feuil1!$A$11:$F$29,5),IF(AND(H44>1997,H44<2000),VLOOKUP(I44,Feuil1!$A$11:$F$29,4),IF(AND(H44>1999,H44<2002),VLOOKUP(I44,Feuil1!$A$11:$F$29,3),VLOOKUP(I44,Feuil1!$A$11:$F$29,2))))),IF(OR(H44=\"SEN\",H44<1995),VLOOKUP(I44,Feuil1!$G$11:$L$25,6),IF(AND(H44>1994,H44<1998),VLOOKUP(I44,Feuil1!$G$11:$L$25,5),IF(AND(H44>1997,H44<2000),VLOOKUP(I44,Feuil1!$G$11:$L$25,4),IF(AND(H44>1999,H44<2002),VLOOKUP(I44,Feuil1!$G$11:$L$25,3),VLOOKUP(I44,Feuil1!$G$11:$L$25,2)))))))","v":"FJ58"},181.87900962047587,null," ",{"$f":"T44-HLOOKUP(X44,Feuil1!$C$1:$BL$10,2,FALSE)","v":62},{"$f":"T44-HLOOKUP(X44,Feuil1!$C$1:$BL$10,3,FALSE)","v":52},{"$f":"T44-HLOOKUP(X44,Feuil1!$C$1:$BL$10,4,FALSE)","v":42},{"$f":"T44-HLOOKUP(X44,Feuil1!$C$1:$BL$10,5,FALSE)","v":32},{"$f":"T44-HLOOKUP(X44,Feuil1!$C$1:$BL$10,6,FALSE)","v":22},{"$f":"T44-HLOOKUP(X44,Feuil1!$C$1:$BL$10,7,FALSE)","v":7},{"$f":"T44-HLOOKUP(X44,Feuil1!$C$1:$BL$10,8,FALSE)","v":-8},{"$f":"T44-HLOOKUP(X44,Feuil1!$C$1:$BL$10,9,FALSE)","v":-28},{"$f":"T44-HLOOKUP(X44,Feuil1!$C$1:$BL$10,10,FALSE)","v":-878},null,null,null,null,null,null,"NAT +"]
["F","NORD","PIC",7,219978,"GAUTIER","Ophélie",1997,57.15,"La Vaillante Saint Quentin","F",48,50,52,52,63,-67,67,67,119,4.7000000000000028,"NAT +",4,{"$f":"IF(I45=\"\",\"\",IF(A45=\"H\",IF(OR(H45=\"SEN\",H45<1995),VLOOKUP(I45,Feuil1!$A$11:$F$29,6),IF(AND(H45>1994,H45<1998),VLOOKUP(I45,Feuil1!$A$11:$F$29,5),IF(AND(H45>1997,H45<2000),VLOOKUP(I45,Feuil1!$A$11:$F$29,4),IF(AND(H45>1999,H45<2002),VLOOKUP(I45,Feuil1!$A$11:$F$29,3),VLOOKUP(I45,Feuil1!$A$11:$F$29,2))))),IF(OR(H45=\"SEN\",H45<1995),VLOOKUP(I45,Feuil1!$G$11:$L$25,6),IF(AND(H45>1994,H45<1998),VLOOKUP(I45,Feuil1!$G$11:$L$25,5),IF(AND(H45>1997,H45<2000),VLOOKUP(I45,Feuil1!$G$11:$L$25,4),IF(AND(H45>1999,H45<2002),VLOOKUP(I45,Feuil1!$G$11:$L$25,3),VLOOKUP(I45,Feuil1!$G$11:$L$25,2)))))))","v":"FJ58"},169.36762455942326,null," ",{"$f":"T45-HLOOKUP(X45,Feuil1!$C$1:$BL$10,2,FALSE)","v":59},{"$f":"T45-HLOOKUP(X45,Feuil1!$C$1:$BL$10,3,FALSE)","v":49},{"$f":"T45-HLOOKUP(X45,Feuil1!$C$1:$BL$10,4,FALSE)","v":39},{"$f":"T45-HLOOKUP(X45,Feuil1!$C$1:$BL$10,5,FALSE)","v":29},{"$f":"T45-HLOOKUP(X45,Feuil1!$C$1:$BL$10,6,FALSE)","v":19},{"$f":"T45-HLOOKUP(X45,Feuil1!$C$1:$BL$10,7,FALSE)","v":4},{"$f":"T45-HLOOKUP(X45,Feuil1!$C$1:$BL$10,8,FALSE)","v":-11},{"$f":"T45-HLOOKUP(X45,Feuil1!$C$1:$BL$10,9,FALSE)","v":-31},{"$f":"T45-HLOOKUP(X45,Feuil1!$C$1:$BL$10,10,FALSE)","v":-881},null,null,null,null,null,null,"NAT +"]
["F","SEST","RAL",8,279492,"DOMINGUEZ","Marion",1996,57.63,"GAULOISE DE VAISE","F",54,-56,-56,54,62,64,-68,64,118,2.7399999999999949,"NAT +",3,{"$f":"IF(I46=\"\",\"\",IF(A46=\"H\",IF(OR(H46=\"SEN\",H46<1995),VLOOKUP(I46,Feuil1!$A$11:$F$29,6),IF(AND(H46>1994,H46<1998),VLOOKUP(I46,Feuil1!$A$11:$F$29,5),IF(AND(H46>1997,H46<2000),VLOOKUP(I46,Feuil1!$A$11:$F$29,4),IF(AND(H46>1999,H46<2002),VLOOKUP(I46,Feuil1!$A$11:$F$29,3),VLOOKUP(I46,Feuil1!$A$11:$F$29,2))))),IF(OR(H46=\"SEN\",H46<1995),VLOOKUP(I46,Feuil1!$G$11:$L$25,6),IF(AND(H46>1994,H46<1998),VLOOKUP(I46,Feuil1!$G$11:$L$25,5),IF(AND(H46>1997,H46<2000),VLOOKUP(I46,Feuil1!$G$11:$L$25,4),IF(AND(H46>1999,H46<2002),VLOOKUP(I46,Feuil1!$G$11:$L$25,3),VLOOKUP(I46,Feuil1!$G$11:$L$25,2)))))))","v":"FJ58"},166.91028066941632,null," ",{"$f":"T46-HLOOKUP(X46,Feuil1!$C$1:$BL$10,2,FALSE)","v":58},{"$f":"T46-HLOOKUP(X46,Feuil1!$C$1:$BL$10,3,FALSE)","v":48},{"$f":"T46-HLOOKUP(X46,Feuil1!$C$1:$BL$10,4,FALSE)","v":38},{"$f":"T46-HLOOKUP(X46,Feuil1!$C$1:$BL$10,5,FALSE)","v":28},{"$f":"T46-HLOOKUP(X46,Feuil1!$C$1:$BL$10,6,FALSE)","v":18},{"$f":"T46-HLOOKUP(X46,Feuil1!$C$1:$BL$10,7,FALSE)","v":3},{"$f":"T46-HLOOKUP(X46,Feuil1!$C$1:$BL$10,8,FALSE)","v":-12},{"$f":"T46-HLOOKUP(X46,Feuil1!$C$1:$BL$10,9,FALSE)","v":-32},{"$f":"T46-HLOOKUP(X46,Feuil1!$C$1:$BL$10,10,FALSE)","v":-882},null,null,null,null,null,null,"NAT +"]
["F","NORD","PIC",9,309751,"SEIGNEUR","Manon",1995,53.4,"Villers-Bretonneux KC","F",47,50,52,52,58,61,63,63,115,8.2000000000000028,"NAT +",0,{"$f":"IF(I47=\"\",\"\",IF(A47=\"H\",IF(OR(H47=\"SEN\",H47<1995),VLOOKUP(I47,Feuil1!$A$11:$F$29,6),IF(AND(H47>1994,H47<1998),VLOOKUP(I47,Feuil1!$A$11:$F$29,5),IF(AND(H47>1997,H47<2000),VLOOKUP(I47,Feuil1!$A$11:$F$29,4),IF(AND(H47>1999,H47<2002),VLOOKUP(I47,Feuil1!$A$11:$F$29,3),VLOOKUP(I47,Feuil1!$A$11:$F$29,2))))),IF(OR(H47=\"SEN\",H47<1995),VLOOKUP(I47,Feuil1!$G$11:$L$25,6),IF(AND(H47>1994,H47<1998),VLOOKUP(I47,Feuil1!$G$11:$L$25,5),IF(AND(H47>1997,H47<2000),VLOOKUP(I47,Feuil1!$G$11:$L$25,4),IF(AND(H47>1999,H47<2002),VLOOKUP(I47,Feuil1!$G$11:$L$25,3),VLOOKUP(I47,Feuil1!$G$11:$L$25,2)))))))","v":"FJ58"},172.43396691938801,null," ",{"$f":"T47-HLOOKUP(X47,Feuil1!$C$1:$BL$10,2,FALSE)","v":55},{"$f":"T47-HLOOKUP(X47,Feuil1!$C$1:$BL$10,3,FALSE)","v":45},{"$f":"T47-HLOOKUP(X47,Feuil1!$C$1:$BL$10,4,FALSE)","v":35},{"$f":"T47-HLOOKUP(X47,Feuil1!$C$1:$BL$10,5,FALSE)","v":25},{"$f":"T47-HLOOKUP(X47,Feuil1!$C$1:$BL$10,6,FALSE)","v":15},{"$f":"T47-HLOOKUP(X47,Feuil1!$C$1:$BL$10,7,FALSE)","v":0},{"$f":"T47-HLOOKUP(X47,Feuil1!$C$1:$BL$10,8,FALSE)","v":-15},{"$f":"T47-HLOOKUP(X47,Feuil1!$C$1:$BL$10,9,FALSE)","v":-35},{"$f":"T47-HLOOKUP(X47,Feuil1!$C$1:$BL$10,10,FALSE)","v":-885},null,null,null,null,null,null,"NAT +"]
["F","CO","BRE",10,146079,"DEBIAIS","Joanna",1996,57.8,"ES Saint Avé","F",48,-52,52,52,58,63,0,63,115,-0.59999999999999432,"NAT +",0,{"$f":"IF(I48=\"\",\"\",IF(A48=\"H\",IF(OR(H48=\"SEN\",H48<1995),VLOOKUP(I48,Feuil1!$A$11:$F$29,6),IF(AND(H48>1994,H48<1998),VLOOKUP(I48,Feuil1!$A$11:$F$29,5),IF(AND(H48>1997,H48<2000),VLOOKUP(I48,Feuil1!$A$11:$F$29,4),IF(AND(H48>1999,H48<2002),VLOOKUP(I48,Feuil1!$A$11:$F$29,3),VLOOKUP(I48,Feuil1!$A$11:$F$29,2))))),IF(OR(H48=\"SEN\",H48<1995),VLOOKUP(I48,Feuil1!$G$11:$L$25,6),IF(AND(H48>1994,H48<1998),VLOOKUP(I48,Feuil1!$G$11:$L$25,5),IF(AND(H48>1997,H48<2000),VLOOKUP(I48,Feuil1!$G$11:$L$25,4),IF(AND(H48>1999,H48<2002),VLOOKUP(I48,Feuil1!$G$11:$L$25,3),VLOOKUP(I48,Feuil1!$G$11:$L$25,2)))))))","v":"FJ58"},162.31546926552289,null," ",{"$f":"T48-HLOOKUP(X48,Feuil1!$C$1:$BL$10,2,FALSE)","v":55},{"$f":"T48-HLOOKUP(X48,Feuil1!$C$1:$BL$10,3,FALSE)","v":45},{"$f":"T48-HLOOKUP(X48,Feuil1!$C$1:$BL$10,4,FALSE)","v":35},{"$f":"T48-HLOOKUP(X48,Feuil1!$C$1:$BL$10,5,FALSE)","v":25},{"$f":"T48-HLOOKUP(X48,Feuil1!$C$1:$BL$10,6,FALSE)","v":15},{"$f":"T48-HLOOKUP(X48,Feuil1!$C$1:$BL$10,7,FALSE)","v":0},{"$f":"T48-HLOOKUP(X48,Feuil1!$C$1:$BL$10,8,FALSE)","v":-15},{"$f":"T48-HLOOKUP(X48,Feuil1!$C$1:$BL$10,9,FALSE)","v":-35},{"$f":"T48-HLOOKUP(X48,Feuil1!$C$1:$BL$10,10,FALSE)","v":-885},null,null,null,null,null,null,"NAT +"]
["F","CO","BRE",11,389192,"RAHARISOA","Karen",1997,57.72,"AL Quimper","F",44,46,48,48,56,59,63,63,111,-4.4399999999999977,"FED +",11,{"$f":"IF(I49=\"\",\"\",IF(A49=\"H\",IF(OR(H49=\"SEN\",H49<1995),VLOOKUP(I49,Feuil1!$A$11:$F$29,6),IF(AND(H49>1994,H49<1998),VLOOKUP(I49,Feuil1!$A$11:$F$29,5),IF(AND(H49>1997,H49<2000),VLOOKUP(I49,Feuil1!$A$11:$F$29,4),IF(AND(H49>1999,H49<2002),VLOOKUP(I49,Feuil1!$A$11:$F$29,3),VLOOKUP(I49,Feuil1!$A$11:$F$29,2))))),IF(OR(H49=\"SEN\",H49<1995),VLOOKUP(I49,Feuil1!$G$11:$L$25,6),IF(AND(H49>1994,H49<1998),VLOOKUP(I49,Feuil1!$G$11:$L$25,5),IF(AND(H49>1997,H49<2000),VLOOKUP(I49,Feuil1!$G$11:$L$25,4),IF(AND(H49>1999,H49<2002),VLOOKUP(I49,Feuil1!$G$11:$L$25,3),VLOOKUP(I49,Feuil1!$G$11:$L$25,2)))))))","v":"FJ58"},156.82894694380664,null," ",{"$f":"T49-HLOOKUP(X49,Feuil1!$C$1:$BL$10,2,FALSE)","v":51},{"$f":"T49-HLOOKUP(X49,Feuil1!$C$1:$BL$10,3,FALSE)","v":41},{"$f":"T49-HLOOKUP(X49,Feuil1!$C$1:$BL$10,4,FALSE)","v":31},{"$f":"T49-HLOOKUP(X49,Feuil1!$C$1:$BL$10,5,FALSE)","v":21},{"$f":"T49-HLOOKUP(X49,Feuil1!$C$1:$BL$10,6,FALSE)","v":11},{"$f":"T49-HLOOKUP(X49,Feuil1!$C$1:$BL$10,7,FALSE)","v":-4},{"$f":"T49-HLOOKUP(X49,Feuil1!$C$1:$BL$10,8,FALSE)","v":-19},{"$f":"T49-HLOOKUP(X49,Feuil1!$C$1:$BL$10,9,FALSE)","v":-39},{"$f":"T49-HLOOKUP(X49,Feuil1!$C$1:$BL$10,10,FALSE)","v":-889},null,null,null,null,null,null,"FED +"]
["F","SO","MPY",12,302368,"BEN KHELIFA","Julie",1995,57,"COLOMIERS US","F",47,51,-54,51,57,-61,-64,57,108,-6,"FED +",8,{"$f":"IF(I50=\"\",\"\",IF(A50=\"H\",IF(OR(H50=\"SEN\",H50<1995),VLOOKUP(I50,Feuil1!$A$11:$F$29,6),IF(AND(H50>1994,H50<1998),VLOOKUP(I50,Feuil1!$A$11:$F$29,5),IF(AND(H50>1997,H50<2000),VLOOKUP(I50,Feuil1!$A$11:$F$29,4),IF(AND(H50>1999,H50<2002),VLOOKUP(I50,Feuil1!$A$11:$F$29,3),VLOOKUP(I50,Feuil1!$A$11:$F$29,2))))),IF(OR(H50=\"SEN\",H50<1995),VLOOKUP(I50,Feuil1!$G$11:$L$25,6),IF(AND(H50>1994,H50<1998),VLOOKUP(I50,Feuil1!$G$11:$L$25,5),IF(AND(H50>1997,H50<2000),VLOOKUP(I50,Feuil1!$G$11:$L$25,4),IF(AND(H50>1999,H50<2002),VLOOKUP(I50,Feuil1!$G$11:$L$25,3),VLOOKUP(I50,Feuil1!$G$11:$L$25,2)))))))","v":"FJ58"},154.01213352383942,null," ",{"$f":"T50-HLOOKUP(X50,Feuil1!$C$1:$BL$10,2,FALSE)","v":48},{"$f":"T50-HLOOKUP(X50,Feuil1!$C$1:$BL$10,3,FALSE)","v":38},{"$f":"T50-HLOOKUP(X50,Feuil1!$C$1:$BL$10,4,FALSE)","v":28},{"$f":"T50-HLOOKUP(X50,Feuil1!$C$1:$BL$10,5,FALSE)","v":18},{"$f":"T50-HLOOKUP(X50,Feuil1!$C$1:$BL$10,6,FALSE)","v":8},{"$f":"T50-HLOOKUP(X50,Feuil1!$C$1:$BL$10,7,FALSE)","v":-7},{"$f":"T50-HLOOKUP(X50,Feuil1!$C$1:$BL$10,8,FALSE)","v":-22},{"$f":"T50-HLOOKUP(X50,Feuil1!$C$1:$BL$10,9,FALSE)","v":-42},{"$f":"T50-HLOOKUP(X50,Feuil1!$C$1:$BL$10,10,FALSE)","v":-892},null,null,null,null,null,null,"FED +"]
["F","SEST","CAZ",13,323896,"DUPEYROUX","Elise",1997,53.5,"ASLDD TOULON","F",43,45,47,47,53,56,59,59,106,-1,"FED +",6,{"$f":"IF(I51=\"\",\"\",IF(A51=\"H\",IF(OR(H51=\"SEN\",H51<1995),VLOOKUP(I51,Feuil1!$A$11:$F$29,6),IF(AND(H51>1994,H51<1998),VLOOKUP(I51,Feuil1!$A$11:$F$29,5),IF(AND(H51>1997,H51<2000),VLOOKUP(I51,Feuil1!$A$11:$F$29,4),IF(AND(H51>1999,H51<2002),VLOOKUP(I51,Feuil1!$A$11:$F$29,3),VLOOKUP(I51,Feuil1!$A$11:$F$29,2))))),IF(OR(H51=\"SEN\",H51<1995),VLOOKUP(I51,Feuil1!$G$11:$L$25,6),IF(AND(H51>1994,H51<1998),VLOOKUP(I51,Feuil1!$G$11:$L$25,5),IF(AND(H51>1997,H51<2000),VLOOKUP(I51,Feuil1!$G$11:$L$25,4),IF(AND(H51>1999,H51<2002),VLOOKUP(I51,Feuil1!$G$11:$L$25,3),VLOOKUP(I51,Feuil1!$G$11:$L$25,2)))))))","v":"FJ58"},158.70324163757698,null," ",{"$f":"T51-HLOOKUP(X51,Feuil1!$C$1:$BL$10,2,FALSE)","v":46},{"$f":"T51-HLOOKUP(X51,Feuil1!$C$1:$BL$10,3,FALSE)","v":36},{"$f":"T51-HLOOKUP(X51,Feuil1!$C$1:$BL$10,4,FALSE)","v":26},{"$f":"T51-HLOOKUP(X51,Feuil1!$C$1:$BL$10,5,FALSE)","v":16},{"$f":"T51-HLOOKUP(X51,Feuil1!$C$1:$BL$10,6,FALSE)","v":6},{"$f":"T51-HLOOKUP(X51,Feuil1!$C$1:$BL$10,7,FALSE)","v":-9},{"$f":"T51-HLOOKUP(X51,Feuil1!$C$1:$BL$10,8,FALSE)","v":-24},{"$f":"T51-HLOOKUP(X51,Feuil1!$C$1:$BL$10,9,FALSE)","v":-44},{"$f":"T51-HLOOKUP(X51,Feuil1!$C$1:$BL$10,10,FALSE)","v":-894},null,null,null,null,null,null,"FED +"]
["F","NE","ALS",14,327036,"HELL","Marine",1997,57.8,"US Wittenheim","F",42,45,47,47,52,56,58,58,105,-10.599999999999994,"FED +",5,{"$f":"IF(I52=\"\",\"\",IF(A52=\"H\",IF(OR(H52=\"SEN\",H52<1995),VLOOKUP(I52,Feuil1!$A$11:$F$29,6),IF(AND(H52>1994,H52<1998),VLOOKUP(I52,Feuil1!$A$11:$F$29,5),IF(AND(H52>1997,H52<2000),VLOOKUP(I52,Feuil1!$A$11:$F$29,4),IF(AND(H52>1999,H52<2002),VLOOKUP(I52,Feuil1!$A$11:$F$29,3),VLOOKUP(I52,Feuil1!$A$11:$F$29,2))))),IF(OR(H52=\"SEN\",H52<1995),VLOOKUP(I52,Feuil1!$G$11:$L$25,6),IF(AND(H52>1994,H52<1998),VLOOKUP(I52,Feuil1!$G$11:$L$25,5),IF(AND(H52>1997,H52<2000),VLOOKUP(I52,Feuil1!$G$11:$L$25,4),IF(AND(H52>1999,H52<2002),VLOOKUP(I52,Feuil1!$G$11:$L$25,3),VLOOKUP(I52,Feuil1!$G$11:$L$25,2)))))))","v":"FJ58"},148.20108063373831,null," ",{"$f":"T52-HLOOKUP(X52,Feuil1!$C$1:$BL$10,2,FALSE)","v":45},{"$f":"T52-HLOOKUP(X52,Feuil1!$C$1:$BL$10,3,FALSE)","v":35},{"$f":"T52-HLOOKUP(X52,Feuil1!$C$1:$BL$10,4,FALSE)","v":25},{"$f":"T52-HLOOKUP(X52,Feuil1!$C$1:$BL$10,5,FALSE)","v":15},{"$f":"T52-HLOOKUP(X52,Feuil1!$C$1:$BL$10,6,FALSE)","v":5},{"$f":"T52-HLOOKUP(X52,Feuil1!$C$1:$BL$10,7,FALSE)","v":-10},{"$f":"T52-HLOOKUP(X52,Feuil1!$C$1:$BL$10,8,FALSE)","v":-25},{"$f":"T52-HLOOKUP(X52,Feuil1!$C$1:$BL$10,9,FALSE)","v":-45},{"$f":"T52-HLOOKUP(X52,Feuil1!$C$1:$BL$10,10,FALSE)","v":-895},null,null,null,null,null,null,"FED +"]
["F","NE","BOU",15,154500,"LAMBERT","Cécile",1995,54.66,"saint honoré les bains","F",45,-47,-48,45,54,56,58,58,103,-6.3199999999999932,"FED +",3,{"$f":"IF(I53=\"\",\"\",IF(A53=\"H\",IF(OR(H53=\"SEN\",H53<1995),VLOOKUP(I53,Feuil1!$A$11:$F$29,6),IF(AND(H53>1994,H53<1998),VLOOKUP(I53,Feuil1!$A$11:$F$29,5),IF(AND(H53>1997,H53<2000),VLOOKUP(I53,Feuil1!$A$11:$F$29,4),IF(AND(H53>1999,H53<2002),VLOOKUP(I53,Feuil1!$A$11:$F$29,3),VLOOKUP(I53,Feuil1!$A$11:$F$29,2))))),IF(OR(H53=\"SEN\",H53<1995),VLOOKUP(I53,Feuil1!$G$11:$L$25,6),IF(AND(H53>1994,H53<1998),VLOOKUP(I53,Feuil1!$G$11:$L$25,5),IF(AND(H53>1997,H53<2000),VLOOKUP(I53,Feuil1!$G$11:$L$25,4),IF(AND(H53>1999,H53<2002),VLOOKUP(I53,Feuil1!$G$11:$L$25,3),VLOOKUP(I53,Feuil1!$G$11:$L$25,2)))))))","v":"FJ58"},151.63734137854146,null," ",{"$f":"T53-HLOOKUP(X53,Feuil1!$C$1:$BL$10,2,FALSE)","v":43},{"$f":"T53-HLOOKUP(X53,Feuil1!$C$1:$BL$10,3,FALSE)","v":33},{"$f":"T53-HLOOKUP(X53,Feuil1!$C$1:$BL$10,4,FALSE)","v":23},{"$f":"T53-HLOOKUP(X53,Feuil1!$C$1:$BL$10,5,FALSE)","v":13},{"$f":"T53-HLOOKUP(X53,Feuil1!$C$1:$BL$10,6,FALSE)","v":3},{"$f":"T53-HLOOKUP(X53,Feuil1!$C$1:$BL$10,7,FALSE)","v":-12},{"$f":"T53-HLOOKUP(X53,Feuil1!$C$1:$BL$10,8,FALSE)","v":-27},{"$f":"T53-HLOOKUP(X53,Feuil1!$C$1:$BL$10,9,FALSE)","v":-47},{"$f":"T53-HLOOKUP(X53,Feuil1!$C$1:$BL$10,10,FALSE)","v":-897},null,null,null,null,null,null,"FED +"]
["F","NORD","NPC",16,345628,"HENIN","Manon",1995,55.97,"CAHC BERCK/MER","F",42,45,-47,45,55,57,-60,57,102,-9.9399999999999977,"FED +",2,{"$f":"IF(I54=\"\",\"\",IF(A54=\"H\",IF(OR(H54=\"SEN\",H54<1995),VLOOKUP(I54,Feuil1!$A$11:$F$29,6),IF(AND(H54>1994,H54<1998),VLOOKUP(I54,Feuil1!$A$11:$F$29,5),IF(AND(H54>1997,H54<2000),VLOOKUP(I54,Feuil1!$A$11:$F$29,4),IF(AND(H54>1999,H54<2002),VLOOKUP(I54,Feuil1!$A$11:$F$29,3),VLOOKUP(I54,Feuil1!$A$11:$F$29,2))))),IF(OR(H54=\"SEN\",H54<1995),VLOOKUP(I54,Feuil1!$G$11:$L$25,6),IF(AND(H54>1994,H54<1998),VLOOKUP(I54,Feuil1!$G$11:$L$25,5),IF(AND(H54>1997,H54<2000),VLOOKUP(I54,Feuil1!$G$11:$L$25,4),IF(AND(H54>1999,H54<2002),VLOOKUP(I54,Feuil1!$G$11:$L$25,3),VLOOKUP(I54,Feuil1!$G$11:$L$25,2)))))))","v":"FJ58"},147.46124506787385,null," ",{"$f":"T54-HLOOKUP(X54,Feuil1!$C$1:$BL$10,2,FALSE)","v":42},{"$f":"T54-HLOOKUP(X54,Feuil1!$C$1:$BL$10,3,FALSE)","v":32},{"$f":"T54-HLOOKUP(X54,Feuil1!$C$1:$BL$10,4,FALSE)","v":22},{"$f":"T54-HLOOKUP(X54,Feuil1!$C$1:$BL$10,5,FALSE)","v":12},{"$f":"T54-HLOOKUP(X54,Feuil1!$C$1:$BL$10,6,FALSE)","v":2},{"$f":"T54-HLOOKUP(X54,Feuil1!$C$1:$BL$10,7,FALSE)","v":-13},{"$f":"T54-HLOOKUP(X54,Feuil1!$C$1:$BL$10,8,FALSE)","v":-28},{"$f":"T54-HLOOKUP(X54,Feuil1!$C$1:$BL$10,9,FALSE)","v":-48},{"$f":"T54-HLOOKUP(X54,Feuil1!$C$1:$BL$10,10,FALSE)","v":-898},null,null,null,null,null,null,"FED +"]
["F","CO","CEN",17,381459,"LAMBERT","Emeline",1995,57.5,"CM Orléans","F",40,43,-45,43,53,-56,56,56,99,-16,"IRG +",9,{"$f":"IF(I55=\"\",\"\",IF(A55=\"H\",IF(OR(H55=\"SEN\",H55<1995),VLOOKUP(I55,Feuil1!$A$11:$F$29,6),IF(AND(H55>1994,H55<1998),VLOOKUP(I55,Feuil1!$A$11:$F$29,5),IF(AND(H55>1997,H55<2000),VLOOKUP(I55,Feuil1!$A$11:$F$29,4),IF(AND(H55>1999,H55<2002),VLOOKUP(I55,Feuil1!$A$11:$F$29,3),VLOOKUP(I55,Feuil1!$A$11:$F$29,2))))),IF(OR(H55=\"SEN\",H55<1995),VLOOKUP(I55,Feuil1!$G$11:$L$25,6),IF(AND(H55>1994,H55<1998),VLOOKUP(I55,Feuil1!$G$11:$L$25,5),IF(AND(H55>1997,H55<2000),VLOOKUP(I55,Feuil1!$G$11:$L$25,4),IF(AND(H55>1999,H55<2002),VLOOKUP(I55,Feuil1!$G$11:$L$25,3),VLOOKUP(I55,Feuil1!$G$11:$L$25,2)))))))","v":"FJ58"},140.26786929162401,null," ",{"$f":"T55-HLOOKUP(X55,Feuil1!$C$1:$BL$10,2,FALSE)","v":39},{"$f":"T55-HLOOKUP(X55,Feuil1!$C$1:$BL$10,3,FALSE)","v":29},{"$f":"T55-HLOOKUP(X55,Feuil1!$C$1:$BL$10,4,FALSE)","v":19},{"$f":"T55-HLOOKUP(X55,Feuil1!$C$1:$BL$10,5,FALSE)","v":9},{"$f":"T55-HLOOKUP(X55,Feuil1!$C$1:$BL$10,6,FALSE)","v":-1},{"$f":"T55-HLOOKUP(X55,Feuil1!$C$1:$BL$10,7,FALSE)","v":-16},{"$f":"T55-HLOOKUP(X55,Feuil1!$C$1:$BL$10,8,FALSE)","v":-31},{"$f":"T55-HLOOKUP(X55,Feuil1!$C$1:$BL$10,9,FALSE)","v":-51},{"$f":"T55-HLOOKUP(X55,Feuil1!$C$1:$BL$10,10,FALSE)","v":-901},null,null,null,null,null,null,"IRG +"]
["F","NORD","NPC",18,192187,"BAERT","Blandine",1995,54.25,"CHCD COMINES","F",40,43,-45,43,50,54,-57,54,97,-11.5,"IRG +",7,{"$f":"IF(I56=\"\",\"\",IF(A56=\"H\",IF(OR(H56=\"SEN\",H56<1995),VLOOKUP(I56,Feuil1!$A$11:$F$29,6),IF(AND(H56>1994,H56<1998),VLOOKUP(I56,Feuil1!$A$11:$F$29,5),IF(AND(H56>1997,H56<2000),VLOOKUP(I56,Feuil1!$A$11:$F$29,4),IF(AND(H56>1999,H56<2002),VLOOKUP(I56,Feuil1!$A$11:$F$29,3),VLOOKUP(I56,Feuil1!$A$11:$F$29,2))))),IF(OR(H56=\"SEN\",H56<1995),VLOOKUP(I56,Feuil1!$G$11:$L$25,6),IF(AND(H56>1994,H56<1998),VLOOKUP(I56,Feuil1!$G$11:$L$25,5),IF(AND(H56>1997,H56<2000),VLOOKUP(I56,Feuil1!$G$11:$L$25,4),IF(AND(H56>1999,H56<2002),VLOOKUP(I56,Feuil1!$G$11:$L$25,3),VLOOKUP(I56,Feuil1!$G$11:$L$25,2)))))))","v":"FJ58"},143.64453578152725,null," ",{"$f":"T56-HLOOKUP(X56,Feuil1!$C$1:$BL$10,2,FALSE)","v":37},{"$f":"T56-HLOOKUP(X56,Feuil1!$C$1:$BL$10,3,FALSE)","v":27},{"$f":"T56-HLOOKUP(X56,Feuil1!$C$1:$BL$10,4,FALSE)","v":17},{"$f":"T56-HLOOKUP(X56,Feuil1!$C$1:$BL$10,5,FALSE)","v":7},{"$f":"T56-HLOOKUP(X56,Feuil1!$C$1:$BL$10,6,FALSE)","v":-3},{"$f":"T56-HLOOKUP(X56,Feuil1!$C$1:$BL$10,7,FALSE)","v":-18},{"$f":"T56-HLOOKUP(X56,Feuil1!$C$1:$BL$10,8,FALSE)","v":-33},{"$f":"T56-HLOOKUP(X56,Feuil1!$C$1:$BL$10,9,FALSE)","v":-53},{"$f":"T56-HLOOKUP(X56,Feuil1!$C$1:$BL$10,10,FALSE)","v":-903},null,null,null,null,null,null,"IRG +"]
["F","SEST","RAL",19,385864,"BERRUYER","Amélie",1997,54.3,"SAINT MARCELLIN","F",-39,39,41,41,48,51,55,55,96,-12.599999999999994,"IRG +",6,{"$f":"IF(I57=\"\",\"\",IF(A57=\"H\",IF(OR(H57=\"SEN\",H57<1995),VLOOKUP(I57,Feuil1!$A$11:$F$29,6),IF(AND(H57>1994,H57<1998),VLOOKUP(I57,Feuil1!$A$11:$F$29,5),IF(AND(H57>1997,H57<2000),VLOOKUP(I57,Feuil1!$A$11:$F$29,4),IF(AND(H57>1999,H57<2002),VLOOKUP(I57,Feuil1!$A$11:$F$29,3),VLOOKUP(I57,Feuil1!$A$11:$F$29,2))))),IF(OR(H57=\"SEN\",H57<1995),VLOOKUP(I57,Feuil1!$G$11:$L$25,6),IF(AND(H57>1994,H57<1998),VLOOKUP(I57,Feuil1!$G$11:$L$25,5),IF(AND(H57>1997,H57<2000),VLOOKUP(I57,Feuil1!$G$11:$L$25,4),IF(AND(H57>1999,H57<2002),VLOOKUP(I57,Feuil1!$G$11:$L$25,3),VLOOKUP(I57,Feuil1!$G$11:$L$25,2)))))))","v":"FJ58"},142.06129333357072,null," ",{"$f":"T57-HLOOKUP(X57,Feuil1!$C$1:$BL$10,2,FALSE)","v":36},{"$f":"T57-HLOOKUP(X57,Feuil1!$C$1:$BL$10,3,FALSE)","v":26},{"$f":"T57-HLOOKUP(X57,Feuil1!$C$1:$BL$10,4,FALSE)","v":16},{"$f":"T57-HLOOKUP(X57,Feuil1!$C$1:$BL$10,5,FALSE)","v":6},{"$f":"T57-HLOOKUP(X57,Feuil1!$C$1:$BL$10,6,FALSE)","v":-4},{"$f":"T57-HLOOKUP(X57,Feuil1!$C$1:$BL$10,7,FALSE)","v":-19},{"$f":"T57-HLOOKUP(X57,Feuil1!$C$1:$BL$10,8,FALSE)","v":-34},{"$f":"T57-HLOOKUP(X57,Feuil1!$C$1:$BL$10,9,FALSE)","v":-54},{"$f":"T57-HLOOKUP(X57,Feuil1!$C$1:$BL$10,10,FALSE)","v":-904},null,null,null,null,null,null,"IRG +"]
["F","SEST","LAN ",20,279459,"MAUSSIERE","Emeline",1996,54.2,"Clermont Sports","F",35,38,40,40,45,50,53,53,93,-15.400000000000006,"IRG +",3,{"$f":"IF(I58=\"\",\"\",IF(A58=\"H\",IF(OR(H58=\"SEN\",H58<1995),VLOOKUP(I58,Feuil1!$A$11:$F$29,6),IF(AND(H58>1994,H58<1998),VLOOKUP(I58,Feuil1!$A$11:$F$29,5),IF(AND(H58>1997,H58<2000),VLOOKUP(I58,Feuil1!$A$11:$F$29,4),IF(AND(H58>1999,H58<2002),VLOOKUP(I58,Feuil1!$A$11:$F$29,3),VLOOKUP(I58,Feuil1!$A$11:$F$29,2))))),IF(OR(H58=\"SEN\",H58<1995),VLOOKUP(I58,Feuil1!$G$11:$L$25,6),IF(AND(H58>1994,H58<1998),VLOOKUP(I58,Feuil1!$G$11:$L$25,5),IF(AND(H58>1997,H58<2000),VLOOKUP(I58,Feuil1!$G$11:$L$25,4),IF(AND(H58>1999,H58<2002),VLOOKUP(I58,Feuil1!$G$11:$L$25,3),VLOOKUP(I58,Feuil1!$G$11:$L$25,2)))))))","v":"FJ58"},137.82047591343118,null," ",{"$f":"T58-HLOOKUP(X58,Feuil1!$C$1:$BL$10,2,FALSE)","v":33},{"$f":"T58-HLOOKUP(X58,Feuil1!$C$1:$BL$10,3,FALSE)","v":23},{"$f":"T58-HLOOKUP(X58,Feuil1!$C$1:$BL$10,4,FALSE)","v":13},{"$f":"T58-HLOOKUP(X58,Feuil1!$C$1:$BL$10,5,FALSE)","v":3},{"$f":"T58-HLOOKUP(X58,Feuil1!$C$1:$BL$10,6,FALSE)","v":-7},{"$f":"T58-HLOOKUP(X58,Feuil1!$C$1:$BL$10,7,FALSE)","v":-22},{"$f":"T58-HLOOKUP(X58,Feuil1!$C$1:$BL$10,8,FALSE)","v":-37},{"$f":"T58-HLOOKUP(X58,Feuil1!$C$1:$BL$10,9,FALSE)","v":-57},{"$f":"T58-HLOOKUP(X58,Feuil1!$C$1:$BL$10,10,FALSE)","v":-907},null,null,null,null,null,null,"IRG +"]
["F","SEST","RAL",21,142218,"MONTORIER","Clara",1997,57.54,"ST QUENTIN FALLAVIER","F",38,41,43,43,44,47,50,50,93,-22.08,"IRG +",3,{"$f":"IF(I59=\"\",\"\",IF(A59=\"H\",IF(OR(H59=\"SEN\",H59<1995),VLOOKUP(I59,Feuil1!$A$11:$F$29,6),IF(AND(H59>1994,H59<1998),VLOOKUP(I59,Feuil1!$A$11:$F$29,5),IF(AND(H59>1997,H59<2000),VLOOKUP(I59,Feuil1!$A$11:$F$29,4),IF(AND(H59>1999,H59<2002),VLOOKUP(I59,Feuil1!$A$11:$F$29,3),VLOOKUP(I59,Feuil1!$A$11:$F$29,2))))),IF(OR(H59=\"SEN\",H59<1995),VLOOKUP(I59,Feuil1!$G$11:$L$25,6),IF(AND(H59>1994,H59<1998),VLOOKUP(I59,Feuil1!$G$11:$L$25,5),IF(AND(H59>1997,H59<2000),VLOOKUP(I59,Feuil1!$G$11:$L$25,4),IF(AND(H59>1999,H59<2002),VLOOKUP(I59,Feuil1!$G$11:$L$25,3),VLOOKUP(I59,Feuil1!$G$11:$L$25,2)))))))","v":"FJ58"},131.69929964490248,null," ",{"$f":"T59-HLOOKUP(X59,Feuil1!$C$1:$BL$10,2,FALSE)","v":33},{"$f":"T59-HLOOKUP(X59,Feuil1!$C$1:$BL$10,3,FALSE)","v":23},{"$f":"T59-HLOOKUP(X59,Feuil1!$C$1:$BL$10,4,FALSE)","v":13},{"$f":"T59-HLOOKUP(X59,Feuil1!$C$1:$BL$10,5,FALSE)","v":3},{"$f":"T59-HLOOKUP(X59,Feuil1!$C$1:$BL$10,6,FALSE)","v":-7},{"$f":"T59-HLOOKUP(X59,Feuil1!$C$1:$BL$10,7,FALSE)","v":-22},{"$f":"T59-HLOOKUP(X59,Feuil1!$C$1:$BL$10,8,FALSE)","v":-37},{"$f":"T59-HLOOKUP(X59,Feuil1!$C$1:$BL$10,9,FALSE)","v":-57},{"$f":"T59-HLOOKUP(X59,Feuil1!$C$1:$BL$10,10,FALSE)","v":-907},null,null,null,null,null,null,"IRG +"]
["F","NORD","NPC",22,362262,"GILLIERS","Océane",1997,56,"CHCD COMINES","F",32,-35,35,35,50,-55,-55,50,85,-27,"REG +",5,{"$f":"IF(I60=\"\",\"\",IF(A60=\"H\",IF(OR(H60=\"SEN\",H60<1995),VLOOKUP(I60,Feuil1!$A$11:$F$29,6),IF(AND(H60>1994,H60<1998),VLOOKUP(I60,Feuil1!$A$11:$F$29,5),IF(AND(H60>1997,H60<2000),VLOOKUP(I60,Feuil1!$A$11:$F$29,4),IF(AND(H60>1999,H60<2002),VLOOKUP(I60,Feuil1!$A$11:$F$29,3),VLOOKUP(I60,Feuil1!$A$11:$F$29,2))))),IF(OR(H60=\"SEN\",H60<1995),VLOOKUP(I60,Feuil1!$G$11:$L$25,6),IF(AND(H60>1994,H60<1998),VLOOKUP(I60,Feuil1!$G$11:$L$25,5),IF(AND(H60>1997,H60<2000),VLOOKUP(I60,Feuil1!$G$11:$L$25,4),IF(AND(H60>1999,H60<2002),VLOOKUP(I60,Feuil1!$G$11:$L$25,3),VLOOKUP(I60,Feuil1!$G$11:$L$25,2)))))))","v":"FJ58"},122.83448322410949,null," ",{"$f":"T60-HLOOKUP(X60,Feuil1!$C$1:$BL$10,2,FALSE)","v":25},{"$f":"T60-HLOOKUP(X60,Feuil1!$C$1:$BL$10,3,FALSE)","v":15},{"$f":"T60-HLOOKUP(X60,Feuil1!$C$1:$BL$10,4,FALSE)","v":5},{"$f":"T60-HLOOKUP(X60,Feuil1!$C$1:$BL$10,5,FALSE)","v":-5},{"$f":"T60-HLOOKUP(X60,Feuil1!$C$1:$BL$10,6,FALSE)","v":-15},{"$f":"T60-HLOOKUP(X60,Feuil1!$C$1:$BL$10,7,FALSE)","v":-30},{"$f":"T60-HLOOKUP(X60,Feuil1!$C$1:$BL$10,8,FALSE)","v":-45},{"$f":"T60-HLOOKUP(X60,Feuil1!$C$1:$BL$10,9,FALSE)","v":-65},{"$f":"T60-HLOOKUP(X60,Feuil1!$C$1:$BL$10,10,FALSE)","v":-915},null,null,null,null,null,null,"REG +"]
["F","N","IDF",23,363606,"CHARRIERE","LAUREEN",1995,57,"RUEIL","F",33,36,-39,36,49,-51,49,49,85,-29,"REG +",5,{"$f":"IF(I61=\"\",\"\",IF(A61=\"H\",IF(OR(H61=\"SEN\",H61<1995),VLOOKUP(I61,Feuil1!$A$11:$F$29,6),IF(AND(H61>1994,H61<1998),VLOOKUP(I61,Feuil1!$A$11:$F$29,5),IF(AND(H61>1997,H61<2000),VLOOKUP(I61,Feuil1!$A$11:$F$29,4),IF(AND(H61>1999,H61<2002),VLOOKUP(I61,Feuil1!$A$11:$F$29,3),VLOOKUP(I61,Feuil1!$A$11:$F$29,2))))),IF(OR(H61=\"SEN\",H61<1995),VLOOKUP(I61,Feuil1!$G$11:$L$25,6),IF(AND(H61>1994,H61<1998),VLOOKUP(I61,Feuil1!$G$11:$L$25,5),IF(AND(H61>1997,H61<2000),VLOOKUP(I61,Feuil1!$G$11:$L$25,4),IF(AND(H61>1999,H61<2002),VLOOKUP(I61,Feuil1!$G$11:$L$25,3),VLOOKUP(I61,Feuil1!$G$11:$L$25,2)))))))","v":"FJ58"},121.21325323635509,null," ",{"$f":"T61-HLOOKUP(X61,Feuil1!$C$1:$BL$10,2,FALSE)","v":25},{"$f":"T61-HLOOKUP(X61,Feuil1!$C$1:$BL$10,3,FALSE)","v":15},{"$f":"T61-HLOOKUP(X61,Feuil1!$C$1:$BL$10,4,FALSE)","v":5},{"$f":"T61-HLOOKUP(X61,Feuil1!$C$1:$BL$10,5,FALSE)","v":-5},{"$f":"T61-HLOOKUP(X61,Feuil1!$C$1:$BL$10,6,FALSE)","v":-15},{"$f":"T61-HLOOKUP(X61,Feuil1!$C$1:$BL$10,7,FALSE)","v":-30},{"$f":"T61-HLOOKUP(X61,Feuil1!$C$1:$BL$10,8,FALSE)","v":-45},{"$f":"T61-HLOOKUP(X61,Feuil1!$C$1:$BL$10,9,FALSE)","v":-65},{"$f":"T61-HLOOKUP(X61,Feuil1!$C$1:$BL$10,10,FALSE)","v":-915},null,null,null,null,null,null,"REG +"]
["F","SO","MPY",24,383457,"GARET","Clara",1995,55.8,"MONTAUBAN HC","F",-31,-32,34,34,36,41,46,46,80,-31.599999999999994,"REG +",0,{"$f":"IF(I62=\"\",\"\",IF(A62=\"H\",IF(OR(H62=\"SEN\",H62<1995),VLOOKUP(I62,Feuil1!$A$11:$F$29,6),IF(AND(H62>1994,H62<1998),VLOOKUP(I62,Feuil1!$A$11:$F$29,5),IF(AND(H62>1997,H62<2000),VLOOKUP(I62,Feuil1!$A$11:$F$29,4),IF(AND(H62>1999,H62<2002),VLOOKUP(I62,Feuil1!$A$11:$F$29,3),VLOOKUP(I62,Feuil1!$A$11:$F$29,2))))),IF(OR(H62=\"SEN\",H62<1995),VLOOKUP(I62,Feuil1!$G$11:$L$25,6),IF(AND(H62>1994,H62<1998),VLOOKUP(I62,Feuil1!$G$11:$L$25,5),IF(AND(H62>1997,H62<2000),VLOOKUP(I62,Feuil1!$G$11:$L$25,4),IF(AND(H62>1999,H62<2002),VLOOKUP(I62,Feuil1!$G$11:$L$25,3),VLOOKUP(I62,Feuil1!$G$11:$L$25,2)))))))","v":"FJ58"},115.92327559348152,null," ",{"$f":"T62-HLOOKUP(X62,Feuil1!$C$1:$BL$10,2,FALSE)","v":20},{"$f":"T62-HLOOKUP(X62,Feuil1!$C$1:$BL$10,3,FALSE)","v":10},{"$f":"T62-HLOOKUP(X62,Feuil1!$C$1:$BL$10,4,FALSE)","v":0},{"$f":"T62-HLOOKUP(X62,Feuil1!$C$1:$BL$10,5,FALSE)","v":-10},{"$f":"T62-HLOOKUP(X62,Feuil1!$C$1:$BL$10,6,FALSE)","v":-20},{"$f":"T62-HLOOKUP(X62,Feuil1!$C$1:$BL$10,7,FALSE)","v":-35},{"$f":"T62-HLOOKUP(X62,Feuil1!$C$1:$BL$10,8,FALSE)","v":-50},{"$f":"T62-HLOOKUP(X62,Feuil1!$C$1:$BL$10,9,FALSE)","v":-70},{"$f":"T62-HLOOKUP(X62,Feuil1!$C$1:$BL$10,10,FALSE)","v":-920},null,null,null,null,null,null,"REG +"]
["F","NORD","PIC",25,386134,"MERLIER","Marie",1997,55.1,"Péronne AAEEP","F",30,33,-35,33,43,46,-50,46,79,-31.200000000000003,"DEP +",9,{"$f":"IF(I63=\"\",\"\",IF(A63=\"H\",IF(OR(H63=\"SEN\",H63<1995),VLOOKUP(I63,Feuil1!$A$11:$F$29,6),IF(AND(H63>1994,H63<1998),VLOOKUP(I63,Feuil1!$A$11:$F$29,5),IF(AND(H63>1997,H63<2000),VLOOKUP(I63,Feuil1!$A$11:$F$29,4),IF(AND(H63>1999,H63<2002),VLOOKUP(I63,Feuil1!$A$11:$F$29,3),VLOOKUP(I63,Feuil1!$A$11:$F$29,2))))),IF(OR(H63=\"SEN\",H63<1995),VLOOKUP(I63,Feuil1!$G$11:$L$25,6),IF(AND(H63>1994,H63<1998),VLOOKUP(I63,Feuil1!$G$11:$L$25,5),IF(AND(H63>1997,H63<2000),VLOOKUP(I63,Feuil1!$G$11:$L$25,4),IF(AND(H63>1999,H63<2002),VLOOKUP(I63,Feuil1!$G$11:$L$25,3),VLOOKUP(I63,Feuil1!$G$11:$L$25,2)))))))","v":"FJ58"},115.58550904907412,null," ",{"$f":"T63-HLOOKUP(X63,Feuil1!$C$1:$BL$10,2,FALSE)","v":19},{"$f":"T63-HLOOKUP(X63,Feuil1!$C$1:$BL$10,3,FALSE)","v":9},{"$f":"T63-HLOOKUP(X63,Feuil1!$C$1:$BL$10,4,FALSE)","v":-1},{"$f":"T63-HLOOKUP(X63,Feuil1!$C$1:$BL$10,5,FALSE)","v":-11},{"$f":"T63-HLOOKUP(X63,Feuil1!$C$1:$BL$10,6,FALSE)","v":-21},{"$f":"T63-HLOOKUP(X63,Feuil1!$C$1:$BL$10,7,FALSE)","v":-36},{"$f":"T63-HLOOKUP(X63,Feuil1!$C$1:$BL$10,8,FALSE)","v":-51},{"$f":"T63-HLOOKUP(X63,Feuil1!$C$1:$BL$10,9,FALSE)","v":-71},{"$f":"T63-HLOOKUP(X63,Feuil1!$C$1:$BL$10,10,FALSE)","v":-921},null,null,null,null,null,null,"DEP +"]
["F","DOM","REU",26,391831,"ROGER","LUCIE",1996,53.74,"CH TAMPON","F",25,28,30,30,30,35,40,40,70,-37.480000000000004,"DEP +",0,{"$f":"IF(I64=\"\",\"\",IF(A64=\"H\",IF(OR(H64=\"SEN\",H64<1995),VLOOKUP(I64,Feuil1!$A$11:$F$29,6),IF(AND(H64>1994,H64<1998),VLOOKUP(I64,Feuil1!$A$11:$F$29,5),IF(AND(H64>1997,H64<2000),VLOOKUP(I64,Feuil1!$A$11:$F$29,4),IF(AND(H64>1999,H64<2002),VLOOKUP(I64,Feuil1!$A$11:$F$29,3),VLOOKUP(I64,Feuil1!$A$11:$F$29,2))))),IF(OR(H64=\"SEN\",H64<1995),VLOOKUP(I64,Feuil1!$G$11:$L$25,6),IF(AND(H64>1994,H64<1998),VLOOKUP(I64,Feuil1!$G$11:$L$25,5),IF(AND(H64>1997,H64<2000),VLOOKUP(I64,Feuil1!$G$11:$L$25,4),IF(AND(H64>1999,H64<2002),VLOOKUP(I64,Feuil1!$G$11:$L$25,3),VLOOKUP(I64,Feuil1!$G$11:$L$25,2)))))))","v":"FJ58"},104.43343766161037,null," ",{"$f":"T64-HLOOKUP(X64,Feuil1!$C$1:$BL$10,2,FALSE)","v":10},{"$f":"T64-HLOOKUP(X64,Feuil1!$C$1:$BL$10,3,FALSE)","v":0},{"$f":"T64-HLOOKUP(X64,Feuil1!$C$1:$BL$10,4,FALSE)","v":-10},{"$f":"T64-HLOOKUP(X64,Feuil1!$C$1:$BL$10,5,FALSE)","v":-20},{"$f":"T64-HLOOKUP(X64,Feuil1!$C$1:$BL$10,6,FALSE)","v":-30},{"$f":"T64-HLOOKUP(X64,Feuil1!$C$1:$BL$10,7,FALSE)","v":-45},{"$f":"T64-HLOOKUP(X64,Feuil1!$C$1:$BL$10,8,FALSE)","v":-60},{"$f":"T64-HLOOKUP(X64,Feuil1!$C$1:$BL$10,9,FALSE)","v":-80},{"$f":"T64-HLOOKUP(X64,Feuil1!$C$1:$BL$10,10,FALSE)","v":-930},null,null,null,null,null,null,"DEP +"]
["F","N","IDF",27,390557,"GRAVIL","LOU",1995,56.7,"SAINT-MAUR","F",25,30,-33,30,35,40,40,40,70,-43.400000000000006,"DEP +",0,{"$f":"IF(I65=\"\",\"\",IF(A65=\"H\",IF(OR(H65=\"SEN\",H65<1995),VLOOKUP(I65,Feuil1!$A$11:$F$29,6),IF(AND(H65>1994,H65<1998),VLOOKUP(I65,Feuil1!$A$11:$F$29,5),IF(AND(H65>1997,H65<2000),VLOOKUP(I65,Feuil1!$A$11:$F$29,4),IF(AND(H65>1999,H65<2002),VLOOKUP(I65,Feuil1!$A$11:$F$29,3),VLOOKUP(I65,Feuil1!$A$11:$F$29,2))))),IF(OR(H65=\"SEN\",H65<1995),VLOOKUP(I65,Feuil1!$G$11:$L$25,6),IF(AND(H65>1994,H65<1998),VLOOKUP(I65,Feuil1!$G$11:$L$25,5),IF(AND(H65>1997,H65<2000),VLOOKUP(I65,Feuil1!$G$11:$L$25,4),IF(AND(H65>1999,H65<2002),VLOOKUP(I65,Feuil1!$G$11:$L$25,3),VLOOKUP(I65,Feuil1!$G$11:$L$25,2)))))))","v":"FJ58"},100.21632852502846,null," ",{"$f":"T65-HLOOKUP(X65,Feuil1!$C$1:$BL$10,2,FALSE)","v":10},{"$f":"T65-HLOOKUP(X65,Feuil1!$C$1:$BL$10,3,FALSE)","v":0},{"$f":"T65-HLOOKUP(X65,Feuil1!$C$1:$BL$10,4,FALSE)","v":-10},{"$f":"T65-HLOOKUP(X65,Feuil1!$C$1:$BL$10,5,FALSE)","v":-20},{"$f":"T65-HLOOKUP(X65,Feuil1!$C$1:$BL$10,6,FALSE)","v":-30},{"$f":"T65-HLOOKUP(X65,Feuil1!$C$1:$BL$10,7,FALSE)","v":-45},{"$f":"T65-HLOOKUP(X65,Feuil1!$C$1:$BL$10,8,FALSE)","v":-60},{"$f":"T65-HLOOKUP(X65,Feuil1!$C$1:$BL$10,9,FALSE)","v":-80},{"$f":"T65-HLOOKUP(X65,Feuil1!$C$1:$BL$10,10,FALSE)","v":-930},null,null,null,null,null,null,"DEP +"]
["F","SO","MPY",28,376758,"CHABREFY","Manon",1996,56,"TARBES CUTPH","F",25,-30,32,32,30,-35,35,35,67,-45,"DEB ",7,{"$f":"IF(I66=\"\",\"\",IF(A66=\"H\",IF(OR(H66=\"SEN\",H66<1995),VLOOKUP(I66,Feuil1!$A$11:$F$29,6),IF(AND(H66>1994,H66<1998),VLOOKUP(I66,Feuil1!$A$11:$F$29,5),IF(AND(H66>1997,H66<2000),VLOOKUP(I66,Feuil1!$A$11:$F$29,4),IF(AND(H66>1999,H66<2002),VLOOKUP(I66,Feuil1!$A$11:$F$29,3),VLOOKUP(I66,Feuil1!$A$11:$F$29,2))))),IF(OR(H66=\"SEN\",H66<1995),VLOOKUP(I66,Feuil1!$G$11:$L$25,6),IF(AND(H66>1994,H66<1998),VLOOKUP(I66,Feuil1!$G$11:$L$25,5),IF(AND(H66>1997,H66<2000),VLOOKUP(I66,Feuil1!$G$11:$L$25,4),IF(AND(H66>1999,H66<2002),VLOOKUP(I66,Feuil1!$G$11:$L$25,3),VLOOKUP(I66,Feuil1!$G$11:$L$25,2)))))))","v":"FJ58"},96.82247501194513,null," ",{"$f":"T66-HLOOKUP(X66,Feuil1!$C$1:$BL$10,2,FALSE)","v":7},{"$f":"T66-HLOOKUP(X66,Feuil1!$C$1:$BL$10,3,FALSE)","v":-3},{"$f":"T66-HLOOKUP(X66,Feuil1!$C$1:$BL$10,4,FALSE)","v":-13},{"$f":"T66-HLOOKUP(X66,Feuil1!$C$1:$BL$10,5,FALSE)","v":-23},{"$f":"T66-HLOOKUP(X66,Feuil1!$C$1:$BL$10,6,FALSE)","v":-33},{"$f":"T66-HLOOKUP(X66,Feuil1!$C$1:$BL$10,7,FALSE)","v":-48},{"$f":"T66-HLOOKUP(X66,Feuil1!$C$1:$BL$10,8,FALSE)","v":-63},{"$f":"T66-HLOOKUP(X66,Feuil1!$C$1:$BL$10,9,FALSE)","v":-83},{"$f":"T66-HLOOKUP(X66,Feuil1!$C$1:$BL$10,10,FALSE)","v":-933},null,null,null,null,null,null,"DEB "]
["F","NE","FCO",29,392420,"DURIN","Zoé",1995,55.5,"CH Luxeuil","F",25,27,29,29,30,-33,33,33,62,-49,"DEB ",2,{"$f":"IF(I67=\"\",\"\",IF(A67=\"H\",IF(OR(H67=\"SEN\",H67<1995),VLOOKUP(I67,Feuil1!$A$11:$F$29,6),IF(AND(H67>1994,H67<1998),VLOOKUP(I67,Feuil1!$A$11:$F$29,5),IF(AND(H67>1997,H67<2000),VLOOKUP(I67,Feuil1!$A$11:$F$29,4),IF(AND(H67>1999,H67<2002),VLOOKUP(I67,Feuil1!$A$11:$F$29,3),VLOOKUP(I67,Feuil1!$A$11:$F$29,2))))),IF(OR(H67=\"SEN\",H67<1995),VLOOKUP(I67,Feuil1!$G$11:$L$25,6),IF(AND(H67>1994,H67<1998),VLOOKUP(I67,Feuil1!$G$11:$L$25,5),IF(AND(H67>1997,H67<2000),VLOOKUP(I67,Feuil1!$G$11:$L$25,4),IF(AND(H67>1999,H67<2002),VLOOKUP(I67,Feuil1!$G$11:$L$25,3),VLOOKUP(I67,Feuil1!$G$11:$L$25,2)))))))","v":"FJ58"},90.210563999849271,null," ",{"$f":"T67-HLOOKUP(X67,Feuil1!$C$1:$BL$10,2,FALSE)","v":2},{"$f":"T67-HLOOKUP(X67,Feuil1!$C$1:$BL$10,3,FALSE)","v":-8},{"$f":"T67-HLOOKUP(X67,Feuil1!$C$1:$BL$10,4,FALSE)","v":-18},{"$f":"T67-HLOOKUP(X67,Feuil1!$C$1:$BL$10,5,FALSE)","v":-28},{"$f":"T67-HLOOKUP(X67,Feuil1!$C$1:$BL$10,6,FALSE)","v":-38},{"$f":"T67-HLOOKUP(X67,Feuil1!$C$1:$BL$10,7,FALSE)","v":-53},{"$f":"T67-HLOOKUP(X67,Feuil1!$C$1:$BL$10,8,FALSE)","v":-68},{"$f":"T67-HLOOKUP(X67,Feuil1!$C$1:$BL$10,9,FALSE)","v":-88},{"$f":"T67-HLOOKUP(X67,Feuil1!$C$1:$BL$10,10,FALSE)","v":-938},null,null,null,null,null,null,"DEB "]
["F","CO","BRE",30,380873,"GERNIER","Gaelle",1996,54.7,"ES Saint Avé","F",23,-25,27,27,28,-33,-33,28,55,-54.400000000000006,"DEB ",-5,{"$f":"IF(I68=\"\",\"\",IF(A68=\"H\",IF(OR(H68=\"SEN\",H68<1995),VLOOKUP(I68,Feuil1!$A$11:$F$29,6),IF(AND(H68>1994,H68<1998),VLOOKUP(I68,Feuil1!$A$11:$F$29,5),IF(AND(H68>1997,H68<2000),VLOOKUP(I68,Feuil1!$A$11:$F$29,4),IF(AND(H68>1999,H68<2002),VLOOKUP(I68,Feuil1!$A$11:$F$29,3),VLOOKUP(I68,Feuil1!$A$11:$F$29,2))))),IF(OR(H68=\"SEN\",H68<1995),VLOOKUP(I68,Feuil1!$G$11:$L$25,6),IF(AND(H68>1994,H68<1998),VLOOKUP(I68,Feuil1!$G$11:$L$25,5),IF(AND(H68>1997,H68<2000),VLOOKUP(I68,Feuil1!$G$11:$L$25,4),IF(AND(H68>1999,H68<2002),VLOOKUP(I68,Feuil1!$G$11:$L$25,3),VLOOKUP(I68,Feuil1!$G$11:$L$25,2)))))))","v":"FJ58"},80.925435440938472,null," ",{"$f":"T68-HLOOKUP(X68,Feuil1!$C$1:$BL$10,2,FALSE)","v":-5},{"$f":"T68-HLOOKUP(X68,Feuil1!$C$1:$BL$10,3,FALSE)","v":-15},{"$f":"T68-HLOOKUP(X68,Feuil1!$C$1:$BL$10,4,FALSE)","v":-25},{"$f":"T68-HLOOKUP(X68,Feuil1!$C$1:$BL$10,5,FALSE)","v":-35},{"$f":"T68-HLOOKUP(X68,Feuil1!$C$1:$BL$10,6,FALSE)","v":-45},{"$f":"T68-HLOOKUP(X68,Feuil1!$C$1:$BL$10,7,FALSE)","v":-60},{"$f":"T68-HLOOKUP(X68,Feuil1!$C$1:$BL$10,8,FALSE)","v":-75},{"$f":"T68-HLOOKUP(X68,Feuil1!$C$1:$BL$10,9,FALSE)","v":-95},{"$f":"T68-HLOOKUP(X68,Feuil1!$C$1:$BL$10,10,FALSE)","v":-945},null,null,null,null,null,null,"DEB "]
["F","SEST","RAL",31,379663,"BLAIN","Laurine",1997,56.2,"VALENCE","F",17,20,-22,20,20,23,27,27,47,-65.400000000000006,"DEB ",-13,{"$f":"IF(I69=\"\",\"\",IF(A69=\"H\",IF(OR(H69=\"SEN\",H69<1995),VLOOKUP(I69,Feuil1!$A$11:$F$29,6),IF(AND(H69>1994,H69<1998),VLOOKUP(I69,Feuil1!$A$11:$F$29,5),IF(AND(H69>1997,H69<2000),VLOOKUP(I69,Feuil1!$A$11:$F$29,4),IF(AND(H69>1999,H69<2002),VLOOKUP(I69,Feuil1!$A$11:$F$29,3),VLOOKUP(I69,Feuil1!$A$11:$F$29,2))))),IF(OR(H69=\"SEN\",H69<1995),VLOOKUP(I69,Feuil1!$G$11:$L$25,6),IF(AND(H69>1994,H69<1998),VLOOKUP(I69,Feuil1!$G$11:$L$25,5),IF(AND(H69>1997,H69<2000),VLOOKUP(I69,Feuil1!$G$11:$L$25,4),IF(AND(H69>1999,H69<2002),VLOOKUP(I69,Feuil1!$G$11:$L$25,3),VLOOKUP(I69,Feuil1!$G$11:$L$25,2)))))))","v":"FJ58"},67.737391602927417,null," ",{"$f":"T69-HLOOKUP(X69,Feuil1!$C$1:$BL$10,2,FALSE)","v":-13},{"$f":"T69-HLOOKUP(X69,Feuil1!$C$1:$BL$10,3,FALSE)","v":-23},{"$f":"T69-HLOOKUP(X69,Feuil1!$C$1:$BL$10,4,FALSE)","v":-33},{"$f":"T69-HLOOKUP(X69,Feuil1!$C$1:$BL$10,5,FALSE)","v":-43},{"$f":"T69-HLOOKUP(X69,Feuil1!$C$1:$BL$10,6,FALSE)","v":-53},{"$f":"T69-HLOOKUP(X69,Feuil1!$C$1:$BL$10,7,FALSE)","v":-68},{"$f":"T69-HLOOKUP(X69,Feuil1!$C$1:$BL$10,8,FALSE)","v":-83},{"$f":"T69-HLOOKUP(X69,Feuil1!$C$1:$BL$10,9,FALSE)","v":-103},{"$f":"T69-HLOOKUP(X69,Feuil1!$C$1:$BL$10,10,FALSE)","v":-953},null,null,null,null,null,null,"DEB "]
[null,null,null,null,null,null,null,null,null,null,null,null,null,null,null,null,null,null,null,null,null,null,null,null,null,null," ",{"$f":"T70-HLOOKUP(X70,[1]Feuil1!$C$1:$BL$10,2,FALSE)","v":{"$error":"#N/A"}},{"$f":"T70-HLOOKUP(X70,[1]Feuil1!$C$1:$BL$10,3,FALSE)","v":{"$error":"#N/A"}},{"$f":"T70-HLOOKUP(X70,[1]Feuil1!$C$1:$BL$10,4,FALSE)","v":{"$error":"#N/A"}},{"$f":"T70-HLOOKUP(X70,[1]Feuil1!$C$1:$BL$10,5,FALSE)","v":{"$error":"#N/A"}},{"$f":"T70-HLOOKUP(X70,[1]Feuil1!$C$1:$BL$10,6,FALSE)","v":{"$error":"#N/A"}},{"$f":"T70-HLOOKUP(X70,[1]Feuil1!$C$1:$BL$10,7,FALSE)","v":{"$error":"#N/A"}},{"$f":"T70-HLOOKUP(X70,[1]Feuil1!$C$1:$BL$10,8,FALSE)","v":{"$error":"#N/A"}},{"$f":"T70-HLOOKUP(X70,[1]Feuil1!$C$1:$BL$10,9,FALSE)","v":{"$error":"#N/A"}},{"$f":"T70-HLOOKUP(X70,[1]Feuil1!$C$1:$BL$10,10,FALSE)","v":{"$error":"#N/A"}},null,null,null,null,null,null,{"$f":"IF(AJ70>=0,$AJ$4,IF(AI70>=0,$AI$4,IF(AH70>=0,$AH$4,IF(AG70>=0,$AG$4,IF(AF70>=0,$AF$4,IF(AE70>=0,$AE$4,IF(AD70>=0,$AD$4,IF(AC70>=0,$AC$4,$AB$4))))))))","v":{"$error":"#N/A"}}]
["F","N","IDF",1,153936,"TCHAKOUNTE","DORA",1995,58.3,"BLANC-MESNIL","F",75,80,85,{"$f":"IF(H71=\"\",\"\",IF(MAXA(L71:N71)<=0,0,MAXA(L71:N71)))","v":85},100,103,103,{"$f":"IF(H71=\"\",\"\",IF(MAXA(P71:R71)<=0,0,MAXA(P71:R71)))","v":103},{"$f":"IF(H71=\"\",\"\",IF(OR(O71=0,S71=0),0,O71+S71))","v":188},{"$f":"T71-I71*2","v":71.400000000000006},{"$f":"IF(H71=\"\",\"\",AQ71)","v":"INTA +"},{"$f":"IF(AJ71>=0,AJ71,IF(AI71>=0,AI71,IF(AH71>=0,AH71,IF(AG71>=0,AG71,IF(AF71>=0,AF71,IF(AE71>=0,AE71,IF(AD71>=0,AD71,IF(AC71>=0,AC71,AB71))))))))","v":28},{"$f":"IF(I71=\"\",\"\",IF(A71=\"H\",IF(OR(H71=\"SEN\",H71<1995),VLOOKUP(I71,Feuil1!$A$11:$F$29,6),IF(AND(H71>1994,H71<1998),VLOOKUP(I71,Feuil1!$A$11:$F$29,5),IF(AND(H71>1997,H71<2000),VLOOKUP(I71,Feuil1!$A$11:$F$29,4),IF(AND(H71>1999,H71<2002),VLOOKUP(I71,Feuil1!$A$11:$F$29,3),VLOOKUP(I71,Feuil1!$A$11:$F$29,2))))),IF(OR(H71=\"SEN\",H71<1995),VLOOKUP(I71,Feuil1!$G$11:$L$25,6),IF(AND(H71>1994,H71<1998),VLOOKUP(I71,Feuil1!$G$11:$L$25,5),IF(AND(H71>1997,H71<2000),VLOOKUP(I71,Feuil1!$G$11:$L$25,4),IF(AND(H71>1999,H71<2002),VLOOKUP(I71,Feuil1!$G$11:$L$25,3),VLOOKUP(I71,Feuil1!$G$11:$L$25,2)))))))","v":"FJ63"},{"$f":"IF(I71=\"\",\"\",IF(A71=\"H\",10^(0.794358141*LOG(I71/174.393)^2)*T71,IF(A71=\"F\",10^(0.89726074*LOG(I71/148.026)^2)*T71,\"\")))","v":263.68832521954164},null," ",{"$f":"T71-HLOOKUP(X71,Feuil1!$C$1:$BL$10,2,FALSE)","v":123},{"$f":"T71-HLOOKUP(X71,Feuil1!$C$1:$BL$10,3,FALSE)","v":113},{"$f":"T71-HLOOKUP(X71,Feuil1!$C$1:$BL$10,4,FALSE)","v":103},{"$f":"T71-HLOOKUP(X71,Feuil1!$C$1:$BL$10,5,FALSE)","v":93},{"$f":"T71-HLOOKUP(X71,Feuil1!$C$1:$BL$10,6,FALSE)","v":78},{"$f":"T71-HLOOKUP(X71,Feuil1!$C$1:$BL$10,7,FALSE)","v":63},{"$f":"T71-HLOOKUP(X71,Feuil1!$C$1:$BL$10,8,FALSE)","v":48},{"$f":"T71-HLOOKUP(X71,Feuil1!$C$1:$BL$10,9,FALSE)","v":28},{"$f":"T71-HLOOKUP(X71,Feuil1!$C$1:$BL$10,10,FALSE)","v":-812},null,null,null,null,null,null,{"$f":"IF(AJ71>=0,$AJ$4,IF(AI71>=0,$AI$4,IF(AH71>=0,$AH$4,IF(AG71>=0,$AG$4,IF(AF71>=0,$AF$4,IF(AE71>=0,$AE$4,IF(AD71>=0,$AD$4,IF(AC71>=0,$AC$4,$AB$4))))))))","v":"INTA +"}]
["F","NE","CHA",2,274946,"GROSJEAN","Loriane",1997,62.5,"Langres HM","F",58,60,62,62,73,77,80,80,142,17,"INTB +",2,{"$f":"IF(I72=\"\",\"\",IF(A72=\"H\",IF(OR(H72=\"SEN\",H72<1995),VLOOKUP(I72,Feuil1!$A$11:$F$29,6),IF(AND(H72>1994,H72<1998),VLOOKUP(I72,Feuil1!$A$11:$F$29,5),IF(AND(H72>1997,H72<2000),VLOOKUP(I72,Feuil1!$A$11:$F$29,4),IF(AND(H72>1999,H72<2002),VLOOKUP(I72,Feuil1!$A$11:$F$29,3),VLOOKUP(I72,Feuil1!$A$11:$F$29,2))))),IF(OR(H72=\"SEN\",H72<1995),VLOOKUP(I72,Feuil1!$G$11:$L$25,6),IF(AND(H72>1994,H72<1998),VLOOKUP(I72,Feuil1!$G$11:$L$25,5),IF(AND(H72>1997,H72<2000),VLOOKUP(I72,Feuil1!$G$11:$L$25,4),IF(AND(H72>1999,H72<2002),VLOOKUP(I72,Feuil1!$G$11:$L$25,3),VLOOKUP(I72,Feuil1!$G$11:$L$25,2)))))))","v":"FJ63"},189.7147744578765,null," ",{"$f":"T72-HLOOKUP(X72,Feuil1!$C$1:$BL$10,2,FALSE)","v":77},{"$f":"T72-HLOOKUP(X72,Feuil1!$C$1:$BL$10,3,FALSE)","v":67},{"$f":"T72-HLOOKUP(X72,Feuil1!$C$1:$BL$10,4,FALSE)","v":57},{"$f":"T72-HLOOKUP(X72,Feuil1!$C$1:$BL$10,5,FALSE)","v":47},{"$f":"T72-HLOOKUP(X72,Feuil1!$C$1:$BL$10,6,FALSE)","v":32},{"$f":"T72-HLOOKUP(X72,Feuil1!$C$1:$BL$10,7,FALSE)","v":17},{"$f":"T72-HLOOKUP(X72,Feuil1!$C$1:$BL$10,8,FALSE)","v":2},{"$f":"T72-HLOOKUP(X72,Feuil1!$C$1:$BL$10,9,FALSE)","v":-18},{"$f":"T72-HLOOKUP(X72,Feuil1!$C$1:$BL$10,10,FALSE)","v":-858},null,null,null,null,null,null,"INTB +"]
["F","NORD","PIC",3,140592,"ARANJO","Caroline",1995,58.26,"Villers-Bretonneux KC","F",52,55,-57,55,66,-70,70,70,125,8.480000000000004,"NAT +",0,{"$f":"IF(I73=\"\",\"\",IF(A73=\"H\",IF(OR(H73=\"SEN\",H73<1995),VLOOKUP(I73,Feuil1!$A$11:$F$29,6),IF(AND(H73>1994,H73<1998),VLOOKUP(I73,Feuil1!$A$11:$F$29,5),IF(AND(H73>1997,H73<2000),VLOOKUP(I73,Feuil1!$A$11:$F$29,4),IF(AND(H73>1999,H73<2002),VLOOKUP(I73,Feuil1!$A$11:$F$29,3),VLOOKUP(I73,Feuil1!$A$11:$F$29,2))))),IF(OR(H73=\"SEN\",H73<1995),VLOOKUP(I73,Feuil1!$G$11:$L$25,6),IF(AND(H73>1994,H73<1998),VLOOKUP(I73,Feuil1!$G$11:$L$25,5),IF(AND(H73>1997,H73<2000),VLOOKUP(I73,Feuil1!$G$11:$L$25,4),IF(AND(H73>1999,H73<2002),VLOOKUP(I73,Feuil1!$G$11:$L$25,3),VLOOKUP(I73,Feuil1!$G$11:$L$25,2)))))))","v":"FJ63"},175.41212243960121,null," ",{"$f":"T73-HLOOKUP(X73,Feuil1!$C$1:$BL$10,2,FALSE)","v":60},{"$f":"T73-HLOOKUP(X73,Feuil1!$C$1:$BL$10,3,FALSE)","v":50},{"$f":"T73-HLOOKUP(X73,Feuil1!$C$1:$BL$10,4,FALSE)","v":40},{"$f":"T73-HLOOKUP(X73,Feuil1!$C$1:$BL$10,5,FALSE)","v":30},{"$f":"T73-HLOOKUP(X73,Feuil1!$C$1:$BL$10,6,FALSE)","v":15},{"$f":"T73-HLOOKUP(X73,Feuil1!$C$1:$BL$10,7,FALSE)","v":0},{"$f":"T73-HLOOKUP(X73,Feuil1!$C$1:$BL$10,8,FALSE)","v":-15},{"$f":"T73-HLOOKUP(X73,Feuil1!$C$1:$BL$10,9,FALSE)","v":-35},{"$f":"T73-HLOOKUP(X73,Feuil1!$C$1:$BL$10,10,FALSE)","v":-875},null,null,null,null,null,null,"NAT +"]
["F","N","IDF",4,379288,"MARKHUS","HELENE",1995,60.2,"SAINT-MAUR","Nor",50,55,-57,55,-70,70,70,70,125,4.5999999999999943,"NAT +",0,{"$f":"IF(I74=\"\",\"\",IF(A74=\"H\",IF(OR(H74=\"SEN\",H74<1995),VLOOKUP(I74,Feuil1!$A$11:$F$29,6),IF(AND(H74>1994,H74<1998),VLOOKUP(I74,Feuil1!$A$11:$F$29,5),IF(AND(H74>1997,H74<2000),VLOOKUP(I74,Feuil1!$A$11:$F$29,4),IF(AND(H74>1999,H74<2002),VLOOKUP(I74,Feuil1!$A$11:$F$29,3),VLOOKUP(I74,Feuil1!$A$11:$F$29,2))))),IF(OR(H74=\"SEN\",H74<1995),VLOOKUP(I74,Feuil1!$G$11:$L$25,6),IF(AND(H74>1994,H74<1998),VLOOKUP(I74,Feuil1!$G$11:$L$25,5),IF(AND(H74>1997,H74<2000),VLOOKUP(I74,Feuil1!$G$11:$L$25,4),IF(AND(H74>1999,H74<2002),VLOOKUP(I74,Feuil1!$G$11:$L$25,3),VLOOKUP(I74,Feuil1!$G$11:$L$25,2)))))))","v":"FJ63"},171.35738354333972,null," ",{"$f":"T74-HLOOKUP(X74,Feuil1!$C$1:$BL$10,2,FALSE)","v":60},{"$f":"T74-HLOOKUP(X74,Feuil1!$C$1:$BL$10,3,FALSE)","v":50},{"$f":"T74-HLOOKUP(X74,Feuil1!$C$1:$BL$10,4,FALSE)","v":40},{"$f":"T74-HLOOKUP(X74,Feuil1!$C$1:$BL$10,5,FALSE)","v":30},{"$f":"T74-HLOOKUP(X74,Feuil1!$C$1:$BL$10,6,FALSE)","v":15},{"$f":"T74-HLOOKUP(X74,Feuil1!$C$1:$BL$10,7,FALSE)","v":0},{"$f":"T74-HLOOKUP(X74,Feuil1!$C$1:$BL$10,8,FALSE)","v":-15},{"$f":"T74-HLOOKUP(X74,Feuil1!$C$1:$BL$10,9,FALSE)","v":-35},{"$f":"T74-HLOOKUP(X74,Feuil1!$C$1:$BL$10,10,FALSE)","v":-875},null,null,null,null,null,null,"NAT +"]
["F","SEST","CAZ",5,231757,"RONCO","Emmanuelle",1995,62.7,"ES VILL LOUBET","F",-55,-58,58,58,63,67,-70,67,125,-0.40000000000000568,"NAT +",0,{"$f":"IF(I75=\"\",\"\",IF(A75=\"H\",IF(OR(H75=\"SEN\",H75<1995),VLOOKUP(I75,Feuil1!$A$11:$F$29,6),IF(AND(H75>1994,H75<1998),VLOOKUP(I75,Feuil1!$A$11:$F$29,5),IF(AND(H75>1997,H75<2000),VLOOKUP(I75,Feuil1!$A$11:$F$29,4),IF(AND(H75>1999,H75<2002),VLOOKUP(I75,Feuil1!$A$11:$F$29,3),VLOOKUP(I75,Feuil1!$A$11:$F$29,2))))),IF(OR(H75=\"SEN\",H75<1995),VLOOKUP(I75,Feuil1!$G$11:$L$25,6),IF(AND(H75>1994,H75<1998),VLOOKUP(I75,Feuil1!$G$11:$L$25,5),IF(AND(H75>1997,H75<2000),VLOOKUP(I75,Feuil1!$G$11:$L$25,4),IF(AND(H75>1999,H75<2002),VLOOKUP(I75,Feuil1!$G$11:$L$25,3),VLOOKUP(I75,Feuil1!$G$11:$L$25,2)))))))","v":"FJ63"},166.64495551049347,null," ",{"$f":"T75-HLOOKUP(X75,Feuil1!$C$1:$BL$10,2,FALSE)","v":60},{"$f":"T75-HLOOKUP(X75,Feuil1!$C$1:$BL$10,3,FALSE)","v":50},{"$f":"T75-HLOOKUP(X75,Feuil1!$C$1:$BL$10,4,FALSE)","v":40},{"$f":"T75-HLOOKUP(X75,Feuil1!$C$1:$BL$10,5,FALSE)","v":30},{"$f":"T75-HLOOKUP(X75,Feuil1!$C$1:$BL$10,6,FALSE)","v":15},{"$f":"T75-HLOOKUP(X75,Feuil1!$C$1:$BL$10,7,FALSE)","v":0},{"$f":"T75-HLOOKUP(X75,Feuil1!$C$1:$BL$10,8,FALSE)","v":-15},{"$f":"T75-HLOOKUP(X75,Feuil1!$C$1:$BL$10,9,FALSE)","v":-35},{"$f":"T75-HLOOKUP(X75,Feuil1!$C$1:$BL$10,10,FALSE)","v":-875},null,null,null,null,null,null,"NAT +"]
["F","SO","MPY",6,253453,"JOURNET","Anaïs",1995,62.9,"FIGEAC HC","F",50,-53,53,53,68,70,-72,70,123,-2.7999999999999972,"FED +",13,{"$f":"IF(I76=\"\",\"\",IF(A76=\"H\",IF(OR(H76=\"SEN\",H76<1995),VLOOKUP(I76,Feuil1!$A$11:$F$29,6),IF(AND(H76>1994,H76<1998),VLOOKUP(I76,Feuil1!$A$11:$F$29,5),IF(AND(H76>1997,H76<2000),VLOOKUP(I76,Feuil1!$A$11:$F$29,4),IF(AND(H76>1999,H76<2002),VLOOKUP(I76,Feuil1!$A$11:$F$29,3),VLOOKUP(I76,Feuil1!$A$11:$F$29,2))))),IF(OR(H76=\"SEN\",H76<1995),VLOOKUP(I76,Feuil1!$G$11:$L$25,6),IF(AND(H76>1994,H76<1998),VLOOKUP(I76,Feuil1!$G$11:$L$25,5),IF(AND(H76>1997,H76<2000),VLOOKUP(I76,Feuil1!$G$11:$L$25,4),IF(AND(H76>1999,H76<2002),VLOOKUP(I76,Feuil1!$G$11:$L$25,3),VLOOKUP(I76,Feuil1!$G$11:$L$25,2)))))))","v":"FJ63"},163.63003437442873,null," ",{"$f":"T76-HLOOKUP(X76,Feuil1!$C$1:$BL$10,2,FALSE)","v":58},{"$f":"T76-HLOOKUP(X76,Feuil1!$C$1:$BL$10,3,FALSE)","v":48},{"$f":"T76-HLOOKUP(X76,Feuil1!$C$1:$BL$10,4,FALSE)","v":38},{"$f":"T76-HLOOKUP(X76,Feuil1!$C$1:$BL$10,5,FALSE)","v":28},{"$f":"T76-HLOOKUP(X76,Feuil1!$C$1:$BL$10,6,FALSE)","v":13},{"$f":"T76-HLOOKUP(X76,Feuil1!$C$1:$BL$10,7,FALSE)","v":-2},{"$f":"T76-HLOOKUP(X76,Feuil1!$C$1:$BL$10,8,FALSE)","v":-17},{"$f":"T76-HLOOKUP(X76,Feuil1!$C$1:$BL$10,9,FALSE)","v":-37},{"$f":"T76-HLOOKUP(X76,Feuil1!$C$1:$BL$10,10,FALSE)","v":-877},null,null,null,null,null,null,"FED +"]
["F","CO","BRE",7,146079,"DEBIAIS","Joanna",1996,59.5,"ES Saint Avé","F",50,53,-55,53,60,-63,-64,60,113,-6,"FED +",3,{"$f":"IF(I77=\"\",\"\",IF(A77=\"H\",IF(OR(H77=\"SEN\",H77<1995),VLOOKUP(I77,Feuil1!$A$11:$F$29,6),IF(AND(H77>1994,H77<1998),VLOOKUP(I77,Feuil1!$A$11:$F$29,5),IF(AND(H77>1997,H77<2000),VLOOKUP(I77,Feuil1!$A$11:$F$29,4),IF(AND(H77>1999,H77<2002),VLOOKUP(I77,Feuil1!$A$11:$F$29,3),VLOOKUP(I77,Feuil1!$A$11:$F$29,2))))),IF(OR(H77=\"SEN\",H77<1995),VLOOKUP(I77,Feuil1!$G$11:$L$25,6),IF(AND(H77>1994,H77<1998),VLOOKUP(I77,Feuil1!$G$11:$L$25,5),IF(AND(H77>1997,H77<2000),VLOOKUP(I77,Feuil1!$G$11:$L$25,4),IF(AND(H77>1999,H77<2002),VLOOKUP(I77,Feuil1!$G$11:$L$25,3),VLOOKUP(I77,Feuil1!$G$11:$L$25,2)))))))","v":"FJ63"},156.19104714049442,null," ",{"$f":"T77-HLOOKUP(X77,Feuil1!$C$1:$BL$10,2,FALSE)","v":48},{"$f":"T77-HLOOKUP(X77,Feuil1!$C$1:$BL$10,3,FALSE)","v":38},{"$f":"T77-HLOOKUP(X77,Feuil1!$C$1:$BL$10,4,FALSE)","v":28},{"$f":"T77-HLOOKUP(X77,Feuil1!$C$1:$BL$10,5,FALSE)","v":18},{"$f":"T77-HLOOKUP(X77,Feuil1!$C$1:$BL$10,6,FALSE)","v":3},{"$f":"T77-HLOOKUP(X77,Feuil1!$C$1:$BL$10,7,FALSE)","v":-12},{"$f":"T77-HLOOKUP(X77,Feuil1!$C$1:$BL$10,8,FALSE)","v":-27},{"$f":"T77-HLOOKUP(X77,Feuil1!$C$1:$BL$10,9,FALSE)","v":-47},{"$f":"T77-HLOOKUP(X77,Feuil1!$C$1:$BL$10,10,FALSE)","v":-887},null,null,null,null,null,null,"FED +"]
["F","DOM","GUA",8,392883,"BRIN","Cindy",1996,61,"AHCS/Pointois","F",45,50,51,51,55,60,62,62,113,-9,"FED +",3,{"$f":"IF(I78=\"\",\"\",IF(A78=\"H\",IF(OR(H78=\"SEN\",H78<1995),VLOOKUP(I78,Feuil1!$A$11:$F$29,6),IF(AND(H78>1994,H78<1998),VLOOKUP(I78,Feuil1!$A$11:$F$29,5),IF(AND(H78>1997,H78<2000),VLOOKUP(I78,Feuil1!$A$11:$F$29,4),IF(AND(H78>1999,H78<2002),VLOOKUP(I78,Feuil1!$A$11:$F$29,3),VLOOKUP(I78,Feuil1!$A$11:$F$29,2))))),IF(OR(H78=\"SEN\",H78<1995),VLOOKUP(I78,Feuil1!$G$11:$L$25,6),IF(AND(H78>1994,H78<1998),VLOOKUP(I78,Feuil1!$G$11:$L$25,5),IF(AND(H78>1997,H78<2000),VLOOKUP(I78,Feuil1!$G$11:$L$25,4),IF(AND(H78>1999,H78<2002),VLOOKUP(I78,Feuil1!$G$11:$L$25,3),VLOOKUP(I78,Feuil1!$G$11:$L$25,2)))))))","v":"FJ63"},153.49016762549209,null," ",{"$f":"T78-HLOOKUP(X78,Feuil1!$C$1:$BL$10,2,FALSE)","v":48},{"$f":"T78-HLOOKUP(X78,Feuil1!$C$1:$BL$10,3,FALSE)","v":38},{"$f":"T78-HLOOKUP(X78,Feuil1!$C$1:$BL$10,4,FALSE)","v":28},{"$f":"T78-HLOOKUP(X78,Feuil1!$C$1:$BL$10,5,FALSE)","v":18},{"$f":"T78-HLOOKUP(X78,Feuil1!$C$1:$BL$10,6,FALSE)","v":3},{"$f":"T78-HLOOKUP(X78,Feuil1!$C$1:$BL$10,7,FALSE)","v":-12},{"$f":"T78-HLOOKUP(X78,Feuil1!$C$1:$BL$10,8,FALSE)","v":-27},{"$f":"T78-HLOOKUP(X78,Feuil1!$C$1:$BL$10,9,FALSE)","v":-47},{"$f":"T78-HLOOKUP(X78,Feuil1!$C$1:$BL$10,10,FALSE)","v":-887},null,null,null,null,null,null,"FED +"]
["F","N","IDF",9,326999,"BIFANO","ELENA",1997,62.75,"BLANC-MESNIL","F",-50,-50,51,51,62,-65,62,62,113,-12.5,"FED +",3,{"$f":"IF(I79=\"\",\"\",IF(A79=\"H\",IF(OR(H79=\"SEN\",H79<1995),VLOOKUP(I79,Feuil1!$A$11:$F$29,6),IF(AND(H79>1994,H79<1998),VLOOKUP(I79,Feuil1!$A$11:$F$29,5),IF(AND(H79>1997,H79<2000),VLOOKUP(I79,Feuil1!$A$11:$F$29,4),IF(AND(H79>1999,H79<2002),VLOOKUP(I79,Feuil1!$A$11:$F$29,3),VLOOKUP(I79,Feuil1!$A$11:$F$29,2))))),IF(OR(H79=\"SEN\",H79<1995),VLOOKUP(I79,Feuil1!$G$11:$L$25,6),IF(AND(H79>1994,H79<1998),VLOOKUP(I79,Feuil1!$G$11:$L$25,5),IF(AND(H79>1997,H79<2000),VLOOKUP(I79,Feuil1!$G$11:$L$25,4),IF(AND(H79>1999,H79<2002),VLOOKUP(I79,Feuil1!$G$11:$L$25,3),VLOOKUP(I79,Feuil1!$G$11:$L$25,2)))))))","v":"FJ63"},150.56670342820445,null," ",{"$f":"T79-HLOOKUP(X79,Feuil1!$C$1:$BL$10,2,FALSE)","v":48},{"$f":"T79-HLOOKUP(X79,Feuil1!$C$1:$BL$10,3,FALSE)","v":38},{"$f":"T79-HLOOKUP(X79,Feuil1!$C$1:$BL$10,4,FALSE)","v":28},{"$f":"T79-HLOOKUP(X79,Feuil1!$C$1:$BL$10,5,FALSE)","v":18},{"$f":"T79-HLOOKUP(X79,Feuil1!$C$1:$BL$10,6,FALSE)","v":3},{"$f":"T79-HLOOKUP(X79,Feuil1!$C$1:$BL$10,7,FALSE)","v":-12},{"$f":"T79-HLOOKUP(X79,Feuil1!$C$1:$BL$10,8,FALSE)","v":-27},{"$f":"T79-HLOOKUP(X79,Feuil1!$C$1:$BL$10,9,FALSE)","v":-47},{"$f":"T79-HLOOKUP(X79,Feuil1!$C$1:$BL$10,10,FALSE)","v":-887},null,null,null,null,null,null,"FED +"]
["F","SEST","PRO",10,375285,"GIRARD","Sarah",1996,61,"ISTRES SPORTS","F",40,-45,50,50,52,57,62,62,112,-10,"FED +",2,{"$f":"IF(I80=\"\",\"\",IF(A80=\"H\",IF(OR(H80=\"SEN\",H80<1995),VLOOKUP(I80,Feuil1!$A$11:$F$29,6),IF(AND(H80>1994,H80<1998),VLOOKUP(I80,Feuil1!$A$11:$F$29,5),IF(AND(H80>1997,H80<2000),VLOOKUP(I80,Feuil1!$A$11:$F$29,4),IF(AND(H80>1999,H80<2002),VLOOKUP(I80,Feuil1!$A$11:$F$29,3),VLOOKUP(I80,Feuil1!$A$11:$F$29,2))))),IF(OR(H80=\"SEN\",H80<1995),VLOOKUP(I80,Feuil1!$G$11:$L$25,6),IF(AND(H80>1994,H80<1998),VLOOKUP(I80,Feuil1!$G$11:$L$25,5),IF(AND(H80>1997,H80<2000),VLOOKUP(I80,Feuil1!$G$11:$L$25,4),IF(AND(H80>1999,H80<2002),VLOOKUP(I80,Feuil1!$G$11:$L$25,3),VLOOKUP(I80,Feuil1!$G$11:$L$25,2)))))))","v":"FJ63"},152.13184755800987,null," ",{"$f":"T80-HLOOKUP(X80,Feuil1!$C$1:$BL$10,2,FALSE)","v":47},{"$f":"T80-HLOOKUP(X80,Feuil1!$C$1:$BL$10,3,FALSE)","v":37},{"$f":"T80-HLOOKUP(X80,Feuil1!$C$1:$BL$10,4,FALSE)","v":27},{"$f":"T80-HLOOKUP(X80,Feuil1!$C$1:$BL$10,5,FALSE)","v":17},{"$f":"T80-HLOOKUP(X80,Feuil1!$C$1:$BL$10,6,FALSE)","v":2},{"$f":"T80-HLOOKUP(X80,Feuil1!$C$1:$BL$10,7,FALSE)","v":-13},{"$f":"T80-HLOOKUP(X80,Feuil1!$C$1:$BL$10,8,FALSE)","v":-28},{"$f":"T80-HLOOKUP(X80,Feuil1!$C$1:$BL$10,9,FALSE)","v":-48},{"$f":"T80-HLOOKUP(X80,Feuil1!$C$1:$BL$10,10,FALSE)","v":-888},null,null,null,null,null,null,"FED +"]
["F","NE","ALS",11,327036,"HELL","Marine",1997,58.4,"US Wittenheim","F",42,46,49,49,54,57,60,60,109,-7.7999999999999972,"IRG +",14,{"$f":"IF(I81=\"\",\"\",IF(A81=\"H\",IF(OR(H81=\"SEN\",H81<1995),VLOOKUP(I81,Feuil1!$A$11:$F$29,6),IF(AND(H81>1994,H81<1998),VLOOKUP(I81,Feuil1!$A$11:$F$29,5),IF(AND(H81>1997,H81<2000),VLOOKUP(I81,Feuil1!$A$11:$F$29,4),IF(AND(H81>1999,H81<2002),VLOOKUP(I81,Feuil1!$A$11:$F$29,3),VLOOKUP(I81,Feuil1!$A$11:$F$29,2))))),IF(OR(H81=\"SEN\",H81<1995),VLOOKUP(I81,Feuil1!$G$11:$L$25,6),IF(AND(H81>1994,H81<1998),VLOOKUP(I81,Feuil1!$G$11:$L$25,5),IF(AND(H81>1997,H81<2000),VLOOKUP(I81,Feuil1!$G$11:$L$25,4),IF(AND(H81>1999,H81<2002),VLOOKUP(I81,Feuil1!$G$11:$L$25,3),VLOOKUP(I81,Feuil1!$G$11:$L$25,2)))))))","v":"FJ63"},152.69314890740029,null," ",{"$f":"T81-HLOOKUP(X81,Feuil1!$C$1:$BL$10,2,FALSE)","v":44},{"$f":"T81-HLOOKUP(X81,Feuil1!$C$1:$BL$10,3,FALSE)","v":34},{"$f":"T81-HLOOKUP(X81,Feuil1!$C$1:$BL$10,4,FALSE)","v":24},{"$f":"T81-HLOOKUP(X81,Feuil1!$C$1:$BL$10,5,FALSE)","v":14},{"$f":"T81-HLOOKUP(X81,Feuil1!$C$1:$BL$10,6,FALSE)","v":-1},{"$f":"T81-HLOOKUP(X81,Feuil1!$C$1:$BL$10,7,FALSE)","v":-16},{"$f":"T81-HLOOKUP(X81,Feuil1!$C$1:$BL$10,8,FALSE)","v":-31},{"$f":"T81-HLOOKUP(X81,Feuil1!$C$1:$BL$10,9,FALSE)","v":-51},{"$f":"T81-HLOOKUP(X81,Feuil1!$C$1:$BL$10,10,FALSE)","v":-891},null,null,null,null,null,null,"IRG +"]
["F","CO","BRE",12,389192,"RAHARISOA","Karen",1997,59.8,"AL Quimper","F",-45,45,-50,45,58,61,-64,61,106,-13.599999999999994,"IRG +",11,{"$f":"IF(I82=\"\",\"\",IF(A82=\"H\",IF(OR(H82=\"SEN\",H82<1995),VLOOKUP(I82,Feuil1!$A$11:$F$29,6),IF(AND(H82>1994,H82<1998),VLOOKUP(I82,Feuil1!$A$11:$F$29,5),IF(AND(H82>1997,H82<2000),VLOOKUP(I82,Feuil1!$A$11:$F$29,4),IF(AND(H82>1999,H82<2002),VLOOKUP(I82,Feuil1!$A$11:$F$29,3),VLOOKUP(I82,Feuil1!$A$11:$F$29,2))))),IF(OR(H82=\"SEN\",H82<1995),VLOOKUP(I82,Feuil1!$G$11:$L$25,6),IF(AND(H82>1994,H82<1998),VLOOKUP(I82,Feuil1!$G$11:$L$25,5),IF(AND(H82>1997,H82<2000),VLOOKUP(I82,Feuil1!$G$11:$L$25,4),IF(AND(H82>1999,H82<2002),VLOOKUP(I82,Feuil1!$G$11:$L$25,3),VLOOKUP(I82,Feuil1!$G$11:$L$25,2)))))))","v":"FJ63"},145.99445738679958,null," ",{"$f":"T82-HLOOKUP(X82,Feuil1!$C$1:$BL$10,2,FALSE)","v":41},{"$f":"T82-HLOOKUP(X82,Feuil1!$C$1:$BL$10,3,FALSE)","v":31},{"$f":"T82-HLOOKUP(X82,Feuil1!$C$1:$BL$10,4,FALSE)","v":21},{"$f":"T82-HLOOKUP(X82,Feuil1!$C$1:$BL$10,5,FALSE)","v":11},{"$f":"T82-HLOOKUP(X82,Feuil1!$C$1:$BL$10,6,FALSE)","v":-4},{"$f":"T82-HLOOKUP(X82,Feuil1!$C$1:$BL$10,7,FALSE)","v":-19},{"$f":"T82-HLOOKUP(X82,Feuil1!$C$1:$BL$10,8,FALSE)","v":-34},{"$f":"T82-HLOOKUP(X82,Feuil1!$C$1:$BL$10,9,FALSE)","v":-54},{"$f":"T82-HLOOKUP(X82,Feuil1!$C$1:$BL$10,10,FALSE)","v":-894},null,null,null,null,null,null,"IRG +"]
["F","DOM","REU",13,250369,"MARKA","SEVELTANA",1997,62.16,"CSPJ St Denis","F",45,50,-52,50,52,55,-57,55,105,-19.319999999999993,"IRG +",10,{"$f":"IF(I83=\"\",\"\",IF(A83=\"H\",IF(OR(H83=\"SEN\",H83<1995),VLOOKUP(I83,Feuil1!$A$11:$F$29,6),IF(AND(H83>1994,H83<1998),VLOOKUP(I83,Feuil1!$A$11:$F$29,5),IF(AND(H83>1997,H83<2000),VLOOKUP(I83,Feuil1!$A$11:$F$29,4),IF(AND(H83>1999,H83<2002),VLOOKUP(I83,Feuil1!$A$11:$F$29,3),VLOOKUP(I83,Feuil1!$A$11:$F$29,2))))),IF(OR(H83=\"SEN\",H83<1995),VLOOKUP(I83,Feuil1!$G$11:$L$25,6),IF(AND(H83>1994,H83<1998),VLOOKUP(I83,Feuil1!$G$11:$L$25,5),IF(AND(H83>1997,H83<2000),VLOOKUP(I83,Feuil1!$G$11:$L$25,4),IF(AND(H83>1999,H83<2002),VLOOKUP(I83,Feuil1!$G$11:$L$25,3),VLOOKUP(I83,Feuil1!$G$11:$L$25,2)))))))","v":"FJ63"},140.79883316647678,null," ",{"$f":"T83-HLOOKUP(X83,Feuil1!$C$1:$BL$10,2,FALSE)","v":40},{"$f":"T83-HLOOKUP(X83,Feuil1!$C$1:$BL$10,3,FALSE)","v":30},{"$f":"T83-HLOOKUP(X83,Feuil1!$C$1:$BL$10,4,FALSE)","v":20},{"$f":"T83-HLOOKUP(X83,Feuil1!$C$1:$BL$10,5,FALSE)","v":10},{"$f":"T83-HLOOKUP(X83,Feuil1!$C$1:$BL$10,6,FALSE)","v":-5},{"$f":"T83-HLOOKUP(X83,Feuil1!$C$1:$BL$10,7,FALSE)","v":-20},{"$f":"T83-HLOOKUP(X83,Feuil1!$C$1:$BL$10,8,FALSE)","v":-35},{"$f":"T83-HLOOKUP(X83,Feuil1!$C$1:$BL$10,9,FALSE)","v":-55},{"$f":"T83-HLOOKUP(X83,Feuil1!$C$1:$BL$10,10,FALSE)","v":-895},null,null,null,null,null,null,"IRG +"]
["F","SO","AQU",14,300660,"DARMON","MELODIE",1997,61.9,"BORDEAUX ASPOM","F",40,-45,45,45,55,-60,-60,55,100,-23.799999999999997,"IRG +",5,{"$f":"IF(I84=\"\",\"\",IF(A84=\"H\",IF(OR(H84=\"SEN\",H84<1995),VLOOKUP(I84,Feuil1!$A$11:$F$29,6),IF(AND(H84>1994,H84<1998),VLOOKUP(I84,Feuil1!$A$11:$F$29,5),IF(AND(H84>1997,H84<2000),VLOOKUP(I84,Feuil1!$A$11:$F$29,4),IF(AND(H84>1999,H84<2002),VLOOKUP(I84,Feuil1!$A$11:$F$29,3),VLOOKUP(I84,Feuil1!$A$11:$F$29,2))))),IF(OR(H84=\"SEN\",H84<1995),VLOOKUP(I84,Feuil1!$G$11:$L$25,6),IF(AND(H84>1994,H84<1998),VLOOKUP(I84,Feuil1!$G$11:$L$25,5),IF(AND(H84>1997,H84<2000),VLOOKUP(I84,Feuil1!$G$11:$L$25,4),IF(AND(H84>1999,H84<2002),VLOOKUP(I84,Feuil1!$G$11:$L$25,3),VLOOKUP(I84,Feuil1!$G$11:$L$25,2)))))))","v":"FJ63"},134.4756645338507,null," ",{"$f":"T84-HLOOKUP(X84,Feuil1!$C$1:$BL$10,2,FALSE)","v":35},{"$f":"T84-HLOOKUP(X84,Feuil1!$C$1:$BL$10,3,FALSE)","v":25},{"$f":"T84-HLOOKUP(X84,Feuil1!$C$1:$BL$10,4,FALSE)","v":15},{"$f":"T84-HLOOKUP(X84,Feuil1!$C$1:$BL$10,5,FALSE)","v":5},{"$f":"T84-HLOOKUP(X84,Feuil1!$C$1:$BL$10,6,FALSE)","v":-10},{"$f":"T84-HLOOKUP(X84,Feuil1!$C$1:$BL$10,7,FALSE)","v":-25},{"$f":"T84-HLOOKUP(X84,Feuil1!$C$1:$BL$10,8,FALSE)","v":-40},{"$f":"T84-HLOOKUP(X84,Feuil1!$C$1:$BL$10,9,FALSE)","v":-60},{"$f":"T84-HLOOKUP(X84,Feuil1!$C$1:$BL$10,10,FALSE)","v":-900},null,null,null,null,null,null,"IRG +"]
["F","SEST","RAL",15,356024,"PARENTI","Elora",1995,62.6,"CH Arbresle","F",-40,-40,40,40,50,55,-60,55,95,-30.200000000000003,"IRG +",0,{"$f":"IF(I85=\"\",\"\",IF(A85=\"H\",IF(OR(H85=\"SEN\",H85<1995),VLOOKUP(I85,Feuil1!$A$11:$F$29,6),IF(AND(H85>1994,H85<1998),VLOOKUP(I85,Feuil1!$A$11:$F$29,5),IF(AND(H85>1997,H85<2000),VLOOKUP(I85,Feuil1!$A$11:$F$29,4),IF(AND(H85>1999,H85<2002),VLOOKUP(I85,Feuil1!$A$11:$F$29,3),VLOOKUP(I85,Feuil1!$A$11:$F$29,2))))),IF(OR(H85=\"SEN\",H85<1995),VLOOKUP(I85,Feuil1!$G$11:$L$25,6),IF(AND(H85>1994,H85<1998),VLOOKUP(I85,Feuil1!$G$11:$L$25,5),IF(AND(H85>1997,H85<2000),VLOOKUP(I85,Feuil1!$G$11:$L$25,4),IF(AND(H85>1999,H85<2002),VLOOKUP(I85,Feuil1!$G$11:$L$25,3),VLOOKUP(I85,Feuil1!$G$11:$L$25,2)))))))","v":"FJ63"},126.78570381776743,null," ",{"$f":"T85-HLOOKUP(X85,Feuil1!$C$1:$BL$10,2,FALSE)","v":30},{"$f":"T85-HLOOKUP(X85,Feuil1!$C$1:$BL$10,3,FALSE)","v":20},{"$f":"T85-HLOOKUP(X85,Feuil1!$C$1:$BL$10,4,FALSE)","v":10},{"$f":"T85-HLOOKUP(X85,Feuil1!$C$1:$BL$10,5,FALSE)","v":0},{"$f":"T85-HLOOKUP(X85,Feuil1!$C$1:$BL$10,6,FALSE)","v":-15},{"$f":"T85-HLOOKUP(X85,Feuil1!$C$1:$BL$10,7,FALSE)","v":-30},{"$f":"T85-HLOOKUP(X85,Feuil1!$C$1:$BL$10,8,FALSE)","v":-45},{"$f":"T85-HLOOKUP(X85,Feuil1!$C$1:$BL$10,9,FALSE)","v":-65},{"$f":"T85-HLOOKUP(X85,Feuil1!$C$1:$BL$10,10,FALSE)","v":-905},null,null,null,null,null,null,"IRG +"]
["F","CO","CEN",16,381459,"LAMBERT","Emeline",1995,58.4,"CM Orléans","F",35,-38,-38,35,48,50,52,52,87,-29.799999999999997,"REG +",2,{"$f":"IF(I86=\"\",\"\",IF(A86=\"H\",IF(OR(H86=\"SEN\",H86<1995),VLOOKUP(I86,Feuil1!$A$11:$F$29,6),IF(AND(H86>1994,H86<1998),VLOOKUP(I86,Feuil1!$A$11:$F$29,5),IF(AND(H86>1997,H86<2000),VLOOKUP(I86,Feuil1!$A$11:$F$29,4),IF(AND(H86>1999,H86<2002),VLOOKUP(I86,Feuil1!$A$11:$F$29,3),VLOOKUP(I86,Feuil1!$A$11:$F$29,2))))),IF(OR(H86=\"SEN\",H86<1995),VLOOKUP(I86,Feuil1!$G$11:$L$25,6),IF(AND(H86>1994,H86<1998),VLOOKUP(I86,Feuil1!$G$11:$L$25,5),IF(AND(H86>1997,H86<2000),VLOOKUP(I86,Feuil1!$G$11:$L$25,4),IF(AND(H86>1999,H86<2002),VLOOKUP(I86,Feuil1!$G$11:$L$25,3),VLOOKUP(I86,Feuil1!$G$11:$L$25,2)))))))","v":"FJ63"},121.87434821049382,null," ",{"$f":"T86-HLOOKUP(X86,Feuil1!$C$1:$BL$10,2,FALSE)","v":22},{"$f":"T86-HLOOKUP(X86,Feuil1!$C$1:$BL$10,3,FALSE)","v":12},{"$f":"T86-HLOOKUP(X86,Feuil1!$C$1:$BL$10,4,FALSE)","v":2},{"$f":"T86-HLOOKUP(X86,Feuil1!$C$1:$BL$10,5,FALSE)","v":-8},{"$f":"T86-HLOOKUP(X86,Feuil1!$C$1:$BL$10,6,FALSE)","v":-23},{"$f":"T86-HLOOKUP(X86,Feuil1!$C$1:$BL$10,7,FALSE)","v":-38},{"$f":"T86-HLOOKUP(X86,Feuil1!$C$1:$BL$10,8,FALSE)","v":-53},{"$f":"T86-HLOOKUP(X86,Feuil1!$C$1:$BL$10,9,FALSE)","v":-73},{"$f":"T86-HLOOKUP(X86,Feuil1!$C$1:$BL$10,10,FALSE)","v":-913},null,null,null,null,null,null,"REG +"]
["F","SEST","CAZ",17,375353,"EL HAMDANI","Ouiam",1997,60.8,"ASLDD TOULON","MAR",32,35,-37,35,48,50,-53,50,85,-36.599999999999994,"REG +",0,{"$f":"IF(I87=\"\",\"\",IF(A87=\"H\",IF(OR(H87=\"SEN\",H87<1995),VLOOKUP(I87,Feuil1!$A$11:$F$29,6),IF(AND(H87>1994,H87<1998),VLOOKUP(I87,Feuil1!$A$11:$F$29,5),IF(AND(H87>1997,H87<2000),VLOOKUP(I87,Feuil1!$A$11:$F$29,4),IF(AND(H87>1999,H87<2002),VLOOKUP(I87,Feuil1!$A$11:$F$29,3),VLOOKUP(I87,Feuil1!$A$11:$F$29,2))))),IF(OR(H87=\"SEN\",H87<1995),VLOOKUP(I87,Feuil1!$G$11:$L$25,6),IF(AND(H87>1994,H87<1998),VLOOKUP(I87,Feuil1!$G$11:$L$25,5),IF(AND(H87>1997,H87<2000),VLOOKUP(I87,Feuil1!$G$11:$L$25,4),IF(AND(H87>1999,H87<2002),VLOOKUP(I87,Feuil1!$G$11:$L$25,3),VLOOKUP(I87,Feuil1!$G$11:$L$25,2)))))))","v":"FJ63"},115.71996021323659,null," ",{"$f":"T87-HLOOKUP(X87,Feuil1!$C$1:$BL$10,2,FALSE)","v":20},{"$f":"T87-HLOOKUP(X87,Feuil1!$C$1:$BL$10,3,FALSE)","v":10},{"$f":"T87-HLOOKUP(X87,Feuil1!$C$1:$BL$10,4,FALSE)","v":0},{"$f":"T87-HLOOKUP(X87,Feuil1!$C$1:$BL$10,5,FALSE)","v":-10},{"$f":"T87-HLOOKUP(X87,Feuil1!$C$1:$BL$10,6,FALSE)","v":-25},{"$f":"T87-HLOOKUP(X87,Feuil1!$C$1:$BL$10,7,FALSE)","v":-40},{"$f":"T87-HLOOKUP(X87,Feuil1!$C$1:$BL$10,8,FALSE)","v":-55},{"$f":"T87-HLOOKUP(X87,Feuil1!$C$1:$BL$10,9,FALSE)","v":-75},{"$f":"T87-HLOOKUP(X87,Feuil1!$C$1:$BL$10,10,FALSE)","v":-915},null,null,null,null,null,null,"REG +"]
["F","SEST","RAL",18,379663,"BLAIN","Laurine",1997,60.6,"VALENCE","F",29,31,-33,31,37,39,42,42,73,-48.2,"DEB ",8,{"$f":"IF(I88=\"\",\"\",IF(A88=\"H\",IF(OR(H88=\"SEN\",H88<1995),VLOOKUP(I88,Feuil1!$A$11:$F$29,6),IF(AND(H88>1994,H88<1998),VLOOKUP(I88,Feuil1!$A$11:$F$29,5),IF(AND(H88>1997,H88<2000),VLOOKUP(I88,Feuil1!$A$11:$F$29,4),IF(AND(H88>1999,H88<2002),VLOOKUP(I88,Feuil1!$A$11:$F$29,3),VLOOKUP(I88,Feuil1!$A$11:$F$29,2))))),IF(OR(H88=\"SEN\",H88<1995),VLOOKUP(I88,Feuil1!$G$11:$L$25,6),IF(AND(H88>1994,H88<1998),VLOOKUP(I88,Feuil1!$G$11:$L$25,5),IF(AND(H88>1997,H88<2000),VLOOKUP(I88,Feuil1!$G$11:$L$25,4),IF(AND(H88>1999,H88<2002),VLOOKUP(I88,Feuil1!$G$11:$L$25,3),VLOOKUP(I88,Feuil1!$G$11:$L$25,2)))))))","v":"FJ63"},99.610785408982352,null," ",{"$f":"T88-HLOOKUP(X88,Feuil1!$C$1:$BL$10,2,FALSE)","v":8},{"$f":"T88-HLOOKUP(X88,Feuil1!$C$1:$BL$10,3,FALSE)","v":-2},{"$f":"T88-HLOOKUP(X88,Feuil1!$C$1:$BL$10,4,FALSE)","v":-12},{"$f":"T88-HLOOKUP(X88,Feuil1!$C$1:$BL$10,5,FALSE)","v":-22},{"$f":"T88-HLOOKUP(X88,Feuil1!$C$1:$BL$10,6,FALSE)","v":-37},{"$f":"T88-HLOOKUP(X88,Feuil1!$C$1:$BL$10,7,FALSE)","v":-52},{"$f":"T88-HLOOKUP(X88,Feuil1!$C$1:$BL$10,8,FALSE)","v":-67},{"$f":"T88-HLOOKUP(X88,Feuil1!$C$1:$BL$10,9,FALSE)","v":-87},{"$f":"T88-HLOOKUP(X88,Feuil1!$C$1:$BL$10,10,FALSE)","v":-927},null,null,null,null,null,null,"DEB "]
["F","SEST","CAZ",19,392168,"THEOBALD","Coralie",1997,58.9,"ASLDD TOULON","F",28,31,-34,31,35,38,41,41,72,-45.8,"DEB ",7,{"$f":"IF(I89=\"\",\"\",IF(A89=\"H\",IF(OR(H89=\"SEN\",H89<1995),VLOOKUP(I89,Feuil1!$A$11:$F$29,6),IF(AND(H89>1994,H89<1998),VLOOKUP(I89,Feuil1!$A$11:$F$29,5),IF(AND(H89>1997,H89<2000),VLOOKUP(I89,Feuil1!$A$11:$F$29,4),IF(AND(H89>1999,H89<2002),VLOOKUP(I89,Feuil1!$A$11:$F$29,3),VLOOKUP(I89,Feuil1!$A$11:$F$29,2))))),IF(OR(H89=\"SEN\",H89<1995),VLOOKUP(I89,Feuil1!$G$11:$L$25,6),IF(AND(H89>1994,H89<1998),VLOOKUP(I89,Feuil1!$G$11:$L$25,5),IF(AND(H89>1997,H89<2000),VLOOKUP(I89,Feuil1!$G$11:$L$25,4),IF(AND(H89>1999,H89<2002),VLOOKUP(I89,Feuil1!$G$11:$L$25,3),VLOOKUP(I89,Feuil1!$G$11:$L$25,2)))))))","v":"FJ63"},100.24301529242821,null," ",{"$f":"T89-HLOOKUP(X89,Feuil1!$C$1:$BL$10,2,FALSE)","v":7},{"$f":"T89-HLOOKUP(X89,Feuil1!$C$1:$BL$10,3,FALSE)","v":-3},{"$f":"T89-HLOOKUP(X89,Feuil1!$C$1:$BL$10,4,FALSE)","v":-13},{"$f":"T89-HLOOKUP(X89,Feuil1!$C$1:$BL$10,5,FALSE)","v":-23},{"$f":"T89-HLOOKUP(X89,Feuil1!$C$1:$BL$10,6,FALSE)","v":-38},{"$f":"T89-HLOOKUP(X89,Feuil1!$C$1:$BL$10,7,FALSE)","v":-53},{"$f":"T89-HLOOKUP(X89,Feuil1!$C$1:$BL$10,8,FALSE)","v":-68},{"$f":"T89-HLOOKUP(X89,Feuil1!$C$1:$BL$10,9,FALSE)","v":-88},{"$f":"T89-HLOOKUP(X89,Feuil1!$C$1:$BL$10,10,FALSE)","v":-928},null,null,null,null,null,null,"DEB "]
["F","N","IDF",20,395372,"LALIEU","Zoé",1997,62.2,"FRANCONVILLE","F",24,26,27,27,-38,38,38,38,65,-59.400000000000006,"DEB ",0,{"$f":"IF(I90=\"\",\"\",IF(A90=\"H\",IF(OR(H90=\"SEN\",H90<1995),VLOOKUP(I90,Feuil1!$A$11:$F$29,6),IF(AND(H90>1994,H90<1998),VLOOKUP(I90,Feuil1!$A$11:$F$29,5),IF(AND(H90>1997,H90<2000),VLOOKUP(I90,Feuil1!$A$11:$F$29,4),IF(AND(H90>1999,H90<2002),VLOOKUP(I90,Feuil1!$A$11:$F$29,3),VLOOKUP(I90,Feuil1!$A$11:$F$29,2))))),IF(OR(H90=\"SEN\",H90<1995),VLOOKUP(I90,Feuil1!$G$11:$L$25,6),IF(AND(H90>1994,H90<1998),VLOOKUP(I90,Feuil1!$G$11:$L$25,5),IF(AND(H90>1997,H90<2000),VLOOKUP(I90,Feuil1!$G$11:$L$25,4),IF(AND(H90>1999,H90<2002),VLOOKUP(I90,Feuil1!$G$11:$L$25,3),VLOOKUP(I90,Feuil1!$G$11:$L$25,2)))))))","v":"FJ63"},87.123288682689221,null," ",{"$f":"T90-HLOOKUP(X90,Feuil1!$C$1:$BL$10,2,FALSE)","v":0},{"$f":"T90-HLOOKUP(X90,Feuil1!$C$1:$BL$10,3,FALSE)","v":-10},{"$f":"T90-HLOOKUP(X90,Feuil1!$C$1:$BL$10,4,FALSE)","v":-20},{"$f":"T90-HLOOKUP(X90,Feuil1!$C$1:$BL$10,5,FALSE)","v":-30},{"$f":"T90-HLOOKUP(X90,Feuil1!$C$1:$BL$10,6,FALSE)","v":-45},{"$f":"T90-HLOOKUP(X90,Feuil1!$C$1:$BL$10,7,FALSE)","v":-60},{"$f":"T90-HLOOKUP(X90,Feuil1!$C$1:$BL$10,8,FALSE)","v":-75},{"$f":"T90-HLOOKUP(X90,Feuil1!$C$1:$BL$10,9,FALSE)","v":-95},{"$f":"T90-HLOOKUP(X90,Feuil1!$C$1:$BL$10,10,FALSE)","v":-935},null,null,null,null,null,null,"DEB "]
["F","SEST","RAL",21,366671,"TARAKU","Rachel",1997,58.95,"VALENCE","F",-27,27,-31,27,32,-35,35,35,62,-55.900000000000006,"DEB ",-3,{"$f":"IF(I91=\"\",\"\",IF(A91=\"H\",IF(OR(H91=\"SEN\",H91<1995),VLOOKUP(I91,Feuil1!$A$11:$F$29,6),IF(AND(H91>1994,H91<1998),VLOOKUP(I91,Feuil1!$A$11:$F$29,5),IF(AND(H91>1997,H91<2000),VLOOKUP(I91,Feuil1!$A$11:$F$29,4),IF(AND(H91>1999,H91<2002),VLOOKUP(I91,Feuil1!$A$11:$F$29,3),VLOOKUP(I91,Feuil1!$A$11:$F$29,2))))),IF(OR(H91=\"SEN\",H91<1995),VLOOKUP(I91,Feuil1!$G$11:$L$25,6),IF(AND(H91>1994,H91<1998),VLOOKUP(I91,Feuil1!$G$11:$L$25,5),IF(AND(H91>1997,H91<2000),VLOOKUP(I91,Feuil1!$G$11:$L$25,4),IF(AND(H91>1999,H91<2002),VLOOKUP(I91,Feuil1!$G$11:$L$25,3),VLOOKUP(I91,Feuil1!$G$11:$L$25,2)))))))","v":"FJ63"},86.267808648219557,null," ",{"$f":"T91-HLOOKUP(X91,Feuil1!$C$1:$BL$10,2,FALSE)","v":-3},{"$f":"T91-HLOOKUP(X91,Feuil1!$C$1:$BL$10,3,FALSE)","v":-13},{"$f":"T91-HLOOKUP(X91,Feuil1!$C$1:$BL$10,4,FALSE)","v":-23},{"$f":"T91-HLOOKUP(X91,Feuil1!$C$1:$BL$10,5,FALSE)","v":-33},{"$f":"T91-HLOOKUP(X91,Feuil1!$C$1:$BL$10,6,FALSE)","v":-48},{"$f":"T91-HLOOKUP(X91,Feuil1!$C$1:$BL$10,7,FALSE)","v":-63},{"$f":"T91-HLOOKUP(X91,Feuil1!$C$1:$BL$10,8,FALSE)","v":-78},{"$f":"T91-HLOOKUP(X91,Feuil1!$C$1:$BL$10,9,FALSE)","v":-98},{"$f":"T91-HLOOKUP(X91,Feuil1!$C$1:$BL$10,10,FALSE)","v":-938},null,null,null,null,null,null,"DEB "]
["F","NE","BOU",22,336127,"COSTA","Charlène",1997,61.6,"Olympique Mâcon","F",20,23,-26,23,33,-36,39,39,62,-61.2,"DEB ",-3,{"$f":"IF(I92=\"\",\"\",IF(A92=\"H\",IF(OR(H92=\"SEN\",H92<1995),VLOOKUP(I92,Feuil1!$A$11:$F$29,6),IF(AND(H92>1994,H92<1998),VLOOKUP(I92,Feuil1!$A$11:$F$29,5),IF(AND(H92>1997,H92<2000),VLOOKUP(I92,Feuil1!$A$11:$F$29,4),IF(AND(H92>1999,H92<2002),VLOOKUP(I92,Feuil1!$A$11:$F$29,3),VLOOKUP(I92,Feuil1!$A$11:$F$29,2))))),IF(OR(H92=\"SEN\",H92<1995),VLOOKUP(I92,Feuil1!$G$11:$L$25,6),IF(AND(H92>1994,H92<1998),VLOOKUP(I92,Feuil1!$G$11:$L$25,5),IF(AND(H92>1997,H92<2000),VLOOKUP(I92,Feuil1!$G$11:$L$25,4),IF(AND(H92>1999,H92<2002),VLOOKUP(I92,Feuil1!$G$11:$L$25,3),VLOOKUP(I92,Feuil1!$G$11:$L$25,2)))))))","v":"FJ63"},83.651371491634364,null," ",{"$f":"T92-HLOOKUP(X92,Feuil1!$C$1:$BL$10,2,FALSE)","v":-3},{"$f":"T92-HLOOKUP(X92,Feuil1!$C$1:$BL$10,3,FALSE)","v":-13},{"$f":"T92-HLOOKUP(X92,Feuil1!$C$1:$BL$10,4,FALSE)","v":-23},{"$f":"T92-HLOOKUP(X92,Feuil1!$C$1:$BL$10,5,FALSE)","v":-33},{"$f":"T92-HLOOKUP(X92,Feuil1!$C$1:$BL$10,6,FALSE)","v":-48},{"$f":"T92-HLOOKUP(X92,Feuil1!$C$1:$BL$10,7,FALSE)","v":-63},{"$f":"T92-HLOOKUP(X92,Feuil1!$C$1:$BL$10,8,FALSE)","v":-78},{"$f":"T92-HLOOKUP(X92,Feuil1!$C$1:$BL$10,9,FALSE)","v":-98},{"$f":"T92-HLOOKUP(X92,Feuil1!$C$1:$BL$10,10,FALSE)","v":-938},null,null,null,null,null,null,"DEB "]
["F","NE","ALS",23,369423,"JEANNINGROS","HELENE",1997,59.35,"US Wittenheim","F",23,25,-27,25,27,-30,30,30,55,-63.7,"DEB ",-10,{"$f":"IF(I93=\"\",\"\",IF(A93=\"H\",IF(OR(H93=\"SEN\",H93<1995),VLOOKUP(I93,Feuil1!$A$11:$F$29,6),IF(AND(H93>1994,H93<1998),VLOOKUP(I93,Feuil1!$A$11:$F$29,5),IF(AND(H93>1997,H93<2000),VLOOKUP(I93,Feuil1!$A$11:$F$29,4),IF(AND(H93>1999,H93<2002),VLOOKUP(I93,Feuil1!$A$11:$F$29,3),VLOOKUP(I93,Feuil1!$A$11:$F$29,2))))),IF(OR(H93=\"SEN\",H93<1995),VLOOKUP(I93,Feuil1!$G$11:$L$25,6),IF(AND(H93>1994,H93<1998),VLOOKUP(I93,Feuil1!$G$11:$L$25,5),IF(AND(H93>1997,H93<2000),VLOOKUP(I93,Feuil1!$G$11:$L$25,4),IF(AND(H93>1999,H93<2002),VLOOKUP(I93,Feuil1!$G$11:$L$25,3),VLOOKUP(I93,Feuil1!$G$11:$L$25,2)))))))","v":"FJ63"},76.158806949545806,null," ",{"$f":"T93-HLOOKUP(X93,Feuil1!$C$1:$BL$10,2,FALSE)","v":-10},{"$f":"T93-HLOOKUP(X93,Feuil1!$C$1:$BL$10,3,FALSE)","v":-20},{"$f":"T93-HLOOKUP(X93,Feuil1!$C$1:$BL$10,4,FALSE)","v":-30},{"$f":"T93-HLOOKUP(X93,Feuil1!$C$1:$BL$10,5,FALSE)","v":-40},{"$f":"T93-HLOOKUP(X93,Feuil1!$C$1:$BL$10,6,FALSE)","v":-55},{"$f":"T93-HLOOKUP(X93,Feuil1!$C$1:$BL$10,7,FALSE)","v":-70},{"$f":"T93-HLOOKUP(X93,Feuil1!$C$1:$BL$10,8,FALSE)","v":-85},{"$f":"T93-HLOOKUP(X93,Feuil1!$C$1:$BL$10,9,FALSE)","v":-105},{"$f":"T93-HLOOKUP(X93,Feuil1!$C$1:$BL$10,10,FALSE)","v":-945},null,null,null,null,null,null,"DEB "]
[null,null,null,null,null,null,null,null,null,null,null,null,null,null,null,null,null,null,null,null,null,null,null,null,null,null," ",{"$f":"T94-HLOOKUP(X94,[1]Feuil1!$C$1:$BL$10,2,FALSE)","v":{"$error":"#N/A"}},{"$f":"T94-HLOOKUP(X94,[1]Feuil1!$C$1:$BL$10,3,FALSE)","v":{"$error":"#N/A"}},{"$f":"T94-HLOOKUP(X94,[1]Feuil1!$C$1:$BL$10,4,FALSE)","v":{"$error":"#N/A"}},{"$f":"T94-HLOOKUP(X94,[1]Feuil1!$C$1:$BL$10,5,FALSE)","v":{"$error":"#N/A"}},{"$f":"T94-HLOOKUP(X94,[1]Feuil1!$C$1:$BL$10,6,FALSE)","v":{"$error":"#N/A"}},{"$f":"T94-HLOOKUP(X94,[1]Feuil1!$C$1:$BL$10,7,FALSE)","v":{"$error":"#N/A"}},{"$f":"T94-HLOOKUP(X94,[1]Feuil1!$C$1:$BL$10,8,FALSE)","v":{"$error":"#N/A"}},{"$f":"T94-HLOOKUP(X94,[1]Feuil1!$C$1:$BL$10,9,FALSE)","v":{"$error":"#N/A"}},{"$f":"T94-HLOOKUP(X94,[1]Feuil1!$C$1:$BL$10,10,FALSE)","v":{"$error":"#N/A"}},null,null,null,null,null,null,{"$f":"IF(AJ94>=0,$AJ$4,IF(AI94>=0,$AI$4,IF(AH94>=0,$AH$4,IF(AG94>=0,$AG$4,IF(AF94>=0,$AF$4,IF(AE94>=0,$AE$4,IF(AD94>=0,$AD$4,IF(AC94>=0,$AC$4,$AB$4))))))))","v":{"$error":"#N/A"}}]
["F","DOM","GUA",1,183203,"GRAVA","Naomi",1996,68.8,"AHCS/Pointois","F",65,70,72,{"$f":"IF(H95=\"\",\"\",IF(MAXA(L95:N95)<=0,0,MAXA(L95:N95)))","v":72},80,85,-89,{"$f":"IF(H95=\"\",\"\",IF(MAXA(P95:R95)<=0,0,MAXA(P95:R95)))","v":85},{"$f":"IF(H95=\"\",\"\",IF(OR(O95=0,S95=0),0,O95+S95))","v":157},{"$f":"T95-I95*2","v":19.400000000000006},{"$f":"IF(H95=\"\",\"\",AQ95)","v":"INTB +"},{"$f":"IF(AJ95>=0,AJ95,IF(AI95>=0,AI95,IF(AH95>=0,AH95,IF(AG95>=0,AG95,IF(AF95>=0,AF95,IF(AE95>=0,AE95,IF(AD95>=0,AD95,IF(AC95>=0,AC95,AB95))))))))","v":7},{"$f":"IF(I95=\"\",\"\",IF(A95=\"H\",IF(OR(H95=\"SEN\",H95<1995),VLOOKUP(I95,Feuil1!$A$11:$F$29,6),IF(AND(H95>1994,H95<1998),VLOOKUP(I95,Feuil1!$A$11:$F$29,5),IF(AND(H95>1997,H95<2000),VLOOKUP(I95,Feuil1!$A$11:$F$29,4),IF(AND(H95>1999,H95<2002),VLOOKUP(I95,Feuil1!$A$11:$F$29,3),VLOOKUP(I95,Feuil1!$A$11:$F$29,2))))),IF(OR(H95=\"SEN\",H95<1995),VLOOKUP(I95,Feuil1!$G$11:$L$25,6),IF(AND(H95>1994,H95<1998),VLOOKUP(I95,Feuil1!$G$11:$L$25,5),IF(AND(H95>1997,H95<2000),VLOOKUP(I95,Feuil1!$G$11:$L$25,4),IF(AND(H95>1999,H95<2002),VLOOKUP(I95,Feuil1!$G$11:$L$25,3),VLOOKUP(I95,Feuil1!$G$11:$L$25,2)))))))","v":"FJ69"},{"$f":"IF(I95=\"\",\"\",IF(A95=\"H\",10^(0.794358141*LOG(I95/174.393)^2)*T95,IF(A95=\"F\",10^(0.89726074*LOG(I95/148.026)^2)*T95,\"\")))","v":197.35421272392091},null," ",{"$f":"T95-HLOOKUP(X95,Feuil1!$C$1:$BL$10,2,FALSE)","v":87},{"$f":"T95-HLOOKUP(X95,Feuil1!$C$1:$BL$10,3,FALSE)","v":77},{"$f":"T95-HLOOKUP(X95,Feuil1!$C$1:$BL$10,4,FALSE)","v":67},{"$f":"T95-HLOOKUP(X95,Feuil1!$C$1:$BL$10,5,FALSE)","v":52},{"$f":"T95-HLOOKUP(X95,Feuil1!$C$1:$BL$10,6,FALSE)","v":37},{"$f":"T95-HLOOKUP(X95,Feuil1!$C$1:$BL$10,7,FALSE)","v":22},{"$f":"T95-HLOOKUP(X95,Feuil1!$C$1:$BL$10,8,FALSE)","v":7},{"$f":"T95-HLOOKUP(X95,Feuil1!$C$1:$BL$10,9,FALSE)","v":-13},{"$f":"T95-HLOOKUP(X95,Feuil1!$C$1:$BL$10,10,FALSE)","v":-843},null,null,null,null,null,null,{"$f":"IF(AJ95>=0,$AJ$4,IF(AI95>=0,$AI$4,IF(AH95>=0,$AH$4,IF(AG95>=0,$AG$4,IF(AF95>=0,$AF$4,IF(AE95>=0,$AE$4,IF(AD95>=0,$AD$4,IF(AC95>=0,$AC$4,$AB$4))))))))","v":"INTB +"}]
["F","NE","ALS",2,298196,"CERDAN","MARGOT",1997,68,"US Wittenheim","F",53,57,-60,57,73,76,78,78,135,-1,"NAT +",0,{"$f":"IF(I96=\"\",\"\",IF(A96=\"H\",IF(OR(H96=\"SEN\",H96<1995),VLOOKUP(I96,Feuil1!$A$11:$F$29,6),IF(AND(H96>1994,H96<1998),VLOOKUP(I96,Feuil1!$A$11:$F$29,5),IF(AND(H96>1997,H96<2000),VLOOKUP(I96,Feuil1!$A$11:$F$29,4),IF(AND(H96>1999,H96<2002),VLOOKUP(I96,Feuil1!$A$11:$F$29,3),VLOOKUP(I96,Feuil1!$A$11:$F$29,2))))),IF(OR(H96=\"SEN\",H96<1995),VLOOKUP(I96,Feuil1!$G$11:$L$25,6),IF(AND(H96>1994,H96<1998),VLOOKUP(I96,Feuil1!$G$11:$L$25,5),IF(AND(H96>1997,H96<2000),VLOOKUP(I96,Feuil1!$G$11:$L$25,4),IF(AND(H96>1999,H96<2002),VLOOKUP(I96,Feuil1!$G$11:$L$25,3),VLOOKUP(I96,Feuil1!$G$11:$L$25,2)))))))","v":"FJ69"},170.89792360260981,null," ",{"$f":"T96-HLOOKUP(X96,Feuil1!$C$1:$BL$10,2,FALSE)","v":65},{"$f":"T96-HLOOKUP(X96,Feuil1!$C$1:$BL$10,3,FALSE)","v":55},{"$f":"T96-HLOOKUP(X96,Feuil1!$C$1:$BL$10,4,FALSE)","v":45},{"$f":"T96-HLOOKUP(X96,Feuil1!$C$1:$BL$10,5,FALSE)","v":30},{"$f":"T96-HLOOKUP(X96,Feuil1!$C$1:$BL$10,6,FALSE)","v":15},{"$f":"T96-HLOOKUP(X96,Feuil1!$C$1:$BL$10,7,FALSE)","v":0},{"$f":"T96-HLOOKUP(X96,Feuil1!$C$1:$BL$10,8,FALSE)","v":-15},{"$f":"T96-HLOOKUP(X96,Feuil1!$C$1:$BL$10,9,FALSE)","v":-35},{"$f":"T96-HLOOKUP(X96,Feuil1!$C$1:$BL$10,10,FALSE)","v":-865},null,null,null,null,null,null,"NAT +"]
["F","SEST","CAZ",3,231757,"RONCO","Emmanuelle",1995,63.6,"E.S. VILLENEUVE LOUBET","F",59,62,64,64,-68,-68,68,68,132,4.7999999999999972,"FED +",12,{"$f":"IF(I97=\"\",\"\",IF(A97=\"H\",IF(OR(H97=\"SEN\",H97<1995),VLOOKUP(I97,Feuil1!$A$11:$F$29,6),IF(AND(H97>1994,H97<1998),VLOOKUP(I97,Feuil1!$A$11:$F$29,5),IF(AND(H97>1997,H97<2000),VLOOKUP(I97,Feuil1!$A$11:$F$29,4),IF(AND(H97>1999,H97<2002),VLOOKUP(I97,Feuil1!$A$11:$F$29,3),VLOOKUP(I97,Feuil1!$A$11:$F$29,2))))),IF(OR(H97=\"SEN\",H97<1995),VLOOKUP(I97,Feuil1!$G$11:$L$25,6),IF(AND(H97>1994,H97<1998),VLOOKUP(I97,Feuil1!$G$11:$L$25,5),IF(AND(H97>1997,H97<2000),VLOOKUP(I97,Feuil1!$G$11:$L$25,4),IF(AND(H97>1999,H97<2002),VLOOKUP(I97,Feuil1!$G$11:$L$25,3),VLOOKUP(I97,Feuil1!$G$11:$L$25,2)))))))","v":"FJ69"},174.31977226285329,null," ",{"$f":"T97-HLOOKUP(X97,Feuil1!$C$1:$BL$10,2,FALSE)","v":62},{"$f":"T97-HLOOKUP(X97,Feuil1!$C$1:$BL$10,3,FALSE)","v":52},{"$f":"T97-HLOOKUP(X97,Feuil1!$C$1:$BL$10,4,FALSE)","v":42},{"$f":"T97-HLOOKUP(X97,Feuil1!$C$1:$BL$10,5,FALSE)","v":27},{"$f":"T97-HLOOKUP(X97,Feuil1!$C$1:$BL$10,6,FALSE)","v":12},{"$f":"T97-HLOOKUP(X97,Feuil1!$C$1:$BL$10,7,FALSE)","v":-3},{"$f":"T97-HLOOKUP(X97,Feuil1!$C$1:$BL$10,8,FALSE)","v":-18},{"$f":"T97-HLOOKUP(X97,Feuil1!$C$1:$BL$10,9,FALSE)","v":-38},{"$f":"T97-HLOOKUP(X97,Feuil1!$C$1:$BL$10,10,FALSE)","v":-868},null,null,null,null,null,null,"FED +"]
["F","NE","ALS",4,348083,"LEIBUNDGUTH","LISA",1997,68.099999999999994,"ASI Avenir HM","F",-54,-54,54,54,74,77,-79,77,131,-5.1999999999999886,"FED +",11,{"$f":"IF(I98=\"\",\"\",IF(A98=\"H\",IF(OR(H98=\"SEN\",H98<1995),VLOOKUP(I98,Feuil1!$A$11:$F$29,6),IF(AND(H98>1994,H98<1998),VLOOKUP(I98,Feuil1!$A$11:$F$29,5),IF(AND(H98>1997,H98<2000),VLOOKUP(I98,Feuil1!$A$11:$F$29,4),IF(AND(H98>1999,H98<2002),VLOOKUP(I98,Feuil1!$A$11:$F$29,3),VLOOKUP(I98,Feuil1!$A$11:$F$29,2))))),IF(OR(H98=\"SEN\",H98<1995),VLOOKUP(I98,Feuil1!$G$11:$L$25,6),IF(AND(H98>1994,H98<1998),VLOOKUP(I98,Feuil1!$G$11:$L$25,5),IF(AND(H98>1997,H98<2000),VLOOKUP(I98,Feuil1!$G$11:$L$25,4),IF(AND(H98>1999,H98<2002),VLOOKUP(I98,Feuil1!$G$11:$L$25,3),VLOOKUP(I98,Feuil1!$G$11:$L$25,2)))))))","v":"FJ69"},165.68674871774004,null," ",{"$f":"T98-HLOOKUP(X98,Feuil1!$C$1:$BL$10,2,FALSE)","v":61},{"$f":"T98-HLOOKUP(X98,Feuil1!$C$1:$BL$10,3,FALSE)","v":51},{"$f":"T98-HLOOKUP(X98,Feuil1!$C$1:$BL$10,4,FALSE)","v":41},{"$f":"T98-HLOOKUP(X98,Feuil1!$C$1:$BL$10,5,FALSE)","v":26},{"$f":"T98-HLOOKUP(X98,Feuil1!$C$1:$BL$10,6,FALSE)","v":11},{"$f":"T98-HLOOKUP(X98,Feuil1!$C$1:$BL$10,7,FALSE)","v":-4},{"$f":"T98-HLOOKUP(X98,Feuil1!$C$1:$BL$10,8,FALSE)","v":-19},{"$f":"T98-HLOOKUP(X98,Feuil1!$C$1:$BL$10,9,FALSE)","v":-39},{"$f":"T98-HLOOKUP(X98,Feuil1!$C$1:$BL$10,10,FALSE)","v":-869},null,null,null,null,null,null,"FED +"]
["F","SEST","PRO",5,375285,"GIRARD","Sarah",1996,63.9,"ISTRES SPORTS","F",50,-55,55,55,63,68,70,70,125,-2.7999999999999972,"FED +",5,{"$f":"IF(I99=\"\",\"\",IF(A99=\"H\",IF(OR(H99=\"SEN\",H99<1995),VLOOKUP(I99,Feuil1!$A$11:$F$29,6),IF(AND(H99>1994,H99<1998),VLOOKUP(I99,Feuil1!$A$11:$F$29,5),IF(AND(H99>1997,H99<2000),VLOOKUP(I99,Feuil1!$A$11:$F$29,4),IF(AND(H99>1999,H99<2002),VLOOKUP(I99,Feuil1!$A$11:$F$29,3),VLOOKUP(I99,Feuil1!$A$11:$F$29,2))))),IF(OR(H99=\"SEN\",H99<1995),VLOOKUP(I99,Feuil1!$G$11:$L$25,6),IF(AND(H99>1994,H99<1998),VLOOKUP(I99,Feuil1!$G$11:$L$25,5),IF(AND(H99>1997,H99<2000),VLOOKUP(I99,Feuil1!$G$11:$L$25,4),IF(AND(H99>1999,H99<2002),VLOOKUP(I99,Feuil1!$G$11:$L$25,3),VLOOKUP(I99,Feuil1!$G$11:$L$25,2)))))))","v":"FJ69"},164.56630920333521,null," ",{"$f":"T99-HLOOKUP(X99,Feuil1!$C$1:$BL$10,2,FALSE)","v":55},{"$f":"T99-HLOOKUP(X99,Feuil1!$C$1:$BL$10,3,FALSE)","v":45},{"$f":"T99-HLOOKUP(X99,Feuil1!$C$1:$BL$10,4,FALSE)","v":35},{"$f":"T99-HLOOKUP(X99,Feuil1!$C$1:$BL$10,5,FALSE)","v":20},{"$f":"T99-HLOOKUP(X99,Feuil1!$C$1:$BL$10,6,FALSE)","v":5},{"$f":"T99-HLOOKUP(X99,Feuil1!$C$1:$BL$10,7,FALSE)","v":-10},{"$f":"T99-HLOOKUP(X99,Feuil1!$C$1:$BL$10,8,FALSE)","v":-25},{"$f":"T99-HLOOKUP(X99,Feuil1!$C$1:$BL$10,9,FALSE)","v":-45},{"$f":"T99-HLOOKUP(X99,Feuil1!$C$1:$BL$10,10,FALSE)","v":-875},null,null,null,null,null,null,"FED +"]
["F","SO","MPY",6,253453,"JOURNET","Anaïs",1995,65.900000000000006,"FIGEAC HC","F",47,50,52,52,65,70,72,72,124,-7.8000000000000114,"FED +",4,{"$f":"IF(I100=\"\",\"\",IF(A100=\"H\",IF(OR(H100=\"SEN\",H100<1995),VLOOKUP(I100,Feuil1!$A$11:$F$29,6),IF(AND(H100>1994,H100<1998),VLOOKUP(I100,Feuil1!$A$11:$F$29,5),IF(AND(H100>1997,H100<2000),VLOOKUP(I100,Feuil1!$A$11:$F$29,4),IF(AND(H100>1999,H100<2002),VLOOKUP(I100,Feuil1!$A$11:$F$29,3),VLOOKUP(I100,Feuil1!$A$11:$F$29,2))))),IF(OR(H100=\"SEN\",H100<1995),VLOOKUP(I100,Feuil1!$G$11:$L$25,6),IF(AND(H100>1994,H100<1998),VLOOKUP(I100,Feuil1!$G$11:$L$25,5),IF(AND(H100>1997,H100<2000),VLOOKUP(I100,Feuil1!$G$11:$L$25,4),IF(AND(H100>1999,H100<2002),VLOOKUP(I100,Feuil1!$G$11:$L$25,3),VLOOKUP(I100,Feuil1!$G$11:$L$25,2)))))))","v":"FJ69"},160.04804178682409,null," ",{"$f":"T100-HLOOKUP(X100,Feuil1!$C$1:$BL$10,2,FALSE)","v":54},{"$f":"T100-HLOOKUP(X100,Feuil1!$C$1:$BL$10,3,FALSE)","v":44},{"$f":"T100-HLOOKUP(X100,Feuil1!$C$1:$BL$10,4,FALSE)","v":34},{"$f":"T100-HLOOKUP(X100,Feuil1!$C$1:$BL$10,5,FALSE)","v":19},{"$f":"T100-HLOOKUP(X100,Feuil1!$C$1:$BL$10,6,FALSE)","v":4},{"$f":"T100-HLOOKUP(X100,Feuil1!$C$1:$BL$10,7,FALSE)","v":-11},{"$f":"T100-HLOOKUP(X100,Feuil1!$C$1:$BL$10,8,FALSE)","v":-26},{"$f":"T100-HLOOKUP(X100,Feuil1!$C$1:$BL$10,9,FALSE)","v":-46},{"$f":"T100-HLOOKUP(X100,Feuil1!$C$1:$BL$10,10,FALSE)","v":-876},null,null,null,null,null,null,"FED +"]
["F","N","IDF",7,326999,"BIFANO","ELENA",1997,64.599999999999994,"BLANC-MESNIL","F",45,49,52,52,59,61,61,61,113,-16.199999999999989,"IRG +",8,{"$f":"IF(I101=\"\",\"\",IF(A101=\"H\",IF(OR(H101=\"SEN\",H101<1995),VLOOKUP(I101,Feuil1!$A$11:$F$29,6),IF(AND(H101>1994,H101<1998),VLOOKUP(I101,Feuil1!$A$11:$F$29,5),IF(AND(H101>1997,H101<2000),VLOOKUP(I101,Feuil1!$A$11:$F$29,4),IF(AND(H101>1999,H101<2002),VLOOKUP(I101,Feuil1!$A$11:$F$29,3),VLOOKUP(I101,Feuil1!$A$11:$F$29,2))))),IF(OR(H101=\"SEN\",H101<1995),VLOOKUP(I101,Feuil1!$G$11:$L$25,6),IF(AND(H101>1994,H101<1998),VLOOKUP(I101,Feuil1!$G$11:$L$25,5),IF(AND(H101>1997,H101<2000),VLOOKUP(I101,Feuil1!$G$11:$L$25,4),IF(AND(H101>1999,H101<2002),VLOOKUP(I101,Feuil1!$G$11:$L$25,3),VLOOKUP(I101,Feuil1!$G$11:$L$25,2)))))))","v":"FJ69"},147.7173786025902,null," ",{"$f":"T101-HLOOKUP(X101,Feuil1!$C$1:$BL$10,2,FALSE)","v":43},{"$f":"T101-HLOOKUP(X101,Feuil1!$C$1:$BL$10,3,FALSE)","v":33},{"$f":"T101-HLOOKUP(X101,Feuil1!$C$1:$BL$10,4,FALSE)","v":23},{"$f":"T101-HLOOKUP(X101,Feuil1!$C$1:$BL$10,5,FALSE)","v":8},{"$f":"T101-HLOOKUP(X101,Feuil1!$C$1:$BL$10,6,FALSE)","v":-7},{"$f":"T101-HLOOKUP(X101,Feuil1!$C$1:$BL$10,7,FALSE)","v":-22},{"$f":"T101-HLOOKUP(X101,Feuil1!$C$1:$BL$10,8,FALSE)","v":-37},{"$f":"T101-HLOOKUP(X101,Feuil1!$C$1:$BL$10,9,FALSE)","v":-57},{"$f":"T101-HLOOKUP(X101,Feuil1!$C$1:$BL$10,10,FALSE)","v":-887},null,null,null,null,null,null,"IRG +"]
["F","SEST","RAL",8,356024,"PARENTI","Elora",1995,66.7,"CH Arbresle","F",-42,-42,42,42,55,61,64,64,106,-27.400000000000006,"IRG +",1,{"$f":"IF(I102=\"\",\"\",IF(A102=\"H\",IF(OR(H102=\"SEN\",H102<1995),VLOOKUP(I102,Feuil1!$A$11:$F$29,6),IF(AND(H102>1994,H102<1998),VLOOKUP(I102,Feuil1!$A$11:$F$29,5),IF(AND(H102>1997,H102<2000),VLOOKUP(I102,Feuil1!$A$11:$F$29,4),IF(AND(H102>1999,H102<2002),VLOOKUP(I102,Feuil1!$A$11:$F$29,3),VLOOKUP(I102,Feuil1!$A$11:$F$29,2))))),IF(OR(H102=\"SEN\",H102<1995),VLOOKUP(I102,Feuil1!$G$11:$L$25,6),IF(AND(H102>1994,H102<1998),VLOOKUP(I102,Feuil1!$G$11:$L$25,5),IF(AND(H102>1997,H102<2000),VLOOKUP(I102,Feuil1!$G$11:$L$25,4),IF(AND(H102>1999,H102<2002),VLOOKUP(I102,Feuil1!$G$11:$L$25,3),VLOOKUP(I102,Feuil1!$G$11:$L$25,2)))))))","v":"FJ69"},135.78572315245265,null," ",{"$f":"T102-HLOOKUP(X102,Feuil1!$C$1:$BL$10,2,FALSE)","v":36},{"$f":"T102-HLOOKUP(X102,Feuil1!$C$1:$BL$10,3,FALSE)","v":26},{"$f":"T102-HLOOKUP(X102,Feuil1!$C$1:$BL$10,4,FALSE)","v":16},{"$f":"T102-HLOOKUP(X102,Feuil1!$C$1:$BL$10,5,FALSE)","v":1},{"$f":"T102-HLOOKUP(X102,Feuil1!$C$1:$BL$10,6,FALSE)","v":-14},{"$f":"T102-HLOOKUP(X102,Feuil1!$C$1:$BL$10,7,FALSE)","v":-29},{"$f":"T102-HLOOKUP(X102,Feuil1!$C$1:$BL$10,8,FALSE)","v":-44},{"$f":"T102-HLOOKUP(X102,Feuil1!$C$1:$BL$10,9,FALSE)","v":-64},{"$f":"T102-HLOOKUP(X102,Feuil1!$C$1:$BL$10,10,FALSE)","v":-894},null,null,null,null,null,null,"IRG +"]
["F","SO","AQU",9,300660,"DARMON","MELODIE",1997,64.2,"BORDEAUX ASPOM","F",38,-42,43,43,50,55,59,59,102,-26.400000000000006,"REG +",12,{"$f":"IF(I103=\"\",\"\",IF(A103=\"H\",IF(OR(H103=\"SEN\",H103<1995),VLOOKUP(I103,Feuil1!$A$11:$F$29,6),IF(AND(H103>1994,H103<1998),VLOOKUP(I103,Feuil1!$A$11:$F$29,5),IF(AND(H103>1997,H103<2000),VLOOKUP(I103,Feuil1!$A$11:$F$29,4),IF(AND(H103>1999,H103<2002),VLOOKUP(I103,Feuil1!$A$11:$F$29,3),VLOOKUP(I103,Feuil1!$A$11:$F$29,2))))),IF(OR(H103=\"SEN\",H103<1995),VLOOKUP(I103,Feuil1!$G$11:$L$25,6),IF(AND(H103>1994,H103<1998),VLOOKUP(I103,Feuil1!$G$11:$L$25,5),IF(AND(H103>1997,H103<2000),VLOOKUP(I103,Feuil1!$G$11:$L$25,4),IF(AND(H103>1999,H103<2002),VLOOKUP(I103,Feuil1!$G$11:$L$25,3),VLOOKUP(I103,Feuil1!$G$11:$L$25,2)))))))","v":"FJ69"},133.87608793609135,null," ",{"$f":"T103-HLOOKUP(X103,Feuil1!$C$1:$BL$10,2,FALSE)","v":32},{"$f":"T103-HLOOKUP(X103,Feuil1!$C$1:$BL$10,3,FALSE)","v":22},{"$f":"T103-HLOOKUP(X103,Feuil1!$C$1:$BL$10,4,FALSE)","v":12},{"$f":"T103-HLOOKUP(X103,Feuil1!$C$1:$BL$10,5,FALSE)","v":-3},{"$f":"T103-HLOOKUP(X103,Feuil1!$C$1:$BL$10,6,FALSE)","v":-18},{"$f":"T103-HLOOKUP(X103,Feuil1!$C$1:$BL$10,7,FALSE)","v":-33},{"$f":"T103-HLOOKUP(X103,Feuil1!$C$1:$BL$10,8,FALSE)","v":-48},{"$f":"T103-HLOOKUP(X103,Feuil1!$C$1:$BL$10,9,FALSE)","v":-68},{"$f":"T103-HLOOKUP(X103,Feuil1!$C$1:$BL$10,10,FALSE)","v":-898},null,null,null,null,null,null,"REG +"]
["F","SO","AQU",10,332615,"SUBE","JULIE",1997,66.569999999999993,"ASOA Aquitaine","F",40,45,-47,45,50,55,-59,55,100,-33.139999999999986,"REG +",10,{"$f":"IF(I104=\"\",\"\",IF(A104=\"H\",IF(OR(H104=\"SEN\",H104<1995),VLOOKUP(I104,Feuil1!$A$11:$F$29,6),IF(AND(H104>1994,H104<1998),VLOOKUP(I104,Feuil1!$A$11:$F$29,5),IF(AND(H104>1997,H104<2000),VLOOKUP(I104,Feuil1!$A$11:$F$29,4),IF(AND(H104>1999,H104<2002),VLOOKUP(I104,Feuil1!$A$11:$F$29,3),VLOOKUP(I104,Feuil1!$A$11:$F$29,2))))),IF(OR(H104=\"SEN\",H104<1995),VLOOKUP(I104,Feuil1!$G$11:$L$25,6),IF(AND(H104>1994,H104<1998),VLOOKUP(I104,Feuil1!$G$11:$L$25,5),IF(AND(H104>1997,H104<2000),VLOOKUP(I104,Feuil1!$G$11:$L$25,4),IF(AND(H104>1999,H104<2002),VLOOKUP(I104,Feuil1!$G$11:$L$25,3),VLOOKUP(I104,Feuil1!$G$11:$L$25,2)))))))","v":"FJ69"},128.25529059644433,null," ",{"$f":"T104-HLOOKUP(X104,Feuil1!$C$1:$BL$10,2,FALSE)","v":30},{"$f":"T104-HLOOKUP(X104,Feuil1!$C$1:$BL$10,3,FALSE)","v":20},{"$f":"T104-HLOOKUP(X104,Feuil1!$C$1:$BL$10,4,FALSE)","v":10},{"$f":"T104-HLOOKUP(X104,Feuil1!$C$1:$BL$10,5,FALSE)","v":-5},{"$f":"T104-HLOOKUP(X104,Feuil1!$C$1:$BL$10,6,FALSE)","v":-20},{"$f":"T104-HLOOKUP(X104,Feuil1!$C$1:$BL$10,7,FALSE)","v":-35},{"$f":"T104-HLOOKUP(X104,Feuil1!$C$1:$BL$10,8,FALSE)","v":-50},{"$f":"T104-HLOOKUP(X104,Feuil1!$C$1:$BL$10,9,FALSE)","v":-70},{"$f":"T104-HLOOKUP(X104,Feuil1!$C$1:$BL$10,10,FALSE)","v":-900},null,null,null,null,null,null,"REG +"]
["F","NORD","PIC",11,299816,"HAUET","Déborah",1995,66.900000000000006,"Péronne AAEEP","F",35,38,40,40,45,50,53,53,93,-40.800000000000011,"REG +",3,{"$f":"IF(I105=\"\",\"\",IF(A105=\"H\",IF(OR(H105=\"SEN\",H105<1995),VLOOKUP(I105,Feuil1!$A$11:$F$29,6),IF(AND(H105>1994,H105<1998),VLOOKUP(I105,Feuil1!$A$11:$F$29,5),IF(AND(H105>1997,H105<2000),VLOOKUP(I105,Feuil1!$A$11:$F$29,4),IF(AND(H105>1999,H105<2002),VLOOKUP(I105,Feuil1!$A$11:$F$29,3),VLOOKUP(I105,Feuil1!$A$11:$F$29,2))))),IF(OR(H105=\"SEN\",H105<1995),VLOOKUP(I105,Feuil1!$G$11:$L$25,6),IF(AND(H105>1994,H105<1998),VLOOKUP(I105,Feuil1!$G$11:$L$25,5),IF(AND(H105>1997,H105<2000),VLOOKUP(I105,Feuil1!$G$11:$L$25,4),IF(AND(H105>1999,H105<2002),VLOOKUP(I105,Feuil1!$G$11:$L$25,3),VLOOKUP(I105,Feuil1!$G$11:$L$25,2)))))))","v":"FJ69"},118.91177524643567,null," ",{"$f":"T105-HLOOKUP(X105,Feuil1!$C$1:$BL$10,2,FALSE)","v":23},{"$f":"T105-HLOOKUP(X105,Feuil1!$C$1:$BL$10,3,FALSE)","v":13},{"$f":"T105-HLOOKUP(X105,Feuil1!$C$1:$BL$10,4,FALSE)","v":3},{"$f":"T105-HLOOKUP(X105,Feuil1!$C$1:$BL$10,5,FALSE)","v":-12},{"$f":"T105-HLOOKUP(X105,Feuil1!$C$1:$BL$10,6,FALSE)","v":-27},{"$f":"T105-HLOOKUP(X105,Feuil1!$C$1:$BL$10,7,FALSE)","v":-42},{"$f":"T105-HLOOKUP(X105,Feuil1!$C$1:$BL$10,8,FALSE)","v":-57},{"$f":"T105-HLOOKUP(X105,Feuil1!$C$1:$BL$10,9,FALSE)","v":-77},{"$f":"T105-HLOOKUP(X105,Feuil1!$C$1:$BL$10,10,FALSE)","v":-907},null,null,null,null,null,null,"REG +"]
["F","NORD","PIC",12,387839,"PADIEU","Eléonore",1995,67.099999999999994,"La Ferté Milon CMHM","F",32,-34,34,34,41,45,47,47,81,-53.199999999999989,"DEP +",1,{"$f":"IF(I106=\"\",\"\",IF(A106=\"H\",IF(OR(H106=\"SEN\",H106<1995),VLOOKUP(I106,Feuil1!$A$11:$F$29,6),IF(AND(H106>1994,H106<1998),VLOOKUP(I106,Feuil1!$A$11:$F$29,5),IF(AND(H106>1997,H106<2000),VLOOKUP(I106,Feuil1!$A$11:$F$29,4),IF(AND(H106>1999,H106<2002),VLOOKUP(I106,Feuil1!$A$11:$F$29,3),VLOOKUP(I106,Feuil1!$A$11:$F$29,2))))),IF(OR(H106=\"SEN\",H106<1995),VLOOKUP(I106,Feuil1!$G$11:$L$25,6),IF(AND(H106>1994,H106<1998),VLOOKUP(I106,Feuil1!$G$11:$L$25,5),IF(AND(H106>1997,H106<2000),VLOOKUP(I106,Feuil1!$G$11:$L$25,4),IF(AND(H106>1999,H106<2002),VLOOKUP(I106,Feuil1!$G$11:$L$25,3),VLOOKUP(I106,Feuil1!$G$11:$L$25,2)))))))","v":"FJ69"},103.37750123660213,null," ",{"$f":"T106-HLOOKUP(X106,Feuil1!$C$1:$BL$10,2,FALSE)","v":11},{"$f":"T106-HLOOKUP(X106,Feuil1!$C$1:$BL$10,3,FALSE)","v":1},{"$f":"T106-HLOOKUP(X106,Feuil1!$C$1:$BL$10,4,FALSE)","v":-9},{"$f":"T106-HLOOKUP(X106,Feuil1!$C$1:$BL$10,5,FALSE)","v":-24},{"$f":"T106-HLOOKUP(X106,Feuil1!$C$1:$BL$10,6,FALSE)","v":-39},{"$f":"T106-HLOOKUP(X106,Feuil1!$C$1:$BL$10,7,FALSE)","v":-54},{"$f":"T106-HLOOKUP(X106,Feuil1!$C$1:$BL$10,8,FALSE)","v":-69},{"$f":"T106-HLOOKUP(X106,Feuil1!$C$1:$BL$10,9,FALSE)","v":-89},{"$f":"T106-HLOOKUP(X106,Feuil1!$C$1:$BL$10,10,FALSE)","v":-919},null,null,null,null,null,null,"DEP +"]
["F","SO","MPY",13,299773,"BASHARAT","Neila",1997,64.8,"TOULOUSE HC","F",25,30,-34,30,36,40,42,42,72,-57.599999999999994,"DEB ",2,{"$f":"IF(I107=\"\",\"\",IF(A107=\"H\",IF(OR(H107=\"SEN\",H107<1995),VLOOKUP(I107,Feuil1!$A$11:$F$29,6),IF(AND(H107>1994,H107<1998),VLOOKUP(I107,Feuil1!$A$11:$F$29,5),IF(AND(H107>1997,H107<2000),VLOOKUP(I107,Feuil1!$A$11:$F$29,4),IF(AND(H107>1999,H107<2002),VLOOKUP(I107,Feuil1!$A$11:$F$29,3),VLOOKUP(I107,Feuil1!$A$11:$F$29,2))))),IF(OR(H107=\"SEN\",H107<1995),VLOOKUP(I107,Feuil1!$G$11:$L$25,6),IF(AND(H107>1994,H107<1998),VLOOKUP(I107,Feuil1!$G$11:$L$25,5),IF(AND(H107>1997,H107<2000),VLOOKUP(I107,Feuil1!$G$11:$L$25,4),IF(AND(H107>1999,H107<2002),VLOOKUP(I107,Feuil1!$G$11:$L$25,3),VLOOKUP(I107,Feuil1!$G$11:$L$25,2)))))))","v":"FJ69"},93.933331066702692,null," ",{"$f":"T107-HLOOKUP(X107,Feuil1!$C$1:$BL$10,2,FALSE)","v":2},{"$f":"T107-HLOOKUP(X107,Feuil1!$C$1:$BL$10,3,FALSE)","v":-8},{"$f":"T107-HLOOKUP(X107,Feuil1!$C$1:$BL$10,4,FALSE)","v":-18},{"$f":"T107-HLOOKUP(X107,Feuil1!$C$1:$BL$10,5,FALSE)","v":-33},{"$f":"T107-HLOOKUP(X107,Feuil1!$C$1:$BL$10,6,FALSE)","v":-48},{"$f":"T107-HLOOKUP(X107,Feuil1!$C$1:$BL$10,7,FALSE)","v":-63},{"$f":"T107-HLOOKUP(X107,Feuil1!$C$1:$BL$10,8,FALSE)","v":-78},{"$f":"T107-HLOOKUP(X107,Feuil1!$C$1:$BL$10,9,FALSE)","v":-98},{"$f":"T107-HLOOKUP(X107,Feuil1!$C$1:$BL$10,10,FALSE)","v":-928},null,null,null,null,null,null,"DEB "]
["F","SEST","CAZ",14,392165,"VIEZ","Chavetta",1997,64.900000000000006,"ASLDD TOULON","F",16,18,20,20,-24,24,26,26,46,-83.800000000000011,"DEB ",-24,{"$f":"IF(I108=\"\",\"\",IF(A108=\"H\",IF(OR(H108=\"SEN\",H108<1995),VLOOKUP(I108,Feuil1!$A$11:$F$29,6),IF(AND(H108>1994,H108<1998),VLOOKUP(I108,Feuil1!$A$11:$F$29,5),IF(AND(H108>1997,H108<2000),VLOOKUP(I108,Feuil1!$A$11:$F$29,4),IF(AND(H108>1999,H108<2002),VLOOKUP(I108,Feuil1!$A$11:$F$29,3),VLOOKUP(I108,Feuil1!$A$11:$F$29,2))))),IF(OR(H108=\"SEN\",H108<1995),VLOOKUP(I108,Feuil1!$G$11:$L$25,6),IF(AND(H108>1994,H108<1998),VLOOKUP(I108,Feuil1!$G$11:$L$25,5),IF(AND(H108>1997,H108<2000),VLOOKUP(I108,Feuil1!$G$11:$L$25,4),IF(AND(H108>1999,H108<2002),VLOOKUP(I108,Feuil1!$G$11:$L$25,3),VLOOKUP(I108,Feuil1!$G$11:$L$25,2)))))))","v":"FJ69"},59.953467869258141,null," ",{"$f":"T108-HLOOKUP(X108,Feuil1!$C$1:$BL$10,2,FALSE)","v":-24},{"$f":"T108-HLOOKUP(X108,Feuil1!$C$1:$BL$10,3,FALSE)","v":-34},{"$f":"T108-HLOOKUP(X108,Feuil1!$C$1:$BL$10,4,FALSE)","v":-44},{"$f":"T108-HLOOKUP(X108,Feuil1!$C$1:$BL$10,5,FALSE)","v":-59},{"$f":"T108-HLOOKUP(X108,Feuil1!$C$1:$BL$10,6,FALSE)","v":-74},{"$f":"T108-HLOOKUP(X108,Feuil1!$C$1:$BL$10,7,FALSE)","v":-89},{"$f":"T108-HLOOKUP(X108,Feuil1!$C$1:$BL$10,8,FALSE)","v":-104},{"$f":"T108-HLOOKUP(X108,Feuil1!$C$1:$BL$10,9,FALSE)","v":-124},{"$f":"T108-HLOOKUP(X108,Feuil1!$C$1:$BL$10,10,FALSE)","v":-954},null,null,null,null,null,null,"DEB "]
["F","SEST","CAZ",15,392166,"VIEZ","Dolorès",1997,67.7,"ASLDD TOULON","F",16,18,-20,18,24,26,28,28,46,-89.4,"DEB ",-24,{"$f":"IF(I109=\"\",\"\",IF(A109=\"H\",IF(OR(H109=\"SEN\",H109<1995),VLOOKUP(I109,Feuil1!$A$11:$F$29,6),IF(AND(H109>1994,H109<1998),VLOOKUP(I109,Feuil1!$A$11:$F$29,5),IF(AND(H109>1997,H109<2000),VLOOKUP(I109,Feuil1!$A$11:$F$29,4),IF(AND(H109>1999,H109<2002),VLOOKUP(I109,Feuil1!$A$11:$F$29,3),VLOOKUP(I109,Feuil1!$A$11:$F$29,2))))),IF(OR(H109=\"SEN\",H109<1995),VLOOKUP(I109,Feuil1!$G$11:$L$25,6),IF(AND(H109>1994,H109<1998),VLOOKUP(I109,Feuil1!$G$11:$L$25,5),IF(AND(H109>1997,H109<2000),VLOOKUP(I109,Feuil1!$G$11:$L$25,4),IF(AND(H109>1999,H109<2002),VLOOKUP(I109,Feuil1!$G$11:$L$25,3),VLOOKUP(I109,Feuil1!$G$11:$L$25,2)))))))","v":"FJ69"},58.388630566401311,null," ",{"$f":"T109-HLOOKUP(X109,Feuil1!$C$1:$BL$10,2,FALSE)","v":-24},{"$f":"T109-HLOOKUP(X109,Feuil1!$C$1:$BL$10,3,FALSE)","v":-34},{"$f":"T109-HLOOKUP(X109,Feuil1!$C$1:$BL$10,4,FALSE)","v":-44},{"$f":"T109-HLOOKUP(X109,Feuil1!$C$1:$BL$10,5,FALSE)","v":-59},{"$f":"T109-HLOOKUP(X109,Feuil1!$C$1:$BL$10,6,FALSE)","v":-74},{"$f":"T109-HLOOKUP(X109,Feuil1!$C$1:$BL$10,7,FALSE)","v":-89},{"$f":"T109-HLOOKUP(X109,Feuil1!$C$1:$BL$10,8,FALSE)","v":-104},{"$f":"T109-HLOOKUP(X109,Feuil1!$C$1:$BL$10,9,FALSE)","v":-124},{"$f":"T109-HLOOKUP(X109,Feuil1!$C$1:$BL$10,10,FALSE)","v":-954},null,null,null,null,null,null,"DEB "]
[null,null,null,null,null,null,null,null,null,null,null,null,null,null,null,null,null,null,null,null,null,null,null,null,null,null," ",{"$f":"T110-HLOOKUP(X110,[1]Feuil1!$C$1:$BL$10,2,FALSE)","v":{"$error":"#N/A"}},{"$f":"T110-HLOOKUP(X110,[1]Feuil1!$C$1:$BL$10,3,FALSE)","v":{"$error":"#N/A"}},{"$f":"T110-HLOOKUP(X110,[1]Feuil1!$C$1:$BL$10,4,FALSE)","v":{"$error":"#N/A"}},{"$f":"T110-HLOOKUP(X110,[1]Feuil1!$C$1:$BL$10,5,FALSE)","v":{"$error":"#N/A"}},{"$f":"T110-HLOOKUP(X110,[1]Feuil1!$C$1:$BL$10,6,FALSE)","v":{"$error":"#N/A"}},{"$f":"T110-HLOOKUP(X110,[1]Feuil1!$C$1:$BL$10,7,FALSE)","v":{"$error":"#N/A"}},{"$f":"T110-HLOOKUP(X110,[1]Feuil1!$C$1:$BL$10,8,FALSE)","v":{"$error":"#N/A"}},{"$f":"T110-HLOOKUP(X110,[1]Feuil1!$C$1:$BL$10,9,FALSE)","v":{"$error":"#N/A"}},{"$f":"T110-HLOOKUP(X110,[1]Feuil1!$C$1:$BL$10,10,FALSE)","v":{"$error":"#N/A"}},null,null,null,null,null,null,{"$f":"IF(AJ110>=0,$AJ$4,IF(AI110>=0,$AI$4,IF(AH110>=0,$AH$4,IF(AG110>=0,$AG$4,IF(AF110>=0,$AF$4,IF(AE110>=0,$AE$4,IF(AD110>=0,$AD$4,IF(AC110>=0,$AC$4,$AB$4))))))))","v":{"$error":"#N/A"}}]
["F","DOM","GUA",1,183203,"GRAVA","Naomi",1996,69.599999999999994,"AHCS/Pointois","F",65,70,74,{"$f":"IF(H111=\"\",\"\",IF(MAXA(L111:N111)<=0,0,MAXA(L111:N111)))","v":74},85,90,-92,{"$f":"IF(H111=\"\",\"\",IF(MAXA(P111:R111)<=0,0,MAXA(P111:R111)))","v":90},{"$f":"IF(H111=\"\",\"\",IF(OR(O111=0,S111=0),0,O111+S111))","v":164},{"$f":"T111-I111*2","v":24.800000000000011},{"$f":"IF(H111=\"\",\"\",AQ111)","v":"INTB +"},{"$f":"IF(AJ111>=0,AJ111,IF(AI111>=0,AI111,IF(AH111>=0,AH111,IF(AG111>=0,AG111,IF(AF111>=0,AF111,IF(AE111>=0,AE111,IF(AD111>=0,AD111,IF(AC111>=0,AC111,AB111))))))))","v":4},{"$f":"IF(I111=\"\",\"\",IF(A111=\"H\",IF(OR(H111=\"SEN\",H111<1995),VLOOKUP(I111,Feuil1!$A$11:$F$29,6),IF(AND(H111>1994,H111<1998),VLOOKUP(I111,Feuil1!$A$11:$F$29,5),IF(AND(H111>1997,H111<2000),VLOOKUP(I111,Feuil1!$A$11:$F$29,4),IF(AND(H111>1999,H111<2002),VLOOKUP(I111,Feuil1!$A$11:$F$29,3),VLOOKUP(I111,Feuil1!$A$11:$F$29,2))))),IF(OR(H111=\"SEN\",H111<1995),VLOOKUP(I111,Feuil1!$G$11:$L$25,6),IF(AND(H111>1994,H111<1998),VLOOKUP(I111,Feuil1!$G$11:$L$25,5),IF(AND(H111>1997,H111<2000),VLOOKUP(I111,Feuil1!$G$11:$L$25,4),IF(AND(H111>1999,H111<2002),VLOOKUP(I111,Feuil1!$G$11:$L$25,3),VLOOKUP(I111,Feuil1!$G$11:$L$25,2)))))))","v":"FJ75"},{"$f":"IF(I111=\"\",\"\",IF(A111=\"H\",10^(0.794358141*LOG(I111/174.393)^2)*T111,IF(A111=\"F\",10^(0.89726074*LOG(I111/148.026)^2)*T111,\"\")))","v":204.74587612597711},null," ",{"$f":"T111-HLOOKUP(X111,Feuil1!$C$1:$BL$10,2,FALSE)","v":84},{"$f":"T111-HLOOKUP(X111,Feuil1!$C$1:$BL$10,3,FALSE)","v":69},{"$f":"T111-HLOOKUP(X111,Feuil1!$C$1:$BL$10,4,FALSE)","v":59},{"$f":"T111-HLOOKUP(X111,Feuil1!$C$1:$BL$10,5,FALSE)","v":49},{"$f":"T111-HLOOKUP(X111,Feuil1!$C$1:$BL$10,6,FALSE)","v":34},{"$f":"T111-HLOOKUP(X111,Feuil1!$C$1:$BL$10,7,FALSE)","v":19},{"$f":"T111-HLOOKUP(X111,Feuil1!$C$1:$BL$10,8,FALSE)","v":4},{"$f":"T111-HLOOKUP(X111,Feuil1!$C$1:$BL$10,9,FALSE)","v":-16},{"$f":"T111-HLOOKUP(X111,Feuil1!$C$1:$BL$10,10,FALSE)","v":-836},null,null,null,null,null,null,{"$f":"IF(AJ111>=0,$AJ$4,IF(AI111>=0,$AI$4,IF(AH111>=0,$AH$4,IF(AG111>=0,$AG$4,IF(AF111>=0,$AF$4,IF(AE111>=0,$AE$4,IF(AD111>=0,$AD$4,IF(AC111>=0,$AC$4,$AB$4))))))))","v":"INTB +"}]
["F","DOM","GUA",2,212730,"ROSAN","Kysia",1996,74.7,"AHCS/Pointois","F",60,65,67,67,80,85,-90,85,152,2.5999999999999943,"NAT +",7,{"$f":"IF(I112=\"\",\"\",IF(A112=\"H\",IF(OR(H112=\"SEN\",H112<1995),VLOOKUP(I112,Feuil1!$A$11:$F$29,6),IF(AND(H112>1994,H112<1998),VLOOKUP(I112,Feuil1!$A$11:$F$29,5),IF(AND(H112>1997,H112<2000),VLOOKUP(I112,Feuil1!$A$11:$F$29,4),IF(AND(H112>1999,H112<2002),VLOOKUP(I112,Feuil1!$A$11:$F$29,3),VLOOKUP(I112,Feuil1!$A$11:$F$29,2))))),IF(OR(H112=\"SEN\",H112<1995),VLOOKUP(I112,Feuil1!$G$11:$L$25,6),IF(AND(H112>1994,H112<1998),VLOOKUP(I112,Feuil1!$G$11:$L$25,5),IF(AND(H112>1997,H112<2000),VLOOKUP(I112,Feuil1!$G$11:$L$25,4),IF(AND(H112>1999,H112<2002),VLOOKUP(I112,Feuil1!$G$11:$L$25,3),VLOOKUP(I112,Feuil1!$G$11:$L$25,2)))))))","v":"FJ75"},182.38929118396118,null," ",{"$f":"T112-HLOOKUP(X112,Feuil1!$C$1:$BL$10,2,FALSE)","v":72},{"$f":"T112-HLOOKUP(X112,Feuil1!$C$1:$BL$10,3,FALSE)","v":57},{"$f":"T112-HLOOKUP(X112,Feuil1!$C$1:$BL$10,4,FALSE)","v":47},{"$f":"T112-HLOOKUP(X112,Feuil1!$C$1:$BL$10,5,FALSE)","v":37},{"$f":"T112-HLOOKUP(X112,Feuil1!$C$1:$BL$10,6,FALSE)","v":22},{"$f":"T112-HLOOKUP(X112,Feuil1!$C$1:$BL$10,7,FALSE)","v":7},{"$f":"T112-HLOOKUP(X112,Feuil1!$C$1:$BL$10,8,FALSE)","v":-8},{"$f":"T112-HLOOKUP(X112,Feuil1!$C$1:$BL$10,9,FALSE)","v":-28},{"$f":"T112-HLOOKUP(X112,Feuil1!$C$1:$BL$10,10,FALSE)","v":-848},null,null,null,null,null,null,"NAT +"]
["F","NE","ALS",3,348083,"LEIBUNDGUTH","LISA",1997,71.5,"ASI Avenir HM","F",50,53,56,56,70,74,76,76,132,-11,"FED +",2,{"$f":"IF(I113=\"\",\"\",IF(A113=\"H\",IF(OR(H113=\"SEN\",H113<1995),VLOOKUP(I113,Feuil1!$A$11:$F$29,6),IF(AND(H113>1994,H113<1998),VLOOKUP(I113,Feuil1!$A$11:$F$29,5),IF(AND(H113>1997,H113<2000),VLOOKUP(I113,Feuil1!$A$11:$F$29,4),IF(AND(H113>1999,H113<2002),VLOOKUP(I113,Feuil1!$A$11:$F$29,3),VLOOKUP(I113,Feuil1!$A$11:$F$29,2))))),IF(OR(H113=\"SEN\",H113<1995),VLOOKUP(I113,Feuil1!$G$11:$L$25,6),IF(AND(H113>1994,H113<1998),VLOOKUP(I113,Feuil1!$G$11:$L$25,5),IF(AND(H113>1997,H113<2000),VLOOKUP(I113,Feuil1!$G$11:$L$25,4),IF(AND(H113>1999,H113<2002),VLOOKUP(I113,Feuil1!$G$11:$L$25,3),VLOOKUP(I113,Feuil1!$G$11:$L$25,2)))))))","v":"FJ75"},162.25157645741206,null," ",{"$f":"T113-HLOOKUP(X113,Feuil1!$C$1:$BL$10,2,FALSE)","v":52},{"$f":"T113-HLOOKUP(X113,Feuil1!$C$1:$BL$10,3,FALSE)","v":37},{"$f":"T113-HLOOKUP(X113,Feuil1!$C$1:$BL$10,4,FALSE)","v":27},{"$f":"T113-HLOOKUP(X113,Feuil1!$C$1:$BL$10,5,FALSE)","v":17},{"$f":"T113-HLOOKUP(X113,Feuil1!$C$1:$BL$10,6,FALSE)","v":2},{"$f":"T113-HLOOKUP(X113,Feuil1!$C$1:$BL$10,7,FALSE)","v":-13},{"$f":"T113-HLOOKUP(X113,Feuil1!$C$1:$BL$10,8,FALSE)","v":-28},{"$f":"T113-HLOOKUP(X113,Feuil1!$C$1:$BL$10,9,FALSE)","v":-48},{"$f":"T113-HLOOKUP(X113,Feuil1!$C$1:$BL$10,10,FALSE)","v":-868},null,null,null,null,null,null,"FED +"]
["F","NE","ALS",4,217169,"RUOLT","CELINE",1997,72.8,"MJC Ungersheim","F",52,57,-60,57,67,71,-75,71,128,-17.599999999999994,"IRG +",13,{"$f":"IF(I114=\"\",\"\",IF(A114=\"H\",IF(OR(H114=\"SEN\",H114<1995),VLOOKUP(I114,Feuil1!$A$11:$F$29,6),IF(AND(H114>1994,H114<1998),VLOOKUP(I114,Feuil1!$A$11:$F$29,5),IF(AND(H114>1997,H114<2000),VLOOKUP(I114,Feuil1!$A$11:$F$29,4),IF(AND(H114>1999,H114<2002),VLOOKUP(I114,Feuil1!$A$11:$F$29,3),VLOOKUP(I114,Feuil1!$A$11:$F$29,2))))),IF(OR(H114=\"SEN\",H114<1995),VLOOKUP(I114,Feuil1!$G$11:$L$25,6),IF(AND(H114>1994,H114<1998),VLOOKUP(I114,Feuil1!$G$11:$L$25,5),IF(AND(H114>1997,H114<2000),VLOOKUP(I114,Feuil1!$G$11:$L$25,4),IF(AND(H114>1999,H114<2002),VLOOKUP(I114,Feuil1!$G$11:$L$25,3),VLOOKUP(I114,Feuil1!$G$11:$L$25,2)))))))","v":"FJ75"},155.75498477160914,null," ",{"$f":"T114-HLOOKUP(X114,Feuil1!$C$1:$BL$10,2,FALSE)","v":48},{"$f":"T114-HLOOKUP(X114,Feuil1!$C$1:$BL$10,3,FALSE)","v":33},{"$f":"T114-HLOOKUP(X114,Feuil1!$C$1:$BL$10,4,FALSE)","v":23},{"$f":"T114-HLOOKUP(X114,Feuil1!$C$1:$BL$10,5,FALSE)","v":13},{"$f":"T114-HLOOKUP(X114,Feuil1!$C$1:$BL$10,6,FALSE)","v":-2},{"$f":"T114-HLOOKUP(X114,Feuil1!$C$1:$BL$10,7,FALSE)","v":-17},{"$f":"T114-HLOOKUP(X114,Feuil1!$C$1:$BL$10,8,FALSE)","v":-32},{"$f":"T114-HLOOKUP(X114,Feuil1!$C$1:$BL$10,9,FALSE)","v":-52},{"$f":"T114-HLOOKUP(X114,Feuil1!$C$1:$BL$10,10,FALSE)","v":-872},null,null,null,null,null,null,"IRG +"]
["F","NE","CHA",5,247364,"LECUREUIL ","Adeline",1996,74.099999999999994,"Langres HM","F",51,53,-55,53,62,66,68,68,121,-27.199999999999989,"IRG +",6,{"$f":"IF(I115=\"\",\"\",IF(A115=\"H\",IF(OR(H115=\"SEN\",H115<1995),VLOOKUP(I115,Feuil1!$A$11:$F$29,6),IF(AND(H115>1994,H115<1998),VLOOKUP(I115,Feuil1!$A$11:$F$29,5),IF(AND(H115>1997,H115<2000),VLOOKUP(I115,Feuil1!$A$11:$F$29,4),IF(AND(H115>1999,H115<2002),VLOOKUP(I115,Feuil1!$A$11:$F$29,3),VLOOKUP(I115,Feuil1!$A$11:$F$29,2))))),IF(OR(H115=\"SEN\",H115<1995),VLOOKUP(I115,Feuil1!$G$11:$L$25,6),IF(AND(H115>1994,H115<1998),VLOOKUP(I115,Feuil1!$G$11:$L$25,5),IF(AND(H115>1997,H115<2000),VLOOKUP(I115,Feuil1!$G$11:$L$25,4),IF(AND(H115>1999,H115<2002),VLOOKUP(I115,Feuil1!$G$11:$L$25,3),VLOOKUP(I115,Feuil1!$G$11:$L$25,2)))))))","v":"FJ75"},145.8206113604343,null," ",{"$f":"T115-HLOOKUP(X115,Feuil1!$C$1:$BL$10,2,FALSE)","v":41},{"$f":"T115-HLOOKUP(X115,Feuil1!$C$1:$BL$10,3,FALSE)","v":26},{"$f":"T115-HLOOKUP(X115,Feuil1!$C$1:$BL$10,4,FALSE)","v":16},{"$f":"T115-HLOOKUP(X115,Feuil1!$C$1:$BL$10,5,FALSE)","v":6},{"$f":"T115-HLOOKUP(X115,Feuil1!$C$1:$BL$10,6,FALSE)","v":-9},{"$f":"T115-HLOOKUP(X115,Feuil1!$C$1:$BL$10,7,FALSE)","v":-24},{"$f":"T115-HLOOKUP(X115,Feuil1!$C$1:$BL$10,8,FALSE)","v":-39},{"$f":"T115-HLOOKUP(X115,Feuil1!$C$1:$BL$10,9,FALSE)","v":-59},{"$f":"T115-HLOOKUP(X115,Feuil1!$C$1:$BL$10,10,FALSE)","v":-879},null,null,null,null,null,null,"IRG +"]
["F","NORD","PIC",6,171418,"RICHARD","Laétitia",1995,70.8,"La Ferté Milon CMHM","F",43,46,48,48,60,65,67,67,115,-26.599999999999994,"IRG +",0,{"$f":"IF(I116=\"\",\"\",IF(A116=\"H\",IF(OR(H116=\"SEN\",H116<1995),VLOOKUP(I116,Feuil1!$A$11:$F$29,6),IF(AND(H116>1994,H116<1998),VLOOKUP(I116,Feuil1!$A$11:$F$29,5),IF(AND(H116>1997,H116<2000),VLOOKUP(I116,Feuil1!$A$11:$F$29,4),IF(AND(H116>1999,H116<2002),VLOOKUP(I116,Feuil1!$A$11:$F$29,3),VLOOKUP(I116,Feuil1!$A$11:$F$29,2))))),IF(OR(H116=\"SEN\",H116<1995),VLOOKUP(I116,Feuil1!$G$11:$L$25,6),IF(AND(H116>1994,H116<1998),VLOOKUP(I116,Feuil1!$G$11:$L$25,5),IF(AND(H116>1997,H116<2000),VLOOKUP(I116,Feuil1!$G$11:$L$25,4),IF(AND(H116>1999,H116<2002),VLOOKUP(I116,Feuil1!$G$11:$L$25,3),VLOOKUP(I116,Feuil1!$G$11:$L$25,2)))))))","v":"FJ75"},142.15181949540593,null," ",{"$f":"T116-HLOOKUP(X116,Feuil1!$C$1:$BL$10,2,FALSE)","v":35},{"$f":"T116-HLOOKUP(X116,Feuil1!$C$1:$BL$10,3,FALSE)","v":20},{"$f":"T116-HLOOKUP(X116,Feuil1!$C$1:$BL$10,4,FALSE)","v":10},{"$f":"T116-HLOOKUP(X116,Feuil1!$C$1:$BL$10,5,FALSE)","v":0},{"$f":"T116-HLOOKUP(X116,Feuil1!$C$1:$BL$10,6,FALSE)","v":-15},{"$f":"T116-HLOOKUP(X116,Feuil1!$C$1:$BL$10,7,FALSE)","v":-30},{"$f":"T116-HLOOKUP(X116,Feuil1!$C$1:$BL$10,8,FALSE)","v":-45},{"$f":"T116-HLOOKUP(X116,Feuil1!$C$1:$BL$10,9,FALSE)","v":-65},{"$f":"T116-HLOOKUP(X116,Feuil1!$C$1:$BL$10,10,FALSE)","v":-885},null,null,null,null,null,null,"IRG +"]
["F","NORD","PIC",7,386785,"HUGUET","Lauriane",1997,71.5,"La Vaillante Saint Quentin","F",30,33,-36,33,40,42,45,45,78,-65,"DEB ",-2,{"$f":"IF(I117=\"\",\"\",IF(A117=\"H\",IF(OR(H117=\"SEN\",H117<1995),VLOOKUP(I117,Feuil1!$A$11:$F$29,6),IF(AND(H117>1994,H117<1998),VLOOKUP(I117,Feuil1!$A$11:$F$29,5),IF(AND(H117>1997,H117<2000),VLOOKUP(I117,Feuil1!$A$11:$F$29,4),IF(AND(H117>1999,H117<2002),VLOOKUP(I117,Feuil1!$A$11:$F$29,3),VLOOKUP(I117,Feuil1!$A$11:$F$29,2))))),IF(OR(H117=\"SEN\",H117<1995),VLOOKUP(I117,Feuil1!$G$11:$L$25,6),IF(AND(H117>1994,H117<1998),VLOOKUP(I117,Feuil1!$G$11:$L$25,5),IF(AND(H117>1997,H117<2000),VLOOKUP(I117,Feuil1!$G$11:$L$25,4),IF(AND(H117>1999,H117<2002),VLOOKUP(I117,Feuil1!$G$11:$L$25,3),VLOOKUP(I117,Feuil1!$G$11:$L$25,2)))))))","v":"FJ75"},95.875931543016222,null," ",{"$f":"T117-HLOOKUP(X117,Feuil1!$C$1:$BL$10,2,FALSE)","v":-2},{"$f":"T117-HLOOKUP(X117,Feuil1!$C$1:$BL$10,3,FALSE)","v":-17},{"$f":"T117-HLOOKUP(X117,Feuil1!$C$1:$BL$10,4,FALSE)","v":-27},{"$f":"T117-HLOOKUP(X117,Feuil1!$C$1:$BL$10,5,FALSE)","v":-37},{"$f":"T117-HLOOKUP(X117,Feuil1!$C$1:$BL$10,6,FALSE)","v":-52},{"$f":"T117-HLOOKUP(X117,Feuil1!$C$1:$BL$10,7,FALSE)","v":-67},{"$f":"T117-HLOOKUP(X117,Feuil1!$C$1:$BL$10,8,FALSE)","v":-82},{"$f":"T117-HLOOKUP(X117,Feuil1!$C$1:$BL$10,9,FALSE)","v":-102},{"$f":"T117-HLOOKUP(X117,Feuil1!$C$1:$BL$10,10,FALSE)","v":-922},null,null,null,null,null,null,"DEB "]
["F","SEST","CAZ",8,374710,"SENE","Lobe",1996,73.5,"ASLDD TOULON","F",33,-36,-36,33,43,-46,-46,43,76,-71,"DEB ",-4,{"$f":"IF(I118=\"\",\"\",IF(A118=\"H\",IF(OR(H118=\"SEN\",H118<1995),VLOOKUP(I118,Feuil1!$A$11:$F$29,6),IF(AND(H118>1994,H118<1998),VLOOKUP(I118,Feuil1!$A$11:$F$29,5),IF(AND(H118>1997,H118<2000),VLOOKUP(I118,Feuil1!$A$11:$F$29,4),IF(AND(H118>1999,H118<2002),VLOOKUP(I118,Feuil1!$A$11:$F$29,3),VLOOKUP(I118,Feuil1!$A$11:$F$29,2))))),IF(OR(H118=\"SEN\",H118<1995),VLOOKUP(I118,Feuil1!$G$11:$L$25,6),IF(AND(H118>1994,H118<1998),VLOOKUP(I118,Feuil1!$G$11:$L$25,5),IF(AND(H118>1997,H118<2000),VLOOKUP(I118,Feuil1!$G$11:$L$25,4),IF(AND(H118>1999,H118<2002),VLOOKUP(I118,Feuil1!$G$11:$L$25,3),VLOOKUP(I118,Feuil1!$G$11:$L$25,2)))))))","v":"FJ75"},91.994631141226051,null," ",{"$f":"T118-HLOOKUP(X118,Feuil1!$C$1:$BL$10,2,FALSE)","v":-4},{"$f":"T118-HLOOKUP(X118,Feuil1!$C$1:$BL$10,3,FALSE)","v":-19},{"$f":"T118-HLOOKUP(X118,Feuil1!$C$1:$BL$10,4,FALSE)","v":-29},{"$f":"T118-HLOOKUP(X118,Feuil1!$C$1:$BL$10,5,FALSE)","v":-39},{"$f":"T118-HLOOKUP(X118,Feuil1!$C$1:$BL$10,6,FALSE)","v":-54},{"$f":"T118-HLOOKUP(X118,Feuil1!$C$1:$BL$10,7,FALSE)","v":-69},{"$f":"T118-HLOOKUP(X118,Feuil1!$C$1:$BL$10,8,FALSE)","v":-84},{"$f":"T118-HLOOKUP(X118,Feuil1!$C$1:$BL$10,9,FALSE)","v":-104},{"$f":"T118-HLOOKUP(X118,Feuil1!$C$1:$BL$10,10,FALSE)","v":-924},null,null,null,null,null,null,"DEB "]
["F","SO","AQU",9,300660,"DARMON","MELODIE",1997,69.8,"BORDEAUX ASPOM","F",28,-30,30,30,35,38,40,40,70,-69.599999999999994,"DEB ",-10,{"$f":"IF(I119=\"\",\"\",IF(A119=\"H\",IF(OR(H119=\"SEN\",H119<1995),VLOOKUP(I119,Feuil1!$A$11:$F$29,6),IF(AND(H119>1994,H119<1998),VLOOKUP(I119,Feuil1!$A$11:$F$29,5),IF(AND(H119>1997,H119<2000),VLOOKUP(I119,Feuil1!$A$11:$F$29,4),IF(AND(H119>1999,H119<2002),VLOOKUP(I119,Feuil1!$A$11:$F$29,3),VLOOKUP(I119,Feuil1!$A$11:$F$29,2))))),IF(OR(H119=\"SEN\",H119<1995),VLOOKUP(I119,Feuil1!$G$11:$L$25,6),IF(AND(H119>1994,H119<1998),VLOOKUP(I119,Feuil1!$G$11:$L$25,5),IF(AND(H119>1997,H119<2000),VLOOKUP(I119,Feuil1!$G$11:$L$25,4),IF(AND(H119>1999,H119<2002),VLOOKUP(I119,Feuil1!$G$11:$L$25,3),VLOOKUP(I119,Feuil1!$G$11:$L$25,2)))))))","v":"FJ75"},87.244457815150597,null," ",{"$f":"T119-HLOOKUP(X119,Feuil1!$C$1:$BL$10,2,FALSE)","v":-10},{"$f":"T119-HLOOKUP(X119,Feuil1!$C$1:$BL$10,3,FALSE)","v":-25},{"$f":"T119-HLOOKUP(X119,Feuil1!$C$1:$BL$10,4,FALSE)","v":-35},{"$f":"T119-HLOOKUP(X119,Feuil1!$C$1:$BL$10,5,FALSE)","v":-45},{"$f":"T119-HLOOKUP(X119,Feuil1!$C$1:$BL$10,6,FALSE)","v":-60},{"$f":"T119-HLOOKUP(X119,Feuil1!$C$1:$BL$10,7,FALSE)","v":-75},{"$f":"T119-HLOOKUP(X119,Feuil1!$C$1:$BL$10,8,FALSE)","v":-90},{"$f":"T119-HLOOKUP(X119,Feuil1!$C$1:$BL$10,9,FALSE)","v":-110},{"$f":"T119-HLOOKUP(X119,Feuil1!$C$1:$BL$10,10,FALSE)","v":-930},null,null,null,null,null,null,"DEB "]
[null,null,null,null,null,null,null,null,null,null,null,null,null,null,null,null,null,null,null,null,null,null,null,null,null,null," ",{"$f":"T120-HLOOKUP(X120,[1]Feuil1!$C$1:$BL$10,2,FALSE)","v":{"$error":"#N/A"}},{"$f":"T120-HLOOKUP(X120,[1]Feuil1!$C$1:$BL$10,3,FALSE)","v":{"$error":"#N/A"}},{"$f":"T120-HLOOKUP(X120,[1]Feuil1!$C$1:$BL$10,4,FALSE)","v":{"$error":"#N/A"}},{"$f":"T120-HLOOKUP(X120,[1]Feuil1!$C$1:$BL$10,5,FALSE)","v":{"$error":"#N/A"}},{"$f":"T120-HLOOKUP(X120,[1]Feuil1!$C$1:$BL$10,6,FALSE)","v":{"$error":"#N/A"}},{"$f":"T120-HLOOKUP(X120,[1]Feuil1!$C$1:$BL$10,7,FALSE)","v":{"$error":"#N/A"}},{"$f":"T120-HLOOKUP(X120,[1]Feuil1!$C$1:$BL$10,8,FALSE)","v":{"$error":"#N/A"}},{"$f":"T120-HLOOKUP(X120,[1]Feuil1!$C$1:$BL$10,9,FALSE)","v":{"$error":"#N/A"}},{"$f":"T120-HLOOKUP(X120,[1]Feuil1!$C$1:$BL$10,10,FALSE)","v":{"$error":"#N/A"}},null,null,null,null,null,null,{"$f":"IF(AJ120>=0,$AJ$4,IF(AI120>=0,$AI$4,IF(AH120>=0,$AH$4,IF(AG120>=0,$AG$4,IF(AF120>=0,$AF$4,IF(AE120>=0,$AE$4,IF(AD120>=0,$AD$4,IF(AC120>=0,$AC$4,$AB$4))))))))","v":{"$error":"#N/A"}}]
["F","DOM","GUA",1,212730,"ROSAN","Kysia",1996,80,"AHCS/Pointois","F",60,65,-70,{"$f":"IF(H121=\"\",\"\",IF(MAXA(L121:N121)<=0,0,MAXA(L121:N121)))","v":65},83,-86,88,{"$f":"IF(H121=\"\",\"\",IF(MAXA(P121:R121)<=0,0,MAXA(P121:R121)))","v":88},{"$f":"IF(H121=\"\",\"\",IF(OR(O121=0,S121=0),0,O121+S121))","v":153},{"$f":"T121-I121*2","v":-7},{"$f":"IF(H121=\"\",\"\",AQ121)","v":"NAT +"},{"$f":"IF(AJ121>=0,AJ121,IF(AI121>=0,AI121,IF(AH121>=0,AH121,IF(AG121>=0,AG121,IF(AF121>=0,AF121,IF(AE121>=0,AE121,IF(AD121>=0,AD121,IF(AC121>=0,AC121,AB121))))))))","v":3},{"$f":"IF(I121=\"\",\"\",IF(A121=\"H\",IF(OR(H121=\"SEN\",H121<1995),VLOOKUP(I121,Feuil1!$A$11:$F$29,6),IF(AND(H121>1994,H121<1998),VLOOKUP(I121,Feuil1!$A$11:$F$29,5),IF(AND(H121>1997,H121<2000),VLOOKUP(I121,Feuil1!$A$11:$F$29,4),IF(AND(H121>1999,H121<2002),VLOOKUP(I121,Feuil1!$A$11:$F$29,3),VLOOKUP(I121,Feuil1!$A$11:$F$29,2))))),IF(OR(H121=\"SEN\",H121<1995),VLOOKUP(I121,Feuil1!$G$11:$L$25,6),IF(AND(H121>1994,H121<1998),VLOOKUP(I121,Feuil1!$G$11:$L$25,5),IF(AND(H121>1997,H121<2000),VLOOKUP(I121,Feuil1!$G$11:$L$25,4),IF(AND(H121>1999,H121<2002),VLOOKUP(I121,Feuil1!$G$11:$L$25,3),VLOOKUP(I121,Feuil1!$G$11:$L$25,2)))))))","v":"FJ+75"},{"$f":"IF(I121=\"\",\"\",IF(A121=\"H\",10^(0.794358141*LOG(I121/174.393)^2)*T121,IF(A121=\"F\",10^(0.89726074*LOG(I121/148.026)^2)*T121,\"\")))","v":177.32711193776782},null," ",{"$f":"T121-HLOOKUP(X121,Feuil1!$C$1:$BL$10,2,FALSE)","v":63},{"$f":"T121-HLOOKUP(X121,Feuil1!$C$1:$BL$10,3,FALSE)","v":53},{"$f":"T121-HLOOKUP(X121,Feuil1!$C$1:$BL$10,4,FALSE)","v":43},{"$f":"T121-HLOOKUP(X121,Feuil1!$C$1:$BL$10,5,FALSE)","v":28},{"$f":"T121-HLOOKUP(X121,Feuil1!$C$1:$BL$10,6,FALSE)","v":13},{"$f":"T121-HLOOKUP(X121,Feuil1!$C$1:$BL$10,7,FALSE)","v":3},{"$f":"T121-HLOOKUP(X121,Feuil1!$C$1:$BL$10,8,FALSE)","v":-17},{"$f":"T121-HLOOKUP(X121,Feuil1!$C$1:$BL$10,9,FALSE)","v":-37},{"$f":"T121-HLOOKUP(X121,Feuil1!$C$1:$BL$10,10,FALSE)","v":-847},null,null,null,null,null,null,"NAT +"]
["F","NE","ALS",2,219700,"BOIGEOL","MANON",1995,78.75,"US Wittenheim","F",39,-42,42,{"$f":"IF(H122=\"\",\"\",IF(MAXA(L122:N122)<=0,0,MAXA(L122:N122)))","v":42},55,-58,60,{"$f":"IF(H122=\"\",\"\",IF(MAXA(P122:R122)<=0,0,MAXA(P122:R122)))","v":60},{"$f":"IF(H122=\"\",\"\",IF(OR(O122=0,S122=0),0,O122+S122))","v":102},{"$f":"T122-I122*2","v":-55.5},{"$f":"IF(H122=\"\",\"\",AQ122)","v":"DEP +"},{"$f":"IF(AJ122>=0,AJ122,IF(AI122>=0,AI122,IF(AH122>=0,AH122,IF(AG122>=0,AG122,IF(AF122>=0,AF122,IF(AE122>=0,AE122,IF(AD122>=0,AD122,IF(AC122>=0,AC122,AB122))))))))","v":2},{"$f":"IF(I122=\"\",\"\",IF(A122=\"H\",IF(OR(H122=\"SEN\",H122<1995),VLOOKUP(I122,Feuil1!$A$11:$F$29,6),IF(AND(H122>1994,H122<1998),VLOOKUP(I122,Feuil1!$A$11:$F$29,5),IF(AND(H122>1997,H122<2000),VLOOKUP(I122,Feuil1!$A$11:$F$29,4),IF(AND(H122>1999,H122<2002),VLOOKUP(I122,Feuil1!$A$11:$F$29,3),VLOOKUP(I122,Feuil1!$A$11:$F$29,2))))),IF(OR(H122=\"SEN\",H122<1995),VLOOKUP(I122,Feuil1!$G$11:$L$25,6),IF(AND(H122>1994,H122<1998),VLOOKUP(I122,Feuil1!$G$11:$L$25,5),IF(AND(H122>1997,H122<2000),VLOOKUP(I122,Feuil1!$G$11:$L$25,4),IF(AND(H122>1999,H122<2002),VLOOKUP(I122,Feuil1!$G$11:$L$25,3),VLOOKUP(I122,Feuil1!$G$11:$L$25,2)))))))","v":"FJ+75"},{"$f":"IF(I122=\"\",\"\",IF(A122=\"H\",10^(0.794358141*LOG(I122/174.393)^2)*T122,IF(A122=\"F\",10^(0.89726074*LOG(I122/148.026)^2)*T122,\"\")))","v":119.12582481948786},null," ",{"$f":"T122-HLOOKUP(X122,Feuil1!$C$1:$BL$10,2,FALSE)","v":12},{"$f":"T122-HLOOKUP(X122,Feuil1!$C$1:$BL$10,3,FALSE)","v":2},{"$f":"T122-HLOOKUP(X122,Feuil1!$C$1:$BL$10,4,FALSE)","v":-8},{"$f":"T122-HLOOKUP(X122,Feuil1!$C$1:$BL$10,5,FALSE)","v":-23},{"$f":"T122-HLOOKUP(X122,Feuil1!$C$1:$BL$10,6,FALSE)","v":-38},{"$f":"T122-HLOOKUP(X122,Feuil1!$C$1:$BL$10,7,FALSE)","v":-48},{"$f":"T122-HLOOKUP(X122,Feuil1!$C$1:$BL$10,8,FALSE)","v":-68},{"$f":"T122-HLOOKUP(X122,Feuil1!$C$1:$BL$10,9,FALSE)","v":-88},{"$f":"T122-HLOOKUP(X122,Feuil1!$C$1:$BL$10,10,FALSE)","v":-898},null,null,null,null,null,null,"DEP +"]
["F","NORD","NPC",3,362647,"VAMBESIEN","Estelle",1996,82.2,"C.A.ROSENDAEL","F",24,27,30,30,-31,35,40,40,70,-94.4,"DEB ",-20,{"$f":"IF(I123=\"\",\"\",IF(A123=\"H\",IF(OR(H123=\"SEN\",H123<1995),VLOOKUP(I123,Feuil1!$A$11:$F$29,6),IF(AND(H123>1994,H123<1998),VLOOKUP(I123,Feuil1!$A$11:$F$29,5),IF(AND(H123>1997,H123<2000),VLOOKUP(I123,Feuil1!$A$11:$F$29,4),IF(AND(H123>1999,H123<2002),VLOOKUP(I123,Feuil1!$A$11:$F$29,3),VLOOKUP(I123,Feuil1!$A$11:$F$29,2))))),IF(OR(H123=\"SEN\",H123<1995),VLOOKUP(I123,Feuil1!$G$11:$L$25,6),IF(AND(H123>1994,H123<1998),VLOOKUP(I123,Feuil1!$G$11:$L$25,5),IF(AND(H123>1997,H123<2000),VLOOKUP(I123,Feuil1!$G$11:$L$25,4),IF(AND(H123>1999,H123<2002),VLOOKUP(I123,Feuil1!$G$11:$L$25,3),VLOOKUP(I123,Feuil1!$G$11:$L$25,2)))))))","v":"FJ+75"},80.104320870409381,null," ",{"$f":"T123-HLOOKUP(X123,Feuil1!$C$1:$BL$10,2,FALSE)","v":-20},{"$f":"T123-HLOOKUP(X123,Feuil1!$C$1:$BL$10,3,FALSE)","v":-30},{"$f":"T123-HLOOKUP(X123,Feuil1!$C$1:$BL$10,4,FALSE)","v":-40},{"$f":"T123-HLOOKUP(X123,Feuil1!$C$1:$BL$10,5,FALSE)","v":-55},{"$f":"T123-HLOOKUP(X123,Feuil1!$C$1:$BL$10,6,FALSE)","v":-70},{"$f":"T123-HLOOKUP(X123,Feuil1!$C$1:$BL$10,7,FALSE)","v":-80},{"$f":"T123-HLOOKUP(X123,Feuil1!$C$1:$BL$10,8,FALSE)","v":-100},{"$f":"T123-HLOOKUP(X123,Feuil1!$C$1:$BL$10,9,FALSE)","v":-120},{"$f":"T123-HLOOKUP(X123,Feuil1!$C$1:$BL$10,10,FALSE)","v":-930},null,null,null,null,null,null,"DEB "]
[null,null,null,null,null,null,null,null,null,null,null,null,null,null,null,null,null,null,null,null,null,null,null,null,null,null," ",{"$f":"T124-HLOOKUP(X124,[1]Feuil1!$C$1:$BL$10,2,FALSE)","v":{"$error":"#N/A"}},{"$f":"T124-HLOOKUP(X124,[1]Feuil1!$C$1:$BL$10,3,FALSE)","v":{"$error":"#N/A"}},{"$f":"T124-HLOOKUP(X124,[1]Feuil1!$C$1:$BL$10,4,FALSE)","v":{"$error":"#N/A"}},{"$f":"T124-HLOOKUP(X124,[1]Feuil1!$C$1:$BL$10,5,FALSE)","v":{"$error":"#N/A"}},{"$f":"T124-HLOOKUP(X124,[1]Feuil1!$C$1:$BL$10,6,FALSE)","v":{"$error":"#N/A"}},{"$f":"T124-HLOOKUP(X124,[1]Feuil1!$C$1:$BL$10,7,FALSE)","v":{"$error":"#N/A"}},{"$f":"T124-HLOOKUP(X124,[1]Feuil1!$C$1:$BL$10,8,FALSE)","v":{"$error":"#N/A"}},{"$f":"T124-HLOOKUP(X124,[1]Feuil1!$C$1:$BL$10,9,FALSE)","v":{"$error":"#N/A"}},{"$f":"T124-HLOOKUP(X124,[1]Feuil1!$C$1:$BL$10,10,FALSE)","v":{"$error":"#N/A"}},null,null,null,null,null,null,{"$error":"#N/A"}]
[null,null,null,null,null,null,null,null,null,null,null,null," "," ",null,null,null,null,null,null,null,null,null,null,null,null,null,null,null,null,null,null,null,null,null,null,null,null,null,null,null,null," "]
[]
[]
[]
[]
[]
[]
[]
[]
[]
[]
[]
[]
[]
[]
[]
[]
[]
[]
[]
[]
[]
[]
[]
[]
[]
[]
[]
[]
[]
[]
[]
[]
[]
[]
[]
[]
[]
[]
[]
[]
[]
[]
[]
[]
[]
[]
[]
[]
[]
[]
[]
[]
[]
[]
[]
[]
[]
[]
[]
[]
[]
[]
[]
[]
[]
[]
[]
[]
[]
[]
[]
[]
[]
[]
[]
[]
[]
[]
[]
[]
[]
[]
[]
[]
[]
[]
[]
[]
[]
[]
[]
[]
[]
[]
[]
[]
[]
[]
[]
[]
[]
[]
[]
[]
[]
[]
[]
[]
[]
[]
[]
[]
[]
[]
[]
[]
[]
[]
[]
[]
[]
[]
[]
[]
[]
[]
[]
[]
[]
[]
[]
[]
[]
[]
[]
[]
[]
[]
[]
[]
[]
[]
[]
[]
[]
[]
[]
[]
[]
[]
[]
[]
[]
[]
[]
[]
[]
[]
[]
[]
[]
[]
[]
[]
[]
[]
[]
[]
[]
[]
[]
[]
[]
[]
[]
[]
[]
[]
[]
[]
[]
[]
[]
[]
[]
[]
[]
[]
[]
[]
[]
[]
[]
[]
[]
[]
[]
[]
[]
[]
[]
[]
[]
[]
[]
[]
[]
[]
[]
[]
[]
[]
[]
[]
[]
[]
[]
[]
[]
[]
[]
[]
[]
[]
[]
[]
[]
[]
[]
[]
[]
[]
[]
[]
[]
[]
[]
[]
[]
[]
[]
[]
[]
[]
[]
[]
[]
[]
[]
[]
[]
[]
[]
[]
[]
[]
[]
[]
[]
[]
[]
[]
[]
[]
[]
[]
[]
[]
[]
[]
[]
[]
[]
[]
[]
[]
[]
[]
[]
[]
[]
[]
[]
[]
[]
[]
[]
[]
[]
[]
[]
[]
[]
[]
[]
[]
[]
[]
[]
[]
[]
[]
[]
[]
[]
[]
[]
[]
[]
[]
[]
[]
[]
[]
[]
[]
[]
[]
[]
[]
[]
[]
[]
[]
[]
[]
[]
[]
[]
[]
[]
[]
[]
[]
[]
[]
[]
[]
[]
[]
[]
[]
[]
[]
[]
[]
[]
[]
[]
[]
[]
[]
[]
[]
[]
[]
[]
[]
[]
[]
[]
[]
[]
[]
[]
[]
[]
[]
[]
[]
[]
[]
[]
[]
[]
[]
[]
[]
[]
[]
[]
[]
[]
[]
[]
[]
[]
[]
[]
[]
[]
[]
[]
[]
[]
[]
[]
[]
[]
[]
[]
[]
[]
[]
[]
[]
[]
[]
[]
[]
[]
[]
[]
[]
[]
[]
[]
[]
[]
[]
[]
[]
[]
[]
[]
[]
[]
[]
[]
[]
[]
[]
[]
[]
[]
[]
[]
[]
[]
[]
[]
[]
[]
[]
[]
[]
[]
[]
[]
[]
[]
[]
[]
[]
[]
[]
[]
[]
[]
[]
[]
[]
[]
[]
[]
[]
[]
[]
[]
[]
[]
[]
[]
[]
[]
[]
[]
[]
[]
[]
[]
[]
[]
[]
[]
[]
[]
[]
[]
[]
[]
[]
[]
[]
[]
[]
[]
[]
[]
[]
[null,null,null,null,null,null,null,null,null,null,null,null,null,null,null,null,null,null,null,null,null,null,null,null,null,null,null,"J77","J85","J94","J105","J+105",null,"J56","J62","J69","J77","J85","J94","J105","J+105",null,"S56","S62","S69","S77","S85","S94","S105","S+105"]
[null,null,null,null,null,null,null,null,null,null,null,null,null,null,null,null,null,null,null,null,null,null,null,null,null,null,null,145,160,170,180,190,null,100,115,130,145,160,170,180,190,null,115,135,150,165,180,190,200,210]
[null,null,null,null,null,null,null,null,null,null,null,null,null,null,null,null,null,null,null,null,null,null,null,null,null,null,null,165,180,190,200,210,null,115,135,150,165,180,190,200,210,null,130,150,165,185,200,210,220,230]
[null,null,null,null,null,null,null,null,null,null,null,null,null,null,null,null,null,null,null,null,null,null,null,null,null,null,null,185,200,210,220,230,null,130,150,165,185,200,210,220,230,null,145,165,180,200,220,230,240,250]
[null,null,null,null,null,null,null,null,null,null,null,null,null,null,null,null,null,null,null,null,null,null,null,null,null,null,null,200,220,230,240,250,null,145,165,180,200,220,230,240,250,null,175,195,215,235,250,260,275,280]
[null,null,null,null,null,null,null,null,null,null,null,null,null,null,null,null,null,null,null,null,null,null,null,null,null,null,null,235,250,260,275,280,null,175,195,215,235,250,260,275,280,null,210,230,250,270,290,300,310,325]
[null,null,null,null,null,null,null,null,null,null,null,null,null,null,null,null,null,null,null,null,null,null,null,null,null,null,null,270,290,300,310,325,null,210,230,250,270,290,300,310,325,null,230,255,275,300,315,335,345,355]
[null,null,null,null,null,null,null,null,null,null,null,null,null,null,null,null,null,null,null,null,null,null,null,null,null,null,null,320,335,355,370,380,null,245,270,295,320,335,355,370,380,null,245,270,295,320,335,355,370,380]

{"sheet":"SENIORS","index":4,"n_rows":800,"n_cols":50,"rows_kept":800,"cut":false,"hidden":false,"merged":[[3,21,3,22],[0,7,0,14],[0,18,0,21],[1,6,1,10],[1,11,1,13],[1,14,1,17],[1,18,1,19],[1,21,1,22]]}
[null,null,null,null,null,"LISTING NATIONAL",null,"FEMININES",null,null,null,null,null,null,null,null,"DATE :",null,"2015-06-30"]
[null,null,null,null,null," ","2014-2015",null,null,null,null,"3° TRIMESTRE"]
[]
["SEXE","ZONE","REG.","CL.","LICENCE","NOMS","Prénoms","AN","POIDS","CLUB","NAT",1,2,3,"ARR",1,2,3,"EP-J","Total","KP-2PC","SERIE",null,"Catég","IWF",null," ","DEB ","DEP +","REG +","IRG +","FED +","NAT +","INTB +","INTA +","OLY +"]
[null,null,null,null,null,null,null,null,null,null,null,null,null,null,null,null,null,null,null,null,null,null,null,null,null,null," ",{"$f":"T5-HLOOKUP(X5,[1]Feuil1!$C$1:$BL$10,2,FALSE)","v":{"$error":"#N/A"}},{"$f":"T5-HLOOKUP(X5,[1]Feuil1!$C$1:$BL$10,3,FALSE)","v":{"$error":"#N/A"}},{"$f":"T5-HLOOKUP(X5,[1]Feuil1!$C$1:$BL$10,4,FALSE)","v":{"$error":"#N/A"}},{"$f":"T5-HLOOKUP(X5,[1]Feuil1!$C$1:$BL$10,5,FALSE)","v":{"$error":"#N/A"}},{"$f":"T5-HLOOKUP(X5,[1]Feuil1!$C$1:$BL$10,6,FALSE)","v":{"$error":"#N/A"}},{"$f":"T5-HLOOKUP(X5,[1]Feuil1!$C$1:$BL$10,7,FALSE)","v":{"$error":"#N/A"}},{"$f":"T5-HLOOKUP(X5,[1]Feuil1!$C$1:$BL$10,8,FALSE)","v":{"$error":"#N/A"}},{"$f":"T5-HLOOKUP(X5,[1]Feuil1!$C$1:$BL$10,9,FALSE)","v":{"$error":"#N/A"}},{"$f":"T5-HLOOKUP(X5,[1]Feuil1!$C$1:$BL$10,10,FALSE)","v":{"$error":"#N/A"}},null,null,null,null,null,null,{"$f":"IF(AJ5>=0,$AJ$4,IF(AI5>=0,$AI$4,IF(AH5>=0,$AH$4,IF(AG5>=0,$AG$4,IF(AF5>=0,$AF$4,IF(AE5>=0,$AE$4,IF(AD5>=0,$AD$4,IF(AC5>=0,$AC$4,$AB$4))))))))","v":{"$error":"#N/A"}}]
["F","CO","CEN",1,129989,"MICHEL","Anais",1988,47.52,"AAJ Blois","F",76,-79,-79,{"$f":"IF(H6=\"\",\"\",IF(MAXA(L6:N6)<=0,0,MAXA(L6:N6)))","v":76},94,96,98,{"$f":"IF(H6=\"\",\"\",IF(MAXA(P6:R6)<=0,0,MAXA(P6:R6)))","v":98},{"$f":"IF(H6=\"\",\"\",IF(OR(O6=0,S6=0),0,O6+S6))","v":174},{"$f":"T6-I6*2","v":78.959999999999994},{"$f":"IF(H6=\"\",\"\",AQ6)","v":"OLY +"},{"$f":"IF(AJ6>=0,AJ6,IF(AI6>=0,AI6,IF(AH6>=0,AH6,IF(AG6>=0,AG6,IF(AF6>=0,AF6,IF(AE6>=0,AE6,IF(AD6>=0,AD6,IF(AC6>=0,AC6,AB6))))))))","v":19},{"$f":"IF(I6=\"\",\"\",IF(A6=\"H\",IF(OR(H6=\"SEN\",H6<1995),VLOOKUP(I6,Feuil1!$A$11:$F$29,6),IF(AND(H6>1994,H6<1998),VLOOKUP(I6,Feuil1!$A$11:$F$29,5),IF(AND(H6>1997,H6<2000),VLOOKUP(I6,Feuil1!$A$11:$F$29,4),IF(AND(H6>1999,H6<2002),VLOOKUP(I6,Feuil1!$A$11:$F$29,3),VLOOKUP(I6,Feuil1!$A$11:$F$29,2))))),IF(OR(H6=\"SEN\",H6<1995),VLOOKUP(I6,Feuil1!$G$11:$L$25,6),IF(AND(H6>1994,H6<1998),VLOOKUP(I6,Feuil1!$G$11:$L$25,5),IF(AND(H6>1997,H6<2000),VLOOKUP(I6,Feuil1!$G$11:$L$25,4),IF(AND(H6>1999,H6<2002),VLOOKUP(I6,Feuil1!$G$11:$L$25,3),VLOOKUP(I6,Feuil1!$G$11:$L$25,2)))))))","v":"FS48"},{"$f":"IF(I6=\"\",\"\",IF(A6=\"H\",10^(0.794358141*LOG(I6/174.393)^2)*T6,IF(A6=\"F\",10^(0.89726074*LOG(I6/148.026)^2)*T6,\"\")))","v":287.763771689252},null," ",{"$f":"T6-HLOOKUP(X6,Feuil1!$C$1:$BL$10,2,FALSE)","v":119},{"$f":"T6-HLOOKUP(X6,Feuil1!$C$1:$BL$10,3,FALSE)","v":109},{"$f":"T6-HLOOKUP(X6,Feuil1!$C$1:$BL$10,4,FALSE)","v":99},{"$f":"T6-HLOOKUP(X6,Feuil1!$C$1:$BL$10,5,FALSE)","v":89},{"$f":"T6-HLOOKUP(X6,Feuil1!$C$1:$BL$10,6,FALSE)","v":79},{"$f":"T6-HLOOKUP(X6,Feuil1!$C$1:$BL$10,7,FALSE)","v":64},{"$f":"T6-HLOOKUP(X6,Feuil1!$C$1:$BL$10,8,FALSE)","v":49},{"$f":"T6-HLOOKUP(X6,Feuil1!$C$1:$BL$10,9,FALSE)","v":34},{"$f":"T6-HLOOKUP(X6,Feuil1!$C$1:$BL$10,10,FALSE)","v":19},null,null,null,null,null,null,{"$f":"IF(AJ6>=0,$AJ$4,IF(AI6>=0,$AI$4,IF(AH6>=0,$AH$4,IF(AG6>=0,$AG$4,IF(AF6>=0,$AF$4,IF(AE6>=0,$AE$4,IF(AD6>=0,$AD$4,IF(AC6>=0,$AC$4,$AB$4))))))))","v":"OLY +"}]
["F","NE","BOU",2,7051,"BARDIS","Mélanie",1986,47.9,"HMDB21","F",58,61,63,63,73,76,80,80,143,47.2,"INTA +",3,{"$f":"IF(I7=\"\",\"\",IF(A7=\"H\",IF(OR(H7=\"SEN\",H7<1995),VLOOKUP(I7,Feuil1!$A$11:$F$29,6),IF(AND(H7>1994,H7<1998),VLOOKUP(I7,Feuil1!$A$11:$F$29,5),IF(AND(H7>1997,H7<2000),VLOOKUP(I7,Feuil1!$A$11:$F$29,4),IF(AND(H7>1999,H7<2002),VLOOKUP(I7,Feuil1!$A$11:$F$29,3),VLOOKUP(I7,Feuil1!$A$11:$F$29,2))))),IF(OR(H7=\"SEN\",H7<1995),VLOOKUP(I7,Feuil1!$G$11:$L$25,6),IF(AND(H7>1994,H7<1998),VLOOKUP(I7,Feuil1!$G$11:$L$25,5),IF(AND(H7>1997,H7<2000),VLOOKUP(I7,Feuil1!$G$11:$L$25,4),IF(AND(H7>1999,H7<2002),VLOOKUP(I7,Feuil1!$G$11:$L$25,3),VLOOKUP(I7,Feuil1!$G$11:$L$25,2)))))))","v":"FS48"},234.83916680900901,null," ",{"$f":"T7-HLOOKUP(X7,Feuil1!$C$1:$BL$10,2,FALSE)","v":88},{"$f":"T7-HLOOKUP(X7,Feuil1!$C$1:$BL$10,3,FALSE)","v":78},{"$f":"T7-HLOOKUP(X7,Feuil1!$C$1:$BL$10,4,FALSE)","v":68},{"$f":"T7-HLOOKUP(X7,Feuil1!$C$1:$BL$10,5,FALSE)","v":58},{"$f":"T7-HLOOKUP(X7,Feuil1!$C$1:$BL$10,6,FALSE)","v":48},{"$f":"T7-HLOOKUP(X7,Feuil1!$C$1:$BL$10,7,FALSE)","v":33},{"$f":"T7-HLOOKUP(X7,Feuil1!$C$1:$BL$10,8,FALSE)","v":18},{"$f":"T7-HLOOKUP(X7,Feuil1!$C$1:$BL$10,9,FALSE)","v":3},{"$f":"T7-HLOOKUP(X7,Feuil1!$C$1:$BL$10,10,FALSE)","v":-12},null,null,null,null,null,null,"INTA +"]
["F","SEST","RAL",3,79011,"BAILLET ","Florence",1990,46.9,"SAINT BALDOPH","F",57,-60,60,60,75,78,80,80,140,46.2,"INTA +",0,{"$f":"IF(I8=\"\",\"\",IF(A8=\"H\",IF(OR(H8=\"SEN\",H8<1995),VLOOKUP(I8,Feuil1!$A$11:$F$29,6),IF(AND(H8>1994,H8<1998),VLOOKUP(I8,Feuil1!$A$11:$F$29,5),IF(AND(H8>1997,H8<2000),VLOOKUP(I8,Feuil1!$A$11:$F$29,4),IF(AND(H8>1999,H8<2002),VLOOKUP(I8,Feuil1!$A$11:$F$29,3),VLOOKUP(I8,Feuil1!$A$11:$F$29,2))))),IF(OR(H8=\"SEN\",H8<1995),VLOOKUP(I8,Feuil1!$G$11:$L$25,6),IF(AND(H8>1994,H8<1998),VLOOKUP(I8,Feuil1!$G$11:$L$25,5),IF(AND(H8>1997,H8<2000),VLOOKUP(I8,Feuil1!$G$11:$L$25,4),IF(AND(H8>1999,H8<2002),VLOOKUP(I8,Feuil1!$G$11:$L$25,3),VLOOKUP(I8,Feuil1!$G$11:$L$25,2)))))))","v":"FS48"},234.25818695348539,null," ",{"$f":"T8-HLOOKUP(X8,Feuil1!$C$1:$BL$10,2,FALSE)","v":85},{"$f":"T8-HLOOKUP(X8,Feuil1!$C$1:$BL$10,3,FALSE)","v":75},{"$f":"T8-HLOOKUP(X8,Feuil1!$C$1:$BL$10,4,FALSE)","v":65},{"$f":"T8-HLOOKUP(X8,Feuil1!$C$1:$BL$10,5,FALSE)","v":55},{"$f":"T8-HLOOKUP(X8,Feuil1!$C$1:$BL$10,6,FALSE)","v":45},{"$f":"T8-HLOOKUP(X8,Feuil1!$C$1:$BL$10,7,FALSE)","v":30},{"$f":"T8-HLOOKUP(X8,Feuil1!$C$1:$BL$10,8,FALSE)","v":15},{"$f":"T8-HLOOKUP(X8,Feuil1!$C$1:$BL$10,9,FALSE)","v":0},{"$f":"T8-HLOOKUP(X8,Feuil1!$C$1:$BL$10,10,FALSE)","v":-15},null,null,null,null,null,null,"INTA +"]
["F","DOM","REU",4,94140,"EDMOND","NEIGE LINE",1978,48,"CH LAPLAINE","F",55,60,-65,60,65,70,-75,70,130,34,"INTB +",5,{"$f":"IF(I9=\"\",\"\",IF(A9=\"H\",IF(OR(H9=\"SEN\",H9<1995),VLOOKUP(I9,Feuil1!$A$11:$F$29,6),IF(AND(H9>1994,H9<1998),VLOOKUP(I9,Feuil1!$A$11:$F$29,5),IF(AND(H9>1997,H9<2000),VLOOKUP(I9,Feuil1!$A$11:$F$29,4),IF(AND(H9>1999,H9<2002),VLOOKUP(I9,Feuil1!$A$11:$F$29,3),VLOOKUP(I9,Feuil1!$A$11:$F$29,2))))),IF(OR(H9=\"SEN\",H9<1995),VLOOKUP(I9,Feuil1!$G$11:$L$25,6),IF(AND(H9>1994,H9<1998),VLOOKUP(I9,Feuil1!$G$11:$L$25,5),IF(AND(H9>1997,H9<2000),VLOOKUP(I9,Feuil1!$G$11:$L$25,4),IF(AND(H9>1999,H9<2002),VLOOKUP(I9,Feuil1!$G$11:$L$25,3),VLOOKUP(I9,Feuil1!$G$11:$L$25,2)))))))","v":"FS48"},213.09936744472682,null," ",{"$f":"T9-HLOOKUP(X9,Feuil1!$C$1:$BL$10,2,FALSE)","v":75},{"$f":"T9-HLOOKUP(X9,Feuil1!$C$1:$BL$10,3,FALSE)","v":65},{"$f":"T9-HLOOKUP(X9,Feuil1!$C$1:$BL$10,4,FALSE)","v":55},{"$f":"T9-HLOOKUP(X9,Feuil1!$C$1:$BL$10,5,FALSE)","v":45},{"$f":"T9-HLOOKUP(X9,Feuil1!$C$1:$BL$10,6,FALSE)","v":35},{"$f":"T9-HLOOKUP(X9,Feuil1!$C$1:$BL$10,7,FALSE)","v":20},{"$f":"T9-HLOOKUP(X9,Feuil1!$C$1:$BL$10,8,FALSE)","v":5},{"$f":"T9-HLOOKUP(X9,Feuil1!$C$1:$BL$10,9,FALSE)","v":-10},{"$f":"T9-HLOOKUP(X9,Feuil1!$C$1:$BL$10,10,FALSE)","v":-25},null,null,null,null,null,null,"INTB +"]
["F","SEST","RAL",5,21779,"LYAUDET","Chrystel",1972,47.2,"H.C. OYONNAX","F",46,48,50,50,56,59,62,62,112,17.599999999999994,"NAT +",2,{"$f":"IF(I10=\"\",\"\",IF(A10=\"H\",IF(OR(H10=\"SEN\",H10<1995),VLOOKUP(I10,Feuil1!$A$11:$F$29,6),IF(AND(H10>1994,H10<1998),VLOOKUP(I10,Feuil1!$A$11:$F$29,5),IF(AND(H10>1997,H10<2000),VLOOKUP(I10,Feuil1!$A$11:$F$29,4),IF(AND(H10>1999,H10<2002),VLOOKUP(I10,Feuil1!$A$11:$F$29,3),VLOOKUP(I10,Feuil1!$A$11:$F$29,2))))),IF(OR(H10=\"SEN\",H10<1995),VLOOKUP(I10,Feuil1!$G$11:$L$25,6),IF(AND(H10>1994,H10<1998),VLOOKUP(I10,Feuil1!$G$11:$L$25,5),IF(AND(H10>1997,H10<2000),VLOOKUP(I10,Feuil1!$G$11:$L$25,4),IF(AND(H10>1999,H10<2002),VLOOKUP(I10,Feuil1!$G$11:$L$25,3),VLOOKUP(I10,Feuil1!$G$11:$L$25,2)))))))","v":"FS48"},186.3421657766682,null," ",{"$f":"T10-HLOOKUP(X10,Feuil1!$C$1:$BL$10,2,FALSE)","v":57},{"$f":"T10-HLOOKUP(X10,Feuil1!$C$1:$BL$10,3,FALSE)","v":47},{"$f":"T10-HLOOKUP(X10,Feuil1!$C$1:$BL$10,4,FALSE)","v":37},{"$f":"T10-HLOOKUP(X10,Feuil1!$C$1:$BL$10,5,FALSE)","v":27},{"$f":"T10-HLOOKUP(X10,Feuil1!$C$1:$BL$10,6,FALSE)","v":17},{"$f":"T10-HLOOKUP(X10,Feuil1!$C$1:$BL$10,7,FALSE)","v":2},{"$f":"T10-HLOOKUP(X10,Feuil1!$C$1:$BL$10,8,FALSE)","v":-13},{"$f":"T10-HLOOKUP(X10,Feuil1!$C$1:$BL$10,9,FALSE)","v":-28},{"$f":"T10-HLOOKUP(X10,Feuil1!$C$1:$BL$10,10,FALSE)","v":-43},null,null,null,null,null,null,"NAT +"]
["F","NORD","PIC",6,167624,"DELACOURT","Marine",1990,47.6,"La Vaillante Saint Quentin","F",-43,43,46,46,55,58,60,60,106,10.799999999999997,"FED +",11,{"$f":"IF(I11=\"\",\"\",IF(A11=\"H\",IF(OR(H11=\"SEN\",H11<1995),VLOOKUP(I11,Feuil1!$A$11:$F$29,6),IF(AND(H11>1994,H11<1998),VLOOKUP(I11,Feuil1!$A$11:$F$29,5),IF(AND(H11>1997,H11<2000),VLOOKUP(I11,Feuil1!$A$11:$F$29,4),IF(AND(H11>1999,H11<2002),VLOOKUP(I11,Feuil1!$A$11:$F$29,3),VLOOKUP(I11,Feuil1!$A$11:$F$29,2))))),IF(OR(H11=\"SEN\",H11<1995),VLOOKUP(I11,Feuil1!$G$11:$L$25,6),IF(AND(H11>1994,H11<1998),VLOOKUP(I11,Feuil1!$G$11:$L$25,5),IF(AND(H11>1997,H11<2000),VLOOKUP(I11,Feuil1!$G$11:$L$25,4),IF(AND(H11>1999,H11<2002),VLOOKUP(I11,Feuil1!$G$11:$L$25,3),VLOOKUP(I11,Feuil1!$G$11:$L$25,2)))))))","v":"FS48"},175.04363232718205,null," ",{"$f":"T11-HLOOKUP(X11,Feuil1!$C$1:$BL$10,2,FALSE)","v":51},{"$f":"T11-HLOOKUP(X11,Feuil1!$C$1:$BL$10,3,FALSE)","v":41},{"$f":"T11-HLOOKUP(X11,Feuil1!$C$1:$BL$10,4,FALSE)","v":31},{"$f":"T11-HLOOKUP(X11,Feuil1!$C$1:$BL$10,5,FALSE)","v":21},{"$f":"T11-HLOOKUP(X11,Feuil1!$C$1:$BL$10,6,FALSE)","v":11},{"$f":"T11-HLOOKUP(X11,Feuil1!$C$1:$BL$10,7,FALSE)","v":-4},{"$f":"T11-HLOOKUP(X11,Feuil1!$C$1:$BL$10,8,FALSE)","v":-19},{"$f":"T11-HLOOKUP(X11,Feuil1!$C$1:$BL$10,9,FALSE)","v":-34},{"$f":"T11-HLOOKUP(X11,Feuil1!$C$1:$BL$10,10,FALSE)","v":-49},null,null,null,null,null,null,"FED +"]
["F","NORD","NPC",7,368810,"CRET","Crinuta",1989,48,"C.A.ROSENDAEL","ROU",45,-50,-50,45,58,-62,-65,58,103,7,"FED +",8,{"$f":"IF(I12=\"\",\"\",IF(A12=\"H\",IF(OR(H12=\"SEN\",H12<1995),VLOOKUP(I12,Feuil1!$A$11:$F$29,6),IF(AND(H12>1994,H12<1998),VLOOKUP(I12,Feuil1!$A$11:$F$29,5),IF(AND(H12>1997,H12<2000),VLOOKUP(I12,Feuil1!$A$11:$F$29,4),IF(AND(H12>1999,H12<2002),VLOOKUP(I12,Feuil1!$A$11:$F$29,3),VLOOKUP(I12,Feuil1!$A$11:$F$29,2))))),IF(OR(H12=\"SEN\",H12<1995),VLOOKUP(I12,Feuil1!$G$11:$L$25,6),IF(AND(H12>1994,H12<1998),VLOOKUP(I12,Feuil1!$G$11:$L$25,5),IF(AND(H12>1997,H12<2000),VLOOKUP(I12,Feuil1!$G$11:$L$25,4),IF(AND(H12>1999,H12<2002),VLOOKUP(I12,Feuil1!$G$11:$L$25,3),VLOOKUP(I12,Feuil1!$G$11:$L$25,2)))))))","v":"FS48"},168.84026805236047,null," ",{"$f":"T12-HLOOKUP(X12,Feuil1!$C$1:$BL$10,2,FALSE)","v":48},{"$f":"T12-HLOOKUP(X12,Feuil1!$C$1:$BL$10,3,FALSE)","v":38},{"$f":"T12-HLOOKUP(X12,Feuil1!$C$1:$BL$10,4,FALSE)","v":28},{"$f":"T12-HLOOKUP(X12,Feuil1!$C$1:$BL$10,5,FALSE)","v":18},{"$f":"T12-HLOOKUP(X12,Feuil1!$C$1:$BL$10,6,FALSE)","v":8},{"$f":"T12-HLOOKUP(X12,Feuil1!$C$1:$BL$10,7,FALSE)","v":-7},{"$f":"T12-HLOOKUP(X12,Feuil1!$C$1:$BL$10,8,FALSE)","v":-22},{"$f":"T12-HLOOKUP(X12,Feuil1!$C$1:$BL$10,9,FALSE)","v":-37},{"$f":"T12-HLOOKUP(X12,Feuil1!$C$1:$BL$10,10,FALSE)","v":-52},null,null,null,null,null,null,"FED +"]
["F","SO","POI",8,86179,"MARTIN","Anaëlle",1983,44.1,"AYTRÉ","F",43,45,46,46,50,53,-55,53,99,10.799999999999997,"FED +",4,{"$f":"IF(I13=\"\",\"\",IF(A13=\"H\",IF(OR(H13=\"SEN\",H13<1995),VLOOKUP(I13,Feuil1!$A$11:$F$29,6),IF(AND(H13>1994,H13<1998),VLOOKUP(I13,Feuil1!$A$11:$F$29,5),IF(AND(H13>1997,H13<2000),VLOOKUP(I13,Feuil1!$A$11:$F$29,4),IF(AND(H13>1999,H13<2002),VLOOKUP(I13,Feuil1!$A$11:$F$29,3),VLOOKUP(I13,Feuil1!$A$11:$F$29,2))))),IF(OR(H13=\"SEN\",H13<1995),VLOOKUP(I13,Feuil1!$G$11:$L$25,6),IF(AND(H13>1994,H13<1998),VLOOKUP(I13,Feuil1!$G$11:$L$25,5),IF(AND(H13>1997,H13<2000),VLOOKUP(I13,Feuil1!$G$11:$L$25,4),IF(AND(H13>1999,H13<2002),VLOOKUP(I13,Feuil1!$G$11:$L$25,3),VLOOKUP(I13,Feuil1!$G$11:$L$25,2)))))))","v":"FS48"},175.30357442082504,null," ",{"$f":"T13-HLOOKUP(X13,Feuil1!$C$1:$BL$10,2,FALSE)","v":44},{"$f":"T13-HLOOKUP(X13,Feuil1!$C$1:$BL$10,3,FALSE)","v":34},{"$f":"T13-HLOOKUP(X13,Feuil1!$C$1:$BL$10,4,FALSE)","v":24},{"$f":"T13-HLOOKUP(X13,Feuil1!$C$1:$BL$10,5,FALSE)","v":14},{"$f":"T13-HLOOKUP(X13,Feuil1!$C$1:$BL$10,6,FALSE)","v":4},{"$f":"T13-HLOOKUP(X13,Feuil1!$C$1:$BL$10,7,FALSE)","v":-11},{"$f":"T13-HLOOKUP(X13,Feuil1!$C$1:$BL$10,8,FALSE)","v":-26},{"$f":"T13-HLOOKUP(X13,Feuil1!$C$1:$BL$10,9,FALSE)","v":-41},{"$f":"T13-HLOOKUP(X13,Feuil1!$C$1:$BL$10,10,FALSE)","v":-56},null,null,null,null,null,null,"FED +"]
["F","CO","BNO",9,270512,"SAYAH","Nadia",1965,47.9,"Caen CHM","F",40,42,44,44,47,50,-51,50,94,-1.7999999999999972,"IRG +",9,{"$f":"IF(I14=\"\",\"\",IF(A14=\"H\",IF(OR(H14=\"SEN\",H14<1995),VLOOKUP(I14,Feuil1!$A$11:$F$29,6),IF(AND(H14>1994,H14<1998),VLOOKUP(I14,Feuil1!$A$11:$F$29,5),IF(AND(H14>1997,H14<2000),VLOOKUP(I14,Feuil1!$A$11:$F$29,4),IF(AND(H14>1999,H14<2002),VLOOKUP(I14,Feuil1!$A$11:$F$29,3),VLOOKUP(I14,Feuil1!$A$11:$F$29,2))))),IF(OR(H14=\"SEN\",H14<1995),VLOOKUP(I14,Feuil1!$G$11:$L$25,6),IF(AND(H14>1994,H14<1998),VLOOKUP(I14,Feuil1!$G$11:$L$25,5),IF(AND(H14>1997,H14<2000),VLOOKUP(I14,Feuil1!$G$11:$L$25,4),IF(AND(H14>1999,H14<2002),VLOOKUP(I14,Feuil1!$G$11:$L$25,3),VLOOKUP(I14,Feuil1!$G$11:$L$25,2)))))))","v":"FS48"},154.36980195836958,null," ",{"$f":"T14-HLOOKUP(X14,Feuil1!$C$1:$BL$10,2,FALSE)","v":39},{"$f":"T14-HLOOKUP(X14,Feuil1!$C$1:$BL$10,3,FALSE)","v":29},{"$f":"T14-HLOOKUP(X14,Feuil1!$C$1:$BL$10,4,FALSE)","v":19},{"$f":"T14-HLOOKUP(X14,Feuil1!$C$1:$BL$10,5,FALSE)","v":9},{"$f":"T14-HLOOKUP(X14,Feuil1!$C$1:$BL$10,6,FALSE)","v":-1},{"$f":"T14-HLOOKUP(X14,Feuil1!$C$1:$BL$10,7,FALSE)","v":-16},{"$f":"T14-HLOOKUP(X14,Feuil1!$C$1:$BL$10,8,FALSE)","v":-31},{"$f":"T14-HLOOKUP(X14,Feuil1!$C$1:$BL$10,9,FALSE)","v":-46},{"$f":"T14-HLOOKUP(X14,Feuil1!$C$1:$BL$10,10,FALSE)","v":-61},null,null,null,null,null,null,"IRG +"]
["F","N","IDF",10,222560,"FERAUD","NATHALIE",1967,46.8,"VELIZY","F",36,39,-41,39,46,-50,50,50,89,-4.5999999999999943,"IRG +",4,{"$f":"IF(I15=\"\",\"\",IF(A15=\"H\",IF(OR(H15=\"SEN\",H15<1995),VLOOKUP(I15,Feuil1!$A$11:$F$29,6),IF(AND(H15>1994,H15<1998),VLOOKUP(I15,Feuil1!$A$11:$F$29,5),IF(AND(H15>1997,H15<2000),VLOOKUP(I15,Feuil1!$A$11:$F$29,4),IF(AND(H15>1999,H15<2002),VLOOKUP(I15,Feuil1!$A$11:$F$29,3),VLOOKUP(I15,Feuil1!$A$11:$F$29,2))))),IF(OR(H15=\"SEN\",H15<1995),VLOOKUP(I15,Feuil1!$G$11:$L$25,6),IF(AND(H15>1994,H15<1998),VLOOKUP(I15,Feuil1!$G$11:$L$25,5),IF(AND(H15>1997,H15<2000),VLOOKUP(I15,Feuil1!$G$11:$L$25,4),IF(AND(H15>1999,H15<2002),VLOOKUP(I15,Feuil1!$G$11:$L$25,3),VLOOKUP(I15,Feuil1!$G$11:$L$25,2)))))))","v":"FS48"},149.20654786356036,null," ",{"$f":"T15-HLOOKUP(X15,Feuil1!$C$1:$BL$10,2,FALSE)","v":34},{"$f":"T15-HLOOKUP(X15,Feuil1!$C$1:$BL$10,3,FALSE)","v":24},{"$f":"T15-HLOOKUP(X15,Feuil1!$C$1:$BL$10,4,FALSE)","v":14},{"$f":"T15-HLOOKUP(X15,Feuil1!$C$1:$BL$10,5,FALSE)","v":4},{"$f":"T15-HLOOKUP(X15,Feuil1!$C$1:$BL$10,6,FALSE)","v":-6},{"$f":"T15-HLOOKUP(X15,Feuil1!$C$1:$BL$10,7,FALSE)","v":-21},{"$f":"T15-HLOOKUP(X15,Feuil1!$C$1:$BL$10,8,FALSE)","v":-36},{"$f":"T15-HLOOKUP(X15,Feuil1!$C$1:$BL$10,9,FALSE)","v":-51},{"$f":"T15-HLOOKUP(X15,Feuil1!$C$1:$BL$10,10,FALSE)","v":-66},null,null,null,null,null,null,"IRG +"]
["F","N","IDF",11,304799,"HERVE","SANDRINE",1977,48,"FRANCONVILLE","F",35,37,38,38,45,47,-49,47,85,-11,"IRG +",0,{"$f":"IF(I16=\"\",\"\",IF(A16=\"H\",IF(OR(H16=\"SEN\",H16<1995),VLOOKUP(I16,Feuil1!$A$11:$F$29,6),IF(AND(H16>1994,H16<1998),VLOOKUP(I16,Feuil1!$A$11:$F$29,5),IF(AND(H16>1997,H16<2000),VLOOKUP(I16,Feuil1!$A$11:$F$29,4),IF(AND(H16>1999,H16<2002),VLOOKUP(I16,Feuil1!$A$11:$F$29,3),VLOOKUP(I16,Feuil1!$A$11:$F$29,2))))),IF(OR(H16=\"SEN\",H16<1995),VLOOKUP(I16,Feuil1!$G$11:$L$25,6),IF(AND(H16>1994,H16<1998),VLOOKUP(I16,Feuil1!$G$11:$L$25,5),IF(AND(H16>1997,H16<2000),VLOOKUP(I16,Feuil1!$G$11:$L$25,4),IF(AND(H16>1999,H16<2002),VLOOKUP(I16,Feuil1!$G$11:$L$25,3),VLOOKUP(I16,Feuil1!$G$11:$L$25,2)))))))","v":"FS48"},139.33420179078291,null," ",{"$f":"T16-HLOOKUP(X16,Feuil1!$C$1:$BL$10,2,FALSE)","v":30},{"$f":"T16-HLOOKUP(X16,Feuil1!$C$1:$BL$10,3,FALSE)","v":20},{"$f":"T16-HLOOKUP(X16,Feuil1!$C$1:$BL$10,4,FALSE)","v":10},{"$f":"T16-HLOOKUP(X16,Feuil1!$C$1:$BL$10,5,FALSE)","v":0},{"$f":"T16-HLOOKUP(X16,Feuil1!$C$1:$BL$10,6,FALSE)","v":-10},{"$f":"T16-HLOOKUP(X16,Feuil1!$C$1:$BL$10,7,FALSE)","v":-25},{"$f":"T16-HLOOKUP(X16,Feuil1!$C$1:$BL$10,8,FALSE)","v":-40},{"$f":"T16-HLOOKUP(X16,Feuil1!$C$1:$BL$10,9,FALSE)","v":-55},{"$f":"T16-HLOOKUP(X16,Feuil1!$C$1:$BL$10,10,FALSE)","v":-70},null,null,null,null,null,null,"IRG +"]
["F","NE","FCO",12,349251,"VALERA","Alice",1991,41.3,"LF Besançon","F",31,-33,33,33,44,46,-48,46,79,-3.5999999999999943,"REG +",4,{"$f":"IF(I17=\"\",\"\",IF(A17=\"H\",IF(OR(H17=\"SEN\",H17<1995),VLOOKUP(I17,Feuil1!$A$11:$F$29,6),IF(AND(H17>1994,H17<1998),VLOOKUP(I17,Feuil1!$A$11:$F$29,5),IF(AND(H17>1997,H17<2000),VLOOKUP(I17,Feuil1!$A$11:$F$29,4),IF(AND(H17>1999,H17<2002),VLOOKUP(I17,Feuil1!$A$11:$F$29,3),VLOOKUP(I17,Feuil1!$A$11:$F$29,2))))),IF(OR(H17=\"SEN\",H17<1995),VLOOKUP(I17,Feuil1!$G$11:$L$25,6),IF(AND(H17>1994,H17<1998),VLOOKUP(I17,Feuil1!$G$11:$L$25,5),IF(AND(H17>1997,H17<2000),VLOOKUP(I17,Feuil1!$G$11:$L$25,4),IF(AND(H17>1999,H17<2002),VLOOKUP(I17,Feuil1!$G$11:$L$25,3),VLOOKUP(I17,Feuil1!$G$11:$L$25,2)))))))","v":"FS48"},149.07217634278618,null," ",{"$f":"T17-HLOOKUP(X17,Feuil1!$C$1:$BL$10,2,FALSE)","v":24},{"$f":"T17-HLOOKUP(X17,Feuil1!$C$1:$BL$10,3,FALSE)","v":14},{"$f":"T17-HLOOKUP(X17,Feuil1!$C$1:$BL$10,4,FALSE)","v":4},{"$f":"T17-HLOOKUP(X17,Feuil1!$C$1:$BL$10,5,FALSE)","v":-6},{"$f":"T17-HLOOKUP(X17,Feuil1!$C$1:$BL$10,6,FALSE)","v":-16},{"$f":"T17-HLOOKUP(X17,Feuil1!$C$1:$BL$10,7,FALSE)","v":-31},{"$f":"T17-HLOOKUP(X17,Feuil1!$C$1:$BL$10,8,FALSE)","v":-46},{"$f":"T17-HLOOKUP(X17,Feuil1!$C$1:$BL$10,9,FALSE)","v":-61},{"$f":"T17-HLOOKUP(X17,Feuil1!$C$1:$BL$10,10,FALSE)","v":-76},null,null,null,null,null,null,"REG +"]
["F","CO","PDL",13,374035,"HAMMOUDI","Nassira",1975,46.8,"BBFC ALLONNES","F",30,-34,-34,30,40,45,48,48,78,-15.599999999999994,"REG +",3,{"$f":"IF(I18=\"\",\"\",IF(A18=\"H\",IF(OR(H18=\"SEN\",H18<1995),VLOOKUP(I18,Feuil1!$A$11:$F$29,6),IF(AND(H18>1994,H18<1998),VLOOKUP(I18,Feuil1!$A$11:$F$29,5),IF(AND(H18>1997,H18<2000),VLOOKUP(I18,Feuil1!$A$11:$F$29,4),IF(AND(H18>1999,H18<2002),VLOOKUP(I18,Feuil1!$A$11:$F$29,3),VLOOKUP(I18,Feuil1!$A$11:$F$29,2))))),IF(OR(H18=\"SEN\",H18<1995),VLOOKUP(I18,Feuil1!$G$11:$L$25,6),IF(AND(H18>1994,H18<1998),VLOOKUP(I18,Feuil1!$G$11:$L$25,5),IF(AND(H18>1997,H18<2000),VLOOKUP(I18,Feuil1!$G$11:$L$25,4),IF(AND(H18>1999,H18<2002),VLOOKUP(I18,Feuil1!$G$11:$L$25,3),VLOOKUP(I18,Feuil1!$G$11:$L$25,2)))))))","v":"FS48"},130.76528913885065,null," ",{"$f":"T18-HLOOKUP(X18,Feuil1!$C$1:$BL$10,2,FALSE)","v":23},{"$f":"T18-HLOOKUP(X18,Feuil1!$C$1:$BL$10,3,FALSE)","v":13},{"$f":"T18-HLOOKUP(X18,Feuil1!$C$1:$BL$10,4,FALSE)","v":3},{"$f":"T18-HLOOKUP(X18,Feuil1!$C$1:$BL$10,5,FALSE)","v":-7},{"$f":"T18-HLOOKUP(X18,Feuil1!$C$1:$BL$10,6,FALSE)","v":-17},{"$f":"T18-HLOOKUP(X18,Feuil1!$C$1:$BL$10,7,FALSE)","v":-32},{"$f":"T18-HLOOKUP(X18,Feuil1!$C$1:$BL$10,8,FALSE)","v":-47},{"$f":"T18-HLOOKUP(X18,Feuil1!$C$1:$BL$10,9,FALSE)","v":-62},{"$f":"T18-HLOOKUP(X18,Feuil1!$C$1:$BL$10,10,FALSE)","v":-77},null,null,null,null,null,null,"REG +"]
["F","NORD","NPC",14,391262,"THIRY","Maïte",1990,47.3,"C.A.ROSENDAEL","BEL",30,33,-35,33,42,44,-46,44,77,-17.599999999999994,"REG +",2,{"$f":"IF(I19=\"\",\"\",IF(A19=\"H\",IF(OR(H19=\"SEN\",H19<1995),VLOOKUP(I19,Feuil1!$A$11:$F$29,6),IF(AND(H19>1994,H19<1998),VLOOKUP(I19,Feuil1!$A$11:$F$29,5),IF(AND(H19>1997,H19<2000),VLOOKUP(I19,Feuil1!$A$11:$F$29,4),IF(AND(H19>1999,H19<2002),VLOOKUP(I19,Feuil1!$A$11:$F$29,3),VLOOKUP(I19,Feuil1!$A$11:$F$29,2))))),IF(OR(H19=\"SEN\",H19<1995),VLOOKUP(I19,Feuil1!$G$11:$L$25,6),IF(AND(H19>1994,H19<1998),VLOOKUP(I19,Feuil1!$G$11:$L$25,5),IF(AND(H19>1997,H19<2000),VLOOKUP(I19,Feuil1!$G$11:$L$25,4),IF(AND(H19>1999,H19<2002),VLOOKUP(I19,Feuil1!$G$11:$L$25,3),VLOOKUP(I19,Feuil1!$G$11:$L$25,2)))))))","v":"FS48"},127.86916632974027,null," ",{"$f":"T19-HLOOKUP(X19,Feuil1!$C$1:$BL$10,2,FALSE)","v":22},{"$f":"T19-HLOOKUP(X19,Feuil1!$C$1:$BL$10,3,FALSE)","v":12},{"$f":"T19-HLOOKUP(X19,Feuil1!$C$1:$BL$10,4,FALSE)","v":2},{"$f":"T19-HLOOKUP(X19,Feuil1!$C$1:$BL$10,5,FALSE)","v":-8},{"$f":"T19-HLOOKUP(X19,Feuil1!$C$1:$BL$10,6,FALSE)","v":-18},{"$f":"T19-HLOOKUP(X19,Feuil1!$C$1:$BL$10,7,FALSE)","v":-33},{"$f":"T19-HLOOKUP(X19,Feuil1!$C$1:$BL$10,8,FALSE)","v":-48},{"$f":"T19-HLOOKUP(X19,Feuil1!$C$1:$BL$10,9,FALSE)","v":-63},{"$f":"T19-HLOOKUP(X19,Feuil1!$C$1:$BL$10,10,FALSE)","v":-78},null,null,null,null,null,null,"REG +"]
["F","CO","CEN",15,77655,"BOURGE","Christine",1952,45.7,"CM Orléans","F",28,30,32,32,38,41,43,43,75,-16.400000000000006,"REG +",0,{"$f":"IF(I20=\"\",\"\",IF(A20=\"H\",IF(OR(H20=\"SEN\",H20<1995),VLOOKUP(I20,Feuil1!$A$11:$F$29,6),IF(AND(H20>1994,H20<1998),VLOOKUP(I20,Feuil1!$A$11:$F$29,5),IF(AND(H20>1997,H20<2000),VLOOKUP(I20,Feuil1!$A$11:$F$29,4),IF(AND(H20>1999,H20<2002),VLOOKUP(I20,Feuil1!$A$11:$F$29,3),VLOOKUP(I20,Feuil1!$A$11:$F$29,2))))),IF(OR(H20=\"SEN\",H20<1995),VLOOKUP(I20,Feuil1!$G$11:$L$25,6),IF(AND(H20>1994,H20<1998),VLOOKUP(I20,Feuil1!$G$11:$L$25,5),IF(AND(H20>1997,H20<2000),VLOOKUP(I20,Feuil1!$G$11:$L$25,4),IF(AND(H20>1999,H20<2002),VLOOKUP(I20,Feuil1!$G$11:$L$25,3),VLOOKUP(I20,Feuil1!$G$11:$L$25,2)))))))","v":"FS48"},128.47687918486426,null," ",{"$f":"T20-HLOOKUP(X20,Feuil1!$C$1:$BL$10,2,FALSE)","v":20},{"$f":"T20-HLOOKUP(X20,Feuil1!$C$1:$BL$10,3,FALSE)","v":10},{"$f":"T20-HLOOKUP(X20,Feuil1!$C$1:$BL$10,4,FALSE)","v":0},{"$f":"T20-HLOOKUP(X20,Feuil1!$C$1:$BL$10,5,FALSE)","v":-10},{"$f":"T20-HLOOKUP(X20,Feuil1!$C$1:$BL$10,6,FALSE)","v":-20},{"$f":"T20-HLOOKUP(X20,Feuil1!$C$1:$BL$10,7,FALSE)","v":-35},{"$f":"T20-HLOOKUP(X20,Feuil1!$C$1:$BL$10,8,FALSE)","v":-50},{"$f":"T20-HLOOKUP(X20,Feuil1!$C$1:$BL$10,9,FALSE)","v":-65},{"$f":"T20-HLOOKUP(X20,Feuil1!$C$1:$BL$10,10,FALSE)","v":-80},null,null,null,null,null,null,"REG +"]
["F","SEST","CAZ",16,390121,"SAURIAC-ROSAN","Stéphanie",1978,45.7,"ASPTT DRAGUIGNAN","F",30,-33,33,33,-42,42,-44,42,75,-16.400000000000006,"REG +",0,{"$f":"IF(I21=\"\",\"\",IF(A21=\"H\",IF(OR(H21=\"SEN\",H21<1995),VLOOKUP(I21,Feuil1!$A$11:$F$29,6),IF(AND(H21>1994,H21<1998),VLOOKUP(I21,Feuil1!$A$11:$F$29,5),IF(AND(H21>1997,H21<2000),VLOOKUP(I21,Feuil1!$A$11:$F$29,4),IF(AND(H21>1999,H21<2002),VLOOKUP(I21,Feuil1!$A$11:$F$29,3),VLOOKUP(I21,Feuil1!$A$11:$F$29,2))))),IF(OR(H21=\"SEN\",H21<1995),VLOOKUP(I21,Feuil1!$G$11:$L$25,6),IF(AND(H21>1994,H21<1998),VLOOKUP(I21,Feuil1!$G$11:$L$25,5),IF(AND(H21>1997,H21<2000),VLOOKUP(I21,Feuil1!$G$11:$L$25,4),IF(AND(H21>1999,H21<2002),VLOOKUP(I21,Feuil1!$G$11:$L$25,3),VLOOKUP(I21,Feuil1!$G$11:$L$25,2)))))))","v":"FS48"},128.47687918486426,null," ",{"$f":"T21-HLOOKUP(X21,Feuil1!$C$1:$BL$10,2,FALSE)","v":20},{"$f":"T21-HLOOKUP(X21,Feuil1!$C$1:$BL$10,3,FALSE)","v":10},{"$f":"T21-HLOOKUP(X21,Feuil1!$C$1:$BL$10,4,FALSE)","v":0},{"$f":"T21-HLOOKUP(X21,Feuil1!$C$1:$BL$10,5,FALSE)","v":-10},{"$f":"T21-HLOOKUP(X21,Feuil1!$C$1:$BL$10,6,FALSE)","v":-20},{"$f":"T21-HLOOKUP(X21,Feuil1!$C$1:$BL$10,7,FALSE)","v":-35},{"$f":"T21-HLOOKUP(X21,Feuil1!$C$1:$BL$10,8,FALSE)","v":-50},{"$f":"T21-HLOOKUP(X21,Feuil1!$C$1:$BL$10,9,FALSE)","v":-65},{"$f":"T21-HLOOKUP(X21,Feuil1!$C$1:$BL$10,10,FALSE)","v":-80},null,null,null,null,null,null,"REG +"]
["F","CO","BNO",17,376363,"MARIE","Julie",1989,46.7,"Caen CHM","F",28,30,32,32,38,43,-45,43,75,-18.400000000000006,"REG +",0,{"$f":"IF(I22=\"\",\"\",IF(A22=\"H\",IF(OR(H22=\"SEN\",H22<1995),VLOOKUP(I22,Feuil1!$A$11:$F$29,6),IF(AND(H22>1994,H22<1998),VLOOKUP(I22,Feuil1!$A$11:$F$29,5),IF(AND(H22>1997,H22<2000),VLOOKUP(I22,Feuil1!$A$11:$F$29,4),IF(AND(H22>1999,H22<2002),VLOOKUP(I22,Feuil1!$A$11:$F$29,3),VLOOKUP(I22,Feuil1!$A$11:$F$29,2))))),IF(OR(H22=\"SEN\",H22<1995),VLOOKUP(I22,Feuil1!$G$11:$L$25,6),IF(AND(H22>1994,H22<1998),VLOOKUP(I22,Feuil1!$G$11:$L$25,5),IF(AND(H22>1997,H22<2000),VLOOKUP(I22,Feuil1!$G$11:$L$25,4),IF(AND(H22>1999,H22<2002),VLOOKUP(I22,Feuil1!$G$11:$L$25,3),VLOOKUP(I22,Feuil1!$G$11:$L$25,2)))))))","v":"FS48"},125.97767753254338,null," ",{"$f":"T22-HLOOKUP(X22,Feuil1!$C$1:$BL$10,2,FALSE)","v":20},{"$f":"T22-HLOOKUP(X22,Feuil1!$C$1:$BL$10,3,FALSE)","v":10},{"$f":"T22-HLOOKUP(X22,Feuil1!$C$1:$BL$10,4,FALSE)","v":0},{"$f":"T22-HLOOKUP(X22,Feuil1!$C$1:$BL$10,5,FALSE)","v":-10},{"$f":"T22-HLOOKUP(X22,Feuil1!$C$1:$BL$10,6,FALSE)","v":-20},{"$f":"T22-HLOOKUP(X22,Feuil1!$C$1:$BL$10,7,FALSE)","v":-35},{"$f":"T22-HLOOKUP(X22,Feuil1!$C$1:$BL$10,8,FALSE)","v":-50},{"$f":"T22-HLOOKUP(X22,Feuil1!$C$1:$BL$10,9,FALSE)","v":-65},{"$f":"T22-HLOOKUP(X22,Feuil1!$C$1:$BL$10,10,FALSE)","v":-80},null,null,null,null,null,null,"REG +"]
["F","NE","LOR",18,190306,"BANKA","Karéne",1989,46.7,"H.VALLEROY-AUBOUÉ","F",25,30,32,32,30,35,-40,35,67,-26.400000000000006,"DEP +",2,{"$f":"IF(I23=\"\",\"\",IF(A23=\"H\",IF(OR(H23=\"SEN\",H23<1995),VLOOKUP(I23,Feuil1!$A$11:$F$29,6),IF(AND(H23>1994,H23<1998),VLOOKUP(I23,Feuil1!$A$11:$F$29,5),IF(AND(H23>1997,H23<2000),VLOOKUP(I23,Feuil1!$A$11:$F$29,4),IF(AND(H23>1999,H23<2002),VLOOKUP(I23,Feuil1!$A$11:$F$29,3),VLOOKUP(I23,Feuil1!$A$11:$F$29,2))))),IF(OR(H23=\"SEN\",H23<1995),VLOOKUP(I23,Feuil1!$G$11:$L$25,6),IF(AND(H23>1994,H23<1998),VLOOKUP(I23,Feuil1!$G$11:$L$25,5),IF(AND(H23>1997,H23<2000),VLOOKUP(I23,Feuil1!$G$11:$L$25,4),IF(AND(H23>1999,H23<2002),VLOOKUP(I23,Feuil1!$G$11:$L$25,3),VLOOKUP(I23,Feuil1!$G$11:$L$25,2)))))))","v":"FS48"},112.54005859573876,null," ",{"$f":"T23-HLOOKUP(X23,Feuil1!$C$1:$BL$10,2,FALSE)","v":12},{"$f":"T23-HLOOKUP(X23,Feuil1!$C$1:$BL$10,3,FALSE)","v":2},{"$f":"T23-HLOOKUP(X23,Feuil1!$C$1:$BL$10,4,FALSE)","v":-8},{"$f":"T23-HLOOKUP(X23,Feuil1!$C$1:$BL$10,5,FALSE)","v":-18},{"$f":"T23-HLOOKUP(X23,Feuil1!$C$1:$BL$10,6,FALSE)","v":-28},{"$f":"T23-HLOOKUP(X23,Feuil1!$C$1:$BL$10,7,FALSE)","v":-43},{"$f":"T23-HLOOKUP(X23,Feuil1!$C$1:$BL$10,8,FALSE)","v":-58},{"$f":"T23-HLOOKUP(X23,Feuil1!$C$1:$BL$10,9,FALSE)","v":-73},{"$f":"T23-HLOOKUP(X23,Feuil1!$C$1:$BL$10,10,FALSE)","v":-88},null,null,null,null,null,null,"DEP +"]
["F","N","IDF",19,379292,"POLLASTRI","VICTORIA",1994,43.4,"SAINT-MAUR","F",25,27,-30,27,33,36,39,39,66,-20.799999999999997,"DEP +",1,{"$f":"IF(I24=\"\",\"\",IF(A24=\"H\",IF(OR(H24=\"SEN\",H24<1995),VLOOKUP(I24,Feuil1!$A$11:$F$29,6),IF(AND(H24>1994,H24<1998),VLOOKUP(I24,Feuil1!$A$11:$F$29,5),IF(AND(H24>1997,H24<2000),VLOOKUP(I24,Feuil1!$A$11:$F$29,4),IF(AND(H24>1999,H24<2002),VLOOKUP(I24,Feuil1!$A$11:$F$29,3),VLOOKUP(I24,Feuil1!$A$11:$F$29,2))))),IF(OR(H24=\"SEN\",H24<1995),VLOOKUP(I24,Feuil1!$G$11:$L$25,6),IF(AND(H24>1994,H24<1998),VLOOKUP(I24,Feuil1!$G$11:$L$25,5),IF(AND(H24>1997,H24<2000),VLOOKUP(I24,Feuil1!$G$11:$L$25,4),IF(AND(H24>1999,H24<2002),VLOOKUP(I24,Feuil1!$G$11:$L$25,3),VLOOKUP(I24,Feuil1!$G$11:$L$25,2)))))))","v":"FS48"},118.65901525742132,null," ",{"$f":"T24-HLOOKUP(X24,Feuil1!$C$1:$BL$10,2,FALSE)","v":11},{"$f":"T24-HLOOKUP(X24,Feuil1!$C$1:$BL$10,3,FALSE)","v":1},{"$f":"T24-HLOOKUP(X24,Feuil1!$C$1:$BL$10,4,FALSE)","v":-9},{"$f":"T24-HLOOKUP(X24,Feuil1!$C$1:$BL$10,5,FALSE)","v":-19},{"$f":"T24-HLOOKUP(X24,Feuil1!$C$1:$BL$10,6,FALSE)","v":-29},{"$f":"T24-HLOOKUP(X24,Feuil1!$C$1:$BL$10,7,FALSE)","v":-44},{"$f":"T24-HLOOKUP(X24,Feuil1!$C$1:$BL$10,8,FALSE)","v":-59},{"$f":"T24-HLOOKUP(X24,Feuil1!$C$1:$BL$10,9,FALSE)","v":-74},{"$f":"T24-HLOOKUP(X24,Feuil1!$C$1:$BL$10,10,FALSE)","v":-89},null,null,null,null,null,null,"DEP +"]
["F","CO","PDL",20,380413,"CALVEZ","Mélanie",1980,47.6,"Saint Herblain","F",22,24,26,26,32,34,-35,34,60,-35.200000000000003,"DEB ",5,{"$f":"IF(I25=\"\",\"\",IF(A25=\"H\",IF(OR(H25=\"SEN\",H25<1995),VLOOKUP(I25,Feuil1!$A$11:$F$29,6),IF(AND(H25>1994,H25<1998),VLOOKUP(I25,Feuil1!$A$11:$F$29,5),IF(AND(H25>1997,H25<2000),VLOOKUP(I25,Feuil1!$A$11:$F$29,4),IF(AND(H25>1999,H25<2002),VLOOKUP(I25,Feuil1!$A$11:$F$29,3),VLOOKUP(I25,Feuil1!$A$11:$F$29,2))))),IF(OR(H25=\"SEN\",H25<1995),VLOOKUP(I25,Feuil1!$G$11:$L$25,6),IF(AND(H25>1994,H25<1998),VLOOKUP(I25,Feuil1!$G$11:$L$25,5),IF(AND(H25>1997,H25<2000),VLOOKUP(I25,Feuil1!$G$11:$L$25,4),IF(AND(H25>1999,H25<2002),VLOOKUP(I25,Feuil1!$G$11:$L$25,3),VLOOKUP(I25,Feuil1!$G$11:$L$25,2)))))))","v":"FS48"},99.08130131727286,null," ",{"$f":"T25-HLOOKUP(X25,Feuil1!$C$1:$BL$10,2,FALSE)","v":5},{"$f":"T25-HLOOKUP(X25,Feuil1!$C$1:$BL$10,3,FALSE)","v":-5},{"$f":"T25-HLOOKUP(X25,Feuil1!$C$1:$BL$10,4,FALSE)","v":-15},{"$f":"T25-HLOOKUP(X25,Feuil1!$C$1:$BL$10,5,FALSE)","v":-25},{"$f":"T25-HLOOKUP(X25,Feuil1!$C$1:$BL$10,6,FALSE)","v":-35},{"$f":"T25-HLOOKUP(X25,Feuil1!$C$1:$BL$10,7,FALSE)","v":-50},{"$f":"T25-HLOOKUP(X25,Feuil1!$C$1:$BL$10,8,FALSE)","v":-65},{"$f":"T25-HLOOKUP(X25,Feuil1!$C$1:$BL$10,9,FALSE)","v":-80},{"$f":"T25-HLOOKUP(X25,Feuil1!$C$1:$BL$10,10,FALSE)","v":-95},null,null,null,null,null,null,"DEB "]
["F","CO","BNO",21,381139,"Loubar","Léa",1991,47.66,"Caen CHM","F",17,20,22,22,25,30,-33,30,52,-43.319999999999993,"DEB ",-3,{"$f":"IF(I26=\"\",\"\",IF(A26=\"H\",IF(OR(H26=\"SEN\",H26<1995),VLOOKUP(I26,Feuil1!$A$11:$F$29,6),IF(AND(H26>1994,H26<1998),VLOOKUP(I26,Feuil1!$A$11:$F$29,5),IF(AND(H26>1997,H26<2000),VLOOKUP(I26,Feuil1!$A$11:$F$29,4),IF(AND(H26>1999,H26<2002),VLOOKUP(I26,Feuil1!$A$11:$F$29,3),VLOOKUP(I26,Feuil1!$A$11:$F$29,2))))),IF(OR(H26=\"SEN\",H26<1995),VLOOKUP(I26,Feuil1!$G$11:$L$25,6),IF(AND(H26>1994,H26<1998),VLOOKUP(I26,Feuil1!$G$11:$L$25,5),IF(AND(H26>1997,H26<2000),VLOOKUP(I26,Feuil1!$G$11:$L$25,4),IF(AND(H26>1999,H26<2002),VLOOKUP(I26,Feuil1!$G$11:$L$25,3),VLOOKUP(I26,Feuil1!$G$11:$L$25,2)))))))","v":"FS48"},85.774920042838346,null," ",{"$f":"T26-HLOOKUP(X26,Feuil1!$C$1:$BL$10,2,FALSE)","v":-3},{"$f":"T26-HLOOKUP(X26,Feuil1!$C$1:$BL$10,3,FALSE)","v":-13},{"$f":"T26-HLOOKUP(X26,Feuil1!$C$1:$BL$10,4,FALSE)","v":-23},{"$f":"T26-HLOOKUP(X26,Feuil1!$C$1:$BL$10,5,FALSE)","v":-33},{"$f":"T26-HLOOKUP(X26,Feuil1!$C$1:$BL$10,6,FALSE)","v":-43},{"$f":"T26-HLOOKUP(X26,Feuil1!$C$1:$BL$10,7,FALSE)","v":-58},{"$f":"T26-HLOOKUP(X26,Feuil1!$C$1:$BL$10,8,FALSE)","v":-73},{"$f":"T26-HLOOKUP(X26,Feuil1!$C$1:$BL$10,9,FALSE)","v":-88},{"$f":"T26-HLOOKUP(X26,Feuil1!$C$1:$BL$10,10,FALSE)","v":-103},null,null,null,null,null,null,"DEB "]
[null,null,null,null,null,null,null,null,null,null,null,null,null,null,null,null,null,null,null,null,null,null,null,null,null,null," ",{"$f":"T27-HLOOKUP(X27,[1]Feuil1!$C$1:$BL$10,2,FALSE)","v":{"$error":"#N/A"}},{"$f":"T27-HLOOKUP(X27,[1]Feuil1!$C$1:$BL$10,3,FALSE)","v":{"$error":"#N/A"}},{"$f":"T27-HLOOKUP(X27,[1]Feuil1!$C$1:$BL$10,4,FALSE)","v":{"$error":"#N/A"}},{"$f":"T27-HLOOKUP(X27,[1]Feuil1!$C$1:$BL$10,5,FALSE)","v":{"$error":"#N/A"}},{"$f":"T27-HLOOKUP(X27,[1]Feuil1!$C$1:$BL$10,6,FALSE)","v":{"$error":"#N/A"}},{"$f":"T27-HLOOKUP(X27,[1]Feuil1!$C$1:$BL$10,7,FALSE)","v":{"$error":"#N/A"}},{"$f":"T27-HLOOKUP(X27,[1]Feuil1!$C$1:$BL$10,8,FALSE)","v":{"$error":"#N/A"}},{"$f":"T27-HLOOKUP(X27,[1]Feuil1!$C$1:$BL$10,9,FALSE)","v":{"$error":"#N/A"}},{"$f":"T27-HLOOKUP(X27,[1]Feuil1!$C$1:$BL$10,10,FALSE)","v":{"$error":"#N/A"}},null,null,null,null,null,null,{"$f":"IF(AJ27>=0,$AJ$4,IF(AI27>=0,$AI$4,IF(AH27>=0,$AH$4,IF(AG27>=0,$AG$4,IF(AF27>=0,$AF$4,IF(AE27>=0,$AE$4,IF(AD27>=0,$AD$4,IF(AC27>=0,$AC$4,$AB$4))))))))","v":{"$error":"#N/A"}}]
["F","NE","ALS",1,107889,"LORENTZ","MANON",1991,48.11,"SR Obernai HM","F",76,79,81,{"$f":"IF(H28=\"\",\"\",IF(MAXA(L28:N28)<=0,0,MAXA(L28:N28)))","v":81},92,95,97,{"$f":"IF(H28=\"\",\"\",IF(MAXA(P28:R28)<=0,0,MAXA(P28:R28)))","v":97},{"$f":"IF(H28=\"\",\"\",IF(OR(O28=0,S28=0),0,O28+S28))","v":178},{"$f":"T28-I28*2","v":81.78},{"$f":"IF(H28=\"\",\"\",AQ28)","v":"OLY +"},{"$f":"IF(AJ28>=0,AJ28,IF(AI28>=0,AI28,IF(AH28>=0,AH28,IF(AG28>=0,AG28,IF(AF28>=0,AF28,IF(AE28>=0,AE28,IF(AD28>=0,AD28,IF(AC28>=0,AC28,AB28))))))))","v":3},{"$f":"IF(I28=\"\",\"\",IF(A28=\"H\",IF(OR(H28=\"SEN\",H28<1995),VLOOKUP(I28,Feuil1!$A$11:$F$29,6),IF(AND(H28>1994,H28<1998),VLOOKUP(I28,Feuil1!$A$11:$F$29,5),IF(AND(H28>1997,H28<2000),VLOOKUP(I28,Feuil1!$A$11:$F$29,4),IF(AND(H28>1999,H28<2002),VLOOKUP(I28,Feuil1!$A$11:$F$29,3),VLOOKUP(I28,Feuil1!$A$11:$F$29,2))))),IF(OR(H28=\"SEN\",H28<1995),VLOOKUP(I28,Feuil1!$G$11:$L$25,6),IF(AND(H28>1994,H28<1998),VLOOKUP(I28,Feuil1!$G$11:$L$25,5),IF(AND(H28>1997,H28<2000),VLOOKUP(I28,Feuil1!$G$11:$L$25,4),IF(AND(H28>1999,H28<2002),VLOOKUP(I28,Feuil1!$G$11:$L$25,3),VLOOKUP(I28,Feuil1!$G$11:$L$25,2)))))))","v":"FS53"},{"$f":"IF(I28=\"\",\"\",IF(A28=\"H\",10^(0.794358141*LOG(I28/174.393)^2)*T28,IF(A28=\"F\",10^(0.89726074*LOG(I28/148.026)^2)*T28,\"\")))","v":291.19717935514507},null," ",{"$f":"T28-HLOOKUP(X28,Feuil1!$C$1:$BL$10,2,FALSE)","v":113},{"$f":"T28-HLOOKUP(X28,Feuil1!$C$1:$BL$10,3,FALSE)","v":103},{"$f":"T28-HLOOKUP(X28,Feuil1!$C$1:$BL$10,4,FALSE)","v":93},{"$f":"T28-HLOOKUP(X28,Feuil1!$C$1:$BL$10,5,FALSE)","v":83},{"$f":"T28-HLOOKUP(X28,Feuil1!$C$1:$BL$10,6,FALSE)","v":73},{"$f":"T28-HLOOKUP(X28,Feuil1!$C$1:$BL$10,7,FALSE)","v":58},{"$f":"T28-HLOOKUP(X28,Feuil1!$C$1:$BL$10,8,FALSE)","v":38},{"$f":"T28-HLOOKUP(X28,Feuil1!$C$1:$BL$10,9,FALSE)","v":18},{"$f":"T28-HLOOKUP(X28,Feuil1!$C$1:$BL$10,10,FALSE)","v":3},null,null,null,null,null,null,{"$f":"IF(AJ28>=0,$AJ$4,IF(AI28>=0,$AI$4,IF(AH28>=0,$AH$4,IF(AG28>=0,$AG$4,IF(AF28>=0,$AF$4,IF(AE28>=0,$AE$4,IF(AD28>=0,$AD$4,IF(AC28>=0,$AC$4,$AB$4))))))))","v":"OLY +"}]
["F","CO","CEN",2,129989,"MICHEL","Anais",1988,48.7,"AAJ Blois","F",75,78,80,80,94,98,-101,98,178,80.599999999999994,"OLY +",3,{"$f":"IF(I29=\"\",\"\",IF(A29=\"H\",IF(OR(H29=\"SEN\",H29<1995),VLOOKUP(I29,Feuil1!$A$11:$F$29,6),IF(AND(H29>1994,H29<1998),VLOOKUP(I29,Feuil1!$A$11:$F$29,5),IF(AND(H29>1997,H29<2000),VLOOKUP(I29,Feuil1!$A$11:$F$29,4),IF(AND(H29>1999,H29<2002),VLOOKUP(I29,Feuil1!$A$11:$F$29,3),VLOOKUP(I29,Feuil1!$A$11:$F$29,2))))),IF(OR(H29=\"SEN\",H29<1995),VLOOKUP(I29,Feuil1!$G$11:$L$25,6),IF(AND(H29>1994,H29<1998),VLOOKUP(I29,Feuil1!$G$11:$L$25,5),IF(AND(H29>1997,H29<2000),VLOOKUP(I29,Feuil1!$G$11:$L$25,4),IF(AND(H29>1999,H29<2002),VLOOKUP(I29,Feuil1!$G$11:$L$25,3),VLOOKUP(I29,Feuil1!$G$11:$L$25,2)))))))","v":"FS53"},288.12144394260326,null," ",{"$f":"T29-HLOOKUP(X29,Feuil1!$C$1:$BL$10,2,FALSE)","v":113},{"$f":"T29-HLOOKUP(X29,Feuil1!$C$1:$BL$10,3,FALSE)","v":103},{"$f":"T29-HLOOKUP(X29,Feuil1!$C$1:$BL$10,4,FALSE)","v":93},{"$f":"T29-HLOOKUP(X29,Feuil1!$C$1:$BL$10,5,FALSE)","v":83},{"$f":"T29-HLOOKUP(X29,Feuil1!$C$1:$BL$10,6,FALSE)","v":73},{"$f":"T29-HLOOKUP(X29,Feuil1!$C$1:$BL$10,7,FALSE)","v":58},{"$f":"T29-HLOOKUP(X29,Feuil1!$C$1:$BL$10,8,FALSE)","v":38},{"$f":"T29-HLOOKUP(X29,Feuil1!$C$1:$BL$10,9,FALSE)","v":18},{"$f":"T29-HLOOKUP(X29,Feuil1!$C$1:$BL$10,10,FALSE)","v":3},null,null,null,null,null,null,"OLY +"]
["F","NE","ALS",3,124208,"BONNAMANT","Mélanie",1992,50.2,"ASPTT Strasbourg","F",62,65,-67,65,77,80,83,83,148,47.599999999999994,"INTB +",8,{"$f":"IF(I30=\"\",\"\",IF(A30=\"H\",IF(OR(H30=\"SEN\",H30<1995),VLOOKUP(I30,Feuil1!$A$11:$F$29,6),IF(AND(H30>1994,H30<1998),VLOOKUP(I30,Feuil1!$A$11:$F$29,5),IF(AND(H30>1997,H30<2000),VLOOKUP(I30,Feuil1!$A$11:$F$29,4),IF(AND(H30>1999,H30<2002),VLOOKUP(I30,Feuil1!$A$11:$F$29,3),VLOOKUP(I30,Feuil1!$A$11:$F$29,2))))),IF(OR(H30=\"SEN\",H30<1995),VLOOKUP(I30,Feuil1!$G$11:$L$25,6),IF(AND(H30>1994,H30<1998),VLOOKUP(I30,Feuil1!$G$11:$L$25,5),IF(AND(H30>1997,H30<2000),VLOOKUP(I30,Feuil1!$G$11:$L$25,4),IF(AND(H30>1999,H30<2002),VLOOKUP(I30,Feuil1!$G$11:$L$25,3),VLOOKUP(I30,Feuil1!$G$11:$L$25,2)))))))","v":"FS53"},233.43086585317053,null," ",{"$f":"T30-HLOOKUP(X30,Feuil1!$C$1:$BL$10,2,FALSE)","v":83},{"$f":"T30-HLOOKUP(X30,Feuil1!$C$1:$BL$10,3,FALSE)","v":73},{"$f":"T30-HLOOKUP(X30,Feuil1!$C$1:$BL$10,4,FALSE)","v":63},{"$f":"T30-HLOOKUP(X30,Feuil1!$C$1:$BL$10,5,FALSE)","v":53},{"$f":"T30-HLOOKUP(X30,Feuil1!$C$1:$BL$10,6,FALSE)","v":43},{"$f":"T30-HLOOKUP(X30,Feuil1!$C$1:$BL$10,7,FALSE)","v":28},{"$f":"T30-HLOOKUP(X30,Feuil1!$C$1:$BL$10,8,FALSE)","v":8},{"$f":"T30-HLOOKUP(X30,Feuil1!$C$1:$BL$10,9,FALSE)","v":-12},{"$f":"T30-HLOOKUP(X30,Feuil1!$C$1:$BL$10,10,FALSE)","v":-27},null,null,null,null,null,null,"INTB +"]
["F","NORD","NPC",4,250225,"PLANCQ","Déborah",1993,52.2,"C.A.ROSENDAEL","F",57,60,63,63,73,77,80,80,143,38.599999999999994,"INTB +",3,{"$f":"IF(I31=\"\",\"\",IF(A31=\"H\",IF(OR(H31=\"SEN\",H31<1995),VLOOKUP(I31,Feuil1!$A$11:$F$29,6),IF(AND(H31>1994,H31<1998),VLOOKUP(I31,Feuil1!$A$11:$F$29,5),IF(AND(H31>1997,H31<2000),VLOOKUP(I31,Feuil1!$A$11:$F$29,4),IF(AND(H31>1999,H31<2002),VLOOKUP(I31,Feuil1!$A$11:$F$29,3),VLOOKUP(I31,Feuil1!$A$11:$F$29,2))))),IF(OR(H31=\"SEN\",H31<1995),VLOOKUP(I31,Feuil1!$G$11:$L$25,6),IF(AND(H31>1994,H31<1998),VLOOKUP(I31,Feuil1!$G$11:$L$25,5),IF(AND(H31>1997,H31<2000),VLOOKUP(I31,Feuil1!$G$11:$L$25,4),IF(AND(H31>1999,H31<2002),VLOOKUP(I31,Feuil1!$G$11:$L$25,3),VLOOKUP(I31,Feuil1!$G$11:$L$25,2)))))))","v":"FS53"},218.36942024906929,null," ",{"$f":"T31-HLOOKUP(X31,Feuil1!$C$1:$BL$10,2,FALSE)","v":78},{"$f":"T31-HLOOKUP(X31,Feuil1!$C$1:$BL$10,3,FALSE)","v":68},{"$f":"T31-HLOOKUP(X31,Feuil1!$C$1:$BL$10,4,FALSE)","v":58},{"$f":"T31-HLOOKUP(X31,Feuil1!$C$1:$BL$10,5,FALSE)","v":48},{"$f":"T31-HLOOKUP(X31,Feuil1!$C$1:$BL$10,6,FALSE)","v":38},{"$f":"T31-HLOOKUP(X31,Feuil1!$C$1:$BL$10,7,FALSE)","v":23},{"$f":"T31-HLOOKUP(X31,Feuil1!$C$1:$BL$10,8,FALSE)","v":3},{"$f":"T31-HLOOKUP(X31,Feuil1!$C$1:$BL$10,9,FALSE)","v":-17},{"$f":"T31-HLOOKUP(X31,Feuil1!$C$1:$BL$10,10,FALSE)","v":-32},null,null,null,null,null,null,"INTB +"]
["F","NE","BOU",5,7051,"BARDIS","Mélanie",1986,48.2,"HMDB21","F",57,61,65,65,70,75,-80,75,140,43.599999999999994,"INTB +",0,{"$f":"IF(I32=\"\",\"\",IF(A32=\"H\",IF(OR(H32=\"SEN\",H32<1995),VLOOKUP(I32,Feuil1!$A$11:$F$29,6),IF(AND(H32>1994,H32<1998),VLOOKUP(I32,Feuil1!$A$11:$F$29,5),IF(AND(H32>1997,H32<2000),VLOOKUP(I32,Feuil1!$A$11:$F$29,4),IF(AND(H32>1999,H32<2002),VLOOKUP(I32,Feuil1!$A$11:$F$29,3),VLOOKUP(I32,Feuil1!$A$11:$F$29,2))))),IF(OR(H32=\"SEN\",H32<1995),VLOOKUP(I32,Feuil1!$G$11:$L$25,6),IF(AND(H32>1994,H32<1998),VLOOKUP(I32,Feuil1!$G$11:$L$25,5),IF(AND(H32>1997,H32<2000),VLOOKUP(I32,Feuil1!$G$11:$L$25,4),IF(AND(H32>1999,H32<2002),VLOOKUP(I32,Feuil1!$G$11:$L$25,3),VLOOKUP(I32,Feuil1!$G$11:$L$25,2)))))))","v":"FS53"},228.65717209534532,null," ",{"$f":"T32-HLOOKUP(X32,Feuil1!$C$1:$BL$10,2,FALSE)","v":75},{"$f":"T32-HLOOKUP(X32,Feuil1!$C$1:$BL$10,3,FALSE)","v":65},{"$f":"T32-HLOOKUP(X32,Feuil1!$C$1:$BL$10,4,FALSE)","v":55},{"$f":"T32-HLOOKUP(X32,Feuil1!$C$1:$BL$10,5,FALSE)","v":45},{"$f":"T32-HLOOKUP(X32,Feuil1!$C$1:$BL$10,6,FALSE)","v":35},{"$f":"T32-HLOOKUP(X32,Feuil1!$C$1:$BL$10,7,FALSE)","v":20},{"$f":"T32-HLOOKUP(X32,Feuil1!$C$1:$BL$10,8,FALSE)","v":0},{"$f":"T32-HLOOKUP(X32,Feuil1!$C$1:$BL$10,9,FALSE)","v":-20},{"$f":"T32-HLOOKUP(X32,Feuil1!$C$1:$BL$10,10,FALSE)","v":-35},null,null,null,null,null,null,"INTB +"]
["F","CO","BNO",6,32998,"FLEURY","Laura",1988,52.25,"Caen CHM","F",62,-65,-65,62,72,75,78,78,140,35.5,"INTB +",0,{"$f":"IF(I33=\"\",\"\",IF(A33=\"H\",IF(OR(H33=\"SEN\",H33<1995),VLOOKUP(I33,Feuil1!$A$11:$F$29,6),IF(AND(H33>1994,H33<1998),VLOOKUP(I33,Feuil1!$A$11:$F$29,5),IF(AND(H33>1997,H33<2000),VLOOKUP(I33,Feuil1!$A$11:$F$29,4),IF(AND(H33>1999,H33<2002),VLOOKUP(I33,Feuil1!$A$11:$F$29,3),VLOOKUP(I33,Feuil1!$A$11:$F$29,2))))),IF(OR(H33=\"SEN\",H33<1995),VLOOKUP(I33,Feuil1!$G$11:$L$25,6),IF(AND(H33>1994,H33<1998),VLOOKUP(I33,Feuil1!$G$11:$L$25,5),IF(AND(H33>1997,H33<2000),VLOOKUP(I33,Feuil1!$G$11:$L$25,4),IF(AND(H33>1999,H33<2002),VLOOKUP(I33,Feuil1!$G$11:$L$25,3),VLOOKUP(I33,Feuil1!$G$11:$L$25,2)))))))","v":"FS53"},213.62211856326428,null," ",{"$f":"T33-HLOOKUP(X33,Feuil1!$C$1:$BL$10,2,FALSE)","v":75},{"$f":"T33-HLOOKUP(X33,Feuil1!$C$1:$BL$10,3,FALSE)","v":65},{"$f":"T33-HLOOKUP(X33,Feuil1!$C$1:$BL$10,4,FALSE)","v":55},{"$f":"T33-HLOOKUP(X33,Feuil1!$C$1:$BL$10,5,FALSE)","v":45},{"$f":"T33-HLOOKUP(X33,Feuil1!$C$1:$BL$10,6,FALSE)","v":35},{"$f":"T33-HLOOKUP(X33,Feuil1!$C$1:$BL$10,7,FALSE)","v":20},{"$f":"T33-HLOOKUP(X33,Feuil1!$C$1:$BL$10,8,FALSE)","v":0},{"$f":"T33-HLOOKUP(X33,Feuil1!$C$1:$BL$10,9,FALSE)","v":-20},{"$f":"T33-HLOOKUP(X33,Feuil1!$C$1:$BL$10,10,FALSE)","v":-35},null,null,null,null,null,null,"INTB +"]
["F","DOM","REU",7,241107,"EDMOND","NEIGE LINE",1978,50,"CH LA PLAINE","F",55,60,-63,60,70,75,-78,75,135,35,"NAT +",15,{"$f":"IF(I34=\"\",\"\",IF(A34=\"H\",IF(OR(H34=\"SEN\",H34<1995),VLOOKUP(I34,Feuil1!$A$11:$F$29,6),IF(AND(H34>1994,H34<1998),VLOOKUP(I34,Feuil1!$A$11:$F$29,5),IF(AND(H34>1997,H34<2000),VLOOKUP(I34,Feuil1!$A$11:$F$29,4),IF(AND(H34>1999,H34<2002),VLOOKUP(I34,Feuil1!$A$11:$F$29,3),VLOOKUP(I34,Feuil1!$A$11:$F$29,2))))),IF(OR(H34=\"SEN\",H34<1995),VLOOKUP(I34,Feuil1!$G$11:$L$25,6),IF(AND(H34>1994,H34<1998),VLOOKUP(I34,Feuil1!$G$11:$L$25,5),IF(AND(H34>1997,H34<2000),VLOOKUP(I34,Feuil1!$G$11:$L$25,4),IF(AND(H34>1999,H34<2002),VLOOKUP(I34,Feuil1!$G$11:$L$25,3),VLOOKUP(I34,Feuil1!$G$11:$L$25,2)))))))","v":"FS53"},213.64569694635125,null," ",{"$f":"T34-HLOOKUP(X34,Feuil1!$C$1:$BL$10,2,FALSE)","v":70},{"$f":"T34-HLOOKUP(X34,Feuil1!$C$1:$BL$10,3,FALSE)","v":60},{"$f":"T34-HLOOKUP(X34,Feuil1!$C$1:$BL$10,4,FALSE)","v":50},{"$f":"T34-HLOOKUP(X34,Feuil1!$C$1:$BL$10,5,FALSE)","v":40},{"$f":"T34-HLOOKUP(X34,Feuil1!$C$1:$BL$10,6,FALSE)","v":30},{"$f":"T34-HLOOKUP(X34,Feuil1!$C$1:$BL$10,7,FALSE)","v":15},{"$f":"T34-HLOOKUP(X34,Feuil1!$C$1:$BL$10,8,FALSE)","v":-5},{"$f":"T34-HLOOKUP(X34,Feuil1!$C$1:$BL$10,9,FALSE)","v":-25},{"$f":"T34-HLOOKUP(X34,Feuil1!$C$1:$BL$10,10,FALSE)","v":-40},null,null,null,null,null,null,"NAT +"]
["F","SEST","RAL",8,79011,"BAILLET ","Florence",1990,48.4,"SAINT BALDOPH","F",53,56,59,59,71,75,-78,75,134,37.200000000000003,"NAT +",14,{"$f":"IF(I35=\"\",\"\",IF(A35=\"H\",IF(OR(H35=\"SEN\",H35<1995),VLOOKUP(I35,Feuil1!$A$11:$F$29,6),IF(AND(H35>1994,H35<1998),VLOOKUP(I35,Feuil1!$A$11:$F$29,5),IF(AND(H35>1997,H35<2000),VLOOKUP(I35,Feuil1!$A$11:$F$29,4),IF(AND(H35>1999,H35<2002),VLOOKUP(I35,Feuil1!$A$11:$F$29,3),VLOOKUP(I35,Feuil1!$A$11:$F$29,2))))),IF(OR(H35=\"SEN\",H35<1995),VLOOKUP(I35,Feuil1!$G$11:$L$25,6),IF(AND(H35>1994,H35<1998),VLOOKUP(I35,Feuil1!$G$11:$L$25,5),IF(AND(H35>1997,H35<2000),VLOOKUP(I35,Feuil1!$G$11:$L$25,4),IF(AND(H35>1999,H35<2002),VLOOKUP(I35,Feuil1!$G$11:$L$25,3),VLOOKUP(I35,Feuil1!$G$11:$L$25,2)))))))","v":"FS53"},218.06800035507709,null," ",{"$f":"T35-HLOOKUP(X35,Feuil1!$C$1:$BL$10,2,FALSE)","v":69},{"$f":"T35-HLOOKUP(X35,Feuil1!$C$1:$BL$10,3,FALSE)","v":59},{"$f":"T35-HLOOKUP(X35,Feuil1!$C$1:$BL$10,4,FALSE)","v":49},{"$f":"T35-HLOOKUP(X35,Feuil1!$C$1:$BL$10,5,FALSE)","v":39},{"$f":"T35-HLOOKUP(X35,Feuil1!$C$1:$BL$10,6,FALSE)","v":29},{"$f":"T35-HLOOKUP(X35,Feuil1!$C$1:$BL$10,7,FALSE)","v":14},{"$f":"T35-HLOOKUP(X35,Feuil1!$C$1:$BL$10,8,FALSE)","v":-6},{"$f":"T35-HLOOKUP(X35,Feuil1!$C$1:$BL$10,9,FALSE)","v":-26},{"$f":"T35-HLOOKUP(X35,Feuil1!$C$1:$BL$10,10,FALSE)","v":-41},null,null,null,null,null,null,"NAT +"]
["F","NE","ALS",9,88574,"HERRMANN","Mélissa",1988,52.3,"SR Obernai HM","F",53,-56,56,56,66,70,-73,70,126,21.400000000000006,"NAT +",6,{"$f":"IF(I36=\"\",\"\",IF(A36=\"H\",IF(OR(H36=\"SEN\",H36<1995),VLOOKUP(I36,Feuil1!$A$11:$F$29,6),IF(AND(H36>1994,H36<1998),VLOOKUP(I36,Feuil1!$A$11:$F$29,5),IF(AND(H36>1997,H36<2000),VLOOKUP(I36,Feuil1!$A$11:$F$29,4),IF(AND(H36>1999,H36<2002),VLOOKUP(I36,Feuil1!$A$11:$F$29,3),VLOOKUP(I36,Feuil1!$A$11:$F$29,2))))),IF(OR(H36=\"SEN\",H36<1995),VLOOKUP(I36,Feuil1!$G$11:$L$25,6),IF(AND(H36>1994,H36<1998),VLOOKUP(I36,Feuil1!$G$11:$L$25,5),IF(AND(H36>1997,H36<2000),VLOOKUP(I36,Feuil1!$G$11:$L$25,4),IF(AND(H36>1999,H36<2002),VLOOKUP(I36,Feuil1!$G$11:$L$25,3),VLOOKUP(I36,Feuil1!$G$11:$L$25,2)))))))","v":"FS53"},192.11079023103167,null," ",{"$f":"T36-HLOOKUP(X36,Feuil1!$C$1:$BL$10,2,FALSE)","v":61},{"$f":"T36-HLOOKUP(X36,Feuil1!$C$1:$BL$10,3,FALSE)","v":51},{"$f":"T36-HLOOKUP(X36,Feuil1!$C$1:$BL$10,4,FALSE)","v":41},{"$f":"T36-HLOOKUP(X36,Feuil1!$C$1:$BL$10,5,FALSE)","v":31},{"$f":"T36-HLOOKUP(X36,Feuil1!$C$1:$BL$10,6,FALSE)","v":21},{"$f":"T36-HLOOKUP(X36,Feuil1!$C$1:$BL$10,7,FALSE)","v":6},{"$f":"T36-HLOOKUP(X36,Feuil1!$C$1:$BL$10,8,FALSE)","v":-14},{"$f":"T36-HLOOKUP(X36,Feuil1!$C$1:$BL$10,9,FALSE)","v":-34},{"$f":"T36-HLOOKUP(X36,Feuil1!$C$1:$BL$10,10,FALSE)","v":-49},null,null,null,null,null,null,"NAT +"]
["F","SEST","CAZ",10,31729,"DRAGO","Sylvie",1982,52.5,"ASLDD TOULON","F",50,53,-56,53,66,69,71,71,124,19,"NAT +",4,{"$f":"IF(I37=\"\",\"\",IF(A37=\"H\",IF(OR(H37=\"SEN\",H37<1995),VLOOKUP(I37,Feuil1!$A$11:$F$29,6),IF(AND(H37>1994,H37<1998),VLOOKUP(I37,Feuil1!$A$11:$F$29,5),IF(AND(H37>1997,H37<2000),VLOOKUP(I37,Feuil1!$A$11:$F$29,4),IF(AND(H37>1999,H37<2002),VLOOKUP(I37,Feuil1!$A$11:$F$29,3),VLOOKUP(I37,Feuil1!$A$11:$F$29,2))))),IF(OR(H37=\"SEN\",H37<1995),VLOOKUP(I37,Feuil1!$G$11:$L$25,6),IF(AND(H37>1994,H37<1998),VLOOKUP(I37,Feuil1!$G$11:$L$25,5),IF(AND(H37>1997,H37<2000),VLOOKUP(I37,Feuil1!$G$11:$L$25,4),IF(AND(H37>1999,H37<2002),VLOOKUP(I37,Feuil1!$G$11:$L$25,3),VLOOKUP(I37,Feuil1!$G$11:$L$25,2)))))))","v":"FS53"},188.47828453451697,null," ",{"$f":"T37-HLOOKUP(X37,Feuil1!$C$1:$BL$10,2,FALSE)","v":59},{"$f":"T37-HLOOKUP(X37,Feuil1!$C$1:$BL$10,3,FALSE)","v":49},{"$f":"T37-HLOOKUP(X37,Feuil1!$C$1:$BL$10,4,FALSE)","v":39},{"$f":"T37-HLOOKUP(X37,Feuil1!$C$1:$BL$10,5,FALSE)","v":29},{"$f":"T37-HLOOKUP(X37,Feuil1!$C$1:$BL$10,6,FALSE)","v":19},{"$f":"T37-HLOOKUP(X37,Feuil1!$C$1:$BL$10,7,FALSE)","v":4},{"$f":"T37-HLOOKUP(X37,Feuil1!$C$1:$BL$10,8,FALSE)","v":-16},{"$f":"T37-HLOOKUP(X37,Feuil1!$C$1:$BL$10,9,FALSE)","v":-36},{"$f":"T37-HLOOKUP(X37,Feuil1!$C$1:$BL$10,10,FALSE)","v":-51},null,null,null,null,null,null,"NAT +"]
["F","SEST","RAL",11,351973,"MARTIN","Celine",1980,49.5,"CH Arbresle","F",47,-50,50,50,68,71,-73,71,121,22,"NAT +",1,{"$f":"IF(I38=\"\",\"\",IF(A38=\"H\",IF(OR(H38=\"SEN\",H38<1995),VLOOKUP(I38,Feuil1!$A$11:$F$29,6),IF(AND(H38>1994,H38<1998),VLOOKUP(I38,Feuil1!$A$11:$F$29,5),IF(AND(H38>1997,H38<2000),VLOOKUP(I38,Feuil1!$A$11:$F$29,4),IF(AND(H38>1999,H38<2002),VLOOKUP(I38,Feuil1!$A$11:$F$29,3),VLOOKUP(I38,Feuil1!$A$11:$F$29,2))))),IF(OR(H38=\"SEN\",H38<1995),VLOOKUP(I38,Feuil1!$G$11:$L$25,6),IF(AND(H38>1994,H38<1998),VLOOKUP(I38,Feuil1!$G$11:$L$25,5),IF(AND(H38>1997,H38<2000),VLOOKUP(I38,Feuil1!$G$11:$L$25,4),IF(AND(H38>1999,H38<2002),VLOOKUP(I38,Feuil1!$G$11:$L$25,3),VLOOKUP(I38,Feuil1!$G$11:$L$25,2)))))))","v":"FS53"},193.13231564296834,null," ",{"$f":"T38-HLOOKUP(X38,Feuil1!$C$1:$BL$10,2,FALSE)","v":56},{"$f":"T38-HLOOKUP(X38,Feuil1!$C$1:$BL$10,3,FALSE)","v":46},{"$f":"T38-HLOOKUP(X38,Feuil1!$C$1:$BL$10,4,FALSE)","v":36},{"$f":"T38-HLOOKUP(X38,Feuil1!$C$1:$BL$10,5,FALSE)","v":26},{"$f":"T38-HLOOKUP(X38,Feuil1!$C$1:$BL$10,6,FALSE)","v":16},{"$f":"T38-HLOOKUP(X38,Feuil1!$C$1:$BL$10,7,FALSE)","v":1},{"$f":"T38-HLOOKUP(X38,Feuil1!$C$1:$BL$10,8,FALSE)","v":-19},{"$f":"T38-HLOOKUP(X38,Feuil1!$C$1:$BL$10,9,FALSE)","v":-39},{"$f":"T38-HLOOKUP(X38,Feuil1!$C$1:$BL$10,10,FALSE)","v":-54},null,null,null,null,null,null,"NAT +"]
["F","SO","MPY",12,330764,"PERROUAULT ","Marion",1989,49.2,"COLOMIERS US","F",48,51,-53,51,63,66,69,69,120,21.599999999999994,"NAT +",0,{"$f":"IF(I39=\"\",\"\",IF(A39=\"H\",IF(OR(H39=\"SEN\",H39<1995),VLOOKUP(I39,Feuil1!$A$11:$F$29,6),IF(AND(H39>1994,H39<1998),VLOOKUP(I39,Feuil1!$A$11:$F$29,5),IF(AND(H39>1997,H39<2000),VLOOKUP(I39,Feuil1!$A$11:$F$29,4),IF(AND(H39>1999,H39<2002),VLOOKUP(I39,Feuil1!$A$11:$F$29,3),VLOOKUP(I39,Feuil1!$A$11:$F$29,2))))),IF(OR(H39=\"SEN\",H39<1995),VLOOKUP(I39,Feuil1!$G$11:$L$25,6),IF(AND(H39>1994,H39<1998),VLOOKUP(I39,Feuil1!$G$11:$L$25,5),IF(AND(H39>1997,H39<2000),VLOOKUP(I39,Feuil1!$G$11:$L$25,4),IF(AND(H39>1999,H39<2002),VLOOKUP(I39,Feuil1!$G$11:$L$25,3),VLOOKUP(I39,Feuil1!$G$11:$L$25,2)))))))","v":"FS53"},192.5355638451247,null," ",{"$f":"T39-HLOOKUP(X39,Feuil1!$C$1:$BL$10,2,FALSE)","v":55},{"$f":"T39-HLOOKUP(X39,Feuil1!$C$1:$BL$10,3,FALSE)","v":45},{"$f":"T39-HLOOKUP(X39,Feuil1!$C$1:$BL$10,4,FALSE)","v":35},{"$f":"T39-HLOOKUP(X39,Feuil1!$C$1:$BL$10,5,FALSE)","v":25},{"$f":"T39-HLOOKUP(X39,Feuil1!$C$1:$BL$10,6,FALSE)","v":15},{"$f":"T39-HLOOKUP(X39,Feuil1!$C$1:$BL$10,7,FALSE)","v":0},{"$f":"T39-HLOOKUP(X39,Feuil1!$C$1:$BL$10,8,FALSE)","v":-20},{"$f":"T39-HLOOKUP(X39,Feuil1!$C$1:$BL$10,9,FALSE)","v":-40},{"$f":"T39-HLOOKUP(X39,Feuil1!$C$1:$BL$10,10,FALSE)","v":-55},null,null,null,null,null,null,"NAT +"]
["F","ZCO","BRE",13,1312,"LE GUENNEC","Isabelle",1972,52.5,"Vannes AC","F",49,51,53,53,59,62,64,64,117,12,"FED +",12,{"$f":"IF(I40=\"\",\"\",IF(A40=\"H\",IF(OR(H40=\"SEN\",H40<1995),VLOOKUP(I40,Feuil1!$A$11:$F$29,6),IF(AND(H40>1994,H40<1998),VLOOKUP(I40,Feuil1!$A$11:$F$29,5),IF(AND(H40>1997,H40<2000),VLOOKUP(I40,Feuil1!$A$11:$F$29,4),IF(AND(H40>1999,H40<2002),VLOOKUP(I40,Feuil1!$A$11:$F$29,3),VLOOKUP(I40,Feuil1!$A$11:$F$29,2))))),IF(OR(H40=\"SEN\",H40<1995),VLOOKUP(I40,Feuil1!$G$11:$L$25,6),IF(AND(H40>1994,H40<1998),VLOOKUP(I40,Feuil1!$G$11:$L$25,5),IF(AND(H40>1997,H40<2000),VLOOKUP(I40,Feuil1!$G$11:$L$25,4),IF(AND(H40>1999,H40<2002),VLOOKUP(I40,Feuil1!$G$11:$L$25,3),VLOOKUP(I40,Feuil1!$G$11:$L$25,2)))))))","v":"FS53"},177.83838137531035,null," ",{"$f":"T40-HLOOKUP(X40,Feuil1!$C$1:$BL$10,2,FALSE)","v":52},{"$f":"T40-HLOOKUP(X40,Feuil1!$C$1:$BL$10,3,FALSE)","v":42},{"$f":"T40-HLOOKUP(X40,Feuil1!$C$1:$BL$10,4,FALSE)","v":32},{"$f":"T40-HLOOKUP(X40,Feuil1!$C$1:$BL$10,5,FALSE)","v":22},{"$f":"T40-HLOOKUP(X40,Feuil1!$C$1:$BL$10,6,FALSE)","v":12},{"$f":"T40-HLOOKUP(X40,Feuil1!$C$1:$BL$10,7,FALSE)","v":-3},{"$f":"T40-HLOOKUP(X40,Feuil1!$C$1:$BL$10,8,FALSE)","v":-23},{"$f":"T40-HLOOKUP(X40,Feuil1!$C$1:$BL$10,9,FALSE)","v":-43},{"$f":"T40-HLOOKUP(X40,Feuil1!$C$1:$BL$10,10,FALSE)","v":-58},null,null,null,null,null,null,"FED +"]
["F","SO","MPY",14,376138,"ROUGEMONT","Mathilde",1992,53,"TOULOUSE HC","F",47,49,-50,49,64,67,-71,67,116,10,"FED +",11,{"$f":"IF(I41=\"\",\"\",IF(A41=\"H\",IF(OR(H41=\"SEN\",H41<1995),VLOOKUP(I41,Feuil1!$A$11:$F$29,6),IF(AND(H41>1994,H41<1998),VLOOKUP(I41,Feuil1!$A$11:$F$29,5),IF(AND(H41>1997,H41<2000),VLOOKUP(I41,Feuil1!$A$11:$F$29,4),IF(AND(H41>1999,H41<2002),VLOOKUP(I41,Feuil1!$A$11:$F$29,3),VLOOKUP(I41,Feuil1!$A$11:$F$29,2))))),IF(OR(H41=\"SEN\",H41<1995),VLOOKUP(I41,Feuil1!$G$11:$L$25,6),IF(AND(H41>1994,H41<1998),VLOOKUP(I41,Feuil1!$G$11:$L$25,5),IF(AND(H41>1997,H41<2000),VLOOKUP(I41,Feuil1!$G$11:$L$25,4),IF(AND(H41>1999,H41<2002),VLOOKUP(I41,Feuil1!$G$11:$L$25,3),VLOOKUP(I41,Feuil1!$G$11:$L$25,2)))))))","v":"FS53"},174.97952749854286,null," ",{"$f":"T41-HLOOKUP(X41,Feuil1!$C$1:$BL$10,2,FALSE)","v":51},{"$f":"T41-HLOOKUP(X41,Feuil1!$C$1:$BL$10,3,FALSE)","v":41},{"$f":"T41-HLOOKUP(X41,Feuil1!$C$1:$BL$10,4,FALSE)","v":31},{"$f":"T41-HLOOKUP(X41,Feuil1!$C$1:$BL$10,5,FALSE)","v":21},{"$f":"T41-HLOOKUP(X41,Feuil1!$C$1:$BL$10,6,FALSE)","v":11},{"$f":"T41-HLOOKUP(X41,Feuil1!$C$1:$BL$10,7,FALSE)","v":-4},{"$f":"T41-HLOOKUP(X41,Feuil1!$C$1:$BL$10,8,FALSE)","v":-24},{"$f":"T41-HLOOKUP(X41,Feuil1!$C$1:$BL$10,9,FALSE)","v":-44},{"$f":"T41-HLOOKUP(X41,Feuil1!$C$1:$BL$10,10,FALSE)","v":-59},null,null,null,null,null,null,"FED +"]
["F","SEST","RAL",15,331889,"LAGRANGE","Isabelle",1976,51.3,"CH Arbresle","F",42,44,46,46,55,60,64,64,110,7.4000000000000057,"FED +",5,{"$f":"IF(I42=\"\",\"\",IF(A42=\"H\",IF(OR(H42=\"SEN\",H42<1995),VLOOKUP(I42,Feuil1!$A$11:$F$29,6),IF(AND(H42>1994,H42<1998),VLOOKUP(I42,Feuil1!$A$11:$F$29,5),IF(AND(H42>1997,H42<2000),VLOOKUP(I42,Feuil1!$A$11:$F$29,4),IF(AND(H42>1999,H42<2002),VLOOKUP(I42,Feuil1!$A$11:$F$29,3),VLOOKUP(I42,Feuil1!$A$11:$F$29,2))))),IF(OR(H42=\"SEN\",H42<1995),VLOOKUP(I42,Feuil1!$G$11:$L$25,6),IF(AND(H42>1994,H42<1998),VLOOKUP(I42,Feuil1!$G$11:$L$25,5),IF(AND(H42>1997,H42<2000),VLOOKUP(I42,Feuil1!$G$11:$L$25,4),IF(AND(H42>1999,H42<2002),VLOOKUP(I42,Feuil1!$G$11:$L$25,3),VLOOKUP(I42,Feuil1!$G$11:$L$25,2)))))))","v":"FS53"},170.38652047135858,null," ",{"$f":"T42-HLOOKUP(X42,Feuil1!$C$1:$BL$10,2,FALSE)","v":45},{"$f":"T42-HLOOKUP(X42,Feuil1!$C$1:$BL$10,3,FALSE)","v":35},{"$f":"T42-HLOOKUP(X42,Feuil1!$C$1:$BL$10,4,FALSE)","v":25},{"$f":"T42-HLOOKUP(X42,Feuil1!$C$1:$BL$10,5,FALSE)","v":15},{"$f":"T42-HLOOKUP(X42,Feuil1!$C$1:$BL$10,6,FALSE)","v":5},{"$f":"T42-HLOOKUP(X42,Feuil1!$C$1:$BL$10,7,FALSE)","v":-10},{"$f":"T42-HLOOKUP(X42,Feuil1!$C$1:$BL$10,8,FALSE)","v":-30},{"$f":"T42-HLOOKUP(X42,Feuil1!$C$1:$BL$10,9,FALSE)","v":-50},{"$f":"T42-HLOOKUP(X42,Feuil1!$C$1:$BL$10,10,FALSE)","v":-65},null,null,null,null,null,null,"FED +"]
["F","N","IDF",16,388572,"DJEBARI-LEBOUC","NADEGE",1978,51.5,"SA MONTMARTRE","F",45,48,-50,48,57,60,62,62,110,7,"FED +",5,{"$f":"IF(I43=\"\",\"\",IF(A43=\"H\",IF(OR(H43=\"SEN\",H43<1995),VLOOKUP(I43,Feuil1!$A$11:$F$29,6),IF(AND(H43>1994,H43<1998),VLOOKUP(I43,Feuil1!$A$11:$F$29,5),IF(AND(H43>1997,H43<2000),VLOOKUP(I43,Feuil1!$A$11:$F$29,4),IF(AND(H43>1999,H43<2002),VLOOKUP(I43,Feuil1!$A$11:$F$29,3),VLOOKUP(I43,Feuil1!$A$11:$F$29,2))))),IF(OR(H43=\"SEN\",H43<1995),VLOOKUP(I43,Feuil1!$G$11:$L$25,6),IF(AND(H43>1994,H43<1998),VLOOKUP(I43,Feuil1!$G$11:$L$25,5),IF(AND(H43>1997,H43<2000),VLOOKUP(I43,Feuil1!$G$11:$L$25,4),IF(AND(H43>1999,H43<2002),VLOOKUP(I43,Feuil1!$G$11:$L$25,3),VLOOKUP(I43,Feuil1!$G$11:$L$25,2)))))))","v":"FS53"},169.84085936064275,null," ",{"$f":"T43-HLOOKUP(X43,Feuil1!$C$1:$BL$10,2,FALSE)","v":45},{"$f":"T43-HLOOKUP(X43,Feuil1!$C$1:$BL$10,3,FALSE)","v":35},{"$f":"T43-HLOOKUP(X43,Feuil1!$C$1:$BL$10,4,FALSE)","v":25},{"$f":"T43-HLOOKUP(X43,Feuil1!$C$1:$BL$10,5,FALSE)","v":15},{"$f":"T43-HLOOKUP(X43,Feuil1!$C$1:$BL$10,6,FALSE)","v":5},{"$f":"T43-HLOOKUP(X43,Feuil1!$C$1:$BL$10,7,FALSE)","v":-10},{"$f":"T43-HLOOKUP(X43,Feuil1!$C$1:$BL$10,8,FALSE)","v":-30},{"$f":"T43-HLOOKUP(X43,Feuil1!$C$1:$BL$10,9,FALSE)","v":-50},{"$f":"T43-HLOOKUP(X43,Feuil1!$C$1:$BL$10,10,FALSE)","v":-65},null,null,null,null,null,null,"FED +"]
["F","ZCO","BRE",17,377412,"PERVIER","Raphaelle",1992,51.03,"Vannes AC","F",-46,46,48,48,56,59,-61,59,107,4.9399999999999977,"FED +",2,{"$f":"IF(I44=\"\",\"\",IF(A44=\"H\",IF(OR(H44=\"SEN\",H44<1995),VLOOKUP(I44,Feuil1!$A$11:$F$29,6),IF(AND(H44>1994,H44<1998),VLOOKUP(I44,Feuil1!$A$11:$F$29,5),IF(AND(H44>1997,H44<2000),VLOOKUP(I44,Feuil1!$A$11:$F$29,4),IF(AND(H44>1999,H44<2002),VLOOKUP(I44,Feuil1!$A$11:$F$29,3),VLOOKUP(I44,Feuil1!$A$11:$F$29,2))))),IF(OR(H44=\"SEN\",H44<1995),VLOOKUP(I44,Feuil1!$G$11:$L$25,6),IF(AND(H44>1994,H44<1998),VLOOKUP(I44,Feuil1!$G$11:$L$25,5),IF(AND(H44>1997,H44<2000),VLOOKUP(I44,Feuil1!$G$11:$L$25,4),IF(AND(H44>1999,H44<2002),VLOOKUP(I44,Feuil1!$G$11:$L$25,3),VLOOKUP(I44,Feuil1!$G$11:$L$25,2)))))))","v":"FS53"},166.46532342438775,null," ",{"$f":"T44-HLOOKUP(X44,Feuil1!$C$1:$BL$10,2,FALSE)","v":42},{"$f":"T44-HLOOKUP(X44,Feuil1!$C$1:$BL$10,3,FALSE)","v":32},{"$f":"T44-HLOOKUP(X44,Feuil1!$C$1:$BL$10,4,FALSE)","v":22},{"$f":"T44-HLOOKUP(X44,Feuil1!$C$1:$BL$10,5,FALSE)","v":12},{"$f":"T44-HLOOKUP(X44,Feuil1!$C$1:$BL$10,6,FALSE)","v":2},{"$f":"T44-HLOOKUP(X44,Feuil1!$C$1:$BL$10,7,FALSE)","v":-13},{"$f":"T44-HLOOKUP(X44,Feuil1!$C$1:$BL$10,8,FALSE)","v":-33},{"$f":"T44-HLOOKUP(X44,Feuil1!$C$1:$BL$10,9,FALSE)","v":-53},{"$f":"T44-HLOOKUP(X44,Feuil1!$C$1:$BL$10,10,FALSE)","v":-68},null,null,null,null,null,null,"FED +"]
["F","SEST","PRO",18,384036,"ICARD","LAURE",1986,51.5,"HM STE TULLE","F",45,-48,48,48,55,58,-60,58,106,3,"FED +",1,{"$f":"IF(I45=\"\",\"\",IF(A45=\"H\",IF(OR(H45=\"SEN\",H45<1995),VLOOKUP(I45,Feuil1!$A$11:$F$29,6),IF(AND(H45>1994,H45<1998),VLOOKUP(I45,Feuil1!$A$11:$F$29,5),IF(AND(H45>1997,H45<2000),VLOOKUP(I45,Feuil1!$A$11:$F$29,4),IF(AND(H45>1999,H45<2002),VLOOKUP(I45,Feuil1!$A$11:$F$29,3),VLOOKUP(I45,Feuil1!$A$11:$F$29,2))))),IF(OR(H45=\"SEN\",H45<1995),VLOOKUP(I45,Feuil1!$G$11:$L$25,6),IF(AND(H45>1994,H45<1998),VLOOKUP(I45,Feuil1!$G$11:$L$25,5),IF(AND(H45>1997,H45<2000),VLOOKUP(I45,Feuil1!$G$11:$L$25,4),IF(AND(H45>1999,H45<2002),VLOOKUP(I45,Feuil1!$G$11:$L$25,3),VLOOKUP(I45,Feuil1!$G$11:$L$25,2)))))))","v":"FS53"},163.66482811116484,null," ",{"$f":"T45-HLOOKUP(X45,Feuil1!$C$1:$BL$10,2,FALSE)","v":41},{"$f":"T45-HLOOKUP(X45,Feuil1!$C$1:$BL$10,3,FALSE)","v":31},{"$f":"T45-HLOOKUP(X45,Feuil1!$C$1:$BL$10,4,FALSE)","v":21},{"$f":"T45-HLOOKUP(X45,Feuil1!$C$1:$BL$10,5,FALSE)","v":11},{"$f":"T45-HLOOKUP(X45,Feuil1!$C$1:$BL$10,6,FALSE)","v":1},{"$f":"T45-HLOOKUP(X45,Feuil1!$C$1:$BL$10,7,FALSE)","v":-14},{"$f":"T45-HLOOKUP(X45,Feuil1!$C$1:$BL$10,8,FALSE)","v":-34},{"$f":"T45-HLOOKUP(X45,Feuil1!$C$1:$BL$10,9,FALSE)","v":-54},{"$f":"T45-HLOOKUP(X45,Feuil1!$C$1:$BL$10,10,FALSE)","v":-69},null,null,null,null,null,null,"FED +"]
["F","SEST","PRO",19,296586,"HASSAN","JULIE",1991,52.15,"AP AIX","F",40,43,45,45,55,-60,60,60,105,0.70000000000000284,"FED +",0,{"$f":"IF(I46=\"\",\"\",IF(A46=\"H\",IF(OR(H46=\"SEN\",H46<1995),VLOOKUP(I46,Feuil1!$A$11:$F$29,6),IF(AND(H46>1994,H46<1998),VLOOKUP(I46,Feuil1!$A$11:$F$29,5),IF(AND(H46>1997,H46<2000),VLOOKUP(I46,Feuil1!$A$11:$F$29,4),IF(AND(H46>1999,H46<2002),VLOOKUP(I46,Feuil1!$A$11:$F$29,3),VLOOKUP(I46,Feuil1!$A$11:$F$29,2))))),IF(OR(H46=\"SEN\",H46<1995),VLOOKUP(I46,Feuil1!$G$11:$L$25,6),IF(AND(H46>1994,H46<1998),VLOOKUP(I46,Feuil1!$G$11:$L$25,5),IF(AND(H46>1997,H46<2000),VLOOKUP(I46,Feuil1!$G$11:$L$25,4),IF(AND(H46>1999,H46<2002),VLOOKUP(I46,Feuil1!$G$11:$L$25,3),VLOOKUP(I46,Feuil1!$G$11:$L$25,2)))))))","v":"FS53"},160.46610770403032,null," ",{"$f":"T46-HLOOKUP(X46,Feuil1!$C$1:$BL$10,2,FALSE)","v":40},{"$f":"T46-HLOOKUP(X46,Feuil1!$C$1:$BL$10,3,FALSE)","v":30},{"$f":"T46-HLOOKUP(X46,Feuil1!$C$1:$BL$10,4,FALSE)","v":20},{"$f":"T46-HLOOKUP(X46,Feuil1!$C$1:$BL$10,5,FALSE)","v":10},{"$f":"T46-HLOOKUP(X46,Feuil1!$C$1:$BL$10,6,FALSE)","v":0},{"$f":"T46-HLOOKUP(X46,Feuil1!$C$1:$BL$10,7,FALSE)","v":-15},{"$f":"T46-HLOOKUP(X46,Feuil1!$C$1:$BL$10,8,FALSE)","v":-35},{"$f":"T46-HLOOKUP(X46,Feuil1!$C$1:$BL$10,9,FALSE)","v":-55},{"$f":"T46-HLOOKUP(X46,Feuil1!$C$1:$BL$10,10,FALSE)","v":-70},null,null,null,null,null,null,"FED +"]
["F","NE","ALS",20,25608,"WITKOWSKI","DAGMAR",1958,53,"ASPTT Strasbourg","F",43,46,49,49,53,56,-58,56,105,-1,"FED +",0,{"$f":"IF(I47=\"\",\"\",IF(A47=\"H\",IF(OR(H47=\"SEN\",H47<1995),VLOOKUP(I47,Feuil1!$A$11:$F$29,6),IF(AND(H47>1994,H47<1998),VLOOKUP(I47,Feuil1!$A$11:$F$29,5),IF(AND(H47>1997,H47<2000),VLOOKUP(I47,Feuil1!$A$11:$F$29,4),IF(AND(H47>1999,H47<2002),VLOOKUP(I47,Feuil1!$A$11:$F$29,3),VLOOKUP(I47,Feuil1!$A$11:$F$29,2))))),IF(OR(H47=\"SEN\",H47<1995),VLOOKUP(I47,Feuil1!$G$11:$L$25,6),IF(AND(H47>1994,H47<1998),VLOOKUP(I47,Feuil1!$G$11:$L$25,5),IF(AND(H47>1997,H47<2000),VLOOKUP(I47,Feuil1!$G$11:$L$25,4),IF(AND(H47>1999,H47<2002),VLOOKUP(I47,Feuil1!$G$11:$L$25,3),VLOOKUP(I47,Feuil1!$G$11:$L$25,2)))))))","v":"FS53"},158.38664127023276,null," ",{"$f":"T47-HLOOKUP(X47,Feuil1!$C$1:$BL$10,2,FALSE)","v":40},{"$f":"T47-HLOOKUP(X47,Feuil1!$C$1:$BL$10,3,FALSE)","v":30},{"$f":"T47-HLOOKUP(X47,Feuil1!$C$1:$BL$10,4,FALSE)","v":20},{"$f":"T47-HLOOKUP(X47,Feuil1!$C$1:$BL$10,5,FALSE)","v":10},{"$f":"T47-HLOOKUP(X47,Feuil1!$C$1:$BL$10,6,FALSE)","v":0},{"$f":"T47-HLOOKUP(X47,Feuil1!$C$1:$BL$10,7,FALSE)","v":-15},{"$f":"T47-HLOOKUP(X47,Feuil1!$C$1:$BL$10,8,FALSE)","v":-35},{"$f":"T47-HLOOKUP(X47,Feuil1!$C$1:$BL$10,9,FALSE)","v":-55},{"$f":"T47-HLOOKUP(X47,Feuil1!$C$1:$BL$10,10,FALSE)","v":-70},null,null,null,null,null,null,"FED +"]
["F","CO","CEN",21,118442,"JOLIVEAU","Sandrine",1985,49.7,"AAJ Blois","F",45,47,-49,47,55,57,-59,57,104,4.5999999999999943,"IRG +",9,{"$f":"IF(I48=\"\",\"\",IF(A48=\"H\",IF(OR(H48=\"SEN\",H48<1995),VLOOKUP(I48,Feuil1!$A$11:$F$29,6),IF(AND(H48>1994,H48<1998),VLOOKUP(I48,Feuil1!$A$11:$F$29,5),IF(AND(H48>1997,H48<2000),VLOOKUP(I48,Feuil1!$A$11:$F$29,4),IF(AND(H48>1999,H48<2002),VLOOKUP(I48,Feuil1!$A$11:$F$29,3),VLOOKUP(I48,Feuil1!$A$11:$F$29,2))))),IF(OR(H48=\"SEN\",H48<1995),VLOOKUP(I48,Feuil1!$G$11:$L$25,6),IF(AND(H48>1994,H48<1998),VLOOKUP(I48,Feuil1!$G$11:$L$25,5),IF(AND(H48>1997,H48<2000),VLOOKUP(I48,Feuil1!$G$11:$L$25,4),IF(AND(H48>1999,H48<2002),VLOOKUP(I48,Feuil1!$G$11:$L$25,3),VLOOKUP(I48,Feuil1!$G$11:$L$25,2)))))))","v":"FS53"},165.42862317656716,null," ",{"$f":"T48-HLOOKUP(X48,Feuil1!$C$1:$BL$10,2,FALSE)","v":39},{"$f":"T48-HLOOKUP(X48,Feuil1!$C$1:$BL$10,3,FALSE)","v":29},{"$f":"T48-HLOOKUP(X48,Feuil1!$C$1:$BL$10,4,FALSE)","v":19},{"$f":"T48-HLOOKUP(X48,Feuil1!$C$1:$BL$10,5,FALSE)","v":9},{"$f":"T48-HLOOKUP(X48,Feuil1!$C$1:$BL$10,6,FALSE)","v":-1},{"$f":"T48-HLOOKUP(X48,Feuil1!$C$1:$BL$10,7,FALSE)","v":-16},{"$f":"T48-HLOOKUP(X48,Feuil1!$C$1:$BL$10,8,FALSE)","v":-36},{"$f":"T48-HLOOKUP(X48,Feuil1!$C$1:$BL$10,9,FALSE)","v":-56},{"$f":"T48-HLOOKUP(X48,Feuil1!$C$1:$BL$10,10,FALSE)","v":-71},null,null,null,null,null,null,"IRG +"]
["F","SEST","RAL",22,21779,"LYAUDET","Chrystel",1972,48.7,"H.C. OYONNAX","F",42,44,46,46,52,55,57,57,103,5.5999999999999943,"IRG +",8,{"$f":"IF(I49=\"\",\"\",IF(A49=\"H\",IF(OR(H49=\"SEN\",H49<1995),VLOOKUP(I49,Feuil1!$A$11:$F$29,6),IF(AND(H49>1994,H49<1998),VLOOKUP(I49,Feuil1!$A$11:$F$29,5),IF(AND(H49>1997,H49<2000),VLOOKUP(I49,Feuil1!$A$11:$F$29,4),IF(AND(H49>1999,H49<2002),VLOOKUP(I49,Feuil1!$A$11:$F$29,3),VLOOKUP(I49,Feuil1!$A$11:$F$29,2))))),IF(OR(H49=\"SEN\",H49<1995),VLOOKUP(I49,Feuil1!$G$11:$L$25,6),IF(AND(H49>1994,H49<1998),VLOOKUP(I49,Feuil1!$G$11:$L$25,5),IF(AND(H49>1997,H49<2000),VLOOKUP(I49,Feuil1!$G$11:$L$25,4),IF(AND(H49>1999,H49<2002),VLOOKUP(I49,Feuil1!$G$11:$L$25,3),VLOOKUP(I49,Feuil1!$G$11:$L$25,2)))))))","v":"FS53"},166.72195913532661,null," ",{"$f":"T49-HLOOKUP(X49,Feuil1!$C$1:$BL$10,2,FALSE)","v":38},{"$f":"T49-HLOOKUP(X49,Feuil1!$C$1:$BL$10,3,FALSE)","v":28},{"$f":"T49-HLOOKUP(X49,Feuil1!$C$1:$BL$10,4,FALSE)","v":18},{"$f":"T49-HLOOKUP(X49,Feuil1!$C$1:$BL$10,5,FALSE)","v":8},{"$f":"T49-HLOOKUP(X49,Feuil1!$C$1:$BL$10,6,FALSE)","v":-2},{"$f":"T49-HLOOKUP(X49,Feuil1!$C$1:$BL$10,7,FALSE)","v":-17},{"$f":"T49-HLOOKUP(X49,Feuil1!$C$1:$BL$10,8,FALSE)","v":-37},{"$f":"T49-HLOOKUP(X49,Feuil1!$C$1:$BL$10,9,FALSE)","v":-57},{"$f":"T49-HLOOKUP(X49,Feuil1!$C$1:$BL$10,10,FALSE)","v":-72},null,null,null,null,null,null,"IRG +"]
["F","SEST","RAL",23,212210,"BUFFA","MELODY",1990,51,"BOURG DE PEAGE","F",38,41,44,44,51,55,-58,55,99,-3,"IRG +",4,{"$f":"IF(I50=\"\",\"\",IF(A50=\"H\",IF(OR(H50=\"SEN\",H50<1995),VLOOKUP(I50,Feuil1!$A$11:$F$29,6),IF(AND(H50>1994,H50<1998),VLOOKUP(I50,Feuil1!$A$11:$F$29,5),IF(AND(H50>1997,H50<2000),VLOOKUP(I50,Feuil1!$A$11:$F$29,4),IF(AND(H50>1999,H50<2002),VLOOKUP(I50,Feuil1!$A$11:$F$29,3),VLOOKUP(I50,Feuil1!$A$11:$F$29,2))))),IF(OR(H50=\"SEN\",H50<1995),VLOOKUP(I50,Feuil1!$G$11:$L$25,6),IF(AND(H50>1994,H50<1998),VLOOKUP(I50,Feuil1!$G$11:$L$25,5),IF(AND(H50>1997,H50<2000),VLOOKUP(I50,Feuil1!$G$11:$L$25,4),IF(AND(H50>1999,H50<2002),VLOOKUP(I50,Feuil1!$G$11:$L$25,3),VLOOKUP(I50,Feuil1!$G$11:$L$25,2)))))))","v":"FS53"},154.09453156582396,null," ",{"$f":"T50-HLOOKUP(X50,Feuil1!$C$1:$BL$10,2,FALSE)","v":34},{"$f":"T50-HLOOKUP(X50,Feuil1!$C$1:$BL$10,3,FALSE)","v":24},{"$f":"T50-HLOOKUP(X50,Feuil1!$C$1:$BL$10,4,FALSE)","v":14},{"$f":"T50-HLOOKUP(X50,Feuil1!$C$1:$BL$10,5,FALSE)","v":4},{"$f":"T50-HLOOKUP(X50,Feuil1!$C$1:$BL$10,6,FALSE)","v":-6},{"$f":"T50-HLOOKUP(X50,Feuil1!$C$1:$BL$10,7,FALSE)","v":-21},{"$f":"T50-HLOOKUP(X50,Feuil1!$C$1:$BL$10,8,FALSE)","v":-41},{"$f":"T50-HLOOKUP(X50,Feuil1!$C$1:$BL$10,9,FALSE)","v":-61},{"$f":"T50-HLOOKUP(X50,Feuil1!$C$1:$BL$10,10,FALSE)","v":-76},null,null,null,null,null,null,"IRG +"]
["F","NORD","PIC",24,364228,"PETIT","Juliette",1985,53,"Villers-Bretonneux KC","F",-42,42,-47,42,53,-56,56,56,98,-8,"IRG +",3,{"$f":"IF(I51=\"\",\"\",IF(A51=\"H\",IF(OR(H51=\"SEN\",H51<1995),VLOOKUP(I51,Feuil1!$A$11:$F$29,6),IF(AND(H51>1994,H51<1998),VLOOKUP(I51,Feuil1!$A$11:$F$29,5),IF(AND(H51>1997,H51<2000),VLOOKUP(I51,Feuil1!$A$11:$F$29,4),IF(AND(H51>1999,H51<2002),VLOOKUP(I51,Feuil1!$A$11:$F$29,3),VLOOKUP(I51,Feuil1!$A$11:$F$29,2))))),IF(OR(H51=\"SEN\",H51<1995),VLOOKUP(I51,Feuil1!$G$11:$L$25,6),IF(AND(H51>1994,H51<1998),VLOOKUP(I51,Feuil1!$G$11:$L$25,5),IF(AND(H51>1997,H51<2000),VLOOKUP(I51,Feuil1!$G$11:$L$25,4),IF(AND(H51>1999,H51<2002),VLOOKUP(I51,Feuil1!$G$11:$L$25,3),VLOOKUP(I51,Feuil1!$G$11:$L$25,2)))))))","v":"FS53"},147.82753185221725,null," ",{"$f":"T51-HLOOKUP(X51,Feuil1!$C$1:$BL$10,2,FALSE)","v":33},{"$f":"T51-HLOOKUP(X51,Feuil1!$C$1:$BL$10,3,FALSE)","v":23},{"$f":"T51-HLOOKUP(X51,Feuil1!$C$1:$BL$10,4,FALSE)","v":13},{"$f":"T51-HLOOKUP(X51,Feuil1!$C$1:$BL$10,5,FALSE)","v":3},{"$f":"T51-HLOOKUP(X51,Feuil1!$C$1:$BL$10,6,FALSE)","v":-7},{"$f":"T51-HLOOKUP(X51,Feuil1!$C$1:$BL$10,7,FALSE)","v":-22},{"$f":"T51-HLOOKUP(X51,Feuil1!$C$1:$BL$10,8,FALSE)","v":-42},{"$f":"T51-HLOOKUP(X51,Feuil1!$C$1:$BL$10,9,FALSE)","v":-62},{"$f":"T51-HLOOKUP(X51,Feuil1!$C$1:$BL$10,10,FALSE)","v":-77},null,null,null,null,null,null,"IRG +"]
["F","SO","AQU",25,380921,"SAIB","LINDA",1977,51.6,"ST MEDARD","F",38,-43,43,43,50,54,-57,54,97,-6.2000000000000028,"IRG +",2,{"$f":"IF(I52=\"\",\"\",IF(A52=\"H\",IF(OR(H52=\"SEN\",H52<1995),VLOOKUP(I52,Feuil1!$A$11:$F$29,6),IF(AND(H52>1994,H52<1998),VLOOKUP(I52,Feuil1!$A$11:$F$29,5),IF(AND(H52>1997,H52<2000),VLOOKUP(I52,Feuil1!$A$11:$F$29,4),IF(AND(H52>1999,H52<2002),VLOOKUP(I52,Feuil1!$A$11:$F$29,3),VLOOKUP(I52,Feuil1!$A$11:$F$29,2))))),IF(OR(H52=\"SEN\",H52<1995),VLOOKUP(I52,Feuil1!$G$11:$L$25,6),IF(AND(H52>1994,H52<1998),VLOOKUP(I52,Feuil1!$G$11:$L$25,5),IF(AND(H52>1997,H52<2000),VLOOKUP(I52,Feuil1!$G$11:$L$25,4),IF(AND(H52>1999,H52<2002),VLOOKUP(I52,Feuil1!$G$11:$L$25,3),VLOOKUP(I52,Feuil1!$G$11:$L$25,2)))))))","v":"FS53"},149.5301061490965,null," ",{"$f":"T52-HLOOKUP(X52,Feuil1!$C$1:$BL$10,2,FALSE)","v":32},{"$f":"T52-HLOOKUP(X52,Feuil1!$C$1:$BL$10,3,FALSE)","v":22},{"$f":"T52-HLOOKUP(X52,Feuil1!$C$1:$BL$10,4,FALSE)","v":12},{"$f":"T52-HLOOKUP(X52,Feuil1!$C$1:$BL$10,5,FALSE)","v":2},{"$f":"T52-HLOOKUP(X52,Feuil1!$C$1:$BL$10,6,FALSE)","v":-8},{"$f":"T52-HLOOKUP(X52,Feuil1!$C$1:$BL$10,7,FALSE)","v":-23},{"$f":"T52-HLOOKUP(X52,Feuil1!$C$1:$BL$10,8,FALSE)","v":-43},{"$f":"T52-HLOOKUP(X52,Feuil1!$C$1:$BL$10,9,FALSE)","v":-63},{"$f":"T52-HLOOKUP(X52,Feuil1!$C$1:$BL$10,10,FALSE)","v":-78},null,null,null,null,null,null,"IRG +"]
["F","DOM","REU",26,372876,"LAURET","Stéphanie",1986,52.38,"CH TAMPON","F",37,40,42,42,50,53,55,55,97,-7.7600000000000051,"IRG +",2,{"$f":"IF(I53=\"\",\"\",IF(A53=\"H\",IF(OR(H53=\"SEN\",H53<1995),VLOOKUP(I53,Feuil1!$A$11:$F$29,6),IF(AND(H53>1994,H53<1998),VLOOKUP(I53,Feuil1!$A$11:$F$29,5),IF(AND(H53>1997,H53<2000),VLOOKUP(I53,Feuil1!$A$11:$F$29,4),IF(AND(H53>1999,H53<2002),VLOOKUP(I53,Feuil1!$A$11:$F$29,3),VLOOKUP(I53,Feuil1!$A$11:$F$29,2))))),IF(OR(H53=\"SEN\",H53<1995),VLOOKUP(I53,Feuil1!$G$11:$L$25,6),IF(AND(H53>1994,H53<1998),VLOOKUP(I53,Feuil1!$G$11:$L$25,5),IF(AND(H53>1997,H53<2000),VLOOKUP(I53,Feuil1!$G$11:$L$25,4),IF(AND(H53>1999,H53<2002),VLOOKUP(I53,Feuil1!$G$11:$L$25,3),VLOOKUP(I53,Feuil1!$G$11:$L$25,2)))))))","v":"FS53"},147.71177256804998,null," ",{"$f":"T53-HLOOKUP(X53,Feuil1!$C$1:$BL$10,2,FALSE)","v":32},{"$f":"T53-HLOOKUP(X53,Feuil1!$C$1:$BL$10,3,FALSE)","v":22},{"$f":"T53-HLOOKUP(X53,Feuil1!$C$1:$BL$10,4,FALSE)","v":12},{"$f":"T53-HLOOKUP(X53,Feuil1!$C$1:$BL$10,5,FALSE)","v":2},{"$f":"T53-HLOOKUP(X53,Feuil1!$C$1:$BL$10,6,FALSE)","v":-8},{"$f":"T53-HLOOKUP(X53,Feuil1!$C$1:$BL$10,7,FALSE)","v":-23},{"$f":"T53-HLOOKUP(X53,Feuil1!$C$1:$BL$10,8,FALSE)","v":-43},{"$f":"T53-HLOOKUP(X53,Feuil1!$C$1:$BL$10,9,FALSE)","v":-63},{"$f":"T53-HLOOKUP(X53,Feuil1!$C$1:$BL$10,10,FALSE)","v":-78},null,null,null,null,null,null,"IRG +"]
["F","SEST","RAL",27,249165,"MORLIERE","Lise",1990,52.85,"VAULX EN VELIN ","F",40,-43,-43,40,52,-56,56,56,96,-9.7000000000000028,"IRG +",1,{"$f":"IF(I54=\"\",\"\",IF(A54=\"H\",IF(OR(H54=\"SEN\",H54<1995),VLOOKUP(I54,Feuil1!$A$11:$F$29,6),IF(AND(H54>1994,H54<1998),VLOOKUP(I54,Feuil1!$A$11:$F$29,5),IF(AND(H54>1997,H54<2000),VLOOKUP(I54,Feuil1!$A$11:$F$29,4),IF(AND(H54>1999,H54<2002),VLOOKUP(I54,Feuil1!$A$11:$F$29,3),VLOOKUP(I54,Feuil1!$A$11:$F$29,2))))),IF(OR(H54=\"SEN\",H54<1995),VLOOKUP(I54,Feuil1!$G$11:$L$25,6),IF(AND(H54>1994,H54<1998),VLOOKUP(I54,Feuil1!$G$11:$L$25,5),IF(AND(H54>1997,H54<2000),VLOOKUP(I54,Feuil1!$G$11:$L$25,4),IF(AND(H54>1999,H54<2002),VLOOKUP(I54,Feuil1!$G$11:$L$25,3),VLOOKUP(I54,Feuil1!$G$11:$L$25,2)))))))","v":"FS53"},145.14000081825006,null," ",{"$f":"T54-HLOOKUP(X54,Feuil1!$C$1:$BL$10,2,FALSE)","v":31},{"$f":"T54-HLOOKUP(X54,Feuil1!$C$1:$BL$10,3,FALSE)","v":21},{"$f":"T54-HLOOKUP(X54,Feuil1!$C$1:$BL$10,4,FALSE)","v":11},{"$f":"T54-HLOOKUP(X54,Feuil1!$C$1:$BL$10,5,FALSE)","v":1},{"$f":"T54-HLOOKUP(X54,Feuil1!$C$1:$BL$10,6,FALSE)","v":-9},{"$f":"T54-HLOOKUP(X54,Feuil1!$C$1:$BL$10,7,FALSE)","v":-24},{"$f":"T54-HLOOKUP(X54,Feuil1!$C$1:$BL$10,8,FALSE)","v":-44},{"$f":"T54-HLOOKUP(X54,Feuil1!$C$1:$BL$10,9,FALSE)","v":-64},{"$f":"T54-HLOOKUP(X54,Feuil1!$C$1:$BL$10,10,FALSE)","v":-79},null,null,null,null,null,null,"IRG +"]
["F","NORD","PIC",28,32266,"ANDRIEUX KOHUEINUI","Cécile",1989,49,"La Ferté Milon CMHM","F",37,42,45,45,45,50,-55,50,95,-3,"IRG +",0,{"$f":"IF(I55=\"\",\"\",IF(A55=\"H\",IF(OR(H55=\"SEN\",H55<1995),VLOOKUP(I55,Feuil1!$A$11:$F$29,6),IF(AND(H55>1994,H55<1998),VLOOKUP(I55,Feuil1!$A$11:$F$29,5),IF(AND(H55>1997,H55<2000),VLOOKUP(I55,Feuil1!$A$11:$F$29,4),IF(AND(H55>1999,H55<2002),VLOOKUP(I55,Feuil1!$A$11:$F$29,3),VLOOKUP(I55,Feuil1!$A$11:$F$29,2))))),IF(OR(H55=\"SEN\",H55<1995),VLOOKUP(I55,Feuil1!$G$11:$L$25,6),IF(AND(H55>1994,H55<1998),VLOOKUP(I55,Feuil1!$G$11:$L$25,5),IF(AND(H55>1997,H55<2000),VLOOKUP(I55,Feuil1!$G$11:$L$25,4),IF(AND(H55>1999,H55<2002),VLOOKUP(I55,Feuil1!$G$11:$L$25,3),VLOOKUP(I55,Feuil1!$G$11:$L$25,2)))))))","v":"FS53"},152.95889821921779,null," ",{"$f":"T55-HLOOKUP(X55,Feuil1!$C$1:$BL$10,2,FALSE)","v":30},{"$f":"T55-HLOOKUP(X55,Feuil1!$C$1:$BL$10,3,FALSE)","v":20},{"$f":"T55-HLOOKUP(X55,Feuil1!$C$1:$BL$10,4,FALSE)","v":10},{"$f":"T55-HLOOKUP(X55,Feuil1!$C$1:$BL$10,5,FALSE)","v":0},{"$f":"T55-HLOOKUP(X55,Feuil1!$C$1:$BL$10,6,FALSE)","v":-10},{"$f":"T55-HLOOKUP(X55,Feuil1!$C$1:$BL$10,7,FALSE)","v":-25},{"$f":"T55-HLOOKUP(X55,Feuil1!$C$1:$BL$10,8,FALSE)","v":-45},{"$f":"T55-HLOOKUP(X55,Feuil1!$C$1:$BL$10,9,FALSE)","v":-65},{"$f":"T55-HLOOKUP(X55,Feuil1!$C$1:$BL$10,10,FALSE)","v":-80},null,null,null,null,null,null,"IRG +"]
["F","N","IDF",29,388580,"MAROUBI","SALIMA",1988,52.15,"SA MONTMARTRE","F",36,39,41,41,51,54,-57,54,95,-9.2999999999999972,"IRG +",0,{"$f":"IF(I56=\"\",\"\",IF(A56=\"H\",IF(OR(H56=\"SEN\",H56<1995),VLOOKUP(I56,Feuil1!$A$11:$F$29,6),IF(AND(H56>1994,H56<1998),VLOOKUP(I56,Feuil1!$A$11:$F$29,5),IF(AND(H56>1997,H56<2000),VLOOKUP(I56,Feuil1!$A$11:$F$29,4),IF(AND(H56>1999,H56<2002),VLOOKUP(I56,Feuil1!$A$11:$F$29,3),VLOOKUP(I56,Feuil1!$A$11:$F$29,2))))),IF(OR(H56=\"SEN\",H56<1995),VLOOKUP(I56,Feuil1!$G$11:$L$25,6),IF(AND(H56>1994,H56<1998),VLOOKUP(I56,Feuil1!$G$11:$L$25,5),IF(AND(H56>1997,H56<2000),VLOOKUP(I56,Feuil1!$G$11:$L$25,4),IF(AND(H56>1999,H56<2002),VLOOKUP(I56,Feuil1!$G$11:$L$25,3),VLOOKUP(I56,Feuil1!$G$11:$L$25,2)))))))","v":"FS53"},145.18362125602744,null," ",{"$f":"T56-HLOOKUP(X56,Feuil1!$C$1:$BL$10,2,FALSE)","v":30},{"$f":"T56-HLOOKUP(X56,Feuil1!$C$1:$BL$10,3,FALSE)","v":20},{"$f":"T56-HLOOKUP(X56,Feuil1!$C$1:$BL$10,4,FALSE)","v":10},{"$f":"T56-HLOOKUP(X56,Feuil1!$C$1:$BL$10,5,FALSE)","v":0},{"$f":"T56-HLOOKUP(X56,Feuil1!$C$1:$BL$10,6,FALSE)","v":-10},{"$f":"T56-HLOOKUP(X56,Feuil1!$C$1:$BL$10,7,FALSE)","v":-25},{"$f":"T56-HLOOKUP(X56,Feuil1!$C$1:$BL$10,8,FALSE)","v":-45},{"$f":"T56-HLOOKUP(X56,Feuil1!$C$1:$BL$10,9,FALSE)","v":-65},{"$f":"T56-HLOOKUP(X56,Feuil1!$C$1:$BL$10,10,FALSE)","v":-80},null,null,null,null,null,null,"IRG +"]
["F","SEST","AUV",30,390738,"SEMANA","Aurélie",1986,52.4,"CROSSWOD TEAM","F",40,42,-44,42,-53,-53,53,53,95,-9.7999999999999972,"IRG +",0,{"$f":"IF(I57=\"\",\"\",IF(A57=\"H\",IF(OR(H57=\"SEN\",H57<1995),VLOOKUP(I57,Feuil1!$A$11:$F$29,6),IF(AND(H57>1994,H57<1998),VLOOKUP(I57,Feuil1!$A$11:$F$29,5),IF(AND(H57>1997,H57<2000),VLOOKUP(I57,Feuil1!$A$11:$F$29,4),IF(AND(H57>1999,H57<2002),VLOOKUP(I57,Feuil1!$A$11:$F$29,3),VLOOKUP(I57,Feuil1!$A$11:$F$29,2))))),IF(OR(H57=\"SEN\",H57<1995),VLOOKUP(I57,Feuil1!$G$11:$L$25,6),IF(AND(H57>1994,H57<1998),VLOOKUP(I57,Feuil1!$G$11:$L$25,5),IF(AND(H57>1997,H57<2000),VLOOKUP(I57,Feuil1!$G$11:$L$25,4),IF(AND(H57>1999,H57<2002),VLOOKUP(I57,Feuil1!$G$11:$L$25,3),VLOOKUP(I57,Feuil1!$G$11:$L$25,2)))))))","v":"FS53"},144.62147050787598,null," ",{"$f":"T57-HLOOKUP(X57,Feuil1!$C$1:$BL$10,2,FALSE)","v":30},{"$f":"T57-HLOOKUP(X57,Feuil1!$C$1:$BL$10,3,FALSE)","v":20},{"$f":"T57-HLOOKUP(X57,Feuil1!$C$1:$BL$10,4,FALSE)","v":10},{"$f":"T57-HLOOKUP(X57,Feuil1!$C$1:$BL$10,5,FALSE)","v":0},{"$f":"T57-HLOOKUP(X57,Feuil1!$C$1:$BL$10,6,FALSE)","v":-10},{"$f":"T57-HLOOKUP(X57,Feuil1!$C$1:$BL$10,7,FALSE)","v":-25},{"$f":"T57-HLOOKUP(X57,Feuil1!$C$1:$BL$10,8,FALSE)","v":-45},{"$f":"T57-HLOOKUP(X57,Feuil1!$C$1:$BL$10,9,FALSE)","v":-65},{"$f":"T57-HLOOKUP(X57,Feuil1!$C$1:$BL$10,10,FALSE)","v":-80},null,null,null,null,null,null,"IRG +"]
["F","N","IDF",31,360068,"DRAPEAU","FLORIANE",1989,50.1,"SAINT-MAUR","F",37,40,42,42,48,51,-53,51,93,-7.2000000000000028,"REG +",8,{"$f":"IF(I58=\"\",\"\",IF(A58=\"H\",IF(OR(H58=\"SEN\",H58<1995),VLOOKUP(I58,Feuil1!$A$11:$F$29,6),IF(AND(H58>1994,H58<1998),VLOOKUP(I58,Feuil1!$A$11:$F$29,5),IF(AND(H58>1997,H58<2000),VLOOKUP(I58,Feuil1!$A$11:$F$29,4),IF(AND(H58>1999,H58<2002),VLOOKUP(I58,Feuil1!$A$11:$F$29,3),VLOOKUP(I58,Feuil1!$A$11:$F$29,2))))),IF(OR(H58=\"SEN\",H58<1995),VLOOKUP(I58,Feuil1!$G$11:$L$25,6),IF(AND(H58>1994,H58<1998),VLOOKUP(I58,Feuil1!$G$11:$L$25,5),IF(AND(H58>1997,H58<2000),VLOOKUP(I58,Feuil1!$G$11:$L$25,4),IF(AND(H58>1999,H58<2002),VLOOKUP(I58,Feuil1!$G$11:$L$25,3),VLOOKUP(I58,Feuil1!$G$11:$L$25,2)))))))","v":"FS53"},146.92984398165061,null," ",{"$f":"T58-HLOOKUP(X58,Feuil1!$C$1:$BL$10,2,FALSE)","v":28},{"$f":"T58-HLOOKUP(X58,Feuil1!$C$1:$BL$10,3,FALSE)","v":18},{"$f":"T58-HLOOKUP(X58,Feuil1!$C$1:$BL$10,4,FALSE)","v":8},{"$f":"T58-HLOOKUP(X58,Feuil1!$C$1:$BL$10,5,FALSE)","v":-2},{"$f":"T58-HLOOKUP(X58,Feuil1!$C$1:$BL$10,6,FALSE)","v":-12},{"$f":"T58-HLOOKUP(X58,Feuil1!$C$1:$BL$10,7,FALSE)","v":-27},{"$f":"T58-HLOOKUP(X58,Feuil1!$C$1:$BL$10,8,FALSE)","v":-47},{"$f":"T58-HLOOKUP(X58,Feuil1!$C$1:$BL$10,9,FALSE)","v":-67},{"$f":"T58-HLOOKUP(X58,Feuil1!$C$1:$BL$10,10,FALSE)","v":-82},null,null,null,null,null,null,"REG +"]
["F","CO","BNO",32,270512,"SAYAH","Nadia",1965,48.8,"Caen CHM","F",40,42,-44,42,46,50,-52,50,92,-5.5999999999999943,"REG +",7,{"$f":"IF(I59=\"\",\"\",IF(A59=\"H\",IF(OR(H59=\"SEN\",H59<1995),VLOOKUP(I59,Feuil1!$A$11:$F$29,6),IF(AND(H59>1994,H59<1998),VLOOKUP(I59,Feuil1!$A$11:$F$29,5),IF(AND(H59>1997,H59<2000),VLOOKUP(I59,Feuil1!$A$11:$F$29,4),IF(AND(H59>1999,H59<2002),VLOOKUP(I59,Feuil1!$A$11:$F$29,3),VLOOKUP(I59,Feuil1!$A$11:$F$29,2))))),IF(OR(H59=\"SEN\",H59<1995),VLOOKUP(I59,Feuil1!$G$11:$L$25,6),IF(AND(H59>1994,H59<1998),VLOOKUP(I59,Feuil1!$G$11:$L$25,5),IF(AND(H59>1997,H59<2000),VLOOKUP(I59,Feuil1!$G$11:$L$25,4),IF(AND(H59>1999,H59<2002),VLOOKUP(I59,Feuil1!$G$11:$L$25,3),VLOOKUP(I59,Feuil1!$G$11:$L$25,2)))))))","v":"FS53"},148.65251729345695,null," ",{"$f":"T59-HLOOKUP(X59,Feuil1!$C$1:$BL$10,2,FALSE)","v":27},{"$f":"T59-HLOOKUP(X59,Feuil1!$C$1:$BL$10,3,FALSE)","v":17},{"$f":"T59-HLOOKUP(X59,Feuil1!$C$1:$BL$10,4,FALSE)","v":7},{"$f":"T59-HLOOKUP(X59,Feuil1!$C$1:$BL$10,5,FALSE)","v":-3},{"$f":"T59-HLOOKUP(X59,Feuil1!$C$1:$BL$10,6,FALSE)","v":-13},{"$f":"T59-HLOOKUP(X59,Feuil1!$C$1:$BL$10,7,FALSE)","v":-28},{"$f":"T59-HLOOKUP(X59,Feuil1!$C$1:$BL$10,8,FALSE)","v":-48},{"$f":"T59-HLOOKUP(X59,Feuil1!$C$1:$BL$10,9,FALSE)","v":-68},{"$f":"T59-HLOOKUP(X59,Feuil1!$C$1:$BL$10,10,FALSE)","v":-83},null,null,null,null,null,null,"REG +"]
["F","SEST","CAZ",33,361669,"CARON","Axelle",1985,52.4,"ES VILLE LOUBET","F",38,-41,41,{"$f":"IF(H60=\"\",\"\",IF(MAXA(L60:N60)<=0,0,MAXA(L60:N60)))","v":41},48,51,-54,{"$f":"IF(H60=\"\",\"\",IF(MAXA(P60:R60)<=0,0,MAXA(P60:R60)))","v":51},{"$f":"IF(H60=\"\",\"\",IF(OR(O60=0,S60=0),0,O60+S60))","v":92},{"$f":"T60-I60*2","v":-12.799999999999997},{"$f":"IF(H60=\"\",\"\",AQ60)","v":"REG +"},{"$f":"IF(AJ60>=0,AJ60,IF(AI60>=0,AI60,IF(AH60>=0,AH60,IF(AG60>=0,AG60,IF(AF60>=0,AF60,IF(AE60>=0,AE60,IF(AD60>=0,AD60,IF(AC60>=0,AC60,AB60))))))))","v":7},{"$f":"IF(I60=\"\",\"\",IF(A60=\"H\",IF(OR(H60=\"SEN\",H60<1995),VLOOKUP(I60,Feuil1!$A$11:$F$29,6),IF(AND(H60>1994,H60<1998),VLOOKUP(I60,Feuil1!$A$11:$F$29,5),IF(AND(H60>1997,H60<2000),VLOOKUP(I60,Feuil1!$A$11:$F$29,4),IF(AND(H60>1999,H60<2002),VLOOKUP(I60,Feuil1!$A$11:$F$29,3),VLOOKUP(I60,Feuil1!$A$11:$F$29,2))))),IF(OR(H60=\"SEN\",H60<1995),VLOOKUP(I60,Feuil1!$G$11:$L$25,6),IF(AND(H60>1994,H60<1998),VLOOKUP(I60,Feuil1!$G$11:$L$25,5),IF(AND(H60>1997,H60<2000),VLOOKUP(I60,Feuil1!$G$11:$L$25,4),IF(AND(H60>1999,H60<2002),VLOOKUP(I60,Feuil1!$G$11:$L$25,3),VLOOKUP(I60,Feuil1!$G$11:$L$25,2)))))))","v":"FS53"},{"$f":"IF(I60=\"\",\"\",IF(A60=\"H\",10^(0.794358141*LOG(I60/174.393)^2)*T60,IF(A60=\"F\",10^(0.89726074*LOG(I60/148.026)^2)*T60,\"\")))","v":140.0544767023641},null," ",{"$f":"T60-HLOOKUP(X60,Feuil1!$C$1:$BL$10,2,FALSE)","v":27},{"$f":"T60-HLOOKUP(X60,Feuil1!$C$1:$BL$10,3,FALSE)","v":17},{"$f":"T60-HLOOKUP(X60,Feuil1!$C$1:$BL$10,4,FALSE)","v":7},{"$f":"T60-HLOOKUP(X60,Feuil1!$C$1:$BL$10,5,FALSE)","v":-3},{"$f":"T60-HLOOKUP(X60,Feuil1!$C$1:$BL$10,6,FALSE)","v":-13},{"$f":"T60-HLOOKUP(X60,Feuil1!$C$1:$BL$10,7,FALSE)","v":-28},{"$f":"T60-HLOOKUP(X60,Feuil1!$C$1:$BL$10,8,FALSE)","v":-48},{"$f":"T60-HLOOKUP(X60,Feuil1!$C$1:$BL$10,9,FALSE)","v":-68},{"$f":"T60-HLOOKUP(X60,Feuil1!$C$1:$BL$10,10,FALSE)","v":-83},null,null,null,null,null,null,{"$f":"IF(AJ60>=0,$AJ$4,IF(AI60>=0,$AI$4,IF(AH60>=0,$AH$4,IF(AG60>=0,$AG$4,IF(AF60>=0,$AF$4,IF(AE60>=0,$AE$4,IF(AD60>=0,$AD$4,IF(AC60>=0,$AC$4,$AB$4))))))))","v":"REG +"}]
["F","NORD","PIC",34,391500,"DI PAOLA","Charlène",1988,51.5,"Saleux CHM","F",35,-40,40,40,42,47,50,50,90,-13,"REG +",5,{"$f":"IF(I61=\"\",\"\",IF(A61=\"H\",IF(OR(H61=\"SEN\",H61<1995),VLOOKUP(I61,Feuil1!$A$11:$F$29,6),IF(AND(H61>1994,H61<1998),VLOOKUP(I61,Feuil1!$A$11:$F$29,5),IF(AND(H61>1997,H61<2000),VLOOKUP(I61,Feuil1!$A$11:$F$29,4),IF(AND(H61>1999,H61<2002),VLOOKUP(I61,Feuil1!$A$11:$F$29,3),VLOOKUP(I61,Feuil1!$A$11:$F$29,2))))),IF(OR(H61=\"SEN\",H61<1995),VLOOKUP(I61,Feuil1!$G$11:$L$25,6),IF(AND(H61>1994,H61<1998),VLOOKUP(I61,Feuil1!$G$11:$L$25,5),IF(AND(H61>1997,H61<2000),VLOOKUP(I61,Feuil1!$G$11:$L$25,4),IF(AND(H61>1999,H61<2002),VLOOKUP(I61,Feuil1!$G$11:$L$25,3),VLOOKUP(I61,Feuil1!$G$11:$L$25,2)))))))","v":"FS53"},138.96070311325317,null," ",{"$f":"T61-HLOOKUP(X61,Feuil1!$C$1:$BL$10,2,FALSE)","v":25},{"$f":"T61-HLOOKUP(X61,Feuil1!$C$1:$BL$10,3,FALSE)","v":15},{"$f":"T61-HLOOKUP(X61,Feuil1!$C$1:$BL$10,4,FALSE)","v":5},{"$f":"T61-HLOOKUP(X61,Feuil1!$C$1:$BL$10,5,FALSE)","v":-5},{"$f":"T61-HLOOKUP(X61,Feuil1!$C$1:$BL$10,6,FALSE)","v":-15},{"$f":"T61-HLOOKUP(X61,Feuil1!$C$1:$BL$10,7,FALSE)","v":-30},{"$f":"T61-HLOOKUP(X61,Feuil1!$C$1:$BL$10,8,FALSE)","v":-50},{"$f":"T61-HLOOKUP(X61,Feuil1!$C$1:$BL$10,9,FALSE)","v":-70},{"$f":"T61-HLOOKUP(X61,Feuil1!$C$1:$BL$10,10,FALSE)","v":-85},null,null,null,null,null,null,"REG +"]
["F","N","IDF",35,150691,"CARRE","Mélanie",1988,50.7,"BLANC-MESNIL","F",35,38,40,40,40,45,47,47,87,-14.400000000000006,"REG +",2,{"$f":"IF(I62=\"\",\"\",IF(A62=\"H\",IF(OR(H62=\"SEN\",H62<1995),VLOOKUP(I62,Feuil1!$A$11:$F$29,6),IF(AND(H62>1994,H62<1998),VLOOKUP(I62,Feuil1!$A$11:$F$29,5),IF(AND(H62>1997,H62<2000),VLOOKUP(I62,Feuil1!$A$11:$F$29,4),IF(AND(H62>1999,H62<2002),VLOOKUP(I62,Feuil1!$A$11:$F$29,3),VLOOKUP(I62,Feuil1!$A$11:$F$29,2))))),IF(OR(H62=\"SEN\",H62<1995),VLOOKUP(I62,Feuil1!$G$11:$L$25,6),IF(AND(H62>1994,H62<1998),VLOOKUP(I62,Feuil1!$G$11:$L$25,5),IF(AND(H62>1997,H62<2000),VLOOKUP(I62,Feuil1!$G$11:$L$25,4),IF(AND(H62>1999,H62<2002),VLOOKUP(I62,Feuil1!$G$11:$L$25,3),VLOOKUP(I62,Feuil1!$G$11:$L$25,2)))))))","v":"FS53"},136.08334006788755,null," ",{"$f":"T62-HLOOKUP(X62,Feuil1!$C$1:$BL$10,2,FALSE)","v":22},{"$f":"T62-HLOOKUP(X62,Feuil1!$C$1:$BL$10,3,FALSE)","v":12},{"$f":"T62-HLOOKUP(X62,Feuil1!$C$1:$BL$10,4,FALSE)","v":2},{"$f":"T62-HLOOKUP(X62,Feuil1!$C$1:$BL$10,5,FALSE)","v":-8},{"$f":"T62-HLOOKUP(X62,Feuil1!$C$1:$BL$10,6,FALSE)","v":-18},{"$f":"T62-HLOOKUP(X62,Feuil1!$C$1:$BL$10,7,FALSE)","v":-33},{"$f":"T62-HLOOKUP(X62,Feuil1!$C$1:$BL$10,8,FALSE)","v":-53},{"$f":"T62-HLOOKUP(X62,Feuil1!$C$1:$BL$10,9,FALSE)","v":-73},{"$f":"T62-HLOOKUP(X62,Feuil1!$C$1:$BL$10,10,FALSE)","v":-88},null,null,null,null,null,null,"REG +"]
["F","SO","LIM",36,363013,"PREUVOT","SEVERINE",1989,50,"LIMOGES ASPTT","F",35,37,-41,37,-48,48,-54,48,85,-15,"REG +",0,{"$f":"IF(I63=\"\",\"\",IF(A63=\"H\",IF(OR(H63=\"SEN\",H63<1995),VLOOKUP(I63,Feuil1!$A$11:$F$29,6),IF(AND(H63>1994,H63<1998),VLOOKUP(I63,Feuil1!$A$11:$F$29,5),IF(AND(H63>1997,H63<2000),VLOOKUP(I63,Feuil1!$A$11:$F$29,4),IF(AND(H63>1999,H63<2002),VLOOKUP(I63,Feuil1!$A$11:$F$29,3),VLOOKUP(I63,Feuil1!$A$11:$F$29,2))))),IF(OR(H63=\"SEN\",H63<1995),VLOOKUP(I63,Feuil1!$G$11:$L$25,6),IF(AND(H63>1994,H63<1998),VLOOKUP(I63,Feuil1!$G$11:$L$25,5),IF(AND(H63>1997,H63<2000),VLOOKUP(I63,Feuil1!$G$11:$L$25,4),IF(AND(H63>1999,H63<2002),VLOOKUP(I63,Feuil1!$G$11:$L$25,3),VLOOKUP(I63,Feuil1!$G$11:$L$25,2)))))))","v":"FS53"},134.51766104029522,null," ",{"$f":"T63-HLOOKUP(X63,Feuil1!$C$1:$BL$10,2,FALSE)","v":20},{"$f":"T63-HLOOKUP(X63,Feuil1!$C$1:$BL$10,3,FALSE)","v":10},{"$f":"T63-HLOOKUP(X63,Feuil1!$C$1:$BL$10,4,FALSE)","v":0},{"$f":"T63-HLOOKUP(X63,Feuil1!$C$1:$BL$10,5,FALSE)","v":-10},{"$f":"T63-HLOOKUP(X63,Feuil1!$C$1:$BL$10,6,FALSE)","v":-20},{"$f":"T63-HLOOKUP(X63,Feuil1!$C$1:$BL$10,7,FALSE)","v":-35},{"$f":"T63-HLOOKUP(X63,Feuil1!$C$1:$BL$10,8,FALSE)","v":-55},{"$f":"T63-HLOOKUP(X63,Feuil1!$C$1:$BL$10,9,FALSE)","v":-75},{"$f":"T63-HLOOKUP(X63,Feuil1!$C$1:$BL$10,10,FALSE)","v":-90},null,null,null,null,null,null,"REG +"]
["F","NE","FCO",37,377509,"RAMDANI","Cindy",1989,51.1,"LF Besançon","F",35,-38,38,38,40,43,46,46,84,-18.200000000000003,"DEP +",9,{"$f":"IF(I64=\"\",\"\",IF(A64=\"H\",IF(OR(H64=\"SEN\",H64<1995),VLOOKUP(I64,Feuil1!$A$11:$F$29,6),IF(AND(H64>1994,H64<1998),VLOOKUP(I64,Feuil1!$A$11:$F$29,5),IF(AND(H64>1997,H64<2000),VLOOKUP(I64,Feuil1!$A$11:$F$29,4),IF(AND(H64>1999,H64<2002),VLOOKUP(I64,Feuil1!$A$11:$F$29,3),VLOOKUP(I64,Feuil1!$A$11:$F$29,2))))),IF(OR(H64=\"SEN\",H64<1995),VLOOKUP(I64,Feuil1!$G$11:$L$25,6),IF(AND(H64>1994,H64<1998),VLOOKUP(I64,Feuil1!$G$11:$L$25,5),IF(AND(H64>1997,H64<2000),VLOOKUP(I64,Feuil1!$G$11:$L$25,4),IF(AND(H64>1999,H64<2002),VLOOKUP(I64,Feuil1!$G$11:$L$25,3),VLOOKUP(I64,Feuil1!$G$11:$L$25,2)))))))","v":"FS53"},130.53455312515013,null," ",{"$f":"T64-HLOOKUP(X64,Feuil1!$C$1:$BL$10,2,FALSE)","v":19},{"$f":"T64-HLOOKUP(X64,Feuil1!$C$1:$BL$10,3,FALSE)","v":9},{"$f":"T64-HLOOKUP(X64,Feuil1!$C$1:$BL$10,4,FALSE)","v":-1},{"$f":"T64-HLOOKUP(X64,Feuil1!$C$1:$BL$10,5,FALSE)","v":-11},{"$f":"T64-HLOOKUP(X64,Feuil1!$C$1:$BL$10,6,FALSE)","v":-21},{"$f":"T64-HLOOKUP(X64,Feuil1!$C$1:$BL$10,7,FALSE)","v":-36},{"$f":"T64-HLOOKUP(X64,Feuil1!$C$1:$BL$10,8,FALSE)","v":-56},{"$f":"T64-HLOOKUP(X64,Feuil1!$C$1:$BL$10,9,FALSE)","v":-76},{"$f":"T64-HLOOKUP(X64,Feuil1!$C$1:$BL$10,10,FALSE)","v":-91},null,null,null,null,null,null,"DEP +"]
["F","NE","LOR",38,190306,"BANKA","Karéne",1989,49.2,"H.VALLEROY-AUBOUÉ","F",32,-35,35,35,42,-45,45,45,80,-18.400000000000006,"DEP +",5,{"$f":"IF(I65=\"\",\"\",IF(A65=\"H\",IF(OR(H65=\"SEN\",H65<1995),VLOOKUP(I65,Feuil1!$A$11:$F$29,6),IF(AND(H65>1994,H65<1998),VLOOKUP(I65,Feuil1!$A$11:$F$29,5),IF(AND(H65>1997,H65<2000),VLOOKUP(I65,Feuil1!$A$11:$F$29,4),IF(AND(H65>1999,H65<2002),VLOOKUP(I65,Feuil1!$A$11:$F$29,3),VLOOKUP(I65,Feuil1!$A$11:$F$29,2))))),IF(OR(H65=\"SEN\",H65<1995),VLOOKUP(I65,Feuil1!$G$11:$L$25,6),IF(AND(H65>1994,H65<1998),VLOOKUP(I65,Feuil1!$G$11:$L$25,5),IF(AND(H65>1997,H65<2000),VLOOKUP(I65,Feuil1!$G$11:$L$25,4),IF(AND(H65>1999,H65<2002),VLOOKUP(I65,Feuil1!$G$11:$L$25,3),VLOOKUP(I65,Feuil1!$G$11:$L$25,2)))))))","v":"FS53"},128.35704256341646,null," ",{"$f":"T65-HLOOKUP(X65,Feuil1!$C$1:$BL$10,2,FALSE)","v":15},{"$f":"T65-HLOOKUP(X65,Feuil1!$C$1:$BL$10,3,FALSE)","v":5},{"$f":"T65-HLOOKUP(X65,Feuil1!$C$1:$BL$10,4,FALSE)","v":-5},{"$f":"T65-HLOOKUP(X65,Feuil1!$C$1:$BL$10,5,FALSE)","v":-15},{"$f":"T65-HLOOKUP(X65,Feuil1!$C$1:$BL$10,6,FALSE)","v":-25},{"$f":"T65-HLOOKUP(X65,Feuil1!$C$1:$BL$10,7,FALSE)","v":-40},{"$f":"T65-HLOOKUP(X65,Feuil1!$C$1:$BL$10,8,FALSE)","v":-60},{"$f":"T65-HLOOKUP(X65,Feuil1!$C$1:$BL$10,9,FALSE)","v":-80},{"$f":"T65-HLOOKUP(X65,Feuil1!$C$1:$BL$10,10,FALSE)","v":-95},null,null,null,null,null,null,"DEP +"]
["F","N","IDF",39,366669,"ZIARH","SHERYNE",1994,51.3,"NEUILLY","F",25,30,35,35,35,40,43,43,78,-24.599999999999994,"DEP +",3,{"$f":"IF(I66=\"\",\"\",IF(A66=\"H\",IF(OR(H66=\"SEN\",H66<1995),VLOOKUP(I66,Feuil1!$A$11:$F$29,6),IF(AND(H66>1994,H66<1998),VLOOKUP(I66,Feuil1!$A$11:$F$29,5),IF(AND(H66>1997,H66<2000),VLOOKUP(I66,Feuil1!$A$11:$F$29,4),IF(AND(H66>1999,H66<2002),VLOOKUP(I66,Feuil1!$A$11:$F$29,3),VLOOKUP(I66,Feuil1!$A$11:$F$29,2))))),IF(OR(H66=\"SEN\",H66<1995),VLOOKUP(I66,Feuil1!$G$11:$L$25,6),IF(AND(H66>1994,H66<1998),VLOOKUP(I66,Feuil1!$G$11:$L$25,5),IF(AND(H66>1997,H66<2000),VLOOKUP(I66,Feuil1!$G$11:$L$25,4),IF(AND(H66>1999,H66<2002),VLOOKUP(I66,Feuil1!$G$11:$L$25,3),VLOOKUP(I66,Feuil1!$G$11:$L$25,2)))))))","v":"FS53"},120.81953269787245,null," ",{"$f":"T66-HLOOKUP(X66,Feuil1!$C$1:$BL$10,2,FALSE)","v":13},{"$f":"T66-HLOOKUP(X66,Feuil1!$C$1:$BL$10,3,FALSE)","v":3},{"$f":"T66-HLOOKUP(X66,Feuil1!$C$1:$BL$10,4,FALSE)","v":-7},{"$f":"T66-HLOOKUP(X66,Feuil1!$C$1:$BL$10,5,FALSE)","v":-17},{"$f":"T66-HLOOKUP(X66,Feuil1!$C$1:$BL$10,6,FALSE)","v":-27},{"$f":"T66-HLOOKUP(X66,Feuil1!$C$1:$BL$10,7,FALSE)","v":-42},{"$f":"T66-HLOOKUP(X66,Feuil1!$C$1:$BL$10,8,FALSE)","v":-62},{"$f":"T66-HLOOKUP(X66,Feuil1!$C$1:$BL$10,9,FALSE)","v":-82},{"$f":"T66-HLOOKUP(X66,Feuil1!$C$1:$BL$10,10,FALSE)","v":-97},null,null,null,null,null,null,"DEP +"]
["F","CO","CEN",40,321930,"CAUMON","Mylène",1979,52.2,"CM Orléans","F",34,-37,-37,34,44,-46,-46,44,78,-26.400000000000006,"DEP +",3,{"$f":"IF(I67=\"\",\"\",IF(A67=\"H\",IF(OR(H67=\"SEN\",H67<1995),VLOOKUP(I67,Feuil1!$A$11:$F$29,6),IF(AND(H67>1994,H67<1998),VLOOKUP(I67,Feuil1!$A$11:$F$29,5),IF(AND(H67>1997,H67<2000),VLOOKUP(I67,Feuil1!$A$11:$F$29,4),IF(AND(H67>1999,H67<2002),VLOOKUP(I67,Feuil1!$A$11:$F$29,3),VLOOKUP(I67,Feuil1!$A$11:$F$29,2))))),IF(OR(H67=\"SEN\",H67<1995),VLOOKUP(I67,Feuil1!$G$11:$L$25,6),IF(AND(H67>1994,H67<1998),VLOOKUP(I67,Feuil1!$G$11:$L$25,5),IF(AND(H67>1997,H67<2000),VLOOKUP(I67,Feuil1!$G$11:$L$25,4),IF(AND(H67>1999,H67<2002),VLOOKUP(I67,Feuil1!$G$11:$L$25,3),VLOOKUP(I67,Feuil1!$G$11:$L$25,2)))))))","v":"FS53"},119.1105928631287,null," ",{"$f":"T67-HLOOKUP(X67,Feuil1!$C$1:$BL$10,2,FALSE)","v":13},{"$f":"T67-HLOOKUP(X67,Feuil1!$C$1:$BL$10,3,FALSE)","v":3},{"$f":"T67-HLOOKUP(X67,Feuil1!$C$1:$BL$10,4,FALSE)","v":-7},{"$f":"T67-HLOOKUP(X67,Feuil1!$C$1:$BL$10,5,FALSE)","v":-17},{"$f":"T67-HLOOKUP(X67,Feuil1!$C$1:$BL$10,6,FALSE)","v":-27},{"$f":"T67-HLOOKUP(X67,Feuil1!$C$1:$BL$10,7,FALSE)","v":-42},{"$f":"T67-HLOOKUP(X67,Feuil1!$C$1:$BL$10,8,FALSE)","v":-62},{"$f":"T67-HLOOKUP(X67,Feuil1!$C$1:$BL$10,9,FALSE)","v":-82},{"$f":"T67-HLOOKUP(X67,Feuil1!$C$1:$BL$10,10,FALSE)","v":-97},null,null,null,null,null,null,"DEP +"]
["F","CO","BNO",41,376363,"MARIE","Julie",1989,48.3,"Caen CHM","F",28,-31,31,31,40,43,45,45,76,-20.599999999999994,"DEP +",1,{"$f":"IF(I68=\"\",\"\",IF(A68=\"H\",IF(OR(H68=\"SEN\",H68<1995),VLOOKUP(I68,Feuil1!$A$11:$F$29,6),IF(AND(H68>1994,H68<1998),VLOOKUP(I68,Feuil1!$A$11:$F$29,5),IF(AND(H68>1997,H68<2000),VLOOKUP(I68,Feuil1!$A$11:$F$29,4),IF(AND(H68>1999,H68<2002),VLOOKUP(I68,Feuil1!$A$11:$F$29,3),VLOOKUP(I68,Feuil1!$A$11:$F$29,2))))),IF(OR(H68=\"SEN\",H68<1995),VLOOKUP(I68,Feuil1!$G$11:$L$25,6),IF(AND(H68>1994,H68<1998),VLOOKUP(I68,Feuil1!$G$11:$L$25,5),IF(AND(H68>1997,H68<2000),VLOOKUP(I68,Feuil1!$G$11:$L$25,4),IF(AND(H68>1999,H68<2002),VLOOKUP(I68,Feuil1!$G$11:$L$25,3),VLOOKUP(I68,Feuil1!$G$11:$L$25,2)))))))","v":"FS53"},123.90362770221522,null," ",{"$f":"T68-HLOOKUP(X68,Feuil1!$C$1:$BL$10,2,FALSE)","v":11},{"$f":"T68-HLOOKUP(X68,Feuil1!$C$1:$BL$10,3,FALSE)","v":1},{"$f":"T68-HLOOKUP(X68,Feuil1!$C$1:$BL$10,4,FALSE)","v":-9},{"$f":"T68-HLOOKUP(X68,Feuil1!$C$1:$BL$10,5,FALSE)","v":-19},{"$f":"T68-HLOOKUP(X68,Feuil1!$C$1:$BL$10,6,FALSE)","v":-29},{"$f":"T68-HLOOKUP(X68,Feuil1!$C$1:$BL$10,7,FALSE)","v":-44},{"$f":"T68-HLOOKUP(X68,Feuil1!$C$1:$BL$10,8,FALSE)","v":-64},{"$f":"T68-HLOOKUP(X68,Feuil1!$C$1:$BL$10,9,FALSE)","v":-84},{"$f":"T68-HLOOKUP(X68,Feuil1!$C$1:$BL$10,10,FALSE)","v":-99},null,null,null,null,null,null,"DEP +"]
["F","NORD","PIC",42,87282,"ARANJO","Estelle",1992,51.8,"Villers-Bretonneux KC","F",-30,30,35,35,35,38,40,40,75,-28.599999999999994,"DEP +",0,{"$f":"IF(I69=\"\",\"\",IF(A69=\"H\",IF(OR(H69=\"SEN\",H69<1995),VLOOKUP(I69,Feuil1!$A$11:$F$29,6),IF(AND(H69>1994,H69<1998),VLOOKUP(I69,Feuil1!$A$11:$F$29,5),IF(AND(H69>1997,H69<2000),VLOOKUP(I69,Feuil1!$A$11:$F$29,4),IF(AND(H69>1999,H69<2002),VLOOKUP(I69,Feuil1!$A$11:$F$29,3),VLOOKUP(I69,Feuil1!$A$11:$F$29,2))))),IF(OR(H69=\"SEN\",H69<1995),VLOOKUP(I69,Feuil1!$G$11:$L$25,6),IF(AND(H69>1994,H69<1998),VLOOKUP(I69,Feuil1!$G$11:$L$25,5),IF(AND(H69>1997,H69<2000),VLOOKUP(I69,Feuil1!$G$11:$L$25,4),IF(AND(H69>1999,H69<2002),VLOOKUP(I69,Feuil1!$G$11:$L$25,3),VLOOKUP(I69,Feuil1!$G$11:$L$25,2)))))))","v":"FS53"},115.24996938728493,null," ",{"$f":"T69-HLOOKUP(X69,Feuil1!$C$1:$BL$10,2,FALSE)","v":10},{"$f":"T69-HLOOKUP(X69,Feuil1!$C$1:$BL$10,3,FALSE)","v":0},{"$f":"T69-HLOOKUP(X69,Feuil1!$C$1:$BL$10,4,FALSE)","v":-10},{"$f":"T69-HLOOKUP(X69,Feuil1!$C$1:$BL$10,5,FALSE)","v":-20},{"$f":"T69-HLOOKUP(X69,Feuil1!$C$1:$BL$10,6,FALSE)","v":-30},{"$f":"T69-HLOOKUP(X69,Feuil1!$C$1:$BL$10,7,FALSE)","v":-45},{"$f":"T69-HLOOKUP(X69,Feuil1!$C$1:$BL$10,8,FALSE)","v":-65},{"$f":"T69-HLOOKUP(X69,Feuil1!$C$1:$BL$10,9,FALSE)","v":-85},{"$f":"T69-HLOOKUP(X69,Feuil1!$C$1:$BL$10,10,FALSE)","v":-100},null,null,null,null,null,null,"DEP +"]
["F","NE","ALS",43,287490,"GLUCK","CLEMENCE",1992,52.95,"US Wittenheim","F",26,29,32,32,36,39,-42,39,71,-34.900000000000006,"DEB ",6,{"$f":"IF(I70=\"\",\"\",IF(A70=\"H\",IF(OR(H70=\"SEN\",H70<1995),VLOOKUP(I70,Feuil1!$A$11:$F$29,6),IF(AND(H70>1994,H70<1998),VLOOKUP(I70,Feuil1!$A$11:$F$29,5),IF(AND(H70>1997,H70<2000),VLOOKUP(I70,Feuil1!$A$11:$F$29,4),IF(AND(H70>1999,H70<2002),VLOOKUP(I70,Feuil1!$A$11:$F$29,3),VLOOKUP(I70,Feuil1!$A$11:$F$29,2))))),IF(OR(H70=\"SEN\",H70<1995),VLOOKUP(I70,Feuil1!$G$11:$L$25,6),IF(AND(H70>1994,H70<1998),VLOOKUP(I70,Feuil1!$G$11:$L$25,5),IF(AND(H70>1997,H70<2000),VLOOKUP(I70,Feuil1!$G$11:$L$25,4),IF(AND(H70>1999,H70<2002),VLOOKUP(I70,Feuil1!$G$11:$L$25,3),VLOOKUP(I70,Feuil1!$G$11:$L$25,2)))))))","v":"FS53"},107.18052147066042,null," ",{"$f":"T70-HLOOKUP(X70,Feuil1!$C$1:$BL$10,2,FALSE)","v":6},{"$f":"T70-HLOOKUP(X70,Feuil1!$C$1:$BL$10,3,FALSE)","v":-4},{"$f":"T70-HLOOKUP(X70,Feuil1!$C$1:$BL$10,4,FALSE)","v":-14},{"$f":"T70-HLOOKUP(X70,Feuil1!$C$1:$BL$10,5,FALSE)","v":-24},{"$f":"T70-HLOOKUP(X70,Feuil1!$C$1:$BL$10,6,FALSE)","v":-34},{"$f":"T70-HLOOKUP(X70,Feuil1!$C$1:$BL$10,7,FALSE)","v":-49},{"$f":"T70-HLOOKUP(X70,Feuil1!$C$1:$BL$10,8,FALSE)","v":-69},{"$f":"T70-HLOOKUP(X70,Feuil1!$C$1:$BL$10,9,FALSE)","v":-89},{"$f":"T70-HLOOKUP(X70,Feuil1!$C$1:$BL$10,10,FALSE)","v":-104},null,null,null,null,null,null,"DEB "]
["F","SO","MPY",44,379254,"CHAILLET","Perrine",1991,53,"TOULOUSE HC","F",27,29,31,31,37,40,-42,40,71,-35,"DEB ",6,{"$f":"IF(I71=\"\",\"\",IF(A71=\"H\",IF(OR(H71=\"SEN\",H71<1995),VLOOKUP(I71,Feuil1!$A$11:$F$29,6),IF(AND(H71>1994,H71<1998),VLOOKUP(I71,Feuil1!$A$11:$F$29,5),IF(AND(H71>1997,H71<2000),VLOOKUP(I71,Feuil1!$A$11:$F$29,4),IF(AND(H71>1999,H71<2002),VLOOKUP(I71,Feuil1!$A$11:$F$29,3),VLOOKUP(I71,Feuil1!$A$11:$F$29,2))))),IF(OR(H71=\"SEN\",H71<1995),VLOOKUP(I71,Feuil1!$G$11:$L$25,6),IF(AND(H71>1994,H71<1998),VLOOKUP(I71,Feuil1!$G$11:$L$25,5),IF(AND(H71>1997,H71<2000),VLOOKUP(I71,Feuil1!$G$11:$L$25,4),IF(AND(H71>1999,H71<2002),VLOOKUP(I71,Feuil1!$G$11:$L$25,3),VLOOKUP(I71,Feuil1!$G$11:$L$25,2)))))))","v":"FS53"},107.09953838272882,null," ",{"$f":"T71-HLOOKUP(X71,Feuil1!$C$1:$BL$10,2,FALSE)","v":6},{"$f":"T71-HLOOKUP(X71,Feuil1!$C$1:$BL$10,3,FALSE)","v":-4},{"$f":"T71-HLOOKUP(X71,Feuil1!$C$1:$BL$10,4,FALSE)","v":-14},{"$f":"T71-HLOOKUP(X71,Feuil1!$C$1:$BL$10,5,FALSE)","v":-24},{"$f":"T71-HLOOKUP(X71,Feuil1!$C$1:$BL$10,6,FALSE)","v":-34},{"$f":"T71-HLOOKUP(X71,Feuil1!$C$1:$BL$10,7,FALSE)","v":-49},{"$f":"T71-HLOOKUP(X71,Feuil1!$C$1:$BL$10,8,FALSE)","v":-69},{"$f":"T71-HLOOKUP(X71,Feuil1!$C$1:$BL$10,9,FALSE)","v":-89},{"$f":"T71-HLOOKUP(X71,Feuil1!$C$1:$BL$10,10,FALSE)","v":-104},null,null,null,null,null,null,"DEB "]
["F","NE","ALS",45,394230,"WEYH","CAROLE",1986,50.4,"ASPTT Strasbourg","F",27,29,-31,29,32,35,39,39,68,-32.799999999999997,"DEB ",3,{"$f":"IF(I72=\"\",\"\",IF(A72=\"H\",IF(OR(H72=\"SEN\",H72<1995),VLOOKUP(I72,Feuil1!$A$11:$F$29,6),IF(AND(H72>1994,H72<1998),VLOOKUP(I72,Feuil1!$A$11:$F$29,5),IF(AND(H72>1997,H72<2000),VLOOKUP(I72,Feuil1!$A$11:$F$29,4),IF(AND(H72>1999,H72<2002),VLOOKUP(I72,Feuil1!$A$11:$F$29,3),VLOOKUP(I72,Feuil1!$A$11:$F$29,2))))),IF(OR(H72=\"SEN\",H72<1995),VLOOKUP(I72,Feuil1!$G$11:$L$25,6),IF(AND(H72>1994,H72<1998),VLOOKUP(I72,Feuil1!$G$11:$L$25,5),IF(AND(H72>1997,H72<2000),VLOOKUP(I72,Feuil1!$G$11:$L$25,4),IF(AND(H72>1999,H72<2002),VLOOKUP(I72,Feuil1!$G$11:$L$25,3),VLOOKUP(I72,Feuil1!$G$11:$L$25,2)))))))","v":"FS53"},106.89388076467434,null," ",{"$f":"T72-HLOOKUP(X72,Feuil1!$C$1:$BL$10,2,FALSE)","v":3},{"$f":"T72-HLOOKUP(X72,Feuil1!$C$1:$BL$10,3,FALSE)","v":-7},{"$f":"T72-HLOOKUP(X72,Feuil1!$C$1:$BL$10,4,FALSE)","v":-17},{"$f":"T72-HLOOKUP(X72,Feuil1!$C$1:$BL$10,5,FALSE)","v":-27},{"$f":"T72-HLOOKUP(X72,Feuil1!$C$1:$BL$10,6,FALSE)","v":-37},{"$f":"T72-HLOOKUP(X72,Feuil1!$C$1:$BL$10,7,FALSE)","v":-52},{"$f":"T72-HLOOKUP(X72,Feuil1!$C$1:$BL$10,8,FALSE)","v":-72},{"$f":"T72-HLOOKUP(X72,Feuil1!$C$1:$BL$10,9,FALSE)","v":-92},{"$f":"T72-HLOOKUP(X72,Feuil1!$C$1:$BL$10,10,FALSE)","v":-107},null,null,null,null,null,null,"DEB "]
["F","SEST","RAL",46,292689,"MENDEZ PACHECO","Belkis",1994,51.55,"VAULX EN VELIN ","F",25,-28,"_",25,32,35,-38,35,60,-43.099999999999994,"DEB ",-5,{"$f":"IF(I73=\"\",\"\",IF(A73=\"H\",IF(OR(H73=\"SEN\",H73<1995),VLOOKUP(I73,Feuil1!$A$11:$F$29,6),IF(AND(H73>1994,H73<1998),VLOOKUP(I73,Feuil1!$A$11:$F$29,5),IF(AND(H73>1997,H73<2000),VLOOKUP(I73,Feuil1!$A$11:$F$29,4),IF(AND(H73>1999,H73<2002),VLOOKUP(I73,Feuil1!$A$11:$F$29,3),VLOOKUP(I73,Feuil1!$A$11:$F$29,2))))),IF(OR(H73=\"SEN\",H73<1995),VLOOKUP(I73,Feuil1!$G$11:$L$25,6),IF(AND(H73>1994,H73<1998),VLOOKUP(I73,Feuil1!$G$11:$L$25,5),IF(AND(H73>1997,H73<2000),VLOOKUP(I73,Feuil1!$G$11:$L$25,4),IF(AND(H73>1999,H73<2002),VLOOKUP(I73,Feuil1!$G$11:$L$25,3),VLOOKUP(I73,Feuil1!$G$11:$L$25,2)))))))","v":"FS53"},92.566559796829154,null," ",{"$f":"T73-HLOOKUP(X73,Feuil1!$C$1:$BL$10,2,FALSE)","v":-5},{"$f":"T73-HLOOKUP(X73,Feuil1!$C$1:$BL$10,3,FALSE)","v":-15},{"$f":"T73-HLOOKUP(X73,Feuil1!$C$1:$BL$10,4,FALSE)","v":-25},{"$f":"T73-HLOOKUP(X73,Feuil1!$C$1:$BL$10,5,FALSE)","v":-35},{"$f":"T73-HLOOKUP(X73,Feuil1!$C$1:$BL$10,6,FALSE)","v":-45},{"$f":"T73-HLOOKUP(X73,Feuil1!$C$1:$BL$10,7,FALSE)","v":-60},{"$f":"T73-HLOOKUP(X73,Feuil1!$C$1:$BL$10,8,FALSE)","v":-80},{"$f":"T73-HLOOKUP(X73,Feuil1!$C$1:$BL$10,9,FALSE)","v":-100},{"$f":"T73-HLOOKUP(X73,Feuil1!$C$1:$BL$10,10,FALSE)","v":-115},null,null,null,null,null,null,"DEB "]
["F","CO","PDL",47,367252,"AUDRAIN","Mélina",1992,52,"Saint Herblain","F",24,26,-29,26,32,34,-36,34,60,-44,"DEB ",-5,{"$f":"IF(I74=\"\",\"\",IF(A74=\"H\",IF(OR(H74=\"SEN\",H74<1995),VLOOKUP(I74,Feuil1!$A$11:$F$29,6),IF(AND(H74>1994,H74<1998),VLOOKUP(I74,Feuil1!$A$11:$F$29,5),IF(AND(H74>1997,H74<2000),VLOOKUP(I74,Feuil1!$A$11:$F$29,4),IF(AND(H74>1999,H74<2002),VLOOKUP(I74,Feuil1!$A$11:$F$29,3),VLOOKUP(I74,Feuil1!$A$11:$F$29,2))))),IF(OR(H74=\"SEN\",H74<1995),VLOOKUP(I74,Feuil1!$G$11:$L$25,6),IF(AND(H74>1994,H74<1998),VLOOKUP(I74,Feuil1!$G$11:$L$25,5),IF(AND(H74>1997,H74<2000),VLOOKUP(I74,Feuil1!$G$11:$L$25,4),IF(AND(H74>1999,H74<2002),VLOOKUP(I74,Feuil1!$G$11:$L$25,3),VLOOKUP(I74,Feuil1!$G$11:$L$25,2)))))))","v":"FS53"},91.910218245448732,null," ",{"$f":"T74-HLOOKUP(X74,Feuil1!$C$1:$BL$10,2,FALSE)","v":-5},{"$f":"T74-HLOOKUP(X74,Feuil1!$C$1:$BL$10,3,FALSE)","v":-15},{"$f":"T74-HLOOKUP(X74,Feuil1!$C$1:$BL$10,4,FALSE)","v":-25},{"$f":"T74-HLOOKUP(X74,Feuil1!$C$1:$BL$10,5,FALSE)","v":-35},{"$f":"T74-HLOOKUP(X74,Feuil1!$C$1:$BL$10,6,FALSE)","v":-45},{"$f":"T74-HLOOKUP(X74,Feuil1!$C$1:$BL$10,7,FALSE)","v":-60},{"$f":"T74-HLOOKUP(X74,Feuil1!$C$1:$BL$10,8,FALSE)","v":-80},{"$f":"T74-HLOOKUP(X74,Feuil1!$C$1:$BL$10,9,FALSE)","v":-100},{"$f":"T74-HLOOKUP(X74,Feuil1!$C$1:$BL$10,10,FALSE)","v":-115},null,null,null,null,null,null,"DEB "]
["F","CO","CEN",48,179582,"TABORDET","Nelly",1946,53,"CM Orléans","F",24,-26,26,26,30,32,34,34,60,-46,"DEB ",-5,{"$f":"IF(I75=\"\",\"\",IF(A75=\"H\",IF(OR(H75=\"SEN\",H75<1995),VLOOKUP(I75,Feuil1!$A$11:$F$29,6),IF(AND(H75>1994,H75<1998),VLOOKUP(I75,Feuil1!$A$11:$F$29,5),IF(AND(H75>1997,H75<2000),VLOOKUP(I75,Feuil1!$A$11:$F$29,4),IF(AND(H75>1999,H75<2002),VLOOKUP(I75,Feuil1!$A$11:$F$29,3),VLOOKUP(I75,Feuil1!$A$11:$F$29,2))))),IF(OR(H75=\"SEN\",H75<1995),VLOOKUP(I75,Feuil1!$G$11:$L$25,6),IF(AND(H75>1994,H75<1998),VLOOKUP(I75,Feuil1!$G$11:$L$25,5),IF(AND(H75>1997,H75<2000),VLOOKUP(I75,Feuil1!$G$11:$L$25,4),IF(AND(H75>1999,H75<2002),VLOOKUP(I75,Feuil1!$G$11:$L$25,3),VLOOKUP(I75,Feuil1!$G$11:$L$25,2)))))))","v":"FS53"},90.506652154418717,null," ",{"$f":"T75-HLOOKUP(X75,Feuil1!$C$1:$BL$10,2,FALSE)","v":-5},{"$f":"T75-HLOOKUP(X75,Feuil1!$C$1:$BL$10,3,FALSE)","v":-15},{"$f":"T75-HLOOKUP(X75,Feuil1!$C$1:$BL$10,4,FALSE)","v":-25},{"$f":"T75-HLOOKUP(X75,Feuil1!$C$1:$BL$10,5,FALSE)","v":-35},{"$f":"T75-HLOOKUP(X75,Feuil1!$C$1:$BL$10,6,FALSE)","v":-45},{"$f":"T75-HLOOKUP(X75,Feuil1!$C$1:$BL$10,7,FALSE)","v":-60},{"$f":"T75-HLOOKUP(X75,Feuil1!$C$1:$BL$10,8,FALSE)","v":-80},{"$f":"T75-HLOOKUP(X75,Feuil1!$C$1:$BL$10,9,FALSE)","v":-100},{"$f":"T75-HLOOKUP(X75,Feuil1!$C$1:$BL$10,10,FALSE)","v":-115},null,null,null,null,null,null,"DEB "]
["F","NORD","NPC",49,396695,"LANZALACO","Sofia",1984,51.6,"LOMME","F",18,22,25,25,27,31,-35,31,56,-47.2,"DEB ",-9,{"$f":"IF(I76=\"\",\"\",IF(A76=\"H\",IF(OR(H76=\"SEN\",H76<1995),VLOOKUP(I76,Feuil1!$A$11:$F$29,6),IF(AND(H76>1994,H76<1998),VLOOKUP(I76,Feuil1!$A$11:$F$29,5),IF(AND(H76>1997,H76<2000),VLOOKUP(I76,Feuil1!$A$11:$F$29,4),IF(AND(H76>1999,H76<2002),VLOOKUP(I76,Feuil1!$A$11:$F$29,3),VLOOKUP(I76,Feuil1!$A$11:$F$29,2))))),IF(OR(H76=\"SEN\",H76<1995),VLOOKUP(I76,Feuil1!$G$11:$L$25,6),IF(AND(H76>1994,H76<1998),VLOOKUP(I76,Feuil1!$G$11:$L$25,5),IF(AND(H76>1997,H76<2000),VLOOKUP(I76,Feuil1!$G$11:$L$25,4),IF(AND(H76>1999,H76<2002),VLOOKUP(I76,Feuil1!$G$11:$L$25,3),VLOOKUP(I76,Feuil1!$G$11:$L$25,2)))))))","v":"FS53"},86.326659220096943,null," ",{"$f":"T76-HLOOKUP(X76,Feuil1!$C$1:$BL$10,2,FALSE)","v":-9},{"$f":"T76-HLOOKUP(X76,Feuil1!$C$1:$BL$10,3,FALSE)","v":-19},{"$f":"T76-HLOOKUP(X76,Feuil1!$C$1:$BL$10,4,FALSE)","v":-29},{"$f":"T76-HLOOKUP(X76,Feuil1!$C$1:$BL$10,5,FALSE)","v":-39},{"$f":"T76-HLOOKUP(X76,Feuil1!$C$1:$BL$10,6,FALSE)","v":-49},{"$f":"T76-HLOOKUP(X76,Feuil1!$C$1:$BL$10,7,FALSE)","v":-64},{"$f":"T76-HLOOKUP(X76,Feuil1!$C$1:$BL$10,8,FALSE)","v":-84},{"$f":"T76-HLOOKUP(X76,Feuil1!$C$1:$BL$10,9,FALSE)","v":-104},{"$f":"T76-HLOOKUP(X76,Feuil1!$C$1:$BL$10,10,FALSE)","v":-119},null,null,null,null,null,null,"DEB "]
["F","SO","MPY",50,379250,"REBELO","Marie-Pierre",1959,52.9,"PAMIERS HC","F",22,24,26,26,30,-32,-32,30,56,-49.8,"DEB ",-9,{"$f":"IF(I77=\"\",\"\",IF(A77=\"H\",IF(OR(H77=\"SEN\",H77<1995),VLOOKUP(I77,Feuil1!$A$11:$F$29,6),IF(AND(H77>1994,H77<1998),VLOOKUP(I77,Feuil1!$A$11:$F$29,5),IF(AND(H77>1997,H77<2000),VLOOKUP(I77,Feuil1!$A$11:$F$29,4),IF(AND(H77>1999,H77<2002),VLOOKUP(I77,Feuil1!$A$11:$F$29,3),VLOOKUP(I77,Feuil1!$A$11:$F$29,2))))),IF(OR(H77=\"SEN\",H77<1995),VLOOKUP(I77,Feuil1!$G$11:$L$25,6),IF(AND(H77>1994,H77<1998),VLOOKUP(I77,Feuil1!$G$11:$L$25,5),IF(AND(H77>1997,H77<2000),VLOOKUP(I77,Feuil1!$G$11:$L$25,4),IF(AND(H77>1999,H77<2002),VLOOKUP(I77,Feuil1!$G$11:$L$25,3),VLOOKUP(I77,Feuil1!$G$11:$L$25,2)))))))","v":"FS53"},84.600790843749706,null," ",{"$f":"T77-HLOOKUP(X77,Feuil1!$C$1:$BL$10,2,FALSE)","v":-9},{"$f":"T77-HLOOKUP(X77,Feuil1!$C$1:$BL$10,3,FALSE)","v":-19},{"$f":"T77-HLOOKUP(X77,Feuil1!$C$1:$BL$10,4,FALSE)","v":-29},{"$f":"T77-HLOOKUP(X77,Feuil1!$C$1:$BL$10,5,FALSE)","v":-39},{"$f":"T77-HLOOKUP(X77,Feuil1!$C$1:$BL$10,6,FALSE)","v":-49},{"$f":"T77-HLOOKUP(X77,Feuil1!$C$1:$BL$10,7,FALSE)","v":-64},{"$f":"T77-HLOOKUP(X77,Feuil1!$C$1:$BL$10,8,FALSE)","v":-84},{"$f":"T77-HLOOKUP(X77,Feuil1!$C$1:$BL$10,9,FALSE)","v":-104},{"$f":"T77-HLOOKUP(X77,Feuil1!$C$1:$BL$10,10,FALSE)","v":-119},null,null,null,null,null,null,"DEB "]
["F","N","IDF",51,394023,"MOKHTARI","IMANE",1990,48.4,"RUEIL","M",22,-25,25,25,30,-35,-35,30,55,-41.8,"DEB ",-10,{"$f":"IF(I78=\"\",\"\",IF(A78=\"H\",IF(OR(H78=\"SEN\",H78<1995),VLOOKUP(I78,Feuil1!$A$11:$F$29,6),IF(AND(H78>1994,H78<1998),VLOOKUP(I78,Feuil1!$A$11:$F$29,5),IF(AND(H78>1997,H78<2000),VLOOKUP(I78,Feuil1!$A$11:$F$29,4),IF(AND(H78>1999,H78<2002),VLOOKUP(I78,Feuil1!$A$11:$F$29,3),VLOOKUP(I78,Feuil1!$A$11:$F$29,2))))),IF(OR(H78=\"SEN\",H78<1995),VLOOKUP(I78,Feuil1!$G$11:$L$25,6),IF(AND(H78>1994,H78<1998),VLOOKUP(I78,Feuil1!$G$11:$L$25,5),IF(AND(H78>1997,H78<2000),VLOOKUP(I78,Feuil1!$G$11:$L$25,4),IF(AND(H78>1999,H78<2002),VLOOKUP(I78,Feuil1!$G$11:$L$25,3),VLOOKUP(I78,Feuil1!$G$11:$L$25,2)))))))","v":"FS53"},89.505522533800303,null," ",{"$f":"T78-HLOOKUP(X78,Feuil1!$C$1:$BL$10,2,FALSE)","v":-10},{"$f":"T78-HLOOKUP(X78,Feuil1!$C$1:$BL$10,3,FALSE)","v":-20},{"$f":"T78-HLOOKUP(X78,Feuil1!$C$1:$BL$10,4,FALSE)","v":-30},{"$f":"T78-HLOOKUP(X78,Feuil1!$C$1:$BL$10,5,FALSE)","v":-40},{"$f":"T78-HLOOKUP(X78,Feuil1!$C$1:$BL$10,6,FALSE)","v":-50},{"$f":"T78-HLOOKUP(X78,Feuil1!$C$1:$BL$10,7,FALSE)","v":-65},{"$f":"T78-HLOOKUP(X78,Feuil1!$C$1:$BL$10,8,FALSE)","v":-85},{"$f":"T78-HLOOKUP(X78,Feuil1!$C$1:$BL$10,9,FALSE)","v":-105},{"$f":"T78-HLOOKUP(X78,Feuil1!$C$1:$BL$10,10,FALSE)","v":-120},null,null,null,null,null,null,"DEB "]
["F","NE","FCO",52,374245,"PATTE","Mélisande",1987,51.5,"CH Luxeuil","F",19,-22,22,22,28,-31,31,31,53,-50,"DEB ",-12,{"$f":"IF(I79=\"\",\"\",IF(A79=\"H\",IF(OR(H79=\"SEN\",H79<1995),VLOOKUP(I79,Feuil1!$A$11:$F$29,6),IF(AND(H79>1994,H79<1998),VLOOKUP(I79,Feuil1!$A$11:$F$29,5),IF(AND(H79>1997,H79<2000),VLOOKUP(I79,Feuil1!$A$11:$F$29,4),IF(AND(H79>1999,H79<2002),VLOOKUP(I79,Feuil1!$A$11:$F$29,3),VLOOKUP(I79,Feuil1!$A$11:$F$29,2))))),IF(OR(H79=\"SEN\",H79<1995),VLOOKUP(I79,Feuil1!$G$11:$L$25,6),IF(AND(H79>1994,H79<1998),VLOOKUP(I79,Feuil1!$G$11:$L$25,5),IF(AND(H79>1997,H79<2000),VLOOKUP(I79,Feuil1!$G$11:$L$25,4),IF(AND(H79>1999,H79<2002),VLOOKUP(I79,Feuil1!$G$11:$L$25,3),VLOOKUP(I79,Feuil1!$G$11:$L$25,2)))))))","v":"FS53"},81.832414055582419,null," ",{"$f":"T79-HLOOKUP(X79,Feuil1!$C$1:$BL$10,2,FALSE)","v":-12},{"$f":"T79-HLOOKUP(X79,Feuil1!$C$1:$BL$10,3,FALSE)","v":-22},{"$f":"T79-HLOOKUP(X79,Feuil1!$C$1:$BL$10,4,FALSE)","v":-32},{"$f":"T79-HLOOKUP(X79,Feuil1!$C$1:$BL$10,5,FALSE)","v":-42},{"$f":"T79-HLOOKUP(X79,Feuil1!$C$1:$BL$10,6,FALSE)","v":-52},{"$f":"T79-HLOOKUP(X79,Feuil1!$C$1:$BL$10,7,FALSE)","v":-67},{"$f":"T79-HLOOKUP(X79,Feuil1!$C$1:$BL$10,8,FALSE)","v":-87},{"$f":"T79-HLOOKUP(X79,Feuil1!$C$1:$BL$10,9,FALSE)","v":-107},{"$f":"T79-HLOOKUP(X79,Feuil1!$C$1:$BL$10,10,FALSE)","v":-122},null,null,null,null,null,null,"DEB "]
["F","CO","PDL",53,380413,"CALVEZ","Mélanie",1980,48.84,"Saint Herblain","F",17,19,20,20,24,27,30,30,50,-47.680000000000007,"DEB ",-15,{"$f":"IF(I80=\"\",\"\",IF(A80=\"H\",IF(OR(H80=\"SEN\",H80<1995),VLOOKUP(I80,Feuil1!$A$11:$F$29,6),IF(AND(H80>1994,H80<1998),VLOOKUP(I80,Feuil1!$A$11:$F$29,5),IF(AND(H80>1997,H80<2000),VLOOKUP(I80,Feuil1!$A$11:$F$29,4),IF(AND(H80>1999,H80<2002),VLOOKUP(I80,Feuil1!$A$11:$F$29,3),VLOOKUP(I80,Feuil1!$A$11:$F$29,2))))),IF(OR(H80=\"SEN\",H80<1995),VLOOKUP(I80,Feuil1!$G$11:$L$25,6),IF(AND(H80>1994,H80<1998),VLOOKUP(I80,Feuil1!$G$11:$L$25,5),IF(AND(H80>1997,H80<2000),VLOOKUP(I80,Feuil1!$G$11:$L$25,4),IF(AND(H80>1999,H80<2002),VLOOKUP(I80,Feuil1!$G$11:$L$25,3),VLOOKUP(I80,Feuil1!$G$11:$L$25,2)))))))","v":"FS53"},80.732207823159129,null," ",{"$f":"T80-HLOOKUP(X80,Feuil1!$C$1:$BL$10,2,FALSE)","v":-15},{"$f":"T80-HLOOKUP(X80,Feuil1!$C$1:$BL$10,3,FALSE)","v":-25},{"$f":"T80-HLOOKUP(X80,Feuil1!$C$1:$BL$10,4,FALSE)","v":-35},{"$f":"T80-HLOOKUP(X80,Feuil1!$C$1:$BL$10,5,FALSE)","v":-45},{"$f":"T80-HLOOKUP(X80,Feuil1!$C$1:$BL$10,6,FALSE)","v":-55},{"$f":"T80-HLOOKUP(X80,Feuil1!$C$1:$BL$10,7,FALSE)","v":-70},{"$f":"T80-HLOOKUP(X80,Feuil1!$C$1:$BL$10,8,FALSE)","v":-90},{"$f":"T80-HLOOKUP(X80,Feuil1!$C$1:$BL$10,9,FALSE)","v":-110},{"$f":"T80-HLOOKUP(X80,Feuil1!$C$1:$BL$10,10,FALSE)","v":-125},null,null,null,null,null,null,"DEB "]
["F","CO","PDL",54,354035,"MADEC","Cecile",1983,51.75,"Saint Herblain","F",12,18,19,19,20,24,26,26,45,-58.5,"DEB ",-20,{"$f":"IF(I81=\"\",\"\",IF(A81=\"H\",IF(OR(H81=\"SEN\",H81<1995),VLOOKUP(I81,Feuil1!$A$11:$F$29,6),IF(AND(H81>1994,H81<1998),VLOOKUP(I81,Feuil1!$A$11:$F$29,5),IF(AND(H81>1997,H81<2000),VLOOKUP(I81,Feuil1!$A$11:$F$29,4),IF(AND(H81>1999,H81<2002),VLOOKUP(I81,Feuil1!$A$11:$F$29,3),VLOOKUP(I81,Feuil1!$A$11:$F$29,2))))),IF(OR(H81=\"SEN\",H81<1995),VLOOKUP(I81,Feuil1!$G$11:$L$25,6),IF(AND(H81>1994,H81<1998),VLOOKUP(I81,Feuil1!$G$11:$L$25,5),IF(AND(H81>1997,H81<2000),VLOOKUP(I81,Feuil1!$G$11:$L$25,4),IF(AND(H81>1999,H81<2002),VLOOKUP(I81,Feuil1!$G$11:$L$25,3),VLOOKUP(I81,Feuil1!$G$11:$L$25,2)))))))","v":"FS53"},69.204675006906712,null," ",{"$f":"T81-HLOOKUP(X81,Feuil1!$C$1:$BL$10,2,FALSE)","v":-20},{"$f":"T81-HLOOKUP(X81,Feuil1!$C$1:$BL$10,3,FALSE)","v":-30},{"$f":"T81-HLOOKUP(X81,Feuil1!$C$1:$BL$10,4,FALSE)","v":-40},{"$f":"T81-HLOOKUP(X81,Feuil1!$C$1:$BL$10,5,FALSE)","v":-50},{"$f":"T81-HLOOKUP(X81,Feuil1!$C$1:$BL$10,6,FALSE)","v":-60},{"$f":"T81-HLOOKUP(X81,Feuil1!$C$1:$BL$10,7,FALSE)","v":-75},{"$f":"T81-HLOOKUP(X81,Feuil1!$C$1:$BL$10,8,FALSE)","v":-95},{"$f":"T81-HLOOKUP(X81,Feuil1!$C$1:$BL$10,9,FALSE)","v":-115},{"$f":"T81-HLOOKUP(X81,Feuil1!$C$1:$BL$10,10,FALSE)","v":-130},null,null,null,null,null,null,"DEB "]
["F","NORD","NPC",55,389914,"KICHOU","Nasséra",1974,52.8,"LOMME","F",13,16,19,19,-22,22,-25,22,41,-64.599999999999994,"DEB ",-24,{"$f":"IF(I82=\"\",\"\",IF(A82=\"H\",IF(OR(H82=\"SEN\",H82<1995),VLOOKUP(I82,Feuil1!$A$11:$F$29,6),IF(AND(H82>1994,H82<1998),VLOOKUP(I82,Feuil1!$A$11:$F$29,5),IF(AND(H82>1997,H82<2000),VLOOKUP(I82,Feuil1!$A$11:$F$29,4),IF(AND(H82>1999,H82<2002),VLOOKUP(I82,Feuil1!$A$11:$F$29,3),VLOOKUP(I82,Feuil1!$A$11:$F$29,2))))),IF(OR(H82=\"SEN\",H82<1995),VLOOKUP(I82,Feuil1!$G$11:$L$25,6),IF(AND(H82>1994,H82<1998),VLOOKUP(I82,Feuil1!$G$11:$L$25,5),IF(AND(H82>1997,H82<2000),VLOOKUP(I82,Feuil1!$G$11:$L$25,4),IF(AND(H82>1999,H82<2002),VLOOKUP(I82,Feuil1!$G$11:$L$25,3),VLOOKUP(I82,Feuil1!$G$11:$L$25,2)))))))","v":"FS53"},62.03400949410608,null," ",{"$f":"T82-HLOOKUP(X82,Feuil1!$C$1:$BL$10,2,FALSE)","v":-24},{"$f":"T82-HLOOKUP(X82,Feuil1!$C$1:$BL$10,3,FALSE)","v":-34},{"$f":"T82-HLOOKUP(X82,Feuil1!$C$1:$BL$10,4,FALSE)","v":-44},{"$f":"T82-HLOOKUP(X82,Feuil1!$C$1:$BL$10,5,FALSE)","v":-54},{"$f":"T82-HLOOKUP(X82,Feuil1!$C$1:$BL$10,6,FALSE)","v":-64},{"$f":"T82-HLOOKUP(X82,Feuil1!$C$1:$BL$10,7,FALSE)","v":-79},{"$f":"T82-HLOOKUP(X82,Feuil1!$C$1:$BL$10,8,FALSE)","v":-99},{"$f":"T82-HLOOKUP(X82,Feuil1!$C$1:$BL$10,9,FALSE)","v":-119},{"$f":"T82-HLOOKUP(X82,Feuil1!$C$1:$BL$10,10,FALSE)","v":-134},null,null,null,null,null,null,"DEB "]
[null,null,null,null,null,null,null,null,null,null,null,null,null,null,null,null,null,null,null,null,null,null,null,null,null,null," ",{"$f":"T83-HLOOKUP(X83,[1]Feuil1!$C$1:$BL$10,2,FALSE)","v":{"$error":"#N/A"}},{"$f":"T83-HLOOKUP(X83,[1]Feuil1!$C$1:$BL$10,3,FALSE)","v":{"$error":"#N/A"}},{"$f":"T83-HLOOKUP(X83,[1]Feuil1!$C$1:$BL$10,4,FALSE)","v":{"$error":"#N/A"}},{"$f":"T83-HLOOKUP(X83,[1]Feuil1!$C$1:$BL$10,5,FALSE)","v":{"$error":"#N/A"}},{"$f":"T83-HLOOKUP(X83,[1]Feuil1!$C$1:$BL$10,6,FALSE)","v":{"$error":"#N/A"}},{"$f":"T83-HLOOKUP(X83,[1]Feuil1!$C$1:$BL$10,7,FALSE)","v":{"$error":"#N/A"}},{"$f":"T83-HLOOKUP(X83,[1]Feuil1!$C$1:$BL$10,8,FALSE)","v":{"$error":"#N/A"}},{"$f":"T83-HLOOKUP(X83,[1]Feuil1!$C$1:$BL$10,9,FALSE)","v":{"$error":"#N/A"}},{"$f":"T83-HLOOKUP(X83,[1]Feuil1!$C$1:$BL$10,10,FALSE)","v":{"$error":"#N/A"}},null,null,null,null,null,null,{"$f":"IF(AJ83>=0,$AJ$4,IF(AI83>=0,$AI$4,IF(AH83>=0,$AH$4,IF(AG83>=0,$AG$4,IF(AF83>=0,$AF$4,IF(AE83>=0,$AE$4,IF(AD83>=0,$AD$4,IF(AC83>=0,$AC$4,$AB$4))))))))","v":{"$error":"#N/A"}}]
["F","N","IDF",1,357827,"IVANOVA","MAYA",1991,55.9,"BLANC MESNIL","Bul",72,77,-80,{"$f":"IF(H84=\"\",\"\",IF(MAXA(L84:N84)<=0,0,MAXA(L84:N84)))","v":77},95,98,100,{"$f":"IF(H84=\"\",\"\",IF(MAXA(P84:R84)<=0,0,MAXA(P84:R84)))","v":100},{"$f":"IF(H84=\"\",\"\",IF(OR(O84=0,S84=0),0,O84+S84))","v":177},{"$f":"T84-I84*2","v":65.2},{"$f":"IF(H84=\"\",\"\",AQ84)","v":"INTA +"},{"$f":"IF(AJ84>=0,AJ84,IF(AI84>=0,AI84,IF(AH84>=0,AH84,IF(AG84>=0,AG84,IF(AF84>=0,AF84,IF(AE84>=0,AE84,IF(AD84>=0,AD84,IF(AC84>=0,AC84,AB84))))))))","v":7},{"$f":"IF(I84=\"\",\"\",IF(A84=\"H\",IF(OR(H84=\"SEN\",H84<1995),VLOOKUP(I84,Feuil1!$A$11:$F$29,6),IF(AND(H84>1994,H84<1998),VLOOKUP(I84,Feuil1!$A$11:$F$29,5),IF(AND(H84>1997,H84<2000),VLOOKUP(I84,Feuil1!$A$11:$F$29,4),IF(AND(H84>1999,H84<2002),VLOOKUP(I84,Feuil1!$A$11:$F$29,3),VLOOKUP(I84,Feuil1!$A$11:$F$29,2))))),IF(OR(H84=\"SEN\",H84<1995),VLOOKUP(I84,Feuil1!$G$11:$L$25,6),IF(AND(H84>1994,H84<1998),VLOOKUP(I84,Feuil1!$G$11:$L$25,5),IF(AND(H84>1997,H84<2000),VLOOKUP(I84,Feuil1!$G$11:$L$25,4),IF(AND(H84>1999,H84<2002),VLOOKUP(I84,Feuil1!$G$11:$L$25,3),VLOOKUP(I84,Feuil1!$G$11:$L$25,2)))))))","v":"FS58"},{"$f":"IF(I84=\"\",\"\",IF(A84=\"H\",10^(0.794358141*LOG(I84/174.393)^2)*T84,IF(A84=\"F\",10^(0.89726074*LOG(I84/148.026)^2)*T84,\"\")))","v":256.13163081317765},null," ",{"$f":"T84-HLOOKUP(X84,Feuil1!$C$1:$BL$10,2,FALSE)","v":107},{"$f":"T84-HLOOKUP(X84,Feuil1!$C$1:$BL$10,3,FALSE)","v":97},{"$f":"T84-HLOOKUP(X84,Feuil1!$C$1:$BL$10,4,FALSE)","v":87},{"$f":"T84-HLOOKUP(X84,Feuil1!$C$1:$BL$10,5,FALSE)","v":77},{"$f":"T84-HLOOKUP(X84,Feuil1!$C$1:$BL$10,6,FALSE)","v":62},{"$f":"T84-HLOOKUP(X84,Feuil1!$C$1:$BL$10,7,FALSE)","v":47},{"$f":"T84-HLOOKUP(X84,Feuil1!$C$1:$BL$10,8,FALSE)","v":27},{"$f":"T84-HLOOKUP(X84,Feuil1!$C$1:$BL$10,9,FALSE)","v":7},{"$f":"T84-HLOOKUP(X84,Feuil1!$C$1:$BL$10,10,FALSE)","v":-13},null,null,null,null,null,null,{"$f":"IF(AJ84>=0,$AJ$4,IF(AI84>=0,$AI$4,IF(AH84>=0,$AH$4,IF(AG84>=0,$AG$4,IF(AF84>=0,$AF$4,IF(AE84>=0,$AE$4,IF(AD84>=0,$AD$4,IF(AC84>=0,$AC$4,$AB$4))))))))","v":"INTA +"}]
["F","SO","MPY",2,264816,"LABRUNIE","Elise",1988,56.9,"TOULOUSE HC","F",69,73,76,76,88,92,94,94,170,56.2,"INTA +",0,{"$f":"IF(I85=\"\",\"\",IF(A85=\"H\",IF(OR(H85=\"SEN\",H85<1995),VLOOKUP(I85,Feuil1!$A$11:$F$29,6),IF(AND(H85>1994,H85<1998),VLOOKUP(I85,Feuil1!$A$11:$F$29,5),IF(AND(H85>1997,H85<2000),VLOOKUP(I85,Feuil1!$A$11:$F$29,4),IF(AND(H85>1999,H85<2002),VLOOKUP(I85,Feuil1!$A$11:$F$29,3),VLOOKUP(I85,Feuil1!$A$11:$F$29,2))))),IF(OR(H85=\"SEN\",H85<1995),VLOOKUP(I85,Feuil1!$G$11:$L$25,6),IF(AND(H85>1994,H85<1998),VLOOKUP(I85,Feuil1!$G$11:$L$25,5),IF(AND(H85>1997,H85<2000),VLOOKUP(I85,Feuil1!$G$11:$L$25,4),IF(AND(H85>1999,H85<2002),VLOOKUP(I85,Feuil1!$G$11:$L$25,3),VLOOKUP(I85,Feuil1!$G$11:$L$25,2)))))))","v":"FS58"},242.74361236253478,null," ",{"$f":"T85-HLOOKUP(X85,Feuil1!$C$1:$BL$10,2,FALSE)","v":100},{"$f":"T85-HLOOKUP(X85,Feuil1!$C$1:$BL$10,3,FALSE)","v":90},{"$f":"T85-HLOOKUP(X85,Feuil1!$C$1:$BL$10,4,FALSE)","v":80},{"$f":"T85-HLOOKUP(X85,Feuil1!$C$1:$BL$10,5,FALSE)","v":70},{"$f":"T85-HLOOKUP(X85,Feuil1!$C$1:$BL$10,6,FALSE)","v":55},{"$f":"T85-HLOOKUP(X85,Feuil1!$C$1:$BL$10,7,FALSE)","v":40},{"$f":"T85-HLOOKUP(X85,Feuil1!$C$1:$BL$10,8,FALSE)","v":20},{"$f":"T85-HLOOKUP(X85,Feuil1!$C$1:$BL$10,9,FALSE)","v":0},{"$f":"T85-HLOOKUP(X85,Feuil1!$C$1:$BL$10,10,FALSE)","v":-20},null,null,null,null,null,null,"INTA +"]
["F","NORD","PIC",3,32268,"ANDRIEUX","Virginie",1980,55.7,"La Ferté Milon CMHM","F",68,72,74,74,89,94,-100,94,168,56.599999999999994,"INTB +",18,{"$f":"IF(I86=\"\",\"\",IF(A86=\"H\",IF(OR(H86=\"SEN\",H86<1995),VLOOKUP(I86,Feuil1!$A$11:$F$29,6),IF(AND(H86>1994,H86<1998),VLOOKUP(I86,Feuil1!$A$11:$F$29,5),IF(AND(H86>1997,H86<2000),VLOOKUP(I86,Feuil1!$A$11:$F$29,4),IF(AND(H86>1999,H86<2002),VLOOKUP(I86,Feuil1!$A$11:$F$29,3),VLOOKUP(I86,Feuil1!$A$11:$F$29,2))))),IF(OR(H86=\"SEN\",H86<1995),VLOOKUP(I86,Feuil1!$G$11:$L$25,6),IF(AND(H86>1994,H86<1998),VLOOKUP(I86,Feuil1!$G$11:$L$25,5),IF(AND(H86>1997,H86<2000),VLOOKUP(I86,Feuil1!$G$11:$L$25,4),IF(AND(H86>1999,H86<2002),VLOOKUP(I86,Feuil1!$G$11:$L$25,3),VLOOKUP(I86,Feuil1!$G$11:$L$25,2)))))))","v":"FS58"},243.77142474375978,null," ",{"$f":"T86-HLOOKUP(X86,Feuil1!$C$1:$BL$10,2,FALSE)","v":98},{"$f":"T86-HLOOKUP(X86,Feuil1!$C$1:$BL$10,3,FALSE)","v":88},{"$f":"T86-HLOOKUP(X86,Feuil1!$C$1:$BL$10,4,FALSE)","v":78},{"$f":"T86-HLOOKUP(X86,Feuil1!$C$1:$BL$10,5,FALSE)","v":68},{"$f":"T86-HLOOKUP(X86,Feuil1!$C$1:$BL$10,6,FALSE)","v":53},{"$f":"T86-HLOOKUP(X86,Feuil1!$C$1:$BL$10,7,FALSE)","v":38},{"$f":"T86-HLOOKUP(X86,Feuil1!$C$1:$BL$10,8,FALSE)","v":18},{"$f":"T86-HLOOKUP(X86,Feuil1!$C$1:$BL$10,9,FALSE)","v":-2},{"$f":"T86-HLOOKUP(X86,Feuil1!$C$1:$BL$10,10,FALSE)","v":-22},null,null,null,null,null,null,"INTB +"]
["F","CO","CEN",4,317302,"BAKAM TRUCHE","Pilar",1988,57.8,"CM Orléans","Cam",55,60," -",60,"70 75"," -",100,100,160,44.400000000000006,"INTB +",10,{"$f":"IF(I87=\"\",\"\",IF(A87=\"H\",IF(OR(H87=\"SEN\",H87<1995),VLOOKUP(I87,Feuil1!$A$11:$F$29,6),IF(AND(H87>1994,H87<1998),VLOOKUP(I87,Feuil1!$A$11:$F$29,5),IF(AND(H87>1997,H87<2000),VLOOKUP(I87,Feuil1!$A$11:$F$29,4),IF(AND(H87>1999,H87<2002),VLOOKUP(I87,Feuil1!$A$11:$F$29,3),VLOOKUP(I87,Feuil1!$A$11:$F$29,2))))),IF(OR(H87=\"SEN\",H87<1995),VLOOKUP(I87,Feuil1!$G$11:$L$25,6),IF(AND(H87>1994,H87<1998),VLOOKUP(I87,Feuil1!$G$11:$L$25,5),IF(AND(H87>1997,H87<2000),VLOOKUP(I87,Feuil1!$G$11:$L$25,4),IF(AND(H87>1999,H87<2002),VLOOKUP(I87,Feuil1!$G$11:$L$25,3),VLOOKUP(I87,Feuil1!$G$11:$L$25,2)))))))","v":"FS58"},225.83021810855359,null," ",{"$f":"T87-HLOOKUP(X87,Feuil1!$C$1:$BL$10,2,FALSE)","v":90},{"$f":"T87-HLOOKUP(X87,Feuil1!$C$1:$BL$10,3,FALSE)","v":80},{"$f":"T87-HLOOKUP(X87,Feuil1!$C$1:$BL$10,4,FALSE)","v":70},{"$f":"T87-HLOOKUP(X87,Feuil1!$C$1:$BL$10,5,FALSE)","v":60},{"$f":"T87-HLOOKUP(X87,Feuil1!$C$1:$BL$10,6,FALSE)","v":45},{"$f":"T87-HLOOKUP(X87,Feuil1!$C$1:$BL$10,7,FALSE)","v":30},{"$f":"T87-HLOOKUP(X87,Feuil1!$C$1:$BL$10,8,FALSE)","v":10},{"$f":"T87-HLOOKUP(X87,Feuil1!$C$1:$BL$10,9,FALSE)","v":-10},{"$f":"T87-HLOOKUP(X87,Feuil1!$C$1:$BL$10,10,FALSE)","v":-30},null,null,null,null,null,null,"INTB +"]
["F","SEST","PRO",5,245793,"SIMEONOV","Sevginar",1990,57.2,"EEAR MONTEUX","Bul",62,65,67,67,77,81,84,84,151,36.599999999999994,"INTB +",1,{"$f":"IF(I88=\"\",\"\",IF(A88=\"H\",IF(OR(H88=\"SEN\",H88<1995),VLOOKUP(I88,Feuil1!$A$11:$F$29,6),IF(AND(H88>1994,H88<1998),VLOOKUP(I88,Feuil1!$A$11:$F$29,5),IF(AND(H88>1997,H88<2000),VLOOKUP(I88,Feuil1!$A$11:$F$29,4),IF(AND(H88>1999,H88<2002),VLOOKUP(I88,Feuil1!$A$11:$F$29,3),VLOOKUP(I88,Feuil1!$A$11:$F$29,2))))),IF(OR(H88=\"SEN\",H88<1995),VLOOKUP(I88,Feuil1!$G$11:$L$25,6),IF(AND(H88>1994,H88<1998),VLOOKUP(I88,Feuil1!$G$11:$L$25,5),IF(AND(H88>1997,H88<2000),VLOOKUP(I88,Feuil1!$G$11:$L$25,4),IF(AND(H88>1999,H88<2002),VLOOKUP(I88,Feuil1!$G$11:$L$25,3),VLOOKUP(I88,Feuil1!$G$11:$L$25,2)))))))","v":"FS58"},214.7725694504264,null," ",{"$f":"T88-HLOOKUP(X88,Feuil1!$C$1:$BL$10,2,FALSE)","v":81},{"$f":"T88-HLOOKUP(X88,Feuil1!$C$1:$BL$10,3,FALSE)","v":71},{"$f":"T88-HLOOKUP(X88,Feuil1!$C$1:$BL$10,4,FALSE)","v":61},{"$f":"T88-HLOOKUP(X88,Feuil1!$C$1:$BL$10,5,FALSE)","v":51},{"$f":"T88-HLOOKUP(X88,Feuil1!$C$1:$BL$10,6,FALSE)","v":36},{"$f":"T88-HLOOKUP(X88,Feuil1!$C$1:$BL$10,7,FALSE)","v":21},{"$f":"T88-HLOOKUP(X88,Feuil1!$C$1:$BL$10,8,FALSE)","v":1},{"$f":"T88-HLOOKUP(X88,Feuil1!$C$1:$BL$10,9,FALSE)","v":-19},{"$f":"T88-HLOOKUP(X88,Feuil1!$C$1:$BL$10,10,FALSE)","v":-39},null,null,null,null,null,null,"INTB +"]
["F","NE","ALS",6,191152,"ESTNER","SARAH",1994,53.8,"US Wittenheim","F",62,65,67,67,80,83,-86,83,150,42.400000000000006,"INTB +",0,{"$f":"IF(I89=\"\",\"\",IF(A89=\"H\",IF(OR(H89=\"SEN\",H89<1995),VLOOKUP(I89,Feuil1!$A$11:$F$29,6),IF(AND(H89>1994,H89<1998),VLOOKUP(I89,Feuil1!$A$11:$F$29,5),IF(AND(H89>1997,H89<2000),VLOOKUP(I89,Feuil1!$A$11:$F$29,4),IF(AND(H89>1999,H89<2002),VLOOKUP(I89,Feuil1!$A$11:$F$29,3),VLOOKUP(I89,Feuil1!$A$11:$F$29,2))))),IF(OR(H89=\"SEN\",H89<1995),VLOOKUP(I89,Feuil1!$G$11:$L$25,6),IF(AND(H89>1994,H89<1998),VLOOKUP(I89,Feuil1!$G$11:$L$25,5),IF(AND(H89>1997,H89<2000),VLOOKUP(I89,Feuil1!$G$11:$L$25,4),IF(AND(H89>1999,H89<2002),VLOOKUP(I89,Feuil1!$G$11:$L$25,3),VLOOKUP(I89,Feuil1!$G$11:$L$25,2)))))))","v":"FS58"},223.58894303990417,null," ",{"$f":"T89-HLOOKUP(X89,Feuil1!$C$1:$BL$10,2,FALSE)","v":80},{"$f":"T89-HLOOKUP(X89,Feuil1!$C$1:$BL$10,3,FALSE)","v":70},{"$f":"T89-HLOOKUP(X89,Feuil1!$C$1:$BL$10,4,FALSE)","v":60},{"$f":"T89-HLOOKUP(X89,Feuil1!$C$1:$BL$10,5,FALSE)","v":50},{"$f":"T89-HLOOKUP(X89,Feuil1!$C$1:$BL$10,6,FALSE)","v":35},{"$f":"T89-HLOOKUP(X89,Feuil1!$C$1:$BL$10,7,FALSE)","v":20},{"$f":"T89-HLOOKUP(X89,Feuil1!$C$1:$BL$10,8,FALSE)","v":0},{"$f":"T89-HLOOKUP(X89,Feuil1!$C$1:$BL$10,9,FALSE)","v":-20},{"$f":"T89-HLOOKUP(X89,Feuil1!$C$1:$BL$10,10,FALSE)","v":-40},null,null,null,null,null,null,"INTB +"]
["F","SEST","LAN ",7,375907,"SUNE ","Caroline",1985,58,"MGC Fabreguois","F",55,59,63,63,73,78,83,83,146,30,"NAT +",16,{"$f":"IF(I90=\"\",\"\",IF(A90=\"H\",IF(OR(H90=\"SEN\",H90<1995),VLOOKUP(I90,Feuil1!$A$11:$F$29,6),IF(AND(H90>1994,H90<1998),VLOOKUP(I90,Feuil1!$A$11:$F$29,5),IF(AND(H90>1997,H90<2000),VLOOKUP(I90,Feuil1!$A$11:$F$29,4),IF(AND(H90>1999,H90<2002),VLOOKUP(I90,Feuil1!$A$11:$F$29,3),VLOOKUP(I90,Feuil1!$A$11:$F$29,2))))),IF(OR(H90=\"SEN\",H90<1995),VLOOKUP(I90,Feuil1!$G$11:$L$25,6),IF(AND(H90>1994,H90<1998),VLOOKUP(I90,Feuil1!$G$11:$L$25,5),IF(AND(H90>1997,H90<2000),VLOOKUP(I90,Feuil1!$G$11:$L$25,4),IF(AND(H90>1999,H90<2002),VLOOKUP(I90,Feuil1!$G$11:$L$25,3),VLOOKUP(I90,Feuil1!$G$11:$L$25,2)))))))","v":"FS58"},205.5500001491404,null," ",{"$f":"T90-HLOOKUP(X90,Feuil1!$C$1:$BL$10,2,FALSE)","v":76},{"$f":"T90-HLOOKUP(X90,Feuil1!$C$1:$BL$10,3,FALSE)","v":66},{"$f":"T90-HLOOKUP(X90,Feuil1!$C$1:$BL$10,4,FALSE)","v":56},{"$f":"T90-HLOOKUP(X90,Feuil1!$C$1:$BL$10,5,FALSE)","v":46},{"$f":"T90-HLOOKUP(X90,Feuil1!$C$1:$BL$10,6,FALSE)","v":31},{"$f":"T90-HLOOKUP(X90,Feuil1!$C$1:$BL$10,7,FALSE)","v":16},{"$f":"T90-HLOOKUP(X90,Feuil1!$C$1:$BL$10,8,FALSE)","v":-4},{"$f":"T90-HLOOKUP(X90,Feuil1!$C$1:$BL$10,9,FALSE)","v":-24},{"$f":"T90-HLOOKUP(X90,Feuil1!$C$1:$BL$10,10,FALSE)","v":-44},null,null,null,null,null,null,"NAT +"]
["F","CO","BNO",8,32998,"FLEURY","Laura",1988,54.3,"Caen CHM","F",60,64,-66,64,74,78,80,80,144,35.400000000000006,"NAT +",14,{"$f":"IF(I91=\"\",\"\",IF(A91=\"H\",IF(OR(H91=\"SEN\",H91<1995),VLOOKUP(I91,Feuil1!$A$11:$F$29,6),IF(AND(H91>1994,H91<1998),VLOOKUP(I91,Feuil1!$A$11:$F$29,5),IF(AND(H91>1997,H91<2000),VLOOKUP(I91,Feuil1!$A$11:$F$29,4),IF(AND(H91>1999,H91<2002),VLOOKUP(I91,Feuil1!$A$11:$F$29,3),VLOOKUP(I91,Feuil1!$A$11:$F$29,2))))),IF(OR(H91=\"SEN\",H91<1995),VLOOKUP(I91,Feuil1!$G$11:$L$25,6),IF(AND(H91>1994,H91<1998),VLOOKUP(I91,Feuil1!$G$11:$L$25,5),IF(AND(H91>1997,H91<2000),VLOOKUP(I91,Feuil1!$G$11:$L$25,4),IF(AND(H91>1999,H91<2002),VLOOKUP(I91,Feuil1!$G$11:$L$25,3),VLOOKUP(I91,Feuil1!$G$11:$L$25,2)))))))","v":"FS58"},213.09194000035606,null," ",{"$f":"T91-HLOOKUP(X91,Feuil1!$C$1:$BL$10,2,FALSE)","v":74},{"$f":"T91-HLOOKUP(X91,Feuil1!$C$1:$BL$10,3,FALSE)","v":64},{"$f":"T91-HLOOKUP(X91,Feuil1!$C$1:$BL$10,4,FALSE)","v":54},{"$f":"T91-HLOOKUP(X91,Feuil1!$C$1:$BL$10,5,FALSE)","v":44},{"$f":"T91-HLOOKUP(X91,Feuil1!$C$1:$BL$10,6,FALSE)","v":29},{"$f":"T91-HLOOKUP(X91,Feuil1!$C$1:$BL$10,7,FALSE)","v":14},{"$f":"T91-HLOOKUP(X91,Feuil1!$C$1:$BL$10,8,FALSE)","v":-6},{"$f":"T91-HLOOKUP(X91,Feuil1!$C$1:$BL$10,9,FALSE)","v":-26},{"$f":"T91-HLOOKUP(X91,Feuil1!$C$1:$BL$10,10,FALSE)","v":-46},null,null,null,null,null,null,"NAT +"]
["F","NE","BOU",9,30097,"EYANGO","Delphine",1986,58,"HMDB21","F",58,61,63,63,73,-77,77,77,140,24,"NAT +",10,{"$f":"IF(I92=\"\",\"\",IF(A92=\"H\",IF(OR(H92=\"SEN\",H92<1995),VLOOKUP(I92,Feuil1!$A$11:$F$29,6),IF(AND(H92>1994,H92<1998),VLOOKUP(I92,Feuil1!$A$11:$F$29,5),IF(AND(H92>1997,H92<2000),VLOOKUP(I92,Feuil1!$A$11:$F$29,4),IF(AND(H92>1999,H92<2002),VLOOKUP(I92,Feuil1!$A$11:$F$29,3),VLOOKUP(I92,Feuil1!$A$11:$F$29,2))))),IF(OR(H92=\"SEN\",H92<1995),VLOOKUP(I92,Feuil1!$G$11:$L$25,6),IF(AND(H92>1994,H92<1998),VLOOKUP(I92,Feuil1!$G$11:$L$25,5),IF(AND(H92>1997,H92<2000),VLOOKUP(I92,Feuil1!$G$11:$L$25,4),IF(AND(H92>1999,H92<2002),VLOOKUP(I92,Feuil1!$G$11:$L$25,3),VLOOKUP(I92,Feuil1!$G$11:$L$25,2)))))))","v":"FS58"},197.10273986903874,null," ",{"$f":"T92-HLOOKUP(X92,Feuil1!$C$1:$BL$10,2,FALSE)","v":70},{"$f":"T92-HLOOKUP(X92,Feuil1!$C$1:$BL$10,3,FALSE)","v":60},{"$f":"T92-HLOOKUP(X92,Feuil1!$C$1:$BL$10,4,FALSE)","v":50},{"$f":"T92-HLOOKUP(X92,Feuil1!$C$1:$BL$10,5,FALSE)","v":40},{"$f":"T92-HLOOKUP(X92,Feuil1!$C$1:$BL$10,6,FALSE)","v":25},{"$f":"T92-HLOOKUP(X92,Feuil1!$C$1:$BL$10,7,FALSE)","v":10},{"$f":"T92-HLOOKUP(X92,Feuil1!$C$1:$BL$10,8,FALSE)","v":-10},{"$f":"T92-HLOOKUP(X92,Feuil1!$C$1:$BL$10,9,FALSE)","v":-30},{"$f":"T92-HLOOKUP(X92,Feuil1!$C$1:$BL$10,10,FALSE)","v":-50},null,null,null,null,null,null,"NAT +"]
["F","SEST","RAL",10,372599,"SAINT AIME","Sarah",1991,57.4,"VAULX EN VELIN ","F",55,-59,60,60,76,-79,79,79,139,24.200000000000003,"NAT +",9,{"$f":"IF(I93=\"\",\"\",IF(A93=\"H\",IF(OR(H93=\"SEN\",H93<1995),VLOOKUP(I93,Feuil1!$A$11:$F$29,6),IF(AND(H93>1994,H93<1998),VLOOKUP(I93,Feuil1!$A$11:$F$29,5),IF(AND(H93>1997,H93<2000),VLOOKUP(I93,Feuil1!$A$11:$F$29,4),IF(AND(H93>1999,H93<2002),VLOOKUP(I93,Feuil1!$A$11:$F$29,3),VLOOKUP(I93,Feuil1!$A$11:$F$29,2))))),IF(OR(H93=\"SEN\",H93<1995),VLOOKUP(I93,Feuil1!$G$11:$L$25,6),IF(AND(H93>1994,H93<1998),VLOOKUP(I93,Feuil1!$G$11:$L$25,5),IF(AND(H93>1997,H93<2000),VLOOKUP(I93,Feuil1!$G$11:$L$25,4),IF(AND(H93>1999,H93<2002),VLOOKUP(I93,Feuil1!$G$11:$L$25,3),VLOOKUP(I93,Feuil1!$G$11:$L$25,2)))))))","v":"FS58"},197.19478357172429,null," ",{"$f":"T93-HLOOKUP(X93,Feuil1!$C$1:$BL$10,2,FALSE)","v":69},{"$f":"T93-HLOOKUP(X93,Feuil1!$C$1:$BL$10,3,FALSE)","v":59},{"$f":"T93-HLOOKUP(X93,Feuil1!$C$1:$BL$10,4,FALSE)","v":49},{"$f":"T93-HLOOKUP(X93,Feuil1!$C$1:$BL$10,5,FALSE)","v":39},{"$f":"T93-HLOOKUP(X93,Feuil1!$C$1:$BL$10,6,FALSE)","v":24},{"$f":"T93-HLOOKUP(X93,Feuil1!$C$1:$BL$10,7,FALSE)","v":9},{"$f":"T93-HLOOKUP(X93,Feuil1!$C$1:$BL$10,8,FALSE)","v":-11},{"$f":"T93-HLOOKUP(X93,Feuil1!$C$1:$BL$10,9,FALSE)","v":-31},{"$f":"T93-HLOOKUP(X93,Feuil1!$C$1:$BL$10,10,FALSE)","v":-51},null,null,null,null,null,null,"NAT +"]
["F","SO","MPY",11,326408,"GARGAGLI","Marine",1993,57.5,"TOULOUSE HC","F",60,63,65,65,-74,74,-78,74,139,24,"NAT +",9,{"$f":"IF(I94=\"\",\"\",IF(A94=\"H\",IF(OR(H94=\"SEN\",H94<1995),VLOOKUP(I94,Feuil1!$A$11:$F$29,6),IF(AND(H94>1994,H94<1998),VLOOKUP(I94,Feuil1!$A$11:$F$29,5),IF(AND(H94>1997,H94<2000),VLOOKUP(I94,Feuil1!$A$11:$F$29,4),IF(AND(H94>1999,H94<2002),VLOOKUP(I94,Feuil1!$A$11:$F$29,3),VLOOKUP(I94,Feuil1!$A$11:$F$29,2))))),IF(OR(H94=\"SEN\",H94<1995),VLOOKUP(I94,Feuil1!$G$11:$L$25,6),IF(AND(H94>1994,H94<1998),VLOOKUP(I94,Feuil1!$G$11:$L$25,5),IF(AND(H94>1997,H94<2000),VLOOKUP(I94,Feuil1!$G$11:$L$25,4),IF(AND(H94>1999,H94<2002),VLOOKUP(I94,Feuil1!$G$11:$L$25,3),VLOOKUP(I94,Feuil1!$G$11:$L$25,2)))))))","v":"FS58"},196.94175587409836,null," ",{"$f":"T94-HLOOKUP(X94,Feuil1!$C$1:$BL$10,2,FALSE)","v":69},{"$f":"T94-HLOOKUP(X94,Feuil1!$C$1:$BL$10,3,FALSE)","v":59},{"$f":"T94-HLOOKUP(X94,Feuil1!$C$1:$BL$10,4,FALSE)","v":49},{"$f":"T94-HLOOKUP(X94,Feuil1!$C$1:$BL$10,5,FALSE)","v":39},{"$f":"T94-HLOOKUP(X94,Feuil1!$C$1:$BL$10,6,FALSE)","v":24},{"$f":"T94-HLOOKUP(X94,Feuil1!$C$1:$BL$10,7,FALSE)","v":9},{"$f":"T94-HLOOKUP(X94,Feuil1!$C$1:$BL$10,8,FALSE)","v":-11},{"$f":"T94-HLOOKUP(X94,Feuil1!$C$1:$BL$10,9,FALSE)","v":-31},{"$f":"T94-HLOOKUP(X94,Feuil1!$C$1:$BL$10,10,FALSE)","v":-51},null,null,null,null,null,null,"NAT +"]
["F","SEST","CAZ",12,377635,"GABBIANI","Celia",1990,57.3,"AS MONACO","F",60,-63,63,63,73,-75,-75,73,136,21.400000000000006,"NAT +",6,{"$f":"IF(I95=\"\",\"\",IF(A95=\"H\",IF(OR(H95=\"SEN\",H95<1995),VLOOKUP(I95,Feuil1!$A$11:$F$29,6),IF(AND(H95>1994,H95<1998),VLOOKUP(I95,Feuil1!$A$11:$F$29,5),IF(AND(H95>1997,H95<2000),VLOOKUP(I95,Feuil1!$A$11:$F$29,4),IF(AND(H95>1999,H95<2002),VLOOKUP(I95,Feuil1!$A$11:$F$29,3),VLOOKUP(I95,Feuil1!$A$11:$F$29,2))))),IF(OR(H95=\"SEN\",H95<1995),VLOOKUP(I95,Feuil1!$G$11:$L$25,6),IF(AND(H95>1994,H95<1998),VLOOKUP(I95,Feuil1!$G$11:$L$25,5),IF(AND(H95>1997,H95<2000),VLOOKUP(I95,Feuil1!$G$11:$L$25,4),IF(AND(H95>1999,H95<2002),VLOOKUP(I95,Feuil1!$G$11:$L$25,3),VLOOKUP(I95,Feuil1!$G$11:$L$25,2)))))))","v":"FS58"},193.18755566539045,null," ",{"$f":"T95-HLOOKUP(X95,Feuil1!$C$1:$BL$10,2,FALSE)","v":66},{"$f":"T95-HLOOKUP(X95,Feuil1!$C$1:$BL$10,3,FALSE)","v":56},{"$f":"T95-HLOOKUP(X95,Feuil1!$C$1:$BL$10,4,FALSE)","v":46},{"$f":"T95-HLOOKUP(X95,Feuil1!$C$1:$BL$10,5,FALSE)","v":36},{"$f":"T95-HLOOKUP(X95,Feuil1!$C$1:$BL$10,6,FALSE)","v":21},{"$f":"T95-HLOOKUP(X95,Feuil1!$C$1:$BL$10,7,FALSE)","v":6},{"$f":"T95-HLOOKUP(X95,Feuil1!$C$1:$BL$10,8,FALSE)","v":-14},{"$f":"T95-HLOOKUP(X95,Feuil1!$C$1:$BL$10,9,FALSE)","v":-34},{"$f":"T95-HLOOKUP(X95,Feuil1!$C$1:$BL$10,10,FALSE)","v":-54},null,null,null,null,null,null,"NAT +"]
["F","ZCO","BRE",13,66154,"TROUDET","Annabelle",1974,55,"Vannes AC","F",56,59,61,61,68,71,73,73,134,24,"NAT +",4,{"$f":"IF(I96=\"\",\"\",IF(A96=\"H\",IF(OR(H96=\"SEN\",H96<1995),VLOOKUP(I96,Feuil1!$A$11:$F$29,6),IF(AND(H96>1994,H96<1998),VLOOKUP(I96,Feuil1!$A$11:$F$29,5),IF(AND(H96>1997,H96<2000),VLOOKUP(I96,Feuil1!$A$11:$F$29,4),IF(AND(H96>1999,H96<2002),VLOOKUP(I96,Feuil1!$A$11:$F$29,3),VLOOKUP(I96,Feuil1!$A$11:$F$29,2))))),IF(OR(H96=\"SEN\",H96<1995),VLOOKUP(I96,Feuil1!$G$11:$L$25,6),IF(AND(H96>1994,H96<1998),VLOOKUP(I96,Feuil1!$G$11:$L$25,5),IF(AND(H96>1997,H96<2000),VLOOKUP(I96,Feuil1!$G$11:$L$25,4),IF(AND(H96>1999,H96<2002),VLOOKUP(I96,Feuil1!$G$11:$L$25,3),VLOOKUP(I96,Feuil1!$G$11:$L$25,2)))))))","v":"FS58"},196.33117288109375,null," ",{"$f":"T96-HLOOKUP(X96,Feuil1!$C$1:$BL$10,2,FALSE)","v":64},{"$f":"T96-HLOOKUP(X96,Feuil1!$C$1:$BL$10,3,FALSE)","v":54},{"$f":"T96-HLOOKUP(X96,Feuil1!$C$1:$BL$10,4,FALSE)","v":44},{"$f":"T96-HLOOKUP(X96,Feuil1!$C$1:$BL$10,5,FALSE)","v":34},{"$f":"T96-HLOOKUP(X96,Feuil1!$C$1:$BL$10,6,FALSE)","v":19},{"$f":"T96-HLOOKUP(X96,Feuil1!$C$1:$BL$10,7,FALSE)","v":4},{"$f":"T96-HLOOKUP(X96,Feuil1!$C$1:$BL$10,8,FALSE)","v":-16},{"$f":"T96-HLOOKUP(X96,Feuil1!$C$1:$BL$10,9,FALSE)","v":-36},{"$f":"T96-HLOOKUP(X96,Feuil1!$C$1:$BL$10,10,FALSE)","v":-56},null,null,null,null,null,null,"NAT +"]
["F","SEST","PRO",14,112257,"CONDE ","Fabienne",1985,57.85,"ISTRES SPORTS","F",56,-58,-58,56,74,-78,78,78,134,18.299999999999997,"NAT +",4,{"$f":"IF(I97=\"\",\"\",IF(A97=\"H\",IF(OR(H97=\"SEN\",H97<1995),VLOOKUP(I97,Feuil1!$A$11:$F$29,6),IF(AND(H97>1994,H97<1998),VLOOKUP(I97,Feuil1!$A$11:$F$29,5),IF(AND(H97>1997,H97<2000),VLOOKUP(I97,Feuil1!$A$11:$F$29,4),IF(AND(H97>1999,H97<2002),VLOOKUP(I97,Feuil1!$A$11:$F$29,3),VLOOKUP(I97,Feuil1!$A$11:$F$29,2))))),IF(OR(H97=\"SEN\",H97<1995),VLOOKUP(I97,Feuil1!$G$11:$L$25,6),IF(AND(H97>1994,H97<1998),VLOOKUP(I97,Feuil1!$G$11:$L$25,5),IF(AND(H97>1997,H97<2000),VLOOKUP(I97,Feuil1!$G$11:$L$25,4),IF(AND(H97>1999,H97<2002),VLOOKUP(I97,Feuil1!$G$11:$L$25,3),VLOOKUP(I97,Feuil1!$G$11:$L$25,2)))))))","v":"FS58"},189.01304286009378,null," ",{"$f":"T97-HLOOKUP(X97,Feuil1!$C$1:$BL$10,2,FALSE)","v":64},{"$f":"T97-HLOOKUP(X97,Feuil1!$C$1:$BL$10,3,FALSE)","v":54},{"$f":"T97-HLOOKUP(X97,Feuil1!$C$1:$BL$10,4,FALSE)","v":44},{"$f":"T97-HLOOKUP(X97,Feuil1!$C$1:$BL$10,5,FALSE)","v":34},{"$f":"T97-HLOOKUP(X97,Feuil1!$C$1:$BL$10,6,FALSE)","v":19},{"$f":"T97-HLOOKUP(X97,Feuil1!$C$1:$BL$10,7,FALSE)","v":4},{"$f":"T97-HLOOKUP(X97,Feuil1!$C$1:$BL$10,8,FALSE)","v":-16},{"$f":"T97-HLOOKUP(X97,Feuil1!$C$1:$BL$10,9,FALSE)","v":-36},{"$f":"T97-HLOOKUP(X97,Feuil1!$C$1:$BL$10,10,FALSE)","v":-56},null,null,null,null,null,null,"NAT +"]
["F","SEST","PRO",15,139713,"GAMONDES","Cendrine",1976,56.3,"EEAR MONTEUX","F",55,59,61,61,65,70,72,72,133,20.400000000000006,"NAT +",3,{"$f":"IF(I98=\"\",\"\",IF(A98=\"H\",IF(OR(H98=\"SEN\",H98<1995),VLOOKUP(I98,Feuil1!$A$11:$F$29,6),IF(AND(H98>1994,H98<1998),VLOOKUP(I98,Feuil1!$A$11:$F$29,5),IF(AND(H98>1997,H98<2000),VLOOKUP(I98,Feuil1!$A$11:$F$29,4),IF(AND(H98>1999,H98<2002),VLOOKUP(I98,Feuil1!$A$11:$F$29,3),VLOOKUP(I98,Feuil1!$A$11:$F$29,2))))),IF(OR(H98=\"SEN\",H98<1995),VLOOKUP(I98,Feuil1!$G$11:$L$25,6),IF(AND(H98>1994,H98<1998),VLOOKUP(I98,Feuil1!$G$11:$L$25,5),IF(AND(H98>1997,H98<2000),VLOOKUP(I98,Feuil1!$G$11:$L$25,4),IF(AND(H98>1999,H98<2002),VLOOKUP(I98,Feuil1!$G$11:$L$25,3),VLOOKUP(I98,Feuil1!$G$11:$L$25,2)))))))","v":"FS58"},191.42560920181697,null," ",{"$f":"T98-HLOOKUP(X98,Feuil1!$C$1:$BL$10,2,FALSE)","v":63},{"$f":"T98-HLOOKUP(X98,Feuil1!$C$1:$BL$10,3,FALSE)","v":53},{"$f":"T98-HLOOKUP(X98,Feuil1!$C$1:$BL$10,4,FALSE)","v":43},{"$f":"T98-HLOOKUP(X98,Feuil1!$C$1:$BL$10,5,FALSE)","v":33},{"$f":"T98-HLOOKUP(X98,Feuil1!$C$1:$BL$10,6,FALSE)","v":18},{"$f":"T98-HLOOKUP(X98,Feuil1!$C$1:$BL$10,7,FALSE)","v":3},{"$f":"T98-HLOOKUP(X98,Feuil1!$C$1:$BL$10,8,FALSE)","v":-17},{"$f":"T98-HLOOKUP(X98,Feuil1!$C$1:$BL$10,9,FALSE)","v":-37},{"$f":"T98-HLOOKUP(X98,Feuil1!$C$1:$BL$10,10,FALSE)","v":-57},null,null,null,null,null,null,"NAT +"]
["F","NE","ALS",16,88574,"HERRMANN","Mélissa",1988,54.6,"SR Obernai HM","F",54,57,-59,57,69,73,75,75,132,22.799999999999997,"NAT +",2,{"$f":"IF(I99=\"\",\"\",IF(A99=\"H\",IF(OR(H99=\"SEN\",H99<1995),VLOOKUP(I99,Feuil1!$A$11:$F$29,6),IF(AND(H99>1994,H99<1998),VLOOKUP(I99,Feuil1!$A$11:$F$29,5),IF(AND(H99>1997,H99<2000),VLOOKUP(I99,Feuil1!$A$11:$F$29,4),IF(AND(H99>1999,H99<2002),VLOOKUP(I99,Feuil1!$A$11:$F$29,3),VLOOKUP(I99,Feuil1!$A$11:$F$29,2))))),IF(OR(H99=\"SEN\",H99<1995),VLOOKUP(I99,Feuil1!$G$11:$L$25,6),IF(AND(H99>1994,H99<1998),VLOOKUP(I99,Feuil1!$G$11:$L$25,5),IF(AND(H99>1997,H99<2000),VLOOKUP(I99,Feuil1!$G$11:$L$25,4),IF(AND(H99>1999,H99<2002),VLOOKUP(I99,Feuil1!$G$11:$L$25,3),VLOOKUP(I99,Feuil1!$G$11:$L$25,2)))))))","v":"FS58"},194.49722910817394,null," ",{"$f":"T99-HLOOKUP(X99,Feuil1!$C$1:$BL$10,2,FALSE)","v":62},{"$f":"T99-HLOOKUP(X99,Feuil1!$C$1:$BL$10,3,FALSE)","v":52},{"$f":"T99-HLOOKUP(X99,Feuil1!$C$1:$BL$10,4,FALSE)","v":42},{"$f":"T99-HLOOKUP(X99,Feuil1!$C$1:$BL$10,5,FALSE)","v":32},{"$f":"T99-HLOOKUP(X99,Feuil1!$C$1:$BL$10,6,FALSE)","v":17},{"$f":"T99-HLOOKUP(X99,Feuil1!$C$1:$BL$10,7,FALSE)","v":2},{"$f":"T99-HLOOKUP(X99,Feuil1!$C$1:$BL$10,8,FALSE)","v":-18},{"$f":"T99-HLOOKUP(X99,Feuil1!$C$1:$BL$10,9,FALSE)","v":-38},{"$f":"T99-HLOOKUP(X99,Feuil1!$C$1:$BL$10,10,FALSE)","v":-58},null,null,null,null,null,null,"NAT +"]
["F","SEST","PRO",17,384034,"MOEGLIN","TINA",1993,56.2,"HM STE TULLE","F",48,51,54,54,65,70,73,73,127,14.599999999999994,"FED +",12,{"$f":"IF(I100=\"\",\"\",IF(A100=\"H\",IF(OR(H100=\"SEN\",H100<1995),VLOOKUP(I100,Feuil1!$A$11:$F$29,6),IF(AND(H100>1994,H100<1998),VLOOKUP(I100,Feuil1!$A$11:$F$29,5),IF(AND(H100>1997,H100<2000),VLOOKUP(I100,Feuil1!$A$11:$F$29,4),IF(AND(H100>1999,H100<2002),VLOOKUP(I100,Feuil1!$A$11:$F$29,3),VLOOKUP(I100,Feuil1!$A$11:$F$29,2))))),IF(OR(H100=\"SEN\",H100<1995),VLOOKUP(I100,Feuil1!$G$11:$L$25,6),IF(AND(H100>1994,H100<1998),VLOOKUP(I100,Feuil1!$G$11:$L$25,5),IF(AND(H100>1997,H100<2000),VLOOKUP(I100,Feuil1!$G$11:$L$25,4),IF(AND(H100>1999,H100<2002),VLOOKUP(I100,Feuil1!$G$11:$L$25,3),VLOOKUP(I100,Feuil1!$G$11:$L$25,2)))))))","v":"FS58"},183.03507943769748,null," ",{"$f":"T100-HLOOKUP(X100,Feuil1!$C$1:$BL$10,2,FALSE)","v":57},{"$f":"T100-HLOOKUP(X100,Feuil1!$C$1:$BL$10,3,FALSE)","v":47},{"$f":"T100-HLOOKUP(X100,Feuil1!$C$1:$BL$10,4,FALSE)","v":37},{"$f":"T100-HLOOKUP(X100,Feuil1!$C$1:$BL$10,5,FALSE)","v":27},{"$f":"T100-HLOOKUP(X100,Feuil1!$C$1:$BL$10,6,FALSE)","v":12},{"$f":"T100-HLOOKUP(X100,Feuil1!$C$1:$BL$10,7,FALSE)","v":-3},{"$f":"T100-HLOOKUP(X100,Feuil1!$C$1:$BL$10,8,FALSE)","v":-23},{"$f":"T100-HLOOKUP(X100,Feuil1!$C$1:$BL$10,9,FALSE)","v":-43},{"$f":"T100-HLOOKUP(X100,Feuil1!$C$1:$BL$10,10,FALSE)","v":-63},null,null,null,null,null,null,"FED +"]
["F","CO","CEN",18,397264,"NOEL","Estelle",1984,54.2,"AAJ Blois","F",50,53,55,55,60,65,68,68,123,14.599999999999994,"FED +",8,{"$f":"IF(I101=\"\",\"\",IF(A101=\"H\",IF(OR(H101=\"SEN\",H101<1995),VLOOKUP(I101,Feuil1!$A$11:$F$29,6),IF(AND(H101>1994,H101<1998),VLOOKUP(I101,Feuil1!$A$11:$F$29,5),IF(AND(H101>1997,H101<2000),VLOOKUP(I101,Feuil1!$A$11:$F$29,4),IF(AND(H101>1999,H101<2002),VLOOKUP(I101,Feuil1!$A$11:$F$29,3),VLOOKUP(I101,Feuil1!$A$11:$F$29,2))))),IF(OR(H101=\"SEN\",H101<1995),VLOOKUP(I101,Feuil1!$G$11:$L$25,6),IF(AND(H101>1994,H101<1998),VLOOKUP(I101,Feuil1!$G$11:$L$25,5),IF(AND(H101>1997,H101<2000),VLOOKUP(I101,Feuil1!$G$11:$L$25,4),IF(AND(H101>1999,H101<2002),VLOOKUP(I101,Feuil1!$G$11:$L$25,3),VLOOKUP(I101,Feuil1!$G$11:$L$25,2)))))))","v":"FS58"},182.27869395002188,null," ",{"$f":"T101-HLOOKUP(X101,Feuil1!$C$1:$BL$10,2,FALSE)","v":53},{"$f":"T101-HLOOKUP(X101,Feuil1!$C$1:$BL$10,3,FALSE)","v":43},{"$f":"T101-HLOOKUP(X101,Feuil1!$C$1:$BL$10,4,FALSE)","v":33},{"$f":"T101-HLOOKUP(X101,Feuil1!$C$1:$BL$10,5,FALSE)","v":23},{"$f":"T101-HLOOKUP(X101,Feuil1!$C$1:$BL$10,6,FALSE)","v":8},{"$f":"T101-HLOOKUP(X101,Feuil1!$C$1:$BL$10,7,FALSE)","v":-7},{"$f":"T101-HLOOKUP(X101,Feuil1!$C$1:$BL$10,8,FALSE)","v":-27},{"$f":"T101-HLOOKUP(X101,Feuil1!$C$1:$BL$10,9,FALSE)","v":-47},{"$f":"T101-HLOOKUP(X101,Feuil1!$C$1:$BL$10,10,FALSE)","v":-67},null,null,null,null,null,null,"FED +"]
["F","SEST","PRO",19,356006,"CARON","SABRINA",1991,56.4,"AP AIX","F",50,53,-55,53,65,70,-75,70,123,10.200000000000003,"FED +",8,{"$f":"IF(I102=\"\",\"\",IF(A102=\"H\",IF(OR(H102=\"SEN\",H102<1995),VLOOKUP(I102,Feuil1!$A$11:$F$29,6),IF(AND(H102>1994,H102<1998),VLOOKUP(I102,Feuil1!$A$11:$F$29,5),IF(AND(H102>1997,H102<2000),VLOOKUP(I102,Feuil1!$A$11:$F$29,4),IF(AND(H102>1999,H102<2002),VLOOKUP(I102,Feuil1!$A$11:$F$29,3),VLOOKUP(I102,Feuil1!$A$11:$F$29,2))))),IF(OR(H102=\"SEN\",H102<1995),VLOOKUP(I102,Feuil1!$G$11:$L$25,6),IF(AND(H102>1994,H102<1998),VLOOKUP(I102,Feuil1!$G$11:$L$25,5),IF(AND(H102>1997,H102<2000),VLOOKUP(I102,Feuil1!$G$11:$L$25,4),IF(AND(H102>1999,H102<2002),VLOOKUP(I102,Feuil1!$G$11:$L$25,3),VLOOKUP(I102,Feuil1!$G$11:$L$25,2)))))))","v":"FS58"},176.79639054762924,null," ",{"$f":"T102-HLOOKUP(X102,Feuil1!$C$1:$BL$10,2,FALSE)","v":53},{"$f":"T102-HLOOKUP(X102,Feuil1!$C$1:$BL$10,3,FALSE)","v":43},{"$f":"T102-HLOOKUP(X102,Feuil1!$C$1:$BL$10,4,FALSE)","v":33},{"$f":"T102-HLOOKUP(X102,Feuil1!$C$1:$BL$10,5,FALSE)","v":23},{"$f":"T102-HLOOKUP(X102,Feuil1!$C$1:$BL$10,6,FALSE)","v":8},{"$f":"T102-HLOOKUP(X102,Feuil1!$C$1:$BL$10,7,FALSE)","v":-7},{"$f":"T102-HLOOKUP(X102,Feuil1!$C$1:$BL$10,8,FALSE)","v":-27},{"$f":"T102-HLOOKUP(X102,Feuil1!$C$1:$BL$10,9,FALSE)","v":-47},{"$f":"T102-HLOOKUP(X102,Feuil1!$C$1:$BL$10,10,FALSE)","v":-67},null,null,null,null,null,null,"FED +"]
["F","SO","POI",20,186557,"SABOURIN","Pauline",1992,56.83,"POITIERS","F",49,53,56,56,60,65,67,67,123,9.3400000000000034,"FED +",8,{"$f":"IF(I103=\"\",\"\",IF(A103=\"H\",IF(OR(H103=\"SEN\",H103<1995),VLOOKUP(I103,Feuil1!$A$11:$F$29,6),IF(AND(H103>1994,H103<1998),VLOOKUP(I103,Feuil1!$A$11:$F$29,5),IF(AND(H103>1997,H103<2000),VLOOKUP(I103,Feuil1!$A$11:$F$29,4),IF(AND(H103>1999,H103<2002),VLOOKUP(I103,Feuil1!$A$11:$F$29,3),VLOOKUP(I103,Feuil1!$A$11:$F$29,2))))),IF(OR(H103=\"SEN\",H103<1995),VLOOKUP(I103,Feuil1!$G$11:$L$25,6),IF(AND(H103>1994,H103<1998),VLOOKUP(I103,Feuil1!$G$11:$L$25,5),IF(AND(H103>1997,H103<2000),VLOOKUP(I103,Feuil1!$G$11:$L$25,4),IF(AND(H103>1999,H103<2002),VLOOKUP(I103,Feuil1!$G$11:$L$25,3),VLOOKUP(I103,Feuil1!$G$11:$L$25,2)))))))","v":"FS58"},175.79341870819411,null," ",{"$f":"T103-HLOOKUP(X103,Feuil1!$C$1:$BL$10,2,FALSE)","v":53},{"$f":"T103-HLOOKUP(X103,Feuil1!$C$1:$BL$10,3,FALSE)","v":43},{"$f":"T103-HLOOKUP(X103,Feuil1!$C$1:$BL$10,4,FALSE)","v":33},{"$f":"T103-HLOOKUP(X103,Feuil1!$C$1:$BL$10,5,FALSE)","v":23},{"$f":"T103-HLOOKUP(X103,Feuil1!$C$1:$BL$10,6,FALSE)","v":8},{"$f":"T103-HLOOKUP(X103,Feuil1!$C$1:$BL$10,7,FALSE)","v":-7},{"$f":"T103-HLOOKUP(X103,Feuil1!$C$1:$BL$10,8,FALSE)","v":-27},{"$f":"T103-HLOOKUP(X103,Feuil1!$C$1:$BL$10,9,FALSE)","v":-47},{"$f":"T103-HLOOKUP(X103,Feuil1!$C$1:$BL$10,10,FALSE)","v":-67},null,null,null,null,null,null,"FED +"]
["F","N","IDF",21,313076,"GHERARDI","ANNE SOPHIE",1978,56.63,"SAINT-MAUR","F",52,-54,54,54,63,67,-69,67,121,7.7399999999999949,"FED +",6,{"$f":"IF(I104=\"\",\"\",IF(A104=\"H\",IF(OR(H104=\"SEN\",H104<1995),VLOOKUP(I104,Feuil1!$A$11:$F$29,6),IF(AND(H104>1994,H104<1998),VLOOKUP(I104,Feuil1!$A$11:$F$29,5),IF(AND(H104>1997,H104<2000),VLOOKUP(I104,Feuil1!$A$11:$F$29,4),IF(AND(H104>1999,H104<2002),VLOOKUP(I104,Feuil1!$A$11:$F$29,3),VLOOKUP(I104,Feuil1!$A$11:$F$29,2))))),IF(OR(H104=\"SEN\",H104<1995),VLOOKUP(I104,Feuil1!$G$11:$L$25,6),IF(AND(H104>1994,H104<1998),VLOOKUP(I104,Feuil1!$G$11:$L$25,5),IF(AND(H104>1997,H104<2000),VLOOKUP(I104,Feuil1!$G$11:$L$25,4),IF(AND(H104>1999,H104<2002),VLOOKUP(I104,Feuil1!$G$11:$L$25,3),VLOOKUP(I104,Feuil1!$G$11:$L$25,2)))))))","v":"FS58"},173.39130287490335,null," ",{"$f":"T104-HLOOKUP(X104,Feuil1!$C$1:$BL$10,2,FALSE)","v":51},{"$f":"T104-HLOOKUP(X104,Feuil1!$C$1:$BL$10,3,FALSE)","v":41},{"$f":"T104-HLOOKUP(X104,Feuil1!$C$1:$BL$10,4,FALSE)","v":31},{"$f":"T104-HLOOKUP(X104,Feuil1!$C$1:$BL$10,5,FALSE)","v":21},{"$f":"T104-HLOOKUP(X104,Feuil1!$C$1:$BL$10,6,FALSE)","v":6},{"$f":"T104-HLOOKUP(X104,Feuil1!$C$1:$BL$10,7,FALSE)","v":-9},{"$f":"T104-HLOOKUP(X104,Feuil1!$C$1:$BL$10,8,FALSE)","v":-29},{"$f":"T104-HLOOKUP(X104,Feuil1!$C$1:$BL$10,9,FALSE)","v":-49},{"$f":"T104-HLOOKUP(X104,Feuil1!$C$1:$BL$10,10,FALSE)","v":-69},null,null,null,null,null,null,"FED +"]
["F","SO","MPY",22,331243,"ASPE","Camille",1991,57.6,"TARBES CUTPH","F",52,-56,56,56,65,-69,-69,65,121,5.7999999999999972,"FED +",6,{"$f":"IF(I105=\"\",\"\",IF(A105=\"H\",IF(OR(H105=\"SEN\",H105<1995),VLOOKUP(I105,Feuil1!$A$11:$F$29,6),IF(AND(H105>1994,H105<1998),VLOOKUP(I105,Feuil1!$A$11:$F$29,5),IF(AND(H105>1997,H105<2000),VLOOKUP(I105,Feuil1!$A$11:$F$29,4),IF(AND(H105>1999,H105<2002),VLOOKUP(I105,Feuil1!$A$11:$F$29,3),VLOOKUP(I105,Feuil1!$A$11:$F$29,2))))),IF(OR(H105=\"SEN\",H105<1995),VLOOKUP(I105,Feuil1!$G$11:$L$25,6),IF(AND(H105>1994,H105<1998),VLOOKUP(I105,Feuil1!$G$11:$L$25,5),IF(AND(H105>1997,H105<2000),VLOOKUP(I105,Feuil1!$G$11:$L$25,4),IF(AND(H105>1999,H105<2002),VLOOKUP(I105,Feuil1!$G$11:$L$25,3),VLOOKUP(I105,Feuil1!$G$11:$L$25,2)))))))","v":"FS58"},171.2193132597144,null," ",{"$f":"T105-HLOOKUP(X105,Feuil1!$C$1:$BL$10,2,FALSE)","v":51},{"$f":"T105-HLOOKUP(X105,Feuil1!$C$1:$BL$10,3,FALSE)","v":41},{"$f":"T105-HLOOKUP(X105,Feuil1!$C$1:$BL$10,4,FALSE)","v":31},{"$f":"T105-HLOOKUP(X105,Feuil1!$C$1:$BL$10,5,FALSE)","v":21},{"$f":"T105-HLOOKUP(X105,Feuil1!$C$1:$BL$10,6,FALSE)","v":6},{"$f":"T105-HLOOKUP(X105,Feuil1!$C$1:$BL$10,7,FALSE)","v":-9},{"$f":"T105-HLOOKUP(X105,Feuil1!$C$1:$BL$10,8,FALSE)","v":-29},{"$f":"T105-HLOOKUP(X105,Feuil1!$C$1:$BL$10,9,FALSE)","v":-49},{"$f":"T105-HLOOKUP(X105,Feuil1!$C$1:$BL$10,10,FALSE)","v":-69},null,null,null,null,null,null,"FED +"]
["F","DOM","REU",23,250371,"OULOUMENI","AURELIA",1993,57.8,"CSPJ St Denis","F",55,58,-60,58,63,-66,-66,63,121,5.4000000000000057,"FED +",6,{"$f":"IF(I106=\"\",\"\",IF(A106=\"H\",IF(OR(H106=\"SEN\",H106<1995),VLOOKUP(I106,Feuil1!$A$11:$F$29,6),IF(AND(H106>1994,H106<1998),VLOOKUP(I106,Feuil1!$A$11:$F$29,5),IF(AND(H106>1997,H106<2000),VLOOKUP(I106,Feuil1!$A$11:$F$29,4),IF(AND(H106>1999,H106<2002),VLOOKUP(I106,Feuil1!$A$11:$F$29,3),VLOOKUP(I106,Feuil1!$A$11:$F$29,2))))),IF(OR(H106=\"SEN\",H106<1995),VLOOKUP(I106,Feuil1!$G$11:$L$25,6),IF(AND(H106>1994,H106<1998),VLOOKUP(I106,Feuil1!$G$11:$L$25,5),IF(AND(H106>1997,H106<2000),VLOOKUP(I106,Feuil1!$G$11:$L$25,4),IF(AND(H106>1999,H106<2002),VLOOKUP(I106,Feuil1!$G$11:$L$25,3),VLOOKUP(I106,Feuil1!$G$11:$L$25,2)))))))","v":"FS58"},170.78410244459366,null," ",{"$f":"T106-HLOOKUP(X106,Feuil1!$C$1:$BL$10,2,FALSE)","v":51},{"$f":"T106-HLOOKUP(X106,Feuil1!$C$1:$BL$10,3,FALSE)","v":41},{"$f":"T106-HLOOKUP(X106,Feuil1!$C$1:$BL$10,4,FALSE)","v":31},{"$f":"T106-HLOOKUP(X106,Feuil1!$C$1:$BL$10,5,FALSE)","v":21},{"$f":"T106-HLOOKUP(X106,Feuil1!$C$1:$BL$10,6,FALSE)","v":6},{"$f":"T106-HLOOKUP(X106,Feuil1!$C$1:$BL$10,7,FALSE)","v":-9},{"$f":"T106-HLOOKUP(X106,Feuil1!$C$1:$BL$10,8,FALSE)","v":-29},{"$f":"T106-HLOOKUP(X106,Feuil1!$C$1:$BL$10,9,FALSE)","v":-49},{"$f":"T106-HLOOKUP(X106,Feuil1!$C$1:$BL$10,10,FALSE)","v":-69},null,null,null,null,null,null,"FED +"]
["F","NORD","PIC",24,174473,"DE COSTER","Sarah",1986,57.2,"La Ferté Milon CMHM","Belge",50,-54,54,54,60,65,"-",65,119,4.5999999999999943,"FED +",4,{"$f":"IF(I107=\"\",\"\",IF(A107=\"H\",IF(OR(H107=\"SEN\",H107<1995),VLOOKUP(I107,Feuil1!$A$11:$F$29,6),IF(AND(H107>1994,H107<1998),VLOOKUP(I107,Feuil1!$A$11:$F$29,5),IF(AND(H107>1997,H107<2000),VLOOKUP(I107,Feuil1!$A$11:$F$29,4),IF(AND(H107>1999,H107<2002),VLOOKUP(I107,Feuil1!$A$11:$F$29,3),VLOOKUP(I107,Feuil1!$A$11:$F$29,2))))),IF(OR(H107=\"SEN\",H107<1995),VLOOKUP(I107,Feuil1!$G$11:$L$25,6),IF(AND(H107>1994,H107<1998),VLOOKUP(I107,Feuil1!$G$11:$L$25,5),IF(AND(H107>1997,H107<2000),VLOOKUP(I107,Feuil1!$G$11:$L$25,4),IF(AND(H107>1999,H107<2002),VLOOKUP(I107,Feuil1!$G$11:$L$25,3),VLOOKUP(I107,Feuil1!$G$11:$L$25,2)))))))","v":"FS58"},169.25785274570029,null," ",{"$f":"T107-HLOOKUP(X107,Feuil1!$C$1:$BL$10,2,FALSE)","v":49},{"$f":"T107-HLOOKUP(X107,Feuil1!$C$1:$BL$10,3,FALSE)","v":39},{"$f":"T107-HLOOKUP(X107,Feuil1!$C$1:$BL$10,4,FALSE)","v":29},{"$f":"T107-HLOOKUP(X107,Feuil1!$C$1:$BL$10,5,FALSE)","v":19},{"$f":"T107-HLOOKUP(X107,Feuil1!$C$1:$BL$10,6,FALSE)","v":4},{"$f":"T107-HLOOKUP(X107,Feuil1!$C$1:$BL$10,7,FALSE)","v":-11},{"$f":"T107-HLOOKUP(X107,Feuil1!$C$1:$BL$10,8,FALSE)","v":-31},{"$f":"T107-HLOOKUP(X107,Feuil1!$C$1:$BL$10,9,FALSE)","v":-51},{"$f":"T107-HLOOKUP(X107,Feuil1!$C$1:$BL$10,10,FALSE)","v":-71},null,null,null,null,null,null,"FED +"]
["F","SEST","CAZ",25,326048,"DURAN","Sandra",1994,53.3,"ASPTT DRAGUIGNAN","F",45,-50,52,52,-63,63,66,66,118,11.400000000000006,"FED +",3,{"$f":"IF(I108=\"\",\"\",IF(A108=\"H\",IF(OR(H108=\"SEN\",H108<1995),VLOOKUP(I108,Feuil1!$A$11:$F$29,6),IF(AND(H108>1994,H108<1998),VLOOKUP(I108,Feuil1!$A$11:$F$29,5),IF(AND(H108>1997,H108<2000),VLOOKUP(I108,Feuil1!$A$11:$F$29,4),IF(AND(H108>1999,H108<2002),VLOOKUP(I108,Feuil1!$A$11:$F$29,3),VLOOKUP(I108,Feuil1!$A$11:$F$29,2))))),IF(OR(H108=\"SEN\",H108<1995),VLOOKUP(I108,Feuil1!$G$11:$L$25,6),IF(AND(H108>1994,H108<1998),VLOOKUP(I108,Feuil1!$G$11:$L$25,5),IF(AND(H108>1997,H108<2000),VLOOKUP(I108,Feuil1!$G$11:$L$25,4),IF(AND(H108>1999,H108<2002),VLOOKUP(I108,Feuil1!$G$11:$L$25,3),VLOOKUP(I108,Feuil1!$G$11:$L$25,2)))))))","v":"FS58"},177.19621066265861,null," ",{"$f":"T108-HLOOKUP(X108,Feuil1!$C$1:$BL$10,2,FALSE)","v":48},{"$f":"T108-HLOOKUP(X108,Feuil1!$C$1:$BL$10,3,FALSE)","v":38},{"$f":"T108-HLOOKUP(X108,Feuil1!$C$1:$BL$10,4,FALSE)","v":28},{"$f":"T108-HLOOKUP(X108,Feuil1!$C$1:$BL$10,5,FALSE)","v":18},{"$f":"T108-HLOOKUP(X108,Feuil1!$C$1:$BL$10,6,FALSE)","v":3},{"$f":"T108-HLOOKUP(X108,Feuil1!$C$1:$BL$10,7,FALSE)","v":-12},{"$f":"T108-HLOOKUP(X108,Feuil1!$C$1:$BL$10,8,FALSE)","v":-32},{"$f":"T108-HLOOKUP(X108,Feuil1!$C$1:$BL$10,9,FALSE)","v":-52},{"$f":"T108-HLOOKUP(X108,Feuil1!$C$1:$BL$10,10,FALSE)","v":-72},null,null,null,null,null,null,"FED +"]
["F","N","IDF",26,383141,"FOSSE","AMELIE",1989,57.4,"US METRO","F",40,45,47,47,64,68,-70,68,115,0.20000000000000284,"FED +",0,{"$f":"IF(I109=\"\",\"\",IF(A109=\"H\",IF(OR(H109=\"SEN\",H109<1995),VLOOKUP(I109,Feuil1!$A$11:$F$29,6),IF(AND(H109>1994,H109<1998),VLOOKUP(I109,Feuil1!$A$11:$F$29,5),IF(AND(H109>1997,H109<2000),VLOOKUP(I109,Feuil1!$A$11:$F$29,4),IF(AND(H109>1999,H109<2002),VLOOKUP(I109,Feuil1!$A$11:$F$29,3),VLOOKUP(I109,Feuil1!$A$11:$F$29,2))))),IF(OR(H109=\"SEN\",H109<1995),VLOOKUP(I109,Feuil1!$G$11:$L$25,6),IF(AND(H109>1994,H109<1998),VLOOKUP(I109,Feuil1!$G$11:$L$25,5),IF(AND(H109>1997,H109<2000),VLOOKUP(I109,Feuil1!$G$11:$L$25,4),IF(AND(H109>1999,H109<2002),VLOOKUP(I109,Feuil1!$G$11:$L$25,3),VLOOKUP(I109,Feuil1!$G$11:$L$25,2)))))))","v":"FS58"},163.14676338667837,null," ",{"$f":"T109-HLOOKUP(X109,Feuil1!$C$1:$BL$10,2,FALSE)","v":45},{"$f":"T109-HLOOKUP(X109,Feuil1!$C$1:$BL$10,3,FALSE)","v":35},{"$f":"T109-HLOOKUP(X109,Feuil1!$C$1:$BL$10,4,FALSE)","v":25},{"$f":"T109-HLOOKUP(X109,Feuil1!$C$1:$BL$10,5,FALSE)","v":15},{"$f":"T109-HLOOKUP(X109,Feuil1!$C$1:$BL$10,6,FALSE)","v":0},{"$f":"T109-HLOOKUP(X109,Feuil1!$C$1:$BL$10,7,FALSE)","v":-15},{"$f":"T109-HLOOKUP(X109,Feuil1!$C$1:$BL$10,8,FALSE)","v":-35},{"$f":"T109-HLOOKUP(X109,Feuil1!$C$1:$BL$10,9,FALSE)","v":-55},{"$f":"T109-HLOOKUP(X109,Feuil1!$C$1:$BL$10,10,FALSE)","v":-75},null,null,null,null,null,null,"FED +"]
["F","SEST","RAL",27,198067,"LAROIX","Adeline",1991,57.4,"CHARLIEU","F",46,50,52,52,55,59,63,63,115,0.20000000000000284,"FED +",0,{"$f":"IF(I110=\"\",\"\",IF(A110=\"H\",IF(OR(H110=\"SEN\",H110<1995),VLOOKUP(I110,Feuil1!$A$11:$F$29,6),IF(AND(H110>1994,H110<1998),VLOOKUP(I110,Feuil1!$A$11:$F$29,5),IF(AND(H110>1997,H110<2000),VLOOKUP(I110,Feuil1!$A$11:$F$29,4),IF(AND(H110>1999,H110<2002),VLOOKUP(I110,Feuil1!$A$11:$F$29,3),VLOOKUP(I110,Feuil1!$A$11:$F$29,2))))),IF(OR(H110=\"SEN\",H110<1995),VLOOKUP(I110,Feuil1!$G$11:$L$25,6),IF(AND(H110>1994,H110<1998),VLOOKUP(I110,Feuil1!$G$11:$L$25,5),IF(AND(H110>1997,H110<2000),VLOOKUP(I110,Feuil1!$G$11:$L$25,4),IF(AND(H110>1999,H110<2002),VLOOKUP(I110,Feuil1!$G$11:$L$25,3),VLOOKUP(I110,Feuil1!$G$11:$L$25,2)))))))","v":"FS58"},163.14676338667837,null," ",{"$f":"T110-HLOOKUP(X110,Feuil1!$C$1:$BL$10,2,FALSE)","v":45},{"$f":"T110-HLOOKUP(X110,Feuil1!$C$1:$BL$10,3,FALSE)","v":35},{"$f":"T110-HLOOKUP(X110,Feuil1!$C$1:$BL$10,4,FALSE)","v":25},{"$f":"T110-HLOOKUP(X110,Feuil1!$C$1:$BL$10,5,FALSE)","v":15},{"$f":"T110-HLOOKUP(X110,Feuil1!$C$1:$BL$10,6,FALSE)","v":0},{"$f":"T110-HLOOKUP(X110,Feuil1!$C$1:$BL$10,7,FALSE)","v":-15},{"$f":"T110-HLOOKUP(X110,Feuil1!$C$1:$BL$10,8,FALSE)","v":-35},{"$f":"T110-HLOOKUP(X110,Feuil1!$C$1:$BL$10,9,FALSE)","v":-55},{"$f":"T110-HLOOKUP(X110,Feuil1!$C$1:$BL$10,10,FALSE)","v":-75},null,null,null,null,null,null,"FED +"]
["F","NE","ALS",28,377053,"DREYFUS","ANNE CLAIRE",1986,57.8,"MJC Ungersheim","F",45,50,-53,50,60,-65,65,65,115,-0.59999999999999432,"FED +",0,{"$f":"IF(I111=\"\",\"\",IF(A111=\"H\",IF(OR(H111=\"SEN\",H111<1995),VLOOKUP(I111,Feuil1!$A$11:$F$29,6),IF(AND(H111>1994,H111<1998),VLOOKUP(I111,Feuil1!$A$11:$F$29,5),IF(AND(H111>1997,H111<2000),VLOOKUP(I111,Feuil1!$A$11:$F$29,4),IF(AND(H111>1999,H111<2002),VLOOKUP(I111,Feuil1!$A$11:$F$29,3),VLOOKUP(I111,Feuil1!$A$11:$F$29,2))))),IF(OR(H111=\"SEN\",H111<1995),VLOOKUP(I111,Feuil1!$G$11:$L$25,6),IF(AND(H111>1994,H111<1998),VLOOKUP(I111,Feuil1!$G$11:$L$25,5),IF(AND(H111>1997,H111<2000),VLOOKUP(I111,Feuil1!$G$11:$L$25,4),IF(AND(H111>1999,H111<2002),VLOOKUP(I111,Feuil1!$G$11:$L$25,3),VLOOKUP(I111,Feuil1!$G$11:$L$25,2)))))))","v":"FS58"},162.31546926552289,null," ",{"$f":"T111-HLOOKUP(X111,Feuil1!$C$1:$BL$10,2,FALSE)","v":45},{"$f":"T111-HLOOKUP(X111,Feuil1!$C$1:$BL$10,3,FALSE)","v":35},{"$f":"T111-HLOOKUP(X111,Feuil1!$C$1:$BL$10,4,FALSE)","v":25},{"$f":"T111-HLOOKUP(X111,Feuil1!$C$1:$BL$10,5,FALSE)","v":15},{"$f":"T111-HLOOKUP(X111,Feuil1!$C$1:$BL$10,6,FALSE)","v":0},{"$f":"T111-HLOOKUP(X111,Feuil1!$C$1:$BL$10,7,FALSE)","v":-15},{"$f":"T111-HLOOKUP(X111,Feuil1!$C$1:$BL$10,8,FALSE)","v":-35},{"$f":"T111-HLOOKUP(X111,Feuil1!$C$1:$BL$10,9,FALSE)","v":-55},{"$f":"T111-HLOOKUP(X111,Feuil1!$C$1:$BL$10,10,FALSE)","v":-75},null,null,null,null,null,null,"FED +"]
["F","SO","MPY",29,376138,"ROUGEMONT","Mathilde",1992,54.3,"TOULOUSE HC","F",-44,-44,44,44,65,69,-71,69,113,4.4000000000000057,"IRG +",13,{"$f":"IF(I112=\"\",\"\",IF(A112=\"H\",IF(OR(H112=\"SEN\",H112<1995),VLOOKUP(I112,Feuil1!$A$11:$F$29,6),IF(AND(H112>1994,H112<1998),VLOOKUP(I112,Feuil1!$A$11:$F$29,5),IF(AND(H112>1997,H112<2000),VLOOKUP(I112,Feuil1!$A$11:$F$29,4),IF(AND(H112>1999,H112<2002),VLOOKUP(I112,Feuil1!$A$11:$F$29,3),VLOOKUP(I112,Feuil1!$A$11:$F$29,2))))),IF(OR(H112=\"SEN\",H112<1995),VLOOKUP(I112,Feuil1!$G$11:$L$25,6),IF(AND(H112>1994,H112<1998),VLOOKUP(I112,Feuil1!$G$11:$L$25,5),IF(AND(H112>1997,H112<2000),VLOOKUP(I112,Feuil1!$G$11:$L$25,4),IF(AND(H112>1999,H112<2002),VLOOKUP(I112,Feuil1!$G$11:$L$25,3),VLOOKUP(I112,Feuil1!$G$11:$L$25,2)))))))","v":"FS58"},167.21798069472385,null," ",{"$f":"T112-HLOOKUP(X112,Feuil1!$C$1:$BL$10,2,FALSE)","v":43},{"$f":"T112-HLOOKUP(X112,Feuil1!$C$1:$BL$10,3,FALSE)","v":33},{"$f":"T112-HLOOKUP(X112,Feuil1!$C$1:$BL$10,4,FALSE)","v":23},{"$f":"T112-HLOOKUP(X112,Feuil1!$C$1:$BL$10,5,FALSE)","v":13},{"$f":"T112-HLOOKUP(X112,Feuil1!$C$1:$BL$10,6,FALSE)","v":-2},{"$f":"T112-HLOOKUP(X112,Feuil1!$C$1:$BL$10,7,FALSE)","v":-17},{"$f":"T112-HLOOKUP(X112,Feuil1!$C$1:$BL$10,8,FALSE)","v":-37},{"$f":"T112-HLOOKUP(X112,Feuil1!$C$1:$BL$10,9,FALSE)","v":-57},{"$f":"T112-HLOOKUP(X112,Feuil1!$C$1:$BL$10,10,FALSE)","v":-77},null,null,null,null,null,null,"IRG +"]
["F","NE","FCO",30,367034,"SANTI","Léonie",1989,55.5,"LF Besançon","F",45,48,50,50,59,63,-66,63,113,2,"IRG +",13,{"$f":"IF(I113=\"\",\"\",IF(A113=\"H\",IF(OR(H113=\"SEN\",H113<1995),VLOOKUP(I113,Feuil1!$A$11:$F$29,6),IF(AND(H113>1994,H113<1998),VLOOKUP(I113,Feuil1!$A$11:$F$29,5),IF(AND(H113>1997,H113<2000),VLOOKUP(I113,Feuil1!$A$11:$F$29,4),IF(AND(H113>1999,H113<2002),VLOOKUP(I113,Feuil1!$A$11:$F$29,3),VLOOKUP(I113,Feuil1!$A$11:$F$29,2))))),IF(OR(H113=\"SEN\",H113<1995),VLOOKUP(I113,Feuil1!$G$11:$L$25,6),IF(AND(H113>1994,H113<1998),VLOOKUP(I113,Feuil1!$G$11:$L$25,5),IF(AND(H113>1997,H113<2000),VLOOKUP(I113,Feuil1!$G$11:$L$25,4),IF(AND(H113>1999,H113<2002),VLOOKUP(I113,Feuil1!$G$11:$L$25,3),VLOOKUP(I113,Feuil1!$G$11:$L$25,2)))))))","v":"FS58"},164.41602793520914,null," ",{"$f":"T113-HLOOKUP(X113,Feuil1!$C$1:$BL$10,2,FALSE)","v":43},{"$f":"T113-HLOOKUP(X113,Feuil1!$C$1:$BL$10,3,FALSE)","v":33},{"$f":"T113-HLOOKUP(X113,Feuil1!$C$1:$BL$10,4,FALSE)","v":23},{"$f":"T113-HLOOKUP(X113,Feuil1!$C$1:$BL$10,5,FALSE)","v":13},{"$f":"T113-HLOOKUP(X113,Feuil1!$C$1:$BL$10,6,FALSE)","v":-2},{"$f":"T113-HLOOKUP(X113,Feuil1!$C$1:$BL$10,7,FALSE)","v":-17},{"$f":"T113-HLOOKUP(X113,Feuil1!$C$1:$BL$10,8,FALSE)","v":-37},{"$f":"T113-HLOOKUP(X113,Feuil1!$C$1:$BL$10,9,FALSE)","v":-57},{"$f":"T113-HLOOKUP(X113,Feuil1!$C$1:$BL$10,10,FALSE)","v":-77},null,null,null,null,null,null,"IRG +"]
["F","SEST","RAL",31,351973,"MARTIN ","Céline",1980,53.4,"CH Arbresle","F",-47,47,-51,47,65,-70,-71,65,112,5.2000000000000028,"IRG +",12,{"$f":"IF(I114=\"\",\"\",IF(A114=\"H\",IF(OR(H114=\"SEN\",H114<1995),VLOOKUP(I114,Feuil1!$A$11:$F$29,6),IF(AND(H114>1994,H114<1998),VLOOKUP(I114,Feuil1!$A$11:$F$29,5),IF(AND(H114>1997,H114<2000),VLOOKUP(I114,Feuil1!$A$11:$F$29,4),IF(AND(H114>1999,H114<2002),VLOOKUP(I114,Feuil1!$A$11:$F$29,3),VLOOKUP(I114,Feuil1!$A$11:$F$29,2))))),IF(OR(H114=\"SEN\",H114<1995),VLOOKUP(I114,Feuil1!$G$11:$L$25,6),IF(AND(H114>1994,H114<1998),VLOOKUP(I114,Feuil1!$G$11:$L$25,5),IF(AND(H114>1997,H114<2000),VLOOKUP(I114,Feuil1!$G$11:$L$25,4),IF(AND(H114>1999,H114<2002),VLOOKUP(I114,Feuil1!$G$11:$L$25,3),VLOOKUP(I114,Feuil1!$G$11:$L$25,2)))))))","v":"FS58"},167.93568952149093,null," ",{"$f":"T114-HLOOKUP(X114,Feuil1!$C$1:$BL$10,2,FALSE)","v":42},{"$f":"T114-HLOOKUP(X114,Feuil1!$C$1:$BL$10,3,FALSE)","v":32},{"$f":"T114-HLOOKUP(X114,Feuil1!$C$1:$BL$10,4,FALSE)","v":22},{"$f":"T114-HLOOKUP(X114,Feuil1!$C$1:$BL$10,5,FALSE)","v":12},{"$f":"T114-HLOOKUP(X114,Feuil1!$C$1:$BL$10,6,FALSE)","v":-3},{"$f":"T114-HLOOKUP(X114,Feuil1!$C$1:$BL$10,7,FALSE)","v":-18},{"$f":"T114-HLOOKUP(X114,Feuil1!$C$1:$BL$10,8,FALSE)","v":-38},{"$f":"T114-HLOOKUP(X114,Feuil1!$C$1:$BL$10,9,FALSE)","v":-58},{"$f":"T114-HLOOKUP(X114,Feuil1!$C$1:$BL$10,10,FALSE)","v":-78},null,null,null,null,null,null,"IRG +"]
["F","SEST","RAL",32,142132,"BAILLET ","Nathalie",1994,57,"SAINT BALDOPH","F",48,-50,51,51,61,-64,-64,61,112,-2,"IRG +",12,{"$f":"IF(I115=\"\",\"\",IF(A115=\"H\",IF(OR(H115=\"SEN\",H115<1995),VLOOKUP(I115,Feuil1!$A$11:$F$29,6),IF(AND(H115>1994,H115<1998),VLOOKUP(I115,Feuil1!$A$11:$F$29,5),IF(AND(H115>1997,H115<2000),VLOOKUP(I115,Feuil1!$A$11:$F$29,4),IF(AND(H115>1999,H115<2002),VLOOKUP(I115,Feuil1!$A$11:$F$29,3),VLOOKUP(I115,Feuil1!$A$11:$F$29,2))))),IF(OR(H115=\"SEN\",H115<1995),VLOOKUP(I115,Feuil1!$G$11:$L$25,6),IF(AND(H115>1994,H115<1998),VLOOKUP(I115,Feuil1!$G$11:$L$25,5),IF(AND(H115>1997,H115<2000),VLOOKUP(I115,Feuil1!$G$11:$L$25,4),IF(AND(H115>1999,H115<2002),VLOOKUP(I115,Feuil1!$G$11:$L$25,3),VLOOKUP(I115,Feuil1!$G$11:$L$25,2)))))))","v":"FS58"},159.71628661731495,null," ",{"$f":"T115-HLOOKUP(X115,Feuil1!$C$1:$BL$10,2,FALSE)","v":42},{"$f":"T115-HLOOKUP(X115,Feuil1!$C$1:$BL$10,3,FALSE)","v":32},{"$f":"T115-HLOOKUP(X115,Feuil1!$C$1:$BL$10,4,FALSE)","v":22},{"$f":"T115-HLOOKUP(X115,Feuil1!$C$1:$BL$10,5,FALSE)","v":12},{"$f":"T115-HLOOKUP(X115,Feuil1!$C$1:$BL$10,6,FALSE)","v":-3},{"$f":"T115-HLOOKUP(X115,Feuil1!$C$1:$BL$10,7,FALSE)","v":-18},{"$f":"T115-HLOOKUP(X115,Feuil1!$C$1:$BL$10,8,FALSE)","v":-38},{"$f":"T115-HLOOKUP(X115,Feuil1!$C$1:$BL$10,9,FALSE)","v":-58},{"$f":"T115-HLOOKUP(X115,Feuil1!$C$1:$BL$10,10,FALSE)","v":-78},null,null,null,null,null,null,"IRG +"]
["F","NE","FCO",33,113366,"COUSIN ","Emilie",1984,58,"CH Luxeuil","F",50,-52,-52,{"$f":"IF(H116=\"\",\"\",IF(MAXA(L116:N116)<=0,0,MAXA(L116:N116)))","v":50},61,-65,-65,{"$f":"IF(H116=\"\",\"\",IF(MAXA(P116:R116)<=0,0,MAXA(P116:R116)))","v":61},{"$f":"IF(H116=\"\",\"\",IF(OR(O116=0,S116=0),0,O116+S116))","v":111},{"$f":"T116-I116*2","v":-5},{"$f":"IF(H116=\"\",\"\",AQ116)","v":"IRG +"},{"$f":"IF(AJ116>=0,AJ116,IF(AI116>=0,AI116,IF(AH116>=0,AH116,IF(AG116>=0,AG116,IF(AF116>=0,AF116,IF(AE116>=0,AE116,IF(AD116>=0,AD116,IF(AC116>=0,AC116,AB116))))))))","v":11},{"$f":"IF(I116=\"\",\"\",IF(A116=\"H\",IF(OR(H116=\"SEN\",H116<1995),VLOOKUP(I116,Feuil1!$A$11:$F$29,6),IF(AND(H116>1994,H116<1998),VLOOKUP(I116,Feuil1!$A$11:$F$29,5),IF(AND(H116>1997,H116<2000),VLOOKUP(I116,Feuil1!$A$11:$F$29,4),IF(AND(H116>1999,H116<2002),VLOOKUP(I116,Feuil1!$A$11:$F$29,3),VLOOKUP(I116,Feuil1!$A$11:$F$29,2))))),IF(OR(H116=\"SEN\",H116<1995),VLOOKUP(I116,Feuil1!$G$11:$L$25,6),IF(AND(H116>1994,H116<1998),VLOOKUP(I116,Feuil1!$G$11:$L$25,5),IF(AND(H116>1997,H116<2000),VLOOKUP(I116,Feuil1!$G$11:$L$25,4),IF(AND(H116>1999,H116<2002),VLOOKUP(I116,Feuil1!$G$11:$L$25,3),VLOOKUP(I116,Feuil1!$G$11:$L$25,2)))))))","v":"FS58"},{"$f":"IF(I116=\"\",\"\",IF(A116=\"H\",10^(0.794358141*LOG(I116/174.393)^2)*T116,IF(A116=\"F\",10^(0.89726074*LOG(I116/148.026)^2)*T116,\"\")))","v":156.27431518188072},null," ",{"$f":"T116-HLOOKUP(X116,Feuil1!$C$1:$BL$10,2,FALSE)","v":41},{"$f":"T116-HLOOKUP(X116,Feuil1!$C$1:$BL$10,3,FALSE)","v":31},{"$f":"T116-HLOOKUP(X116,Feuil1!$C$1:$BL$10,4,FALSE)","v":21},{"$f":"T116-HLOOKUP(X116,Feuil1!$C$1:$BL$10,5,FALSE)","v":11},{"$f":"T116-HLOOKUP(X116,Feuil1!$C$1:$BL$10,6,FALSE)","v":-4},{"$f":"T116-HLOOKUP(X116,Feuil1!$C$1:$BL$10,7,FALSE)","v":-19},{"$f":"T116-HLOOKUP(X116,Feuil1!$C$1:$BL$10,8,FALSE)","v":-39},{"$f":"T116-HLOOKUP(X116,Feuil1!$C$1:$BL$10,9,FALSE)","v":-59},{"$f":"T116-HLOOKUP(X116,Feuil1!$C$1:$BL$10,10,FALSE)","v":-79},null,null,null,null,null,null,{"$f":"IF(AJ116>=0,$AJ$4,IF(AI116>=0,$AI$4,IF(AH116>=0,$AH$4,IF(AG116>=0,$AG$4,IF(AF116>=0,$AF$4,IF(AE116>=0,$AE$4,IF(AD116>=0,$AD$4,IF(AC116>=0,$AC$4,$AB$4))))))))","v":"IRG +"}]
["F","N","IDF",34,386103,"NEZONDET","Mélanie",1985,54.7,"MELUN","F",40,45,50,50,55,60,-63,60,110,0.59999999999999432,"IRG +",10,{"$f":"IF(I117=\"\",\"\",IF(A117=\"H\",IF(OR(H117=\"SEN\",H117<1995),VLOOKUP(I117,Feuil1!$A$11:$F$29,6),IF(AND(H117>1994,H117<1998),VLOOKUP(I117,Feuil1!$A$11:$F$29,5),IF(AND(H117>1997,H117<2000),VLOOKUP(I117,Feuil1!$A$11:$F$29,4),IF(AND(H117>1999,H117<2002),VLOOKUP(I117,Feuil1!$A$11:$F$29,3),VLOOKUP(I117,Feuil1!$A$11:$F$29,2))))),IF(OR(H117=\"SEN\",H117<1995),VLOOKUP(I117,Feuil1!$G$11:$L$25,6),IF(AND(H117>1994,H117<1998),VLOOKUP(I117,Feuil1!$G$11:$L$25,5),IF(AND(H117>1997,H117<2000),VLOOKUP(I117,Feuil1!$G$11:$L$25,4),IF(AND(H117>1999,H117<2002),VLOOKUP(I117,Feuil1!$G$11:$L$25,3),VLOOKUP(I117,Feuil1!$G$11:$L$25,2)))))))","v":"FS58"},161.85087088187694,null," ",{"$f":"T117-HLOOKUP(X117,Feuil1!$C$1:$BL$10,2,FALSE)","v":40},{"$f":"T117-HLOOKUP(X117,Feuil1!$C$1:$BL$10,3,FALSE)","v":30},{"$f":"T117-HLOOKUP(X117,Feuil1!$C$1:$BL$10,4,FALSE)","v":20},{"$f":"T117-HLOOKUP(X117,Feuil1!$C$1:$BL$10,5,FALSE)","v":10},{"$f":"T117-HLOOKUP(X117,Feuil1!$C$1:$BL$10,6,FALSE)","v":-5},{"$f":"T117-HLOOKUP(X117,Feuil1!$C$1:$BL$10,7,FALSE)","v":-20},{"$f":"T117-HLOOKUP(X117,Feuil1!$C$1:$BL$10,8,FALSE)","v":-40},{"$f":"T117-HLOOKUP(X117,Feuil1!$C$1:$BL$10,9,FALSE)","v":-60},{"$f":"T117-HLOOKUP(X117,Feuil1!$C$1:$BL$10,10,FALSE)","v":-80},null,null,null,null,null,null,"IRG +"]
["F","CO","BNO",35,355102,"ROUSSEAU","Aurore",1991,57.8,"Caen CHM","F",45,48,-50,48,56,60,-62,60,108,-7.5999999999999943,"IRG +",8,{"$f":"IF(I118=\"\",\"\",IF(A118=\"H\",IF(OR(H118=\"SEN\",H118<1995),VLOOKUP(I118,Feuil1!$A$11:$F$29,6),IF(AND(H118>1994,H118<1998),VLOOKUP(I118,Feuil1!$A$11:$F$29,5),IF(AND(H118>1997,H118<2000),VLOOKUP(I118,Feuil1!$A$11:$F$29,4),IF(AND(H118>1999,H118<2002),VLOOKUP(I118,Feuil1!$A$11:$F$29,3),VLOOKUP(I118,Feuil1!$A$11:$F$29,2))))),IF(OR(H118=\"SEN\",H118<1995),VLOOKUP(I118,Feuil1!$G$11:$L$25,6),IF(AND(H118>1994,H118<1998),VLOOKUP(I118,Feuil1!$G$11:$L$25,5),IF(AND(H118>1997,H118<2000),VLOOKUP(I118,Feuil1!$G$11:$L$25,4),IF(AND(H118>1999,H118<2002),VLOOKUP(I118,Feuil1!$G$11:$L$25,3),VLOOKUP(I118,Feuil1!$G$11:$L$25,2)))))))","v":"FS58"},152.43539722327367,null," ",{"$f":"T118-HLOOKUP(X118,Feuil1!$C$1:$BL$10,2,FALSE)","v":38},{"$f":"T118-HLOOKUP(X118,Feuil1!$C$1:$BL$10,3,FALSE)","v":28},{"$f":"T118-HLOOKUP(X118,Feuil1!$C$1:$BL$10,4,FALSE)","v":18},{"$f":"T118-HLOOKUP(X118,Feuil1!$C$1:$BL$10,5,FALSE)","v":8},{"$f":"T118-HLOOKUP(X118,Feuil1!$C$1:$BL$10,6,FALSE)","v":-7},{"$f":"T118-HLOOKUP(X118,Feuil1!$C$1:$BL$10,7,FALSE)","v":-22},{"$f":"T118-HLOOKUP(X118,Feuil1!$C$1:$BL$10,8,FALSE)","v":-42},{"$f":"T118-HLOOKUP(X118,Feuil1!$C$1:$BL$10,9,FALSE)","v":-62},{"$f":"T118-HLOOKUP(X118,Feuil1!$C$1:$BL$10,10,FALSE)","v":-82},null,null,null,null,null,null,"IRG +"]
["F","SEST","RAL",36,386221,"SLAVOVA","Mariya",1982,54.83,"VAULX EN VELIN ","BUL",-47,47,50,50,57,-65,-65,57,107,-2.6599999999999966,"IRG +",7,{"$f":"IF(I119=\"\",\"\",IF(A119=\"H\",IF(OR(H119=\"SEN\",H119<1995),VLOOKUP(I119,Feuil1!$A$11:$F$29,6),IF(AND(H119>1994,H119<1998),VLOOKUP(I119,Feuil1!$A$11:$F$29,5),IF(AND(H119>1997,H119<2000),VLOOKUP(I119,Feuil1!$A$11:$F$29,4),IF(AND(H119>1999,H119<2002),VLOOKUP(I119,Feuil1!$A$11:$F$29,3),VLOOKUP(I119,Feuil1!$A$11:$F$29,2))))),IF(OR(H119=\"SEN\",H119<1995),VLOOKUP(I119,Feuil1!$G$11:$L$25,6),IF(AND(H119>1994,H119<1998),VLOOKUP(I119,Feuil1!$G$11:$L$25,5),IF(AND(H119>1997,H119<2000),VLOOKUP(I119,Feuil1!$G$11:$L$25,4),IF(AND(H119>1999,H119<2002),VLOOKUP(I119,Feuil1!$G$11:$L$25,3),VLOOKUP(I119,Feuil1!$G$11:$L$25,2)))))))","v":"FS58"},157.14741258983972,null," ",{"$f":"T119-HLOOKUP(X119,Feuil1!$C$1:$BL$10,2,FALSE)","v":37},{"$f":"T119-HLOOKUP(X119,Feuil1!$C$1:$BL$10,3,FALSE)","v":27},{"$f":"T119-HLOOKUP(X119,Feuil1!$C$1:$BL$10,4,FALSE)","v":17},{"$f":"T119-HLOOKUP(X119,Feuil1!$C$1:$BL$10,5,FALSE)","v":7},{"$f":"T119-HLOOKUP(X119,Feuil1!$C$1:$BL$10,6,FALSE)","v":-8},{"$f":"T119-HLOOKUP(X119,Feuil1!$C$1:$BL$10,7,FALSE)","v":-23},{"$f":"T119-HLOOKUP(X119,Feuil1!$C$1:$BL$10,8,FALSE)","v":-43},{"$f":"T119-HLOOKUP(X119,Feuil1!$C$1:$BL$10,9,FALSE)","v":-63},{"$f":"T119-HLOOKUP(X119,Feuil1!$C$1:$BL$10,10,FALSE)","v":-83},null,null,null,null,null,null,"IRG +"]
["F","NE","ALS",37,25608,"WITKOWSKI","DAGMAR",1958,53.4,"ASPTT Strasbourg","F",43,46,48,48,52,55,57,57,105,-1.7999999999999972,"IRG +",5,{"$f":"IF(I120=\"\",\"\",IF(A120=\"H\",IF(OR(H120=\"SEN\",H120<1995),VLOOKUP(I120,Feuil1!$A$11:$F$29,6),IF(AND(H120>1994,H120<1998),VLOOKUP(I120,Feuil1!$A$11:$F$29,5),IF(AND(H120>1997,H120<2000),VLOOKUP(I120,Feuil1!$A$11:$F$29,4),IF(AND(H120>1999,H120<2002),VLOOKUP(I120,Feuil1!$A$11:$F$29,3),VLOOKUP(I120,Feuil1!$A$11:$F$29,2))))),IF(OR(H120=\"SEN\",H120<1995),VLOOKUP(I120,Feuil1!$G$11:$L$25,6),IF(AND(H120>1994,H120<1998),VLOOKUP(I120,Feuil1!$G$11:$L$25,5),IF(AND(H120>1997,H120<2000),VLOOKUP(I120,Feuil1!$G$11:$L$25,4),IF(AND(H120>1999,H120<2002),VLOOKUP(I120,Feuil1!$G$11:$L$25,3),VLOOKUP(I120,Feuil1!$G$11:$L$25,2)))))))","v":"FS58"},157.43970892639774,null," ",{"$f":"T120-HLOOKUP(X120,Feuil1!$C$1:$BL$10,2,FALSE)","v":35},{"$f":"T120-HLOOKUP(X120,Feuil1!$C$1:$BL$10,3,FALSE)","v":25},{"$f":"T120-HLOOKUP(X120,Feuil1!$C$1:$BL$10,4,FALSE)","v":15},{"$f":"T120-HLOOKUP(X120,Feuil1!$C$1:$BL$10,5,FALSE)","v":5},{"$f":"T120-HLOOKUP(X120,Feuil1!$C$1:$BL$10,6,FALSE)","v":-10},{"$f":"T120-HLOOKUP(X120,Feuil1!$C$1:$BL$10,7,FALSE)","v":-25},{"$f":"T120-HLOOKUP(X120,Feuil1!$C$1:$BL$10,8,FALSE)","v":-45},{"$f":"T120-HLOOKUP(X120,Feuil1!$C$1:$BL$10,9,FALSE)","v":-65},{"$f":"T120-HLOOKUP(X120,Feuil1!$C$1:$BL$10,10,FALSE)","v":-85},null,null,null,null,null,null,"IRG +"]
["F","DOM","GUY",38,186614,"BOROT","Lenaïc",1994,57.8,"ASCPG/Rémire Montjoly","F",40,45,47,47,50,55,57,57,104,-11.599999999999994,"IRG +",4,{"$f":"IF(I121=\"\",\"\",IF(A121=\"H\",IF(OR(H121=\"SEN\",H121<1995),VLOOKUP(I121,Feuil1!$A$11:$F$29,6),IF(AND(H121>1994,H121<1998),VLOOKUP(I121,Feuil1!$A$11:$F$29,5),IF(AND(H121>1997,H121<2000),VLOOKUP(I121,Feuil1!$A$11:$F$29,4),IF(AND(H121>1999,H121<2002),VLOOKUP(I121,Feuil1!$A$11:$F$29,3),VLOOKUP(I121,Feuil1!$A$11:$F$29,2))))),IF(OR(H121=\"SEN\",H121<1995),VLOOKUP(I121,Feuil1!$G$11:$L$25,6),IF(AND(H121>1994,H121<1998),VLOOKUP(I121,Feuil1!$G$11:$L$25,5),IF(AND(H121>1997,H121<2000),VLOOKUP(I121,Feuil1!$G$11:$L$25,4),IF(AND(H121>1999,H121<2002),VLOOKUP(I121,Feuil1!$G$11:$L$25,3),VLOOKUP(I121,Feuil1!$G$11:$L$25,2)))))))","v":"FS58"},146.78964177055985,null," ",{"$f":"T121-HLOOKUP(X121,Feuil1!$C$1:$BL$10,2,FALSE)","v":34},{"$f":"T121-HLOOKUP(X121,Feuil1!$C$1:$BL$10,3,FALSE)","v":24},{"$f":"T121-HLOOKUP(X121,Feuil1!$C$1:$BL$10,4,FALSE)","v":14},{"$f":"T121-HLOOKUP(X121,Feuil1!$C$1:$BL$10,5,FALSE)","v":4},{"$f":"T121-HLOOKUP(X121,Feuil1!$C$1:$BL$10,6,FALSE)","v":-11},{"$f":"T121-HLOOKUP(X121,Feuil1!$C$1:$BL$10,7,FALSE)","v":-26},{"$f":"T121-HLOOKUP(X121,Feuil1!$C$1:$BL$10,8,FALSE)","v":-46},{"$f":"T121-HLOOKUP(X121,Feuil1!$C$1:$BL$10,9,FALSE)","v":-66},{"$f":"T121-HLOOKUP(X121,Feuil1!$C$1:$BL$10,10,FALSE)","v":-86},null,null,null,null,null,null,"IRG +"]
["F","NORD","NPC",39,275254,"DEMARCQ","Julie",1992,56.6,"CHCD COMINES","F",43,46,48,48,52,-55,55,55,103,-10.200000000000003,"IRG +",3,{"$f":"IF(I122=\"\",\"\",IF(A122=\"H\",IF(OR(H122=\"SEN\",H122<1995),VLOOKUP(I122,Feuil1!$A$11:$F$29,6),IF(AND(H122>1994,H122<1998),VLOOKUP(I122,Feuil1!$A$11:$F$29,5),IF(AND(H122>1997,H122<2000),VLOOKUP(I122,Feuil1!$A$11:$F$29,4),IF(AND(H122>1999,H122<2002),VLOOKUP(I122,Feuil1!$A$11:$F$29,3),VLOOKUP(I122,Feuil1!$A$11:$F$29,2))))),IF(OR(H122=\"SEN\",H122<1995),VLOOKUP(I122,Feuil1!$G$11:$L$25,6),IF(AND(H122>1994,H122<1998),VLOOKUP(I122,Feuil1!$G$11:$L$25,5),IF(AND(H122>1997,H122<2000),VLOOKUP(I122,Feuil1!$G$11:$L$25,4),IF(AND(H122>1999,H122<2002),VLOOKUP(I122,Feuil1!$G$11:$L$25,3),VLOOKUP(I122,Feuil1!$G$11:$L$25,2)))))))","v":"FS58"},147.65615066728026,null," ",{"$f":"T122-HLOOKUP(X122,Feuil1!$C$1:$BL$10,2,FALSE)","v":33},{"$f":"T122-HLOOKUP(X122,Feuil1!$C$1:$BL$10,3,FALSE)","v":23},{"$f":"T122-HLOOKUP(X122,Feuil1!$C$1:$BL$10,4,FALSE)","v":13},{"$f":"T122-HLOOKUP(X122,Feuil1!$C$1:$BL$10,5,FALSE)","v":3},{"$f":"T122-HLOOKUP(X122,Feuil1!$C$1:$BL$10,6,FALSE)","v":-12},{"$f":"T122-HLOOKUP(X122,Feuil1!$C$1:$BL$10,7,FALSE)","v":-27},{"$f":"T122-HLOOKUP(X122,Feuil1!$C$1:$BL$10,8,FALSE)","v":-47},{"$f":"T122-HLOOKUP(X122,Feuil1!$C$1:$BL$10,9,FALSE)","v":-67},{"$f":"T122-HLOOKUP(X122,Feuil1!$C$1:$BL$10,10,FALSE)","v":-87},null,null,null,null,null,null,"IRG +"]
["F","N","IDF",40,247918,"BLANCHARD","ISABELLE",1966,57,"MASSY","F",41,44,45,45,52,55,-57,55,100,-14,"IRG +",0,{"$f":"IF(I123=\"\",\"\",IF(A123=\"H\",IF(OR(H123=\"SEN\",H123<1995),VLOOKUP(I123,Feuil1!$A$11:$F$29,6),IF(AND(H123>1994,H123<1998),VLOOKUP(I123,Feuil1!$A$11:$F$29,5),IF(AND(H123>1997,H123<2000),VLOOKUP(I123,Feuil1!$A$11:$F$29,4),IF(AND(H123>1999,H123<2002),VLOOKUP(I123,Feuil1!$A$11:$F$29,3),VLOOKUP(I123,Feuil1!$A$11:$F$29,2))))),IF(OR(H123=\"SEN\",H123<1995),VLOOKUP(I123,Feuil1!$G$11:$L$25,6),IF(AND(H123>1994,H123<1998),VLOOKUP(I123,Feuil1!$G$11:$L$25,5),IF(AND(H123>1997,H123<2000),VLOOKUP(I123,Feuil1!$G$11:$L$25,4),IF(AND(H123>1999,H123<2002),VLOOKUP(I123,Feuil1!$G$11:$L$25,3),VLOOKUP(I123,Feuil1!$G$11:$L$25,2)))))))","v":"FS58"},142.60382733688834,null," ",{"$f":"T123-HLOOKUP(X123,Feuil1!$C$1:$BL$10,2,FALSE)","v":30},{"$f":"T123-HLOOKUP(X123,Feuil1!$C$1:$BL$10,3,FALSE)","v":20},{"$f":"T123-HLOOKUP(X123,Feuil1!$C$1:$BL$10,4,FALSE)","v":10},{"$f":"T123-HLOOKUP(X123,Feuil1!$C$1:$BL$10,5,FALSE)","v":0},{"$f":"T123-HLOOKUP(X123,Feuil1!$C$1:$BL$10,6,FALSE)","v":-15},{"$f":"T123-HLOOKUP(X123,Feuil1!$C$1:$BL$10,7,FALSE)","v":-30},{"$f":"T123-HLOOKUP(X123,Feuil1!$C$1:$BL$10,8,FALSE)","v":-50},{"$f":"T123-HLOOKUP(X123,Feuil1!$C$1:$BL$10,9,FALSE)","v":-70},{"$f":"T123-HLOOKUP(X123,Feuil1!$C$1:$BL$10,10,FALSE)","v":-90},null,null,null,null,null,null,"IRG +"]
["F","NORD","PIC",41,390951,"ANCRI","Cynthia",1994,56.8,"Saleux CHM","F",38,-41,41,41,48,53,56,56,97,-16.599999999999994,"REG +",7,{"$f":"IF(I124=\"\",\"\",IF(A124=\"H\",IF(OR(H124=\"SEN\",H124<1995),VLOOKUP(I124,Feuil1!$A$11:$F$29,6),IF(AND(H124>1994,H124<1998),VLOOKUP(I124,Feuil1!$A$11:$F$29,5),IF(AND(H124>1997,H124<2000),VLOOKUP(I124,Feuil1!$A$11:$F$29,4),IF(AND(H124>1999,H124<2002),VLOOKUP(I124,Feuil1!$A$11:$F$29,3),VLOOKUP(I124,Feuil1!$A$11:$F$29,2))))),IF(OR(H124=\"SEN\",H124<1995),VLOOKUP(I124,Feuil1!$G$11:$L$25,6),IF(AND(H124>1994,H124<1998),VLOOKUP(I124,Feuil1!$G$11:$L$25,5),IF(AND(H124>1997,H124<2000),VLOOKUP(I124,Feuil1!$G$11:$L$25,4),IF(AND(H124>1999,H124<2002),VLOOKUP(I124,Feuil1!$G$11:$L$25,3),VLOOKUP(I124,Feuil1!$G$11:$L$25,2)))))))","v":"FS58"},138.68847600891323,null," ",{"$f":"T124-HLOOKUP(X124,Feuil1!$C$1:$BL$10,2,FALSE)","v":27},{"$f":"T124-HLOOKUP(X124,Feuil1!$C$1:$BL$10,3,FALSE)","v":17},{"$f":"T124-HLOOKUP(X124,Feuil1!$C$1:$BL$10,4,FALSE)","v":7},{"$f":"T124-HLOOKUP(X124,Feuil1!$C$1:$BL$10,5,FALSE)","v":-3},{"$f":"T124-HLOOKUP(X124,Feuil1!$C$1:$BL$10,6,FALSE)","v":-18},{"$f":"T124-HLOOKUP(X124,Feuil1!$C$1:$BL$10,7,FALSE)","v":-33},{"$f":"T124-HLOOKUP(X124,Feuil1!$C$1:$BL$10,8,FALSE)","v":-53},{"$f":"T124-HLOOKUP(X124,Feuil1!$C$1:$BL$10,9,FALSE)","v":-73},{"$f":"T124-HLOOKUP(X124,Feuil1!$C$1:$BL$10,10,FALSE)","v":-93},null,null,null,null,null,null,"REG +"]
["F","NE","FCO",42,1144,"LOISEAU","Corinne",1963,57.9,"CH Luxeuil","F",40,43,-46,43,50,54,-57,54,97,-18.799999999999997,"REG +",7,{"$f":"IF(I125=\"\",\"\",IF(A125=\"H\",IF(OR(H125=\"SEN\",H125<1995),VLOOKUP(I125,Feuil1!$A$11:$F$29,6),IF(AND(H125>1994,H125<1998),VLOOKUP(I125,Feuil1!$A$11:$F$29,5),IF(AND(H125>1997,H125<2000),VLOOKUP(I125,Feuil1!$A$11:$F$29,4),IF(AND(H125>1999,H125<2002),VLOOKUP(I125,Feuil1!$A$11:$F$29,3),VLOOKUP(I125,Feuil1!$A$11:$F$29,2))))),IF(OR(H125=\"SEN\",H125<1995),VLOOKUP(I125,Feuil1!$G$11:$L$25,6),IF(AND(H125>1994,H125<1998),VLOOKUP(I125,Feuil1!$G$11:$L$25,5),IF(AND(H125>1997,H125<2000),VLOOKUP(I125,Feuil1!$G$11:$L$25,4),IF(AND(H125>1999,H125<2002),VLOOKUP(I125,Feuil1!$G$11:$L$25,3),VLOOKUP(I125,Feuil1!$G$11:$L$25,2)))))))","v":"FS58"},136.73638818848045,null," ",{"$f":"T125-HLOOKUP(X125,Feuil1!$C$1:$BL$10,2,FALSE)","v":27},{"$f":"T125-HLOOKUP(X125,Feuil1!$C$1:$BL$10,3,FALSE)","v":17},{"$f":"T125-HLOOKUP(X125,Feuil1!$C$1:$BL$10,4,FALSE)","v":7},{"$f":"T125-HLOOKUP(X125,Feuil1!$C$1:$BL$10,5,FALSE)","v":-3},{"$f":"T125-HLOOKUP(X125,Feuil1!$C$1:$BL$10,6,FALSE)","v":-18},{"$f":"T125-HLOOKUP(X125,Feuil1!$C$1:$BL$10,7,FALSE)","v":-33},{"$f":"T125-HLOOKUP(X125,Feuil1!$C$1:$BL$10,8,FALSE)","v":-53},{"$f":"T125-HLOOKUP(X125,Feuil1!$C$1:$BL$10,9,FALSE)","v":-73},{"$f":"T125-HLOOKUP(X125,Feuil1!$C$1:$BL$10,10,FALSE)","v":-93},null,null,null,null,null,null,"REG +"]
["F","NORD","PIC",43,364228,"PETIT","Juliette",1985,53.8,"Villers-Bretonneux KC","F",40,-43,43,43,50,53,-56,53,96,-11.599999999999994,"REG +",6,{"$f":"IF(I126=\"\",\"\",IF(A126=\"H\",IF(OR(H126=\"SEN\",H126<1995),VLOOKUP(I126,Feuil1!$A$11:$F$29,6),IF(AND(H126>1994,H126<1998),VLOOKUP(I126,Feuil1!$A$11:$F$29,5),IF(AND(H126>1997,H126<2000),VLOOKUP(I126,Feuil1!$A$11:$F$29,4),IF(AND(H126>1999,H126<2002),VLOOKUP(I126,Feuil1!$A$11:$F$29,3),VLOOKUP(I126,Feuil1!$A$11:$F$29,2))))),IF(OR(H126=\"SEN\",H126<1995),VLOOKUP(I126,Feuil1!$G$11:$L$25,6),IF(AND(H126>1994,H126<1998),VLOOKUP(I126,Feuil1!$G$11:$L$25,5),IF(AND(H126>1997,H126<2000),VLOOKUP(I126,Feuil1!$G$11:$L$25,4),IF(AND(H126>1999,H126<2002),VLOOKUP(I126,Feuil1!$G$11:$L$25,3),VLOOKUP(I126,Feuil1!$G$11:$L$25,2)))))))","v":"FS58"},143.09692354553869,null," ",{"$f":"T126-HLOOKUP(X126,Feuil1!$C$1:$BL$10,2,FALSE)","v":26},{"$f":"T126-HLOOKUP(X126,Feuil1!$C$1:$BL$10,3,FALSE)","v":16},{"$f":"T126-HLOOKUP(X126,Feuil1!$C$1:$BL$10,4,FALSE)","v":6},{"$f":"T126-HLOOKUP(X126,Feuil1!$C$1:$BL$10,5,FALSE)","v":-4},{"$f":"T126-HLOOKUP(X126,Feuil1!$C$1:$BL$10,6,FALSE)","v":-19},{"$f":"T126-HLOOKUP(X126,Feuil1!$C$1:$BL$10,7,FALSE)","v":-34},{"$f":"T126-HLOOKUP(X126,Feuil1!$C$1:$BL$10,8,FALSE)","v":-54},{"$f":"T126-HLOOKUP(X126,Feuil1!$C$1:$BL$10,9,FALSE)","v":-74},{"$f":"T126-HLOOKUP(X126,Feuil1!$C$1:$BL$10,10,FALSE)","v":-94},null,null,null,null,null,null,"REG +"]
["F","SEST","AUV",44,390737,"SZALA","Joanna",1985,58,"CROSSWOD TEAM","F",38,40,-42,40,52,55,-57,55,95,-21,"REG +",5,{"$f":"IF(I127=\"\",\"\",IF(A127=\"H\",IF(OR(H127=\"SEN\",H127<1995),VLOOKUP(I127,Feuil1!$A$11:$F$29,6),IF(AND(H127>1994,H127<1998),VLOOKUP(I127,Feuil1!$A$11:$F$29,5),IF(AND(H127>1997,H127<2000),VLOOKUP(I127,Feuil1!$A$11:$F$29,4),IF(AND(H127>1999,H127<2002),VLOOKUP(I127,Feuil1!$A$11:$F$29,3),VLOOKUP(I127,Feuil1!$A$11:$F$29,2))))),IF(OR(H127=\"SEN\",H127<1995),VLOOKUP(I127,Feuil1!$G$11:$L$25,6),IF(AND(H127>1994,H127<1998),VLOOKUP(I127,Feuil1!$G$11:$L$25,5),IF(AND(H127>1997,H127<2000),VLOOKUP(I127,Feuil1!$G$11:$L$25,4),IF(AND(H127>1999,H127<2002),VLOOKUP(I127,Feuil1!$G$11:$L$25,3),VLOOKUP(I127,Feuil1!$G$11:$L$25,2)))))))","v":"FS58"},133.7482877682763,null," ",{"$f":"T127-HLOOKUP(X127,Feuil1!$C$1:$BL$10,2,FALSE)","v":25},{"$f":"T127-HLOOKUP(X127,Feuil1!$C$1:$BL$10,3,FALSE)","v":15},{"$f":"T127-HLOOKUP(X127,Feuil1!$C$1:$BL$10,4,FALSE)","v":5},{"$f":"T127-HLOOKUP(X127,Feuil1!$C$1:$BL$10,5,FALSE)","v":-5},{"$f":"T127-HLOOKUP(X127,Feuil1!$C$1:$BL$10,6,FALSE)","v":-20},{"$f":"T127-HLOOKUP(X127,Feuil1!$C$1:$BL$10,7,FALSE)","v":-35},{"$f":"T127-HLOOKUP(X127,Feuil1!$C$1:$BL$10,8,FALSE)","v":-55},{"$f":"T127-HLOOKUP(X127,Feuil1!$C$1:$BL$10,9,FALSE)","v":-75},{"$f":"T127-HLOOKUP(X127,Feuil1!$C$1:$BL$10,10,FALSE)","v":-95},null,null,null,null,null,null,"REG +"]
["F","NORD","NPC",45,231359,"BAUQUEL","Bénédicte",1993,54.6,"C.A.ROSENDAEL","F",35,38,41,41,50,53,-55,53,94,-15.200000000000003,"REG +",4,{"$f":"IF(I128=\"\",\"\",IF(A128=\"H\",IF(OR(H128=\"SEN\",H128<1995),VLOOKUP(I128,Feuil1!$A$11:$F$29,6),IF(AND(H128>1994,H128<1998),VLOOKUP(I128,Feuil1!$A$11:$F$29,5),IF(AND(H128>1997,H128<2000),VLOOKUP(I128,Feuil1!$A$11:$F$29,4),IF(AND(H128>1999,H128<2002),VLOOKUP(I128,Feuil1!$A$11:$F$29,3),VLOOKUP(I128,Feuil1!$A$11:$F$29,2))))),IF(OR(H128=\"SEN\",H128<1995),VLOOKUP(I128,Feuil1!$G$11:$L$25,6),IF(AND(H128>1994,H128<1998),VLOOKUP(I128,Feuil1!$G$11:$L$25,5),IF(AND(H128>1997,H128<2000),VLOOKUP(I128,Feuil1!$G$11:$L$25,4),IF(AND(H128>1999,H128<2002),VLOOKUP(I128,Feuil1!$G$11:$L$25,3),VLOOKUP(I128,Feuil1!$G$11:$L$25,2)))))))","v":"FS58"},138.5056025467299,null," ",{"$f":"T128-HLOOKUP(X128,Feuil1!$C$1:$BL$10,2,FALSE)","v":24},{"$f":"T128-HLOOKUP(X128,Feuil1!$C$1:$BL$10,3,FALSE)","v":14},{"$f":"T128-HLOOKUP(X128,Feuil1!$C$1:$BL$10,4,FALSE)","v":4},{"$f":"T128-HLOOKUP(X128,Feuil1!$C$1:$BL$10,5,FALSE)","v":-6},{"$f":"T128-HLOOKUP(X128,Feuil1!$C$1:$BL$10,6,FALSE)","v":-21},{"$f":"T128-HLOOKUP(X128,Feuil1!$C$1:$BL$10,7,FALSE)","v":-36},{"$f":"T128-HLOOKUP(X128,Feuil1!$C$1:$BL$10,8,FALSE)","v":-56},{"$f":"T128-HLOOKUP(X128,Feuil1!$C$1:$BL$10,9,FALSE)","v":-76},{"$f":"T128-HLOOKUP(X128,Feuil1!$C$1:$BL$10,10,FALSE)","v":-96},null,null,null,null,null,null,"REG +"]
["F","SO","AQU",46,393080,"BASSO","MADELINE",1990,56.4,"ASOA Aquitaine","F",37,40,-42,40,-50,52,54,54,94,-18.799999999999997,"REG +",4,{"$f":"IF(I129=\"\",\"\",IF(A129=\"H\",IF(OR(H129=\"SEN\",H129<1995),VLOOKUP(I129,Feuil1!$A$11:$F$29,6),IF(AND(H129>1994,H129<1998),VLOOKUP(I129,Feuil1!$A$11:$F$29,5),IF(AND(H129>1997,H129<2000),VLOOKUP(I129,Feuil1!$A$11:$F$29,4),IF(AND(H129>1999,H129<2002),VLOOKUP(I129,Feuil1!$A$11:$F$29,3),VLOOKUP(I129,Feuil1!$A$11:$F$29,2))))),IF(OR(H129=\"SEN\",H129<1995),VLOOKUP(I129,Feuil1!$G$11:$L$25,6),IF(AND(H129>1994,H129<1998),VLOOKUP(I129,Feuil1!$G$11:$L$25,5),IF(AND(H129>1997,H129<2000),VLOOKUP(I129,Feuil1!$G$11:$L$25,4),IF(AND(H129>1999,H129<2002),VLOOKUP(I129,Feuil1!$G$11:$L$25,3),VLOOKUP(I129,Feuil1!$G$11:$L$25,2)))))))","v":"FS58"},135.11268871119634,null," ",{"$f":"T129-HLOOKUP(X129,Feuil1!$C$1:$BL$10,2,FALSE)","v":24},{"$f":"T129-HLOOKUP(X129,Feuil1!$C$1:$BL$10,3,FALSE)","v":14},{"$f":"T129-HLOOKUP(X129,Feuil1!$C$1:$BL$10,4,FALSE)","v":4},{"$f":"T129-HLOOKUP(X129,Feuil1!$C$1:$BL$10,5,FALSE)","v":-6},{"$f":"T129-HLOOKUP(X129,Feuil1!$C$1:$BL$10,6,FALSE)","v":-21},{"$f":"T129-HLOOKUP(X129,Feuil1!$C$1:$BL$10,7,FALSE)","v":-36},{"$f":"T129-HLOOKUP(X129,Feuil1!$C$1:$BL$10,8,FALSE)","v":-56},{"$f":"T129-HLOOKUP(X129,Feuil1!$C$1:$BL$10,9,FALSE)","v":-76},{"$f":"T129-HLOOKUP(X129,Feuil1!$C$1:$BL$10,10,FALSE)","v":-96},null,null,null,null,null,null,"REG +"]
["F","SO","MPY",47,356135,"VALENCIA","Caroline",1994,56.7,"TARBES CUTPH","F",38,40,42,42,48,50,52,52,94,-19.400000000000006,"REG +",4,{"$f":"IF(I130=\"\",\"\",IF(A130=\"H\",IF(OR(H130=\"SEN\",H130<1995),VLOOKUP(I130,Feuil1!$A$11:$F$29,6),IF(AND(H130>1994,H130<1998),VLOOKUP(I130,Feuil1!$A$11:$F$29,5),IF(AND(H130>1997,H130<2000),VLOOKUP(I130,Feuil1!$A$11:$F$29,4),IF(AND(H130>1999,H130<2002),VLOOKUP(I130,Feuil1!$A$11:$F$29,3),VLOOKUP(I130,Feuil1!$A$11:$F$29,2))))),IF(OR(H130=\"SEN\",H130<1995),VLOOKUP(I130,Feuil1!$G$11:$L$25,6),IF(AND(H130>1994,H130<1998),VLOOKUP(I130,Feuil1!$G$11:$L$25,5),IF(AND(H130>1997,H130<2000),VLOOKUP(I130,Feuil1!$G$11:$L$25,4),IF(AND(H130>1999,H130<2002),VLOOKUP(I130,Feuil1!$G$11:$L$25,3),VLOOKUP(I130,Feuil1!$G$11:$L$25,2)))))))","v":"FS58"},134.5762125907525,null," ",{"$f":"T130-HLOOKUP(X130,Feuil1!$C$1:$BL$10,2,FALSE)","v":24},{"$f":"T130-HLOOKUP(X130,Feuil1!$C$1:$BL$10,3,FALSE)","v":14},{"$f":"T130-HLOOKUP(X130,Feuil1!$C$1:$BL$10,4,FALSE)","v":4},{"$f":"T130-HLOOKUP(X130,Feuil1!$C$1:$BL$10,5,FALSE)","v":-6},{"$f":"T130-HLOOKUP(X130,Feuil1!$C$1:$BL$10,6,FALSE)","v":-21},{"$f":"T130-HLOOKUP(X130,Feuil1!$C$1:$BL$10,7,FALSE)","v":-36},{"$f":"T130-HLOOKUP(X130,Feuil1!$C$1:$BL$10,8,FALSE)","v":-56},{"$f":"T130-HLOOKUP(X130,Feuil1!$C$1:$BL$10,9,FALSE)","v":-76},{"$f":"T130-HLOOKUP(X130,Feuil1!$C$1:$BL$10,10,FALSE)","v":-96},null,null,null,null,null,null,"REG +"]
["F","NORD","PIC",48,268516,"BEY","Louise",1994,58,"Saleux CHM","F",-39,40,-42,40,50,54,-56,54,94,-22,"REG +",4,{"$f":"IF(I131=\"\",\"\",IF(A131=\"H\",IF(OR(H131=\"SEN\",H131<1995),VLOOKUP(I131,Feuil1!$A$11:$F$29,6),IF(AND(H131>1994,H131<1998),VLOOKUP(I131,Feuil1!$A$11:$F$29,5),IF(AND(H131>1997,H131<2000),VLOOKUP(I131,Feuil1!$A$11:$F$29,4),IF(AND(H131>1999,H131<2002),VLOOKUP(I131,Feuil1!$A$11:$F$29,3),VLOOKUP(I131,Feuil1!$A$11:$F$29,2))))),IF(OR(H131=\"SEN\",H131<1995),VLOOKUP(I131,Feuil1!$G$11:$L$25,6),IF(AND(H131>1994,H131<1998),VLOOKUP(I131,Feuil1!$G$11:$L$25,5),IF(AND(H131>1997,H131<2000),VLOOKUP(I131,Feuil1!$G$11:$L$25,4),IF(AND(H131>1999,H131<2002),VLOOKUP(I131,Feuil1!$G$11:$L$25,3),VLOOKUP(I131,Feuil1!$G$11:$L$25,2)))))))","v":"FS58"},132.34041105492602,null," ",{"$f":"T131-HLOOKUP(X131,Feuil1!$C$1:$BL$10,2,FALSE)","v":24},{"$f":"T131-HLOOKUP(X131,Feuil1!$C$1:$BL$10,3,FALSE)","v":14},{"$f":"T131-HLOOKUP(X131,Feuil1!$C$1:$BL$10,4,FALSE)","v":4},{"$f":"T131-HLOOKUP(X131,Feuil1!$C$1:$BL$10,5,FALSE)","v":-6},{"$f":"T131-HLOOKUP(X131,Feuil1!$C$1:$BL$10,6,FALSE)","v":-21},{"$f":"T131-HLOOKUP(X131,Feuil1!$C$1:$BL$10,7,FALSE)","v":-36},{"$f":"T131-HLOOKUP(X131,Feuil1!$C$1:$BL$10,8,FALSE)","v":-56},{"$f":"T131-HLOOKUP(X131,Feuil1!$C$1:$BL$10,9,FALSE)","v":-76},{"$f":"T131-HLOOKUP(X131,Feuil1!$C$1:$BL$10,10,FALSE)","v":-96},null,null,null,null,null,null,"REG +"]
["F","N","IDF",49,385692,"PATTE","AURELIE",1981,55,"FRANCONVILLE","F",37,40,42,42,48,51,-53,51,93,-17,"REG +",3,{"$f":"IF(I132=\"\",\"\",IF(A132=\"H\",IF(OR(H132=\"SEN\",H132<1995),VLOOKUP(I132,Feuil1!$A$11:$F$29,6),IF(AND(H132>1994,H132<1998),VLOOKUP(I132,Feuil1!$A$11:$F$29,5),IF(AND(H132>1997,H132<2000),VLOOKUP(I132,Feuil1!$A$11:$F$29,4),IF(AND(H132>1999,H132<2002),VLOOKUP(I132,Feuil1!$A$11:$F$29,3),VLOOKUP(I132,Feuil1!$A$11:$F$29,2))))),IF(OR(H132=\"SEN\",H132<1995),VLOOKUP(I132,Feuil1!$G$11:$L$25,6),IF(AND(H132>1994,H132<1998),VLOOKUP(I132,Feuil1!$G$11:$L$25,5),IF(AND(H132>1997,H132<2000),VLOOKUP(I132,Feuil1!$G$11:$L$25,4),IF(AND(H132>1999,H132<2002),VLOOKUP(I132,Feuil1!$G$11:$L$25,3),VLOOKUP(I132,Feuil1!$G$11:$L$25,2)))))))","v":"FS58"},136.25969461150535,null," ",{"$f":"T132-HLOOKUP(X132,Feuil1!$C$1:$BL$10,2,FALSE)","v":23},{"$f":"T132-HLOOKUP(X132,Feuil1!$C$1:$BL$10,3,FALSE)","v":13},{"$f":"T132-HLOOKUP(X132,Feuil1!$C$1:$BL$10,4,FALSE)","v":3},{"$f":"T132-HLOOKUP(X132,Feuil1!$C$1:$BL$10,5,FALSE)","v":-7},{"$f":"T132-HLOOKUP(X132,Feuil1!$C$1:$BL$10,6,FALSE)","v":-22},{"$f":"T132-HLOOKUP(X132,Feuil1!$C$1:$BL$10,7,FALSE)","v":-37},{"$f":"T132-HLOOKUP(X132,Feuil1!$C$1:$BL$10,8,FALSE)","v":-57},{"$f":"T132-HLOOKUP(X132,Feuil1!$C$1:$BL$10,9,FALSE)","v":-77},{"$f":"T132-HLOOKUP(X132,Feuil1!$C$1:$BL$10,10,FALSE)","v":-97},null,null,null,null,null,null,"REG +"]
["F","CO","BNO",50,167445,"LOUDIERE","Nathalie",1966,56,"Caen CHM","F",37,-40,40,40,50,53,-55,53,93,-19,"REG +",3,{"$f":"IF(I133=\"\",\"\",IF(A133=\"H\",IF(OR(H133=\"SEN\",H133<1995),VLOOKUP(I133,Feuil1!$A$11:$F$29,6),IF(AND(H133>1994,H133<1998),VLOOKUP(I133,Feuil1!$A$11:$F$29,5),IF(AND(H133>1997,H133<2000),VLOOKUP(I133,Feuil1!$A$11:$F$29,4),IF(AND(H133>1999,H133<2002),VLOOKUP(I133,Feuil1!$A$11:$F$29,3),VLOOKUP(I133,Feuil1!$A$11:$F$29,2))))),IF(OR(H133=\"SEN\",H133<1995),VLOOKUP(I133,Feuil1!$G$11:$L$25,6),IF(AND(H133>1994,H133<1998),VLOOKUP(I133,Feuil1!$G$11:$L$25,5),IF(AND(H133>1997,H133<2000),VLOOKUP(I133,Feuil1!$G$11:$L$25,4),IF(AND(H133>1999,H133<2002),VLOOKUP(I133,Feuil1!$G$11:$L$25,3),VLOOKUP(I133,Feuil1!$G$11:$L$25,2)))))))","v":"FS58"},134.3953757628492,null," ",{"$f":"T133-HLOOKUP(X133,Feuil1!$C$1:$BL$10,2,FALSE)","v":23},{"$f":"T133-HLOOKUP(X133,Feuil1!$C$1:$BL$10,3,FALSE)","v":13},{"$f":"T133-HLOOKUP(X133,Feuil1!$C$1:$BL$10,4,FALSE)","v":3},{"$f":"T133-HLOOKUP(X133,Feuil1!$C$1:$BL$10,5,FALSE)","v":-7},{"$f":"T133-HLOOKUP(X133,Feuil1!$C$1:$BL$10,6,FALSE)","v":-22},{"$f":"T133-HLOOKUP(X133,Feuil1!$C$1:$BL$10,7,FALSE)","v":-37},{"$f":"T133-HLOOKUP(X133,Feuil1!$C$1:$BL$10,8,FALSE)","v":-57},{"$f":"T133-HLOOKUP(X133,Feuil1!$C$1:$BL$10,9,FALSE)","v":-77},{"$f":"T133-HLOOKUP(X133,Feuil1!$C$1:$BL$10,10,FALSE)","v":-97},null,null,null,null,null,null,"REG +"]
["F","SEST","LAN ",51,374524,"RIBEIRO","Lucie",1991,55,"HC Grand Combe","F",37,41,-45,41,47,-51,51,51,92,-18,"REG +",2,{"$f":"IF(I134=\"\",\"\",IF(A134=\"H\",IF(OR(H134=\"SEN\",H134<1995),VLOOKUP(I134,Feuil1!$A$11:$F$29,6),IF(AND(H134>1994,H134<1998),VLOOKUP(I134,Feuil1!$A$11:$F$29,5),IF(AND(H134>1997,H134<2000),VLOOKUP(I134,Feuil1!$A$11:$F$29,4),IF(AND(H134>1999,H134<2002),VLOOKUP(I134,Feuil1!$A$11:$F$29,3),VLOOKUP(I134,Feuil1!$A$11:$F$29,2))))),IF(OR(H134=\"SEN\",H134<1995),VLOOKUP(I134,Feuil1!$G$11:$L$25,6),IF(AND(H134>1994,H134<1998),VLOOKUP(I134,Feuil1!$G$11:$L$25,5),IF(AND(H134>1997,H134<2000),VLOOKUP(I134,Feuil1!$G$11:$L$25,4),IF(AND(H134>1999,H134<2002),VLOOKUP(I134,Feuil1!$G$11:$L$25,3),VLOOKUP(I134,Feuil1!$G$11:$L$25,2)))))))","v":"FS58"},134.79453660493004,null," ",{"$f":"T134-HLOOKUP(X134,Feuil1!$C$1:$BL$10,2,FALSE)","v":22},{"$f":"T134-HLOOKUP(X134,Feuil1!$C$1:$BL$10,3,FALSE)","v":12},{"$f":"T134-HLOOKUP(X134,Feuil1!$C$1:$BL$10,4,FALSE)","v":2},{"$f":"T134-HLOOKUP(X134,Feuil1!$C$1:$BL$10,5,FALSE)","v":-8},{"$f":"T134-HLOOKUP(X134,Feuil1!$C$1:$BL$10,6,FALSE)","v":-23},{"$f":"T134-HLOOKUP(X134,Feuil1!$C$1:$BL$10,7,FALSE)","v":-38},{"$f":"T134-HLOOKUP(X134,Feuil1!$C$1:$BL$10,8,FALSE)","v":-58},{"$f":"T134-HLOOKUP(X134,Feuil1!$C$1:$BL$10,9,FALSE)","v":-78},{"$f":"T134-HLOOKUP(X134,Feuil1!$C$1:$BL$10,10,FALSE)","v":-98},null,null,null,null,null,null,"REG +"]
["F","SEST","CAZ",52,307137,"FERRARI","Elodie",1991,54,"ES VILLE LOUBET","F",35,38,41,41,45,48,50,50,91,-17,"REG +",1,{"$f":"IF(I135=\"\",\"\",IF(A135=\"H\",IF(OR(H135=\"SEN\",H135<1995),VLOOKUP(I135,Feuil1!$A$11:$F$29,6),IF(AND(H135>1994,H135<1998),VLOOKUP(I135,Feuil1!$A$11:$F$29,5),IF(AND(H135>1997,H135<2000),VLOOKUP(I135,Feuil1!$A$11:$F$29,4),IF(AND(H135>1999,H135<2002),VLOOKUP(I135,Feuil1!$A$11:$F$29,3),VLOOKUP(I135,Feuil1!$A$11:$F$29,2))))),IF(OR(H135=\"SEN\",H135<1995),VLOOKUP(I135,Feuil1!$G$11:$L$25,6),IF(AND(H135>1994,H135<1998),VLOOKUP(I135,Feuil1!$G$11:$L$25,5),IF(AND(H135>1997,H135<2000),VLOOKUP(I135,Feuil1!$G$11:$L$25,4),IF(AND(H135>1999,H135<2002),VLOOKUP(I135,Feuil1!$G$11:$L$25,3),VLOOKUP(I135,Feuil1!$G$11:$L$25,2)))))))","v":"FS58"},135.2482517911119,null," ",{"$f":"T135-HLOOKUP(X135,Feuil1!$C$1:$BL$10,2,FALSE)","v":21},{"$f":"T135-HLOOKUP(X135,Feuil1!$C$1:$BL$10,3,FALSE)","v":11},{"$f":"T135-HLOOKUP(X135,Feuil1!$C$1:$BL$10,4,FALSE)","v":1},{"$f":"T135-HLOOKUP(X135,Feuil1!$C$1:$BL$10,5,FALSE)","v":-9},{"$f":"T135-HLOOKUP(X135,Feuil1!$C$1:$BL$10,6,FALSE)","v":-24},{"$f":"T135-HLOOKUP(X135,Feuil1!$C$1:$BL$10,7,FALSE)","v":-39},{"$f":"T135-HLOOKUP(X135,Feuil1!$C$1:$BL$10,8,FALSE)","v":-59},{"$f":"T135-HLOOKUP(X135,Feuil1!$C$1:$BL$10,9,FALSE)","v":-79},{"$f":"T135-HLOOKUP(X135,Feuil1!$C$1:$BL$10,10,FALSE)","v":-99},null,null,null,null,null,null,"REG +"]
["F","N","IDF",53,382103,"COCHET","ANNE",1987,55,"NEUILLY","F",35,-37,37,37,50,52,54,54,91,-19,"REG +",1,{"$f":"IF(I136=\"\",\"\",IF(A136=\"H\",IF(OR(H136=\"SEN\",H136<1995),VLOOKUP(I136,Feuil1!$A$11:$F$29,6),IF(AND(H136>1994,H136<1998),VLOOKUP(I136,Feuil1!$A$11:$F$29,5),IF(AND(H136>1997,H136<2000),VLOOKUP(I136,Feuil1!$A$11:$F$29,4),IF(AND(H136>1999,H136<2002),VLOOKUP(I136,Feuil1!$A$11:$F$29,3),VLOOKUP(I136,Feuil1!$A$11:$F$29,2))))),IF(OR(H136=\"SEN\",H136<1995),VLOOKUP(I136,Feuil1!$G$11:$L$25,6),IF(AND(H136>1994,H136<1998),VLOOKUP(I136,Feuil1!$G$11:$L$25,5),IF(AND(H136>1997,H136<2000),VLOOKUP(I136,Feuil1!$G$11:$L$25,4),IF(AND(H136>1999,H136<2002),VLOOKUP(I136,Feuil1!$G$11:$L$25,3),VLOOKUP(I136,Feuil1!$G$11:$L$25,2)))))))","v":"FS58"},133.32937859835471,null," ",{"$f":"T136-HLOOKUP(X136,Feuil1!$C$1:$BL$10,2,FALSE)","v":21},{"$f":"T136-HLOOKUP(X136,Feuil1!$C$1:$BL$10,3,FALSE)","v":11},{"$f":"T136-HLOOKUP(X136,Feuil1!$C$1:$BL$10,4,FALSE)","v":1},{"$f":"T136-HLOOKUP(X136,Feuil1!$C$1:$BL$10,5,FALSE)","v":-9},{"$f":"T136-HLOOKUP(X136,Feuil1!$C$1:$BL$10,6,FALSE)","v":-24},{"$f":"T136-HLOOKUP(X136,Feuil1!$C$1:$BL$10,7,FALSE)","v":-39},{"$f":"T136-HLOOKUP(X136,Feuil1!$C$1:$BL$10,8,FALSE)","v":-59},{"$f":"T136-HLOOKUP(X136,Feuil1!$C$1:$BL$10,9,FALSE)","v":-79},{"$f":"T136-HLOOKUP(X136,Feuil1!$C$1:$BL$10,10,FALSE)","v":-99},null,null,null,null,null,null,"REG +"]
["F","N","IDF",54,397676,"CARRION","Hélène",1986,55.9,"BLANC-MESNIL","F",35,38,40,40,45,49,51,51,91,-20.799999999999997,"REG +",1,{"$f":"IF(I137=\"\",\"\",IF(A137=\"H\",IF(OR(H137=\"SEN\",H137<1995),VLOOKUP(I137,Feuil1!$A$11:$F$29,6),IF(AND(H137>1994,H137<1998),VLOOKUP(I137,Feuil1!$A$11:$F$29,5),IF(AND(H137>1997,H137<2000),VLOOKUP(I137,Feuil1!$A$11:$F$29,4),IF(AND(H137>1999,H137<2002),VLOOKUP(I137,Feuil1!$A$11:$F$29,3),VLOOKUP(I137,Feuil1!$A$11:$F$29,2))))),IF(OR(H137=\"SEN\",H137<1995),VLOOKUP(I137,Feuil1!$G$11:$L$25,6),IF(AND(H137>1994,H137<1998),VLOOKUP(I137,Feuil1!$G$11:$L$25,5),IF(AND(H137>1997,H137<2000),VLOOKUP(I137,Feuil1!$G$11:$L$25,4),IF(AND(H137>1999,H137<2002),VLOOKUP(I137,Feuil1!$G$11:$L$25,3),VLOOKUP(I137,Feuil1!$G$11:$L$25,2)))))))","v":"FS58"},131.68349380790488,null," ",{"$f":"T137-HLOOKUP(X137,Feuil1!$C$1:$BL$10,2,FALSE)","v":21},{"$f":"T137-HLOOKUP(X137,Feuil1!$C$1:$BL$10,3,FALSE)","v":11},{"$f":"T137-HLOOKUP(X137,Feuil1!$C$1:$BL$10,4,FALSE)","v":1},{"$f":"T137-HLOOKUP(X137,Feuil1!$C$1:$BL$10,5,FALSE)","v":-9},{"$f":"T137-HLOOKUP(X137,Feuil1!$C$1:$BL$10,6,FALSE)","v":-24},{"$f":"T137-HLOOKUP(X137,Feuil1!$C$1:$BL$10,7,FALSE)","v":-39},{"$f":"T137-HLOOKUP(X137,Feuil1!$C$1:$BL$10,8,FALSE)","v":-59},{"$f":"T137-HLOOKUP(X137,Feuil1!$C$1:$BL$10,9,FALSE)","v":-79},{"$f":"T137-HLOOKUP(X137,Feuil1!$C$1:$BL$10,10,FALSE)","v":-99},null,null,null,null,null,null,"REG +"]
["F","SO","AQU",55,169799,"GIRAUD","ISABELLE",1966,56.5,"ASOA Aquitaine","F",-35,35,38,38,49,-52,52,52,90,-23,"REG +",0,{"$f":"IF(I138=\"\",\"\",IF(A138=\"H\",IF(OR(H138=\"SEN\",H138<1995),VLOOKUP(I138,Feuil1!$A$11:$F$29,6),IF(AND(H138>1994,H138<1998),VLOOKUP(I138,Feuil1!$A$11:$F$29,5),IF(AND(H138>1997,H138<2000),VLOOKUP(I138,Feuil1!$A$11:$F$29,4),IF(AND(H138>1999,H138<2002),VLOOKUP(I138,Feuil1!$A$11:$F$29,3),VLOOKUP(I138,Feuil1!$A$11:$F$29,2))))),IF(OR(H138=\"SEN\",H138<1995),VLOOKUP(I138,Feuil1!$G$11:$L$25,6),IF(AND(H138>1994,H138<1998),VLOOKUP(I138,Feuil1!$G$11:$L$25,5),IF(AND(H138>1997,H138<2000),VLOOKUP(I138,Feuil1!$G$11:$L$25,4),IF(AND(H138>1999,H138<2002),VLOOKUP(I138,Feuil1!$G$11:$L$25,3),VLOOKUP(I138,Feuil1!$G$11:$L$25,2)))))))","v":"FS58"},129.19115142690137,null," ",{"$f":"T138-HLOOKUP(X138,Feuil1!$C$1:$BL$10,2,FALSE)","v":20},{"$f":"T138-HLOOKUP(X138,Feuil1!$C$1:$BL$10,3,FALSE)","v":10},{"$f":"T138-HLOOKUP(X138,Feuil1!$C$1:$BL$10,4,FALSE)","v":0},{"$f":"T138-HLOOKUP(X138,Feuil1!$C$1:$BL$10,5,FALSE)","v":-10},{"$f":"T138-HLOOKUP(X138,Feuil1!$C$1:$BL$10,6,FALSE)","v":-25},{"$f":"T138-HLOOKUP(X138,Feuil1!$C$1:$BL$10,7,FALSE)","v":-40},{"$f":"T138-HLOOKUP(X138,Feuil1!$C$1:$BL$10,8,FALSE)","v":-60},{"$f":"T138-HLOOKUP(X138,Feuil1!$C$1:$BL$10,9,FALSE)","v":-80},{"$f":"T138-HLOOKUP(X138,Feuil1!$C$1:$BL$10,10,FALSE)","v":-100},null,null,null,null,null,null,"REG +"]
["F","NE","CHA",56,368816,"MICHOT","Cécile",1974,57.2,"Reims HM","F",35,-38,38,38,48,52,-54,52,90,-24.400000000000006,"REG +",0,{"$f":"IF(I139=\"\",\"\",IF(A139=\"H\",IF(OR(H139=\"SEN\",H139<1995),VLOOKUP(I139,Feuil1!$A$11:$F$29,6),IF(AND(H139>1994,H139<1998),VLOOKUP(I139,Feuil1!$A$11:$F$29,5),IF(AND(H139>1997,H139<2000),VLOOKUP(I139,Feuil1!$A$11:$F$29,4),IF(AND(H139>1999,H139<2002),VLOOKUP(I139,Feuil1!$A$11:$F$29,3),VLOOKUP(I139,Feuil1!$A$11:$F$29,2))))),IF(OR(H139=\"SEN\",H139<1995),VLOOKUP(I139,Feuil1!$G$11:$L$25,6),IF(AND(H139>1994,H139<1998),VLOOKUP(I139,Feuil1!$G$11:$L$25,5),IF(AND(H139>1997,H139<2000),VLOOKUP(I139,Feuil1!$G$11:$L$25,4),IF(AND(H139>1999,H139<2002),VLOOKUP(I139,Feuil1!$G$11:$L$25,3),VLOOKUP(I139,Feuil1!$G$11:$L$25,2)))))))","v":"FS58"},128.01014073204223,null," ",{"$f":"T139-HLOOKUP(X139,Feuil1!$C$1:$BL$10,2,FALSE)","v":20},{"$f":"T139-HLOOKUP(X139,Feuil1!$C$1:$BL$10,3,FALSE)","v":10},{"$f":"T139-HLOOKUP(X139,Feuil1!$C$1:$BL$10,4,FALSE)","v":0},{"$f":"T139-HLOOKUP(X139,Feuil1!$C$1:$BL$10,5,FALSE)","v":-10},{"$f":"T139-HLOOKUP(X139,Feuil1!$C$1:$BL$10,6,FALSE)","v":-25},{"$f":"T139-HLOOKUP(X139,Feuil1!$C$1:$BL$10,7,FALSE)","v":-40},{"$f":"T139-HLOOKUP(X139,Feuil1!$C$1:$BL$10,8,FALSE)","v":-60},{"$f":"T139-HLOOKUP(X139,Feuil1!$C$1:$BL$10,9,FALSE)","v":-80},{"$f":"T139-HLOOKUP(X139,Feuil1!$C$1:$BL$10,10,FALSE)","v":-100},null,null,null,null,null,null,"REG +"]
["F","N","IDF",57,112705,"AUSSEL","Frédérique",1978,54.2,"CHAVILLE","F",36,38,40,40,46,48,-50,48,88,-20.400000000000006,"DEP +",8,{"$f":"IF(I140=\"\",\"\",IF(A140=\"H\",IF(OR(H140=\"SEN\",H140<1995),VLOOKUP(I140,Feuil1!$A$11:$F$29,6),IF(AND(H140>1994,H140<1998),VLOOKUP(I140,Feuil1!$A$11:$F$29,5),IF(AND(H140>1997,H140<2000),VLOOKUP(I140,Feuil1!$A$11:$F$29,4),IF(AND(H140>1999,H140<2002),VLOOKUP(I140,Feuil1!$A$11:$F$29,3),VLOOKUP(I140,Feuil1!$A$11:$F$29,2))))),IF(OR(H140=\"SEN\",H140<1995),VLOOKUP(I140,Feuil1!$G$11:$L$25,6),IF(AND(H140>1994,H140<1998),VLOOKUP(I140,Feuil1!$G$11:$L$25,5),IF(AND(H140>1997,H140<2000),VLOOKUP(I140,Feuil1!$G$11:$L$25,4),IF(AND(H140>1999,H140<2002),VLOOKUP(I140,Feuil1!$G$11:$L$25,3),VLOOKUP(I140,Feuil1!$G$11:$L$25,2)))))))","v":"FS58"},130.41077290733273,null," ",{"$f":"T140-HLOOKUP(X140,Feuil1!$C$1:$BL$10,2,FALSE)","v":18},{"$f":"T140-HLOOKUP(X140,Feuil1!$C$1:$BL$10,3,FALSE)","v":8},{"$f":"T140-HLOOKUP(X140,Feuil1!$C$1:$BL$10,4,FALSE)","v":-2},{"$f":"T140-HLOOKUP(X140,Feuil1!$C$1:$BL$10,5,FALSE)","v":-12},{"$f":"T140-HLOOKUP(X140,Feuil1!$C$1:$BL$10,6,FALSE)","v":-27},{"$f":"T140-HLOOKUP(X140,Feuil1!$C$1:$BL$10,7,FALSE)","v":-42},{"$f":"T140-HLOOKUP(X140,Feuil1!$C$1:$BL$10,8,FALSE)","v":-62},{"$f":"T140-HLOOKUP(X140,Feuil1!$C$1:$BL$10,9,FALSE)","v":-82},{"$f":"T140-HLOOKUP(X140,Feuil1!$C$1:$BL$10,10,FALSE)","v":-102},null,null,null,null,null,null,"DEP +"]
["F","CO","CEN",58,342483,"ROBIN","Marion",1993,56.2,"CM Orléans","F",35,37,-40,37,49,-51,51,51,88,-24.400000000000006,"DEP +",8,{"$f":"IF(I141=\"\",\"\",IF(A141=\"H\",IF(OR(H141=\"SEN\",H141<1995),VLOOKUP(I141,Feuil1!$A$11:$F$29,6),IF(AND(H141>1994,H141<1998),VLOOKUP(I141,Feuil1!$A$11:$F$29,5),IF(AND(H141>1997,H141<2000),VLOOKUP(I141,Feuil1!$A$11:$F$29,4),IF(AND(H141>1999,H141<2002),VLOOKUP(I141,Feuil1!$A$11:$F$29,3),VLOOKUP(I141,Feuil1!$A$11:$F$29,2))))),IF(OR(H141=\"SEN\",H141<1995),VLOOKUP(I141,Feuil1!$G$11:$L$25,6),IF(AND(H141>1994,H141<1998),VLOOKUP(I141,Feuil1!$G$11:$L$25,5),IF(AND(H141>1997,H141<2000),VLOOKUP(I141,Feuil1!$G$11:$L$25,4),IF(AND(H141>1999,H141<2002),VLOOKUP(I141,Feuil1!$G$11:$L$25,3),VLOOKUP(I141,Feuil1!$G$11:$L$25,2)))))))","v":"FS58"},126.82745661824707,null," ",{"$f":"T141-HLOOKUP(X141,Feuil1!$C$1:$BL$10,2,FALSE)","v":18},{"$f":"T141-HLOOKUP(X141,Feuil1!$C$1:$BL$10,3,FALSE)","v":8},{"$f":"T141-HLOOKUP(X141,Feuil1!$C$1:$BL$10,4,FALSE)","v":-2},{"$f":"T141-HLOOKUP(X141,Feuil1!$C$1:$BL$10,5,FALSE)","v":-12},{"$f":"T141-HLOOKUP(X141,Feuil1!$C$1:$BL$10,6,FALSE)","v":-27},{"$f":"T141-HLOOKUP(X141,Feuil1!$C$1:$BL$10,7,FALSE)","v":-42},{"$f":"T141-HLOOKUP(X141,Feuil1!$C$1:$BL$10,8,FALSE)","v":-62},{"$f":"T141-HLOOKUP(X141,Feuil1!$C$1:$BL$10,9,FALSE)","v":-82},{"$f":"T141-HLOOKUP(X141,Feuil1!$C$1:$BL$10,10,FALSE)","v":-102},null,null,null,null,null,null,"DEP +"]
["F","NE","BOU",59,384514,"SENELAS","Céline",1990,58,"HMDB21","F",34,-37,-37,34,50,54,-58,54,88,-28,"DEP +",8,{"$f":"IF(I142=\"\",\"\",IF(A142=\"H\",IF(OR(H142=\"SEN\",H142<1995),VLOOKUP(I142,Feuil1!$A$11:$F$29,6),IF(AND(H142>1994,H142<1998),VLOOKUP(I142,Feuil1!$A$11:$F$29,5),IF(AND(H142>1997,H142<2000),VLOOKUP(I142,Feuil1!$A$11:$F$29,4),IF(AND(H142>1999,H142<2002),VLOOKUP(I142,Feuil1!$A$11:$F$29,3),VLOOKUP(I142,Feuil1!$A$11:$F$29,2))))),IF(OR(H142=\"SEN\",H142<1995),VLOOKUP(I142,Feuil1!$G$11:$L$25,6),IF(AND(H142>1994,H142<1998),VLOOKUP(I142,Feuil1!$G$11:$L$25,5),IF(AND(H142>1997,H142<2000),VLOOKUP(I142,Feuil1!$G$11:$L$25,4),IF(AND(H142>1999,H142<2002),VLOOKUP(I142,Feuil1!$G$11:$L$25,3),VLOOKUP(I142,Feuil1!$G$11:$L$25,2)))))))","v":"FS58"},123.89315077482435,null," ",{"$f":"T142-HLOOKUP(X142,Feuil1!$C$1:$BL$10,2,FALSE)","v":18},{"$f":"T142-HLOOKUP(X142,Feuil1!$C$1:$BL$10,3,FALSE)","v":8},{"$f":"T142-HLOOKUP(X142,Feuil1!$C$1:$BL$10,4,FALSE)","v":-2},{"$f":"T142-HLOOKUP(X142,Feuil1!$C$1:$BL$10,5,FALSE)","v":-12},{"$f":"T142-HLOOKUP(X142,Feuil1!$C$1:$BL$10,6,FALSE)","v":-27},{"$f":"T142-HLOOKUP(X142,Feuil1!$C$1:$BL$10,7,FALSE)","v":-42},{"$f":"T142-HLOOKUP(X142,Feuil1!$C$1:$BL$10,8,FALSE)","v":-62},{"$f":"T142-HLOOKUP(X142,Feuil1!$C$1:$BL$10,9,FALSE)","v":-82},{"$f":"T142-HLOOKUP(X142,Feuil1!$C$1:$BL$10,10,FALSE)","v":-102},null,null,null,null,null,null,"DEP +"]
["F","N","IDF",60,379905,"PEREIRA DA SILVA","LYDIE",1983,58,"FRANCONVILLE","F",36,-38,38,38,45,50,-52,50,88,-28,"DEP +",8,{"$f":"IF(I143=\"\",\"\",IF(A143=\"H\",IF(OR(H143=\"SEN\",H143<1995),VLOOKUP(I143,Feuil1!$A$11:$F$29,6),IF(AND(H143>1994,H143<1998),VLOOKUP(I143,Feuil1!$A$11:$F$29,5),IF(AND(H143>1997,H143<2000),VLOOKUP(I143,Feuil1!$A$11:$F$29,4),IF(AND(H143>1999,H143<2002),VLOOKUP(I143,Feuil1!$A$11:$F$29,3),VLOOKUP(I143,Feuil1!$A$11:$F$29,2))))),IF(OR(H143=\"SEN\",H143<1995),VLOOKUP(I143,Feuil1!$G$11:$L$25,6),IF(AND(H143>1994,H143<1998),VLOOKUP(I143,Feuil1!$G$11:$L$25,5),IF(AND(H143>1997,H143<2000),VLOOKUP(I143,Feuil1!$G$11:$L$25,4),IF(AND(H143>1999,H143<2002),VLOOKUP(I143,Feuil1!$G$11:$L$25,3),VLOOKUP(I143,Feuil1!$G$11:$L$25,2)))))))","v":"FS58"},123.89315077482435,null," ",{"$f":"T143-HLOOKUP(X143,Feuil1!$C$1:$BL$10,2,FALSE)","v":18},{"$f":"T143-HLOOKUP(X143,Feuil1!$C$1:$BL$10,3,FALSE)","v":8},{"$f":"T143-HLOOKUP(X143,Feuil1!$C$1:$BL$10,4,FALSE)","v":-2},{"$f":"T143-HLOOKUP(X143,Feuil1!$C$1:$BL$10,5,FALSE)","v":-12},{"$f":"T143-HLOOKUP(X143,Feuil1!$C$1:$BL$10,6,FALSE)","v":-27},{"$f":"T143-HLOOKUP(X143,Feuil1!$C$1:$BL$10,7,FALSE)","v":-42},{"$f":"T143-HLOOKUP(X143,Feuil1!$C$1:$BL$10,8,FALSE)","v":-62},{"$f":"T143-HLOOKUP(X143,Feuil1!$C$1:$BL$10,9,FALSE)","v":-82},{"$f":"T143-HLOOKUP(X143,Feuil1!$C$1:$BL$10,10,FALSE)","v":-102},null,null,null,null,null,null,"DEP +"]
["F","N","IDF",61,144866,"CALMES","VALERIE",1970,57.5,"FRANCONVILLE","F",34,36,38,38,44,46,48,48,86,-29,"DEP +",6,{"$f":"IF(I144=\"\",\"\",IF(A144=\"H\",IF(OR(H144=\"SEN\",H144<1995),VLOOKUP(I144,Feuil1!$A$11:$F$29,6),IF(AND(H144>1994,H144<1998),VLOOKUP(I144,Feuil1!$A$11:$F$29,5),IF(AND(H144>1997,H144<2000),VLOOKUP(I144,Feuil1!$A$11:$F$29,4),IF(AND(H144>1999,H144<2002),VLOOKUP(I144,Feuil1!$A$11:$F$29,3),VLOOKUP(I144,Feuil1!$A$11:$F$29,2))))),IF(OR(H144=\"SEN\",H144<1995),VLOOKUP(I144,Feuil1!$G$11:$L$25,6),IF(AND(H144>1994,H144<1998),VLOOKUP(I144,Feuil1!$G$11:$L$25,5),IF(AND(H144>1997,H144<2000),VLOOKUP(I144,Feuil1!$G$11:$L$25,4),IF(AND(H144>1999,H144<2002),VLOOKUP(I144,Feuil1!$G$11:$L$25,3),VLOOKUP(I144,Feuil1!$G$11:$L$25,2)))))))","v":"FS58"},121.84885615231985,null," ",{"$f":"T144-HLOOKUP(X144,Feuil1!$C$1:$BL$10,2,FALSE)","v":16},{"$f":"T144-HLOOKUP(X144,Feuil1!$C$1:$BL$10,3,FALSE)","v":6},{"$f":"T144-HLOOKUP(X144,Feuil1!$C$1:$BL$10,4,FALSE)","v":-4},{"$f":"T144-HLOOKUP(X144,Feuil1!$C$1:$BL$10,5,FALSE)","v":-14},{"$f":"T144-HLOOKUP(X144,Feuil1!$C$1:$BL$10,6,FALSE)","v":-29},{"$f":"T144-HLOOKUP(X144,Feuil1!$C$1:$BL$10,7,FALSE)","v":-44},{"$f":"T144-HLOOKUP(X144,Feuil1!$C$1:$BL$10,8,FALSE)","v":-64},{"$f":"T144-HLOOKUP(X144,Feuil1!$C$1:$BL$10,9,FALSE)","v":-84},{"$f":"T144-HLOOKUP(X144,Feuil1!$C$1:$BL$10,10,FALSE)","v":-104},null,null,null,null,null,null,"DEP +"]
["F","SEST","RAL",62,249165,"MORLIERE","Lise",1990,53.8,"VAULX EN VELIN ","F",-37,37,-40,37,48,-51,-52,48,85,-22.599999999999994,"DEP +",5,{"$f":"IF(I145=\"\",\"\",IF(A145=\"H\",IF(OR(H145=\"SEN\",H145<1995),VLOOKUP(I145,Feuil1!$A$11:$F$29,6),IF(AND(H145>1994,H145<1998),VLOOKUP(I145,Feuil1!$A$11:$F$29,5),IF(AND(H145>1997,H145<2000),VLOOKUP(I145,Feuil1!$A$11:$F$29,4),IF(AND(H145>1999,H145<2002),VLOOKUP(I145,Feuil1!$A$11:$F$29,3),VLOOKUP(I145,Feuil1!$A$11:$F$29,2))))),IF(OR(H145=\"SEN\",H145<1995),VLOOKUP(I145,Feuil1!$G$11:$L$25,6),IF(AND(H145>1994,H145<1998),VLOOKUP(I145,Feuil1!$G$11:$L$25,5),IF(AND(H145>1997,H145<2000),VLOOKUP(I145,Feuil1!$G$11:$L$25,4),IF(AND(H145>1999,H145<2002),VLOOKUP(I145,Feuil1!$G$11:$L$25,3),VLOOKUP(I145,Feuil1!$G$11:$L$25,2)))))))","v":"FS58"},126.7004010559457,null," ",{"$f":"T145-HLOOKUP(X145,Feuil1!$C$1:$BL$10,2,FALSE)","v":15},{"$f":"T145-HLOOKUP(X145,Feuil1!$C$1:$BL$10,3,FALSE)","v":5},{"$f":"T145-HLOOKUP(X145,Feuil1!$C$1:$BL$10,4,FALSE)","v":-5},{"$f":"T145-HLOOKUP(X145,Feuil1!$C$1:$BL$10,5,FALSE)","v":-15},{"$f":"T145-HLOOKUP(X145,Feuil1!$C$1:$BL$10,6,FALSE)","v":-30},{"$f":"T145-HLOOKUP(X145,Feuil1!$C$1:$BL$10,7,FALSE)","v":-45},{"$f":"T145-HLOOKUP(X145,Feuil1!$C$1:$BL$10,8,FALSE)","v":-65},{"$f":"T145-HLOOKUP(X145,Feuil1!$C$1:$BL$10,9,FALSE)","v":-85},{"$f":"T145-HLOOKUP(X145,Feuil1!$C$1:$BL$10,10,FALSE)","v":-105},null,null,null,null,null,null,"DEP +"]
["F","NE","ALS",63,130670,"CHRISTOPHEL","GORDANA",1970,56.84,"ASPTT Strasbourg","F",32,35,38,38,40,42,44,44,82,-31.680000000000007,"DEP +",2,{"$f":"IF(I146=\"\",\"\",IF(A146=\"H\",IF(OR(H146=\"SEN\",H146<1995),VLOOKUP(I146,Feuil1!$A$11:$F$29,6),IF(AND(H146>1994,H146<1998),VLOOKUP(I146,Feuil1!$A$11:$F$29,5),IF(AND(H146>1997,H146<2000),VLOOKUP(I146,Feuil1!$A$11:$F$29,4),IF(AND(H146>1999,H146<2002),VLOOKUP(I146,Feuil1!$A$11:$F$29,3),VLOOKUP(I146,Feuil1!$A$11:$F$29,2))))),IF(OR(H146=\"SEN\",H146<1995),VLOOKUP(I146,Feuil1!$G$11:$L$25,6),IF(AND(H146>1994,H146<1998),VLOOKUP(I146,Feuil1!$G$11:$L$25,5),IF(AND(H146>1997,H146<2000),VLOOKUP(I146,Feuil1!$G$11:$L$25,4),IF(AND(H146>1999,H146<2002),VLOOKUP(I146,Feuil1!$G$11:$L$25,3),VLOOKUP(I146,Feuil1!$G$11:$L$25,2)))))))","v":"FS58"},117.18023025974104,null," ",{"$f":"T146-HLOOKUP(X146,Feuil1!$C$1:$BL$10,2,FALSE)","v":12},{"$f":"T146-HLOOKUP(X146,Feuil1!$C$1:$BL$10,3,FALSE)","v":2},{"$f":"T146-HLOOKUP(X146,Feuil1!$C$1:$BL$10,4,FALSE)","v":-8},{"$f":"T146-HLOOKUP(X146,Feuil1!$C$1:$BL$10,5,FALSE)","v":-18},{"$f":"T146-HLOOKUP(X146,Feuil1!$C$1:$BL$10,6,FALSE)","v":-33},{"$f":"T146-HLOOKUP(X146,Feuil1!$C$1:$BL$10,7,FALSE)","v":-48},{"$f":"T146-HLOOKUP(X146,Feuil1!$C$1:$BL$10,8,FALSE)","v":-68},{"$f":"T146-HLOOKUP(X146,Feuil1!$C$1:$BL$10,9,FALSE)","v":-88},{"$f":"T146-HLOOKUP(X146,Feuil1!$C$1:$BL$10,10,FALSE)","v":-108},null,null,null,null,null,null,"DEP +"]
["F","SEST","CAZ",64,396654,"SAVINA","Caroline",1979,55.5,"ASPTT DRAGUIGNAN","F",30,-33,33,{"$f":"IF(H147=\"\",\"\",IF(MAXA(L147:N147)<=0,0,MAXA(L147:N147)))","v":33},43,47,-50,{"$f":"IF(H147=\"\",\"\",IF(MAXA(P147:R147)<=0,0,MAXA(P147:R147)))","v":47},{"$f":"IF(H147=\"\",\"\",IF(OR(O147=0,S147=0),0,O147+S147))","v":80},{"$f":"T147-I147*2","v":-31},{"$f":"IF(H147=\"\",\"\",AQ147)","v":"DEP +"},{"$f":"IF(AJ147>=0,AJ147,IF(AI147>=0,AI147,IF(AH147>=0,AH147,IF(AG147>=0,AG147,IF(AF147>=0,AF147,IF(AE147>=0,AE147,IF(AD147>=0,AD147,IF(AC147>=0,AC147,AB147))))))))","v":0},{"$f":"IF(I147=\"\",\"\",IF(A147=\"H\",IF(OR(H147=\"SEN\",H147<1995),VLOOKUP(I147,Feuil1!$A$11:$F$29,6),IF(AND(H147>1994,H147<1998),VLOOKUP(I147,Feuil1!$A$11:$F$29,5),IF(AND(H147>1997,H147<2000),VLOOKUP(I147,Feuil1!$A$11:$F$29,4),IF(AND(H147>1999,H147<2002),VLOOKUP(I147,Feuil1!$A$11:$F$29,3),VLOOKUP(I147,Feuil1!$A$11:$F$29,2))))),IF(OR(H147=\"SEN\",H147<1995),VLOOKUP(I147,Feuil1!$G$11:$L$25,6),IF(AND(H147>1994,H147<1998),VLOOKUP(I147,Feuil1!$G$11:$L$25,5),IF(AND(H147>1997,H147<2000),VLOOKUP(I147,Feuil1!$G$11:$L$25,4),IF(AND(H147>1999,H147<2002),VLOOKUP(I147,Feuil1!$G$11:$L$25,3),VLOOKUP(I147,Feuil1!$G$11:$L$25,2)))))))","v":"FS58"},{"$f":"IF(I147=\"\",\"\",IF(A147=\"H\",10^(0.794358141*LOG(I147/174.393)^2)*T147,IF(A147=\"F\",10^(0.89726074*LOG(I147/148.026)^2)*T147,\"\")))","v":116.40072774174099},null," ",{"$f":"T147-HLOOKUP(X147,Feuil1!$C$1:$BL$10,2,FALSE)","v":10},{"$f":"T147-HLOOKUP(X147,Feuil1!$C$1:$BL$10,3,FALSE)","v":0},{"$f":"T147-HLOOKUP(X147,Feuil1!$C$1:$BL$10,4,FALSE)","v":-10},{"$f":"T147-HLOOKUP(X147,Feuil1!$C$1:$BL$10,5,FALSE)","v":-20},{"$f":"T147-HLOOKUP(X147,Feuil1!$C$1:$BL$10,6,FALSE)","v":-35},{"$f":"T147-HLOOKUP(X147,Feuil1!$C$1:$BL$10,7,FALSE)","v":-50},{"$f":"T147-HLOOKUP(X147,Feuil1!$C$1:$BL$10,8,FALSE)","v":-70},{"$f":"T147-HLOOKUP(X147,Feuil1!$C$1:$BL$10,9,FALSE)","v":-90},{"$f":"T147-HLOOKUP(X147,Feuil1!$C$1:$BL$10,10,FALSE)","v":-110},null,null,null,null,null,null,{"$f":"IF(AJ147>=0,$AJ$4,IF(AI147>=0,$AI$4,IF(AH147>=0,$AH$4,IF(AG147>=0,$AG$4,IF(AF147>=0,$AF$4,IF(AE147>=0,$AE$4,IF(AD147>=0,$AD$4,IF(AC147>=0,$AC$4,$AB$4))))))))","v":"DEP +"}]
["F","SO","AQU",65,394438,"MAHIER","FRANCOISE",1968,56.5,"BORDEAUX ASPOM","F",30,33,-36,33,40,44,47,47,80,-33,"DEP +",0,{"$f":"IF(I148=\"\",\"\",IF(A148=\"H\",IF(OR(H148=\"SEN\",H148<1995),VLOOKUP(I148,Feuil1!$A$11:$F$29,6),IF(AND(H148>1994,H148<1998),VLOOKUP(I148,Feuil1!$A$11:$F$29,5),IF(AND(H148>1997,H148<2000),VLOOKUP(I148,Feuil1!$A$11:$F$29,4),IF(AND(H148>1999,H148<2002),VLOOKUP(I148,Feuil1!$A$11:$F$29,3),VLOOKUP(I148,Feuil1!$A$11:$F$29,2))))),IF(OR(H148=\"SEN\",H148<1995),VLOOKUP(I148,Feuil1!$G$11:$L$25,6),IF(AND(H148>1994,H148<1998),VLOOKUP(I148,Feuil1!$G$11:$L$25,5),IF(AND(H148>1997,H148<2000),VLOOKUP(I148,Feuil1!$G$11:$L$25,4),IF(AND(H148>1999,H148<2002),VLOOKUP(I148,Feuil1!$G$11:$L$25,3),VLOOKUP(I148,Feuil1!$G$11:$L$25,2)))))))","v":"FS58"},114.83657904613455,null," ",{"$f":"T148-HLOOKUP(X148,Feuil1!$C$1:$BL$10,2,FALSE)","v":10},{"$f":"T148-HLOOKUP(X148,Feuil1!$C$1:$BL$10,3,FALSE)","v":0},{"$f":"T148-HLOOKUP(X148,Feuil1!$C$1:$BL$10,4,FALSE)","v":-10},{"$f":"T148-HLOOKUP(X148,Feuil1!$C$1:$BL$10,5,FALSE)","v":-20},{"$f":"T148-HLOOKUP(X148,Feuil1!$C$1:$BL$10,6,FALSE)","v":-35},{"$f":"T148-HLOOKUP(X148,Feuil1!$C$1:$BL$10,7,FALSE)","v":-50},{"$f":"T148-HLOOKUP(X148,Feuil1!$C$1:$BL$10,8,FALSE)","v":-70},{"$f":"T148-HLOOKUP(X148,Feuil1!$C$1:$BL$10,9,FALSE)","v":-90},{"$f":"T148-HLOOKUP(X148,Feuil1!$C$1:$BL$10,10,FALSE)","v":-110},null,null,null,null,null,null,"DEP +"]
["F","NORD","NPC",66,378541,"MALIAR","Mandy",1993,56.9,"CAHC BERCK/MER","F",32,35,-36,35,40,43,45,45,80,-33.799999999999997,"DEP +",0,{"$f":"IF(I149=\"\",\"\",IF(A149=\"H\",IF(OR(H149=\"SEN\",H149<1995),VLOOKUP(I149,Feuil1!$A$11:$F$29,6),IF(AND(H149>1994,H149<1998),VLOOKUP(I149,Feuil1!$A$11:$F$29,5),IF(AND(H149>1997,H149<2000),VLOOKUP(I149,Feuil1!$A$11:$F$29,4),IF(AND(H149>1999,H149<2002),VLOOKUP(I149,Feuil1!$A$11:$F$29,3),VLOOKUP(I149,Feuil1!$A$11:$F$29,2))))),IF(OR(H149=\"SEN\",H149<1995),VLOOKUP(I149,Feuil1!$G$11:$L$25,6),IF(AND(H149>1994,H149<1998),VLOOKUP(I149,Feuil1!$G$11:$L$25,5),IF(AND(H149>1997,H149<2000),VLOOKUP(I149,Feuil1!$G$11:$L$25,4),IF(AND(H149>1999,H149<2002),VLOOKUP(I149,Feuil1!$G$11:$L$25,3),VLOOKUP(I149,Feuil1!$G$11:$L$25,2)))))))","v":"FS58"},114.2322881706046,null," ",{"$f":"T149-HLOOKUP(X149,Feuil1!$C$1:$BL$10,2,FALSE)","v":10},{"$f":"T149-HLOOKUP(X149,Feuil1!$C$1:$BL$10,3,FALSE)","v":0},{"$f":"T149-HLOOKUP(X149,Feuil1!$C$1:$BL$10,4,FALSE)","v":-10},{"$f":"T149-HLOOKUP(X149,Feuil1!$C$1:$BL$10,5,FALSE)","v":-20},{"$f":"T149-HLOOKUP(X149,Feuil1!$C$1:$BL$10,6,FALSE)","v":-35},{"$f":"T149-HLOOKUP(X149,Feuil1!$C$1:$BL$10,7,FALSE)","v":-50},{"$f":"T149-HLOOKUP(X149,Feuil1!$C$1:$BL$10,8,FALSE)","v":-70},{"$f":"T149-HLOOKUP(X149,Feuil1!$C$1:$BL$10,9,FALSE)","v":-90},{"$f":"T149-HLOOKUP(X149,Feuil1!$C$1:$BL$10,10,FALSE)","v":-110},null,null,null,null,null,null,"DEP +"]
["F","N","IDF",67,356353,"HURTAULT","STEPHANIE",1980,56.72,"NEUILLY","F",27,31,33,33,37,42,46,46,79,-34.44,"DEB ",9,{"$f":"IF(I150=\"\",\"\",IF(A150=\"H\",IF(OR(H150=\"SEN\",H150<1995),VLOOKUP(I150,Feuil1!$A$11:$F$29,6),IF(AND(H150>1994,H150<1998),VLOOKUP(I150,Feuil1!$A$11:$F$29,5),IF(AND(H150>1997,H150<2000),VLOOKUP(I150,Feuil1!$A$11:$F$29,4),IF(AND(H150>1999,H150<2002),VLOOKUP(I150,Feuil1!$A$11:$F$29,3),VLOOKUP(I150,Feuil1!$A$11:$F$29,2))))),IF(OR(H150=\"SEN\",H150<1995),VLOOKUP(I150,Feuil1!$G$11:$L$25,6),IF(AND(H150>1994,H150<1998),VLOOKUP(I150,Feuil1!$G$11:$L$25,5),IF(AND(H150>1997,H150<2000),VLOOKUP(I150,Feuil1!$G$11:$L$25,4),IF(AND(H150>1999,H150<2002),VLOOKUP(I150,Feuil1!$G$11:$L$25,3),VLOOKUP(I150,Feuil1!$G$11:$L$25,2)))))))","v":"FS58"},113.07146349771786,null," ",{"$f":"T150-HLOOKUP(X150,Feuil1!$C$1:$BL$10,2,FALSE)","v":9},{"$f":"T150-HLOOKUP(X150,Feuil1!$C$1:$BL$10,3,FALSE)","v":-1},{"$f":"T150-HLOOKUP(X150,Feuil1!$C$1:$BL$10,4,FALSE)","v":-11},{"$f":"T150-HLOOKUP(X150,Feuil1!$C$1:$BL$10,5,FALSE)","v":-21},{"$f":"T150-HLOOKUP(X150,Feuil1!$C$1:$BL$10,6,FALSE)","v":-36},{"$f":"T150-HLOOKUP(X150,Feuil1!$C$1:$BL$10,7,FALSE)","v":-51},{"$f":"T150-HLOOKUP(X150,Feuil1!$C$1:$BL$10,8,FALSE)","v":-71},{"$f":"T150-HLOOKUP(X150,Feuil1!$C$1:$BL$10,9,FALSE)","v":-91},{"$f":"T150-HLOOKUP(X150,Feuil1!$C$1:$BL$10,10,FALSE)","v":-111},null,null,null,null,null,null,"DEB "]
["F","SO","MPY",68,350351,"GAUTREAU","Fanny",1992,55,"TOULOUSE HC","F",30,32,34,34,39,41,43,43,77,-33,"DEB ",7,{"$f":"IF(I151=\"\",\"\",IF(A151=\"H\",IF(OR(H151=\"SEN\",H151<1995),VLOOKUP(I151,Feuil1!$A$11:$F$29,6),IF(AND(H151>1994,H151<1998),VLOOKUP(I151,Feuil1!$A$11:$F$29,5),IF(AND(H151>1997,H151<2000),VLOOKUP(I151,Feuil1!$A$11:$F$29,4),IF(AND(H151>1999,H151<2002),VLOOKUP(I151,Feuil1!$A$11:$F$29,3),VLOOKUP(I151,Feuil1!$A$11:$F$29,2))))),IF(OR(H151=\"SEN\",H151<1995),VLOOKUP(I151,Feuil1!$G$11:$L$25,6),IF(AND(H151>1994,H151<1998),VLOOKUP(I151,Feuil1!$G$11:$L$25,5),IF(AND(H151>1997,H151<2000),VLOOKUP(I151,Feuil1!$G$11:$L$25,4),IF(AND(H151>1999,H151<2002),VLOOKUP(I151,Feuil1!$G$11:$L$25,3),VLOOKUP(I151,Feuil1!$G$11:$L$25,2)))))))","v":"FS58"},112.81716650630014,null," ",{"$f":"T151-HLOOKUP(X151,Feuil1!$C$1:$BL$10,2,FALSE)","v":7},{"$f":"T151-HLOOKUP(X151,Feuil1!$C$1:$BL$10,3,FALSE)","v":-3},{"$f":"T151-HLOOKUP(X151,Feuil1!$C$1:$BL$10,4,FALSE)","v":-13},{"$f":"T151-HLOOKUP(X151,Feuil1!$C$1:$BL$10,5,FALSE)","v":-23},{"$f":"T151-HLOOKUP(X151,Feuil1!$C$1:$BL$10,6,FALSE)","v":-38},{"$f":"T151-HLOOKUP(X151,Feuil1!$C$1:$BL$10,7,FALSE)","v":-53},{"$f":"T151-HLOOKUP(X151,Feuil1!$C$1:$BL$10,8,FALSE)","v":-73},{"$f":"T151-HLOOKUP(X151,Feuil1!$C$1:$BL$10,9,FALSE)","v":-93},{"$f":"T151-HLOOKUP(X151,Feuil1!$C$1:$BL$10,10,FALSE)","v":-113},null,null,null,null,null,null,"DEB "]
["F","ZCO","BRE",69,366188,"FALUDI","Alizée",1994,56.6,"Vannes AC","F",30,33,-35,33,40,42,44,44,77,-36.200000000000003,"DEB ",7,{"$f":"IF(I152=\"\",\"\",IF(A152=\"H\",IF(OR(H152=\"SEN\",H152<1995),VLOOKUP(I152,Feuil1!$A$11:$F$29,6),IF(AND(H152>1994,H152<1998),VLOOKUP(I152,Feuil1!$A$11:$F$29,5),IF(AND(H152>1997,H152<2000),VLOOKUP(I152,Feuil1!$A$11:$F$29,4),IF(AND(H152>1999,H152<2002),VLOOKUP(I152,Feuil1!$A$11:$F$29,3),VLOOKUP(I152,Feuil1!$A$11:$F$29,2))))),IF(OR(H152=\"SEN\",H152<1995),VLOOKUP(I152,Feuil1!$G$11:$L$25,6),IF(AND(H152>1994,H152<1998),VLOOKUP(I152,Feuil1!$G$11:$L$25,5),IF(AND(H152>1997,H152<2000),VLOOKUP(I152,Feuil1!$G$11:$L$25,4),IF(AND(H152>1999,H152<2002),VLOOKUP(I152,Feuil1!$G$11:$L$25,3),VLOOKUP(I152,Feuil1!$G$11:$L$25,2)))))))","v":"FS58"},110.38372428524835,null," ",{"$f":"T152-HLOOKUP(X152,Feuil1!$C$1:$BL$10,2,FALSE)","v":7},{"$f":"T152-HLOOKUP(X152,Feuil1!$C$1:$BL$10,3,FALSE)","v":-3},{"$f":"T152-HLOOKUP(X152,Feuil1!$C$1:$BL$10,4,FALSE)","v":-13},{"$f":"T152-HLOOKUP(X152,Feuil1!$C$1:$BL$10,5,FALSE)","v":-23},{"$f":"T152-HLOOKUP(X152,Feuil1!$C$1:$BL$10,6,FALSE)","v":-38},{"$f":"T152-HLOOKUP(X152,Feuil1!$C$1:$BL$10,7,FALSE)","v":-53},{"$f":"T152-HLOOKUP(X152,Feuil1!$C$1:$BL$10,8,FALSE)","v":-73},{"$f":"T152-HLOOKUP(X152,Feuil1!$C$1:$BL$10,9,FALSE)","v":-93},{"$f":"T152-HLOOKUP(X152,Feuil1!$C$1:$BL$10,10,FALSE)","v":-113},null,null,null,null,null,null,"DEB "]
["F","SEST","PRO",70,378028,"DE BARROS","Nathalie",1973,57.9,"ISTRES SPORTS","F",30,32,-35,32,40,45,-50,45,77,-38.799999999999997,"DEB ",7,{"$f":"IF(I153=\"\",\"\",IF(A153=\"H\",IF(OR(H153=\"SEN\",H153<1995),VLOOKUP(I153,Feuil1!$A$11:$F$29,6),IF(AND(H153>1994,H153<1998),VLOOKUP(I153,Feuil1!$A$11:$F$29,5),IF(AND(H153>1997,H153<2000),VLOOKUP(I153,Feuil1!$A$11:$F$29,4),IF(AND(H153>1999,H153<2002),VLOOKUP(I153,Feuil1!$A$11:$F$29,3),VLOOKUP(I153,Feuil1!$A$11:$F$29,2))))),IF(OR(H153=\"SEN\",H153<1995),VLOOKUP(I153,Feuil1!$G$11:$L$25,6),IF(AND(H153>1994,H153<1998),VLOOKUP(I153,Feuil1!$G$11:$L$25,5),IF(AND(H153>1997,H153<2000),VLOOKUP(I153,Feuil1!$G$11:$L$25,4),IF(AND(H153>1999,H153<2002),VLOOKUP(I153,Feuil1!$G$11:$L$25,3),VLOOKUP(I153,Feuil1!$G$11:$L$25,2)))))))","v":"FS58"},108.54331845889685,null," ",{"$f":"T153-HLOOKUP(X153,Feuil1!$C$1:$BL$10,2,FALSE)","v":7},{"$f":"T153-HLOOKUP(X153,Feuil1!$C$1:$BL$10,3,FALSE)","v":-3},{"$f":"T153-HLOOKUP(X153,Feuil1!$C$1:$BL$10,4,FALSE)","v":-13},{"$f":"T153-HLOOKUP(X153,Feuil1!$C$1:$BL$10,5,FALSE)","v":-23},{"$f":"T153-HLOOKUP(X153,Feuil1!$C$1:$BL$10,6,FALSE)","v":-38},{"$f":"T153-HLOOKUP(X153,Feuil1!$C$1:$BL$10,7,FALSE)","v":-53},{"$f":"T153-HLOOKUP(X153,Feuil1!$C$1:$BL$10,8,FALSE)","v":-73},{"$f":"T153-HLOOKUP(X153,Feuil1!$C$1:$BL$10,9,FALSE)","v":-93},{"$f":"T153-HLOOKUP(X153,Feuil1!$C$1:$BL$10,10,FALSE)","v":-113},null,null,null,null,null,null,"DEB "]
["F","NE","CHA",71,14438,"LABOURIER","Céline",1979,54.45,"Reims HM","F",25,28,30,30,40,43,45,45,75,-33.900000000000006,"DEB ",5,{"$f":"IF(I154=\"\",\"\",IF(A154=\"H\",IF(OR(H154=\"SEN\",H154<1995),VLOOKUP(I154,Feuil1!$A$11:$F$29,6),IF(AND(H154>1994,H154<1998),VLOOKUP(I154,Feuil1!$A$11:$F$29,5),IF(AND(H154>1997,H154<2000),VLOOKUP(I154,Feuil1!$A$11:$F$29,4),IF(AND(H154>1999,H154<2002),VLOOKUP(I154,Feuil1!$A$11:$F$29,3),VLOOKUP(I154,Feuil1!$A$11:$F$29,2))))),IF(OR(H154=\"SEN\",H154<1995),VLOOKUP(I154,Feuil1!$G$11:$L$25,6),IF(AND(H154>1994,H154<1998),VLOOKUP(I154,Feuil1!$G$11:$L$25,5),IF(AND(H154>1997,H154<2000),VLOOKUP(I154,Feuil1!$G$11:$L$25,4),IF(AND(H154>1999,H154<2002),VLOOKUP(I154,Feuil1!$G$11:$L$25,3),VLOOKUP(I154,Feuil1!$G$11:$L$25,2)))))))","v":"FS58"},110.74667698656442,null," ",{"$f":"T154-HLOOKUP(X154,Feuil1!$C$1:$BL$10,2,FALSE)","v":5},{"$f":"T154-HLOOKUP(X154,Feuil1!$C$1:$BL$10,3,FALSE)","v":-5},{"$f":"T154-HLOOKUP(X154,Feuil1!$C$1:$BL$10,4,FALSE)","v":-15},{"$f":"T154-HLOOKUP(X154,Feuil1!$C$1:$BL$10,5,FALSE)","v":-25},{"$f":"T154-HLOOKUP(X154,Feuil1!$C$1:$BL$10,6,FALSE)","v":-40},{"$f":"T154-HLOOKUP(X154,Feuil1!$C$1:$BL$10,7,FALSE)","v":-55},{"$f":"T154-HLOOKUP(X154,Feuil1!$C$1:$BL$10,8,FALSE)","v":-75},{"$f":"T154-HLOOKUP(X154,Feuil1!$C$1:$BL$10,9,FALSE)","v":-95},{"$f":"T154-HLOOKUP(X154,Feuil1!$C$1:$BL$10,10,FALSE)","v":-115},null,null,null,null,null,null,"DEB "]
["F","SEST","PRO",72,388064,"AUZEREAU-BONILLA","CAMILLE",1994,54.95,"AP AIX","F",30,32,-34,32,40,-43,43,43,75,-34.900000000000006,"DEB ",5,{"$f":"IF(I155=\"\",\"\",IF(A155=\"H\",IF(OR(H155=\"SEN\",H155<1995),VLOOKUP(I155,Feuil1!$A$11:$F$29,6),IF(AND(H155>1994,H155<1998),VLOOKUP(I155,Feuil1!$A$11:$F$29,5),IF(AND(H155>1997,H155<2000),VLOOKUP(I155,Feuil1!$A$11:$F$29,4),IF(AND(H155>1999,H155<2002),VLOOKUP(I155,Feuil1!$A$11:$F$29,3),VLOOKUP(I155,Feuil1!$A$11:$F$29,2))))),IF(OR(H155=\"SEN\",H155<1995),VLOOKUP(I155,Feuil1!$G$11:$L$25,6),IF(AND(H155>1994,H155<1998),VLOOKUP(I155,Feuil1!$G$11:$L$25,5),IF(AND(H155>1997,H155<2000),VLOOKUP(I155,Feuil1!$G$11:$L$25,4),IF(AND(H155>1999,H155<2002),VLOOKUP(I155,Feuil1!$G$11:$L$25,3),VLOOKUP(I155,Feuil1!$G$11:$L$25,2)))))))","v":"FS58"},109.96402868640132,null," ",{"$f":"T155-HLOOKUP(X155,Feuil1!$C$1:$BL$10,2,FALSE)","v":5},{"$f":"T155-HLOOKUP(X155,Feuil1!$C$1:$BL$10,3,FALSE)","v":-5},{"$f":"T155-HLOOKUP(X155,Feuil1!$C$1:$BL$10,4,FALSE)","v":-15},{"$f":"T155-HLOOKUP(X155,Feuil1!$C$1:$BL$10,5,FALSE)","v":-25},{"$f":"T155-HLOOKUP(X155,Feuil1!$C$1:$BL$10,6,FALSE)","v":-40},{"$f":"T155-HLOOKUP(X155,Feuil1!$C$1:$BL$10,7,FALSE)","v":-55},{"$f":"T155-HLOOKUP(X155,Feuil1!$C$1:$BL$10,8,FALSE)","v":-75},{"$f":"T155-HLOOKUP(X155,Feuil1!$C$1:$BL$10,9,FALSE)","v":-95},{"$f":"T155-HLOOKUP(X155,Feuil1!$C$1:$BL$10,10,FALSE)","v":-115},null,null,null,null,null,null,"DEB "]
["F","NORD","NPC",73,378538,"LAPOSTOLLE","Adeline",1988,57.2,"CAHC BERCK/MER","F",30,33,-35,33,40,42,-45,42,75,-39.400000000000006,"DEB ",5,{"$f":"IF(I156=\"\",\"\",IF(A156=\"H\",IF(OR(H156=\"SEN\",H156<1995),VLOOKUP(I156,Feuil1!$A$11:$F$29,6),IF(AND(H156>1994,H156<1998),VLOOKUP(I156,Feuil1!$A$11:$F$29,5),IF(AND(H156>1997,H156<2000),VLOOKUP(I156,Feuil1!$A$11:$F$29,4),IF(AND(H156>1999,H156<2002),VLOOKUP(I156,Feuil1!$A$11:$F$29,3),VLOOKUP(I156,Feuil1!$A$11:$F$29,2))))),IF(OR(H156=\"SEN\",H156<1995),VLOOKUP(I156,Feuil1!$G$11:$L$25,6),IF(AND(H156>1994,H156<1998),VLOOKUP(I156,Feuil1!$G$11:$L$25,5),IF(AND(H156>1997,H156<2000),VLOOKUP(I156,Feuil1!$G$11:$L$25,4),IF(AND(H156>1999,H156<2002),VLOOKUP(I156,Feuil1!$G$11:$L$25,3),VLOOKUP(I156,Feuil1!$G$11:$L$25,2)))))))","v":"FS58"},106.67511727670185,null," ",{"$f":"T156-HLOOKUP(X156,Feuil1!$C$1:$BL$10,2,FALSE)","v":5},{"$f":"T156-HLOOKUP(X156,Feuil1!$C$1:$BL$10,3,FALSE)","v":-5},{"$f":"T156-HLOOKUP(X156,Feuil1!$C$1:$BL$10,4,FALSE)","v":-15},{"$f":"T156-HLOOKUP(X156,Feuil1!$C$1:$BL$10,5,FALSE)","v":-25},{"$f":"T156-HLOOKUP(X156,Feuil1!$C$1:$BL$10,6,FALSE)","v":-40},{"$f":"T156-HLOOKUP(X156,Feuil1!$C$1:$BL$10,7,FALSE)","v":-55},{"$f":"T156-HLOOKUP(X156,Feuil1!$C$1:$BL$10,8,FALSE)","v":-75},{"$f":"T156-HLOOKUP(X156,Feuil1!$C$1:$BL$10,9,FALSE)","v":-95},{"$f":"T156-HLOOKUP(X156,Feuil1!$C$1:$BL$10,10,FALSE)","v":-115},null,null,null,null,null,null,"DEB "]
["F","NE","ALS",74,287490,"GLUCK","CLEMENCE",1982,53.65,"US Wittenheim","F",26,29,-32,29,37,-40,40,40,69,-38.299999999999997,"DEB ",-1,{"$f":"IF(I157=\"\",\"\",IF(A157=\"H\",IF(OR(H157=\"SEN\",H157<1995),VLOOKUP(I157,Feuil1!$A$11:$F$29,6),IF(AND(H157>1994,H157<1998),VLOOKUP(I157,Feuil1!$A$11:$F$29,5),IF(AND(H157>1997,H157<2000),VLOOKUP(I157,Feuil1!$A$11:$F$29,4),IF(AND(H157>1999,H157<2002),VLOOKUP(I157,Feuil1!$A$11:$F$29,3),VLOOKUP(I157,Feuil1!$A$11:$F$29,2))))),IF(OR(H157=\"SEN\",H157<1995),VLOOKUP(I157,Feuil1!$G$11:$L$25,6),IF(AND(H157>1994,H157<1998),VLOOKUP(I157,Feuil1!$G$11:$L$25,5),IF(AND(H157>1997,H157<2000),VLOOKUP(I157,Feuil1!$G$11:$L$25,4),IF(AND(H157>1999,H157<2002),VLOOKUP(I157,Feuil1!$G$11:$L$25,3),VLOOKUP(I157,Feuil1!$G$11:$L$25,2)))))))","v":"FS58"},103.07798572985565,null," ",{"$f":"T157-HLOOKUP(X157,Feuil1!$C$1:$BL$10,2,FALSE)","v":-1},{"$f":"T157-HLOOKUP(X157,Feuil1!$C$1:$BL$10,3,FALSE)","v":-11},{"$f":"T157-HLOOKUP(X157,Feuil1!$C$1:$BL$10,4,FALSE)","v":-21},{"$f":"T157-HLOOKUP(X157,Feuil1!$C$1:$BL$10,5,FALSE)","v":-31},{"$f":"T157-HLOOKUP(X157,Feuil1!$C$1:$BL$10,6,FALSE)","v":-46},{"$f":"T157-HLOOKUP(X157,Feuil1!$C$1:$BL$10,7,FALSE)","v":-61},{"$f":"T157-HLOOKUP(X157,Feuil1!$C$1:$BL$10,8,FALSE)","v":-81},{"$f":"T157-HLOOKUP(X157,Feuil1!$C$1:$BL$10,9,FALSE)","v":-101},{"$f":"T157-HLOOKUP(X157,Feuil1!$C$1:$BL$10,10,FALSE)","v":-121},null,null,null,null,null,null,"DEB "]
["F","NORD","NPC",75,366440,"VERSCHELDE","Amelle",1993,53.9,"C.A.ROSENDAEL","F",29,31,-33,31,34,36,38,38,69,-38.799999999999997,"DEB ",-1,{"$f":"IF(I158=\"\",\"\",IF(A158=\"H\",IF(OR(H158=\"SEN\",H158<1995),VLOOKUP(I158,Feuil1!$A$11:$F$29,6),IF(AND(H158>1994,H158<1998),VLOOKUP(I158,Feuil1!$A$11:$F$29,5),IF(AND(H158>1997,H158<2000),VLOOKUP(I158,Feuil1!$A$11:$F$29,4),IF(AND(H158>1999,H158<2002),VLOOKUP(I158,Feuil1!$A$11:$F$29,3),VLOOKUP(I158,Feuil1!$A$11:$F$29,2))))),IF(OR(H158=\"SEN\",H158<1995),VLOOKUP(I158,Feuil1!$G$11:$L$25,6),IF(AND(H158>1994,H158<1998),VLOOKUP(I158,Feuil1!$G$11:$L$25,5),IF(AND(H158>1997,H158<2000),VLOOKUP(I158,Feuil1!$G$11:$L$25,4),IF(AND(H158>1999,H158<2002),VLOOKUP(I158,Feuil1!$G$11:$L$25,3),VLOOKUP(I158,Feuil1!$G$11:$L$25,2)))))))","v":"FS58"},102.70050652786237,null," ",{"$f":"T158-HLOOKUP(X158,Feuil1!$C$1:$BL$10,2,FALSE)","v":-1},{"$f":"T158-HLOOKUP(X158,Feuil1!$C$1:$BL$10,3,FALSE)","v":-11},{"$f":"T158-HLOOKUP(X158,Feuil1!$C$1:$BL$10,4,FALSE)","v":-21},{"$f":"T158-HLOOKUP(X158,Feuil1!$C$1:$BL$10,5,FALSE)","v":-31},{"$f":"T158-HLOOKUP(X158,Feuil1!$C$1:$BL$10,6,FALSE)","v":-46},{"$f":"T158-HLOOKUP(X158,Feuil1!$C$1:$BL$10,7,FALSE)","v":-61},{"$f":"T158-HLOOKUP(X158,Feuil1!$C$1:$BL$10,8,FALSE)","v":-81},{"$f":"T158-HLOOKUP(X158,Feuil1!$C$1:$BL$10,9,FALSE)","v":-101},{"$f":"T158-HLOOKUP(X158,Feuil1!$C$1:$BL$10,10,FALSE)","v":-121},null,null,null,null,null,null,"DEB "]
["F","SEST","PRO",76,637,"GOURRIER","Martine",1953,57.3,"EEAR MONTEUX","F",26,29,-30,29,36,38,40,40,69,-45.599999999999994,"DEB ",-1,{"$f":"IF(I159=\"\",\"\",IF(A159=\"H\",IF(OR(H159=\"SEN\",H159<1995),VLOOKUP(I159,Feuil1!$A$11:$F$29,6),IF(AND(H159>1994,H159<1998),VLOOKUP(I159,Feuil1!$A$11:$F$29,5),IF(AND(H159>1997,H159<2000),VLOOKUP(I159,Feuil1!$A$11:$F$29,4),IF(AND(H159>1999,H159<2002),VLOOKUP(I159,Feuil1!$A$11:$F$29,3),VLOOKUP(I159,Feuil1!$A$11:$F$29,2))))),IF(OR(H159=\"SEN\",H159<1995),VLOOKUP(I159,Feuil1!$G$11:$L$25,6),IF(AND(H159>1994,H159<1998),VLOOKUP(I159,Feuil1!$G$11:$L$25,5),IF(AND(H159>1997,H159<2000),VLOOKUP(I159,Feuil1!$G$11:$L$25,4),IF(AND(H159>1999,H159<2002),VLOOKUP(I159,Feuil1!$G$11:$L$25,3),VLOOKUP(I159,Feuil1!$G$11:$L$25,2)))))))","v":"FS58"},98.014274565528979,null," ",{"$f":"T159-HLOOKUP(X159,Feuil1!$C$1:$BL$10,2,FALSE)","v":-1},{"$f":"T159-HLOOKUP(X159,Feuil1!$C$1:$BL$10,3,FALSE)","v":-11},{"$f":"T159-HLOOKUP(X159,Feuil1!$C$1:$BL$10,4,FALSE)","v":-21},{"$f":"T159-HLOOKUP(X159,Feuil1!$C$1:$BL$10,5,FALSE)","v":-31},{"$f":"T159-HLOOKUP(X159,Feuil1!$C$1:$BL$10,6,FALSE)","v":-46},{"$f":"T159-HLOOKUP(X159,Feuil1!$C$1:$BL$10,7,FALSE)","v":-61},{"$f":"T159-HLOOKUP(X159,Feuil1!$C$1:$BL$10,8,FALSE)","v":-81},{"$f":"T159-HLOOKUP(X159,Feuil1!$C$1:$BL$10,9,FALSE)","v":-101},{"$f":"T159-HLOOKUP(X159,Feuil1!$C$1:$BL$10,10,FALSE)","v":-121},null,null,null,null,null,null,"DEB "]
["F","SO","MPY",77,359582,"DAL","Audrey",1983,58,"DECAZEVILLE HC","F",25,28,31,31,32,36,-39,36,67,-49,"DEB ",-3,{"$f":"IF(I160=\"\",\"\",IF(A160=\"H\",IF(OR(H160=\"SEN\",H160<1995),VLOOKUP(I160,Feuil1!$A$11:$F$29,6),IF(AND(H160>1994,H160<1998),VLOOKUP(I160,Feuil1!$A$11:$F$29,5),IF(AND(H160>1997,H160<2000),VLOOKUP(I160,Feuil1!$A$11:$F$29,4),IF(AND(H160>1999,H160<2002),VLOOKUP(I160,Feuil1!$A$11:$F$29,3),VLOOKUP(I160,Feuil1!$A$11:$F$29,2))))),IF(OR(H160=\"SEN\",H160<1995),VLOOKUP(I160,Feuil1!$G$11:$L$25,6),IF(AND(H160>1994,H160<1998),VLOOKUP(I160,Feuil1!$G$11:$L$25,5),IF(AND(H160>1997,H160<2000),VLOOKUP(I160,Feuil1!$G$11:$L$25,4),IF(AND(H160>1999,H160<2002),VLOOKUP(I160,Feuil1!$G$11:$L$25,3),VLOOKUP(I160,Feuil1!$G$11:$L$25,2)))))))","v":"FS58"},94.327739794468542,null," ",{"$f":"T160-HLOOKUP(X160,Feuil1!$C$1:$BL$10,2,FALSE)","v":-3},{"$f":"T160-HLOOKUP(X160,Feuil1!$C$1:$BL$10,3,FALSE)","v":-13},{"$f":"T160-HLOOKUP(X160,Feuil1!$C$1:$BL$10,4,FALSE)","v":-23},{"$f":"T160-HLOOKUP(X160,Feuil1!$C$1:$BL$10,5,FALSE)","v":-33},{"$f":"T160-HLOOKUP(X160,Feuil1!$C$1:$BL$10,6,FALSE)","v":-48},{"$f":"T160-HLOOKUP(X160,Feuil1!$C$1:$BL$10,7,FALSE)","v":-63},{"$f":"T160-HLOOKUP(X160,Feuil1!$C$1:$BL$10,8,FALSE)","v":-83},{"$f":"T160-HLOOKUP(X160,Feuil1!$C$1:$BL$10,9,FALSE)","v":-103},{"$f":"T160-HLOOKUP(X160,Feuil1!$C$1:$BL$10,10,FALSE)","v":-123},null,null,null,null,null,null,"DEB "]
["F","CO","CEN",78,355325,"LAUHOSNE","Caroline",1994,54.77,"CM Orléans","F",24,26,29,29,30,35,-37,35,64,-45.540000000000006,"DEB ",-6,{"$f":"IF(I161=\"\",\"\",IF(A161=\"H\",IF(OR(H161=\"SEN\",H161<1995),VLOOKUP(I161,Feuil1!$A$11:$F$29,6),IF(AND(H161>1994,H161<1998),VLOOKUP(I161,Feuil1!$A$11:$F$29,5),IF(AND(H161>1997,H161<2000),VLOOKUP(I161,Feuil1!$A$11:$F$29,4),IF(AND(H161>1999,H161<2002),VLOOKUP(I161,Feuil1!$A$11:$F$29,3),VLOOKUP(I161,Feuil1!$A$11:$F$29,2))))),IF(OR(H161=\"SEN\",H161<1995),VLOOKUP(I161,Feuil1!$G$11:$L$25,6),IF(AND(H161>1994,H161<1998),VLOOKUP(I161,Feuil1!$G$11:$L$25,5),IF(AND(H161>1997,H161<2000),VLOOKUP(I161,Feuil1!$G$11:$L$25,4),IF(AND(H161>1999,H161<2002),VLOOKUP(I161,Feuil1!$G$11:$L$25,3),VLOOKUP(I161,Feuil1!$G$11:$L$25,2)))))))","v":"FS58"},94.074448456591426,null," ",{"$f":"T161-HLOOKUP(X161,Feuil1!$C$1:$BL$10,2,FALSE)","v":-6},{"$f":"T161-HLOOKUP(X161,Feuil1!$C$1:$BL$10,3,FALSE)","v":-16},{"$f":"T161-HLOOKUP(X161,Feuil1!$C$1:$BL$10,4,FALSE)","v":-26},{"$f":"T161-HLOOKUP(X161,Feuil1!$C$1:$BL$10,5,FALSE)","v":-36},{"$f":"T161-HLOOKUP(X161,Feuil1!$C$1:$BL$10,6,FALSE)","v":-51},{"$f":"T161-HLOOKUP(X161,Feuil1!$C$1:$BL$10,7,FALSE)","v":-66},{"$f":"T161-HLOOKUP(X161,Feuil1!$C$1:$BL$10,8,FALSE)","v":-86},{"$f":"T161-HLOOKUP(X161,Feuil1!$C$1:$BL$10,9,FALSE)","v":-106},{"$f":"T161-HLOOKUP(X161,Feuil1!$C$1:$BL$10,10,FALSE)","v":-126},null,null,null,null,null,null,"DEB "]
["F","SO","MPY",79,108439,"MARCOS","Audrey",1985,53.3,"COLOMIERS US","F",25,28,-31,28,30,35,-40,35,63,-43.599999999999994,"DEB ",-7,{"$f":"IF(I162=\"\",\"\",IF(A162=\"H\",IF(OR(H162=\"SEN\",H162<1995),VLOOKUP(I162,Feuil1!$A$11:$F$29,6),IF(AND(H162>1994,H162<1998),VLOOKUP(I162,Feuil1!$A$11:$F$29,5),IF(AND(H162>1997,H162<2000),VLOOKUP(I162,Feuil1!$A$11:$F$29,4),IF(AND(H162>1999,H162<2002),VLOOKUP(I162,Feuil1!$A$11:$F$29,3),VLOOKUP(I162,Feuil1!$A$11:$F$29,2))))),IF(OR(H162=\"SEN\",H162<1995),VLOOKUP(I162,Feuil1!$G$11:$L$25,6),IF(AND(H162>1994,H162<1998),VLOOKUP(I162,Feuil1!$G$11:$L$25,5),IF(AND(H162>1997,H162<2000),VLOOKUP(I162,Feuil1!$G$11:$L$25,4),IF(AND(H162>1999,H162<2002),VLOOKUP(I162,Feuil1!$G$11:$L$25,3),VLOOKUP(I162,Feuil1!$G$11:$L$25,2)))))))","v":"FS58"},94.604756540232984,null," ",{"$f":"T162-HLOOKUP(X162,Feuil1!$C$1:$BL$10,2,FALSE)","v":-7},{"$f":"T162-HLOOKUP(X162,Feuil1!$C$1:$BL$10,3,FALSE)","v":-17},{"$f":"T162-HLOOKUP(X162,Feuil1!$C$1:$BL$10,4,FALSE)","v":-27},{"$f":"T162-HLOOKUP(X162,Feuil1!$C$1:$BL$10,5,FALSE)","v":-37},{"$f":"T162-HLOOKUP(X162,Feuil1!$C$1:$BL$10,6,FALSE)","v":-52},{"$f":"T162-HLOOKUP(X162,Feuil1!$C$1:$BL$10,7,FALSE)","v":-67},{"$f":"T162-HLOOKUP(X162,Feuil1!$C$1:$BL$10,8,FALSE)","v":-87},{"$f":"T162-HLOOKUP(X162,Feuil1!$C$1:$BL$10,9,FALSE)","v":-107},{"$f":"T162-HLOOKUP(X162,Feuil1!$C$1:$BL$10,10,FALSE)","v":-127},null,null,null,null,null,null,"DEB "]
["F","NE","FCO",80,374652,"CREVOISIER","Lucie",1993,55.6,"CH Luxeuil","F",25,28,-31,28,32,-35,35,35,63,-48.2,"DEB ",-7,{"$f":"IF(I163=\"\",\"\",IF(A163=\"H\",IF(OR(H163=\"SEN\",H163<1995),VLOOKUP(I163,Feuil1!$A$11:$F$29,6),IF(AND(H163>1994,H163<1998),VLOOKUP(I163,Feuil1!$A$11:$F$29,5),IF(AND(H163>1997,H163<2000),VLOOKUP(I163,Feuil1!$A$11:$F$29,4),IF(AND(H163>1999,H163<2002),VLOOKUP(I163,Feuil1!$A$11:$F$29,3),VLOOKUP(I163,Feuil1!$A$11:$F$29,2))))),IF(OR(H163=\"SEN\",H163<1995),VLOOKUP(I163,Feuil1!$G$11:$L$25,6),IF(AND(H163>1994,H163<1998),VLOOKUP(I163,Feuil1!$G$11:$L$25,5),IF(AND(H163>1997,H163<2000),VLOOKUP(I163,Feuil1!$G$11:$L$25,4),IF(AND(H163>1999,H163<2002),VLOOKUP(I163,Feuil1!$G$11:$L$25,3),VLOOKUP(I163,Feuil1!$G$11:$L$25,2)))))))","v":"FS58"},91.539614081984794,null," ",{"$f":"T163-HLOOKUP(X163,Feuil1!$C$1:$BL$10,2,FALSE)","v":-7},{"$f":"T163-HLOOKUP(X163,Feuil1!$C$1:$BL$10,3,FALSE)","v":-17},{"$f":"T163-HLOOKUP(X163,Feuil1!$C$1:$BL$10,4,FALSE)","v":-27},{"$f":"T163-HLOOKUP(X163,Feuil1!$C$1:$BL$10,5,FALSE)","v":-37},{"$f":"T163-HLOOKUP(X163,Feuil1!$C$1:$BL$10,6,FALSE)","v":-52},{"$f":"T163-HLOOKUP(X163,Feuil1!$C$1:$BL$10,7,FALSE)","v":-67},{"$f":"T163-HLOOKUP(X163,Feuil1!$C$1:$BL$10,8,FALSE)","v":-87},{"$f":"T163-HLOOKUP(X163,Feuil1!$C$1:$BL$10,9,FALSE)","v":-107},{"$f":"T163-HLOOKUP(X163,Feuil1!$C$1:$BL$10,10,FALSE)","v":-127},null,null,null,null,null,null,"DEB "]
["F","CO","BNO",81,383832,"LEMOINE","SANDRA",1973,57.8,"Stade St Lois","F",25,27,-30,27,30,-35,35,35,62,-53.599999999999994,"DEB ",-8,{"$f":"IF(I164=\"\",\"\",IF(A164=\"H\",IF(OR(H164=\"SEN\",H164<1995),VLOOKUP(I164,Feuil1!$A$11:$F$29,6),IF(AND(H164>1994,H164<1998),VLOOKUP(I164,Feuil1!$A$11:$F$29,5),IF(AND(H164>1997,H164<2000),VLOOKUP(I164,Feuil1!$A$11:$F$29,4),IF(AND(H164>1999,H164<2002),VLOOKUP(I164,Feuil1!$A$11:$F$29,3),VLOOKUP(I164,Feuil1!$A$11:$F$29,2))))),IF(OR(H164=\"SEN\",H164<1995),VLOOKUP(I164,Feuil1!$G$11:$L$25,6),IF(AND(H164>1994,H164<1998),VLOOKUP(I164,Feuil1!$G$11:$L$25,5),IF(AND(H164>1997,H164<2000),VLOOKUP(I164,Feuil1!$G$11:$L$25,4),IF(AND(H164>1999,H164<2002),VLOOKUP(I164,Feuil1!$G$11:$L$25,3),VLOOKUP(I164,Feuil1!$G$11:$L$25,2)))))))","v":"FS58"},87.509209517064519,null," ",{"$f":"T164-HLOOKUP(X164,Feuil1!$C$1:$BL$10,2,FALSE)","v":-8},{"$f":"T164-HLOOKUP(X164,Feuil1!$C$1:$BL$10,3,FALSE)","v":-18},{"$f":"T164-HLOOKUP(X164,Feuil1!$C$1:$BL$10,4,FALSE)","v":-28},{"$f":"T164-HLOOKUP(X164,Feuil1!$C$1:$BL$10,5,FALSE)","v":-38},{"$f":"T164-HLOOKUP(X164,Feuil1!$C$1:$BL$10,6,FALSE)","v":-53},{"$f":"T164-HLOOKUP(X164,Feuil1!$C$1:$BL$10,7,FALSE)","v":-68},{"$f":"T164-HLOOKUP(X164,Feuil1!$C$1:$BL$10,8,FALSE)","v":-88},{"$f":"T164-HLOOKUP(X164,Feuil1!$C$1:$BL$10,9,FALSE)","v":-108},{"$f":"T164-HLOOKUP(X164,Feuil1!$C$1:$BL$10,10,FALSE)","v":-128},null,null,null,null,null,null,"DEB "]
["F","NE","ALS",82,367025,"DEBIEN","LUCIE",1989,55.25,"ASPTT Strasbourg","F",23,25,27,27,29,32,34,34,61,-49.5,"DEB ",-9,{"$f":"IF(I165=\"\",\"\",IF(A165=\"H\",IF(OR(H165=\"SEN\",H165<1995),VLOOKUP(I165,Feuil1!$A$11:$F$29,6),IF(AND(H165>1994,H165<1998),VLOOKUP(I165,Feuil1!$A$11:$F$29,5),IF(AND(H165>1997,H165<2000),VLOOKUP(I165,Feuil1!$A$11:$F$29,4),IF(AND(H165>1999,H165<2002),VLOOKUP(I165,Feuil1!$A$11:$F$29,3),VLOOKUP(I165,Feuil1!$A$11:$F$29,2))))),IF(OR(H165=\"SEN\",H165<1995),VLOOKUP(I165,Feuil1!$G$11:$L$25,6),IF(AND(H165>1994,H165<1998),VLOOKUP(I165,Feuil1!$G$11:$L$25,5),IF(AND(H165>1997,H165<2000),VLOOKUP(I165,Feuil1!$G$11:$L$25,4),IF(AND(H165>1999,H165<2002),VLOOKUP(I165,Feuil1!$G$11:$L$25,3),VLOOKUP(I165,Feuil1!$G$11:$L$25,2)))))))","v":"FS58"},89.063147837695155,null," ",{"$f":"T165-HLOOKUP(X165,Feuil1!$C$1:$BL$10,2,FALSE)","v":-9},{"$f":"T165-HLOOKUP(X165,Feuil1!$C$1:$BL$10,3,FALSE)","v":-19},{"$f":"T165-HLOOKUP(X165,Feuil1!$C$1:$BL$10,4,FALSE)","v":-29},{"$f":"T165-HLOOKUP(X165,Feuil1!$C$1:$BL$10,5,FALSE)","v":-39},{"$f":"T165-HLOOKUP(X165,Feuil1!$C$1:$BL$10,6,FALSE)","v":-54},{"$f":"T165-HLOOKUP(X165,Feuil1!$C$1:$BL$10,7,FALSE)","v":-69},{"$f":"T165-HLOOKUP(X165,Feuil1!$C$1:$BL$10,8,FALSE)","v":-89},{"$f":"T165-HLOOKUP(X165,Feuil1!$C$1:$BL$10,9,FALSE)","v":-109},{"$f":"T165-HLOOKUP(X165,Feuil1!$C$1:$BL$10,10,FALSE)","v":-129},null,null,null,null,null,null,"DEB "]
["F","CO","PDL",83,367252,"AUDRAIN","Mélina",1992,55.94,"Saint Herblain","F",22,24,26,26,32,35,-38,35,61,-50.879999999999995,"DEB ",-9,{"$f":"IF(I166=\"\",\"\",IF(A166=\"H\",IF(OR(H166=\"SEN\",H166<1995),VLOOKUP(I166,Feuil1!$A$11:$F$29,6),IF(AND(H166>1994,H166<1998),VLOOKUP(I166,Feuil1!$A$11:$F$29,5),IF(AND(H166>1997,H166<2000),VLOOKUP(I166,Feuil1!$A$11:$F$29,4),IF(AND(H166>1999,H166<2002),VLOOKUP(I166,Feuil1!$A$11:$F$29,3),VLOOKUP(I166,Feuil1!$A$11:$F$29,2))))),IF(OR(H166=\"SEN\",H166<1995),VLOOKUP(I166,Feuil1!$G$11:$L$25,6),IF(AND(H166>1994,H166<1998),VLOOKUP(I166,Feuil1!$G$11:$L$25,5),IF(AND(H166>1997,H166<2000),VLOOKUP(I166,Feuil1!$G$11:$L$25,4),IF(AND(H166>1999,H166<2002),VLOOKUP(I166,Feuil1!$G$11:$L$25,3),VLOOKUP(I166,Feuil1!$G$11:$L$25,2)))))))","v":"FS58"},88.223462587198938,null," ",{"$f":"T166-HLOOKUP(X166,Feuil1!$C$1:$BL$10,2,FALSE)","v":-9},{"$f":"T166-HLOOKUP(X166,Feuil1!$C$1:$BL$10,3,FALSE)","v":-19},{"$f":"T166-HLOOKUP(X166,Feuil1!$C$1:$BL$10,4,FALSE)","v":-29},{"$f":"T166-HLOOKUP(X166,Feuil1!$C$1:$BL$10,5,FALSE)","v":-39},{"$f":"T166-HLOOKUP(X166,Feuil1!$C$1:$BL$10,6,FALSE)","v":-54},{"$f":"T166-HLOOKUP(X166,Feuil1!$C$1:$BL$10,7,FALSE)","v":-69},{"$f":"T166-HLOOKUP(X166,Feuil1!$C$1:$BL$10,8,FALSE)","v":-89},{"$f":"T166-HLOOKUP(X166,Feuil1!$C$1:$BL$10,9,FALSE)","v":-109},{"$f":"T166-HLOOKUP(X166,Feuil1!$C$1:$BL$10,10,FALSE)","v":-129},null,null,null,null,null,null,"DEB "]
["F","SO","LIM",84,19193,"FARGETAS","MARIE PIERRE",1975,54,"LIMOGES ASPTT","F",20,25,-27,25,30,35,-40,35,60,-48,"DEB ",-10,{"$f":"IF(I167=\"\",\"\",IF(A167=\"H\",IF(OR(H167=\"SEN\",H167<1995),VLOOKUP(I167,Feuil1!$A$11:$F$29,6),IF(AND(H167>1994,H167<1998),VLOOKUP(I167,Feuil1!$A$11:$F$29,5),IF(AND(H167>1997,H167<2000),VLOOKUP(I167,Feuil1!$A$11:$F$29,4),IF(AND(H167>1999,H167<2002),VLOOKUP(I167,Feuil1!$A$11:$F$29,3),VLOOKUP(I167,Feuil1!$A$11:$F$29,2))))),IF(OR(H167=\"SEN\",H167<1995),VLOOKUP(I167,Feuil1!$G$11:$L$25,6),IF(AND(H167>1994,H167<1998),VLOOKUP(I167,Feuil1!$G$11:$L$25,5),IF(AND(H167>1997,H167<2000),VLOOKUP(I167,Feuil1!$G$11:$L$25,4),IF(AND(H167>1999,H167<2002),VLOOKUP(I167,Feuil1!$G$11:$L$25,3),VLOOKUP(I167,Feuil1!$G$11:$L$25,2)))))))","v":"FS58"},89.174671510623227,null," ",{"$f":"T167-HLOOKUP(X167,Feuil1!$C$1:$BL$10,2,FALSE)","v":-10},{"$f":"T167-HLOOKUP(X167,Feuil1!$C$1:$BL$10,3,FALSE)","v":-20},{"$f":"T167-HLOOKUP(X167,Feuil1!$C$1:$BL$10,4,FALSE)","v":-30},{"$f":"T167-HLOOKUP(X167,Feuil1!$C$1:$BL$10,5,FALSE)","v":-40},{"$f":"T167-HLOOKUP(X167,Feuil1!$C$1:$BL$10,6,FALSE)","v":-55},{"$f":"T167-HLOOKUP(X167,Feuil1!$C$1:$BL$10,7,FALSE)","v":-70},{"$f":"T167-HLOOKUP(X167,Feuil1!$C$1:$BL$10,8,FALSE)","v":-90},{"$f":"T167-HLOOKUP(X167,Feuil1!$C$1:$BL$10,9,FALSE)","v":-110},{"$f":"T167-HLOOKUP(X167,Feuil1!$C$1:$BL$10,10,FALSE)","v":-130},null,null,null,null,null,null,"DEB "]
["F","SO","AQU",85,388214,"GAUTIER","MARIE",1994,55.9,"LE BOUSCAT","F",21,23,25,25,30,32,34,34,59,-52.8,"DEB ",-11,{"$f":"IF(I168=\"\",\"\",IF(A168=\"H\",IF(OR(H168=\"SEN\",H168<1995),VLOOKUP(I168,Feuil1!$A$11:$F$29,6),IF(AND(H168>1994,H168<1998),VLOOKUP(I168,Feuil1!$A$11:$F$29,5),IF(AND(H168>1997,H168<2000),VLOOKUP(I168,Feuil1!$A$11:$F$29,4),IF(AND(H168>1999,H168<2002),VLOOKUP(I168,Feuil1!$A$11:$F$29,3),VLOOKUP(I168,Feuil1!$A$11:$F$29,2))))),IF(OR(H168=\"SEN\",H168<1995),VLOOKUP(I168,Feuil1!$G$11:$L$25,6),IF(AND(H168>1994,H168<1998),VLOOKUP(I168,Feuil1!$G$11:$L$25,5),IF(AND(H168>1997,H168<2000),VLOOKUP(I168,Feuil1!$G$11:$L$25,4),IF(AND(H168>1999,H168<2002),VLOOKUP(I168,Feuil1!$G$11:$L$25,3),VLOOKUP(I168,Feuil1!$G$11:$L$25,2)))))))","v":"FS58"},85.377210271059212,null," ",{"$f":"T168-HLOOKUP(X168,Feuil1!$C$1:$BL$10,2,FALSE)","v":-11},{"$f":"T168-HLOOKUP(X168,Feuil1!$C$1:$BL$10,3,FALSE)","v":-21},{"$f":"T168-HLOOKUP(X168,Feuil1!$C$1:$BL$10,4,FALSE)","v":-31},{"$f":"T168-HLOOKUP(X168,Feuil1!$C$1:$BL$10,5,FALSE)","v":-41},{"$f":"T168-HLOOKUP(X168,Feuil1!$C$1:$BL$10,6,FALSE)","v":-56},{"$f":"T168-HLOOKUP(X168,Feuil1!$C$1:$BL$10,7,FALSE)","v":-71},{"$f":"T168-HLOOKUP(X168,Feuil1!$C$1:$BL$10,8,FALSE)","v":-91},{"$f":"T168-HLOOKUP(X168,Feuil1!$C$1:$BL$10,9,FALSE)","v":-111},{"$f":"T168-HLOOKUP(X168,Feuil1!$C$1:$BL$10,10,FALSE)","v":-131},null,null,null,null,null,null,"DEB "]
["F","SEST","RAL",86,265884,"FOREST","Christine",1966,56.6,"CH Arbresle","F",20,22,24,24,32,-34,34,34,58,-55.2,"DEB ",-12,{"$f":"IF(I169=\"\",\"\",IF(A169=\"H\",IF(OR(H169=\"SEN\",H169<1995),VLOOKUP(I169,Feuil1!$A$11:$F$29,6),IF(AND(H169>1994,H169<1998),VLOOKUP(I169,Feuil1!$A$11:$F$29,5),IF(AND(H169>1997,H169<2000),VLOOKUP(I169,Feuil1!$A$11:$F$29,4),IF(AND(H169>1999,H169<2002),VLOOKUP(I169,Feuil1!$A$11:$F$29,3),VLOOKUP(I169,Feuil1!$A$11:$F$29,2))))),IF(OR(H169=\"SEN\",H169<1995),VLOOKUP(I169,Feuil1!$G$11:$L$25,6),IF(AND(H169>1994,H169<1998),VLOOKUP(I169,Feuil1!$G$11:$L$25,5),IF(AND(H169>1997,H169<2000),VLOOKUP(I169,Feuil1!$G$11:$L$25,4),IF(AND(H169>1999,H169<2002),VLOOKUP(I169,Feuil1!$G$11:$L$25,3),VLOOKUP(I169,Feuil1!$G$11:$L$25,2)))))))","v":"FS58"},83.146181929148113,null," ",{"$f":"T169-HLOOKUP(X169,Feuil1!$C$1:$BL$10,2,FALSE)","v":-12},{"$f":"T169-HLOOKUP(X169,Feuil1!$C$1:$BL$10,3,FALSE)","v":-22},{"$f":"T169-HLOOKUP(X169,Feuil1!$C$1:$BL$10,4,FALSE)","v":-32},{"$f":"T169-HLOOKUP(X169,Feuil1!$C$1:$BL$10,5,FALSE)","v":-42},{"$f":"T169-HLOOKUP(X169,Feuil1!$C$1:$BL$10,6,FALSE)","v":-57},{"$f":"T169-HLOOKUP(X169,Feuil1!$C$1:$BL$10,7,FALSE)","v":-72},{"$f":"T169-HLOOKUP(X169,Feuil1!$C$1:$BL$10,8,FALSE)","v":-92},{"$f":"T169-HLOOKUP(X169,Feuil1!$C$1:$BL$10,9,FALSE)","v":-112},{"$f":"T169-HLOOKUP(X169,Feuil1!$C$1:$BL$10,10,FALSE)","v":-132},null,null,null,null,null,null,"DEB "]
["F","CO","CEN",87,179582,"TABORDET","Nelly",1946,53.3,"CM Orléans","F",21,23,25,25,28,30,32,32,57,-49.599999999999994,"DEB ",-13,{"$f":"IF(I170=\"\",\"\",IF(A170=\"H\",IF(OR(H170=\"SEN\",H170<1995),VLOOKUP(I170,Feuil1!$A$11:$F$29,6),IF(AND(H170>1994,H170<1998),VLOOKUP(I170,Feuil1!$A$11:$F$29,5),IF(AND(H170>1997,H170<2000),VLOOKUP(I170,Feuil1!$A$11:$F$29,4),IF(AND(H170>1999,H170<2002),VLOOKUP(I170,Feuil1!$A$11:$F$29,3),VLOOKUP(I170,Feuil1!$A$11:$F$29,2))))),IF(OR(H170=\"SEN\",H170<1995),VLOOKUP(I170,Feuil1!$G$11:$L$25,6),IF(AND(H170>1994,H170<1998),VLOOKUP(I170,Feuil1!$G$11:$L$25,5),IF(AND(H170>1997,H170<2000),VLOOKUP(I170,Feuil1!$G$11:$L$25,4),IF(AND(H170>1999,H170<2002),VLOOKUP(I170,Feuil1!$G$11:$L$25,3),VLOOKUP(I170,Feuil1!$G$11:$L$25,2)))))))","v":"FS58"},85.594779726877462,null," ",{"$f":"T170-HLOOKUP(X170,Feuil1!$C$1:$BL$10,2,FALSE)","v":-13},{"$f":"T170-HLOOKUP(X170,Feuil1!$C$1:$BL$10,3,FALSE)","v":-23},{"$f":"T170-HLOOKUP(X170,Feuil1!$C$1:$BL$10,4,FALSE)","v":-33},{"$f":"T170-HLOOKUP(X170,Feuil1!$C$1:$BL$10,5,FALSE)","v":-43},{"$f":"T170-HLOOKUP(X170,Feuil1!$C$1:$BL$10,6,FALSE)","v":-58},{"$f":"T170-HLOOKUP(X170,Feuil1!$C$1:$BL$10,7,FALSE)","v":-73},{"$f":"T170-HLOOKUP(X170,Feuil1!$C$1:$BL$10,8,FALSE)","v":-93},{"$f":"T170-HLOOKUP(X170,Feuil1!$C$1:$BL$10,9,FALSE)","v":-113},{"$f":"T170-HLOOKUP(X170,Feuil1!$C$1:$BL$10,10,FALSE)","v":-133},null,null,null,null,null,null,"DEB "]
["F","SO","MPY",88,175014,"AUNAY","Geneviève",1965,56.9,"COLOMIERS US","F",18,20,23,23,28,31,33,33,56,-57.8,"DEB ",-14,{"$f":"IF(I171=\"\",\"\",IF(A171=\"H\",IF(OR(H171=\"SEN\",H171<1995),VLOOKUP(I171,Feuil1!$A$11:$F$29,6),IF(AND(H171>1994,H171<1998),VLOOKUP(I171,Feuil1!$A$11:$F$29,5),IF(AND(H171>1997,H171<2000),VLOOKUP(I171,Feuil1!$A$11:$F$29,4),IF(AND(H171>1999,H171<2002),VLOOKUP(I171,Feuil1!$A$11:$F$29,3),VLOOKUP(I171,Feuil1!$A$11:$F$29,2))))),IF(OR(H171=\"SEN\",H171<1995),VLOOKUP(I171,Feuil1!$G$11:$L$25,6),IF(AND(H171>1994,H171<1998),VLOOKUP(I171,Feuil1!$G$11:$L$25,5),IF(AND(H171>1997,H171<2000),VLOOKUP(I171,Feuil1!$G$11:$L$25,4),IF(AND(H171>1999,H171<2002),VLOOKUP(I171,Feuil1!$G$11:$L$25,3),VLOOKUP(I171,Feuil1!$G$11:$L$25,2)))))))","v":"FS58"},79.962601719423219,null," ",{"$f":"T171-HLOOKUP(X171,Feuil1!$C$1:$BL$10,2,FALSE)","v":-14},{"$f":"T171-HLOOKUP(X171,Feuil1!$C$1:$BL$10,3,FALSE)","v":-24},{"$f":"T171-HLOOKUP(X171,Feuil1!$C$1:$BL$10,4,FALSE)","v":-34},{"$f":"T171-HLOOKUP(X171,Feuil1!$C$1:$BL$10,5,FALSE)","v":-44},{"$f":"T171-HLOOKUP(X171,Feuil1!$C$1:$BL$10,6,FALSE)","v":-59},{"$f":"T171-HLOOKUP(X171,Feuil1!$C$1:$BL$10,7,FALSE)","v":-74},{"$f":"T171-HLOOKUP(X171,Feuil1!$C$1:$BL$10,8,FALSE)","v":-94},{"$f":"T171-HLOOKUP(X171,Feuil1!$C$1:$BL$10,9,FALSE)","v":-114},{"$f":"T171-HLOOKUP(X171,Feuil1!$C$1:$BL$10,10,FALSE)","v":-134},null,null,null,null,null,null,"DEB "]
["F","NORD","NPC",89,223320,"CAPIOMONT","Laetitia",1993,54.15,"LOMME","F",22,24,26,26,27,29,-31,29,55,-53.3,"DEB ",-15,{"$f":"IF(I172=\"\",\"\",IF(A172=\"H\",IF(OR(H172=\"SEN\",H172<1995),VLOOKUP(I172,Feuil1!$A$11:$F$29,6),IF(AND(H172>1994,H172<1998),VLOOKUP(I172,Feuil1!$A$11:$F$29,5),IF(AND(H172>1997,H172<2000),VLOOKUP(I172,Feuil1!$A$11:$F$29,4),IF(AND(H172>1999,H172<2002),VLOOKUP(I172,Feuil1!$A$11:$F$29,3),VLOOKUP(I172,Feuil1!$A$11:$F$29,2))))),IF(OR(H172=\"SEN\",H172<1995),VLOOKUP(I172,Feuil1!$G$11:$L$25,6),IF(AND(H172>1994,H172<1998),VLOOKUP(I172,Feuil1!$G$11:$L$25,5),IF(AND(H172>1997,H172<2000),VLOOKUP(I172,Feuil1!$G$11:$L$25,4),IF(AND(H172>1999,H172<2002),VLOOKUP(I172,Feuil1!$G$11:$L$25,3),VLOOKUP(I172,Feuil1!$G$11:$L$25,2)))))))","v":"FS58"},81.565684375626049,null," ",{"$f":"T172-HLOOKUP(X172,Feuil1!$C$1:$BL$10,2,FALSE)","v":-15},{"$f":"T172-HLOOKUP(X172,Feuil1!$C$1:$BL$10,3,FALSE)","v":-25},{"$f":"T172-HLOOKUP(X172,Feuil1!$C$1:$BL$10,4,FALSE)","v":-35},{"$f":"T172-HLOOKUP(X172,Feuil1!$C$1:$BL$10,5,FALSE)","v":-45},{"$f":"T172-HLOOKUP(X172,Feuil1!$C$1:$BL$10,6,FALSE)","v":-60},{"$f":"T172-HLOOKUP(X172,Feuil1!$C$1:$BL$10,7,FALSE)","v":-75},{"$f":"T172-HLOOKUP(X172,Feuil1!$C$1:$BL$10,8,FALSE)","v":-95},{"$f":"T172-HLOOKUP(X172,Feuil1!$C$1:$BL$10,9,FALSE)","v":-115},{"$f":"T172-HLOOKUP(X172,Feuil1!$C$1:$BL$10,10,FALSE)","v":-135},null,null,null,null,null,null,"DEB "]
["F","N","IDF",90,377402,"LEVI","JUDITH",1984,54.4,"CHAVILLE","F",-20,20,-25,20,30,35,-40,35,55,-53.8,"DEB ",-15,{"$f":"IF(I173=\"\",\"\",IF(A173=\"H\",IF(OR(H173=\"SEN\",H173<1995),VLOOKUP(I173,Feuil1!$A$11:$F$29,6),IF(AND(H173>1994,H173<1998),VLOOKUP(I173,Feuil1!$A$11:$F$29,5),IF(AND(H173>1997,H173<2000),VLOOKUP(I173,Feuil1!$A$11:$F$29,4),IF(AND(H173>1999,H173<2002),VLOOKUP(I173,Feuil1!$A$11:$F$29,3),VLOOKUP(I173,Feuil1!$A$11:$F$29,2))))),IF(OR(H173=\"SEN\",H173<1995),VLOOKUP(I173,Feuil1!$G$11:$L$25,6),IF(AND(H173>1994,H173<1998),VLOOKUP(I173,Feuil1!$G$11:$L$25,5),IF(AND(H173>1997,H173<2000),VLOOKUP(I173,Feuil1!$G$11:$L$25,4),IF(AND(H173>1999,H173<2002),VLOOKUP(I173,Feuil1!$G$11:$L$25,3),VLOOKUP(I173,Feuil1!$G$11:$L$25,2)))))))","v":"FS58"},81.272431712831732,null," ",{"$f":"T173-HLOOKUP(X173,Feuil1!$C$1:$BL$10,2,FALSE)","v":-15},{"$f":"T173-HLOOKUP(X173,Feuil1!$C$1:$BL$10,3,FALSE)","v":-25},{"$f":"T173-HLOOKUP(X173,Feuil1!$C$1:$BL$10,4,FALSE)","v":-35},{"$f":"T173-HLOOKUP(X173,Feuil1!$C$1:$BL$10,5,FALSE)","v":-45},{"$f":"T173-HLOOKUP(X173,Feuil1!$C$1:$BL$10,6,FALSE)","v":-60},{"$f":"T173-HLOOKUP(X173,Feuil1!$C$1:$BL$10,7,FALSE)","v":-75},{"$f":"T173-HLOOKUP(X173,Feuil1!$C$1:$BL$10,8,FALSE)","v":-95},{"$f":"T173-HLOOKUP(X173,Feuil1!$C$1:$BL$10,9,FALSE)","v":-115},{"$f":"T173-HLOOKUP(X173,Feuil1!$C$1:$BL$10,10,FALSE)","v":-135},null,null,null,null,null,null,"DEB "]
["F","CO","BNO",91,378638,"BEAUGRAND","ALICE",1991,58,"Stade St Lois","F",20,-25,null,20,30,35,null,35,55,-61,"DEB ",-15,{"$f":"IF(I174=\"\",\"\",IF(A174=\"H\",IF(OR(H174=\"SEN\",H174<1995),VLOOKUP(I174,Feuil1!$A$11:$F$29,6),IF(AND(H174>1994,H174<1998),VLOOKUP(I174,Feuil1!$A$11:$F$29,5),IF(AND(H174>1997,H174<2000),VLOOKUP(I174,Feuil1!$A$11:$F$29,4),IF(AND(H174>1999,H174<2002),VLOOKUP(I174,Feuil1!$A$11:$F$29,3),VLOOKUP(I174,Feuil1!$A$11:$F$29,2))))),IF(OR(H174=\"SEN\",H174<1995),VLOOKUP(I174,Feuil1!$G$11:$L$25,6),IF(AND(H174>1994,H174<1998),VLOOKUP(I174,Feuil1!$G$11:$L$25,5),IF(AND(H174>1997,H174<2000),VLOOKUP(I174,Feuil1!$G$11:$L$25,4),IF(AND(H174>1999,H174<2002),VLOOKUP(I174,Feuil1!$G$11:$L$25,3),VLOOKUP(I174,Feuil1!$G$11:$L$25,2)))))))","v":"FS58"},77.433219234265223,null," ",{"$f":"T174-HLOOKUP(X174,Feuil1!$C$1:$BL$10,2,FALSE)","v":-15},{"$f":"T174-HLOOKUP(X174,Feuil1!$C$1:$BL$10,3,FALSE)","v":-25},{"$f":"T174-HLOOKUP(X174,Feuil1!$C$1:$BL$10,4,FALSE)","v":-35},{"$f":"T174-HLOOKUP(X174,Feuil1!$C$1:$BL$10,5,FALSE)","v":-45},{"$f":"T174-HLOOKUP(X174,Feuil1!$C$1:$BL$10,6,FALSE)","v":-60},{"$f":"T174-HLOOKUP(X174,Feuil1!$C$1:$BL$10,7,FALSE)","v":-75},{"$f":"T174-HLOOKUP(X174,Feuil1!$C$1:$BL$10,8,FALSE)","v":-95},{"$f":"T174-HLOOKUP(X174,Feuil1!$C$1:$BL$10,9,FALSE)","v":-115},{"$f":"T174-HLOOKUP(X174,Feuil1!$C$1:$BL$10,10,FALSE)","v":-135},null,null,null,null,null,null,"DEB "]
["F","N","IDF",92,175609,"BENACEUR","MERIEM",1984,56,"FRANCONVILLE","F",15,17,18,18,18,20,25,25,43,-69,"DEB ",-27,{"$f":"IF(I175=\"\",\"\",IF(A175=\"H\",IF(OR(H175=\"SEN\",H175<1995),VLOOKUP(I175,Feuil1!$A$11:$F$29,6),IF(AND(H175>1994,H175<1998),VLOOKUP(I175,Feuil1!$A$11:$F$29,5),IF(AND(H175>1997,H175<2000),VLOOKUP(I175,Feuil1!$A$11:$F$29,4),IF(AND(H175>1999,H175<2002),VLOOKUP(I175,Feuil1!$A$11:$F$29,3),VLOOKUP(I175,Feuil1!$A$11:$F$29,2))))),IF(OR(H175=\"SEN\",H175<1995),VLOOKUP(I175,Feuil1!$G$11:$L$25,6),IF(AND(H175>1994,H175<1998),VLOOKUP(I175,Feuil1!$G$11:$L$25,5),IF(AND(H175>1997,H175<2000),VLOOKUP(I175,Feuil1!$G$11:$L$25,4),IF(AND(H175>1999,H175<2002),VLOOKUP(I175,Feuil1!$G$11:$L$25,3),VLOOKUP(I175,Feuil1!$G$11:$L$25,2)))))))","v":"FS58"},62.139797395725978,null," ",{"$f":"T175-HLOOKUP(X175,Feuil1!$C$1:$BL$10,2,FALSE)","v":-27},{"$f":"T175-HLOOKUP(X175,Feuil1!$C$1:$BL$10,3,FALSE)","v":-37},{"$f":"T175-HLOOKUP(X175,Feuil1!$C$1:$BL$10,4,FALSE)","v":-47},{"$f":"T175-HLOOKUP(X175,Feuil1!$C$1:$BL$10,5,FALSE)","v":-57},{"$f":"T175-HLOOKUP(X175,Feuil1!$C$1:$BL$10,6,FALSE)","v":-72},{"$f":"T175-HLOOKUP(X175,Feuil1!$C$1:$BL$10,7,FALSE)","v":-87},{"$f":"T175-HLOOKUP(X175,Feuil1!$C$1:$BL$10,8,FALSE)","v":-107},{"$f":"T175-HLOOKUP(X175,Feuil1!$C$1:$BL$10,9,FALSE)","v":-127},{"$f":"T175-HLOOKUP(X175,Feuil1!$C$1:$BL$10,10,FALSE)","v":-147},null,null,null,null,null,null,"DEB "]
[null,null,null,null,null,null,null,null,null,null,null,null,null,null,null,null,null,null,null,null,null,null,null,null,null,null," ",{"$f":"T176-HLOOKUP(X176,[1]Feuil1!$C$1:$BL$10,2,FALSE)","v":{"$error":"#N/A"}},{"$f":"T176-HLOOKUP(X176,[1]Feuil1!$C$1:$BL$10,3,FALSE)","v":{"$error":"#N/A"}},{"$f":"T176-HLOOKUP(X176,[1]Feuil1!$C$1:$BL$10,4,FALSE)","v":{"$error":"#N/A"}},{"$f":"T176-HLOOKUP(X176,[1]Feuil1!$C$1:$BL$10,5,FALSE)","v":{"$error":"#N/A"}},{"$f":"T176-HLOOKUP(X176,[1]Feuil1!$C$1:$BL$10,6,FALSE)","v":{"$error":"#N/A"}},{"$f":"T176-HLOOKUP(X176,[1]Feuil1!$C$1:$BL$10,7,FALSE)","v":{"$error":"#N/A"}},{"$f":"T176-HLOOKUP(X176,[1]Feuil1!$C$1:$BL$10,8,FALSE)","v":{"$error":"#N/A"}},{"$f":"T176-HLOOKUP(X176,[1]Feuil1!$C$1:$BL$10,9,FALSE)","v":{"$error":"#N/A"}},{"$f":"T176-HLOOKUP(X176,[1]Feuil1!$C$1:$BL$10,10,FALSE)","v":{"$error":"#N/A"}},null,null,null,null,null,null,{"$f":"IF(AJ176>=0,$AJ$4,IF(AI176>=0,$AI$4,IF(AH176>=0,$AH$4,IF(AG176>=0,$AG$4,IF(AF176>=0,$AF$4,IF(AE176>=0,$AE$4,IF(AD176>=0,$AD$4,IF(AC176>=0,$AC$4,$AB$4))))))))","v":{"$error":"#N/A"}}]
["F","SO","AQU",1,381666,"GHEKAP WAFO","MYRIAM",1994,63,"ST MEDARD","CAM",77,81,83,{"$f":"IF(H177=\"\",\"\",IF(MAXA(L177:N177)<=0,0,MAXA(L177:N177)))","v":83},99,103,106,{"$f":"IF(H177=\"\",\"\",IF(MAXA(P177:R177)<=0,0,MAXA(P177:R177)))","v":106},{"$f":"IF(H177=\"\",\"\",IF(OR(O177=0,S177=0),0,O177+S177))","v":189},{"$f":"T177-I177*2","v":63},{"$f":"IF(H177=\"\",\"\",AQ177)","v":"INTA +"},{"$f":"IF(AJ177>=0,AJ177,IF(AI177>=0,AI177,IF(AH177>=0,AH177,IF(AG177>=0,AG177,IF(AF177>=0,AF177,IF(AE177>=0,AE177,IF(AD177>=0,AD177,IF(AC177>=0,AC177,AB177))))))))","v":9},{"$f":"IF(I177=\"\",\"\",IF(A177=\"H\",IF(OR(H177=\"SEN\",H177<1995),VLOOKUP(I177,Feuil1!$A$11:$F$29,6),IF(AND(H177>1994,H177<1998),VLOOKUP(I177,Feuil1!$A$11:$F$29,5),IF(AND(H177>1997,H177<2000),VLOOKUP(I177,Feuil1!$A$11:$F$29,4),IF(AND(H177>1999,H177<2002),VLOOKUP(I177,Feuil1!$A$11:$F$29,3),VLOOKUP(I177,Feuil1!$A$11:$F$29,2))))),IF(OR(H177=\"SEN\",H177<1995),VLOOKUP(I177,Feuil1!$G$11:$L$25,6),IF(AND(H177>1994,H177<1998),VLOOKUP(I177,Feuil1!$G$11:$L$25,5),IF(AND(H177>1997,H177<2000),VLOOKUP(I177,Feuil1!$G$11:$L$25,4),IF(AND(H177>1999,H177<2002),VLOOKUP(I177,Feuil1!$G$11:$L$25,3),VLOOKUP(I177,Feuil1!$G$11:$L$25,2)))))))","v":"FS63"},{"$f":"IF(I177=\"\",\"\",IF(A177=\"H\",10^(0.794358141*LOG(I177/174.393)^2)*T177,IF(A177=\"F\",10^(0.89726074*LOG(I177/148.026)^2)*T177,\"\")))","v":251.16549430993942},null," ",{"$f":"T177-HLOOKUP(X177,Feuil1!$C$1:$BL$10,2,FALSE)","v":114},{"$f":"T177-HLOOKUP(X177,Feuil1!$C$1:$BL$10,3,FALSE)","v":104},{"$f":"T177-HLOOKUP(X177,Feuil1!$C$1:$BL$10,4,FALSE)","v":94},{"$f":"T177-HLOOKUP(X177,Feuil1!$C$1:$BL$10,5,FALSE)","v":79},{"$f":"T177-HLOOKUP(X177,Feuil1!$C$1:$BL$10,6,FALSE)","v":64},{"$f":"T177-HLOOKUP(X177,Feuil1!$C$1:$BL$10,7,FALSE)","v":49},{"$f":"T177-HLOOKUP(X177,Feuil1!$C$1:$BL$10,8,FALSE)","v":29},{"$f":"T177-HLOOKUP(X177,Feuil1!$C$1:$BL$10,9,FALSE)","v":9},{"$f":"T177-HLOOKUP(X177,Feuil1!$C$1:$BL$10,10,FALSE)","v":-11},null,null,null,null,null,null,{"$f":"IF(AJ177>=0,$AJ$4,IF(AI177>=0,$AI$4,IF(AH177>=0,$AH$4,IF(AG177>=0,$AG$4,IF(AF177>=0,$AF$4,IF(AE177>=0,$AE$4,IF(AD177>=0,$AD$4,IF(AC177>=0,$AC$4,$AB$4))))))))","v":"INTA +"}]
["F","NE","FCO",2,31131,"CHIQUET","Agnès",1984,59.9,"LF Besançon","F",73,76,78,78,94,98,102,102,180,60.2,"INTA +",0,{"$f":"IF(I178=\"\",\"\",IF(A178=\"H\",IF(OR(H178=\"SEN\",H178<1995),VLOOKUP(I178,Feuil1!$A$11:$F$29,6),IF(AND(H178>1994,H178<1998),VLOOKUP(I178,Feuil1!$A$11:$F$29,5),IF(AND(H178>1997,H178<2000),VLOOKUP(I178,Feuil1!$A$11:$F$29,4),IF(AND(H178>1999,H178<2002),VLOOKUP(I178,Feuil1!$A$11:$F$29,3),VLOOKUP(I178,Feuil1!$A$11:$F$29,2))))),IF(OR(H178=\"SEN\",H178<1995),VLOOKUP(I178,Feuil1!$G$11:$L$25,6),IF(AND(H178>1994,H178<1998),VLOOKUP(I178,Feuil1!$G$11:$L$25,5),IF(AND(H178>1997,H178<2000),VLOOKUP(I178,Feuil1!$G$11:$L$25,4),IF(AND(H178>1999,H178<2002),VLOOKUP(I178,Feuil1!$G$11:$L$25,3),VLOOKUP(I178,Feuil1!$G$11:$L$25,2)))))))","v":"FS63"},247.62295223692624,null," ",{"$f":"T178-HLOOKUP(X178,Feuil1!$C$1:$BL$10,2,FALSE)","v":105},{"$f":"T178-HLOOKUP(X178,Feuil1!$C$1:$BL$10,3,FALSE)","v":95},{"$f":"T178-HLOOKUP(X178,Feuil1!$C$1:$BL$10,4,FALSE)","v":85},{"$f":"T178-HLOOKUP(X178,Feuil1!$C$1:$BL$10,5,FALSE)","v":70},{"$f":"T178-HLOOKUP(X178,Feuil1!$C$1:$BL$10,6,FALSE)","v":55},{"$f":"T178-HLOOKUP(X178,Feuil1!$C$1:$BL$10,7,FALSE)","v":40},{"$f":"T178-HLOOKUP(X178,Feuil1!$C$1:$BL$10,8,FALSE)","v":20},{"$f":"T178-HLOOKUP(X178,Feuil1!$C$1:$BL$10,9,FALSE)","v":0},{"$f":"T178-HLOOKUP(X178,Feuil1!$C$1:$BL$10,10,FALSE)","v":-20},null,null,null,null,null,null,"INTA +"]
["F","CO","CEN",3,317302,"BAKAM TRUCHE","Pilar",1988,58.5,"CM Orléans","Cam",68,72,75,75,90,95,100,100,175,58,"INTB +",15,{"$f":"IF(I179=\"\",\"\",IF(A179=\"H\",IF(OR(H179=\"SEN\",H179<1995),VLOOKUP(I179,Feuil1!$A$11:$F$29,6),IF(AND(H179>1994,H179<1998),VLOOKUP(I179,Feuil1!$A$11:$F$29,5),IF(AND(H179>1997,H179<2000),VLOOKUP(I179,Feuil1!$A$11:$F$29,4),IF(AND(H179>1999,H179<2002),VLOOKUP(I179,Feuil1!$A$11:$F$29,3),VLOOKUP(I179,Feuil1!$A$11:$F$29,2))))),IF(OR(H179=\"SEN\",H179<1995),VLOOKUP(I179,Feuil1!$G$11:$L$25,6),IF(AND(H179>1994,H179<1998),VLOOKUP(I179,Feuil1!$G$11:$L$25,5),IF(AND(H179>1997,H179<2000),VLOOKUP(I179,Feuil1!$G$11:$L$25,4),IF(AND(H179>1999,H179<2002),VLOOKUP(I179,Feuil1!$G$11:$L$25,3),VLOOKUP(I179,Feuil1!$G$11:$L$25,2)))))))","v":"FS63"},244.84600283008689,null," ",{"$f":"T179-HLOOKUP(X179,Feuil1!$C$1:$BL$10,2,FALSE)","v":100},{"$f":"T179-HLOOKUP(X179,Feuil1!$C$1:$BL$10,3,FALSE)","v":90},{"$f":"T179-HLOOKUP(X179,Feuil1!$C$1:$BL$10,4,FALSE)","v":80},{"$f":"T179-HLOOKUP(X179,Feuil1!$C$1:$BL$10,5,FALSE)","v":65},{"$f":"T179-HLOOKUP(X179,Feuil1!$C$1:$BL$10,6,FALSE)","v":50},{"$f":"T179-HLOOKUP(X179,Feuil1!$C$1:$BL$10,7,FALSE)","v":35},{"$f":"T179-HLOOKUP(X179,Feuil1!$C$1:$BL$10,8,FALSE)","v":15},{"$f":"T179-HLOOKUP(X179,Feuil1!$C$1:$BL$10,9,FALSE)","v":-5},{"$f":"T179-HLOOKUP(X179,Feuil1!$C$1:$BL$10,10,FALSE)","v":-25},null,null,null,null,null,null,"INTB +"]
["F","SO","MPY",4,3505,"CRETON","Sandy",1976,61.05,"TOULOUSE HC","F",68,72,-75,72,87,94,-100,94,166,43.900000000000006,"INTB +",6,{"$f":"IF(I180=\"\",\"\",IF(A180=\"H\",IF(OR(H180=\"SEN\",H180<1995),VLOOKUP(I180,Feuil1!$A$11:$F$29,6),IF(AND(H180>1994,H180<1998),VLOOKUP(I180,Feuil1!$A$11:$F$29,5),IF(AND(H180>1997,H180<2000),VLOOKUP(I180,Feuil1!$A$11:$F$29,4),IF(AND(H180>1999,H180<2002),VLOOKUP(I180,Feuil1!$A$11:$F$29,3),VLOOKUP(I180,Feuil1!$A$11:$F$29,2))))),IF(OR(H180=\"SEN\",H180<1995),VLOOKUP(I180,Feuil1!$G$11:$L$25,6),IF(AND(H180>1994,H180<1998),VLOOKUP(I180,Feuil1!$G$11:$L$25,5),IF(AND(H180>1997,H180<2000),VLOOKUP(I180,Feuil1!$G$11:$L$25,4),IF(AND(H180>1999,H180<2002),VLOOKUP(I180,Feuil1!$G$11:$L$25,3),VLOOKUP(I180,Feuil1!$G$11:$L$25,2)))))))","v":"FS63"},225.35358502359318,null," ",{"$f":"T180-HLOOKUP(X180,Feuil1!$C$1:$BL$10,2,FALSE)","v":91},{"$f":"T180-HLOOKUP(X180,Feuil1!$C$1:$BL$10,3,FALSE)","v":81},{"$f":"T180-HLOOKUP(X180,Feuil1!$C$1:$BL$10,4,FALSE)","v":71},{"$f":"T180-HLOOKUP(X180,Feuil1!$C$1:$BL$10,5,FALSE)","v":56},{"$f":"T180-HLOOKUP(X180,Feuil1!$C$1:$BL$10,6,FALSE)","v":41},{"$f":"T180-HLOOKUP(X180,Feuil1!$C$1:$BL$10,7,FALSE)","v":26},{"$f":"T180-HLOOKUP(X180,Feuil1!$C$1:$BL$10,8,FALSE)","v":6},{"$f":"T180-HLOOKUP(X180,Feuil1!$C$1:$BL$10,9,FALSE)","v":-14},{"$f":"T180-HLOOKUP(X180,Feuil1!$C$1:$BL$10,10,FALSE)","v":-34},null,null,null,null,null,null,"INTB +"]
["F","ZCO","BRE",5,376538,"OSOUNGU ","Joyce Epie",1983,60.7,"ES Saint Avé","Cam",74,77,81,81,85,89,-92,89,170,48.599999999999994,"INTB +",10,{"$f":"IF(I181=\"\",\"\",IF(A181=\"H\",IF(OR(H181=\"SEN\",H181<1995),VLOOKUP(I181,Feuil1!$A$11:$F$29,6),IF(AND(H181>1994,H181<1998),VLOOKUP(I181,Feuil1!$A$11:$F$29,5),IF(AND(H181>1997,H181<2000),VLOOKUP(I181,Feuil1!$A$11:$F$29,4),IF(AND(H181>1999,H181<2002),VLOOKUP(I181,Feuil1!$A$11:$F$29,3),VLOOKUP(I181,Feuil1!$A$11:$F$29,2))))),IF(OR(H181=\"SEN\",H181<1995),VLOOKUP(I181,Feuil1!$G$11:$L$25,6),IF(AND(H181>1994,H181<1998),VLOOKUP(I181,Feuil1!$G$11:$L$25,5),IF(AND(H181>1997,H181<2000),VLOOKUP(I181,Feuil1!$G$11:$L$25,4),IF(AND(H181>1999,H181<2002),VLOOKUP(I181,Feuil1!$G$11:$L$25,3),VLOOKUP(I181,Feuil1!$G$11:$L$25,2)))))))","v":"FS63"},231.70450603090356,null," ",{"$f":"T181-HLOOKUP(X181,Feuil1!$C$1:$BL$10,2,FALSE)","v":95},{"$f":"T181-HLOOKUP(X181,Feuil1!$C$1:$BL$10,3,FALSE)","v":85},{"$f":"T181-HLOOKUP(X181,Feuil1!$C$1:$BL$10,4,FALSE)","v":75},{"$f":"T181-HLOOKUP(X181,Feuil1!$C$1:$BL$10,5,FALSE)","v":60},{"$f":"T181-HLOOKUP(X181,Feuil1!$C$1:$BL$10,6,FALSE)","v":45},{"$f":"T181-HLOOKUP(X181,Feuil1!$C$1:$BL$10,7,FALSE)","v":30},{"$f":"T181-HLOOKUP(X181,Feuil1!$C$1:$BL$10,8,FALSE)","v":10},{"$f":"T181-HLOOKUP(X181,Feuil1!$C$1:$BL$10,9,FALSE)","v":-10},{"$f":"T181-HLOOKUP(X181,Feuil1!$C$1:$BL$10,10,FALSE)","v":-30},null,null,null,null,null,null,"INTB +"]
["F","SO","MPY",6,250351,"BRIDIER","Stéphanie",1985,61.9,"TOULOUSE HC","F",-69,69,72,72,83,86,88,88,160,36.200000000000003,"INTB +",0,{"$f":"IF(I182=\"\",\"\",IF(A182=\"H\",IF(OR(H182=\"SEN\",H182<1995),VLOOKUP(I182,Feuil1!$A$11:$F$29,6),IF(AND(H182>1994,H182<1998),VLOOKUP(I182,Feuil1!$A$11:$F$29,5),IF(AND(H182>1997,H182<2000),VLOOKUP(I182,Feuil1!$A$11:$F$29,4),IF(AND(H182>1999,H182<2002),VLOOKUP(I182,Feuil1!$A$11:$F$29,3),VLOOKUP(I182,Feuil1!$A$11:$F$29,2))))),IF(OR(H182=\"SEN\",H182<1995),VLOOKUP(I182,Feuil1!$G$11:$L$25,6),IF(AND(H182>1994,H182<1998),VLOOKUP(I182,Feuil1!$G$11:$L$25,5),IF(AND(H182>1997,H182<2000),VLOOKUP(I182,Feuil1!$G$11:$L$25,4),IF(AND(H182>1999,H182<2002),VLOOKUP(I182,Feuil1!$G$11:$L$25,3),VLOOKUP(I182,Feuil1!$G$11:$L$25,2)))))))","v":"FS63"},215.16106325416109,null," ",{"$f":"T182-HLOOKUP(X182,Feuil1!$C$1:$BL$10,2,FALSE)","v":85},{"$f":"T182-HLOOKUP(X182,Feuil1!$C$1:$BL$10,3,FALSE)","v":75},{"$f":"T182-HLOOKUP(X182,Feuil1!$C$1:$BL$10,4,FALSE)","v":65},{"$f":"T182-HLOOKUP(X182,Feuil1!$C$1:$BL$10,5,FALSE)","v":50},{"$f":"T182-HLOOKUP(X182,Feuil1!$C$1:$BL$10,6,FALSE)","v":35},{"$f":"T182-HLOOKUP(X182,Feuil1!$C$1:$BL$10,7,FALSE)","v":20},{"$f":"T182-HLOOKUP(X182,Feuil1!$C$1:$BL$10,8,FALSE)","v":0},{"$f":"T182-HLOOKUP(X182,Feuil1!$C$1:$BL$10,9,FALSE)","v":-20},{"$f":"T182-HLOOKUP(X182,Feuil1!$C$1:$BL$10,10,FALSE)","v":-40},null,null,null,null,null,null,"INTB +"]
["F","CO","BNO",7,115950,"DUMARAIS","Mélissa",1992,60.9,"Caen CHM","F",66,-69,69,69,82,-86,86,86,155,33.200000000000003,"NAT +",15,{"$f":"IF(I183=\"\",\"\",IF(A183=\"H\",IF(OR(H183=\"SEN\",H183<1995),VLOOKUP(I183,Feuil1!$A$11:$F$29,6),IF(AND(H183>1994,H183<1998),VLOOKUP(I183,Feuil1!$A$11:$F$29,5),IF(AND(H183>1997,H183<2000),VLOOKUP(I183,Feuil1!$A$11:$F$29,4),IF(AND(H183>1999,H183<2002),VLOOKUP(I183,Feuil1!$A$11:$F$29,3),VLOOKUP(I183,Feuil1!$A$11:$F$29,2))))),IF(OR(H183=\"SEN\",H183<1995),VLOOKUP(I183,Feuil1!$G$11:$L$25,6),IF(AND(H183>1994,H183<1998),VLOOKUP(I183,Feuil1!$G$11:$L$25,5),IF(AND(H183>1997,H183<2000),VLOOKUP(I183,Feuil1!$G$11:$L$25,4),IF(AND(H183>1999,H183<2002),VLOOKUP(I183,Feuil1!$G$11:$L$25,3),VLOOKUP(I183,Feuil1!$G$11:$L$25,2)))))))","v":"FS63"},210.77862641970339,null," ",{"$f":"T183-HLOOKUP(X183,Feuil1!$C$1:$BL$10,2,FALSE)","v":80},{"$f":"T183-HLOOKUP(X183,Feuil1!$C$1:$BL$10,3,FALSE)","v":70},{"$f":"T183-HLOOKUP(X183,Feuil1!$C$1:$BL$10,4,FALSE)","v":60},{"$f":"T183-HLOOKUP(X183,Feuil1!$C$1:$BL$10,5,FALSE)","v":45},{"$f":"T183-HLOOKUP(X183,Feuil1!$C$1:$BL$10,6,FALSE)","v":30},{"$f":"T183-HLOOKUP(X183,Feuil1!$C$1:$BL$10,7,FALSE)","v":15},{"$f":"T183-HLOOKUP(X183,Feuil1!$C$1:$BL$10,8,FALSE)","v":-5},{"$f":"T183-HLOOKUP(X183,Feuil1!$C$1:$BL$10,9,FALSE)","v":-25},{"$f":"T183-HLOOKUP(X183,Feuil1!$C$1:$BL$10,10,FALSE)","v":-45},null,null,null,null,null,null,"NAT +"]
["F","SO","MPY",8,264816,"LABRUNIE","Elise",1988,58.2,"TOULOUSE HC","F",60,65,70,70,75,80,85,85,155,38.599999999999994,"NAT +",15,{"$f":"IF(I184=\"\",\"\",IF(A184=\"H\",IF(OR(H184=\"SEN\",H184<1995),VLOOKUP(I184,Feuil1!$A$11:$F$29,6),IF(AND(H184>1994,H184<1998),VLOOKUP(I184,Feuil1!$A$11:$F$29,5),IF(AND(H184>1997,H184<2000),VLOOKUP(I184,Feuil1!$A$11:$F$29,4),IF(AND(H184>1999,H184<2002),VLOOKUP(I184,Feuil1!$A$11:$F$29,3),VLOOKUP(I184,Feuil1!$A$11:$F$29,2))))),IF(OR(H184=\"SEN\",H184<1995),VLOOKUP(I184,Feuil1!$G$11:$L$25,6),IF(AND(H184>1994,H184<1998),VLOOKUP(I184,Feuil1!$G$11:$L$25,5),IF(AND(H184>1997,H184<2000),VLOOKUP(I184,Feuil1!$G$11:$L$25,4),IF(AND(H184>1999,H184<2002),VLOOKUP(I184,Feuil1!$G$11:$L$25,3),VLOOKUP(I184,Feuil1!$G$11:$L$25,2)))))))","v":"FS63"},217.67405795996396,null," ",{"$f":"T184-HLOOKUP(X184,Feuil1!$C$1:$BL$10,2,FALSE)","v":80},{"$f":"T184-HLOOKUP(X184,Feuil1!$C$1:$BL$10,3,FALSE)","v":70},{"$f":"T184-HLOOKUP(X184,Feuil1!$C$1:$BL$10,4,FALSE)","v":60},{"$f":"T184-HLOOKUP(X184,Feuil1!$C$1:$BL$10,5,FALSE)","v":45},{"$f":"T184-HLOOKUP(X184,Feuil1!$C$1:$BL$10,6,FALSE)","v":30},{"$f":"T184-HLOOKUP(X184,Feuil1!$C$1:$BL$10,7,FALSE)","v":15},{"$f":"T184-HLOOKUP(X184,Feuil1!$C$1:$BL$10,8,FALSE)","v":-5},{"$f":"T184-HLOOKUP(X184,Feuil1!$C$1:$BL$10,9,FALSE)","v":-25},{"$f":"T184-HLOOKUP(X184,Feuil1!$C$1:$BL$10,10,FALSE)","v":-45},null,null,null,null,null,null,"NAT +"]
["F","CO","CEN",9,303229,"MAMONE","Chloé",1987,60,"AAJ Blois","F",73,76,-78,76,83,85,-87,85,161,41,"INTB +",1,{"$f":"IF(I185=\"\",\"\",IF(A185=\"H\",IF(OR(H185=\"SEN\",H185<1995),VLOOKUP(I185,Feuil1!$A$11:$F$29,6),IF(AND(H185>1994,H185<1998),VLOOKUP(I185,Feuil1!$A$11:$F$29,5),IF(AND(H185>1997,H185<2000),VLOOKUP(I185,Feuil1!$A$11:$F$29,4),IF(AND(H185>1999,H185<2002),VLOOKUP(I185,Feuil1!$A$11:$F$29,3),VLOOKUP(I185,Feuil1!$A$11:$F$29,2))))),IF(OR(H185=\"SEN\",H185<1995),VLOOKUP(I185,Feuil1!$G$11:$L$25,6),IF(AND(H185>1994,H185<1998),VLOOKUP(I185,Feuil1!$G$11:$L$25,5),IF(AND(H185>1997,H185<2000),VLOOKUP(I185,Feuil1!$G$11:$L$25,4),IF(AND(H185>1999,H185<2002),VLOOKUP(I185,Feuil1!$G$11:$L$25,3),VLOOKUP(I185,Feuil1!$G$11:$L$25,2)))))))","v":"FS63"},221.2248726293484,null," ",{"$f":"T185-HLOOKUP(X185,Feuil1!$C$1:$BL$10,2,FALSE)","v":86},{"$f":"T185-HLOOKUP(X185,Feuil1!$C$1:$BL$10,3,FALSE)","v":76},{"$f":"T185-HLOOKUP(X185,Feuil1!$C$1:$BL$10,4,FALSE)","v":66},{"$f":"T185-HLOOKUP(X185,Feuil1!$C$1:$BL$10,5,FALSE)","v":51},{"$f":"T185-HLOOKUP(X185,Feuil1!$C$1:$BL$10,6,FALSE)","v":36},{"$f":"T185-HLOOKUP(X185,Feuil1!$C$1:$BL$10,7,FALSE)","v":21},{"$f":"T185-HLOOKUP(X185,Feuil1!$C$1:$BL$10,8,FALSE)","v":1},{"$f":"T185-HLOOKUP(X185,Feuil1!$C$1:$BL$10,9,FALSE)","v":-19},{"$f":"T185-HLOOKUP(X185,Feuil1!$C$1:$BL$10,10,FALSE)","v":-39},null,null,null,null,null,null,"INTB +"]
["F","SEST","RAL",10,365894,"ORLANDO","Eugenia",1989,61.65,"CH Ansois","It",55,58,-60,58,75,-80,80,80,138,14.700000000000003,"FED +",13,{"$f":"IF(I186=\"\",\"\",IF(A186=\"H\",IF(OR(H186=\"SEN\",H186<1995),VLOOKUP(I186,Feuil1!$A$11:$F$29,6),IF(AND(H186>1994,H186<1998),VLOOKUP(I186,Feuil1!$A$11:$F$29,5),IF(AND(H186>1997,H186<2000),VLOOKUP(I186,Feuil1!$A$11:$F$29,4),IF(AND(H186>1999,H186<2002),VLOOKUP(I186,Feuil1!$A$11:$F$29,3),VLOOKUP(I186,Feuil1!$A$11:$F$29,2))))),IF(OR(H186=\"SEN\",H186<1995),VLOOKUP(I186,Feuil1!$G$11:$L$25,6),IF(AND(H186>1994,H186<1998),VLOOKUP(I186,Feuil1!$G$11:$L$25,5),IF(AND(H186>1997,H186<2000),VLOOKUP(I186,Feuil1!$G$11:$L$25,4),IF(AND(H186>1999,H186<2002),VLOOKUP(I186,Feuil1!$G$11:$L$25,3),VLOOKUP(I186,Feuil1!$G$11:$L$25,2)))))))","v":"FS63"},186.08861712836165,null," ",{"$f":"T186-HLOOKUP(X186,Feuil1!$C$1:$BL$10,2,FALSE)","v":63},{"$f":"T186-HLOOKUP(X186,Feuil1!$C$1:$BL$10,3,FALSE)","v":53},{"$f":"T186-HLOOKUP(X186,Feuil1!$C$1:$BL$10,4,FALSE)","v":43},{"$f":"T186-HLOOKUP(X186,Feuil1!$C$1:$BL$10,5,FALSE)","v":28},{"$f":"T186-HLOOKUP(X186,Feuil1!$C$1:$BL$10,6,FALSE)","v":13},{"$f":"T186-HLOOKUP(X186,Feuil1!$C$1:$BL$10,7,FALSE)","v":-2},{"$f":"T186-HLOOKUP(X186,Feuil1!$C$1:$BL$10,8,FALSE)","v":-22},{"$f":"T186-HLOOKUP(X186,Feuil1!$C$1:$BL$10,9,FALSE)","v":-42},{"$f":"T186-HLOOKUP(X186,Feuil1!$C$1:$BL$10,10,FALSE)","v":-62},null,null,null,null,null,null,"FED +"]
["F","SEST","PRO",11,112257,"CONDE ","Fabienne",1985,60.64,"ISTRES SPORTS","F",54,58,-60,58,74,78,-80,78,136,14.719999999999999,"FED +",11,{"$f":"IF(I187=\"\",\"\",IF(A187=\"H\",IF(OR(H187=\"SEN\",H187<1995),VLOOKUP(I187,Feuil1!$A$11:$F$29,6),IF(AND(H187>1994,H187<1998),VLOOKUP(I187,Feuil1!$A$11:$F$29,5),IF(AND(H187>1997,H187<2000),VLOOKUP(I187,Feuil1!$A$11:$F$29,4),IF(AND(H187>1999,H187<2002),VLOOKUP(I187,Feuil1!$A$11:$F$29,3),VLOOKUP(I187,Feuil1!$A$11:$F$29,2))))),IF(OR(H187=\"SEN\",H187<1995),VLOOKUP(I187,Feuil1!$G$11:$L$25,6),IF(AND(H187>1994,H187<1998),VLOOKUP(I187,Feuil1!$G$11:$L$25,5),IF(AND(H187>1997,H187<2000),VLOOKUP(I187,Feuil1!$G$11:$L$25,4),IF(AND(H187>1999,H187<2002),VLOOKUP(I187,Feuil1!$G$11:$L$25,3),VLOOKUP(I187,Feuil1!$G$11:$L$25,2)))))))","v":"FS63"},185.49107806710288,null," ",{"$f":"T187-HLOOKUP(X187,Feuil1!$C$1:$BL$10,2,FALSE)","v":61},{"$f":"T187-HLOOKUP(X187,Feuil1!$C$1:$BL$10,3,FALSE)","v":51},{"$f":"T187-HLOOKUP(X187,Feuil1!$C$1:$BL$10,4,FALSE)","v":41},{"$f":"T187-HLOOKUP(X187,Feuil1!$C$1:$BL$10,5,FALSE)","v":26},{"$f":"T187-HLOOKUP(X187,Feuil1!$C$1:$BL$10,6,FALSE)","v":11},{"$f":"T187-HLOOKUP(X187,Feuil1!$C$1:$BL$10,7,FALSE)","v":-4},{"$f":"T187-HLOOKUP(X187,Feuil1!$C$1:$BL$10,8,FALSE)","v":-24},{"$f":"T187-HLOOKUP(X187,Feuil1!$C$1:$BL$10,9,FALSE)","v":-44},{"$f":"T187-HLOOKUP(X187,Feuil1!$C$1:$BL$10,10,FALSE)","v":-64},null,null,null,null,null,null,"FED +"]
["F","NORD","PIC",12,174473,"DE COSTER","Sarah",1986,58.1,"La Ferté Milon CMHM","Belge",50,54,57,57,68,72,75,75,132,15.799999999999997,"FED +",7,{"$f":"IF(I188=\"\",\"\",IF(A188=\"H\",IF(OR(H188=\"SEN\",H188<1995),VLOOKUP(I188,Feuil1!$A$11:$F$29,6),IF(AND(H188>1994,H188<1998),VLOOKUP(I188,Feuil1!$A$11:$F$29,5),IF(AND(H188>1997,H188<2000),VLOOKUP(I188,Feuil1!$A$11:$F$29,4),IF(AND(H188>1999,H188<2002),VLOOKUP(I188,Feuil1!$A$11:$F$29,3),VLOOKUP(I188,Feuil1!$A$11:$F$29,2))))),IF(OR(H188=\"SEN\",H188<1995),VLOOKUP(I188,Feuil1!$G$11:$L$25,6),IF(AND(H188>1994,H188<1998),VLOOKUP(I188,Feuil1!$G$11:$L$25,5),IF(AND(H188>1997,H188<2000),VLOOKUP(I188,Feuil1!$G$11:$L$25,4),IF(AND(H188>1999,H188<2002),VLOOKUP(I188,Feuil1!$G$11:$L$25,3),VLOOKUP(I188,Feuil1!$G$11:$L$25,2)))))))","v":"FS63"},185.60632061226943,null," ",{"$f":"T188-HLOOKUP(X188,Feuil1!$C$1:$BL$10,2,FALSE)","v":57},{"$f":"T188-HLOOKUP(X188,Feuil1!$C$1:$BL$10,3,FALSE)","v":47},{"$f":"T188-HLOOKUP(X188,Feuil1!$C$1:$BL$10,4,FALSE)","v":37},{"$f":"T188-HLOOKUP(X188,Feuil1!$C$1:$BL$10,5,FALSE)","v":22},{"$f":"T188-HLOOKUP(X188,Feuil1!$C$1:$BL$10,6,FALSE)","v":7},{"$f":"T188-HLOOKUP(X188,Feuil1!$C$1:$BL$10,7,FALSE)","v":-8},{"$f":"T188-HLOOKUP(X188,Feuil1!$C$1:$BL$10,8,FALSE)","v":-28},{"$f":"T188-HLOOKUP(X188,Feuil1!$C$1:$BL$10,9,FALSE)","v":-48},{"$f":"T188-HLOOKUP(X188,Feuil1!$C$1:$BL$10,10,FALSE)","v":-68},null,null,null,null,null,null,"FED +"]
["F","SEST","CAZ",13,377635,"GABBIANI","Celia",1990,58.3,"AS MONACO","F",55,58,60,60,68,73,75,75,135,18.400000000000006,"FED +",10,{"$f":"IF(I189=\"\",\"\",IF(A189=\"H\",IF(OR(H189=\"SEN\",H189<1995),VLOOKUP(I189,Feuil1!$A$11:$F$29,6),IF(AND(H189>1994,H189<1998),VLOOKUP(I189,Feuil1!$A$11:$F$29,5),IF(AND(H189>1997,H189<2000),VLOOKUP(I189,Feuil1!$A$11:$F$29,4),IF(AND(H189>1999,H189<2002),VLOOKUP(I189,Feuil1!$A$11:$F$29,3),VLOOKUP(I189,Feuil1!$A$11:$F$29,2))))),IF(OR(H189=\"SEN\",H189<1995),VLOOKUP(I189,Feuil1!$G$11:$L$25,6),IF(AND(H189>1994,H189<1998),VLOOKUP(I189,Feuil1!$G$11:$L$25,5),IF(AND(H189>1997,H189<2000),VLOOKUP(I189,Feuil1!$G$11:$L$25,4),IF(AND(H189>1999,H189<2002),VLOOKUP(I189,Feuil1!$G$11:$L$25,3),VLOOKUP(I189,Feuil1!$G$11:$L$25,2)))))))","v":"FS63"},189.35065906722406,null," ",{"$f":"T189-HLOOKUP(X189,Feuil1!$C$1:$BL$10,2,FALSE)","v":60},{"$f":"T189-HLOOKUP(X189,Feuil1!$C$1:$BL$10,3,FALSE)","v":50},{"$f":"T189-HLOOKUP(X189,Feuil1!$C$1:$BL$10,4,FALSE)","v":40},{"$f":"T189-HLOOKUP(X189,Feuil1!$C$1:$BL$10,5,FALSE)","v":25},{"$f":"T189-HLOOKUP(X189,Feuil1!$C$1:$BL$10,6,FALSE)","v":10},{"$f":"T189-HLOOKUP(X189,Feuil1!$C$1:$BL$10,7,FALSE)","v":-5},{"$f":"T189-HLOOKUP(X189,Feuil1!$C$1:$BL$10,8,FALSE)","v":-25},{"$f":"T189-HLOOKUP(X189,Feuil1!$C$1:$BL$10,9,FALSE)","v":-45},{"$f":"T189-HLOOKUP(X189,Feuil1!$C$1:$BL$10,10,FALSE)","v":-65},null,null,null,null,null,null,"FED +"]
["F","SEST","CAZ",14,332675,"RADEAU","Celine",1983,62.41,"A.S. MONACO","F",50,53,-54,53,70,72,74,74,127,2.1800000000000068,"FED +",2,{"$f":"IF(I190=\"\",\"\",IF(A190=\"H\",IF(OR(H190=\"SEN\",H190<1995),VLOOKUP(I190,Feuil1!$A$11:$F$29,6),IF(AND(H190>1994,H190<1998),VLOOKUP(I190,Feuil1!$A$11:$F$29,5),IF(AND(H190>1997,H190<2000),VLOOKUP(I190,Feuil1!$A$11:$F$29,4),IF(AND(H190>1999,H190<2002),VLOOKUP(I190,Feuil1!$A$11:$F$29,3),VLOOKUP(I190,Feuil1!$A$11:$F$29,2))))),IF(OR(H190=\"SEN\",H190<1995),VLOOKUP(I190,Feuil1!$G$11:$L$25,6),IF(AND(H190>1994,H190<1998),VLOOKUP(I190,Feuil1!$G$11:$L$25,5),IF(AND(H190>1997,H190<2000),VLOOKUP(I190,Feuil1!$G$11:$L$25,4),IF(AND(H190>1999,H190<2002),VLOOKUP(I190,Feuil1!$G$11:$L$25,3),VLOOKUP(I190,Feuil1!$G$11:$L$25,2)))))))","v":"FS63"},169.83900069691308,null," ",{"$f":"T190-HLOOKUP(X190,Feuil1!$C$1:$BL$10,2,FALSE)","v":52},{"$f":"T190-HLOOKUP(X190,Feuil1!$C$1:$BL$10,3,FALSE)","v":42},{"$f":"T190-HLOOKUP(X190,Feuil1!$C$1:$BL$10,4,FALSE)","v":32},{"$f":"T190-HLOOKUP(X190,Feuil1!$C$1:$BL$10,5,FALSE)","v":17},{"$f":"T190-HLOOKUP(X190,Feuil1!$C$1:$BL$10,6,FALSE)","v":2},{"$f":"T190-HLOOKUP(X190,Feuil1!$C$1:$BL$10,7,FALSE)","v":-13},{"$f":"T190-HLOOKUP(X190,Feuil1!$C$1:$BL$10,8,FALSE)","v":-33},{"$f":"T190-HLOOKUP(X190,Feuil1!$C$1:$BL$10,9,FALSE)","v":-53},{"$f":"T190-HLOOKUP(X190,Feuil1!$C$1:$BL$10,10,FALSE)","v":-73},null,null,null,null,null,null,"FED +"]
["F","SEST","CAZ",15,196091,"SOULET","Frederique",1986,60.5," ASLDD TOULON","F",53,56,59,59,73,-75,-75,73,132,11,"FED +",7,{"$f":"IF(I191=\"\",\"\",IF(A191=\"H\",IF(OR(H191=\"SEN\",H191<1995),VLOOKUP(I191,Feuil1!$A$11:$F$29,6),IF(AND(H191>1994,H191<1998),VLOOKUP(I191,Feuil1!$A$11:$F$29,5),IF(AND(H191>1997,H191<2000),VLOOKUP(I191,Feuil1!$A$11:$F$29,4),IF(AND(H191>1999,H191<2002),VLOOKUP(I191,Feuil1!$A$11:$F$29,3),VLOOKUP(I191,Feuil1!$A$11:$F$29,2))))),IF(OR(H191=\"SEN\",H191<1995),VLOOKUP(I191,Feuil1!$G$11:$L$25,6),IF(AND(H191>1994,H191<1998),VLOOKUP(I191,Feuil1!$G$11:$L$25,5),IF(AND(H191>1997,H191<2000),VLOOKUP(I191,Feuil1!$G$11:$L$25,4),IF(AND(H191>1999,H191<2002),VLOOKUP(I191,Feuil1!$G$11:$L$25,3),VLOOKUP(I191,Feuil1!$G$11:$L$25,2)))))))","v":"FS63"},180.32549219458545,null," ",{"$f":"T191-HLOOKUP(X191,Feuil1!$C$1:$BL$10,2,FALSE)","v":57},{"$f":"T191-HLOOKUP(X191,Feuil1!$C$1:$BL$10,3,FALSE)","v":47},{"$f":"T191-HLOOKUP(X191,Feuil1!$C$1:$BL$10,4,FALSE)","v":37},{"$f":"T191-HLOOKUP(X191,Feuil1!$C$1:$BL$10,5,FALSE)","v":22},{"$f":"T191-HLOOKUP(X191,Feuil1!$C$1:$BL$10,6,FALSE)","v":7},{"$f":"T191-HLOOKUP(X191,Feuil1!$C$1:$BL$10,7,FALSE)","v":-8},{"$f":"T191-HLOOKUP(X191,Feuil1!$C$1:$BL$10,8,FALSE)","v":-28},{"$f":"T191-HLOOKUP(X191,Feuil1!$C$1:$BL$10,9,FALSE)","v":-48},{"$f":"T191-HLOOKUP(X191,Feuil1!$C$1:$BL$10,10,FALSE)","v":-68},null,null,null,null,null,null,"FED +"]
["F","NE","ALS",16,324052,"PREDY","ANAIS",1992,62.07,"SHC Haguenau","F",55,-58,58,58,73,-76,-76,73,131,6.8599999999999994,"FED +",6,{"$f":"IF(I192=\"\",\"\",IF(A192=\"H\",IF(OR(H192=\"SEN\",H192<1995),VLOOKUP(I192,Feuil1!$A$11:$F$29,6),IF(AND(H192>1994,H192<1998),VLOOKUP(I192,Feuil1!$A$11:$F$29,5),IF(AND(H192>1997,H192<2000),VLOOKUP(I192,Feuil1!$A$11:$F$29,4),IF(AND(H192>1999,H192<2002),VLOOKUP(I192,Feuil1!$A$11:$F$29,3),VLOOKUP(I192,Feuil1!$A$11:$F$29,2))))),IF(OR(H192=\"SEN\",H192<1995),VLOOKUP(I192,Feuil1!$G$11:$L$25,6),IF(AND(H192>1994,H192<1998),VLOOKUP(I192,Feuil1!$G$11:$L$25,5),IF(AND(H192>1997,H192<2000),VLOOKUP(I192,Feuil1!$G$11:$L$25,4),IF(AND(H192>1999,H192<2002),VLOOKUP(I192,Feuil1!$G$11:$L$25,3),VLOOKUP(I192,Feuil1!$G$11:$L$25,2)))))))","v":"FS63"},175.835648977494,null," ",{"$f":"T192-HLOOKUP(X192,Feuil1!$C$1:$BL$10,2,FALSE)","v":56},{"$f":"T192-HLOOKUP(X192,Feuil1!$C$1:$BL$10,3,FALSE)","v":46},{"$f":"T192-HLOOKUP(X192,Feuil1!$C$1:$BL$10,4,FALSE)","v":36},{"$f":"T192-HLOOKUP(X192,Feuil1!$C$1:$BL$10,5,FALSE)","v":21},{"$f":"T192-HLOOKUP(X192,Feuil1!$C$1:$BL$10,6,FALSE)","v":6},{"$f":"T192-HLOOKUP(X192,Feuil1!$C$1:$BL$10,7,FALSE)","v":-9},{"$f":"T192-HLOOKUP(X192,Feuil1!$C$1:$BL$10,8,FALSE)","v":-29},{"$f":"T192-HLOOKUP(X192,Feuil1!$C$1:$BL$10,9,FALSE)","v":-49},{"$f":"T192-HLOOKUP(X192,Feuil1!$C$1:$BL$10,10,FALSE)","v":-69},null,null,null,null,null,null,"FED +"]
["F","NE","BOU",17,30097,"EYANGO","Delphine",1986,58.3,"HMDB21","F",55,58,60,60,65,70,72,72,132,15.400000000000006,"FED +",7,{"$f":"IF(I193=\"\",\"\",IF(A193=\"H\",IF(OR(H193=\"SEN\",H193<1995),VLOOKUP(I193,Feuil1!$A$11:$F$29,6),IF(AND(H193>1994,H193<1998),VLOOKUP(I193,Feuil1!$A$11:$F$29,5),IF(AND(H193>1997,H193<2000),VLOOKUP(I193,Feuil1!$A$11:$F$29,4),IF(AND(H193>1999,H193<2002),VLOOKUP(I193,Feuil1!$A$11:$F$29,3),VLOOKUP(I193,Feuil1!$A$11:$F$29,2))))),IF(OR(H193=\"SEN\",H193<1995),VLOOKUP(I193,Feuil1!$G$11:$L$25,6),IF(AND(H193>1994,H193<1998),VLOOKUP(I193,Feuil1!$G$11:$L$25,5),IF(AND(H193>1997,H193<2000),VLOOKUP(I193,Feuil1!$G$11:$L$25,4),IF(AND(H193>1999,H193<2002),VLOOKUP(I193,Feuil1!$G$11:$L$25,3),VLOOKUP(I193,Feuil1!$G$11:$L$25,2)))))))","v":"FS63"},185.14286664350797,null," ",{"$f":"T193-HLOOKUP(X193,Feuil1!$C$1:$BL$10,2,FALSE)","v":57},{"$f":"T193-HLOOKUP(X193,Feuil1!$C$1:$BL$10,3,FALSE)","v":47},{"$f":"T193-HLOOKUP(X193,Feuil1!$C$1:$BL$10,4,FALSE)","v":37},{"$f":"T193-HLOOKUP(X193,Feuil1!$C$1:$BL$10,5,FALSE)","v":22},{"$f":"T193-HLOOKUP(X193,Feuil1!$C$1:$BL$10,6,FALSE)","v":7},{"$f":"T193-HLOOKUP(X193,Feuil1!$C$1:$BL$10,7,FALSE)","v":-8},{"$f":"T193-HLOOKUP(X193,Feuil1!$C$1:$BL$10,8,FALSE)","v":-28},{"$f":"T193-HLOOKUP(X193,Feuil1!$C$1:$BL$10,9,FALSE)","v":-48},{"$f":"T193-HLOOKUP(X193,Feuil1!$C$1:$BL$10,10,FALSE)","v":-68},null,null,null,null,null,null,"FED +"]
["F","N","IDF",18,382101,"GRZESIAK","LAETITIA",1988,60,"NEUILLY","F",45,48,50,50,65,70,72,72,122,2,"IRG +",12,{"$f":"IF(I194=\"\",\"\",IF(A194=\"H\",IF(OR(H194=\"SEN\",H194<1995),VLOOKUP(I194,Feuil1!$A$11:$F$29,6),IF(AND(H194>1994,H194<1998),VLOOKUP(I194,Feuil1!$A$11:$F$29,5),IF(AND(H194>1997,H194<2000),VLOOKUP(I194,Feuil1!$A$11:$F$29,4),IF(AND(H194>1999,H194<2002),VLOOKUP(I194,Feuil1!$A$11:$F$29,3),VLOOKUP(I194,Feuil1!$A$11:$F$29,2))))),IF(OR(H194=\"SEN\",H194<1995),VLOOKUP(I194,Feuil1!$G$11:$L$25,6),IF(AND(H194>1994,H194<1998),VLOOKUP(I194,Feuil1!$G$11:$L$25,5),IF(AND(H194>1997,H194<2000),VLOOKUP(I194,Feuil1!$G$11:$L$25,4),IF(AND(H194>1999,H194<2002),VLOOKUP(I194,Feuil1!$G$11:$L$25,3),VLOOKUP(I194,Feuil1!$G$11:$L$25,2)))))))","v":"FS63"},167.63623888683543,null," ",{"$f":"T194-HLOOKUP(X194,Feuil1!$C$1:$BL$10,2,FALSE)","v":47},{"$f":"T194-HLOOKUP(X194,Feuil1!$C$1:$BL$10,3,FALSE)","v":37},{"$f":"T194-HLOOKUP(X194,Feuil1!$C$1:$BL$10,4,FALSE)","v":27},{"$f":"T194-HLOOKUP(X194,Feuil1!$C$1:$BL$10,5,FALSE)","v":12},{"$f":"T194-HLOOKUP(X194,Feuil1!$C$1:$BL$10,6,FALSE)","v":-3},{"$f":"T194-HLOOKUP(X194,Feuil1!$C$1:$BL$10,7,FALSE)","v":-18},{"$f":"T194-HLOOKUP(X194,Feuil1!$C$1:$BL$10,8,FALSE)","v":-38},{"$f":"T194-HLOOKUP(X194,Feuil1!$C$1:$BL$10,9,FALSE)","v":-58},{"$f":"T194-HLOOKUP(X194,Feuil1!$C$1:$BL$10,10,FALSE)","v":-78},null,null,null,null,null,null,"IRG +"]
["F","SEST","RAL",19,377721,"BERLAND","Justine",1987,60.8,"CH Arbresle","F",47,50,53,53,66,70,-72,70,123,1.4000000000000057,"IRG +",13,{"$f":"IF(I195=\"\",\"\",IF(A195=\"H\",IF(OR(H195=\"SEN\",H195<1995),VLOOKUP(I195,Feuil1!$A$11:$F$29,6),IF(AND(H195>1994,H195<1998),VLOOKUP(I195,Feuil1!$A$11:$F$29,5),IF(AND(H195>1997,H195<2000),VLOOKUP(I195,Feuil1!$A$11:$F$29,4),IF(AND(H195>1999,H195<2002),VLOOKUP(I195,Feuil1!$A$11:$F$29,3),VLOOKUP(I195,Feuil1!$A$11:$F$29,2))))),IF(OR(H195=\"SEN\",H195<1995),VLOOKUP(I195,Feuil1!$G$11:$L$25,6),IF(AND(H195>1994,H195<1998),VLOOKUP(I195,Feuil1!$G$11:$L$25,5),IF(AND(H195>1997,H195<2000),VLOOKUP(I195,Feuil1!$G$11:$L$25,4),IF(AND(H195>1999,H195<2002),VLOOKUP(I195,Feuil1!$G$11:$L$25,3),VLOOKUP(I195,Feuil1!$G$11:$L$25,2)))))))","v":"FS63"},167.45358948503647,null," ",{"$f":"T195-HLOOKUP(X195,Feuil1!$C$1:$BL$10,2,FALSE)","v":48},{"$f":"T195-HLOOKUP(X195,Feuil1!$C$1:$BL$10,3,FALSE)","v":38},{"$f":"T195-HLOOKUP(X195,Feuil1!$C$1:$BL$10,4,FALSE)","v":28},{"$f":"T195-HLOOKUP(X195,Feuil1!$C$1:$BL$10,5,FALSE)","v":13},{"$f":"T195-HLOOKUP(X195,Feuil1!$C$1:$BL$10,6,FALSE)","v":-2},{"$f":"T195-HLOOKUP(X195,Feuil1!$C$1:$BL$10,7,FALSE)","v":-17},{"$f":"T195-HLOOKUP(X195,Feuil1!$C$1:$BL$10,8,FALSE)","v":-37},{"$f":"T195-HLOOKUP(X195,Feuil1!$C$1:$BL$10,9,FALSE)","v":-57},{"$f":"T195-HLOOKUP(X195,Feuil1!$C$1:$BL$10,10,FALSE)","v":-77},null,null,null,null,null,null,"IRG +"]
["F","SEST","RAL",20,264923,"FROMENTIN","Mélanie",1981,60.6,"SAINT BALDOPH","F",52,55,-57,55,64,69,-73,69,124,2.7999999999999972,"IRG +",14,{"$f":"IF(I196=\"\",\"\",IF(A196=\"H\",IF(OR(H196=\"SEN\",H196<1995),VLOOKUP(I196,Feuil1!$A$11:$F$29,6),IF(AND(H196>1994,H196<1998),VLOOKUP(I196,Feuil1!$A$11:$F$29,5),IF(AND(H196>1997,H196<2000),VLOOKUP(I196,Feuil1!$A$11:$F$29,4),IF(AND(H196>1999,H196<2002),VLOOKUP(I196,Feuil1!$A$11:$F$29,3),VLOOKUP(I196,Feuil1!$A$11:$F$29,2))))),IF(OR(H196=\"SEN\",H196<1995),VLOOKUP(I196,Feuil1!$G$11:$L$25,6),IF(AND(H196>1994,H196<1998),VLOOKUP(I196,Feuil1!$G$11:$L$25,5),IF(AND(H196>1997,H196<2000),VLOOKUP(I196,Feuil1!$G$11:$L$25,4),IF(AND(H196>1999,H196<2002),VLOOKUP(I196,Feuil1!$G$11:$L$25,3),VLOOKUP(I196,Feuil1!$G$11:$L$25,2)))))))","v":"FS63"},169.20188206457277,null," ",{"$f":"T196-HLOOKUP(X196,Feuil1!$C$1:$BL$10,2,FALSE)","v":49},{"$f":"T196-HLOOKUP(X196,Feuil1!$C$1:$BL$10,3,FALSE)","v":39},{"$f":"T196-HLOOKUP(X196,Feuil1!$C$1:$BL$10,4,FALSE)","v":29},{"$f":"T196-HLOOKUP(X196,Feuil1!$C$1:$BL$10,5,FALSE)","v":14},{"$f":"T196-HLOOKUP(X196,Feuil1!$C$1:$BL$10,6,FALSE)","v":-1},{"$f":"T196-HLOOKUP(X196,Feuil1!$C$1:$BL$10,7,FALSE)","v":-16},{"$f":"T196-HLOOKUP(X196,Feuil1!$C$1:$BL$10,8,FALSE)","v":-36},{"$f":"T196-HLOOKUP(X196,Feuil1!$C$1:$BL$10,9,FALSE)","v":-56},{"$f":"T196-HLOOKUP(X196,Feuil1!$C$1:$BL$10,10,FALSE)","v":-76},null,null,null,null,null,null,"IRG +"]
["F","SEST","AUV",21,207940,"ANTHOUARD","Mélodie",1988,58.4,"SUN CLUB GERZAT","F",45,48,51,51,55,62,66,66,117,0.20000000000000284,"IRG +",7,{"$f":"IF(I197=\"\",\"\",IF(A197=\"H\",IF(OR(H197=\"SEN\",H197<1995),VLOOKUP(I197,Feuil1!$A$11:$F$29,6),IF(AND(H197>1994,H197<1998),VLOOKUP(I197,Feuil1!$A$11:$F$29,5),IF(AND(H197>1997,H197<2000),VLOOKUP(I197,Feuil1!$A$11:$F$29,4),IF(AND(H197>1999,H197<2002),VLOOKUP(I197,Feuil1!$A$11:$F$29,3),VLOOKUP(I197,Feuil1!$A$11:$F$29,2))))),IF(OR(H197=\"SEN\",H197<1995),VLOOKUP(I197,Feuil1!$G$11:$L$25,6),IF(AND(H197>1994,H197<1998),VLOOKUP(I197,Feuil1!$G$11:$L$25,5),IF(AND(H197>1997,H197<2000),VLOOKUP(I197,Feuil1!$G$11:$L$25,4),IF(AND(H197>1999,H197<2002),VLOOKUP(I197,Feuil1!$G$11:$L$25,3),VLOOKUP(I197,Feuil1!$G$11:$L$25,2)))))))","v":"FS63"},163.89998552445721,null," ",{"$f":"T197-HLOOKUP(X197,Feuil1!$C$1:$BL$10,2,FALSE)","v":42},{"$f":"T197-HLOOKUP(X197,Feuil1!$C$1:$BL$10,3,FALSE)","v":32},{"$f":"T197-HLOOKUP(X197,Feuil1!$C$1:$BL$10,4,FALSE)","v":22},{"$f":"T197-HLOOKUP(X197,Feuil1!$C$1:$BL$10,5,FALSE)","v":7},{"$f":"T197-HLOOKUP(X197,Feuil1!$C$1:$BL$10,6,FALSE)","v":-8},{"$f":"T197-HLOOKUP(X197,Feuil1!$C$1:$BL$10,7,FALSE)","v":-23},{"$f":"T197-HLOOKUP(X197,Feuil1!$C$1:$BL$10,8,FALSE)","v":-43},{"$f":"T197-HLOOKUP(X197,Feuil1!$C$1:$BL$10,9,FALSE)","v":-63},{"$f":"T197-HLOOKUP(X197,Feuil1!$C$1:$BL$10,10,FALSE)","v":-83},null,null,null,null,null,null,"IRG +"]
["F","SEST","RAL",22,325103,"RAMADAROSKI","Julie",1985,61.9,"BOURG DE PEAGE","F",-47,47,47,47,57,62,66,66,113,-10.799999999999997,"IRG +",3,{"$f":"IF(I198=\"\",\"\",IF(A198=\"H\",IF(OR(H198=\"SEN\",H198<1995),VLOOKUP(I198,Feuil1!$A$11:$F$29,6),IF(AND(H198>1994,H198<1998),VLOOKUP(I198,Feuil1!$A$11:$F$29,5),IF(AND(H198>1997,H198<2000),VLOOKUP(I198,Feuil1!$A$11:$F$29,4),IF(AND(H198>1999,H198<2002),VLOOKUP(I198,Feuil1!$A$11:$F$29,3),VLOOKUP(I198,Feuil1!$A$11:$F$29,2))))),IF(OR(H198=\"SEN\",H198<1995),VLOOKUP(I198,Feuil1!$G$11:$L$25,6),IF(AND(H198>1994,H198<1998),VLOOKUP(I198,Feuil1!$G$11:$L$25,5),IF(AND(H198>1997,H198<2000),VLOOKUP(I198,Feuil1!$G$11:$L$25,4),IF(AND(H198>1999,H198<2002),VLOOKUP(I198,Feuil1!$G$11:$L$25,3),VLOOKUP(I198,Feuil1!$G$11:$L$25,2)))))))","v":"FS63"},151.95750092325127,null," ",{"$f":"T198-HLOOKUP(X198,Feuil1!$C$1:$BL$10,2,FALSE)","v":38},{"$f":"T198-HLOOKUP(X198,Feuil1!$C$1:$BL$10,3,FALSE)","v":28},{"$f":"T198-HLOOKUP(X198,Feuil1!$C$1:$BL$10,4,FALSE)","v":18},{"$f":"T198-HLOOKUP(X198,Feuil1!$C$1:$BL$10,5,FALSE)","v":3},{"$f":"T198-HLOOKUP(X198,Feuil1!$C$1:$BL$10,6,FALSE)","v":-12},{"$f":"T198-HLOOKUP(X198,Feuil1!$C$1:$BL$10,7,FALSE)","v":-27},{"$f":"T198-HLOOKUP(X198,Feuil1!$C$1:$BL$10,8,FALSE)","v":-47},{"$f":"T198-HLOOKUP(X198,Feuil1!$C$1:$BL$10,9,FALSE)","v":-67},{"$f":"T198-HLOOKUP(X198,Feuil1!$C$1:$BL$10,10,FALSE)","v":-87},null,null,null,null,null,null,"IRG +"]
["F","SEST","RAL",23,142132,"BAILLET ","Nathalie",1994,58.4,"SAINT BALDOPH","F",47,50,-52,50,60,63,65,65,115,-1.7999999999999972,"IRG +",5,{"$f":"IF(I199=\"\",\"\",IF(A199=\"H\",IF(OR(H199=\"SEN\",H199<1995),VLOOKUP(I199,Feuil1!$A$11:$F$29,6),IF(AND(H199>1994,H199<1998),VLOOKUP(I199,Feuil1!$A$11:$F$29,5),IF(AND(H199>1997,H199<2000),VLOOKUP(I199,Feuil1!$A$11:$F$29,4),IF(AND(H199>1999,H199<2002),VLOOKUP(I199,Feuil1!$A$11:$F$29,3),VLOOKUP(I199,Feuil1!$A$11:$F$29,2))))),IF(OR(H199=\"SEN\",H199<1995),VLOOKUP(I199,Feuil1!$G$11:$L$25,6),IF(AND(H199>1994,H199<1998),VLOOKUP(I199,Feuil1!$G$11:$L$25,5),IF(AND(H199>1997,H199<2000),VLOOKUP(I199,Feuil1!$G$11:$L$25,4),IF(AND(H199>1999,H199<2002),VLOOKUP(I199,Feuil1!$G$11:$L$25,3),VLOOKUP(I199,Feuil1!$G$11:$L$25,2)))))))","v":"FS63"},161.09827637019296,null," ",{"$f":"T199-HLOOKUP(X199,Feuil1!$C$1:$BL$10,2,FALSE)","v":40},{"$f":"T199-HLOOKUP(X199,Feuil1!$C$1:$BL$10,3,FALSE)","v":30},{"$f":"T199-HLOOKUP(X199,Feuil1!$C$1:$BL$10,4,FALSE)","v":20},{"$f":"T199-HLOOKUP(X199,Feuil1!$C$1:$BL$10,5,FALSE)","v":5},{"$f":"T199-HLOOKUP(X199,Feuil1!$C$1:$BL$10,6,FALSE)","v":-10},{"$f":"T199-HLOOKUP(X199,Feuil1!$C$1:$BL$10,7,FALSE)","v":-25},{"$f":"T199-HLOOKUP(X199,Feuil1!$C$1:$BL$10,8,FALSE)","v":-45},{"$f":"T199-HLOOKUP(X199,Feuil1!$C$1:$BL$10,9,FALSE)","v":-65},{"$f":"T199-HLOOKUP(X199,Feuil1!$C$1:$BL$10,10,FALSE)","v":-85},null,null,null,null,null,null,"IRG +"]
["F","N","IDF",24,383141,"FOSSE","Amélie",1989,59.3,"US METRO","F",45,-49,49,49,65,-70,-70,65,114,-4.5999999999999943,"IRG +",4,{"$f":"IF(I200=\"\",\"\",IF(A200=\"H\",IF(OR(H200=\"SEN\",H200<1995),VLOOKUP(I200,Feuil1!$A$11:$F$29,6),IF(AND(H200>1994,H200<1998),VLOOKUP(I200,Feuil1!$A$11:$F$29,5),IF(AND(H200>1997,H200<2000),VLOOKUP(I200,Feuil1!$A$11:$F$29,4),IF(AND(H200>1999,H200<2002),VLOOKUP(I200,Feuil1!$A$11:$F$29,3),VLOOKUP(I200,Feuil1!$A$11:$F$29,2))))),IF(OR(H200=\"SEN\",H200<1995),VLOOKUP(I200,Feuil1!$G$11:$L$25,6),IF(AND(H200>1994,H200<1998),VLOOKUP(I200,Feuil1!$G$11:$L$25,5),IF(AND(H200>1997,H200<2000),VLOOKUP(I200,Feuil1!$G$11:$L$25,4),IF(AND(H200>1999,H200<2002),VLOOKUP(I200,Feuil1!$G$11:$L$25,3),VLOOKUP(I200,Feuil1!$G$11:$L$25,2)))))))","v":"FS63"},157.9512723633606,null," ",{"$f":"T200-HLOOKUP(X200,Feuil1!$C$1:$BL$10,2,FALSE)","v":39},{"$f":"T200-HLOOKUP(X200,Feuil1!$C$1:$BL$10,3,FALSE)","v":29},{"$f":"T200-HLOOKUP(X200,Feuil1!$C$1:$BL$10,4,FALSE)","v":19},{"$f":"T200-HLOOKUP(X200,Feuil1!$C$1:$BL$10,5,FALSE)","v":4},{"$f":"T200-HLOOKUP(X200,Feuil1!$C$1:$BL$10,6,FALSE)","v":-11},{"$f":"T200-HLOOKUP(X200,Feuil1!$C$1:$BL$10,7,FALSE)","v":-26},{"$f":"T200-HLOOKUP(X200,Feuil1!$C$1:$BL$10,8,FALSE)","v":-46},{"$f":"T200-HLOOKUP(X200,Feuil1!$C$1:$BL$10,9,FALSE)","v":-66},{"$f":"T200-HLOOKUP(X200,Feuil1!$C$1:$BL$10,10,FALSE)","v":-86},null,null,null,null,null,null,"IRG +"]
["F","NE","FCO",25,113366,"COUSIN ","Emilie",1984,59.5,"CH Luxeuil","F",48,51,53,53,60,63,65,65,118,-1,"IRG +",8,{"$f":"IF(I201=\"\",\"\",IF(A201=\"H\",IF(OR(H201=\"SEN\",H201<1995),VLOOKUP(I201,Feuil1!$A$11:$F$29,6),IF(AND(H201>1994,H201<1998),VLOOKUP(I201,Feuil1!$A$11:$F$29,5),IF(AND(H201>1997,H201<2000),VLOOKUP(I201,Feuil1!$A$11:$F$29,4),IF(AND(H201>1999,H201<2002),VLOOKUP(I201,Feuil1!$A$11:$F$29,3),VLOOKUP(I201,Feuil1!$A$11:$F$29,2))))),IF(OR(H201=\"SEN\",H201<1995),VLOOKUP(I201,Feuil1!$G$11:$L$25,6),IF(AND(H201>1994,H201<1998),VLOOKUP(I201,Feuil1!$G$11:$L$25,5),IF(AND(H201>1997,H201<2000),VLOOKUP(I201,Feuil1!$G$11:$L$25,4),IF(AND(H201>1999,H201<2002),VLOOKUP(I201,Feuil1!$G$11:$L$25,3),VLOOKUP(I201,Feuil1!$G$11:$L$25,2)))))))","v":"FS63"},163.10215542104726,null," ",{"$f":"T201-HLOOKUP(X201,Feuil1!$C$1:$BL$10,2,FALSE)","v":43},{"$f":"T201-HLOOKUP(X201,Feuil1!$C$1:$BL$10,3,FALSE)","v":33},{"$f":"T201-HLOOKUP(X201,Feuil1!$C$1:$BL$10,4,FALSE)","v":23},{"$f":"T201-HLOOKUP(X201,Feuil1!$C$1:$BL$10,5,FALSE)","v":8},{"$f":"T201-HLOOKUP(X201,Feuil1!$C$1:$BL$10,6,FALSE)","v":-7},{"$f":"T201-HLOOKUP(X201,Feuil1!$C$1:$BL$10,7,FALSE)","v":-22},{"$f":"T201-HLOOKUP(X201,Feuil1!$C$1:$BL$10,8,FALSE)","v":-42},{"$f":"T201-HLOOKUP(X201,Feuil1!$C$1:$BL$10,9,FALSE)","v":-62},{"$f":"T201-HLOOKUP(X201,Feuil1!$C$1:$BL$10,10,FALSE)","v":-82},null,null,null,null,null,null,"IRG +"]
["F","DOM","REU",26,250371,"OULOUMENI","AURELIA",1993,59.57,"CSPJ St Denis","F",45,50,55,55,55,60,65,65,120,0.85999999999999943,"IRG +",10,{"$f":"IF(I202=\"\",\"\",IF(A202=\"H\",IF(OR(H202=\"SEN\",H202<1995),VLOOKUP(I202,Feuil1!$A$11:$F$29,6),IF(AND(H202>1994,H202<1998),VLOOKUP(I202,Feuil1!$A$11:$F$29,5),IF(AND(H202>1997,H202<2000),VLOOKUP(I202,Feuil1!$A$11:$F$29,4),IF(AND(H202>1999,H202<2002),VLOOKUP(I202,Feuil1!$A$11:$F$29,3),VLOOKUP(I202,Feuil1!$A$11:$F$29,2))))),IF(OR(H202=\"SEN\",H202<1995),VLOOKUP(I202,Feuil1!$G$11:$L$25,6),IF(AND(H202>1994,H202<1998),VLOOKUP(I202,Feuil1!$G$11:$L$25,5),IF(AND(H202>1997,H202<2000),VLOOKUP(I202,Feuil1!$G$11:$L$25,4),IF(AND(H202>1999,H202<2002),VLOOKUP(I202,Feuil1!$G$11:$L$25,3),VLOOKUP(I202,Feuil1!$G$11:$L$25,2)))))))","v":"FS63"},165.72821955197881,null," ",{"$f":"T202-HLOOKUP(X202,Feuil1!$C$1:$BL$10,2,FALSE)","v":45},{"$f":"T202-HLOOKUP(X202,Feuil1!$C$1:$BL$10,3,FALSE)","v":35},{"$f":"T202-HLOOKUP(X202,Feuil1!$C$1:$BL$10,4,FALSE)","v":25},{"$f":"T202-HLOOKUP(X202,Feuil1!$C$1:$BL$10,5,FALSE)","v":10},{"$f":"T202-HLOOKUP(X202,Feuil1!$C$1:$BL$10,6,FALSE)","v":-5},{"$f":"T202-HLOOKUP(X202,Feuil1!$C$1:$BL$10,7,FALSE)","v":-20},{"$f":"T202-HLOOKUP(X202,Feuil1!$C$1:$BL$10,8,FALSE)","v":-40},{"$f":"T202-HLOOKUP(X202,Feuil1!$C$1:$BL$10,9,FALSE)","v":-60},{"$f":"T202-HLOOKUP(X202,Feuil1!$C$1:$BL$10,10,FALSE)","v":-80},null,null,null,null,null,null,"IRG +"]
["F","N","IDF",27,388582,"SOREL","VIRGINIE",1982,59.7,"SA MONTMARTRE","F",40,45,48,48,60,65,-68,65,113,-6.4000000000000057,"IRG +",3,{"$f":"IF(I203=\"\",\"\",IF(A203=\"H\",IF(OR(H203=\"SEN\",H203<1995),VLOOKUP(I203,Feuil1!$A$11:$F$29,6),IF(AND(H203>1994,H203<1998),VLOOKUP(I203,Feuil1!$A$11:$F$29,5),IF(AND(H203>1997,H203<2000),VLOOKUP(I203,Feuil1!$A$11:$F$29,4),IF(AND(H203>1999,H203<2002),VLOOKUP(I203,Feuil1!$A$11:$F$29,3),VLOOKUP(I203,Feuil1!$A$11:$F$29,2))))),IF(OR(H203=\"SEN\",H203<1995),VLOOKUP(I203,Feuil1!$G$11:$L$25,6),IF(AND(H203>1994,H203<1998),VLOOKUP(I203,Feuil1!$G$11:$L$25,5),IF(AND(H203>1997,H203<2000),VLOOKUP(I203,Feuil1!$G$11:$L$25,4),IF(AND(H203>1999,H203<2002),VLOOKUP(I203,Feuil1!$G$11:$L$25,3),VLOOKUP(I203,Feuil1!$G$11:$L$25,2)))))))","v":"FS63"},155.8198787080799,null," ",{"$f":"T203-HLOOKUP(X203,Feuil1!$C$1:$BL$10,2,FALSE)","v":38},{"$f":"T203-HLOOKUP(X203,Feuil1!$C$1:$BL$10,3,FALSE)","v":28},{"$f":"T203-HLOOKUP(X203,Feuil1!$C$1:$BL$10,4,FALSE)","v":18},{"$f":"T203-HLOOKUP(X203,Feuil1!$C$1:$BL$10,5,FALSE)","v":3},{"$f":"T203-HLOOKUP(X203,Feuil1!$C$1:$BL$10,6,FALSE)","v":-12},{"$f":"T203-HLOOKUP(X203,Feuil1!$C$1:$BL$10,7,FALSE)","v":-27},{"$f":"T203-HLOOKUP(X203,Feuil1!$C$1:$BL$10,8,FALSE)","v":-47},{"$f":"T203-HLOOKUP(X203,Feuil1!$C$1:$BL$10,9,FALSE)","v":-67},{"$f":"T203-HLOOKUP(X203,Feuil1!$C$1:$BL$10,10,FALSE)","v":-87},null,null,null,null,null,null,"IRG +"]
["F","NE","FCO",28,1149,"DARQUE","Gabrielle",1989,60,"CH Luxeuil","F",43,50,55,55,55,60,65,65,120,0,"IRG +",10,{"$f":"IF(I204=\"\",\"\",IF(A204=\"H\",IF(OR(H204=\"SEN\",H204<1995),VLOOKUP(I204,Feuil1!$A$11:$F$29,6),IF(AND(H204>1994,H204<1998),VLOOKUP(I204,Feuil1!$A$11:$F$29,5),IF(AND(H204>1997,H204<2000),VLOOKUP(I204,Feuil1!$A$11:$F$29,4),IF(AND(H204>1999,H204<2002),VLOOKUP(I204,Feuil1!$A$11:$F$29,3),VLOOKUP(I204,Feuil1!$A$11:$F$29,2))))),IF(OR(H204=\"SEN\",H204<1995),VLOOKUP(I204,Feuil1!$G$11:$L$25,6),IF(AND(H204>1994,H204<1998),VLOOKUP(I204,Feuil1!$G$11:$L$25,5),IF(AND(H204>1997,H204<2000),VLOOKUP(I204,Feuil1!$G$11:$L$25,4),IF(AND(H204>1999,H204<2002),VLOOKUP(I204,Feuil1!$G$11:$L$25,3),VLOOKUP(I204,Feuil1!$G$11:$L$25,2)))))))","v":"FS63"},164.88810382311681,null," ",{"$f":"T204-HLOOKUP(X204,Feuil1!$C$1:$BL$10,2,FALSE)","v":45},{"$f":"T204-HLOOKUP(X204,Feuil1!$C$1:$BL$10,3,FALSE)","v":35},{"$f":"T204-HLOOKUP(X204,Feuil1!$C$1:$BL$10,4,FALSE)","v":25},{"$f":"T204-HLOOKUP(X204,Feuil1!$C$1:$BL$10,5,FALSE)","v":10},{"$f":"T204-HLOOKUP(X204,Feuil1!$C$1:$BL$10,6,FALSE)","v":-5},{"$f":"T204-HLOOKUP(X204,Feuil1!$C$1:$BL$10,7,FALSE)","v":-20},{"$f":"T204-HLOOKUP(X204,Feuil1!$C$1:$BL$10,8,FALSE)","v":-40},{"$f":"T204-HLOOKUP(X204,Feuil1!$C$1:$BL$10,9,FALSE)","v":-60},{"$f":"T204-HLOOKUP(X204,Feuil1!$C$1:$BL$10,10,FALSE)","v":-80},null,null,null,null,null,null,"IRG +"]
["F","CO","CEN",29,360545,"SOUCHU","Chloé",1993,60.7,"US Tours","F",45,-48,-48,45,60,-63,65,65,110,-11.400000000000006,"IRG +",0,{"$f":"IF(I205=\"\",\"\",IF(A205=\"H\",IF(OR(H205=\"SEN\",H205<1995),VLOOKUP(I205,Feuil1!$A$11:$F$29,6),IF(AND(H205>1994,H205<1998),VLOOKUP(I205,Feuil1!$A$11:$F$29,5),IF(AND(H205>1997,H205<2000),VLOOKUP(I205,Feuil1!$A$11:$F$29,4),IF(AND(H205>1999,H205<2002),VLOOKUP(I205,Feuil1!$A$11:$F$29,3),VLOOKUP(I205,Feuil1!$A$11:$F$29,2))))),IF(OR(H205=\"SEN\",H205<1995),VLOOKUP(I205,Feuil1!$G$11:$L$25,6),IF(AND(H205>1994,H205<1998),VLOOKUP(I205,Feuil1!$G$11:$L$25,5),IF(AND(H205>1997,H205<2000),VLOOKUP(I205,Feuil1!$G$11:$L$25,4),IF(AND(H205>1999,H205<2002),VLOOKUP(I205,Feuil1!$G$11:$L$25,3),VLOOKUP(I205,Feuil1!$G$11:$L$25,2)))))))","v":"FS63"},149.92644507881994,null," ",{"$f":"T205-HLOOKUP(X205,Feuil1!$C$1:$BL$10,2,FALSE)","v":35},{"$f":"T205-HLOOKUP(X205,Feuil1!$C$1:$BL$10,3,FALSE)","v":25},{"$f":"T205-HLOOKUP(X205,Feuil1!$C$1:$BL$10,4,FALSE)","v":15},{"$f":"T205-HLOOKUP(X205,Feuil1!$C$1:$BL$10,5,FALSE)","v":0},{"$f":"T205-HLOOKUP(X205,Feuil1!$C$1:$BL$10,6,FALSE)","v":-15},{"$f":"T205-HLOOKUP(X205,Feuil1!$C$1:$BL$10,7,FALSE)","v":-30},{"$f":"T205-HLOOKUP(X205,Feuil1!$C$1:$BL$10,8,FALSE)","v":-50},{"$f":"T205-HLOOKUP(X205,Feuil1!$C$1:$BL$10,9,FALSE)","v":-70},{"$f":"T205-HLOOKUP(X205,Feuil1!$C$1:$BL$10,10,FALSE)","v":-90},null,null,null,null,null,null,"IRG +"]
["F","SEST","RAL",30,198067,"LAROIX","Adeline",1991,58.9,"CHARLIEU","F",51,-54,-54,51,60,64,-66,64,115,-2.7999999999999972,"IRG +",5,{"$f":"IF(I206=\"\",\"\",IF(A206=\"H\",IF(OR(H206=\"SEN\",H206<1995),VLOOKUP(I206,Feuil1!$A$11:$F$29,6),IF(AND(H206>1994,H206<1998),VLOOKUP(I206,Feuil1!$A$11:$F$29,5),IF(AND(H206>1997,H206<2000),VLOOKUP(I206,Feuil1!$A$11:$F$29,4),IF(AND(H206>1999,H206<2002),VLOOKUP(I206,Feuil1!$A$11:$F$29,3),VLOOKUP(I206,Feuil1!$A$11:$F$29,2))))),IF(OR(H206=\"SEN\",H206<1995),VLOOKUP(I206,Feuil1!$G$11:$L$25,6),IF(AND(H206>1994,H206<1998),VLOOKUP(I206,Feuil1!$G$11:$L$25,5),IF(AND(H206>1997,H206<2000),VLOOKUP(I206,Feuil1!$G$11:$L$25,4),IF(AND(H206>1999,H206<2002),VLOOKUP(I206,Feuil1!$G$11:$L$25,3),VLOOKUP(I206,Feuil1!$G$11:$L$25,2)))))))","v":"FS63"},160.1103716476284,null," ",{"$f":"T206-HLOOKUP(X206,Feuil1!$C$1:$BL$10,2,FALSE)","v":40},{"$f":"T206-HLOOKUP(X206,Feuil1!$C$1:$BL$10,3,FALSE)","v":30},{"$f":"T206-HLOOKUP(X206,Feuil1!$C$1:$BL$10,4,FALSE)","v":20},{"$f":"T206-HLOOKUP(X206,Feuil1!$C$1:$BL$10,5,FALSE)","v":5},{"$f":"T206-HLOOKUP(X206,Feuil1!$C$1:$BL$10,6,FALSE)","v":-10},{"$f":"T206-HLOOKUP(X206,Feuil1!$C$1:$BL$10,7,FALSE)","v":-25},{"$f":"T206-HLOOKUP(X206,Feuil1!$C$1:$BL$10,8,FALSE)","v":-45},{"$f":"T206-HLOOKUP(X206,Feuil1!$C$1:$BL$10,9,FALSE)","v":-65},{"$f":"T206-HLOOKUP(X206,Feuil1!$C$1:$BL$10,10,FALSE)","v":-85},null,null,null,null,null,null,"IRG +"]
["F","CO","BNO",31,355102,"ROUSSEAU","Aurore",1991,61,"Caen CHM","F",45,48,50,50,57,60,62,62,112,-10,"IRG +",2,{"$f":"IF(I207=\"\",\"\",IF(A207=\"H\",IF(OR(H207=\"SEN\",H207<1995),VLOOKUP(I207,Feuil1!$A$11:$F$29,6),IF(AND(H207>1994,H207<1998),VLOOKUP(I207,Feuil1!$A$11:$F$29,5),IF(AND(H207>1997,H207<2000),VLOOKUP(I207,Feuil1!$A$11:$F$29,4),IF(AND(H207>1999,H207<2002),VLOOKUP(I207,Feuil1!$A$11:$F$29,3),VLOOKUP(I207,Feuil1!$A$11:$F$29,2))))),IF(OR(H207=\"SEN\",H207<1995),VLOOKUP(I207,Feuil1!$G$11:$L$25,6),IF(AND(H207>1994,H207<1998),VLOOKUP(I207,Feuil1!$G$11:$L$25,5),IF(AND(H207>1997,H207<2000),VLOOKUP(I207,Feuil1!$G$11:$L$25,4),IF(AND(H207>1999,H207<2002),VLOOKUP(I207,Feuil1!$G$11:$L$25,3),VLOOKUP(I207,Feuil1!$G$11:$L$25,2)))))))","v":"FS63"},152.13184755800987,null," ",{"$f":"T207-HLOOKUP(X207,Feuil1!$C$1:$BL$10,2,FALSE)","v":37},{"$f":"T207-HLOOKUP(X207,Feuil1!$C$1:$BL$10,3,FALSE)","v":27},{"$f":"T207-HLOOKUP(X207,Feuil1!$C$1:$BL$10,4,FALSE)","v":17},{"$f":"T207-HLOOKUP(X207,Feuil1!$C$1:$BL$10,5,FALSE)","v":2},{"$f":"T207-HLOOKUP(X207,Feuil1!$C$1:$BL$10,6,FALSE)","v":-13},{"$f":"T207-HLOOKUP(X207,Feuil1!$C$1:$BL$10,7,FALSE)","v":-28},{"$f":"T207-HLOOKUP(X207,Feuil1!$C$1:$BL$10,8,FALSE)","v":-48},{"$f":"T207-HLOOKUP(X207,Feuil1!$C$1:$BL$10,9,FALSE)","v":-68},{"$f":"T207-HLOOKUP(X207,Feuil1!$C$1:$BL$10,10,FALSE)","v":-88},null,null,null,null,null,null,"IRG +"]
["F","SEST","LAN ",32,280279,"CAVIN","Marie Odile",1982,62,"HC Grand Combe","F",47,50,52,52,58,62,-61,62,114,-10,"IRG +",4,{"$f":"IF(I208=\"\",\"\",IF(A208=\"H\",IF(OR(H208=\"SEN\",H208<1995),VLOOKUP(I208,Feuil1!$A$11:$F$29,6),IF(AND(H208>1994,H208<1998),VLOOKUP(I208,Feuil1!$A$11:$F$29,5),IF(AND(H208>1997,H208<2000),VLOOKUP(I208,Feuil1!$A$11:$F$29,4),IF(AND(H208>1999,H208<2002),VLOOKUP(I208,Feuil1!$A$11:$F$29,3),VLOOKUP(I208,Feuil1!$A$11:$F$29,2))))),IF(OR(H208=\"SEN\",H208<1995),VLOOKUP(I208,Feuil1!$G$11:$L$25,6),IF(AND(H208>1994,H208<1998),VLOOKUP(I208,Feuil1!$G$11:$L$25,5),IF(AND(H208>1997,H208<2000),VLOOKUP(I208,Feuil1!$G$11:$L$25,4),IF(AND(H208>1999,H208<2002),VLOOKUP(I208,Feuil1!$G$11:$L$25,3),VLOOKUP(I208,Feuil1!$G$11:$L$25,2)))))))","v":"FS63"},153.13435754034796,null," ",{"$f":"T208-HLOOKUP(X208,Feuil1!$C$1:$BL$10,2,FALSE)","v":39},{"$f":"T208-HLOOKUP(X208,Feuil1!$C$1:$BL$10,3,FALSE)","v":29},{"$f":"T208-HLOOKUP(X208,Feuil1!$C$1:$BL$10,4,FALSE)","v":19},{"$f":"T208-HLOOKUP(X208,Feuil1!$C$1:$BL$10,5,FALSE)","v":4},{"$f":"T208-HLOOKUP(X208,Feuil1!$C$1:$BL$10,6,FALSE)","v":-11},{"$f":"T208-HLOOKUP(X208,Feuil1!$C$1:$BL$10,7,FALSE)","v":-26},{"$f":"T208-HLOOKUP(X208,Feuil1!$C$1:$BL$10,8,FALSE)","v":-46},{"$f":"T208-HLOOKUP(X208,Feuil1!$C$1:$BL$10,9,FALSE)","v":-66},{"$f":"T208-HLOOKUP(X208,Feuil1!$C$1:$BL$10,10,FALSE)","v":-86},null,null,null,null,null,null,"IRG +"]
["F","SEST","RAL",33,333138,"SHIPPER","Claudia",1993,61.6,"BOURG DE PEAGE","F",45,48,54,{"$f":"IF(H209=\"\",\"\",IF(MAXA(L209:N209)<=0,0,MAXA(L209:N209)))","v":54},56,59,61,{"$f":"IF(H209=\"\",\"\",IF(MAXA(P209:R209)<=0,0,MAXA(P209:R209)))","v":61},{"$f":"IF(H209=\"\",\"\",IF(OR(O209=0,S209=0),0,O209+S209))","v":115},{"$f":"T209-I209*2","v":-8.2000000000000028},{"$f":"IF(H209=\"\",\"\",AQ209)","v":"IRG +"},{"$f":"IF(AJ209>=0,AJ209,IF(AI209>=0,AI209,IF(AH209>=0,AH209,IF(AG209>=0,AG209,IF(AF209>=0,AF209,IF(AE209>=0,AE209,IF(AD209>=0,AD209,IF(AC209>=0,AC209,AB209))))))))","v":5},{"$f":"IF(I209=\"\",\"\",IF(A209=\"H\",IF(OR(H209=\"SEN\",H209<1995),VLOOKUP(I209,Feuil1!$A$11:$F$29,6),IF(AND(H209>1994,H209<1998),VLOOKUP(I209,Feuil1!$A$11:$F$29,5),IF(AND(H209>1997,H209<2000),VLOOKUP(I209,Feuil1!$A$11:$F$29,4),IF(AND(H209>1999,H209<2002),VLOOKUP(I209,Feuil1!$A$11:$F$29,3),VLOOKUP(I209,Feuil1!$A$11:$F$29,2))))),IF(OR(H209=\"SEN\",H209<1995),VLOOKUP(I209,Feuil1!$G$11:$L$25,6),IF(AND(H209>1994,H209<1998),VLOOKUP(I209,Feuil1!$G$11:$L$25,5),IF(AND(H209>1997,H209<2000),VLOOKUP(I209,Feuil1!$G$11:$L$25,4),IF(AND(H209>1999,H209<2002),VLOOKUP(I209,Feuil1!$G$11:$L$25,3),VLOOKUP(I209,Feuil1!$G$11:$L$25,2)))))))","v":"FS63"},{"$f":"IF(I209=\"\",\"\",IF(A209=\"H\",10^(0.794358141*LOG(I209/174.393)^2)*T209,IF(A209=\"F\",10^(0.89726074*LOG(I209/148.026)^2)*T209,\"\")))","v":155.15980196028954},null," ",{"$f":"T209-HLOOKUP(X209,Feuil1!$C$1:$BL$10,2,FALSE)","v":40},{"$f":"T209-HLOOKUP(X209,Feuil1!$C$1:$BL$10,3,FALSE)","v":30},{"$f":"T209-HLOOKUP(X209,Feuil1!$C$1:$BL$10,4,FALSE)","v":20},{"$f":"T209-HLOOKUP(X209,Feuil1!$C$1:$BL$10,5,FALSE)","v":5},{"$f":"T209-HLOOKUP(X209,Feuil1!$C$1:$BL$10,6,FALSE)","v":-10},{"$f":"T209-HLOOKUP(X209,Feuil1!$C$1:$BL$10,7,FALSE)","v":-25},{"$f":"T209-HLOOKUP(X209,Feuil1!$C$1:$BL$10,8,FALSE)","v":-45},{"$f":"T209-HLOOKUP(X209,Feuil1!$C$1:$BL$10,9,FALSE)","v":-65},{"$f":"T209-HLOOKUP(X209,Feuil1!$C$1:$BL$10,10,FALSE)","v":-85},null,null,null,null,null,null,{"$f":"IF(AJ209>=0,$AJ$4,IF(AI209>=0,$AI$4,IF(AH209>=0,$AH$4,IF(AG209>=0,$AG$4,IF(AF209>=0,$AF$4,IF(AE209>=0,$AE$4,IF(AD209>=0,$AD$4,IF(AC209>=0,$AC$4,$AB$4))))))))","v":"IRG +"}]
["F","SEST","CAZ",34,378677,"SALIOT","Delphine",1992,59.8,"ASLDD TOULON","F",39,41,-43,41,56,58,60,60,101,-18.599999999999994,"REG +",6,{"$f":"IF(I210=\"\",\"\",IF(A210=\"H\",IF(OR(H210=\"SEN\",H210<1995),VLOOKUP(I210,Feuil1!$A$11:$F$29,6),IF(AND(H210>1994,H210<1998),VLOOKUP(I210,Feuil1!$A$11:$F$29,5),IF(AND(H210>1997,H210<2000),VLOOKUP(I210,Feuil1!$A$11:$F$29,4),IF(AND(H210>1999,H210<2002),VLOOKUP(I210,Feuil1!$A$11:$F$29,3),VLOOKUP(I210,Feuil1!$A$11:$F$29,2))))),IF(OR(H210=\"SEN\",H210<1995),VLOOKUP(I210,Feuil1!$G$11:$L$25,6),IF(AND(H210>1994,H210<1998),VLOOKUP(I210,Feuil1!$G$11:$L$25,5),IF(AND(H210>1997,H210<2000),VLOOKUP(I210,Feuil1!$G$11:$L$25,4),IF(AND(H210>1999,H210<2002),VLOOKUP(I210,Feuil1!$G$11:$L$25,3),VLOOKUP(I210,Feuil1!$G$11:$L$25,2)))))))","v":"FS63"},139.10792637798826,null," ",{"$f":"T210-HLOOKUP(X210,Feuil1!$C$1:$BL$10,2,FALSE)","v":26},{"$f":"T210-HLOOKUP(X210,Feuil1!$C$1:$BL$10,3,FALSE)","v":16},{"$f":"T210-HLOOKUP(X210,Feuil1!$C$1:$BL$10,4,FALSE)","v":6},{"$f":"T210-HLOOKUP(X210,Feuil1!$C$1:$BL$10,5,FALSE)","v":-9},{"$f":"T210-HLOOKUP(X210,Feuil1!$C$1:$BL$10,6,FALSE)","v":-24},{"$f":"T210-HLOOKUP(X210,Feuil1!$C$1:$BL$10,7,FALSE)","v":-39},{"$f":"T210-HLOOKUP(X210,Feuil1!$C$1:$BL$10,8,FALSE)","v":-59},{"$f":"T210-HLOOKUP(X210,Feuil1!$C$1:$BL$10,9,FALSE)","v":-79},{"$f":"T210-HLOOKUP(X210,Feuil1!$C$1:$BL$10,10,FALSE)","v":-99},null,null,null,null,null,null,"REG +"]
["F","SO","AQU",35,379660,"VASSEUR","Marie",1987,60.1,"MONT DE MARSAN","F",40,-45,45,45,55,60,-62,60,105,-15.200000000000003,"REG +",10,{"$f":"IF(I211=\"\",\"\",IF(A211=\"H\",IF(OR(H211=\"SEN\",H211<1995),VLOOKUP(I211,Feuil1!$A$11:$F$29,6),IF(AND(H211>1994,H211<1998),VLOOKUP(I211,Feuil1!$A$11:$F$29,5),IF(AND(H211>1997,H211<2000),VLOOKUP(I211,Feuil1!$A$11:$F$29,4),IF(AND(H211>1999,H211<2002),VLOOKUP(I211,Feuil1!$A$11:$F$29,3),VLOOKUP(I211,Feuil1!$A$11:$F$29,2))))),IF(OR(H211=\"SEN\",H211<1995),VLOOKUP(I211,Feuil1!$G$11:$L$25,6),IF(AND(H211>1994,H211<1998),VLOOKUP(I211,Feuil1!$G$11:$L$25,5),IF(AND(H211>1997,H211<2000),VLOOKUP(I211,Feuil1!$G$11:$L$25,4),IF(AND(H211>1999,H211<2002),VLOOKUP(I211,Feuil1!$G$11:$L$25,3),VLOOKUP(I211,Feuil1!$G$11:$L$25,2)))))))","v":"FS63"},144.10825246036688,null," ",{"$f":"T211-HLOOKUP(X211,Feuil1!$C$1:$BL$10,2,FALSE)","v":30},{"$f":"T211-HLOOKUP(X211,Feuil1!$C$1:$BL$10,3,FALSE)","v":20},{"$f":"T211-HLOOKUP(X211,Feuil1!$C$1:$BL$10,4,FALSE)","v":10},{"$f":"T211-HLOOKUP(X211,Feuil1!$C$1:$BL$10,5,FALSE)","v":-5},{"$f":"T211-HLOOKUP(X211,Feuil1!$C$1:$BL$10,6,FALSE)","v":-20},{"$f":"T211-HLOOKUP(X211,Feuil1!$C$1:$BL$10,7,FALSE)","v":-35},{"$f":"T211-HLOOKUP(X211,Feuil1!$C$1:$BL$10,8,FALSE)","v":-55},{"$f":"T211-HLOOKUP(X211,Feuil1!$C$1:$BL$10,9,FALSE)","v":-75},{"$f":"T211-HLOOKUP(X211,Feuil1!$C$1:$BL$10,10,FALSE)","v":-95},null,null,null,null,null,null,"REG +"]
["F","SEST","PRO",36,390150,"BOIRON","Alice",1967,61.5,"EEAR MONTEUX","F",42,-45,45,45,56,60,-62,60,105,-18,"REG +",10,{"$f":"IF(I212=\"\",\"\",IF(A212=\"H\",IF(OR(H212=\"SEN\",H212<1995),VLOOKUP(I212,Feuil1!$A$11:$F$29,6),IF(AND(H212>1994,H212<1998),VLOOKUP(I212,Feuil1!$A$11:$F$29,5),IF(AND(H212>1997,H212<2000),VLOOKUP(I212,Feuil1!$A$11:$F$29,4),IF(AND(H212>1999,H212<2002),VLOOKUP(I212,Feuil1!$A$11:$F$29,3),VLOOKUP(I212,Feuil1!$A$11:$F$29,2))))),IF(OR(H212=\"SEN\",H212<1995),VLOOKUP(I212,Feuil1!$G$11:$L$25,6),IF(AND(H212>1994,H212<1998),VLOOKUP(I212,Feuil1!$G$11:$L$25,5),IF(AND(H212>1997,H212<2000),VLOOKUP(I212,Feuil1!$G$11:$L$25,4),IF(AND(H212>1999,H212<2002),VLOOKUP(I212,Feuil1!$G$11:$L$25,3),VLOOKUP(I212,Feuil1!$G$11:$L$25,2)))))))","v":"FS63"},141.82514619934835,null," ",{"$f":"T212-HLOOKUP(X212,Feuil1!$C$1:$BL$10,2,FALSE)","v":30},{"$f":"T212-HLOOKUP(X212,Feuil1!$C$1:$BL$10,3,FALSE)","v":20},{"$f":"T212-HLOOKUP(X212,Feuil1!$C$1:$BL$10,4,FALSE)","v":10},{"$f":"T212-HLOOKUP(X212,Feuil1!$C$1:$BL$10,5,FALSE)","v":-5},{"$f":"T212-HLOOKUP(X212,Feuil1!$C$1:$BL$10,6,FALSE)","v":-20},{"$f":"T212-HLOOKUP(X212,Feuil1!$C$1:$BL$10,7,FALSE)","v":-35},{"$f":"T212-HLOOKUP(X212,Feuil1!$C$1:$BL$10,8,FALSE)","v":-55},{"$f":"T212-HLOOKUP(X212,Feuil1!$C$1:$BL$10,9,FALSE)","v":-75},{"$f":"T212-HLOOKUP(X212,Feuil1!$C$1:$BL$10,10,FALSE)","v":-95},null,null,null,null,null,null,"REG +"]
["F","N","IDF",37,366519,"GUIBERT","PAULINE",1986,62.3,"US METRO","F",37,40,43,43,55,60,-63,60,103,-21.599999999999994,"REG +",8,{"$f":"IF(I213=\"\",\"\",IF(A213=\"H\",IF(OR(H213=\"SEN\",H213<1995),VLOOKUP(I213,Feuil1!$A$11:$F$29,6),IF(AND(H213>1994,H213<1998),VLOOKUP(I213,Feuil1!$A$11:$F$29,5),IF(AND(H213>1997,H213<2000),VLOOKUP(I213,Feuil1!$A$11:$F$29,4),IF(AND(H213>1999,H213<2002),VLOOKUP(I213,Feuil1!$A$11:$F$29,3),VLOOKUP(I213,Feuil1!$A$11:$F$29,2))))),IF(OR(H213=\"SEN\",H213<1995),VLOOKUP(I213,Feuil1!$G$11:$L$25,6),IF(AND(H213>1994,H213<1998),VLOOKUP(I213,Feuil1!$G$11:$L$25,5),IF(AND(H213>1997,H213<2000),VLOOKUP(I213,Feuil1!$G$11:$L$25,4),IF(AND(H213>1999,H213<2002),VLOOKUP(I213,Feuil1!$G$11:$L$25,3),VLOOKUP(I213,Feuil1!$G$11:$L$25,2)))))))","v":"FS63"},137.90726300311019,null," ",{"$f":"T213-HLOOKUP(X213,Feuil1!$C$1:$BL$10,2,FALSE)","v":28},{"$f":"T213-HLOOKUP(X213,Feuil1!$C$1:$BL$10,3,FALSE)","v":18},{"$f":"T213-HLOOKUP(X213,Feuil1!$C$1:$BL$10,4,FALSE)","v":8},{"$f":"T213-HLOOKUP(X213,Feuil1!$C$1:$BL$10,5,FALSE)","v":-7},{"$f":"T213-HLOOKUP(X213,Feuil1!$C$1:$BL$10,6,FALSE)","v":-22},{"$f":"T213-HLOOKUP(X213,Feuil1!$C$1:$BL$10,7,FALSE)","v":-37},{"$f":"T213-HLOOKUP(X213,Feuil1!$C$1:$BL$10,8,FALSE)","v":-57},{"$f":"T213-HLOOKUP(X213,Feuil1!$C$1:$BL$10,9,FALSE)","v":-77},{"$f":"T213-HLOOKUP(X213,Feuil1!$C$1:$BL$10,10,FALSE)","v":-97},null,null,null,null,null,null,"REG +"]
["F","NORD","PIC",38,268516,"BEY","Louise",1994,59.64,"Saleux CHM","F",-42,42,44,44,53,-57,58,58,102,-17.28,"REG +",7,{"$f":"IF(I214=\"\",\"\",IF(A214=\"H\",IF(OR(H214=\"SEN\",H214<1995),VLOOKUP(I214,Feuil1!$A$11:$F$29,6),IF(AND(H214>1994,H214<1998),VLOOKUP(I214,Feuil1!$A$11:$F$29,5),IF(AND(H214>1997,H214<2000),VLOOKUP(I214,Feuil1!$A$11:$F$29,4),IF(AND(H214>1999,H214<2002),VLOOKUP(I214,Feuil1!$A$11:$F$29,3),VLOOKUP(I214,Feuil1!$A$11:$F$29,2))))),IF(OR(H214=\"SEN\",H214<1995),VLOOKUP(I214,Feuil1!$G$11:$L$25,6),IF(AND(H214>1994,H214<1998),VLOOKUP(I214,Feuil1!$G$11:$L$25,5),IF(AND(H214>1997,H214<2000),VLOOKUP(I214,Feuil1!$G$11:$L$25,4),IF(AND(H214>1999,H214<2002),VLOOKUP(I214,Feuil1!$G$11:$L$25,3),VLOOKUP(I214,Feuil1!$G$11:$L$25,2)))))))","v":"FS63"},140.75175178912085,null," ",{"$f":"T214-HLOOKUP(X214,Feuil1!$C$1:$BL$10,2,FALSE)","v":27},{"$f":"T214-HLOOKUP(X214,Feuil1!$C$1:$BL$10,3,FALSE)","v":17},{"$f":"T214-HLOOKUP(X214,Feuil1!$C$1:$BL$10,4,FALSE)","v":7},{"$f":"T214-HLOOKUP(X214,Feuil1!$C$1:$BL$10,5,FALSE)","v":-8},{"$f":"T214-HLOOKUP(X214,Feuil1!$C$1:$BL$10,6,FALSE)","v":-23},{"$f":"T214-HLOOKUP(X214,Feuil1!$C$1:$BL$10,7,FALSE)","v":-38},{"$f":"T214-HLOOKUP(X214,Feuil1!$C$1:$BL$10,8,FALSE)","v":-58},{"$f":"T214-HLOOKUP(X214,Feuil1!$C$1:$BL$10,9,FALSE)","v":-78},{"$f":"T214-HLOOKUP(X214,Feuil1!$C$1:$BL$10,10,FALSE)","v":-98},null,null,null,null,null,null,"REG +"]
["F","SEST","RAL",39,195347,"GEAIX","Sylvie",1972,62.8,"BOURG DE PEAGE","F",45,48,-50,48,55,58,-60,58,106,-19.599999999999994,"REG +",11,{"$f":"IF(I215=\"\",\"\",IF(A215=\"H\",IF(OR(H215=\"SEN\",H215<1995),VLOOKUP(I215,Feuil1!$A$11:$F$29,6),IF(AND(H215>1994,H215<1998),VLOOKUP(I215,Feuil1!$A$11:$F$29,5),IF(AND(H215>1997,H215<2000),VLOOKUP(I215,Feuil1!$A$11:$F$29,4),IF(AND(H215>1999,H215<2002),VLOOKUP(I215,Feuil1!$A$11:$F$29,3),VLOOKUP(I215,Feuil1!$A$11:$F$29,2))))),IF(OR(H215=\"SEN\",H215<1995),VLOOKUP(I215,Feuil1!$G$11:$L$25,6),IF(AND(H215>1994,H215<1998),VLOOKUP(I215,Feuil1!$G$11:$L$25,5),IF(AND(H215>1997,H215<2000),VLOOKUP(I215,Feuil1!$G$11:$L$25,4),IF(AND(H215>1999,H215<2002),VLOOKUP(I215,Feuil1!$G$11:$L$25,3),VLOOKUP(I215,Feuil1!$G$11:$L$25,2)))))))","v":"FS63"},141.16437272893288,null," ",{"$f":"T215-HLOOKUP(X215,Feuil1!$C$1:$BL$10,2,FALSE)","v":31},{"$f":"T215-HLOOKUP(X215,Feuil1!$C$1:$BL$10,3,FALSE)","v":21},{"$f":"T215-HLOOKUP(X215,Feuil1!$C$1:$BL$10,4,FALSE)","v":11},{"$f":"T215-HLOOKUP(X215,Feuil1!$C$1:$BL$10,5,FALSE)","v":-4},{"$f":"T215-HLOOKUP(X215,Feuil1!$C$1:$BL$10,6,FALSE)","v":-19},{"$f":"T215-HLOOKUP(X215,Feuil1!$C$1:$BL$10,7,FALSE)","v":-34},{"$f":"T215-HLOOKUP(X215,Feuil1!$C$1:$BL$10,8,FALSE)","v":-54},{"$f":"T215-HLOOKUP(X215,Feuil1!$C$1:$BL$10,9,FALSE)","v":-74},{"$f":"T215-HLOOKUP(X215,Feuil1!$C$1:$BL$10,10,FALSE)","v":-94},null,null,null,null,null,null,"REG +"]
["F","NE","BOU",40,339428,"BONNET ","Aline",1986,60.9,"HMDB21","F",45,-48,48,48,53,57,-60,57,105,-16.799999999999997,"REG +",10,{"$f":"IF(I216=\"\",\"\",IF(A216=\"H\",IF(OR(H216=\"SEN\",H216<1995),VLOOKUP(I216,Feuil1!$A$11:$F$29,6),IF(AND(H216>1994,H216<1998),VLOOKUP(I216,Feuil1!$A$11:$F$29,5),IF(AND(H216>1997,H216<2000),VLOOKUP(I216,Feuil1!$A$11:$F$29,4),IF(AND(H216>1999,H216<2002),VLOOKUP(I216,Feuil1!$A$11:$F$29,3),VLOOKUP(I216,Feuil1!$A$11:$F$29,2))))),IF(OR(H216=\"SEN\",H216<1995),VLOOKUP(I216,Feuil1!$G$11:$L$25,6),IF(AND(H216>1994,H216<1998),VLOOKUP(I216,Feuil1!$G$11:$L$25,5),IF(AND(H216>1997,H216<2000),VLOOKUP(I216,Feuil1!$G$11:$L$25,4),IF(AND(H216>1999,H216<2002),VLOOKUP(I216,Feuil1!$G$11:$L$25,3),VLOOKUP(I216,Feuil1!$G$11:$L$25,2)))))))","v":"FS63"},142.78552112302486,null," ",{"$f":"T216-HLOOKUP(X216,Feuil1!$C$1:$BL$10,2,FALSE)","v":30},{"$f":"T216-HLOOKUP(X216,Feuil1!$C$1:$BL$10,3,FALSE)","v":20},{"$f":"T216-HLOOKUP(X216,Feuil1!$C$1:$BL$10,4,FALSE)","v":10},{"$f":"T216-HLOOKUP(X216,Feuil1!$C$1:$BL$10,5,FALSE)","v":-5},{"$f":"T216-HLOOKUP(X216,Feuil1!$C$1:$BL$10,6,FALSE)","v":-20},{"$f":"T216-HLOOKUP(X216,Feuil1!$C$1:$BL$10,7,FALSE)","v":-35},{"$f":"T216-HLOOKUP(X216,Feuil1!$C$1:$BL$10,8,FALSE)","v":-55},{"$f":"T216-HLOOKUP(X216,Feuil1!$C$1:$BL$10,9,FALSE)","v":-75},{"$f":"T216-HLOOKUP(X216,Feuil1!$C$1:$BL$10,10,FALSE)","v":-95},null,null,null,null,null,null,"REG +"]
["F","NORD","NPC",41,383079,"REYNDERS","Jessica",1994,60,"CHCD COMINES","F",38,42,45,45,48,52,56,56,101,-19,"REG +",6,{"$f":"IF(I217=\"\",\"\",IF(A217=\"H\",IF(OR(H217=\"SEN\",H217<1995),VLOOKUP(I217,Feuil1!$A$11:$F$29,6),IF(AND(H217>1994,H217<1998),VLOOKUP(I217,Feuil1!$A$11:$F$29,5),IF(AND(H217>1997,H217<2000),VLOOKUP(I217,Feuil1!$A$11:$F$29,4),IF(AND(H217>1999,H217<2002),VLOOKUP(I217,Feuil1!$A$11:$F$29,3),VLOOKUP(I217,Feuil1!$A$11:$F$29,2))))),IF(OR(H217=\"SEN\",H217<1995),VLOOKUP(I217,Feuil1!$G$11:$L$25,6),IF(AND(H217>1994,H217<1998),VLOOKUP(I217,Feuil1!$G$11:$L$25,5),IF(AND(H217>1997,H217<2000),VLOOKUP(I217,Feuil1!$G$11:$L$25,4),IF(AND(H217>1999,H217<2002),VLOOKUP(I217,Feuil1!$G$11:$L$25,3),VLOOKUP(I217,Feuil1!$G$11:$L$25,2)))))))","v":"FS63"},138.78082071778999,null," ",{"$f":"T217-HLOOKUP(X217,Feuil1!$C$1:$BL$10,2,FALSE)","v":26},{"$f":"T217-HLOOKUP(X217,Feuil1!$C$1:$BL$10,3,FALSE)","v":16},{"$f":"T217-HLOOKUP(X217,Feuil1!$C$1:$BL$10,4,FALSE)","v":6},{"$f":"T217-HLOOKUP(X217,Feuil1!$C$1:$BL$10,5,FALSE)","v":-9},{"$f":"T217-HLOOKUP(X217,Feuil1!$C$1:$BL$10,6,FALSE)","v":-24},{"$f":"T217-HLOOKUP(X217,Feuil1!$C$1:$BL$10,7,FALSE)","v":-39},{"$f":"T217-HLOOKUP(X217,Feuil1!$C$1:$BL$10,8,FALSE)","v":-59},{"$f":"T217-HLOOKUP(X217,Feuil1!$C$1:$BL$10,9,FALSE)","v":-79},{"$f":"T217-HLOOKUP(X217,Feuil1!$C$1:$BL$10,10,FALSE)","v":-99},null,null,null,null,null,null,"REG +"]
["F","SEST","RAL",42,296358,"VEDEL","Charlotte",1994,60.2,"St ETIENNE","F",38,40,42,42,50,53,56,56,98,-22.400000000000006,"REG +",3,{"$f":"IF(I218=\"\",\"\",IF(A218=\"H\",IF(OR(H218=\"SEN\",H218<1995),VLOOKUP(I218,Feuil1!$A$11:$F$29,6),IF(AND(H218>1994,H218<1998),VLOOKUP(I218,Feuil1!$A$11:$F$29,5),IF(AND(H218>1997,H218<2000),VLOOKUP(I218,Feuil1!$A$11:$F$29,4),IF(AND(H218>1999,H218<2002),VLOOKUP(I218,Feuil1!$A$11:$F$29,3),VLOOKUP(I218,Feuil1!$A$11:$F$29,2))))),IF(OR(H218=\"SEN\",H218<1995),VLOOKUP(I218,Feuil1!$G$11:$L$25,6),IF(AND(H218>1994,H218<1998),VLOOKUP(I218,Feuil1!$G$11:$L$25,5),IF(AND(H218>1997,H218<2000),VLOOKUP(I218,Feuil1!$G$11:$L$25,4),IF(AND(H218>1999,H218<2002),VLOOKUP(I218,Feuil1!$G$11:$L$25,3),VLOOKUP(I218,Feuil1!$G$11:$L$25,2)))))))","v":"FS63"},134.34418869797835,null," ",{"$f":"T218-HLOOKUP(X218,Feuil1!$C$1:$BL$10,2,FALSE)","v":23},{"$f":"T218-HLOOKUP(X218,Feuil1!$C$1:$BL$10,3,FALSE)","v":13},{"$f":"T218-HLOOKUP(X218,Feuil1!$C$1:$BL$10,4,FALSE)","v":3},{"$f":"T218-HLOOKUP(X218,Feuil1!$C$1:$BL$10,5,FALSE)","v":-12},{"$f":"T218-HLOOKUP(X218,Feuil1!$C$1:$BL$10,6,FALSE)","v":-27},{"$f":"T218-HLOOKUP(X218,Feuil1!$C$1:$BL$10,7,FALSE)","v":-42},{"$f":"T218-HLOOKUP(X218,Feuil1!$C$1:$BL$10,8,FALSE)","v":-62},{"$f":"T218-HLOOKUP(X218,Feuil1!$C$1:$BL$10,9,FALSE)","v":-82},{"$f":"T218-HLOOKUP(X218,Feuil1!$C$1:$BL$10,10,FALSE)","v":-102},null,null,null,null,null,null,"REG +"]
["F","NE","BOU",43,336137,"GANDON","Carole",1984,61.2,"Olympique Mâcon","F",33,36,-40,36,48,51,56,56,92,-30.400000000000006,"DEP +",7,{"$f":"IF(I219=\"\",\"\",IF(A219=\"H\",IF(OR(H219=\"SEN\",H219<1995),VLOOKUP(I219,Feuil1!$A$11:$F$29,6),IF(AND(H219>1994,H219<1998),VLOOKUP(I219,Feuil1!$A$11:$F$29,5),IF(AND(H219>1997,H219<2000),VLOOKUP(I219,Feuil1!$A$11:$F$29,4),IF(AND(H219>1999,H219<2002),VLOOKUP(I219,Feuil1!$A$11:$F$29,3),VLOOKUP(I219,Feuil1!$A$11:$F$29,2))))),IF(OR(H219=\"SEN\",H219<1995),VLOOKUP(I219,Feuil1!$G$11:$L$25,6),IF(AND(H219>1994,H219<1998),VLOOKUP(I219,Feuil1!$G$11:$L$25,5),IF(AND(H219>1997,H219<2000),VLOOKUP(I219,Feuil1!$G$11:$L$25,4),IF(AND(H219>1999,H219<2002),VLOOKUP(I219,Feuil1!$G$11:$L$25,3),VLOOKUP(I219,Feuil1!$G$11:$L$25,2)))))))","v":"FS63"},124.68366949168791,null," ",{"$f":"T219-HLOOKUP(X219,Feuil1!$C$1:$BL$10,2,FALSE)","v":17},{"$f":"T219-HLOOKUP(X219,Feuil1!$C$1:$BL$10,3,FALSE)","v":7},{"$f":"T219-HLOOKUP(X219,Feuil1!$C$1:$BL$10,4,FALSE)","v":-3},{"$f":"T219-HLOOKUP(X219,Feuil1!$C$1:$BL$10,5,FALSE)","v":-18},{"$f":"T219-HLOOKUP(X219,Feuil1!$C$1:$BL$10,6,FALSE)","v":-33},{"$f":"T219-HLOOKUP(X219,Feuil1!$C$1:$BL$10,7,FALSE)","v":-48},{"$f":"T219-HLOOKUP(X219,Feuil1!$C$1:$BL$10,8,FALSE)","v":-68},{"$f":"T219-HLOOKUP(X219,Feuil1!$C$1:$BL$10,9,FALSE)","v":-88},{"$f":"T219-HLOOKUP(X219,Feuil1!$C$1:$BL$10,10,FALSE)","v":-108},null,null,null,null,null,null,"DEP +"]
["F","SEST","PRO",44,246399,"BOYER","NOEMIE",1985,62.5,"CHC MONDRAGON","F",40,-45,-45,40,50,53,56,56,96,-29,"REG +",1,{"$f":"IF(I220=\"\",\"\",IF(A220=\"H\",IF(OR(H220=\"SEN\",H220<1995),VLOOKUP(I220,Feuil1!$A$11:$F$29,6),IF(AND(H220>1994,H220<1998),VLOOKUP(I220,Feuil1!$A$11:$F$29,5),IF(AND(H220>1997,H220<2000),VLOOKUP(I220,Feuil1!$A$11:$F$29,4),IF(AND(H220>1999,H220<2002),VLOOKUP(I220,Feuil1!$A$11:$F$29,3),VLOOKUP(I220,Feuil1!$A$11:$F$29,2))))),IF(OR(H220=\"SEN\",H220<1995),VLOOKUP(I220,Feuil1!$G$11:$L$25,6),IF(AND(H220>1994,H220<1998),VLOOKUP(I220,Feuil1!$G$11:$L$25,5),IF(AND(H220>1997,H220<2000),VLOOKUP(I220,Feuil1!$G$11:$L$25,4),IF(AND(H220>1999,H220<2002),VLOOKUP(I220,Feuil1!$G$11:$L$25,3),VLOOKUP(I220,Feuil1!$G$11:$L$25,2)))))))","v":"FS63"},128.25787568983202,null," ",{"$f":"T220-HLOOKUP(X220,Feuil1!$C$1:$BL$10,2,FALSE)","v":21},{"$f":"T220-HLOOKUP(X220,Feuil1!$C$1:$BL$10,3,FALSE)","v":11},{"$f":"T220-HLOOKUP(X220,Feuil1!$C$1:$BL$10,4,FALSE)","v":1},{"$f":"T220-HLOOKUP(X220,Feuil1!$C$1:$BL$10,5,FALSE)","v":-14},{"$f":"T220-HLOOKUP(X220,Feuil1!$C$1:$BL$10,6,FALSE)","v":-29},{"$f":"T220-HLOOKUP(X220,Feuil1!$C$1:$BL$10,7,FALSE)","v":-44},{"$f":"T220-HLOOKUP(X220,Feuil1!$C$1:$BL$10,8,FALSE)","v":-64},{"$f":"T220-HLOOKUP(X220,Feuil1!$C$1:$BL$10,9,FALSE)","v":-84},{"$f":"T220-HLOOKUP(X220,Feuil1!$C$1:$BL$10,10,FALSE)","v":-104},null,null,null,null,null,null,"REG +"]
["F","NORD","NPC",45,231359,"BAUQUEL","Bénédicte",1993,59,"C.A.ROSENDAEL","F",37,40,-43,40,50,55,-60,55,95,-23,"REG +",0,{"$f":"IF(I221=\"\",\"\",IF(A221=\"H\",IF(OR(H221=\"SEN\",H221<1995),VLOOKUP(I221,Feuil1!$A$11:$F$29,6),IF(AND(H221>1994,H221<1998),VLOOKUP(I221,Feuil1!$A$11:$F$29,5),IF(AND(H221>1997,H221<2000),VLOOKUP(I221,Feuil1!$A$11:$F$29,4),IF(AND(H221>1999,H221<2002),VLOOKUP(I221,Feuil1!$A$11:$F$29,3),VLOOKUP(I221,Feuil1!$A$11:$F$29,2))))),IF(OR(H221=\"SEN\",H221<1995),VLOOKUP(I221,Feuil1!$G$11:$L$25,6),IF(AND(H221>1994,H221<1998),VLOOKUP(I221,Feuil1!$G$11:$L$25,5),IF(AND(H221>1997,H221<2000),VLOOKUP(I221,Feuil1!$G$11:$L$25,4),IF(AND(H221>1999,H221<2002),VLOOKUP(I221,Feuil1!$G$11:$L$25,3),VLOOKUP(I221,Feuil1!$G$11:$L$25,2)))))))","v":"FS63"},132.10419270434824,null," ",{"$f":"T221-HLOOKUP(X221,Feuil1!$C$1:$BL$10,2,FALSE)","v":20},{"$f":"T221-HLOOKUP(X221,Feuil1!$C$1:$BL$10,3,FALSE)","v":10},{"$f":"T221-HLOOKUP(X221,Feuil1!$C$1:$BL$10,4,FALSE)","v":0},{"$f":"T221-HLOOKUP(X221,Feuil1!$C$1:$BL$10,5,FALSE)","v":-15},{"$f":"T221-HLOOKUP(X221,Feuil1!$C$1:$BL$10,6,FALSE)","v":-30},{"$f":"T221-HLOOKUP(X221,Feuil1!$C$1:$BL$10,7,FALSE)","v":-45},{"$f":"T221-HLOOKUP(X221,Feuil1!$C$1:$BL$10,8,FALSE)","v":-65},{"$f":"T221-HLOOKUP(X221,Feuil1!$C$1:$BL$10,9,FALSE)","v":-85},{"$f":"T221-HLOOKUP(X221,Feuil1!$C$1:$BL$10,10,FALSE)","v":-105},null,null,null,null,null,null,"REG +"]
["F","NE","FCO",46,1144,"LOISEAU","Corinne",1963,59.5,"CH Luxeuil","F",40,43,-45,43,50,55,-57,55,98,-21,"REG +",3,{"$f":"IF(I222=\"\",\"\",IF(A222=\"H\",IF(OR(H222=\"SEN\",H222<1995),VLOOKUP(I222,Feuil1!$A$11:$F$29,6),IF(AND(H222>1994,H222<1998),VLOOKUP(I222,Feuil1!$A$11:$F$29,5),IF(AND(H222>1997,H222<2000),VLOOKUP(I222,Feuil1!$A$11:$F$29,4),IF(AND(H222>1999,H222<2002),VLOOKUP(I222,Feuil1!$A$11:$F$29,3),VLOOKUP(I222,Feuil1!$A$11:$F$29,2))))),IF(OR(H222=\"SEN\",H222<1995),VLOOKUP(I222,Feuil1!$G$11:$L$25,6),IF(AND(H222>1994,H222<1998),VLOOKUP(I222,Feuil1!$G$11:$L$25,5),IF(AND(H222>1997,H222<2000),VLOOKUP(I222,Feuil1!$G$11:$L$25,4),IF(AND(H222>1999,H222<2002),VLOOKUP(I222,Feuil1!$G$11:$L$25,3),VLOOKUP(I222,Feuil1!$G$11:$L$25,2)))))))","v":"FS63"},135.45772229883588,null," ",{"$f":"T222-HLOOKUP(X222,Feuil1!$C$1:$BL$10,2,FALSE)","v":23},{"$f":"T222-HLOOKUP(X222,Feuil1!$C$1:$BL$10,3,FALSE)","v":13},{"$f":"T222-HLOOKUP(X222,Feuil1!$C$1:$BL$10,4,FALSE)","v":3},{"$f":"T222-HLOOKUP(X222,Feuil1!$C$1:$BL$10,5,FALSE)","v":-12},{"$f":"T222-HLOOKUP(X222,Feuil1!$C$1:$BL$10,6,FALSE)","v":-27},{"$f":"T222-HLOOKUP(X222,Feuil1!$C$1:$BL$10,7,FALSE)","v":-42},{"$f":"T222-HLOOKUP(X222,Feuil1!$C$1:$BL$10,8,FALSE)","v":-62},{"$f":"T222-HLOOKUP(X222,Feuil1!$C$1:$BL$10,9,FALSE)","v":-82},{"$f":"T222-HLOOKUP(X222,Feuil1!$C$1:$BL$10,10,FALSE)","v":-102},null,null,null,null,null,null,"REG +"]
["F","NORD","NPC",47,130771,"DEFRANCE","Flavie",1992,62.7,"CHCD COMINES","F",40,45,-49,45,50,55,-60,55,100,-25.400000000000006,"REG +",5,{"$f":"IF(I223=\"\",\"\",IF(A223=\"H\",IF(OR(H223=\"SEN\",H223<1995),VLOOKUP(I223,Feuil1!$A$11:$F$29,6),IF(AND(H223>1994,H223<1998),VLOOKUP(I223,Feuil1!$A$11:$F$29,5),IF(AND(H223>1997,H223<2000),VLOOKUP(I223,Feuil1!$A$11:$F$29,4),IF(AND(H223>1999,H223<2002),VLOOKUP(I223,Feuil1!$A$11:$F$29,3),VLOOKUP(I223,Feuil1!$A$11:$F$29,2))))),IF(OR(H223=\"SEN\",H223<1995),VLOOKUP(I223,Feuil1!$G$11:$L$25,6),IF(AND(H223>1994,H223<1998),VLOOKUP(I223,Feuil1!$G$11:$L$25,5),IF(AND(H223>1997,H223<2000),VLOOKUP(I223,Feuil1!$G$11:$L$25,4),IF(AND(H223>1999,H223<2002),VLOOKUP(I223,Feuil1!$G$11:$L$25,3),VLOOKUP(I223,Feuil1!$G$11:$L$25,2)))))))","v":"FS63"},133.31596440839476,null," ",{"$f":"T223-HLOOKUP(X223,Feuil1!$C$1:$BL$10,2,FALSE)","v":25},{"$f":"T223-HLOOKUP(X223,Feuil1!$C$1:$BL$10,3,FALSE)","v":15},{"$f":"T223-HLOOKUP(X223,Feuil1!$C$1:$BL$10,4,FALSE)","v":5},{"$f":"T223-HLOOKUP(X223,Feuil1!$C$1:$BL$10,5,FALSE)","v":-10},{"$f":"T223-HLOOKUP(X223,Feuil1!$C$1:$BL$10,6,FALSE)","v":-25},{"$f":"T223-HLOOKUP(X223,Feuil1!$C$1:$BL$10,7,FALSE)","v":-40},{"$f":"T223-HLOOKUP(X223,Feuil1!$C$1:$BL$10,8,FALSE)","v":-60},{"$f":"T223-HLOOKUP(X223,Feuil1!$C$1:$BL$10,9,FALSE)","v":-80},{"$f":"T223-HLOOKUP(X223,Feuil1!$C$1:$BL$10,10,FALSE)","v":-100},null,null,null,null,null,null,"REG +"]
["F","N","IDF",48,256340,"ANDRE","CELINE",1973,62.9,"MANTES","F",30,35,-40,35,50,53,55,55,90,-35.799999999999997,"DEP +",5,{"$f":"IF(I224=\"\",\"\",IF(A224=\"H\",IF(OR(H224=\"SEN\",H224<1995),VLOOKUP(I224,Feuil1!$A$11:$F$29,6),IF(AND(H224>1994,H224<1998),VLOOKUP(I224,Feuil1!$A$11:$F$29,5),IF(AND(H224>1997,H224<2000),VLOOKUP(I224,Feuil1!$A$11:$F$29,4),IF(AND(H224>1999,H224<2002),VLOOKUP(I224,Feuil1!$A$11:$F$29,3),VLOOKUP(I224,Feuil1!$A$11:$F$29,2))))),IF(OR(H224=\"SEN\",H224<1995),VLOOKUP(I224,Feuil1!$G$11:$L$25,6),IF(AND(H224>1994,H224<1998),VLOOKUP(I224,Feuil1!$G$11:$L$25,5),IF(AND(H224>1997,H224<2000),VLOOKUP(I224,Feuil1!$G$11:$L$25,4),IF(AND(H224>1999,H224<2002),VLOOKUP(I224,Feuil1!$G$11:$L$25,3),VLOOKUP(I224,Feuil1!$G$11:$L$25,2)))))))","v":"FS63"},119.72929344470396,null," ",{"$f":"T224-HLOOKUP(X224,Feuil1!$C$1:$BL$10,2,FALSE)","v":15},{"$f":"T224-HLOOKUP(X224,Feuil1!$C$1:$BL$10,3,FALSE)","v":5},{"$f":"T224-HLOOKUP(X224,Feuil1!$C$1:$BL$10,4,FALSE)","v":-5},{"$f":"T224-HLOOKUP(X224,Feuil1!$C$1:$BL$10,5,FALSE)","v":-20},{"$f":"T224-HLOOKUP(X224,Feuil1!$C$1:$BL$10,6,FALSE)","v":-35},{"$f":"T224-HLOOKUP(X224,Feuil1!$C$1:$BL$10,7,FALSE)","v":-50},{"$f":"T224-HLOOKUP(X224,Feuil1!$C$1:$BL$10,8,FALSE)","v":-70},{"$f":"T224-HLOOKUP(X224,Feuil1!$C$1:$BL$10,9,FALSE)","v":-90},{"$f":"T224-HLOOKUP(X224,Feuil1!$C$1:$BL$10,10,FALSE)","v":-110},null,null,null,null,null,null,"DEP +"]
["F","SEST","AUV",49,390737,"SZALA","Joanna",1985,63,"CROSSWOD TEAM","F",-40,40,43,43,52,55,-57,55,98,-28,"REG +",3,{"$f":"IF(I225=\"\",\"\",IF(A225=\"H\",IF(OR(H225=\"SEN\",H225<1995),VLOOKUP(I225,Feuil1!$A$11:$F$29,6),IF(AND(H225>1994,H225<1998),VLOOKUP(I225,Feuil1!$A$11:$F$29,5),IF(AND(H225>1997,H225<2000),VLOOKUP(I225,Feuil1!$A$11:$F$29,4),IF(AND(H225>1999,H225<2002),VLOOKUP(I225,Feuil1!$A$11:$F$29,3),VLOOKUP(I225,Feuil1!$A$11:$F$29,2))))),IF(OR(H225=\"SEN\",H225<1995),VLOOKUP(I225,Feuil1!$G$11:$L$25,6),IF(AND(H225>1994,H225<1998),VLOOKUP(I225,Feuil1!$G$11:$L$25,5),IF(AND(H225>1997,H225<2000),VLOOKUP(I225,Feuil1!$G$11:$L$25,4),IF(AND(H225>1999,H225<2002),VLOOKUP(I225,Feuil1!$G$11:$L$25,3),VLOOKUP(I225,Feuil1!$G$11:$L$25,2)))))))","v":"FS63"},130.23396001256117,null," ",{"$f":"T225-HLOOKUP(X225,Feuil1!$C$1:$BL$10,2,FALSE)","v":23},{"$f":"T225-HLOOKUP(X225,Feuil1!$C$1:$BL$10,3,FALSE)","v":13},{"$f":"T225-HLOOKUP(X225,Feuil1!$C$1:$BL$10,4,FALSE)","v":3},{"$f":"T225-HLOOKUP(X225,Feuil1!$C$1:$BL$10,5,FALSE)","v":-12},{"$f":"T225-HLOOKUP(X225,Feuil1!$C$1:$BL$10,6,FALSE)","v":-27},{"$f":"T225-HLOOKUP(X225,Feuil1!$C$1:$BL$10,7,FALSE)","v":-42},{"$f":"T225-HLOOKUP(X225,Feuil1!$C$1:$BL$10,8,FALSE)","v":-62},{"$f":"T225-HLOOKUP(X225,Feuil1!$C$1:$BL$10,9,FALSE)","v":-82},{"$f":"T225-HLOOKUP(X225,Feuil1!$C$1:$BL$10,10,FALSE)","v":-102},null,null,null,null,null,null,"REG +"]
["F","SO","AQU",50,298241,"SAVIN","CECILE",1979,59.6,"ST MEDARD","F",40,43,46,46,50,54,-56,54,100,-19.200000000000003,"REG +",5,{"$f":"IF(I226=\"\",\"\",IF(A226=\"H\",IF(OR(H226=\"SEN\",H226<1995),VLOOKUP(I226,Feuil1!$A$11:$F$29,6),IF(AND(H226>1994,H226<1998),VLOOKUP(I226,Feuil1!$A$11:$F$29,5),IF(AND(H226>1997,H226<2000),VLOOKUP(I226,Feuil1!$A$11:$F$29,4),IF(AND(H226>1999,H226<2002),VLOOKUP(I226,Feuil1!$A$11:$F$29,3),VLOOKUP(I226,Feuil1!$A$11:$F$29,2))))),IF(OR(H226=\"SEN\",H226<1995),VLOOKUP(I226,Feuil1!$G$11:$L$25,6),IF(AND(H226>1994,H226<1998),VLOOKUP(I226,Feuil1!$G$11:$L$25,5),IF(AND(H226>1997,H226<2000),VLOOKUP(I226,Feuil1!$G$11:$L$25,4),IF(AND(H226>1999,H226<2002),VLOOKUP(I226,Feuil1!$G$11:$L$25,3),VLOOKUP(I226,Feuil1!$G$11:$L$25,2)))))))","v":"FS63"},138.05754487429581,null," ",{"$f":"T226-HLOOKUP(X226,Feuil1!$C$1:$BL$10,2,FALSE)","v":25},{"$f":"T226-HLOOKUP(X226,Feuil1!$C$1:$BL$10,3,FALSE)","v":15},{"$f":"T226-HLOOKUP(X226,Feuil1!$C$1:$BL$10,4,FALSE)","v":5},{"$f":"T226-HLOOKUP(X226,Feuil1!$C$1:$BL$10,5,FALSE)","v":-10},{"$f":"T226-HLOOKUP(X226,Feuil1!$C$1:$BL$10,6,FALSE)","v":-25},{"$f":"T226-HLOOKUP(X226,Feuil1!$C$1:$BL$10,7,FALSE)","v":-40},{"$f":"T226-HLOOKUP(X226,Feuil1!$C$1:$BL$10,8,FALSE)","v":-60},{"$f":"T226-HLOOKUP(X226,Feuil1!$C$1:$BL$10,9,FALSE)","v":-80},{"$f":"T226-HLOOKUP(X226,Feuil1!$C$1:$BL$10,10,FALSE)","v":-100},null,null,null,null,null,null,"REG +"]
["F","SEST","RAL",51,390896,"TERRASSE","EMILIE",1985,60.6,"CH Arbresle","F",40,43,-45,43,54,-58,-58,54,97,-24.200000000000003,"REG +",2,{"$f":"IF(I227=\"\",\"\",IF(A227=\"H\",IF(OR(H227=\"SEN\",H227<1995),VLOOKUP(I227,Feuil1!$A$11:$F$29,6),IF(AND(H227>1994,H227<1998),VLOOKUP(I227,Feuil1!$A$11:$F$29,5),IF(AND(H227>1997,H227<2000),VLOOKUP(I227,Feuil1!$A$11:$F$29,4),IF(AND(H227>1999,H227<2002),VLOOKUP(I227,Feuil1!$A$11:$F$29,3),VLOOKUP(I227,Feuil1!$A$11:$F$29,2))))),IF(OR(H227=\"SEN\",H227<1995),VLOOKUP(I227,Feuil1!$G$11:$L$25,6),IF(AND(H227>1994,H227<1998),VLOOKUP(I227,Feuil1!$G$11:$L$25,5),IF(AND(H227>1997,H227<2000),VLOOKUP(I227,Feuil1!$G$11:$L$25,4),IF(AND(H227>1999,H227<2002),VLOOKUP(I227,Feuil1!$G$11:$L$25,3),VLOOKUP(I227,Feuil1!$G$11:$L$25,2)))))))","v":"FS63"},132.35953677631903,null," ",{"$f":"T227-HLOOKUP(X227,Feuil1!$C$1:$BL$10,2,FALSE)","v":22},{"$f":"T227-HLOOKUP(X227,Feuil1!$C$1:$BL$10,3,FALSE)","v":12},{"$f":"T227-HLOOKUP(X227,Feuil1!$C$1:$BL$10,4,FALSE)","v":2},{"$f":"T227-HLOOKUP(X227,Feuil1!$C$1:$BL$10,5,FALSE)","v":-13},{"$f":"T227-HLOOKUP(X227,Feuil1!$C$1:$BL$10,6,FALSE)","v":-28},{"$f":"T227-HLOOKUP(X227,Feuil1!$C$1:$BL$10,7,FALSE)","v":-43},{"$f":"T227-HLOOKUP(X227,Feuil1!$C$1:$BL$10,8,FALSE)","v":-63},{"$f":"T227-HLOOKUP(X227,Feuil1!$C$1:$BL$10,9,FALSE)","v":-83},{"$f":"T227-HLOOKUP(X227,Feuil1!$C$1:$BL$10,10,FALSE)","v":-103},null,null,null,null,null,null,"REG +"]
["F","NE","ALS",52,9508,"MANNY","SYLVIE",1967,60.8,"MJC Ungersheim","F",33,-37,37,37,50,54,-56,54,91,-30.599999999999994,"DEP +",6,{"$f":"IF(I228=\"\",\"\",IF(A228=\"H\",IF(OR(H228=\"SEN\",H228<1995),VLOOKUP(I228,Feuil1!$A$11:$F$29,6),IF(AND(H228>1994,H228<1998),VLOOKUP(I228,Feuil1!$A$11:$F$29,5),IF(AND(H228>1997,H228<2000),VLOOKUP(I228,Feuil1!$A$11:$F$29,4),IF(AND(H228>1999,H228<2002),VLOOKUP(I228,Feuil1!$A$11:$F$29,3),VLOOKUP(I228,Feuil1!$A$11:$F$29,2))))),IF(OR(H228=\"SEN\",H228<1995),VLOOKUP(I228,Feuil1!$G$11:$L$25,6),IF(AND(H228>1994,H228<1998),VLOOKUP(I228,Feuil1!$G$11:$L$25,5),IF(AND(H228>1997,H228<2000),VLOOKUP(I228,Feuil1!$G$11:$L$25,4),IF(AND(H228>1999,H228<2002),VLOOKUP(I228,Feuil1!$G$11:$L$25,3),VLOOKUP(I228,Feuil1!$G$11:$L$25,2)))))))","v":"FS63"},123.88842799299447,null," ",{"$f":"T228-HLOOKUP(X228,Feuil1!$C$1:$BL$10,2,FALSE)","v":16},{"$f":"T228-HLOOKUP(X228,Feuil1!$C$1:$BL$10,3,FALSE)","v":6},{"$f":"T228-HLOOKUP(X228,Feuil1!$C$1:$BL$10,4,FALSE)","v":-4},{"$f":"T228-HLOOKUP(X228,Feuil1!$C$1:$BL$10,5,FALSE)","v":-19},{"$f":"T228-HLOOKUP(X228,Feuil1!$C$1:$BL$10,6,FALSE)","v":-34},{"$f":"T228-HLOOKUP(X228,Feuil1!$C$1:$BL$10,7,FALSE)","v":-49},{"$f":"T228-HLOOKUP(X228,Feuil1!$C$1:$BL$10,8,FALSE)","v":-69},{"$f":"T228-HLOOKUP(X228,Feuil1!$C$1:$BL$10,9,FALSE)","v":-89},{"$f":"T228-HLOOKUP(X228,Feuil1!$C$1:$BL$10,10,FALSE)","v":-109},null,null,null,null,null,null,"DEP +"]
["F","NE","ALS",53,364658,"BAECHTEL","ANNAELLE",1985,61.75,"ASPTT Strasbourg","F",40,42,44,44,51,-53,54,54,98,-25.5,"REG +",3,{"$f":"IF(I229=\"\",\"\",IF(A229=\"H\",IF(OR(H229=\"SEN\",H229<1995),VLOOKUP(I229,Feuil1!$A$11:$F$29,6),IF(AND(H229>1994,H229<1998),VLOOKUP(I229,Feuil1!$A$11:$F$29,5),IF(AND(H229>1997,H229<2000),VLOOKUP(I229,Feuil1!$A$11:$F$29,4),IF(AND(H229>1999,H229<2002),VLOOKUP(I229,Feuil1!$A$11:$F$29,3),VLOOKUP(I229,Feuil1!$A$11:$F$29,2))))),IF(OR(H229=\"SEN\",H229<1995),VLOOKUP(I229,Feuil1!$G$11:$L$25,6),IF(AND(H229>1994,H229<1998),VLOOKUP(I229,Feuil1!$G$11:$L$25,5),IF(AND(H229>1997,H229<2000),VLOOKUP(I229,Feuil1!$G$11:$L$25,4),IF(AND(H229>1999,H229<2002),VLOOKUP(I229,Feuil1!$G$11:$L$25,3),VLOOKUP(I229,Feuil1!$G$11:$L$25,2)))))))","v":"FS63"},132.00389368694283,null," ",{"$f":"T229-HLOOKUP(X229,Feuil1!$C$1:$BL$10,2,FALSE)","v":23},{"$f":"T229-HLOOKUP(X229,Feuil1!$C$1:$BL$10,3,FALSE)","v":13},{"$f":"T229-HLOOKUP(X229,Feuil1!$C$1:$BL$10,4,FALSE)","v":3},{"$f":"T229-HLOOKUP(X229,Feuil1!$C$1:$BL$10,5,FALSE)","v":-12},{"$f":"T229-HLOOKUP(X229,Feuil1!$C$1:$BL$10,6,FALSE)","v":-27},{"$f":"T229-HLOOKUP(X229,Feuil1!$C$1:$BL$10,7,FALSE)","v":-42},{"$f":"T229-HLOOKUP(X229,Feuil1!$C$1:$BL$10,8,FALSE)","v":-62},{"$f":"T229-HLOOKUP(X229,Feuil1!$C$1:$BL$10,9,FALSE)","v":-82},{"$f":"T229-HLOOKUP(X229,Feuil1!$C$1:$BL$10,10,FALSE)","v":-102},null,null,null,null,null,null,"REG +"]
["F","NE","ALS",54,134532,"LICHTLE","CORINNE",1957,63,"MJC Ungersheim","F",37,-40,40,40,50,54,-56,54,94,-32,"DEP +",9,{"$f":"IF(I230=\"\",\"\",IF(A230=\"H\",IF(OR(H230=\"SEN\",H230<1995),VLOOKUP(I230,Feuil1!$A$11:$F$29,6),IF(AND(H230>1994,H230<1998),VLOOKUP(I230,Feuil1!$A$11:$F$29,5),IF(AND(H230>1997,H230<2000),VLOOKUP(I230,Feuil1!$A$11:$F$29,4),IF(AND(H230>1999,H230<2002),VLOOKUP(I230,Feuil1!$A$11:$F$29,3),VLOOKUP(I230,Feuil1!$A$11:$F$29,2))))),IF(OR(H230=\"SEN\",H230<1995),VLOOKUP(I230,Feuil1!$G$11:$L$25,6),IF(AND(H230>1994,H230<1998),VLOOKUP(I230,Feuil1!$G$11:$L$25,5),IF(AND(H230>1997,H230<2000),VLOOKUP(I230,Feuil1!$G$11:$L$25,4),IF(AND(H230>1999,H230<2002),VLOOKUP(I230,Feuil1!$G$11:$L$25,3),VLOOKUP(I230,Feuil1!$G$11:$L$25,2)))))))","v":"FS63"},124.91828817531378,null," ",{"$f":"T230-HLOOKUP(X230,Feuil1!$C$1:$BL$10,2,FALSE)","v":19},{"$f":"T230-HLOOKUP(X230,Feuil1!$C$1:$BL$10,3,FALSE)","v":9},{"$f":"T230-HLOOKUP(X230,Feuil1!$C$1:$BL$10,4,FALSE)","v":-1},{"$f":"T230-HLOOKUP(X230,Feuil1!$C$1:$BL$10,5,FALSE)","v":-16},{"$f":"T230-HLOOKUP(X230,Feuil1!$C$1:$BL$10,6,FALSE)","v":-31},{"$f":"T230-HLOOKUP(X230,Feuil1!$C$1:$BL$10,7,FALSE)","v":-46},{"$f":"T230-HLOOKUP(X230,Feuil1!$C$1:$BL$10,8,FALSE)","v":-66},{"$f":"T230-HLOOKUP(X230,Feuil1!$C$1:$BL$10,9,FALSE)","v":-86},{"$f":"T230-HLOOKUP(X230,Feuil1!$C$1:$BL$10,10,FALSE)","v":-106},null,null,null,null,null,null,"DEP +"]
["F","SEST","CAZ",55,380058,"GUEGAN","Elodie",1988,62.5,"HC HYERES","F",-40,40,43,43,50,52,-56,52,95,-30,"REG +",0,{"$f":"IF(I231=\"\",\"\",IF(A231=\"H\",IF(OR(H231=\"SEN\",H231<1995),VLOOKUP(I231,Feuil1!$A$11:$F$29,6),IF(AND(H231>1994,H231<1998),VLOOKUP(I231,Feuil1!$A$11:$F$29,5),IF(AND(H231>1997,H231<2000),VLOOKUP(I231,Feuil1!$A$11:$F$29,4),IF(AND(H231>1999,H231<2002),VLOOKUP(I231,Feuil1!$A$11:$F$29,3),VLOOKUP(I231,Feuil1!$A$11:$F$29,2))))),IF(OR(H231=\"SEN\",H231<1995),VLOOKUP(I231,Feuil1!$G$11:$L$25,6),IF(AND(H231>1994,H231<1998),VLOOKUP(I231,Feuil1!$G$11:$L$25,5),IF(AND(H231>1997,H231<2000),VLOOKUP(I231,Feuil1!$G$11:$L$25,4),IF(AND(H231>1999,H231<2002),VLOOKUP(I231,Feuil1!$G$11:$L$25,3),VLOOKUP(I231,Feuil1!$G$11:$L$25,2)))))))","v":"FS63"},126.92185615139626,null," ",{"$f":"T231-HLOOKUP(X231,Feuil1!$C$1:$BL$10,2,FALSE)","v":20},{"$f":"T231-HLOOKUP(X231,Feuil1!$C$1:$BL$10,3,FALSE)","v":10},{"$f":"T231-HLOOKUP(X231,Feuil1!$C$1:$BL$10,4,FALSE)","v":0},{"$f":"T231-HLOOKUP(X231,Feuil1!$C$1:$BL$10,5,FALSE)","v":-15},{"$f":"T231-HLOOKUP(X231,Feuil1!$C$1:$BL$10,6,FALSE)","v":-30},{"$f":"T231-HLOOKUP(X231,Feuil1!$C$1:$BL$10,7,FALSE)","v":-45},{"$f":"T231-HLOOKUP(X231,Feuil1!$C$1:$BL$10,8,FALSE)","v":-65},{"$f":"T231-HLOOKUP(X231,Feuil1!$C$1:$BL$10,9,FALSE)","v":-85},{"$f":"T231-HLOOKUP(X231,Feuil1!$C$1:$BL$10,10,FALSE)","v":-105},null,null,null,null,null,null,"REG +"]
["F","SEST","AUV",56,296358,"VEDEL","Charlotte",1994,58.8,"O.S.C.S ST ETIENNE","F",35,-38,40,40,45,48,51,51,91,-26.599999999999994,"DEP +",6,{"$f":"IF(I232=\"\",\"\",IF(A232=\"H\",IF(OR(H232=\"SEN\",H232<1995),VLOOKUP(I232,Feuil1!$A$11:$F$29,6),IF(AND(H232>1994,H232<1998),VLOOKUP(I232,Feuil1!$A$11:$F$29,5),IF(AND(H232>1997,H232<2000),VLOOKUP(I232,Feuil1!$A$11:$F$29,4),IF(AND(H232>1999,H232<2002),VLOOKUP(I232,Feuil1!$A$11:$F$29,3),VLOOKUP(I232,Feuil1!$A$11:$F$29,2))))),IF(OR(H232=\"SEN\",H232<1995),VLOOKUP(I232,Feuil1!$G$11:$L$25,6),IF(AND(H232>1994,H232<1998),VLOOKUP(I232,Feuil1!$G$11:$L$25,5),IF(AND(H232>1997,H232<2000),VLOOKUP(I232,Feuil1!$G$11:$L$25,4),IF(AND(H232>1999,H232<2002),VLOOKUP(I232,Feuil1!$G$11:$L$25,3),VLOOKUP(I232,Feuil1!$G$11:$L$25,2)))))))","v":"FS63"},126.85089082042519,null," ",{"$f":"T232-HLOOKUP(X232,Feuil1!$C$1:$BL$10,2,FALSE)","v":16},{"$f":"T232-HLOOKUP(X232,Feuil1!$C$1:$BL$10,3,FALSE)","v":6},{"$f":"T232-HLOOKUP(X232,Feuil1!$C$1:$BL$10,4,FALSE)","v":-4},{"$f":"T232-HLOOKUP(X232,Feuil1!$C$1:$BL$10,5,FALSE)","v":-19},{"$f":"T232-HLOOKUP(X232,Feuil1!$C$1:$BL$10,6,FALSE)","v":-34},{"$f":"T232-HLOOKUP(X232,Feuil1!$C$1:$BL$10,7,FALSE)","v":-49},{"$f":"T232-HLOOKUP(X232,Feuil1!$C$1:$BL$10,8,FALSE)","v":-69},{"$f":"T232-HLOOKUP(X232,Feuil1!$C$1:$BL$10,9,FALSE)","v":-89},{"$f":"T232-HLOOKUP(X232,Feuil1!$C$1:$BL$10,10,FALSE)","v":-109},null,null,null,null,null,null,"DEP +"]
["F","CO","CEN",57,342483,"ROBIN","Marion",1993,58.4,"CM Orléans","F",35,37,39,39,47,50,-52,50,89,-27.799999999999997,"DEP +",4,{"$f":"IF(I233=\"\",\"\",IF(A233=\"H\",IF(OR(H233=\"SEN\",H233<1995),VLOOKUP(I233,Feuil1!$A$11:$F$29,6),IF(AND(H233>1994,H233<1998),VLOOKUP(I233,Feuil1!$A$11:$F$29,5),IF(AND(H233>1997,H233<2000),VLOOKUP(I233,Feuil1!$A$11:$F$29,4),IF(AND(H233>1999,H233<2002),VLOOKUP(I233,Feuil1!$A$11:$F$29,3),VLOOKUP(I233,Feuil1!$A$11:$F$29,2))))),IF(OR(H233=\"SEN\",H233<1995),VLOOKUP(I233,Feuil1!$G$11:$L$25,6),IF(AND(H233>1994,H233<1998),VLOOKUP(I233,Feuil1!$G$11:$L$25,5),IF(AND(H233>1997,H233<2000),VLOOKUP(I233,Feuil1!$G$11:$L$25,4),IF(AND(H233>1999,H233<2002),VLOOKUP(I233,Feuil1!$G$11:$L$25,3),VLOOKUP(I233,Feuil1!$G$11:$L$25,2)))))))","v":"FS63"},124.67605736475804,null," ",{"$f":"T233-HLOOKUP(X233,Feuil1!$C$1:$BL$10,2,FALSE)","v":14},{"$f":"T233-HLOOKUP(X233,Feuil1!$C$1:$BL$10,3,FALSE)","v":4},{"$f":"T233-HLOOKUP(X233,Feuil1!$C$1:$BL$10,4,FALSE)","v":-6},{"$f":"T233-HLOOKUP(X233,Feuil1!$C$1:$BL$10,5,FALSE)","v":-21},{"$f":"T233-HLOOKUP(X233,Feuil1!$C$1:$BL$10,6,FALSE)","v":-36},{"$f":"T233-HLOOKUP(X233,Feuil1!$C$1:$BL$10,7,FALSE)","v":-51},{"$f":"T233-HLOOKUP(X233,Feuil1!$C$1:$BL$10,8,FALSE)","v":-71},{"$f":"T233-HLOOKUP(X233,Feuil1!$C$1:$BL$10,9,FALSE)","v":-91},{"$f":"T233-HLOOKUP(X233,Feuil1!$C$1:$BL$10,10,FALSE)","v":-111},null,null,null,null,null,null,"DEP +"]
["F","N","IDF",58,306177,"SOLOME","OPHELIE",1981,62,"MANTES","F",30,32,-35,32,50,-55,-57,50,82,-42,"DEB ",7,{"$f":"IF(I234=\"\",\"\",IF(A234=\"H\",IF(OR(H234=\"SEN\",H234<1995),VLOOKUP(I234,Feuil1!$A$11:$F$29,6),IF(AND(H234>1994,H234<1998),VLOOKUP(I234,Feuil1!$A$11:$F$29,5),IF(AND(H234>1997,H234<2000),VLOOKUP(I234,Feuil1!$A$11:$F$29,4),IF(AND(H234>1999,H234<2002),VLOOKUP(I234,Feuil1!$A$11:$F$29,3),VLOOKUP(I234,Feuil1!$A$11:$F$29,2))))),IF(OR(H234=\"SEN\",H234<1995),VLOOKUP(I234,Feuil1!$G$11:$L$25,6),IF(AND(H234>1994,H234<1998),VLOOKUP(I234,Feuil1!$G$11:$L$25,5),IF(AND(H234>1997,H234<2000),VLOOKUP(I234,Feuil1!$G$11:$L$25,4),IF(AND(H234>1999,H234<2002),VLOOKUP(I234,Feuil1!$G$11:$L$25,3),VLOOKUP(I234,Feuil1!$G$11:$L$25,2)))))))","v":"FS63"},110.14927472200468,null," ",{"$f":"T234-HLOOKUP(X234,Feuil1!$C$1:$BL$10,2,FALSE)","v":7},{"$f":"T234-HLOOKUP(X234,Feuil1!$C$1:$BL$10,3,FALSE)","v":-3},{"$f":"T234-HLOOKUP(X234,Feuil1!$C$1:$BL$10,4,FALSE)","v":-13},{"$f":"T234-HLOOKUP(X234,Feuil1!$C$1:$BL$10,5,FALSE)","v":-28},{"$f":"T234-HLOOKUP(X234,Feuil1!$C$1:$BL$10,6,FALSE)","v":-43},{"$f":"T234-HLOOKUP(X234,Feuil1!$C$1:$BL$10,7,FALSE)","v":-58},{"$f":"T234-HLOOKUP(X234,Feuil1!$C$1:$BL$10,8,FALSE)","v":-78},{"$f":"T234-HLOOKUP(X234,Feuil1!$C$1:$BL$10,9,FALSE)","v":-98},{"$f":"T234-HLOOKUP(X234,Feuil1!$C$1:$BL$10,10,FALSE)","v":-118},null,null,null,null,null,null,"DEB "]
["F","N","IDF",59,366091,"PIHOUE","SANDRA",1981,62.3,"MELUN","F",35,-40,-40,35,-50,50,-55,50,85,-39.599999999999994,"DEP +",0,{"$f":"IF(I235=\"\",\"\",IF(A235=\"H\",IF(OR(H235=\"SEN\",H235<1995),VLOOKUP(I235,Feuil1!$A$11:$F$29,6),IF(AND(H235>1994,H235<1998),VLOOKUP(I235,Feuil1!$A$11:$F$29,5),IF(AND(H235>1997,H235<2000),VLOOKUP(I235,Feuil1!$A$11:$F$29,4),IF(AND(H235>1999,H235<2002),VLOOKUP(I235,Feuil1!$A$11:$F$29,3),VLOOKUP(I235,Feuil1!$A$11:$F$29,2))))),IF(OR(H235=\"SEN\",H235<1995),VLOOKUP(I235,Feuil1!$G$11:$L$25,6),IF(AND(H235>1994,H235<1998),VLOOKUP(I235,Feuil1!$G$11:$L$25,5),IF(AND(H235>1997,H235<2000),VLOOKUP(I235,Feuil1!$G$11:$L$25,4),IF(AND(H235>1999,H235<2002),VLOOKUP(I235,Feuil1!$G$11:$L$25,3),VLOOKUP(I235,Feuil1!$G$11:$L$25,2)))))))","v":"FS63"},113.80696461421714,null," ",{"$f":"T235-HLOOKUP(X235,Feuil1!$C$1:$BL$10,2,FALSE)","v":10},{"$f":"T235-HLOOKUP(X235,Feuil1!$C$1:$BL$10,3,FALSE)","v":0},{"$f":"T235-HLOOKUP(X235,Feuil1!$C$1:$BL$10,4,FALSE)","v":-10},{"$f":"T235-HLOOKUP(X235,Feuil1!$C$1:$BL$10,5,FALSE)","v":-25},{"$f":"T235-HLOOKUP(X235,Feuil1!$C$1:$BL$10,6,FALSE)","v":-40},{"$f":"T235-HLOOKUP(X235,Feuil1!$C$1:$BL$10,7,FALSE)","v":-55},{"$f":"T235-HLOOKUP(X235,Feuil1!$C$1:$BL$10,8,FALSE)","v":-75},{"$f":"T235-HLOOKUP(X235,Feuil1!$C$1:$BL$10,9,FALSE)","v":-95},{"$f":"T235-HLOOKUP(X235,Feuil1!$C$1:$BL$10,10,FALSE)","v":-115},null,null,null,null,null,null,"DEP +"]
["F","SO","AQU",60,396061,"FERRIER","ANAELLE",1989,63,"LE BOUSCAT","F",37,40,43,43,50,-55,-55,50,93,-33,"DEP +",8,{"$f":"IF(I236=\"\",\"\",IF(A236=\"H\",IF(OR(H236=\"SEN\",H236<1995),VLOOKUP(I236,Feuil1!$A$11:$F$29,6),IF(AND(H236>1994,H236<1998),VLOOKUP(I236,Feuil1!$A$11:$F$29,5),IF(AND(H236>1997,H236<2000),VLOOKUP(I236,Feuil1!$A$11:$F$29,4),IF(AND(H236>1999,H236<2002),VLOOKUP(I236,Feuil1!$A$11:$F$29,3),VLOOKUP(I236,Feuil1!$A$11:$F$29,2))))),IF(OR(H236=\"SEN\",H236<1995),VLOOKUP(I236,Feuil1!$G$11:$L$25,6),IF(AND(H236>1994,H236<1998),VLOOKUP(I236,Feuil1!$G$11:$L$25,5),IF(AND(H236>1997,H236<2000),VLOOKUP(I236,Feuil1!$G$11:$L$25,4),IF(AND(H236>1999,H236<2002),VLOOKUP(I236,Feuil1!$G$11:$L$25,3),VLOOKUP(I236,Feuil1!$G$11:$L$25,2)))))))","v":"FS63"},123.58937021600194,null," ",{"$f":"T236-HLOOKUP(X236,Feuil1!$C$1:$BL$10,2,FALSE)","v":18},{"$f":"T236-HLOOKUP(X236,Feuil1!$C$1:$BL$10,3,FALSE)","v":8},{"$f":"T236-HLOOKUP(X236,Feuil1!$C$1:$BL$10,4,FALSE)","v":-2},{"$f":"T236-HLOOKUP(X236,Feuil1!$C$1:$BL$10,5,FALSE)","v":-17},{"$f":"T236-HLOOKUP(X236,Feuil1!$C$1:$BL$10,6,FALSE)","v":-32},{"$f":"T236-HLOOKUP(X236,Feuil1!$C$1:$BL$10,7,FALSE)","v":-47},{"$f":"T236-HLOOKUP(X236,Feuil1!$C$1:$BL$10,8,FALSE)","v":-67},{"$f":"T236-HLOOKUP(X236,Feuil1!$C$1:$BL$10,9,FALSE)","v":-87},{"$f":"T236-HLOOKUP(X236,Feuil1!$C$1:$BL$10,10,FALSE)","v":-107},null,null,null,null,null,null,"DEP +"]
["F","SEST","CAZ",61,186993,"JOLY","Claire",1990,62.75,"ASLDD TOULON","F",36,39,-41,39,46,49,-51,49,88,-37.5,"DEP +",3,{"$f":"IF(I237=\"\",\"\",IF(A237=\"H\",IF(OR(H237=\"SEN\",H237<1995),VLOOKUP(I237,Feuil1!$A$11:$F$29,6),IF(AND(H237>1994,H237<1998),VLOOKUP(I237,Feuil1!$A$11:$F$29,5),IF(AND(H237>1997,H237<2000),VLOOKUP(I237,Feuil1!$A$11:$F$29,4),IF(AND(H237>1999,H237<2002),VLOOKUP(I237,Feuil1!$A$11:$F$29,3),VLOOKUP(I237,Feuil1!$A$11:$F$29,2))))),IF(OR(H237=\"SEN\",H237<1995),VLOOKUP(I237,Feuil1!$G$11:$L$25,6),IF(AND(H237>1994,H237<1998),VLOOKUP(I237,Feuil1!$G$11:$L$25,5),IF(AND(H237>1997,H237<2000),VLOOKUP(I237,Feuil1!$G$11:$L$25,4),IF(AND(H237>1999,H237<2002),VLOOKUP(I237,Feuil1!$G$11:$L$25,3),VLOOKUP(I237,Feuil1!$G$11:$L$25,2)))))))","v":"FS63"},117.25548585559284,null," ",{"$f":"T237-HLOOKUP(X237,Feuil1!$C$1:$BL$10,2,FALSE)","v":13},{"$f":"T237-HLOOKUP(X237,Feuil1!$C$1:$BL$10,3,FALSE)","v":3},{"$f":"T237-HLOOKUP(X237,Feuil1!$C$1:$BL$10,4,FALSE)","v":-7},{"$f":"T237-HLOOKUP(X237,Feuil1!$C$1:$BL$10,5,FALSE)","v":-22},{"$f":"T237-HLOOKUP(X237,Feuil1!$C$1:$BL$10,6,FALSE)","v":-37},{"$f":"T237-HLOOKUP(X237,Feuil1!$C$1:$BL$10,7,FALSE)","v":-52},{"$f":"T237-HLOOKUP(X237,Feuil1!$C$1:$BL$10,8,FALSE)","v":-72},{"$f":"T237-HLOOKUP(X237,Feuil1!$C$1:$BL$10,9,FALSE)","v":-92},{"$f":"T237-HLOOKUP(X237,Feuil1!$C$1:$BL$10,10,FALSE)","v":-112},null,null,null,null,null,null,"DEP +"]
["F","SEST","CAZ",62,377264,"JOINEAU","Jessica",1988,60.96,"AS MONACO","F",35,37,-40,37,40,45,47,47,84,-37.92,"DEB ",9,{"$f":"IF(I238=\"\",\"\",IF(A238=\"H\",IF(OR(H238=\"SEN\",H238<1995),VLOOKUP(I238,Feuil1!$A$11:$F$29,6),IF(AND(H238>1994,H238<1998),VLOOKUP(I238,Feuil1!$A$11:$F$29,5),IF(AND(H238>1997,H238<2000),VLOOKUP(I238,Feuil1!$A$11:$F$29,4),IF(AND(H238>1999,H238<2002),VLOOKUP(I238,Feuil1!$A$11:$F$29,3),VLOOKUP(I238,Feuil1!$A$11:$F$29,2))))),IF(OR(H238=\"SEN\",H238<1995),VLOOKUP(I238,Feuil1!$G$11:$L$25,6),IF(AND(H238>1994,H238<1998),VLOOKUP(I238,Feuil1!$G$11:$L$25,5),IF(AND(H238>1997,H238<2000),VLOOKUP(I238,Feuil1!$G$11:$L$25,4),IF(AND(H238>1999,H238<2002),VLOOKUP(I238,Feuil1!$G$11:$L$25,3),VLOOKUP(I238,Feuil1!$G$11:$L$25,2)))))))","v":"FS63"},114.15062629573134,null," ",{"$f":"T238-HLOOKUP(X238,Feuil1!$C$1:$BL$10,2,FALSE)","v":9},{"$f":"T238-HLOOKUP(X238,Feuil1!$C$1:$BL$10,3,FALSE)","v":-1},{"$f":"T238-HLOOKUP(X238,Feuil1!$C$1:$BL$10,4,FALSE)","v":-11},{"$f":"T238-HLOOKUP(X238,Feuil1!$C$1:$BL$10,5,FALSE)","v":-26},{"$f":"T238-HLOOKUP(X238,Feuil1!$C$1:$BL$10,6,FALSE)","v":-41},{"$f":"T238-HLOOKUP(X238,Feuil1!$C$1:$BL$10,7,FALSE)","v":-56},{"$f":"T238-HLOOKUP(X238,Feuil1!$C$1:$BL$10,8,FALSE)","v":-76},{"$f":"T238-HLOOKUP(X238,Feuil1!$C$1:$BL$10,9,FALSE)","v":-96},{"$f":"T238-HLOOKUP(X238,Feuil1!$C$1:$BL$10,10,FALSE)","v":-116},null,null,null,null,null,null,"DEB "]
["F","SO","AQU",63,394437,"COQUELLE","MARINE",1993,62.7,"BORDEAUX ASPOM","F",30,33,36,36,40,44,47,47,83,-42.400000000000006,"DEB ",8,{"$f":"IF(I239=\"\",\"\",IF(A239=\"H\",IF(OR(H239=\"SEN\",H239<1995),VLOOKUP(I239,Feuil1!$A$11:$F$29,6),IF(AND(H239>1994,H239<1998),VLOOKUP(I239,Feuil1!$A$11:$F$29,5),IF(AND(H239>1997,H239<2000),VLOOKUP(I239,Feuil1!$A$11:$F$29,4),IF(AND(H239>1999,H239<2002),VLOOKUP(I239,Feuil1!$A$11:$F$29,3),VLOOKUP(I239,Feuil1!$A$11:$F$29,2))))),IF(OR(H239=\"SEN\",H239<1995),VLOOKUP(I239,Feuil1!$G$11:$L$25,6),IF(AND(H239>1994,H239<1998),VLOOKUP(I239,Feuil1!$G$11:$L$25,5),IF(AND(H239>1997,H239<2000),VLOOKUP(I239,Feuil1!$G$11:$L$25,4),IF(AND(H239>1999,H239<2002),VLOOKUP(I239,Feuil1!$G$11:$L$25,3),VLOOKUP(I239,Feuil1!$G$11:$L$25,2)))))))","v":"FS63"},110.65225045896766,null," ",{"$f":"T239-HLOOKUP(X239,Feuil1!$C$1:$BL$10,2,FALSE)","v":8},{"$f":"T239-HLOOKUP(X239,Feuil1!$C$1:$BL$10,3,FALSE)","v":-2},{"$f":"T239-HLOOKUP(X239,Feuil1!$C$1:$BL$10,4,FALSE)","v":-12},{"$f":"T239-HLOOKUP(X239,Feuil1!$C$1:$BL$10,5,FALSE)","v":-27},{"$f":"T239-HLOOKUP(X239,Feuil1!$C$1:$BL$10,6,FALSE)","v":-42},{"$f":"T239-HLOOKUP(X239,Feuil1!$C$1:$BL$10,7,FALSE)","v":-57},{"$f":"T239-HLOOKUP(X239,Feuil1!$C$1:$BL$10,8,FALSE)","v":-77},{"$f":"T239-HLOOKUP(X239,Feuil1!$C$1:$BL$10,9,FALSE)","v":-97},{"$f":"T239-HLOOKUP(X239,Feuil1!$C$1:$BL$10,10,FALSE)","v":-117},null,null,null,null,null,null,"DEB "]
["F","SEST","RAL",64,383893,"LAKHDE","Najatte",1969,61.2,"CH Arbresle","F",30,-32,32,32,40,43,46,46,78,-44.400000000000006,"DEB ",3,{"$f":"IF(I240=\"\",\"\",IF(A240=\"H\",IF(OR(H240=\"SEN\",H240<1995),VLOOKUP(I240,Feuil1!$A$11:$F$29,6),IF(AND(H240>1994,H240<1998),VLOOKUP(I240,Feuil1!$A$11:$F$29,5),IF(AND(H240>1997,H240<2000),VLOOKUP(I240,Feuil1!$A$11:$F$29,4),IF(AND(H240>1999,H240<2002),VLOOKUP(I240,Feuil1!$A$11:$F$29,3),VLOOKUP(I240,Feuil1!$A$11:$F$29,2))))),IF(OR(H240=\"SEN\",H240<1995),VLOOKUP(I240,Feuil1!$G$11:$L$25,6),IF(AND(H240>1994,H240<1998),VLOOKUP(I240,Feuil1!$G$11:$L$25,5),IF(AND(H240>1997,H240<2000),VLOOKUP(I240,Feuil1!$G$11:$L$25,4),IF(AND(H240>1999,H240<2002),VLOOKUP(I240,Feuil1!$G$11:$L$25,3),VLOOKUP(I240,Feuil1!$G$11:$L$25,2)))))))","v":"FS63"},105.71006761251802,null," ",{"$f":"T240-HLOOKUP(X240,Feuil1!$C$1:$BL$10,2,FALSE)","v":3},{"$f":"T240-HLOOKUP(X240,Feuil1!$C$1:$BL$10,3,FALSE)","v":-7},{"$f":"T240-HLOOKUP(X240,Feuil1!$C$1:$BL$10,4,FALSE)","v":-17},{"$f":"T240-HLOOKUP(X240,Feuil1!$C$1:$BL$10,5,FALSE)","v":-32},{"$f":"T240-HLOOKUP(X240,Feuil1!$C$1:$BL$10,6,FALSE)","v":-47},{"$f":"T240-HLOOKUP(X240,Feuil1!$C$1:$BL$10,7,FALSE)","v":-62},{"$f":"T240-HLOOKUP(X240,Feuil1!$C$1:$BL$10,8,FALSE)","v":-82},{"$f":"T240-HLOOKUP(X240,Feuil1!$C$1:$BL$10,9,FALSE)","v":-102},{"$f":"T240-HLOOKUP(X240,Feuil1!$C$1:$BL$10,10,FALSE)","v":-122},null,null,null,null,null,null,"DEB "]
["F","NE","LOR",65,374441,"ANCEL","Alizé",1989,61.3,"E.S.LANEUVEVILLOISE","F",35,38,40,{"$f":"IF(H241=\"\",\"\",IF(MAXA(L241:N241)<=0,0,MAXA(L241:N241)))","v":40},43,46,-51,{"$f":"IF(H241=\"\",\"\",IF(MAXA(P241:R241)<=0,0,MAXA(P241:R241)))","v":46},{"$f":"IF(H241=\"\",\"\",IF(OR(O241=0,S241=0),0,O241+S241))","v":86},{"$f":"T241-I241*2","v":-36.599999999999994},{"$f":"IF(H241=\"\",\"\",AQ241)","v":"DEP +"},{"$f":"IF(AJ241>=0,AJ241,IF(AI241>=0,AI241,IF(AH241>=0,AH241,IF(AG241>=0,AG241,IF(AF241>=0,AF241,IF(AE241>=0,AE241,IF(AD241>=0,AD241,IF(AC241>=0,AC241,AB241))))))))","v":1},{"$f":"IF(I241=\"\",\"\",IF(A241=\"H\",IF(OR(H241=\"SEN\",H241<1995),VLOOKUP(I241,Feuil1!$A$11:$F$29,6),IF(AND(H241>1994,H241<1998),VLOOKUP(I241,Feuil1!$A$11:$F$29,5),IF(AND(H241>1997,H241<2000),VLOOKUP(I241,Feuil1!$A$11:$F$29,4),IF(AND(H241>1999,H241<2002),VLOOKUP(I241,Feuil1!$A$11:$F$29,3),VLOOKUP(I241,Feuil1!$A$11:$F$29,2))))),IF(OR(H241=\"SEN\",H241<1995),VLOOKUP(I241,Feuil1!$G$11:$L$25,6),IF(AND(H241>1994,H241<1998),VLOOKUP(I241,Feuil1!$G$11:$L$25,5),IF(AND(H241>1997,H241<2000),VLOOKUP(I241,Feuil1!$G$11:$L$25,4),IF(AND(H241>1999,H241<2002),VLOOKUP(I241,Feuil1!$G$11:$L$25,3),VLOOKUP(I241,Feuil1!$G$11:$L$25,2)))))))","v":"FS63"},{"$f":"IF(I241=\"\",\"\",IF(A241=\"H\",10^(0.794358141*LOG(I241/174.393)^2)*T241,IF(A241=\"F\",10^(0.89726074*LOG(I241/148.026)^2)*T241,\"\")))","v":116.42133391352468},null," ",{"$f":"T241-HLOOKUP(X241,Feuil1!$C$1:$BL$10,2,FALSE)","v":11},{"$f":"T241-HLOOKUP(X241,Feuil1!$C$1:$BL$10,3,FALSE)","v":1},{"$f":"T241-HLOOKUP(X241,Feuil1!$C$1:$BL$10,4,FALSE)","v":-9},{"$f":"T241-HLOOKUP(X241,Feuil1!$C$1:$BL$10,5,FALSE)","v":-24},{"$f":"T241-HLOOKUP(X241,Feuil1!$C$1:$BL$10,6,FALSE)","v":-39},{"$f":"T241-HLOOKUP(X241,Feuil1!$C$1:$BL$10,7,FALSE)","v":-54},{"$f":"T241-HLOOKUP(X241,Feuil1!$C$1:$BL$10,8,FALSE)","v":-74},{"$f":"T241-HLOOKUP(X241,Feuil1!$C$1:$BL$10,9,FALSE)","v":-94},{"$f":"T241-HLOOKUP(X241,Feuil1!$C$1:$BL$10,10,FALSE)","v":-114},null,null,null,null,null,null,{"$f":"IF(AJ241>=0,$AJ$4,IF(AI241>=0,$AI$4,IF(AH241>=0,$AH$4,IF(AG241>=0,$AG$4,IF(AF241>=0,$AF$4,IF(AE241>=0,$AE$4,IF(AD241>=0,$AD$4,IF(AC241>=0,$AC$4,$AB$4))))))))","v":"DEP +"}]
["F","SEST","PRO",66,378028,"DEBARROS","Nathalie",1973,58.1,"ISTRES SPORTS","F",-30,30,35,35,40,43,45,45,80,-36.200000000000003,"DEB ",5,{"$f":"IF(I242=\"\",\"\",IF(A242=\"H\",IF(OR(H242=\"SEN\",H242<1995),VLOOKUP(I242,Feuil1!$A$11:$F$29,6),IF(AND(H242>1994,H242<1998),VLOOKUP(I242,Feuil1!$A$11:$F$29,5),IF(AND(H242>1997,H242<2000),VLOOKUP(I242,Feuil1!$A$11:$F$29,4),IF(AND(H242>1999,H242<2002),VLOOKUP(I242,Feuil1!$A$11:$F$29,3),VLOOKUP(I242,Feuil1!$A$11:$F$29,2))))),IF(OR(H242=\"SEN\",H242<1995),VLOOKUP(I242,Feuil1!$G$11:$L$25,6),IF(AND(H242>1994,H242<1998),VLOOKUP(I242,Feuil1!$G$11:$L$25,5),IF(AND(H242>1997,H242<2000),VLOOKUP(I242,Feuil1!$G$11:$L$25,4),IF(AND(H242>1999,H242<2002),VLOOKUP(I242,Feuil1!$G$11:$L$25,3),VLOOKUP(I242,Feuil1!$G$11:$L$25,2)))))))","v":"FS63"},112.48867915895117,null," ",{"$f":"T242-HLOOKUP(X242,Feuil1!$C$1:$BL$10,2,FALSE)","v":5},{"$f":"T242-HLOOKUP(X242,Feuil1!$C$1:$BL$10,3,FALSE)","v":-5},{"$f":"T242-HLOOKUP(X242,Feuil1!$C$1:$BL$10,4,FALSE)","v":-15},{"$f":"T242-HLOOKUP(X242,Feuil1!$C$1:$BL$10,5,FALSE)","v":-30},{"$f":"T242-HLOOKUP(X242,Feuil1!$C$1:$BL$10,6,FALSE)","v":-45},{"$f":"T242-HLOOKUP(X242,Feuil1!$C$1:$BL$10,7,FALSE)","v":-60},{"$f":"T242-HLOOKUP(X242,Feuil1!$C$1:$BL$10,8,FALSE)","v":-80},{"$f":"T242-HLOOKUP(X242,Feuil1!$C$1:$BL$10,9,FALSE)","v":-100},{"$f":"T242-HLOOKUP(X242,Feuil1!$C$1:$BL$10,10,FALSE)","v":-120},null,null,null,null,null,null,"DEB "]
["F","SEST","RAL",67,391870,"BERTHAULT","Pauline",1990,58.6,"SAINT BALDOPH","F",30,34,-37,34,45,-50,-50,45,79,-38.200000000000003,"DEB ",4,{"$f":"IF(I243=\"\",\"\",IF(A243=\"H\",IF(OR(H243=\"SEN\",H243<1995),VLOOKUP(I243,Feuil1!$A$11:$F$29,6),IF(AND(H243>1994,H243<1998),VLOOKUP(I243,Feuil1!$A$11:$F$29,5),IF(AND(H243>1997,H243<2000),VLOOKUP(I243,Feuil1!$A$11:$F$29,4),IF(AND(H243>1999,H243<2002),VLOOKUP(I243,Feuil1!$A$11:$F$29,3),VLOOKUP(I243,Feuil1!$A$11:$F$29,2))))),IF(OR(H243=\"SEN\",H243<1995),VLOOKUP(I243,Feuil1!$G$11:$L$25,6),IF(AND(H243>1994,H243<1998),VLOOKUP(I243,Feuil1!$G$11:$L$25,5),IF(AND(H243>1997,H243<2000),VLOOKUP(I243,Feuil1!$G$11:$L$25,4),IF(AND(H243>1999,H243<2002),VLOOKUP(I243,Feuil1!$G$11:$L$25,3),VLOOKUP(I243,Feuil1!$G$11:$L$25,2)))))))","v":"FS63"},110.39410542691404,null," ",{"$f":"T243-HLOOKUP(X243,Feuil1!$C$1:$BL$10,2,FALSE)","v":4},{"$f":"T243-HLOOKUP(X243,Feuil1!$C$1:$BL$10,3,FALSE)","v":-6},{"$f":"T243-HLOOKUP(X243,Feuil1!$C$1:$BL$10,4,FALSE)","v":-16},{"$f":"T243-HLOOKUP(X243,Feuil1!$C$1:$BL$10,5,FALSE)","v":-31},{"$f":"T243-HLOOKUP(X243,Feuil1!$C$1:$BL$10,6,FALSE)","v":-46},{"$f":"T243-HLOOKUP(X243,Feuil1!$C$1:$BL$10,7,FALSE)","v":-61},{"$f":"T243-HLOOKUP(X243,Feuil1!$C$1:$BL$10,8,FALSE)","v":-81},{"$f":"T243-HLOOKUP(X243,Feuil1!$C$1:$BL$10,9,FALSE)","v":-101},{"$f":"T243-HLOOKUP(X243,Feuil1!$C$1:$BL$10,10,FALSE)","v":-121},null,null,null,null,null,null,"DEB "]
["F","SEST","PRO",68,387903,"ZERGAOUI","Sophie",1981,59.4,"ISTRES SPORTS","F",-35,35,38,38,40,45,-48,45,83,-35.799999999999997,"DEB ",8,{"$f":"IF(I244=\"\",\"\",IF(A244=\"H\",IF(OR(H244=\"SEN\",H244<1995),VLOOKUP(I244,Feuil1!$A$11:$F$29,6),IF(AND(H244>1994,H244<1998),VLOOKUP(I244,Feuil1!$A$11:$F$29,5),IF(AND(H244>1997,H244<2000),VLOOKUP(I244,Feuil1!$A$11:$F$29,4),IF(AND(H244>1999,H244<2002),VLOOKUP(I244,Feuil1!$A$11:$F$29,3),VLOOKUP(I244,Feuil1!$A$11:$F$29,2))))),IF(OR(H244=\"SEN\",H244<1995),VLOOKUP(I244,Feuil1!$G$11:$L$25,6),IF(AND(H244>1994,H244<1998),VLOOKUP(I244,Feuil1!$G$11:$L$25,5),IF(AND(H244>1997,H244<2000),VLOOKUP(I244,Feuil1!$G$11:$L$25,4),IF(AND(H244>1999,H244<2002),VLOOKUP(I244,Feuil1!$G$11:$L$25,3),VLOOKUP(I244,Feuil1!$G$11:$L$25,2)))))))","v":"FS63"},114.86167890632967,null," ",{"$f":"T244-HLOOKUP(X244,Feuil1!$C$1:$BL$10,2,FALSE)","v":8},{"$f":"T244-HLOOKUP(X244,Feuil1!$C$1:$BL$10,3,FALSE)","v":-2},{"$f":"T244-HLOOKUP(X244,Feuil1!$C$1:$BL$10,4,FALSE)","v":-12},{"$f":"T244-HLOOKUP(X244,Feuil1!$C$1:$BL$10,5,FALSE)","v":-27},{"$f":"T244-HLOOKUP(X244,Feuil1!$C$1:$BL$10,6,FALSE)","v":-42},{"$f":"T244-HLOOKUP(X244,Feuil1!$C$1:$BL$10,7,FALSE)","v":-57},{"$f":"T244-HLOOKUP(X244,Feuil1!$C$1:$BL$10,8,FALSE)","v":-77},{"$f":"T244-HLOOKUP(X244,Feuil1!$C$1:$BL$10,9,FALSE)","v":-97},{"$f":"T244-HLOOKUP(X244,Feuil1!$C$1:$BL$10,10,FALSE)","v":-117},null,null,null,null,null,null,"DEB "]
["F","ZCO","BRE",69,326389,"PALMER","Soline",1977,61.1,"Vannes AC","F",32,35,37,37,42,43,45,45,82,-40.200000000000003,"DEB ",7,{"$f":"IF(I245=\"\",\"\",IF(A245=\"H\",IF(OR(H245=\"SEN\",H245<1995),VLOOKUP(I245,Feuil1!$A$11:$F$29,6),IF(AND(H245>1994,H245<1998),VLOOKUP(I245,Feuil1!$A$11:$F$29,5),IF(AND(H245>1997,H245<2000),VLOOKUP(I245,Feuil1!$A$11:$F$29,4),IF(AND(H245>1999,H245<2002),VLOOKUP(I245,Feuil1!$A$11:$F$29,3),VLOOKUP(I245,Feuil1!$A$11:$F$29,2))))),IF(OR(H245=\"SEN\",H245<1995),VLOOKUP(I245,Feuil1!$G$11:$L$25,6),IF(AND(H245>1994,H245<1998),VLOOKUP(I245,Feuil1!$G$11:$L$25,5),IF(AND(H245>1997,H245<2000),VLOOKUP(I245,Feuil1!$G$11:$L$25,4),IF(AND(H245>1999,H245<2002),VLOOKUP(I245,Feuil1!$G$11:$L$25,3),VLOOKUP(I245,Feuil1!$G$11:$L$25,2)))))))","v":"FS63"},111.25638136799182,null," ",{"$f":"T245-HLOOKUP(X245,Feuil1!$C$1:$BL$10,2,FALSE)","v":7},{"$f":"T245-HLOOKUP(X245,Feuil1!$C$1:$BL$10,3,FALSE)","v":-3},{"$f":"T245-HLOOKUP(X245,Feuil1!$C$1:$BL$10,4,FALSE)","v":-13},{"$f":"T245-HLOOKUP(X245,Feuil1!$C$1:$BL$10,5,FALSE)","v":-28},{"$f":"T245-HLOOKUP(X245,Feuil1!$C$1:$BL$10,6,FALSE)","v":-43},{"$f":"T245-HLOOKUP(X245,Feuil1!$C$1:$BL$10,7,FALSE)","v":-58},{"$f":"T245-HLOOKUP(X245,Feuil1!$C$1:$BL$10,8,FALSE)","v":-78},{"$f":"T245-HLOOKUP(X245,Feuil1!$C$1:$BL$10,9,FALSE)","v":-98},{"$f":"T245-HLOOKUP(X245,Feuil1!$C$1:$BL$10,10,FALSE)","v":-118},null,null,null,null,null,null,"DEB "]
["F","SEST","CAZ",70,376179,"ICARDI","Vanessa",1978,62,"HC HYERES","F",30,33,-36,33,-40,40,45,45,78,-46,"DEB ",3,{"$f":"IF(I246=\"\",\"\",IF(A246=\"H\",IF(OR(H246=\"SEN\",H246<1995),VLOOKUP(I246,Feuil1!$A$11:$F$29,6),IF(AND(H246>1994,H246<1998),VLOOKUP(I246,Feuil1!$A$11:$F$29,5),IF(AND(H246>1997,H246<2000),VLOOKUP(I246,Feuil1!$A$11:$F$29,4),IF(AND(H246>1999,H246<2002),VLOOKUP(I246,Feuil1!$A$11:$F$29,3),VLOOKUP(I246,Feuil1!$A$11:$F$29,2))))),IF(OR(H246=\"SEN\",H246<1995),VLOOKUP(I246,Feuil1!$G$11:$L$25,6),IF(AND(H246>1994,H246<1998),VLOOKUP(I246,Feuil1!$G$11:$L$25,5),IF(AND(H246>1997,H246<2000),VLOOKUP(I246,Feuil1!$G$11:$L$25,4),IF(AND(H246>1999,H246<2002),VLOOKUP(I246,Feuil1!$G$11:$L$25,3),VLOOKUP(I246,Feuil1!$G$11:$L$25,2)))))))","v":"FS63"},104.77613936971176,null," ",{"$f":"T246-HLOOKUP(X246,Feuil1!$C$1:$BL$10,2,FALSE)","v":3},{"$f":"T246-HLOOKUP(X246,Feuil1!$C$1:$BL$10,3,FALSE)","v":-7},{"$f":"T246-HLOOKUP(X246,Feuil1!$C$1:$BL$10,4,FALSE)","v":-17},{"$f":"T246-HLOOKUP(X246,Feuil1!$C$1:$BL$10,5,FALSE)","v":-32},{"$f":"T246-HLOOKUP(X246,Feuil1!$C$1:$BL$10,6,FALSE)","v":-47},{"$f":"T246-HLOOKUP(X246,Feuil1!$C$1:$BL$10,7,FALSE)","v":-62},{"$f":"T246-HLOOKUP(X246,Feuil1!$C$1:$BL$10,8,FALSE)","v":-82},{"$f":"T246-HLOOKUP(X246,Feuil1!$C$1:$BL$10,9,FALSE)","v":-102},{"$f":"T246-HLOOKUP(X246,Feuil1!$C$1:$BL$10,10,FALSE)","v":-122},null,null,null,null,null,null,"DEB "]
["F","CO","BNO",71,383854,"Legardinier","Estelle",1992,62.7,"Stade St Lois","F",-37,37,40,40,45,-50,-50,45,85,-40.400000000000006,"DEP +",0,{"$f":"IF(I247=\"\",\"\",IF(A247=\"H\",IF(OR(H247=\"SEN\",H247<1995),VLOOKUP(I247,Feuil1!$A$11:$F$29,6),IF(AND(H247>1994,H247<1998),VLOOKUP(I247,Feuil1!$A$11:$F$29,5),IF(AND(H247>1997,H247<2000),VLOOKUP(I247,Feuil1!$A$11:$F$29,4),IF(AND(H247>1999,H247<2002),VLOOKUP(I247,Feuil1!$A$11:$F$29,3),VLOOKUP(I247,Feuil1!$A$11:$F$29,2))))),IF(OR(H247=\"SEN\",H247<1995),VLOOKUP(I247,Feuil1!$G$11:$L$25,6),IF(AND(H247>1994,H247<1998),VLOOKUP(I247,Feuil1!$G$11:$L$25,5),IF(AND(H247>1997,H247<2000),VLOOKUP(I247,Feuil1!$G$11:$L$25,4),IF(AND(H247>1999,H247<2002),VLOOKUP(I247,Feuil1!$G$11:$L$25,3),VLOOKUP(I247,Feuil1!$G$11:$L$25,2)))))))","v":"FS63"},113.31856974713556,null," ",{"$f":"T247-HLOOKUP(X247,Feuil1!$C$1:$BL$10,2,FALSE)","v":10},{"$f":"T247-HLOOKUP(X247,Feuil1!$C$1:$BL$10,3,FALSE)","v":0},{"$f":"T247-HLOOKUP(X247,Feuil1!$C$1:$BL$10,4,FALSE)","v":-10},{"$f":"T247-HLOOKUP(X247,Feuil1!$C$1:$BL$10,5,FALSE)","v":-25},{"$f":"T247-HLOOKUP(X247,Feuil1!$C$1:$BL$10,6,FALSE)","v":-40},{"$f":"T247-HLOOKUP(X247,Feuil1!$C$1:$BL$10,7,FALSE)","v":-55},{"$f":"T247-HLOOKUP(X247,Feuil1!$C$1:$BL$10,8,FALSE)","v":-75},{"$f":"T247-HLOOKUP(X247,Feuil1!$C$1:$BL$10,9,FALSE)","v":-95},{"$f":"T247-HLOOKUP(X247,Feuil1!$C$1:$BL$10,10,FALSE)","v":-115},null,null,null,null,null,null,"DEP +"]
["F","SO","MPY",72,354787,"NEBOT-MOLNAR","Séverine",1979,59.5,"MONTAUBAN HC","F",29,32,-34,32,37,41,44,44,76,-43,"DEB ",1,{"$f":"IF(I248=\"\",\"\",IF(A248=\"H\",IF(OR(H248=\"SEN\",H248<1995),VLOOKUP(I248,Feuil1!$A$11:$F$29,6),IF(AND(H248>1994,H248<1998),VLOOKUP(I248,Feuil1!$A$11:$F$29,5),IF(AND(H248>1997,H248<2000),VLOOKUP(I248,Feuil1!$A$11:$F$29,4),IF(AND(H248>1999,H248<2002),VLOOKUP(I248,Feuil1!$A$11:$F$29,3),VLOOKUP(I248,Feuil1!$A$11:$F$29,2))))),IF(OR(H248=\"SEN\",H248<1995),VLOOKUP(I248,Feuil1!$G$11:$L$25,6),IF(AND(H248>1994,H248<1998),VLOOKUP(I248,Feuil1!$G$11:$L$25,5),IF(AND(H248>1997,H248<2000),VLOOKUP(I248,Feuil1!$G$11:$L$25,4),IF(AND(H248>1999,H248<2002),VLOOKUP(I248,Feuil1!$G$11:$L$25,3),VLOOKUP(I248,Feuil1!$G$11:$L$25,2)))))))","v":"FS63"},105.04884586440332,null," ",{"$f":"T248-HLOOKUP(X248,Feuil1!$C$1:$BL$10,2,FALSE)","v":1},{"$f":"T248-HLOOKUP(X248,Feuil1!$C$1:$BL$10,3,FALSE)","v":-9},{"$f":"T248-HLOOKUP(X248,Feuil1!$C$1:$BL$10,4,FALSE)","v":-19},{"$f":"T248-HLOOKUP(X248,Feuil1!$C$1:$BL$10,5,FALSE)","v":-34},{"$f":"T248-HLOOKUP(X248,Feuil1!$C$1:$BL$10,6,FALSE)","v":-49},{"$f":"T248-HLOOKUP(X248,Feuil1!$C$1:$BL$10,7,FALSE)","v":-64},{"$f":"T248-HLOOKUP(X248,Feuil1!$C$1:$BL$10,8,FALSE)","v":-84},{"$f":"T248-HLOOKUP(X248,Feuil1!$C$1:$BL$10,9,FALSE)","v":-104},{"$f":"T248-HLOOKUP(X248,Feuil1!$C$1:$BL$10,10,FALSE)","v":-124},null,null,null,null,null,null,"DEB "]
["F","N","IDF",73,180788,"RAMON","FLORENCE",1967,60.6,"FRANCONVILLE","F",30,33,-35,33,40,44,-46,44,77,-44.2,"DEB ",2,{"$f":"IF(I249=\"\",\"\",IF(A249=\"H\",IF(OR(H249=\"SEN\",H249<1995),VLOOKUP(I249,Feuil1!$A$11:$F$29,6),IF(AND(H249>1994,H249<1998),VLOOKUP(I249,Feuil1!$A$11:$F$29,5),IF(AND(H249>1997,H249<2000),VLOOKUP(I249,Feuil1!$A$11:$F$29,4),IF(AND(H249>1999,H249<2002),VLOOKUP(I249,Feuil1!$A$11:$F$29,3),VLOOKUP(I249,Feuil1!$A$11:$F$29,2))))),IF(OR(H249=\"SEN\",H249<1995),VLOOKUP(I249,Feuil1!$G$11:$L$25,6),IF(AND(H249>1994,H249<1998),VLOOKUP(I249,Feuil1!$G$11:$L$25,5),IF(AND(H249>1997,H249<2000),VLOOKUP(I249,Feuil1!$G$11:$L$25,4),IF(AND(H249>1999,H249<2002),VLOOKUP(I249,Feuil1!$G$11:$L$25,3),VLOOKUP(I249,Feuil1!$G$11:$L$25,2)))))))","v":"FS63"},105.06891063687181,null," ",{"$f":"T249-HLOOKUP(X249,Feuil1!$C$1:$BL$10,2,FALSE)","v":2},{"$f":"T249-HLOOKUP(X249,Feuil1!$C$1:$BL$10,3,FALSE)","v":-8},{"$f":"T249-HLOOKUP(X249,Feuil1!$C$1:$BL$10,4,FALSE)","v":-18},{"$f":"T249-HLOOKUP(X249,Feuil1!$C$1:$BL$10,5,FALSE)","v":-33},{"$f":"T249-HLOOKUP(X249,Feuil1!$C$1:$BL$10,6,FALSE)","v":-48},{"$f":"T249-HLOOKUP(X249,Feuil1!$C$1:$BL$10,7,FALSE)","v":-63},{"$f":"T249-HLOOKUP(X249,Feuil1!$C$1:$BL$10,8,FALSE)","v":-83},{"$f":"T249-HLOOKUP(X249,Feuil1!$C$1:$BL$10,9,FALSE)","v":-103},{"$f":"T249-HLOOKUP(X249,Feuil1!$C$1:$BL$10,10,FALSE)","v":-123},null,null,null,null,null,null,"DEB "]
["F","N","IDF",74,379905,"PEREIRA DA SILVA","LYDIE",1983,60.8,"FRANCONVILLE","F",33,35,36,36,40,44,-46,44,80,-41.599999999999994,"DEB ",5,{"$f":"IF(I250=\"\",\"\",IF(A250=\"H\",IF(OR(H250=\"SEN\",H250<1995),VLOOKUP(I250,Feuil1!$A$11:$F$29,6),IF(AND(H250>1994,H250<1998),VLOOKUP(I250,Feuil1!$A$11:$F$29,5),IF(AND(H250>1997,H250<2000),VLOOKUP(I250,Feuil1!$A$11:$F$29,4),IF(AND(H250>1999,H250<2002),VLOOKUP(I250,Feuil1!$A$11:$F$29,3),VLOOKUP(I250,Feuil1!$A$11:$F$29,2))))),IF(OR(H250=\"SEN\",H250<1995),VLOOKUP(I250,Feuil1!$G$11:$L$25,6),IF(AND(H250>1994,H250<1998),VLOOKUP(I250,Feuil1!$G$11:$L$25,5),IF(AND(H250>1997,H250<2000),VLOOKUP(I250,Feuil1!$G$11:$L$25,4),IF(AND(H250>1999,H250<2002),VLOOKUP(I250,Feuil1!$G$11:$L$25,3),VLOOKUP(I250,Feuil1!$G$11:$L$25,2)))))))","v":"FS63"},108.91290373010503,null," ",{"$f":"T250-HLOOKUP(X250,Feuil1!$C$1:$BL$10,2,FALSE)","v":5},{"$f":"T250-HLOOKUP(X250,Feuil1!$C$1:$BL$10,3,FALSE)","v":-5},{"$f":"T250-HLOOKUP(X250,Feuil1!$C$1:$BL$10,4,FALSE)","v":-15},{"$f":"T250-HLOOKUP(X250,Feuil1!$C$1:$BL$10,5,FALSE)","v":-30},{"$f":"T250-HLOOKUP(X250,Feuil1!$C$1:$BL$10,6,FALSE)","v":-45},{"$f":"T250-HLOOKUP(X250,Feuil1!$C$1:$BL$10,7,FALSE)","v":-60},{"$f":"T250-HLOOKUP(X250,Feuil1!$C$1:$BL$10,8,FALSE)","v":-80},{"$f":"T250-HLOOKUP(X250,Feuil1!$C$1:$BL$10,9,FALSE)","v":-100},{"$f":"T250-HLOOKUP(X250,Feuil1!$C$1:$BL$10,10,FALSE)","v":-120},null,null,null,null,null,null,"DEB "]
["F","NORD","PIC",75,394800,"BISSESUR","Pauline",1986,60,"Villers-Bretonneux KC","F",32,35,-38,35,38,41,43,43,78,-42,"DEB ",3,{"$f":"IF(I251=\"\",\"\",IF(A251=\"H\",IF(OR(H251=\"SEN\",H251<1995),VLOOKUP(I251,Feuil1!$A$11:$F$29,6),IF(AND(H251>1994,H251<1998),VLOOKUP(I251,Feuil1!$A$11:$F$29,5),IF(AND(H251>1997,H251<2000),VLOOKUP(I251,Feuil1!$A$11:$F$29,4),IF(AND(H251>1999,H251<2002),VLOOKUP(I251,Feuil1!$A$11:$F$29,3),VLOOKUP(I251,Feuil1!$A$11:$F$29,2))))),IF(OR(H251=\"SEN\",H251<1995),VLOOKUP(I251,Feuil1!$G$11:$L$25,6),IF(AND(H251>1994,H251<1998),VLOOKUP(I251,Feuil1!$G$11:$L$25,5),IF(AND(H251>1997,H251<2000),VLOOKUP(I251,Feuil1!$G$11:$L$25,4),IF(AND(H251>1999,H251<2002),VLOOKUP(I251,Feuil1!$G$11:$L$25,3),VLOOKUP(I251,Feuil1!$G$11:$L$25,2)))))))","v":"FS63"},107.17726748502592,null," ",{"$f":"T251-HLOOKUP(X251,Feuil1!$C$1:$BL$10,2,FALSE)","v":3},{"$f":"T251-HLOOKUP(X251,Feuil1!$C$1:$BL$10,3,FALSE)","v":-7},{"$f":"T251-HLOOKUP(X251,Feuil1!$C$1:$BL$10,4,FALSE)","v":-17},{"$f":"T251-HLOOKUP(X251,Feuil1!$C$1:$BL$10,5,FALSE)","v":-32},{"$f":"T251-HLOOKUP(X251,Feuil1!$C$1:$BL$10,6,FALSE)","v":-47},{"$f":"T251-HLOOKUP(X251,Feuil1!$C$1:$BL$10,7,FALSE)","v":-62},{"$f":"T251-HLOOKUP(X251,Feuil1!$C$1:$BL$10,8,FALSE)","v":-82},{"$f":"T251-HLOOKUP(X251,Feuil1!$C$1:$BL$10,9,FALSE)","v":-102},{"$f":"T251-HLOOKUP(X251,Feuil1!$C$1:$BL$10,10,FALSE)","v":-122},null,null,null,null,null,null,"DEB "]
["F","SEST","CAZ",76,392615,"DISTEPHANO","Marjorie",1993,61.1,"HC HYERES","F",30,-33,33,33,-40,40,43,43,76,-46.2,"DEB ",1,{"$f":"IF(I252=\"\",\"\",IF(A252=\"H\",IF(OR(H252=\"SEN\",H252<1995),VLOOKUP(I252,Feuil1!$A$11:$F$29,6),IF(AND(H252>1994,H252<1998),VLOOKUP(I252,Feuil1!$A$11:$F$29,5),IF(AND(H252>1997,H252<2000),VLOOKUP(I252,Feuil1!$A$11:$F$29,4),IF(AND(H252>1999,H252<2002),VLOOKUP(I252,Feuil1!$A$11:$F$29,3),VLOOKUP(I252,Feuil1!$A$11:$F$29,2))))),IF(OR(H252=\"SEN\",H252<1995),VLOOKUP(I252,Feuil1!$G$11:$L$25,6),IF(AND(H252>1994,H252<1998),VLOOKUP(I252,Feuil1!$G$11:$L$25,5),IF(AND(H252>1997,H252<2000),VLOOKUP(I252,Feuil1!$G$11:$L$25,4),IF(AND(H252>1999,H252<2002),VLOOKUP(I252,Feuil1!$G$11:$L$25,3),VLOOKUP(I252,Feuil1!$G$11:$L$25,2)))))))","v":"FS63"},103.11567053618754,null," ",{"$f":"T252-HLOOKUP(X252,Feuil1!$C$1:$BL$10,2,FALSE)","v":1},{"$f":"T252-HLOOKUP(X252,Feuil1!$C$1:$BL$10,3,FALSE)","v":-9},{"$f":"T252-HLOOKUP(X252,Feuil1!$C$1:$BL$10,4,FALSE)","v":-19},{"$f":"T252-HLOOKUP(X252,Feuil1!$C$1:$BL$10,5,FALSE)","v":-34},{"$f":"T252-HLOOKUP(X252,Feuil1!$C$1:$BL$10,6,FALSE)","v":-49},{"$f":"T252-HLOOKUP(X252,Feuil1!$C$1:$BL$10,7,FALSE)","v":-64},{"$f":"T252-HLOOKUP(X252,Feuil1!$C$1:$BL$10,8,FALSE)","v":-84},{"$f":"T252-HLOOKUP(X252,Feuil1!$C$1:$BL$10,9,FALSE)","v":-104},{"$f":"T252-HLOOKUP(X252,Feuil1!$C$1:$BL$10,10,FALSE)","v":-124},null,null,null,null,null,null,"DEB "]
["F","SO","MPY",77,326408,"DEBEVE","Sandrine",1970,62.8,"PAMIERS HC","F",28,31,35,35,38,40,43,43,78,-47.599999999999994,"DEB ",3,{"$f":"IF(I253=\"\",\"\",IF(A253=\"H\",IF(OR(H253=\"SEN\",H253<1995),VLOOKUP(I253,Feuil1!$A$11:$F$29,6),IF(AND(H253>1994,H253<1998),VLOOKUP(I253,Feuil1!$A$11:$F$29,5),IF(AND(H253>1997,H253<2000),VLOOKUP(I253,Feuil1!$A$11:$F$29,4),IF(AND(H253>1999,H253<2002),VLOOKUP(I253,Feuil1!$A$11:$F$29,3),VLOOKUP(I253,Feuil1!$A$11:$F$29,2))))),IF(OR(H253=\"SEN\",H253<1995),VLOOKUP(I253,Feuil1!$G$11:$L$25,6),IF(AND(H253>1994,H253<1998),VLOOKUP(I253,Feuil1!$G$11:$L$25,5),IF(AND(H253>1997,H253<2000),VLOOKUP(I253,Feuil1!$G$11:$L$25,4),IF(AND(H253>1999,H253<2002),VLOOKUP(I253,Feuil1!$G$11:$L$25,3),VLOOKUP(I253,Feuil1!$G$11:$L$25,2)))))))","v":"FS63"},103.87567049864872,null," ",{"$f":"T253-HLOOKUP(X253,Feuil1!$C$1:$BL$10,2,FALSE)","v":3},{"$f":"T253-HLOOKUP(X253,Feuil1!$C$1:$BL$10,3,FALSE)","v":-7},{"$f":"T253-HLOOKUP(X253,Feuil1!$C$1:$BL$10,4,FALSE)","v":-17},{"$f":"T253-HLOOKUP(X253,Feuil1!$C$1:$BL$10,5,FALSE)","v":-32},{"$f":"T253-HLOOKUP(X253,Feuil1!$C$1:$BL$10,6,FALSE)","v":-47},{"$f":"T253-HLOOKUP(X253,Feuil1!$C$1:$BL$10,7,FALSE)","v":-62},{"$f":"T253-HLOOKUP(X253,Feuil1!$C$1:$BL$10,8,FALSE)","v":-82},{"$f":"T253-HLOOKUP(X253,Feuil1!$C$1:$BL$10,9,FALSE)","v":-102},{"$f":"T253-HLOOKUP(X253,Feuil1!$C$1:$BL$10,10,FALSE)","v":-122},null,null,null,null,null,null,"DEB "]
["F","NE","CHA",78,376675,"ANAEV ","Sophie",1986,62.7,"Reims HM","F",32,35,38,38,38,42,-47,42,80,-45.400000000000006,"DEB ",5,{"$f":"IF(I254=\"\",\"\",IF(A254=\"H\",IF(OR(H254=\"SEN\",H254<1995),VLOOKUP(I254,Feuil1!$A$11:$F$29,6),IF(AND(H254>1994,H254<1998),VLOOKUP(I254,Feuil1!$A$11:$F$29,5),IF(AND(H254>1997,H254<2000),VLOOKUP(I254,Feuil1!$A$11:$F$29,4),IF(AND(H254>1999,H254<2002),VLOOKUP(I254,Feuil1!$A$11:$F$29,3),VLOOKUP(I254,Feuil1!$A$11:$F$29,2))))),IF(OR(H254=\"SEN\",H254<1995),VLOOKUP(I254,Feuil1!$G$11:$L$25,6),IF(AND(H254>1994,H254<1998),VLOOKUP(I254,Feuil1!$G$11:$L$25,5),IF(AND(H254>1997,H254<2000),VLOOKUP(I254,Feuil1!$G$11:$L$25,4),IF(AND(H254>1999,H254<2002),VLOOKUP(I254,Feuil1!$G$11:$L$25,3),VLOOKUP(I254,Feuil1!$G$11:$L$25,2)))))))","v":"FS63"},106.65277152671581,null," ",{"$f":"T254-HLOOKUP(X254,Feuil1!$C$1:$BL$10,2,FALSE)","v":5},{"$f":"T254-HLOOKUP(X254,Feuil1!$C$1:$BL$10,3,FALSE)","v":-5},{"$f":"T254-HLOOKUP(X254,Feuil1!$C$1:$BL$10,4,FALSE)","v":-15},{"$f":"T254-HLOOKUP(X254,Feuil1!$C$1:$BL$10,5,FALSE)","v":-30},{"$f":"T254-HLOOKUP(X254,Feuil1!$C$1:$BL$10,6,FALSE)","v":-45},{"$f":"T254-HLOOKUP(X254,Feuil1!$C$1:$BL$10,7,FALSE)","v":-60},{"$f":"T254-HLOOKUP(X254,Feuil1!$C$1:$BL$10,8,FALSE)","v":-80},{"$f":"T254-HLOOKUP(X254,Feuil1!$C$1:$BL$10,9,FALSE)","v":-100},{"$f":"T254-HLOOKUP(X254,Feuil1!$C$1:$BL$10,10,FALSE)","v":-120},null,null,null,null,null,null,"DEB "]
["F","N","IDF",79,287957,"TERMOLLE","SOPHIE",1978,59.6,"SAINT-MAUR","F",30,32,34,34,36,38,41,41,75,-44.2,"DEB ",0,{"$f":"IF(I255=\"\",\"\",IF(A255=\"H\",IF(OR(H255=\"SEN\",H255<1995),VLOOKUP(I255,Feuil1!$A$11:$F$29,6),IF(AND(H255>1994,H255<1998),VLOOKUP(I255,Feuil1!$A$11:$F$29,5),IF(AND(H255>1997,H255<2000),VLOOKUP(I255,Feuil1!$A$11:$F$29,4),IF(AND(H255>1999,H255<2002),VLOOKUP(I255,Feuil1!$A$11:$F$29,3),VLOOKUP(I255,Feuil1!$A$11:$F$29,2))))),IF(OR(H255=\"SEN\",H255<1995),VLOOKUP(I255,Feuil1!$G$11:$L$25,6),IF(AND(H255>1994,H255<1998),VLOOKUP(I255,Feuil1!$G$11:$L$25,5),IF(AND(H255>1997,H255<2000),VLOOKUP(I255,Feuil1!$G$11:$L$25,4),IF(AND(H255>1999,H255<2002),VLOOKUP(I255,Feuil1!$G$11:$L$25,3),VLOOKUP(I255,Feuil1!$G$11:$L$25,2)))))))","v":"FS63"},103.54315865572187,null," ",{"$f":"T255-HLOOKUP(X255,Feuil1!$C$1:$BL$10,2,FALSE)","v":0},{"$f":"T255-HLOOKUP(X255,Feuil1!$C$1:$BL$10,3,FALSE)","v":-10},{"$f":"T255-HLOOKUP(X255,Feuil1!$C$1:$BL$10,4,FALSE)","v":-20},{"$f":"T255-HLOOKUP(X255,Feuil1!$C$1:$BL$10,5,FALSE)","v":-35},{"$f":"T255-HLOOKUP(X255,Feuil1!$C$1:$BL$10,6,FALSE)","v":-50},{"$f":"T255-HLOOKUP(X255,Feuil1!$C$1:$BL$10,7,FALSE)","v":-65},{"$f":"T255-HLOOKUP(X255,Feuil1!$C$1:$BL$10,8,FALSE)","v":-85},{"$f":"T255-HLOOKUP(X255,Feuil1!$C$1:$BL$10,9,FALSE)","v":-105},{"$f":"T255-HLOOKUP(X255,Feuil1!$C$1:$BL$10,10,FALSE)","v":-125},null,null,null,null,null,null,"DEB "]
["F","SEST","CAZ",80,377,"DISPERATI DALLE","Amelie",1986,58.35,"AS MONACO","F",25,27,-30,27,35,38,40,40,67,-49.7,"DEB ",-8,{"$f":"IF(I256=\"\",\"\",IF(A256=\"H\",IF(OR(H256=\"SEN\",H256<1995),VLOOKUP(I256,Feuil1!$A$11:$F$29,6),IF(AND(H256>1994,H256<1998),VLOOKUP(I256,Feuil1!$A$11:$F$29,5),IF(AND(H256>1997,H256<2000),VLOOKUP(I256,Feuil1!$A$11:$F$29,4),IF(AND(H256>1999,H256<2002),VLOOKUP(I256,Feuil1!$A$11:$F$29,3),VLOOKUP(I256,Feuil1!$A$11:$F$29,2))))),IF(OR(H256=\"SEN\",H256<1995),VLOOKUP(I256,Feuil1!$G$11:$L$25,6),IF(AND(H256>1994,H256<1998),VLOOKUP(I256,Feuil1!$G$11:$L$25,5),IF(AND(H256>1997,H256<2000),VLOOKUP(I256,Feuil1!$G$11:$L$25,4),IF(AND(H256>1999,H256<2002),VLOOKUP(I256,Feuil1!$G$11:$L$25,3),VLOOKUP(I256,Feuil1!$G$11:$L$25,2)))))))","v":"FS63"},93.915573694737105,null," ",{"$f":"T256-HLOOKUP(X256,Feuil1!$C$1:$BL$10,2,FALSE)","v":-8},{"$f":"T256-HLOOKUP(X256,Feuil1!$C$1:$BL$10,3,FALSE)","v":-18},{"$f":"T256-HLOOKUP(X256,Feuil1!$C$1:$BL$10,4,FALSE)","v":-28},{"$f":"T256-HLOOKUP(X256,Feuil1!$C$1:$BL$10,5,FALSE)","v":-43},{"$f":"T256-HLOOKUP(X256,Feuil1!$C$1:$BL$10,6,FALSE)","v":-58},{"$f":"T256-HLOOKUP(X256,Feuil1!$C$1:$BL$10,7,FALSE)","v":-73},{"$f":"T256-HLOOKUP(X256,Feuil1!$C$1:$BL$10,8,FALSE)","v":-93},{"$f":"T256-HLOOKUP(X256,Feuil1!$C$1:$BL$10,9,FALSE)","v":-113},{"$f":"T256-HLOOKUP(X256,Feuil1!$C$1:$BL$10,10,FALSE)","v":-133},null,null,null,null,null,null,"DEB "]
["F","NORD","NPC",81,378541,"MALIAR","Mandy",1993,60.3,"CAHC BERCK/MER","F",30,-33,33,33,35,37,40,40,73,-47.599999999999994,"DEB ",-2,{"$f":"IF(I257=\"\",\"\",IF(A257=\"H\",IF(OR(H257=\"SEN\",H257<1995),VLOOKUP(I257,Feuil1!$A$11:$F$29,6),IF(AND(H257>1994,H257<1998),VLOOKUP(I257,Feuil1!$A$11:$F$29,5),IF(AND(H257>1997,H257<2000),VLOOKUP(I257,Feuil1!$A$11:$F$29,4),IF(AND(H257>1999,H257<2002),VLOOKUP(I257,Feuil1!$A$11:$F$29,3),VLOOKUP(I257,Feuil1!$A$11:$F$29,2))))),IF(OR(H257=\"SEN\",H257<1995),VLOOKUP(I257,Feuil1!$G$11:$L$25,6),IF(AND(H257>1994,H257<1998),VLOOKUP(I257,Feuil1!$G$11:$L$25,5),IF(AND(H257>1997,H257<2000),VLOOKUP(I257,Feuil1!$G$11:$L$25,4),IF(AND(H257>1999,H257<2002),VLOOKUP(I257,Feuil1!$G$11:$L$25,3),VLOOKUP(I257,Feuil1!$G$11:$L$25,2)))))))","v":"FS63"},99.956421632102661,null," ",{"$f":"T257-HLOOKUP(X257,Feuil1!$C$1:$BL$10,2,FALSE)","v":-2},{"$f":"T257-HLOOKUP(X257,Feuil1!$C$1:$BL$10,3,FALSE)","v":-12},{"$f":"T257-HLOOKUP(X257,Feuil1!$C$1:$BL$10,4,FALSE)","v":-22},{"$f":"T257-HLOOKUP(X257,Feuil1!$C$1:$BL$10,5,FALSE)","v":-37},{"$f":"T257-HLOOKUP(X257,Feuil1!$C$1:$BL$10,6,FALSE)","v":-52},{"$f":"T257-HLOOKUP(X257,Feuil1!$C$1:$BL$10,7,FALSE)","v":-67},{"$f":"T257-HLOOKUP(X257,Feuil1!$C$1:$BL$10,8,FALSE)","v":-87},{"$f":"T257-HLOOKUP(X257,Feuil1!$C$1:$BL$10,9,FALSE)","v":-107},{"$f":"T257-HLOOKUP(X257,Feuil1!$C$1:$BL$10,10,FALSE)","v":-127},null,null,null,null,null,null,"DEB "]
["F","N","IDF",82,386222,"WALI","SANDRA",1992,62.6,"RUEIL","F",25,-30,32,32,40,-45,-45,40,72,-53.2,"DEB ",-3,{"$f":"IF(I258=\"\",\"\",IF(A258=\"H\",IF(OR(H258=\"SEN\",H258<1995),VLOOKUP(I258,Feuil1!$A$11:$F$29,6),IF(AND(H258>1994,H258<1998),VLOOKUP(I258,Feuil1!$A$11:$F$29,5),IF(AND(H258>1997,H258<2000),VLOOKUP(I258,Feuil1!$A$11:$F$29,4),IF(AND(H258>1999,H258<2002),VLOOKUP(I258,Feuil1!$A$11:$F$29,3),VLOOKUP(I258,Feuil1!$A$11:$F$29,2))))),IF(OR(H258=\"SEN\",H258<1995),VLOOKUP(I258,Feuil1!$G$11:$L$25,6),IF(AND(H258>1994,H258<1998),VLOOKUP(I258,Feuil1!$G$11:$L$25,5),IF(AND(H258>1997,H258<2000),VLOOKUP(I258,Feuil1!$G$11:$L$25,4),IF(AND(H258>1999,H258<2002),VLOOKUP(I258,Feuil1!$G$11:$L$25,3),VLOOKUP(I258,Feuil1!$G$11:$L$25,2)))))))","v":"FS63"},96.090217630307947,null," ",{"$f":"T258-HLOOKUP(X258,Feuil1!$C$1:$BL$10,2,FALSE)","v":-3},{"$f":"T258-HLOOKUP(X258,Feuil1!$C$1:$BL$10,3,FALSE)","v":-13},{"$f":"T258-HLOOKUP(X258,Feuil1!$C$1:$BL$10,4,FALSE)","v":-23},{"$f":"T258-HLOOKUP(X258,Feuil1!$C$1:$BL$10,5,FALSE)","v":-38},{"$f":"T258-HLOOKUP(X258,Feuil1!$C$1:$BL$10,6,FALSE)","v":-53},{"$f":"T258-HLOOKUP(X258,Feuil1!$C$1:$BL$10,7,FALSE)","v":-68},{"$f":"T258-HLOOKUP(X258,Feuil1!$C$1:$BL$10,8,FALSE)","v":-88},{"$f":"T258-HLOOKUP(X258,Feuil1!$C$1:$BL$10,9,FALSE)","v":-108},{"$f":"T258-HLOOKUP(X258,Feuil1!$C$1:$BL$10,10,FALSE)","v":-128},null,null,null,null,null,null,"DEB "]
["F","SO","MPY",83,380263,"BOER","Amanda",1993,59.9,"TARBES CUTPH","F",25,-30,-32,25,30,38,-42,38,63,-56.8,"DEB ",-12,{"$f":"IF(I259=\"\",\"\",IF(A259=\"H\",IF(OR(H259=\"SEN\",H259<1995),VLOOKUP(I259,Feuil1!$A$11:$F$29,6),IF(AND(H259>1994,H259<1998),VLOOKUP(I259,Feuil1!$A$11:$F$29,5),IF(AND(H259>1997,H259<2000),VLOOKUP(I259,Feuil1!$A$11:$F$29,4),IF(AND(H259>1999,H259<2002),VLOOKUP(I259,Feuil1!$A$11:$F$29,3),VLOOKUP(I259,Feuil1!$A$11:$F$29,2))))),IF(OR(H259=\"SEN\",H259<1995),VLOOKUP(I259,Feuil1!$G$11:$L$25,6),IF(AND(H259>1994,H259<1998),VLOOKUP(I259,Feuil1!$G$11:$L$25,5),IF(AND(H259>1997,H259<2000),VLOOKUP(I259,Feuil1!$G$11:$L$25,4),IF(AND(H259>1999,H259<2002),VLOOKUP(I259,Feuil1!$G$11:$L$25,3),VLOOKUP(I259,Feuil1!$G$11:$L$25,2)))))))","v":"FS63"},86.668033282924185,null," ",{"$f":"T259-HLOOKUP(X259,Feuil1!$C$1:$BL$10,2,FALSE)","v":-12},{"$f":"T259-HLOOKUP(X259,Feuil1!$C$1:$BL$10,3,FALSE)","v":-22},{"$f":"T259-HLOOKUP(X259,Feuil1!$C$1:$BL$10,4,FALSE)","v":-32},{"$f":"T259-HLOOKUP(X259,Feuil1!$C$1:$BL$10,5,FALSE)","v":-47},{"$f":"T259-HLOOKUP(X259,Feuil1!$C$1:$BL$10,6,FALSE)","v":-62},{"$f":"T259-HLOOKUP(X259,Feuil1!$C$1:$BL$10,7,FALSE)","v":-77},{"$f":"T259-HLOOKUP(X259,Feuil1!$C$1:$BL$10,8,FALSE)","v":-97},{"$f":"T259-HLOOKUP(X259,Feuil1!$C$1:$BL$10,9,FALSE)","v":-117},{"$f":"T259-HLOOKUP(X259,Feuil1!$C$1:$BL$10,10,FALSE)","v":-137},null,null,null,null,null,null,"DEB "]
["F","SO","AQU",84,393081,"RODRIGUE","FILIPA",1990,61.3,"LE BOUSCAT","POR",22,24,26,26,32,35,-40,35,61,-61.599999999999994,"DEB ",-14,{"$f":"IF(I260=\"\",\"\",IF(A260=\"H\",IF(OR(H260=\"SEN\",H260<1995),VLOOKUP(I260,Feuil1!$A$11:$F$29,6),IF(AND(H260>1994,H260<1998),VLOOKUP(I260,Feuil1!$A$11:$F$29,5),IF(AND(H260>1997,H260<2000),VLOOKUP(I260,Feuil1!$A$11:$F$29,4),IF(AND(H260>1999,H260<2002),VLOOKUP(I260,Feuil1!$A$11:$F$29,3),VLOOKUP(I260,Feuil1!$A$11:$F$29,2))))),IF(OR(H260=\"SEN\",H260<1995),VLOOKUP(I260,Feuil1!$G$11:$L$25,6),IF(AND(H260>1994,H260<1998),VLOOKUP(I260,Feuil1!$G$11:$L$25,5),IF(AND(H260>1997,H260<2000),VLOOKUP(I260,Feuil1!$G$11:$L$25,4),IF(AND(H260>1999,H260<2002),VLOOKUP(I260,Feuil1!$G$11:$L$25,3),VLOOKUP(I260,Feuil1!$G$11:$L$25,2)))))))","v":"FS63"},82.577922892151221,null," ",{"$f":"T260-HLOOKUP(X260,Feuil1!$C$1:$BL$10,2,FALSE)","v":-14},{"$f":"T260-HLOOKUP(X260,Feuil1!$C$1:$BL$10,3,FALSE)","v":-24},{"$f":"T260-HLOOKUP(X260,Feuil1!$C$1:$BL$10,4,FALSE)","v":-34},{"$f":"T260-HLOOKUP(X260,Feuil1!$C$1:$BL$10,5,FALSE)","v":-49},{"$f":"T260-HLOOKUP(X260,Feuil1!$C$1:$BL$10,6,FALSE)","v":-64},{"$f":"T260-HLOOKUP(X260,Feuil1!$C$1:$BL$10,7,FALSE)","v":-79},{"$f":"T260-HLOOKUP(X260,Feuil1!$C$1:$BL$10,8,FALSE)","v":-99},{"$f":"T260-HLOOKUP(X260,Feuil1!$C$1:$BL$10,9,FALSE)","v":-119},{"$f":"T260-HLOOKUP(X260,Feuil1!$C$1:$BL$10,10,FALSE)","v":-139},null,null,null,null,null,null,"DEB "]
["F","NE","ALS",85,385689,"FENRICH","TIFFANY",1984,62.9,"ASI Avenir HM","F",20,23,26,26,30,32,35,35,61,-64.8,"DEB ",-14,{"$f":"IF(I261=\"\",\"\",IF(A261=\"H\",IF(OR(H261=\"SEN\",H261<1995),VLOOKUP(I261,Feuil1!$A$11:$F$29,6),IF(AND(H261>1994,H261<1998),VLOOKUP(I261,Feuil1!$A$11:$F$29,5),IF(AND(H261>1997,H261<2000),VLOOKUP(I261,Feuil1!$A$11:$F$29,4),IF(AND(H261>1999,H261<2002),VLOOKUP(I261,Feuil1!$A$11:$F$29,3),VLOOKUP(I261,Feuil1!$A$11:$F$29,2))))),IF(OR(H261=\"SEN\",H261<1995),VLOOKUP(I261,Feuil1!$G$11:$L$25,6),IF(AND(H261>1994,H261<1998),VLOOKUP(I261,Feuil1!$G$11:$L$25,5),IF(AND(H261>1997,H261<2000),VLOOKUP(I261,Feuil1!$G$11:$L$25,4),IF(AND(H261>1999,H261<2002),VLOOKUP(I261,Feuil1!$G$11:$L$25,3),VLOOKUP(I261,Feuil1!$G$11:$L$25,2)))))))","v":"FS63"},81.149854445854899,null," ",{"$f":"T261-HLOOKUP(X261,Feuil1!$C$1:$BL$10,2,FALSE)","v":-14},{"$f":"T261-HLOOKUP(X261,Feuil1!$C$1:$BL$10,3,FALSE)","v":-24},{"$f":"T261-HLOOKUP(X261,Feuil1!$C$1:$BL$10,4,FALSE)","v":-34},{"$f":"T261-HLOOKUP(X261,Feuil1!$C$1:$BL$10,5,FALSE)","v":-49},{"$f":"T261-HLOOKUP(X261,Feuil1!$C$1:$BL$10,6,FALSE)","v":-64},{"$f":"T261-HLOOKUP(X261,Feuil1!$C$1:$BL$10,7,FALSE)","v":-79},{"$f":"T261-HLOOKUP(X261,Feuil1!$C$1:$BL$10,8,FALSE)","v":-99},{"$f":"T261-HLOOKUP(X261,Feuil1!$C$1:$BL$10,9,FALSE)","v":-119},{"$f":"T261-HLOOKUP(X261,Feuil1!$C$1:$BL$10,10,FALSE)","v":-139},null,null,null,null,null,null,"DEB "]
["F","SEST","RAL",86,383921,"NICOUD","Clémence",1994,62.3,"SAINT MARCELLIN","F",23,26,28,28,28,31,33,33,61,-63.599999999999994,"DEB ",-14,{"$f":"IF(I262=\"\",\"\",IF(A262=\"H\",IF(OR(H262=\"SEN\",H262<1995),VLOOKUP(I262,Feuil1!$A$11:$F$29,6),IF(AND(H262>1994,H262<1998),VLOOKUP(I262,Feuil1!$A$11:$F$29,5),IF(AND(H262>1997,H262<2000),VLOOKUP(I262,Feuil1!$A$11:$F$29,4),IF(AND(H262>1999,H262<2002),VLOOKUP(I262,Feuil1!$A$11:$F$29,3),VLOOKUP(I262,Feuil1!$A$11:$F$29,2))))),IF(OR(H262=\"SEN\",H262<1995),VLOOKUP(I262,Feuil1!$G$11:$L$25,6),IF(AND(H262>1994,H262<1998),VLOOKUP(I262,Feuil1!$G$11:$L$25,5),IF(AND(H262>1997,H262<2000),VLOOKUP(I262,Feuil1!$G$11:$L$25,4),IF(AND(H262>1999,H262<2002),VLOOKUP(I262,Feuil1!$G$11:$L$25,3),VLOOKUP(I262,Feuil1!$G$11:$L$25,2)))))))","v":"FS63"},81.673233429026411,null," ",{"$f":"T262-HLOOKUP(X262,Feuil1!$C$1:$BL$10,2,FALSE)","v":-14},{"$f":"T262-HLOOKUP(X262,Feuil1!$C$1:$BL$10,3,FALSE)","v":-24},{"$f":"T262-HLOOKUP(X262,Feuil1!$C$1:$BL$10,4,FALSE)","v":-34},{"$f":"T262-HLOOKUP(X262,Feuil1!$C$1:$BL$10,5,FALSE)","v":-49},{"$f":"T262-HLOOKUP(X262,Feuil1!$C$1:$BL$10,6,FALSE)","v":-64},{"$f":"T262-HLOOKUP(X262,Feuil1!$C$1:$BL$10,7,FALSE)","v":-79},{"$f":"T262-HLOOKUP(X262,Feuil1!$C$1:$BL$10,8,FALSE)","v":-99},{"$f":"T262-HLOOKUP(X262,Feuil1!$C$1:$BL$10,9,FALSE)","v":-119},{"$f":"T262-HLOOKUP(X262,Feuil1!$C$1:$BL$10,10,FALSE)","v":-139},null,null,null,null,null,null,"DEB "]
["F","SO","AQU",87,388332,"CHALARD","CAMILLE",1994,60.4,"LE BOUSCAT","F",21,23,-25,23,25,30,32,32,55,-65.8,"DEB ",-20,{"$f":"IF(I263=\"\",\"\",IF(A263=\"H\",IF(OR(H263=\"SEN\",H263<1995),VLOOKUP(I263,Feuil1!$A$11:$F$29,6),IF(AND(H263>1994,H263<1998),VLOOKUP(I263,Feuil1!$A$11:$F$29,5),IF(AND(H263>1997,H263<2000),VLOOKUP(I263,Feuil1!$A$11:$F$29,4),IF(AND(H263>1999,H263<2002),VLOOKUP(I263,Feuil1!$A$11:$F$29,3),VLOOKUP(I263,Feuil1!$A$11:$F$29,2))))),IF(OR(H263=\"SEN\",H263<1995),VLOOKUP(I263,Feuil1!$G$11:$L$25,6),IF(AND(H263>1994,H263<1998),VLOOKUP(I263,Feuil1!$G$11:$L$25,5),IF(AND(H263>1997,H263<2000),VLOOKUP(I263,Feuil1!$G$11:$L$25,4),IF(AND(H263>1999,H263<2002),VLOOKUP(I263,Feuil1!$G$11:$L$25,3),VLOOKUP(I263,Feuil1!$G$11:$L$25,2)))))))","v":"FS63"},75.222424552314664,null," ",{"$f":"T263-HLOOKUP(X263,Feuil1!$C$1:$BL$10,2,FALSE)","v":-20},{"$f":"T263-HLOOKUP(X263,Feuil1!$C$1:$BL$10,3,FALSE)","v":-30},{"$f":"T263-HLOOKUP(X263,Feuil1!$C$1:$BL$10,4,FALSE)","v":-40},{"$f":"T263-HLOOKUP(X263,Feuil1!$C$1:$BL$10,5,FALSE)","v":-55},{"$f":"T263-HLOOKUP(X263,Feuil1!$C$1:$BL$10,6,FALSE)","v":-70},{"$f":"T263-HLOOKUP(X263,Feuil1!$C$1:$BL$10,7,FALSE)","v":-85},{"$f":"T263-HLOOKUP(X263,Feuil1!$C$1:$BL$10,8,FALSE)","v":-105},{"$f":"T263-HLOOKUP(X263,Feuil1!$C$1:$BL$10,9,FALSE)","v":-125},{"$f":"T263-HLOOKUP(X263,Feuil1!$C$1:$BL$10,10,FALSE)","v":-145},null,null,null,null,null,null,"DEB "]
["F","SO","MPY",88,396425,"REDING","Michelle",1952,59,"FIGEAC HC","F",10,12,14,14,17,19,20,20,34,-84,"DEB ",-41,{"$f":"IF(I264=\"\",\"\",IF(A264=\"H\",IF(OR(H264=\"SEN\",H264<1995),VLOOKUP(I264,Feuil1!$A$11:$F$29,6),IF(AND(H264>1994,H264<1998),VLOOKUP(I264,Feuil1!$A$11:$F$29,5),IF(AND(H264>1997,H264<2000),VLOOKUP(I264,Feuil1!$A$11:$F$29,4),IF(AND(H264>1999,H264<2002),VLOOKUP(I264,Feuil1!$A$11:$F$29,3),VLOOKUP(I264,Feuil1!$A$11:$F$29,2))))),IF(OR(H264=\"SEN\",H264<1995),VLOOKUP(I264,Feuil1!$G$11:$L$25,6),IF(AND(H264>1994,H264<1998),VLOOKUP(I264,Feuil1!$G$11:$L$25,5),IF(AND(H264>1997,H264<2000),VLOOKUP(I264,Feuil1!$G$11:$L$25,4),IF(AND(H264>1999,H264<2002),VLOOKUP(I264,Feuil1!$G$11:$L$25,3),VLOOKUP(I264,Feuil1!$G$11:$L$25,2)))))))","v":"FS63"},47.279395283661472,null," ",{"$f":"T264-HLOOKUP(X264,Feuil1!$C$1:$BL$10,2,FALSE)","v":-41},{"$f":"T264-HLOOKUP(X264,Feuil1!$C$1:$BL$10,3,FALSE)","v":-51},{"$f":"T264-HLOOKUP(X264,Feuil1!$C$1:$BL$10,4,FALSE)","v":-61},{"$f":"T264-HLOOKUP(X264,Feuil1!$C$1:$BL$10,5,FALSE)","v":-76},{"$f":"T264-HLOOKUP(X264,Feuil1!$C$1:$BL$10,6,FALSE)","v":-91},{"$f":"T264-HLOOKUP(X264,Feuil1!$C$1:$BL$10,7,FALSE)","v":-106},{"$f":"T264-HLOOKUP(X264,Feuil1!$C$1:$BL$10,8,FALSE)","v":-126},{"$f":"T264-HLOOKUP(X264,Feuil1!$C$1:$BL$10,9,FALSE)","v":-146},{"$f":"T264-HLOOKUP(X264,Feuil1!$C$1:$BL$10,10,FALSE)","v":-166},null,null,null,null,null,null,"DEB "]
["F","SO","MPY",89,356063,"LETERRIER","Kathleen",1994,60.8,"TARBES CUTPH","F",20,"X","X",20,20,"X","X",20,40,-81.599999999999994,"DEB ",-35,{"$f":"IF(I265=\"\",\"\",IF(A265=\"H\",IF(OR(H265=\"SEN\",H265<1995),VLOOKUP(I265,Feuil1!$A$11:$F$29,6),IF(AND(H265>1994,H265<1998),VLOOKUP(I265,Feuil1!$A$11:$F$29,5),IF(AND(H265>1997,H265<2000),VLOOKUP(I265,Feuil1!$A$11:$F$29,4),IF(AND(H265>1999,H265<2002),VLOOKUP(I265,Feuil1!$A$11:$F$29,3),VLOOKUP(I265,Feuil1!$A$11:$F$29,2))))),IF(OR(H265=\"SEN\",H265<1995),VLOOKUP(I265,Feuil1!$G$11:$L$25,6),IF(AND(H265>1994,H265<1998),VLOOKUP(I265,Feuil1!$G$11:$L$25,5),IF(AND(H265>1997,H265<2000),VLOOKUP(I265,Feuil1!$G$11:$L$25,4),IF(AND(H265>1999,H265<2002),VLOOKUP(I265,Feuil1!$G$11:$L$25,3),VLOOKUP(I265,Feuil1!$G$11:$L$25,2)))))))","v":"FS63"},54.456451865052514,null," ",{"$f":"T265-HLOOKUP(X265,Feuil1!$C$1:$BL$10,2,FALSE)","v":-35},{"$f":"T265-HLOOKUP(X265,Feuil1!$C$1:$BL$10,3,FALSE)","v":-45},{"$f":"T265-HLOOKUP(X265,Feuil1!$C$1:$BL$10,4,FALSE)","v":-55},{"$f":"T265-HLOOKUP(X265,Feuil1!$C$1:$BL$10,5,FALSE)","v":-70},{"$f":"T265-HLOOKUP(X265,Feuil1!$C$1:$BL$10,6,FALSE)","v":-85},{"$f":"T265-HLOOKUP(X265,Feuil1!$C$1:$BL$10,7,FALSE)","v":-100},{"$f":"T265-HLOOKUP(X265,Feuil1!$C$1:$BL$10,8,FALSE)","v":-120},{"$f":"T265-HLOOKUP(X265,Feuil1!$C$1:$BL$10,9,FALSE)","v":-140},{"$f":"T265-HLOOKUP(X265,Feuil1!$C$1:$BL$10,10,FALSE)","v":-160},null,null,null,null,null,null,"DEB "]
["F","SO","MPY",90,326408,"GARGAGLI","Marine",1993,58.2,"TOULOUSE HC","F",-60,-60,-60,0,"X","X","X",0,0,-116.4,"DEB ",-75,{"$f":"IF(I266=\"\",\"\",IF(A266=\"H\",IF(OR(H266=\"SEN\",H266<1995),VLOOKUP(I266,Feuil1!$A$11:$F$29,6),IF(AND(H266>1994,H266<1998),VLOOKUP(I266,Feuil1!$A$11:$F$29,5),IF(AND(H266>1997,H266<2000),VLOOKUP(I266,Feuil1!$A$11:$F$29,4),IF(AND(H266>1999,H266<2002),VLOOKUP(I266,Feuil1!$A$11:$F$29,3),VLOOKUP(I266,Feuil1!$A$11:$F$29,2))))),IF(OR(H266=\"SEN\",H266<1995),VLOOKUP(I266,Feuil1!$G$11:$L$25,6),IF(AND(H266>1994,H266<1998),VLOOKUP(I266,Feuil1!$G$11:$L$25,5),IF(AND(H266>1997,H266<2000),VLOOKUP(I266,Feuil1!$G$11:$L$25,4),IF(AND(H266>1999,H266<2002),VLOOKUP(I266,Feuil1!$G$11:$L$25,3),VLOOKUP(I266,Feuil1!$G$11:$L$25,2)))))))","v":"FS63"},0,null," ",{"$f":"T266-HLOOKUP(X266,Feuil1!$C$1:$BL$10,2,FALSE)","v":-75},{"$f":"T266-HLOOKUP(X266,Feuil1!$C$1:$BL$10,3,FALSE)","v":-85},{"$f":"T266-HLOOKUP(X266,Feuil1!$C$1:$BL$10,4,FALSE)","v":-95},{"$f":"T266-HLOOKUP(X266,Feuil1!$C$1:$BL$10,5,FALSE)","v":-110},{"$f":"T266-HLOOKUP(X266,Feuil1!$C$1:$BL$10,6,FALSE)","v":-125},{"$f":"T266-HLOOKUP(X266,Feuil1!$C$1:$BL$10,7,FALSE)","v":-140},{"$f":"T266-HLOOKUP(X266,Feuil1!$C$1:$BL$10,8,FALSE)","v":-160},{"$f":"T266-HLOOKUP(X266,Feuil1!$C$1:$BL$10,9,FALSE)","v":-180},{"$f":"T266-HLOOKUP(X266,Feuil1!$C$1:$BL$10,10,FALSE)","v":-200},null,null,null,null,null,null,"DEB "]
["F","ZCO","BRE",91,360543,"POUSSART","Isabelle",1969,61.25,"CHM Plouhinec PR","F",22,-25,-25,22,-34,-34,-34,0,0,-122.5,"DEB ",-75,{"$f":"IF(I267=\"\",\"\",IF(A267=\"H\",IF(OR(H267=\"SEN\",H267<1995),VLOOKUP(I267,Feuil1!$A$11:$F$29,6),IF(AND(H267>1994,H267<1998),VLOOKUP(I267,Feuil1!$A$11:$F$29,5),IF(AND(H267>1997,H267<2000),VLOOKUP(I267,Feuil1!$A$11:$F$29,4),IF(AND(H267>1999,H267<2002),VLOOKUP(I267,Feuil1!$A$11:$F$29,3),VLOOKUP(I267,Feuil1!$A$11:$F$29,2))))),IF(OR(H267=\"SEN\",H267<1995),VLOOKUP(I267,Feuil1!$G$11:$L$25,6),IF(AND(H267>1994,H267<1998),VLOOKUP(I267,Feuil1!$G$11:$L$25,5),IF(AND(H267>1997,H267<2000),VLOOKUP(I267,Feuil1!$G$11:$L$25,4),IF(AND(H267>1999,H267<2002),VLOOKUP(I267,Feuil1!$G$11:$L$25,3),VLOOKUP(I267,Feuil1!$G$11:$L$25,2)))))))","v":"FS63"},0,null," ",{"$f":"T267-HLOOKUP(X267,Feuil1!$C$1:$BL$10,2,FALSE)","v":-75},{"$f":"T267-HLOOKUP(X267,Feuil1!$C$1:$BL$10,3,FALSE)","v":-85},{"$f":"T267-HLOOKUP(X267,Feuil1!$C$1:$BL$10,4,FALSE)","v":-95},{"$f":"T267-HLOOKUP(X267,Feuil1!$C$1:$BL$10,5,FALSE)","v":-110},{"$f":"T267-HLOOKUP(X267,Feuil1!$C$1:$BL$10,6,FALSE)","v":-125},{"$f":"T267-HLOOKUP(X267,Feuil1!$C$1:$BL$10,7,FALSE)","v":-140},{"$f":"T267-HLOOKUP(X267,Feuil1!$C$1:$BL$10,8,FALSE)","v":-160},{"$f":"T267-HLOOKUP(X267,Feuil1!$C$1:$BL$10,9,FALSE)","v":-180},{"$f":"T267-HLOOKUP(X267,Feuil1!$C$1:$BL$10,10,FALSE)","v":-200},null,null,null,null,null,null,"DEB "]
[null,null,null,null,null,null,null,null,null,null,null,null,null,null,null,null,null,null,null,null,null,null,null,null,null,null," ",{"$f":"T268-HLOOKUP(X268,[1]Feuil1!$C$1:$BL$10,2,FALSE)","v":{"$error":"#N/A"}},{"$f":"T268-HLOOKUP(X268,[1]Feuil1!$C$1:$BL$10,3,FALSE)","v":{"$error":"#N/A"}},{"$f":"T268-HLOOKUP(X268,[1]Feuil1!$C$1:$BL$10,4,FALSE)","v":{"$error":"#N/A"}},{"$f":"T268-HLOOKUP(X268,[1]Feuil1!$C$1:$BL$10,5,FALSE)","v":{"$error":"#N/A"}},{"$f":"T268-HLOOKUP(X268,[1]Feuil1!$C$1:$BL$10,6,FALSE)","v":{"$error":"#N/A"}},{"$f":"T268-HLOOKUP(X268,[1]Feuil1!$C$1:$BL$10,7,FALSE)","v":{"$error":"#N/A"}},{"$f":"T268-HLOOKUP(X268,[1]Feuil1!$C$1:$BL$10,8,FALSE)","v":{"$error":"#N/A"}},{"$f":"T268-HLOOKUP(X268,[1]Feuil1!$C$1:$BL$10,9,FALSE)","v":{"$error":"#N/A"}},{"$f":"T268-HLOOKUP(X268,[1]Feuil1!$C$1:$BL$10,10,FALSE)","v":{"$error":"#N/A"}},null,null,null,null,null,null,{"$f":"IF(AJ268>=0,$AJ$4,IF(AI268>=0,$AI$4,IF(AH268>=0,$AH$4,IF(AG268>=0,$AG$4,IF(AF268>=0,$AF$4,IF(AE268>=0,$AE$4,IF(AD268>=0,$AD$4,IF(AC268>=0,$AC$4,$AB$4))))))))","v":{"$error":"#N/A"}}]
["F","NE","BOU",1,391211,"FEGUE","Marie Josephe",1991,68.45,"HMDB 21","CAM",96,100,106,{"$f":"IF(H269=\"\",\"\",IF(MAXA(L269:N269)<=0,0,MAXA(L269:N269)))","v":106},120,127,134,{"$f":"IF(H269=\"\",\"\",IF(MAXA(P269:R269)<=0,0,MAXA(P269:R269)))","v":134},{"$f":"IF(H269=\"\",\"\",IF(OR(O269=0,S269=0),0,O269+S269))","v":240},{"$f":"T269-I269*2","v":103.1},{"$f":"IF(H269=\"\",\"\",AQ269)","v":"OLY +"},{"$f":"IF(AJ269>=0,AJ269,IF(AI269>=0,AI269,IF(AH269>=0,AH269,IF(AG269>=0,AG269,IF(AF269>=0,AF269,IF(AE269>=0,AE269,IF(AD269>=0,AD269,IF(AC269>=0,AC269,AB269))))))))","v":35},{"$f":"IF(I269=\"\",\"\",IF(A269=\"H\",IF(OR(H269=\"SEN\",H269<1995),VLOOKUP(I269,Feuil1!$A$11:$F$29,6),IF(AND(H269>1994,H269<1998),VLOOKUP(I269,Feuil1!$A$11:$F$29,5),IF(AND(H269>1997,H269<2000),VLOOKUP(I269,Feuil1!$A$11:$F$29,4),IF(AND(H269>1999,H269<2002),VLOOKUP(I269,Feuil1!$A$11:$F$29,3),VLOOKUP(I269,Feuil1!$A$11:$F$29,2))))),IF(OR(H269=\"SEN\",H269<1995),VLOOKUP(I269,Feuil1!$G$11:$L$25,6),IF(AND(H269>1994,H269<1998),VLOOKUP(I269,Feuil1!$G$11:$L$25,5),IF(AND(H269>1997,H269<2000),VLOOKUP(I269,Feuil1!$G$11:$L$25,4),IF(AND(H269>1999,H269<2002),VLOOKUP(I269,Feuil1!$G$11:$L$25,3),VLOOKUP(I269,Feuil1!$G$11:$L$25,2)))))))","v":"FS69"},{"$f":"IF(I269=\"\",\"\",IF(A269=\"H\",10^(0.794358141*LOG(I269/174.393)^2)*T269,IF(A269=\"F\",10^(0.89726074*LOG(I269/148.026)^2)*T269,\"\")))","v":302.61121468804436},null," ",{"$f":"T269-HLOOKUP(X269,Feuil1!$C$1:$BL$10,2,FALSE)","v":160},{"$f":"T269-HLOOKUP(X269,Feuil1!$C$1:$BL$10,3,FALSE)","v":150},{"$f":"T269-HLOOKUP(X269,Feuil1!$C$1:$BL$10,4,FALSE)","v":135},{"$f":"T269-HLOOKUP(X269,Feuil1!$C$1:$BL$10,5,FALSE)","v":120},{"$f":"T269-HLOOKUP(X269,Feuil1!$C$1:$BL$10,6,FALSE)","v":105},{"$f":"T269-HLOOKUP(X269,Feuil1!$C$1:$BL$10,7,FALSE)","v":90},{"$f":"T269-HLOOKUP(X269,Feuil1!$C$1:$BL$10,8,FALSE)","v":70},{"$f":"T269-HLOOKUP(X269,Feuil1!$C$1:$BL$10,9,FALSE)","v":50},{"$f":"T269-HLOOKUP(X269,Feuil1!$C$1:$BL$10,10,FALSE)","v":35},null,null,null,null,null,null,{"$f":"IF(AJ269>=0,$AJ$4,IF(AI269>=0,$AI$4,IF(AH269>=0,$AH$4,IF(AG269>=0,$AG$4,IF(AF269>=0,$AF$4,IF(AE269>=0,$AE$4,IF(AD269>=0,$AD$4,IF(AC269>=0,$AC$4,$AB$4))))))))","v":"OLY +"}]
["F","SEST","CAZ",2,199418,"KASIRYE","Ruth",1982,68.900000000000006,"ES VILLE LOUBET","NOR",95,-100,100,100,120,125,130,130,230,92.199999999999989,"OLY +",25,{"$f":"IF(I270=\"\",\"\",IF(A270=\"H\",IF(OR(H270=\"SEN\",H270<1995),VLOOKUP(I270,Feuil1!$A$11:$F$29,6),IF(AND(H270>1994,H270<1998),VLOOKUP(I270,Feuil1!$A$11:$F$29,5),IF(AND(H270>1997,H270<2000),VLOOKUP(I270,Feuil1!$A$11:$F$29,4),IF(AND(H270>1999,H270<2002),VLOOKUP(I270,Feuil1!$A$11:$F$29,3),VLOOKUP(I270,Feuil1!$A$11:$F$29,2))))),IF(OR(H270=\"SEN\",H270<1995),VLOOKUP(I270,Feuil1!$G$11:$L$25,6),IF(AND(H270>1994,H270<1998),VLOOKUP(I270,Feuil1!$G$11:$L$25,5),IF(AND(H270>1997,H270<2000),VLOOKUP(I270,Feuil1!$G$11:$L$25,4),IF(AND(H270>1999,H270<2002),VLOOKUP(I270,Feuil1!$G$11:$L$25,3),VLOOKUP(I270,Feuil1!$G$11:$L$25,2)))))))","v":"FS69"},288.86723498778724,null," ",{"$f":"T270-HLOOKUP(X270,Feuil1!$C$1:$BL$10,2,FALSE)","v":150},{"$f":"T270-HLOOKUP(X270,Feuil1!$C$1:$BL$10,3,FALSE)","v":140},{"$f":"T270-HLOOKUP(X270,Feuil1!$C$1:$BL$10,4,FALSE)","v":125},{"$f":"T270-HLOOKUP(X270,Feuil1!$C$1:$BL$10,5,FALSE)","v":110},{"$f":"T270-HLOOKUP(X270,Feuil1!$C$1:$BL$10,6,FALSE)","v":95},{"$f":"T270-HLOOKUP(X270,Feuil1!$C$1:$BL$10,7,FALSE)","v":80},{"$f":"T270-HLOOKUP(X270,Feuil1!$C$1:$BL$10,8,FALSE)","v":60},{"$f":"T270-HLOOKUP(X270,Feuil1!$C$1:$BL$10,9,FALSE)","v":40},{"$f":"T270-HLOOKUP(X270,Feuil1!$C$1:$BL$10,10,FALSE)","v":25},null,null,null,null,null,null,"OLY +"]
["F","DOM","REU",3,94140,"SAINT JACQUES","Larissa",1979,68,"CSPJ St Denis","F",70,74,-78,74,90,94,98,98,172,36,"INTB +",2,{"$f":"IF(I271=\"\",\"\",IF(A271=\"H\",IF(OR(H271=\"SEN\",H271<1995),VLOOKUP(I271,Feuil1!$A$11:$F$29,6),IF(AND(H271>1994,H271<1998),VLOOKUP(I271,Feuil1!$A$11:$F$29,5),IF(AND(H271>1997,H271<2000),VLOOKUP(I271,Feuil1!$A$11:$F$29,4),IF(AND(H271>1999,H271<2002),VLOOKUP(I271,Feuil1!$A$11:$F$29,3),VLOOKUP(I271,Feuil1!$A$11:$F$29,2))))),IF(OR(H271=\"SEN\",H271<1995),VLOOKUP(I271,Feuil1!$G$11:$L$25,6),IF(AND(H271>1994,H271<1998),VLOOKUP(I271,Feuil1!$G$11:$L$25,5),IF(AND(H271>1997,H271<2000),VLOOKUP(I271,Feuil1!$G$11:$L$25,4),IF(AND(H271>1999,H271<2002),VLOOKUP(I271,Feuil1!$G$11:$L$25,3),VLOOKUP(I271,Feuil1!$G$11:$L$25,2)))))))","v":"FS69"},217.73661377517695,null," ",{"$f":"T271-HLOOKUP(X271,Feuil1!$C$1:$BL$10,2,FALSE)","v":92},{"$f":"T271-HLOOKUP(X271,Feuil1!$C$1:$BL$10,3,FALSE)","v":82},{"$f":"T271-HLOOKUP(X271,Feuil1!$C$1:$BL$10,4,FALSE)","v":67},{"$f":"T271-HLOOKUP(X271,Feuil1!$C$1:$BL$10,5,FALSE)","v":52},{"$f":"T271-HLOOKUP(X271,Feuil1!$C$1:$BL$10,6,FALSE)","v":37},{"$f":"T271-HLOOKUP(X271,Feuil1!$C$1:$BL$10,7,FALSE)","v":22},{"$f":"T271-HLOOKUP(X271,Feuil1!$C$1:$BL$10,8,FALSE)","v":2},{"$f":"T271-HLOOKUP(X271,Feuil1!$C$1:$BL$10,9,FALSE)","v":-18},{"$f":"T271-HLOOKUP(X271,Feuil1!$C$1:$BL$10,10,FALSE)","v":-33},null,null,null,null,null,null,"INTB +"]
["F","SO","MPY",4,250351,"BRIDIER","Stéphanie",1985,63.1,"TOULOUSE HC","F",69,72,-75,72,86,90,-92,90,162,35.799999999999997,"NAT +",12,{"$f":"IF(I272=\"\",\"\",IF(A272=\"H\",IF(OR(H272=\"SEN\",H272<1995),VLOOKUP(I272,Feuil1!$A$11:$F$29,6),IF(AND(H272>1994,H272<1998),VLOOKUP(I272,Feuil1!$A$11:$F$29,5),IF(AND(H272>1997,H272<2000),VLOOKUP(I272,Feuil1!$A$11:$F$29,4),IF(AND(H272>1999,H272<2002),VLOOKUP(I272,Feuil1!$A$11:$F$29,3),VLOOKUP(I272,Feuil1!$A$11:$F$29,2))))),IF(OR(H272=\"SEN\",H272<1995),VLOOKUP(I272,Feuil1!$G$11:$L$25,6),IF(AND(H272>1994,H272<1998),VLOOKUP(I272,Feuil1!$G$11:$L$25,5),IF(AND(H272>1997,H272<2000),VLOOKUP(I272,Feuil1!$G$11:$L$25,4),IF(AND(H272>1999,H272<2002),VLOOKUP(I272,Feuil1!$G$11:$L$25,3),VLOOKUP(I272,Feuil1!$G$11:$L$25,2)))))))","v":"FS69"},215.05771489271154,null," ",{"$f":"T272-HLOOKUP(X272,Feuil1!$C$1:$BL$10,2,FALSE)","v":82},{"$f":"T272-HLOOKUP(X272,Feuil1!$C$1:$BL$10,3,FALSE)","v":72},{"$f":"T272-HLOOKUP(X272,Feuil1!$C$1:$BL$10,4,FALSE)","v":57},{"$f":"T272-HLOOKUP(X272,Feuil1!$C$1:$BL$10,5,FALSE)","v":42},{"$f":"T272-HLOOKUP(X272,Feuil1!$C$1:$BL$10,6,FALSE)","v":27},{"$f":"T272-HLOOKUP(X272,Feuil1!$C$1:$BL$10,7,FALSE)","v":12},{"$f":"T272-HLOOKUP(X272,Feuil1!$C$1:$BL$10,8,FALSE)","v":-8},{"$f":"T272-HLOOKUP(X272,Feuil1!$C$1:$BL$10,9,FALSE)","v":-28},{"$f":"T272-HLOOKUP(X272,Feuil1!$C$1:$BL$10,10,FALSE)","v":-43},null,null,null,null,null,null,"NAT +"]
["F","N","IDF",5,379286,"WONG","AMY",1989,68.7,"SAINT-MAUR","USA",65,70,72,72,85,90,-92,90,162,24.599999999999994,"NAT +",12,{"$f":"IF(I273=\"\",\"\",IF(A273=\"H\",IF(OR(H273=\"SEN\",H273<1995),VLOOKUP(I273,Feuil1!$A$11:$F$29,6),IF(AND(H273>1994,H273<1998),VLOOKUP(I273,Feuil1!$A$11:$F$29,5),IF(AND(H273>1997,H273<2000),VLOOKUP(I273,Feuil1!$A$11:$F$29,4),IF(AND(H273>1999,H273<2002),VLOOKUP(I273,Feuil1!$A$11:$F$29,3),VLOOKUP(I273,Feuil1!$A$11:$F$29,2))))),IF(OR(H273=\"SEN\",H273<1995),VLOOKUP(I273,Feuil1!$G$11:$L$25,6),IF(AND(H273>1994,H273<1998),VLOOKUP(I273,Feuil1!$G$11:$L$25,5),IF(AND(H273>1997,H273<2000),VLOOKUP(I273,Feuil1!$G$11:$L$25,4),IF(AND(H273>1999,H273<2002),VLOOKUP(I273,Feuil1!$G$11:$L$25,3),VLOOKUP(I273,Feuil1!$G$11:$L$25,2)))))))","v":"FS69"},203.81649405657623,null," ",{"$f":"T273-HLOOKUP(X273,Feuil1!$C$1:$BL$10,2,FALSE)","v":82},{"$f":"T273-HLOOKUP(X273,Feuil1!$C$1:$BL$10,3,FALSE)","v":72},{"$f":"T273-HLOOKUP(X273,Feuil1!$C$1:$BL$10,4,FALSE)","v":57},{"$f":"T273-HLOOKUP(X273,Feuil1!$C$1:$BL$10,5,FALSE)","v":42},{"$f":"T273-HLOOKUP(X273,Feuil1!$C$1:$BL$10,6,FALSE)","v":27},{"$f":"T273-HLOOKUP(X273,Feuil1!$C$1:$BL$10,7,FALSE)","v":12},{"$f":"T273-HLOOKUP(X273,Feuil1!$C$1:$BL$10,8,FALSE)","v":-8},{"$f":"T273-HLOOKUP(X273,Feuil1!$C$1:$BL$10,9,FALSE)","v":-28},{"$f":"T273-HLOOKUP(X273,Feuil1!$C$1:$BL$10,10,FALSE)","v":-43},null,null,null,null,null,null,"NAT +"]
["F","SO","MPY",6,3505,"CRETON","Sandy",1976,63.1,"TOULOUSE HC","F",68,-72,-72,68,85,90,93,93,161,34.799999999999997,"NAT +",11,{"$f":"IF(I274=\"\",\"\",IF(A274=\"H\",IF(OR(H274=\"SEN\",H274<1995),VLOOKUP(I274,Feuil1!$A$11:$F$29,6),IF(AND(H274>1994,H274<1998),VLOOKUP(I274,Feuil1!$A$11:$F$29,5),IF(AND(H274>1997,H274<2000),VLOOKUP(I274,Feuil1!$A$11:$F$29,4),IF(AND(H274>1999,H274<2002),VLOOKUP(I274,Feuil1!$A$11:$F$29,3),VLOOKUP(I274,Feuil1!$A$11:$F$29,2))))),IF(OR(H274=\"SEN\",H274<1995),VLOOKUP(I274,Feuil1!$G$11:$L$25,6),IF(AND(H274>1994,H274<1998),VLOOKUP(I274,Feuil1!$G$11:$L$25,5),IF(AND(H274>1997,H274<2000),VLOOKUP(I274,Feuil1!$G$11:$L$25,4),IF(AND(H274>1999,H274<2002),VLOOKUP(I274,Feuil1!$G$11:$L$25,3),VLOOKUP(I274,Feuil1!$G$11:$L$25,2)))))))","v":"FS69"},213.73019813411457,null," ",{"$f":"T274-HLOOKUP(X274,Feuil1!$C$1:$BL$10,2,FALSE)","v":81},{"$f":"T274-HLOOKUP(X274,Feuil1!$C$1:$BL$10,3,FALSE)","v":71},{"$f":"T274-HLOOKUP(X274,Feuil1!$C$1:$BL$10,4,FALSE)","v":56},{"$f":"T274-HLOOKUP(X274,Feuil1!$C$1:$BL$10,5,FALSE)","v":41},{"$f":"T274-HLOOKUP(X274,Feuil1!$C$1:$BL$10,6,FALSE)","v":26},{"$f":"T274-HLOOKUP(X274,Feuil1!$C$1:$BL$10,7,FALSE)","v":11},{"$f":"T274-HLOOKUP(X274,Feuil1!$C$1:$BL$10,8,FALSE)","v":-9},{"$f":"T274-HLOOKUP(X274,Feuil1!$C$1:$BL$10,9,FALSE)","v":-29},{"$f":"T274-HLOOKUP(X274,Feuil1!$C$1:$BL$10,10,FALSE)","v":-44},null,null,null,null,null,null,"NAT +"]
["F","NE","ALS",7,176279,"ZAHNER","SALOME",1993,67.75,"SAS Colmarienne","F",-73,73,-76,73,85,88,-90,88,161,25.5,"NAT +",11,{"$f":"IF(I275=\"\",\"\",IF(A275=\"H\",IF(OR(H275=\"SEN\",H275<1995),VLOOKUP(I275,Feuil1!$A$11:$F$29,6),IF(AND(H275>1994,H275<1998),VLOOKUP(I275,Feuil1!$A$11:$F$29,5),IF(AND(H275>1997,H275<2000),VLOOKUP(I275,Feuil1!$A$11:$F$29,4),IF(AND(H275>1999,H275<2002),VLOOKUP(I275,Feuil1!$A$11:$F$29,3),VLOOKUP(I275,Feuil1!$A$11:$F$29,2))))),IF(OR(H275=\"SEN\",H275<1995),VLOOKUP(I275,Feuil1!$G$11:$L$25,6),IF(AND(H275>1994,H275<1998),VLOOKUP(I275,Feuil1!$G$11:$L$25,5),IF(AND(H275>1997,H275<2000),VLOOKUP(I275,Feuil1!$G$11:$L$25,4),IF(AND(H275>1999,H275<2002),VLOOKUP(I275,Feuil1!$G$11:$L$25,3),VLOOKUP(I275,Feuil1!$G$11:$L$25,2)))))))","v":"FS69"},204.26828445602368,null," ",{"$f":"T275-HLOOKUP(X275,Feuil1!$C$1:$BL$10,2,FALSE)","v":81},{"$f":"T275-HLOOKUP(X275,Feuil1!$C$1:$BL$10,3,FALSE)","v":71},{"$f":"T275-HLOOKUP(X275,Feuil1!$C$1:$BL$10,4,FALSE)","v":56},{"$f":"T275-HLOOKUP(X275,Feuil1!$C$1:$BL$10,5,FALSE)","v":41},{"$f":"T275-HLOOKUP(X275,Feuil1!$C$1:$BL$10,6,FALSE)","v":26},{"$f":"T275-HLOOKUP(X275,Feuil1!$C$1:$BL$10,7,FALSE)","v":11},{"$f":"T275-HLOOKUP(X275,Feuil1!$C$1:$BL$10,8,FALSE)","v":-9},{"$f":"T275-HLOOKUP(X275,Feuil1!$C$1:$BL$10,9,FALSE)","v":-29},{"$f":"T275-HLOOKUP(X275,Feuil1!$C$1:$BL$10,10,FALSE)","v":-44},null,null,null,null,null,null,"NAT +"]
["F","NE","CHA",8,"034517","CRISTOFOLI ","Adeline",1985,68.7,"Langres HM","F",67,-70,71,71,2,86,88,88,159,21.599999999999994,"NAT +",9,{"$f":"IF(I276=\"\",\"\",IF(A276=\"H\",IF(OR(H276=\"SEN\",H276<1995),VLOOKUP(I276,Feuil1!$A$11:$F$29,6),IF(AND(H276>1994,H276<1998),VLOOKUP(I276,Feuil1!$A$11:$F$29,5),IF(AND(H276>1997,H276<2000),VLOOKUP(I276,Feuil1!$A$11:$F$29,4),IF(AND(H276>1999,H276<2002),VLOOKUP(I276,Feuil1!$A$11:$F$29,3),VLOOKUP(I276,Feuil1!$A$11:$F$29,2))))),IF(OR(H276=\"SEN\",H276<1995),VLOOKUP(I276,Feuil1!$G$11:$L$25,6),IF(AND(H276>1994,H276<1998),VLOOKUP(I276,Feuil1!$G$11:$L$25,5),IF(AND(H276>1997,H276<2000),VLOOKUP(I276,Feuil1!$G$11:$L$25,4),IF(AND(H276>1999,H276<2002),VLOOKUP(I276,Feuil1!$G$11:$L$25,3),VLOOKUP(I276,Feuil1!$G$11:$L$25,2)))))))","v":"FS69"},200.04211453701001,null," ",{"$f":"T276-HLOOKUP(X276,Feuil1!$C$1:$BL$10,2,FALSE)","v":79},{"$f":"T276-HLOOKUP(X276,Feuil1!$C$1:$BL$10,3,FALSE)","v":69},{"$f":"T276-HLOOKUP(X276,Feuil1!$C$1:$BL$10,4,FALSE)","v":54},{"$f":"T276-HLOOKUP(X276,Feuil1!$C$1:$BL$10,5,FALSE)","v":39},{"$f":"T276-HLOOKUP(X276,Feuil1!$C$1:$BL$10,6,FALSE)","v":24},{"$f":"T276-HLOOKUP(X276,Feuil1!$C$1:$BL$10,7,FALSE)","v":9},{"$f":"T276-HLOOKUP(X276,Feuil1!$C$1:$BL$10,8,FALSE)","v":-11},{"$f":"T276-HLOOKUP(X276,Feuil1!$C$1:$BL$10,9,FALSE)","v":-31},{"$f":"T276-HLOOKUP(X276,Feuil1!$C$1:$BL$10,10,FALSE)","v":-46},null,null,null,null,null,null,"NAT +"]
["F","CO","BNO",9,115950,"DUMARAIS","Mélissa",1992,63.05,"Caen CHM","F",67,-70,70,70,83,86,-89,86,156,29.900000000000006,"NAT +",6,{"$f":"IF(I277=\"\",\"\",IF(A277=\"H\",IF(OR(H277=\"SEN\",H277<1995),VLOOKUP(I277,Feuil1!$A$11:$F$29,6),IF(AND(H277>1994,H277<1998),VLOOKUP(I277,Feuil1!$A$11:$F$29,5),IF(AND(H277>1997,H277<2000),VLOOKUP(I277,Feuil1!$A$11:$F$29,4),IF(AND(H277>1999,H277<2002),VLOOKUP(I277,Feuil1!$A$11:$F$29,3),VLOOKUP(I277,Feuil1!$A$11:$F$29,2))))),IF(OR(H277=\"SEN\",H277<1995),VLOOKUP(I277,Feuil1!$G$11:$L$25,6),IF(AND(H277>1994,H277<1998),VLOOKUP(I277,Feuil1!$G$11:$L$25,5),IF(AND(H277>1997,H277<2000),VLOOKUP(I277,Feuil1!$G$11:$L$25,4),IF(AND(H277>1999,H277<2002),VLOOKUP(I277,Feuil1!$G$11:$L$25,3),VLOOKUP(I277,Feuil1!$G$11:$L$25,2)))))))","v":"FS69"},207.20178505906119,null," ",{"$f":"T277-HLOOKUP(X277,Feuil1!$C$1:$BL$10,2,FALSE)","v":76},{"$f":"T277-HLOOKUP(X277,Feuil1!$C$1:$BL$10,3,FALSE)","v":66},{"$f":"T277-HLOOKUP(X277,Feuil1!$C$1:$BL$10,4,FALSE)","v":51},{"$f":"T277-HLOOKUP(X277,Feuil1!$C$1:$BL$10,5,FALSE)","v":36},{"$f":"T277-HLOOKUP(X277,Feuil1!$C$1:$BL$10,6,FALSE)","v":21},{"$f":"T277-HLOOKUP(X277,Feuil1!$C$1:$BL$10,7,FALSE)","v":6},{"$f":"T277-HLOOKUP(X277,Feuil1!$C$1:$BL$10,8,FALSE)","v":-14},{"$f":"T277-HLOOKUP(X277,Feuil1!$C$1:$BL$10,9,FALSE)","v":-34},{"$f":"T277-HLOOKUP(X277,Feuil1!$C$1:$BL$10,10,FALSE)","v":-49},null,null,null,null,null,null,"NAT +"]
["F","SEST","CAZ",10,230430,"ATTIA","Severine",1991,64.62,"ASLDD. TOULON","F",67,70,-71,70,78,80,-82,80,150,20.759999999999991,"NAT +",0,{"$f":"IF(I278=\"\",\"\",IF(A278=\"H\",IF(OR(H278=\"SEN\",H278<1995),VLOOKUP(I278,Feuil1!$A$11:$F$29,6),IF(AND(H278>1994,H278<1998),VLOOKUP(I278,Feuil1!$A$11:$F$29,5),IF(AND(H278>1997,H278<2000),VLOOKUP(I278,Feuil1!$A$11:$F$29,4),IF(AND(H278>1999,H278<2002),VLOOKUP(I278,Feuil1!$A$11:$F$29,3),VLOOKUP(I278,Feuil1!$A$11:$F$29,2))))),IF(OR(H278=\"SEN\",H278<1995),VLOOKUP(I278,Feuil1!$G$11:$L$25,6),IF(AND(H278>1994,H278<1998),VLOOKUP(I278,Feuil1!$G$11:$L$25,5),IF(AND(H278>1997,H278<2000),VLOOKUP(I278,Feuil1!$G$11:$L$25,4),IF(AND(H278>1999,H278<2002),VLOOKUP(I278,Feuil1!$G$11:$L$25,3),VLOOKUP(I278,Feuil1!$G$11:$L$25,2)))))))","v":"FS69"},196.04580298025408,null," ",{"$f":"T278-HLOOKUP(X278,Feuil1!$C$1:$BL$10,2,FALSE)","v":70},{"$f":"T278-HLOOKUP(X278,Feuil1!$C$1:$BL$10,3,FALSE)","v":60},{"$f":"T278-HLOOKUP(X278,Feuil1!$C$1:$BL$10,4,FALSE)","v":45},{"$f":"T278-HLOOKUP(X278,Feuil1!$C$1:$BL$10,5,FALSE)","v":30},{"$f":"T278-HLOOKUP(X278,Feuil1!$C$1:$BL$10,6,FALSE)","v":15},{"$f":"T278-HLOOKUP(X278,Feuil1!$C$1:$BL$10,7,FALSE)","v":0},{"$f":"T278-HLOOKUP(X278,Feuil1!$C$1:$BL$10,8,FALSE)","v":-20},{"$f":"T278-HLOOKUP(X278,Feuil1!$C$1:$BL$10,9,FALSE)","v":-40},{"$f":"T278-HLOOKUP(X278,Feuil1!$C$1:$BL$10,10,FALSE)","v":-55},null,null,null,null,null,null,"NAT +"]
["F","NE","ALS",11,319461,"TITTEL MOSSER","LINDSAY",1984,68.7,"SR Obernai HM","F",-60,60,64,64,75,79,82,82,146,8.5999999999999943,"FED +",11,{"$f":"IF(I279=\"\",\"\",IF(A279=\"H\",IF(OR(H279=\"SEN\",H279<1995),VLOOKUP(I279,Feuil1!$A$11:$F$29,6),IF(AND(H279>1994,H279<1998),VLOOKUP(I279,Feuil1!$A$11:$F$29,5),IF(AND(H279>1997,H279<2000),VLOOKUP(I279,Feuil1!$A$11:$F$29,4),IF(AND(H279>1999,H279<2002),VLOOKUP(I279,Feuil1!$A$11:$F$29,3),VLOOKUP(I279,Feuil1!$A$11:$F$29,2))))),IF(OR(H279=\"SEN\",H279<1995),VLOOKUP(I279,Feuil1!$G$11:$L$25,6),IF(AND(H279>1994,H279<1998),VLOOKUP(I279,Feuil1!$G$11:$L$25,5),IF(AND(H279>1997,H279<2000),VLOOKUP(I279,Feuil1!$G$11:$L$25,4),IF(AND(H279>1999,H279<2002),VLOOKUP(I279,Feuil1!$G$11:$L$25,3),VLOOKUP(I279,Feuil1!$G$11:$L$25,2)))))))","v":"FS69"},183.68646995222301,null," ",{"$f":"T279-HLOOKUP(X279,Feuil1!$C$1:$BL$10,2,FALSE)","v":66},{"$f":"T279-HLOOKUP(X279,Feuil1!$C$1:$BL$10,3,FALSE)","v":56},{"$f":"T279-HLOOKUP(X279,Feuil1!$C$1:$BL$10,4,FALSE)","v":41},{"$f":"T279-HLOOKUP(X279,Feuil1!$C$1:$BL$10,5,FALSE)","v":26},{"$f":"T279-HLOOKUP(X279,Feuil1!$C$1:$BL$10,6,FALSE)","v":11},{"$f":"T279-HLOOKUP(X279,Feuil1!$C$1:$BL$10,7,FALSE)","v":-4},{"$f":"T279-HLOOKUP(X279,Feuil1!$C$1:$BL$10,8,FALSE)","v":-24},{"$f":"T279-HLOOKUP(X279,Feuil1!$C$1:$BL$10,9,FALSE)","v":-44},{"$f":"T279-HLOOKUP(X279,Feuil1!$C$1:$BL$10,10,FALSE)","v":-59},null,null,null,null,null,null,"FED +"]
["F","NE","ALS",12,20829,"THOMAS","EVELYNE",1979,68.069999999999993,"ASPTT Strasbourg","F",58,60,62,62,73,75,77,77,139,2.8600000000000136,"FED +",4,{"$f":"IF(I280=\"\",\"\",IF(A280=\"H\",IF(OR(H280=\"SEN\",H280<1995),VLOOKUP(I280,Feuil1!$A$11:$F$29,6),IF(AND(H280>1994,H280<1998),VLOOKUP(I280,Feuil1!$A$11:$F$29,5),IF(AND(H280>1997,H280<2000),VLOOKUP(I280,Feuil1!$A$11:$F$29,4),IF(AND(H280>1999,H280<2002),VLOOKUP(I280,Feuil1!$A$11:$F$29,3),VLOOKUP(I280,Feuil1!$A$11:$F$29,2))))),IF(OR(H280=\"SEN\",H280<1995),VLOOKUP(I280,Feuil1!$G$11:$L$25,6),IF(AND(H280>1994,H280<1998),VLOOKUP(I280,Feuil1!$G$11:$L$25,5),IF(AND(H280>1997,H280<2000),VLOOKUP(I280,Feuil1!$G$11:$L$25,4),IF(AND(H280>1999,H280<2002),VLOOKUP(I280,Feuil1!$G$11:$L$25,3),VLOOKUP(I280,Feuil1!$G$11:$L$25,2)))))))","v":"FS69"},175.85191630924257,null," ",{"$f":"T280-HLOOKUP(X280,Feuil1!$C$1:$BL$10,2,FALSE)","v":59},{"$f":"T280-HLOOKUP(X280,Feuil1!$C$1:$BL$10,3,FALSE)","v":49},{"$f":"T280-HLOOKUP(X280,Feuil1!$C$1:$BL$10,4,FALSE)","v":34},{"$f":"T280-HLOOKUP(X280,Feuil1!$C$1:$BL$10,5,FALSE)","v":19},{"$f":"T280-HLOOKUP(X280,Feuil1!$C$1:$BL$10,6,FALSE)","v":4},{"$f":"T280-HLOOKUP(X280,Feuil1!$C$1:$BL$10,7,FALSE)","v":-11},{"$f":"T280-HLOOKUP(X280,Feuil1!$C$1:$BL$10,8,FALSE)","v":-31},{"$f":"T280-HLOOKUP(X280,Feuil1!$C$1:$BL$10,9,FALSE)","v":-51},{"$f":"T280-HLOOKUP(X280,Feuil1!$C$1:$BL$10,10,FALSE)","v":-66},null,null,null,null,null,null,"FED +"]
["F","SEST","AUV",13,357422,"BILLET","léa",1992,68.8,"STADE CLERMONTOIS","F",55,59,-62,59,76,-80,80,80,139,1.4000000000000057,"FED +",4,{"$f":"IF(I281=\"\",\"\",IF(A281=\"H\",IF(OR(H281=\"SEN\",H281<1995),VLOOKUP(I281,Feuil1!$A$11:$F$29,6),IF(AND(H281>1994,H281<1998),VLOOKUP(I281,Feuil1!$A$11:$F$29,5),IF(AND(H281>1997,H281<2000),VLOOKUP(I281,Feuil1!$A$11:$F$29,4),IF(AND(H281>1999,H281<2002),VLOOKUP(I281,Feuil1!$A$11:$F$29,3),VLOOKUP(I281,Feuil1!$A$11:$F$29,2))))),IF(OR(H281=\"SEN\",H281<1995),VLOOKUP(I281,Feuil1!$G$11:$L$25,6),IF(AND(H281>1994,H281<1998),VLOOKUP(I281,Feuil1!$G$11:$L$25,5),IF(AND(H281>1997,H281<2000),VLOOKUP(I281,Feuil1!$G$11:$L$25,4),IF(AND(H281>1999,H281<2002),VLOOKUP(I281,Feuil1!$G$11:$L$25,3),VLOOKUP(I281,Feuil1!$G$11:$L$25,2)))))))","v":"FS69"},174.72761508678349,null," ",{"$f":"T281-HLOOKUP(X281,Feuil1!$C$1:$BL$10,2,FALSE)","v":59},{"$f":"T281-HLOOKUP(X281,Feuil1!$C$1:$BL$10,3,FALSE)","v":49},{"$f":"T281-HLOOKUP(X281,Feuil1!$C$1:$BL$10,4,FALSE)","v":34},{"$f":"T281-HLOOKUP(X281,Feuil1!$C$1:$BL$10,5,FALSE)","v":19},{"$f":"T281-HLOOKUP(X281,Feuil1!$C$1:$BL$10,6,FALSE)","v":4},{"$f":"T281-HLOOKUP(X281,Feuil1!$C$1:$BL$10,7,FALSE)","v":-11},{"$f":"T281-HLOOKUP(X281,Feuil1!$C$1:$BL$10,8,FALSE)","v":-31},{"$f":"T281-HLOOKUP(X281,Feuil1!$C$1:$BL$10,9,FALSE)","v":-51},{"$f":"T281-HLOOKUP(X281,Feuil1!$C$1:$BL$10,10,FALSE)","v":-66},null,null,null,null,null,null,"FED +"]
["F","NE","ALS",14,324052,"PREDY","ANAIS",1992,63.2,"SHC Haguenau","F",55,58,-60,58,70,73,75,75,133,6.5999999999999943,"IRG +",13,{"$f":"IF(I282=\"\",\"\",IF(A282=\"H\",IF(OR(H282=\"SEN\",H282<1995),VLOOKUP(I282,Feuil1!$A$11:$F$29,6),IF(AND(H282>1994,H282<1998),VLOOKUP(I282,Feuil1!$A$11:$F$29,5),IF(AND(H282>1997,H282<2000),VLOOKUP(I282,Feuil1!$A$11:$F$29,4),IF(AND(H282>1999,H282<2002),VLOOKUP(I282,Feuil1!$A$11:$F$29,3),VLOOKUP(I282,Feuil1!$A$11:$F$29,2))))),IF(OR(H282=\"SEN\",H282<1995),VLOOKUP(I282,Feuil1!$G$11:$L$25,6),IF(AND(H282>1994,H282<1998),VLOOKUP(I282,Feuil1!$G$11:$L$25,5),IF(AND(H282>1997,H282<2000),VLOOKUP(I282,Feuil1!$G$11:$L$25,4),IF(AND(H282>1999,H282<2002),VLOOKUP(I282,Feuil1!$G$11:$L$25,3),VLOOKUP(I282,Feuil1!$G$11:$L$25,2)))))))","v":"FS69"},176.37420529199036,null," ",{"$f":"T282-HLOOKUP(X282,Feuil1!$C$1:$BL$10,2,FALSE)","v":53},{"$f":"T282-HLOOKUP(X282,Feuil1!$C$1:$BL$10,3,FALSE)","v":43},{"$f":"T282-HLOOKUP(X282,Feuil1!$C$1:$BL$10,4,FALSE)","v":28},{"$f":"T282-HLOOKUP(X282,Feuil1!$C$1:$BL$10,5,FALSE)","v":13},{"$f":"T282-HLOOKUP(X282,Feuil1!$C$1:$BL$10,6,FALSE)","v":-2},{"$f":"T282-HLOOKUP(X282,Feuil1!$C$1:$BL$10,7,FALSE)","v":-17},{"$f":"T282-HLOOKUP(X282,Feuil1!$C$1:$BL$10,8,FALSE)","v":-37},{"$f":"T282-HLOOKUP(X282,Feuil1!$C$1:$BL$10,9,FALSE)","v":-57},{"$f":"T282-HLOOKUP(X282,Feuil1!$C$1:$BL$10,10,FALSE)","v":-72},null,null,null,null,null,null,"IRG +"]
["F","SEST","CAZ",15,332675,"RADEAU","Celine",1983,66.39,"AS MONACO","F",50,53,-55,53,65,68,70,70,123,-9.7800000000000011,"IRG +",3,{"$f":"IF(I283=\"\",\"\",IF(A283=\"H\",IF(OR(H283=\"SEN\",H283<1995),VLOOKUP(I283,Feuil1!$A$11:$F$29,6),IF(AND(H283>1994,H283<1998),VLOOKUP(I283,Feuil1!$A$11:$F$29,5),IF(AND(H283>1997,H283<2000),VLOOKUP(I283,Feuil1!$A$11:$F$29,4),IF(AND(H283>1999,H283<2002),VLOOKUP(I283,Feuil1!$A$11:$F$29,3),VLOOKUP(I283,Feuil1!$A$11:$F$29,2))))),IF(OR(H283=\"SEN\",H283<1995),VLOOKUP(I283,Feuil1!$G$11:$L$25,6),IF(AND(H283>1994,H283<1998),VLOOKUP(I283,Feuil1!$G$11:$L$25,5),IF(AND(H283>1997,H283<2000),VLOOKUP(I283,Feuil1!$G$11:$L$25,4),IF(AND(H283>1999,H283<2002),VLOOKUP(I283,Feuil1!$G$11:$L$25,3),VLOOKUP(I283,Feuil1!$G$11:$L$25,2)))))))","v":"FS69"},158.02070351982684,null," ",{"$f":"T283-HLOOKUP(X283,Feuil1!$C$1:$BL$10,2,FALSE)","v":43},{"$f":"T283-HLOOKUP(X283,Feuil1!$C$1:$BL$10,3,FALSE)","v":33},{"$f":"T283-HLOOKUP(X283,Feuil1!$C$1:$BL$10,4,FALSE)","v":18},{"$f":"T283-HLOOKUP(X283,Feuil1!$C$1:$BL$10,5,FALSE)","v":3},{"$f":"T283-HLOOKUP(X283,Feuil1!$C$1:$BL$10,6,FALSE)","v":-12},{"$f":"T283-HLOOKUP(X283,Feuil1!$C$1:$BL$10,7,FALSE)","v":-27},{"$f":"T283-HLOOKUP(X283,Feuil1!$C$1:$BL$10,8,FALSE)","v":-47},{"$f":"T283-HLOOKUP(X283,Feuil1!$C$1:$BL$10,9,FALSE)","v":-67},{"$f":"T283-HLOOKUP(X283,Feuil1!$C$1:$BL$10,10,FALSE)","v":-82},null,null,null,null,null,null,"IRG +"]
["F","N","IDF",16,382101,"GRZESIAK","LAETITIA",1988,64.900000000000006,"NEUILLY","F",48,-52,-52,48,68,73,-78,73,121,-8.8000000000000114,"IRG +",1,{"$f":"IF(I284=\"\",\"\",IF(A284=\"H\",IF(OR(H284=\"SEN\",H284<1995),VLOOKUP(I284,Feuil1!$A$11:$F$29,6),IF(AND(H284>1994,H284<1998),VLOOKUP(I284,Feuil1!$A$11:$F$29,5),IF(AND(H284>1997,H284<2000),VLOOKUP(I284,Feuil1!$A$11:$F$29,4),IF(AND(H284>1999,H284<2002),VLOOKUP(I284,Feuil1!$A$11:$F$29,3),VLOOKUP(I284,Feuil1!$A$11:$F$29,2))))),IF(OR(H284=\"SEN\",H284<1995),VLOOKUP(I284,Feuil1!$G$11:$L$25,6),IF(AND(H284>1994,H284<1998),VLOOKUP(I284,Feuil1!$G$11:$L$25,5),IF(AND(H284>1997,H284<2000),VLOOKUP(I284,Feuil1!$G$11:$L$25,4),IF(AND(H284>1999,H284<2002),VLOOKUP(I284,Feuil1!$G$11:$L$25,3),VLOOKUP(I284,Feuil1!$G$11:$L$25,2)))))))","v":"FS69"},157.70368722130945,null," ",{"$f":"T284-HLOOKUP(X284,Feuil1!$C$1:$BL$10,2,FALSE)","v":41},{"$f":"T284-HLOOKUP(X284,Feuil1!$C$1:$BL$10,3,FALSE)","v":31},{"$f":"T284-HLOOKUP(X284,Feuil1!$C$1:$BL$10,4,FALSE)","v":16},{"$f":"T284-HLOOKUP(X284,Feuil1!$C$1:$BL$10,5,FALSE)","v":1},{"$f":"T284-HLOOKUP(X284,Feuil1!$C$1:$BL$10,6,FALSE)","v":-14},{"$f":"T284-HLOOKUP(X284,Feuil1!$C$1:$BL$10,7,FALSE)","v":-29},{"$f":"T284-HLOOKUP(X284,Feuil1!$C$1:$BL$10,8,FALSE)","v":-49},{"$f":"T284-HLOOKUP(X284,Feuil1!$C$1:$BL$10,9,FALSE)","v":-69},{"$f":"T284-HLOOKUP(X284,Feuil1!$C$1:$BL$10,10,FALSE)","v":-84},null,null,null,null,null,null,"IRG +"]
["F","SEST","RAL",17,394111,"CASTELLANI","Carole",1988,64.5,"CH Arbresle","F",50,55,-60,55,65,-70,-70,65,120,-9,"IRG +",0,{"$f":"IF(I285=\"\",\"\",IF(A285=\"H\",IF(OR(H285=\"SEN\",H285<1995),VLOOKUP(I285,Feuil1!$A$11:$F$29,6),IF(AND(H285>1994,H285<1998),VLOOKUP(I285,Feuil1!$A$11:$F$29,5),IF(AND(H285>1997,H285<2000),VLOOKUP(I285,Feuil1!$A$11:$F$29,4),IF(AND(H285>1999,H285<2002),VLOOKUP(I285,Feuil1!$A$11:$F$29,3),VLOOKUP(I285,Feuil1!$A$11:$F$29,2))))),IF(OR(H285=\"SEN\",H285<1995),VLOOKUP(I285,Feuil1!$G$11:$L$25,6),IF(AND(H285>1994,H285<1998),VLOOKUP(I285,Feuil1!$G$11:$L$25,5),IF(AND(H285>1997,H285<2000),VLOOKUP(I285,Feuil1!$G$11:$L$25,4),IF(AND(H285>1999,H285<2002),VLOOKUP(I285,Feuil1!$G$11:$L$25,3),VLOOKUP(I285,Feuil1!$G$11:$L$25,2)))))))","v":"FS69"},157.02528045694299,null," ",{"$f":"T285-HLOOKUP(X285,Feuil1!$C$1:$BL$10,2,FALSE)","v":40},{"$f":"T285-HLOOKUP(X285,Feuil1!$C$1:$BL$10,3,FALSE)","v":30},{"$f":"T285-HLOOKUP(X285,Feuil1!$C$1:$BL$10,4,FALSE)","v":15},{"$f":"T285-HLOOKUP(X285,Feuil1!$C$1:$BL$10,5,FALSE)","v":0},{"$f":"T285-HLOOKUP(X285,Feuil1!$C$1:$BL$10,6,FALSE)","v":-15},{"$f":"T285-HLOOKUP(X285,Feuil1!$C$1:$BL$10,7,FALSE)","v":-30},{"$f":"T285-HLOOKUP(X285,Feuil1!$C$1:$BL$10,8,FALSE)","v":-50},{"$f":"T285-HLOOKUP(X285,Feuil1!$C$1:$BL$10,9,FALSE)","v":-70},{"$f":"T285-HLOOKUP(X285,Feuil1!$C$1:$BL$10,10,FALSE)","v":-85},null,null,null,null,null,null,"IRG +"]
["F","SO","AQU",18,169798,"GIRAUD","Clarisse",1966,69,"ASOA Aquitaine","F",49,51,53,53,64,67,-68,67,120,-18,"IRG +",0,{"$f":"IF(I286=\"\",\"\",IF(A286=\"H\",IF(OR(H286=\"SEN\",H286<1995),VLOOKUP(I286,Feuil1!$A$11:$F$29,6),IF(AND(H286>1994,H286<1998),VLOOKUP(I286,Feuil1!$A$11:$F$29,5),IF(AND(H286>1997,H286<2000),VLOOKUP(I286,Feuil1!$A$11:$F$29,4),IF(AND(H286>1999,H286<2002),VLOOKUP(I286,Feuil1!$A$11:$F$29,3),VLOOKUP(I286,Feuil1!$A$11:$F$29,2))))),IF(OR(H286=\"SEN\",H286<1995),VLOOKUP(I286,Feuil1!$G$11:$L$25,6),IF(AND(H286>1994,H286<1998),VLOOKUP(I286,Feuil1!$G$11:$L$25,5),IF(AND(H286>1997,H286<2000),VLOOKUP(I286,Feuil1!$G$11:$L$25,4),IF(AND(H286>1999,H286<2002),VLOOKUP(I286,Feuil1!$G$11:$L$25,3),VLOOKUP(I286,Feuil1!$G$11:$L$25,2)))))))","v":"FS69"},150.5832451537228,null," ",{"$f":"T286-HLOOKUP(X286,Feuil1!$C$1:$BL$10,2,FALSE)","v":40},{"$f":"T286-HLOOKUP(X286,Feuil1!$C$1:$BL$10,3,FALSE)","v":30},{"$f":"T286-HLOOKUP(X286,Feuil1!$C$1:$BL$10,4,FALSE)","v":15},{"$f":"T286-HLOOKUP(X286,Feuil1!$C$1:$BL$10,5,FALSE)","v":0},{"$f":"T286-HLOOKUP(X286,Feuil1!$C$1:$BL$10,6,FALSE)","v":-15},{"$f":"T286-HLOOKUP(X286,Feuil1!$C$1:$BL$10,7,FALSE)","v":-30},{"$f":"T286-HLOOKUP(X286,Feuil1!$C$1:$BL$10,8,FALSE)","v":-50},{"$f":"T286-HLOOKUP(X286,Feuil1!$C$1:$BL$10,9,FALSE)","v":-70},{"$f":"T286-HLOOKUP(X286,Feuil1!$C$1:$BL$10,10,FALSE)","v":-85},null,null,null,null,null,null,"IRG +"]
["F","NORD","NPC",19,373854,"MARTEAU","Dorothée",1986,64.8,"LOMME","F",50,-55,"-",50,60,-64,64,64,114,-15.599999999999994,"REG +",9,{"$f":"IF(I287=\"\",\"\",IF(A287=\"H\",IF(OR(H287=\"SEN\",H287<1995),VLOOKUP(I287,Feuil1!$A$11:$F$29,6),IF(AND(H287>1994,H287<1998),VLOOKUP(I287,Feuil1!$A$11:$F$29,5),IF(AND(H287>1997,H287<2000),VLOOKUP(I287,Feuil1!$A$11:$F$29,4),IF(AND(H287>1999,H287<2002),VLOOKUP(I287,Feuil1!$A$11:$F$29,3),VLOOKUP(I287,Feuil1!$A$11:$F$29,2))))),IF(OR(H287=\"SEN\",H287<1995),VLOOKUP(I287,Feuil1!$G$11:$L$25,6),IF(AND(H287>1994,H287<1998),VLOOKUP(I287,Feuil1!$G$11:$L$25,5),IF(AND(H287>1997,H287<2000),VLOOKUP(I287,Feuil1!$G$11:$L$25,4),IF(AND(H287>1999,H287<2002),VLOOKUP(I287,Feuil1!$G$11:$L$25,3),VLOOKUP(I287,Feuil1!$G$11:$L$25,2)))))))","v":"FS69"},148.72777418894592,null," ",{"$f":"T287-HLOOKUP(X287,Feuil1!$C$1:$BL$10,2,FALSE)","v":34},{"$f":"T287-HLOOKUP(X287,Feuil1!$C$1:$BL$10,3,FALSE)","v":24},{"$f":"T287-HLOOKUP(X287,Feuil1!$C$1:$BL$10,4,FALSE)","v":9},{"$f":"T287-HLOOKUP(X287,Feuil1!$C$1:$BL$10,5,FALSE)","v":-6},{"$f":"T287-HLOOKUP(X287,Feuil1!$C$1:$BL$10,6,FALSE)","v":-21},{"$f":"T287-HLOOKUP(X287,Feuil1!$C$1:$BL$10,7,FALSE)","v":-36},{"$f":"T287-HLOOKUP(X287,Feuil1!$C$1:$BL$10,8,FALSE)","v":-56},{"$f":"T287-HLOOKUP(X287,Feuil1!$C$1:$BL$10,9,FALSE)","v":-76},{"$f":"T287-HLOOKUP(X287,Feuil1!$C$1:$BL$10,10,FALSE)","v":-91},null,null,null,null,null,null,"REG +"]
["F","N","IDF",20,380682,"DEKEISTER","CHLOE",1990,68.900000000000006,"SAINT MAUR","F",43,48,-50,48,62,66,-70,66,114,-23.800000000000011,"REG +",9,{"$f":"IF(I288=\"\",\"\",IF(A288=\"H\",IF(OR(H288=\"SEN\",H288<1995),VLOOKUP(I288,Feuil1!$A$11:$F$29,6),IF(AND(H288>1994,H288<1998),VLOOKUP(I288,Feuil1!$A$11:$F$29,5),IF(AND(H288>1997,H288<2000),VLOOKUP(I288,Feuil1!$A$11:$F$29,4),IF(AND(H288>1999,H288<2002),VLOOKUP(I288,Feuil1!$A$11:$F$29,3),VLOOKUP(I288,Feuil1!$A$11:$F$29,2))))),IF(OR(H288=\"SEN\",H288<1995),VLOOKUP(I288,Feuil1!$G$11:$L$25,6),IF(AND(H288>1994,H288<1998),VLOOKUP(I288,Feuil1!$G$11:$L$25,5),IF(AND(H288>1997,H288<2000),VLOOKUP(I288,Feuil1!$G$11:$L$25,4),IF(AND(H288>1999,H288<2002),VLOOKUP(I288,Feuil1!$G$11:$L$25,3),VLOOKUP(I288,Feuil1!$G$11:$L$25,2)))))))","v":"FS69"},143.17767299394674,null," ",{"$f":"T288-HLOOKUP(X288,Feuil1!$C$1:$BL$10,2,FALSE)","v":34},{"$f":"T288-HLOOKUP(X288,Feuil1!$C$1:$BL$10,3,FALSE)","v":24},{"$f":"T288-HLOOKUP(X288,Feuil1!$C$1:$BL$10,4,FALSE)","v":9},{"$f":"T288-HLOOKUP(X288,Feuil1!$C$1:$BL$10,5,FALSE)","v":-6},{"$f":"T288-HLOOKUP(X288,Feuil1!$C$1:$BL$10,6,FALSE)","v":-21},{"$f":"T288-HLOOKUP(X288,Feuil1!$C$1:$BL$10,7,FALSE)","v":-36},{"$f":"T288-HLOOKUP(X288,Feuil1!$C$1:$BL$10,8,FALSE)","v":-56},{"$f":"T288-HLOOKUP(X288,Feuil1!$C$1:$BL$10,9,FALSE)","v":-76},{"$f":"T288-HLOOKUP(X288,Feuil1!$C$1:$BL$10,10,FALSE)","v":-91},null,null,null,null,null,null,"REG +"]
["F","NORD","PIC",21,204929,"CHEVALLIER","Célia",1968,69,"La Ferté Milon CMHM","F",50,-54,54,54,55,57,60,60,114,-24,"REG +",9,{"$f":"IF(I289=\"\",\"\",IF(A289=\"H\",IF(OR(H289=\"SEN\",H289<1995),VLOOKUP(I289,Feuil1!$A$11:$F$29,6),IF(AND(H289>1994,H289<1998),VLOOKUP(I289,Feuil1!$A$11:$F$29,5),IF(AND(H289>1997,H289<2000),VLOOKUP(I289,Feuil1!$A$11:$F$29,4),IF(AND(H289>1999,H289<2002),VLOOKUP(I289,Feuil1!$A$11:$F$29,3),VLOOKUP(I289,Feuil1!$A$11:$F$29,2))))),IF(OR(H289=\"SEN\",H289<1995),VLOOKUP(I289,Feuil1!$G$11:$L$25,6),IF(AND(H289>1994,H289<1998),VLOOKUP(I289,Feuil1!$G$11:$L$25,5),IF(AND(H289>1997,H289<2000),VLOOKUP(I289,Feuil1!$G$11:$L$25,4),IF(AND(H289>1999,H289<2002),VLOOKUP(I289,Feuil1!$G$11:$L$25,3),VLOOKUP(I289,Feuil1!$G$11:$L$25,2)))))))","v":"FS69"},143.05408289603665,null," ",{"$f":"T289-HLOOKUP(X289,Feuil1!$C$1:$BL$10,2,FALSE)","v":34},{"$f":"T289-HLOOKUP(X289,Feuil1!$C$1:$BL$10,3,FALSE)","v":24},{"$f":"T289-HLOOKUP(X289,Feuil1!$C$1:$BL$10,4,FALSE)","v":9},{"$f":"T289-HLOOKUP(X289,Feuil1!$C$1:$BL$10,5,FALSE)","v":-6},{"$f":"T289-HLOOKUP(X289,Feuil1!$C$1:$BL$10,6,FALSE)","v":-21},{"$f":"T289-HLOOKUP(X289,Feuil1!$C$1:$BL$10,7,FALSE)","v":-36},{"$f":"T289-HLOOKUP(X289,Feuil1!$C$1:$BL$10,8,FALSE)","v":-56},{"$f":"T289-HLOOKUP(X289,Feuil1!$C$1:$BL$10,9,FALSE)","v":-76},{"$f":"T289-HLOOKUP(X289,Feuil1!$C$1:$BL$10,10,FALSE)","v":-91},null,null,null,null,null,null,"REG +"]
["F","N","IDF",22,381264,"SITHIMOLADA","VALERIE",1982,64.5,"MELUN","F",40,45,-50,45,60,65,68,68,113,-16,"REG +",8,{"$f":"IF(I290=\"\",\"\",IF(A290=\"H\",IF(OR(H290=\"SEN\",H290<1995),VLOOKUP(I290,Feuil1!$A$11:$F$29,6),IF(AND(H290>1994,H290<1998),VLOOKUP(I290,Feuil1!$A$11:$F$29,5),IF(AND(H290>1997,H290<2000),VLOOKUP(I290,Feuil1!$A$11:$F$29,4),IF(AND(H290>1999,H290<2002),VLOOKUP(I290,Feuil1!$A$11:$F$29,3),VLOOKUP(I290,Feuil1!$A$11:$F$29,2))))),IF(OR(H290=\"SEN\",H290<1995),VLOOKUP(I290,Feuil1!$G$11:$L$25,6),IF(AND(H290>1994,H290<1998),VLOOKUP(I290,Feuil1!$G$11:$L$25,5),IF(AND(H290>1997,H290<2000),VLOOKUP(I290,Feuil1!$G$11:$L$25,4),IF(AND(H290>1999,H290<2002),VLOOKUP(I290,Feuil1!$G$11:$L$25,3),VLOOKUP(I290,Feuil1!$G$11:$L$25,2)))))))","v":"FS69"},147.86547243028801,null," ",{"$f":"T290-HLOOKUP(X290,Feuil1!$C$1:$BL$10,2,FALSE)","v":33},{"$f":"T290-HLOOKUP(X290,Feuil1!$C$1:$BL$10,3,FALSE)","v":23},{"$f":"T290-HLOOKUP(X290,Feuil1!$C$1:$BL$10,4,FALSE)","v":8},{"$f":"T290-HLOOKUP(X290,Feuil1!$C$1:$BL$10,5,FALSE)","v":-7},{"$f":"T290-HLOOKUP(X290,Feuil1!$C$1:$BL$10,6,FALSE)","v":-22},{"$f":"T290-HLOOKUP(X290,Feuil1!$C$1:$BL$10,7,FALSE)","v":-37},{"$f":"T290-HLOOKUP(X290,Feuil1!$C$1:$BL$10,8,FALSE)","v":-57},{"$f":"T290-HLOOKUP(X290,Feuil1!$C$1:$BL$10,9,FALSE)","v":-77},{"$f":"T290-HLOOKUP(X290,Feuil1!$C$1:$BL$10,10,FALSE)","v":-92},null,null,null,null,null,null,"REG +"]
["F","NORD","PIC",23,316550,"BROUETTE","Valérie",1972,68.8,"La Vaillante Saint Quentin","F",43,46,49,49,58,62,64,64,113,-24.599999999999994,"REG +",8,{"$f":"IF(I291=\"\",\"\",IF(A291=\"H\",IF(OR(H291=\"SEN\",H291<1995),VLOOKUP(I291,Feuil1!$A$11:$F$29,6),IF(AND(H291>1994,H291<1998),VLOOKUP(I291,Feuil1!$A$11:$F$29,5),IF(AND(H291>1997,H291<2000),VLOOKUP(I291,Feuil1!$A$11:$F$29,4),IF(AND(H291>1999,H291<2002),VLOOKUP(I291,Feuil1!$A$11:$F$29,3),VLOOKUP(I291,Feuil1!$A$11:$F$29,2))))),IF(OR(H291=\"SEN\",H291<1995),VLOOKUP(I291,Feuil1!$G$11:$L$25,6),IF(AND(H291>1994,H291<1998),VLOOKUP(I291,Feuil1!$G$11:$L$25,5),IF(AND(H291>1997,H291<2000),VLOOKUP(I291,Feuil1!$G$11:$L$25,4),IF(AND(H291>1999,H291<2002),VLOOKUP(I291,Feuil1!$G$11:$L$25,3),VLOOKUP(I291,Feuil1!$G$11:$L$25,2)))))))","v":"FS69"},142.04475183314051,null," ",{"$f":"T291-HLOOKUP(X291,Feuil1!$C$1:$BL$10,2,FALSE)","v":33},{"$f":"T291-HLOOKUP(X291,Feuil1!$C$1:$BL$10,3,FALSE)","v":23},{"$f":"T291-HLOOKUP(X291,Feuil1!$C$1:$BL$10,4,FALSE)","v":8},{"$f":"T291-HLOOKUP(X291,Feuil1!$C$1:$BL$10,5,FALSE)","v":-7},{"$f":"T291-HLOOKUP(X291,Feuil1!$C$1:$BL$10,6,FALSE)","v":-22},{"$f":"T291-HLOOKUP(X291,Feuil1!$C$1:$BL$10,7,FALSE)","v":-37},{"$f":"T291-HLOOKUP(X291,Feuil1!$C$1:$BL$10,8,FALSE)","v":-57},{"$f":"T291-HLOOKUP(X291,Feuil1!$C$1:$BL$10,9,FALSE)","v":-77},{"$f":"T291-HLOOKUP(X291,Feuil1!$C$1:$BL$10,10,FALSE)","v":-92},null,null,null,null,null,null,"REG +"]
["F","CO","BNO",24,17886,"Berhaut","Muriel",1956,66.2,"Caen CHM","F",45,47,49,49,55,58,61,61,110,-22.400000000000006,"REG +",5,{"$f":"IF(I292=\"\",\"\",IF(A292=\"H\",IF(OR(H292=\"SEN\",H292<1995),VLOOKUP(I292,Feuil1!$A$11:$F$29,6),IF(AND(H292>1994,H292<1998),VLOOKUP(I292,Feuil1!$A$11:$F$29,5),IF(AND(H292>1997,H292<2000),VLOOKUP(I292,Feuil1!$A$11:$F$29,4),IF(AND(H292>1999,H292<2002),VLOOKUP(I292,Feuil1!$A$11:$F$29,3),VLOOKUP(I292,Feuil1!$A$11:$F$29,2))))),IF(OR(H292=\"SEN\",H292<1995),VLOOKUP(I292,Feuil1!$G$11:$L$25,6),IF(AND(H292>1994,H292<1998),VLOOKUP(I292,Feuil1!$G$11:$L$25,5),IF(AND(H292>1997,H292<2000),VLOOKUP(I292,Feuil1!$G$11:$L$25,4),IF(AND(H292>1999,H292<2002),VLOOKUP(I292,Feuil1!$G$11:$L$25,3),VLOOKUP(I292,Feuil1!$G$11:$L$25,2)))))))","v":"FS69"},141.57311063047894,null," ",{"$f":"T292-HLOOKUP(X292,Feuil1!$C$1:$BL$10,2,FALSE)","v":30},{"$f":"T292-HLOOKUP(X292,Feuil1!$C$1:$BL$10,3,FALSE)","v":20},{"$f":"T292-HLOOKUP(X292,Feuil1!$C$1:$BL$10,4,FALSE)","v":5},{"$f":"T292-HLOOKUP(X292,Feuil1!$C$1:$BL$10,5,FALSE)","v":-10},{"$f":"T292-HLOOKUP(X292,Feuil1!$C$1:$BL$10,6,FALSE)","v":-25},{"$f":"T292-HLOOKUP(X292,Feuil1!$C$1:$BL$10,7,FALSE)","v":-40},{"$f":"T292-HLOOKUP(X292,Feuil1!$C$1:$BL$10,8,FALSE)","v":-60},{"$f":"T292-HLOOKUP(X292,Feuil1!$C$1:$BL$10,9,FALSE)","v":-80},{"$f":"T292-HLOOKUP(X292,Feuil1!$C$1:$BL$10,10,FALSE)","v":-95},null,null,null,null,null,null,"REG +"]
["F","NE","ALS",25,106080,"GERONDI","ELODIE",1988,67.900000000000006,"MJC Ungersheim","F",42,47,50,50,60,-65,-65,60,110,-25.800000000000011,"REG +",5,{"$f":"IF(I293=\"\",\"\",IF(A293=\"H\",IF(OR(H293=\"SEN\",H293<1995),VLOOKUP(I293,Feuil1!$A$11:$F$29,6),IF(AND(H293>1994,H293<1998),VLOOKUP(I293,Feuil1!$A$11:$F$29,5),IF(AND(H293>1997,H293<2000),VLOOKUP(I293,Feuil1!$A$11:$F$29,4),IF(AND(H293>1999,H293<2002),VLOOKUP(I293,Feuil1!$A$11:$F$29,3),VLOOKUP(I293,Feuil1!$A$11:$F$29,2))))),IF(OR(H293=\"SEN\",H293<1995),VLOOKUP(I293,Feuil1!$G$11:$L$25,6),IF(AND(H293>1994,H293<1998),VLOOKUP(I293,Feuil1!$G$11:$L$25,5),IF(AND(H293>1997,H293<2000),VLOOKUP(I293,Feuil1!$G$11:$L$25,4),IF(AND(H293>1999,H293<2002),VLOOKUP(I293,Feuil1!$G$11:$L$25,3),VLOOKUP(I293,Feuil1!$G$11:$L$25,2)))))))","v":"FS69"},139.37457034373506,null," ",{"$f":"T293-HLOOKUP(X293,Feuil1!$C$1:$BL$10,2,FALSE)","v":30},{"$f":"T293-HLOOKUP(X293,Feuil1!$C$1:$BL$10,3,FALSE)","v":20},{"$f":"T293-HLOOKUP(X293,Feuil1!$C$1:$BL$10,4,FALSE)","v":5},{"$f":"T293-HLOOKUP(X293,Feuil1!$C$1:$BL$10,5,FALSE)","v":-10},{"$f":"T293-HLOOKUP(X293,Feuil1!$C$1:$BL$10,6,FALSE)","v":-25},{"$f":"T293-HLOOKUP(X293,Feuil1!$C$1:$BL$10,7,FALSE)","v":-40},{"$f":"T293-HLOOKUP(X293,Feuil1!$C$1:$BL$10,8,FALSE)","v":-60},{"$f":"T293-HLOOKUP(X293,Feuil1!$C$1:$BL$10,9,FALSE)","v":-80},{"$f":"T293-HLOOKUP(X293,Feuil1!$C$1:$BL$10,10,FALSE)","v":-95},null,null,null,null,null,null,"REG +"]
["F","NE","ALS",26,324051,"LEBROUSSA","SHIRLEY",1987,66.5,"SHC Haguenau","F",45,49,-52,49,54,57,60,60,109,-24,"REG +",4,{"$f":"IF(I294=\"\",\"\",IF(A294=\"H\",IF(OR(H294=\"SEN\",H294<1995),VLOOKUP(I294,Feuil1!$A$11:$F$29,6),IF(AND(H294>1994,H294<1998),VLOOKUP(I294,Feuil1!$A$11:$F$29,5),IF(AND(H294>1997,H294<2000),VLOOKUP(I294,Feuil1!$A$11:$F$29,4),IF(AND(H294>1999,H294<2002),VLOOKUP(I294,Feuil1!$A$11:$F$29,3),VLOOKUP(I294,Feuil1!$A$11:$F$29,2))))),IF(OR(H294=\"SEN\",H294<1995),VLOOKUP(I294,Feuil1!$G$11:$L$25,6),IF(AND(H294>1994,H294<1998),VLOOKUP(I294,Feuil1!$G$11:$L$25,5),IF(AND(H294>1997,H294<2000),VLOOKUP(I294,Feuil1!$G$11:$L$25,4),IF(AND(H294>1999,H294<2002),VLOOKUP(I294,Feuil1!$G$11:$L$25,3),VLOOKUP(I294,Feuil1!$G$11:$L$25,2)))))))","v":"FS69"},139.88995853087374,null," ",{"$f":"T294-HLOOKUP(X294,Feuil1!$C$1:$BL$10,2,FALSE)","v":29},{"$f":"T294-HLOOKUP(X294,Feuil1!$C$1:$BL$10,3,FALSE)","v":19},{"$f":"T294-HLOOKUP(X294,Feuil1!$C$1:$BL$10,4,FALSE)","v":4},{"$f":"T294-HLOOKUP(X294,Feuil1!$C$1:$BL$10,5,FALSE)","v":-11},{"$f":"T294-HLOOKUP(X294,Feuil1!$C$1:$BL$10,6,FALSE)","v":-26},{"$f":"T294-HLOOKUP(X294,Feuil1!$C$1:$BL$10,7,FALSE)","v":-41},{"$f":"T294-HLOOKUP(X294,Feuil1!$C$1:$BL$10,8,FALSE)","v":-61},{"$f":"T294-HLOOKUP(X294,Feuil1!$C$1:$BL$10,9,FALSE)","v":-81},{"$f":"T294-HLOOKUP(X294,Feuil1!$C$1:$BL$10,10,FALSE)","v":-96},null,null,null,null,null,null,"REG +"]
["F","N","IDF",27,392090,"SAISIC","SONIA",1993,67.5,"NEUILLY","F",40,-43,43,43,58,61,63,63,106,-29,"REG +",1,{"$f":"IF(I295=\"\",\"\",IF(A295=\"H\",IF(OR(H295=\"SEN\",H295<1995),VLOOKUP(I295,Feuil1!$A$11:$F$29,6),IF(AND(H295>1994,H295<1998),VLOOKUP(I295,Feuil1!$A$11:$F$29,5),IF(AND(H295>1997,H295<2000),VLOOKUP(I295,Feuil1!$A$11:$F$29,4),IF(AND(H295>1999,H295<2002),VLOOKUP(I295,Feuil1!$A$11:$F$29,3),VLOOKUP(I295,Feuil1!$A$11:$F$29,2))))),IF(OR(H295=\"SEN\",H295<1995),VLOOKUP(I295,Feuil1!$G$11:$L$25,6),IF(AND(H295>1994,H295<1998),VLOOKUP(I295,Feuil1!$G$11:$L$25,5),IF(AND(H295>1997,H295<2000),VLOOKUP(I295,Feuil1!$G$11:$L$25,4),IF(AND(H295>1999,H295<2002),VLOOKUP(I295,Feuil1!$G$11:$L$25,3),VLOOKUP(I295,Feuil1!$G$11:$L$25,2)))))))","v":"FS69"},134.79109126532805,null," ",{"$f":"T295-HLOOKUP(X295,Feuil1!$C$1:$BL$10,2,FALSE)","v":26},{"$f":"T295-HLOOKUP(X295,Feuil1!$C$1:$BL$10,3,FALSE)","v":16},{"$f":"T295-HLOOKUP(X295,Feuil1!$C$1:$BL$10,4,FALSE)","v":1},{"$f":"T295-HLOOKUP(X295,Feuil1!$C$1:$BL$10,5,FALSE)","v":-14},{"$f":"T295-HLOOKUP(X295,Feuil1!$C$1:$BL$10,6,FALSE)","v":-29},{"$f":"T295-HLOOKUP(X295,Feuil1!$C$1:$BL$10,7,FALSE)","v":-44},{"$f":"T295-HLOOKUP(X295,Feuil1!$C$1:$BL$10,8,FALSE)","v":-64},{"$f":"T295-HLOOKUP(X295,Feuil1!$C$1:$BL$10,9,FALSE)","v":-84},{"$f":"T295-HLOOKUP(X295,Feuil1!$C$1:$BL$10,10,FALSE)","v":-99},null,null,null,null,null,null,"REG +"]
["F","NE","ALS",28,134532,"LICHTLE","CORINNE",1957,66.2,"MJC Ungersheim","F",45,-48,-48,45,55,60,-63,60,105,-27.400000000000006,"REG +",0,{"$f":"IF(I296=\"\",\"\",IF(A296=\"H\",IF(OR(H296=\"SEN\",H296<1995),VLOOKUP(I296,Feuil1!$A$11:$F$29,6),IF(AND(H296>1994,H296<1998),VLOOKUP(I296,Feuil1!$A$11:$F$29,5),IF(AND(H296>1997,H296<2000),VLOOKUP(I296,Feuil1!$A$11:$F$29,4),IF(AND(H296>1999,H296<2002),VLOOKUP(I296,Feuil1!$A$11:$F$29,3),VLOOKUP(I296,Feuil1!$A$11:$F$29,2))))),IF(OR(H296=\"SEN\",H296<1995),VLOOKUP(I296,Feuil1!$G$11:$L$25,6),IF(AND(H296>1994,H296<1998),VLOOKUP(I296,Feuil1!$G$11:$L$25,5),IF(AND(H296>1997,H296<2000),VLOOKUP(I296,Feuil1!$G$11:$L$25,4),IF(AND(H296>1999,H296<2002),VLOOKUP(I296,Feuil1!$G$11:$L$25,3),VLOOKUP(I296,Feuil1!$G$11:$L$25,2)))))))","v":"FS69"},135.13796923818444,null," ",{"$f":"T296-HLOOKUP(X296,Feuil1!$C$1:$BL$10,2,FALSE)","v":25},{"$f":"T296-HLOOKUP(X296,Feuil1!$C$1:$BL$10,3,FALSE)","v":15},{"$f":"T296-HLOOKUP(X296,Feuil1!$C$1:$BL$10,4,FALSE)","v":0},{"$f":"T296-HLOOKUP(X296,Feuil1!$C$1:$BL$10,5,FALSE)","v":-15},{"$f":"T296-HLOOKUP(X296,Feuil1!$C$1:$BL$10,6,FALSE)","v":-30},{"$f":"T296-HLOOKUP(X296,Feuil1!$C$1:$BL$10,7,FALSE)","v":-45},{"$f":"T296-HLOOKUP(X296,Feuil1!$C$1:$BL$10,8,FALSE)","v":-65},{"$f":"T296-HLOOKUP(X296,Feuil1!$C$1:$BL$10,9,FALSE)","v":-85},{"$f":"T296-HLOOKUP(X296,Feuil1!$C$1:$BL$10,10,FALSE)","v":-100},null,null,null,null,null,null,"REG +"]
["F","NE","ALS",29,364658,"BAECHTEL","ANNAELLE",1985,64.099999999999994,"ASPTT Strasbourg","F",40,43,46,46,52,-55,56,56,102,-26.199999999999989,"DEP +",12,{"$f":"IF(I297=\"\",\"\",IF(A297=\"H\",IF(OR(H297=\"SEN\",H297<1995),VLOOKUP(I297,Feuil1!$A$11:$F$29,6),IF(AND(H297>1994,H297<1998),VLOOKUP(I297,Feuil1!$A$11:$F$29,5),IF(AND(H297>1997,H297<2000),VLOOKUP(I297,Feuil1!$A$11:$F$29,4),IF(AND(H297>1999,H297<2002),VLOOKUP(I297,Feuil1!$A$11:$F$29,3),VLOOKUP(I297,Feuil1!$A$11:$F$29,2))))),IF(OR(H297=\"SEN\",H297<1995),VLOOKUP(I297,Feuil1!$G$11:$L$25,6),IF(AND(H297>1994,H297<1998),VLOOKUP(I297,Feuil1!$G$11:$L$25,5),IF(AND(H297>1997,H297<2000),VLOOKUP(I297,Feuil1!$G$11:$L$25,4),IF(AND(H297>1999,H297<2002),VLOOKUP(I297,Feuil1!$G$11:$L$25,3),VLOOKUP(I297,Feuil1!$G$11:$L$25,2)))))))","v":"FS69"},134.01215454503659,null," ",{"$f":"T297-HLOOKUP(X297,Feuil1!$C$1:$BL$10,2,FALSE)","v":22},{"$f":"T297-HLOOKUP(X297,Feuil1!$C$1:$BL$10,3,FALSE)","v":12},{"$f":"T297-HLOOKUP(X297,Feuil1!$C$1:$BL$10,4,FALSE)","v":-3},{"$f":"T297-HLOOKUP(X297,Feuil1!$C$1:$BL$10,5,FALSE)","v":-18},{"$f":"T297-HLOOKUP(X297,Feuil1!$C$1:$BL$10,6,FALSE)","v":-33},{"$f":"T297-HLOOKUP(X297,Feuil1!$C$1:$BL$10,7,FALSE)","v":-48},{"$f":"T297-HLOOKUP(X297,Feuil1!$C$1:$BL$10,8,FALSE)","v":-68},{"$f":"T297-HLOOKUP(X297,Feuil1!$C$1:$BL$10,9,FALSE)","v":-88},{"$f":"T297-HLOOKUP(X297,Feuil1!$C$1:$BL$10,10,FALSE)","v":-103},null,null,null,null,null,null,"DEP +"]
["F","SEST","RAL",30,195347,"GEAIX","Sylvie",1972,65.400000000000006,"BOURG DE PEAGE","F",42,45,-46,45,50,55,-57,55,100,-30.800000000000011,"DEP +",10,{"$f":"IF(I298=\"\",\"\",IF(A298=\"H\",IF(OR(H298=\"SEN\",H298<1995),VLOOKUP(I298,Feuil1!$A$11:$F$29,6),IF(AND(H298>1994,H298<1998),VLOOKUP(I298,Feuil1!$A$11:$F$29,5),IF(AND(H298>1997,H298<2000),VLOOKUP(I298,Feuil1!$A$11:$F$29,4),IF(AND(H298>1999,H298<2002),VLOOKUP(I298,Feuil1!$A$11:$F$29,3),VLOOKUP(I298,Feuil1!$A$11:$F$29,2))))),IF(OR(H298=\"SEN\",H298<1995),VLOOKUP(I298,Feuil1!$G$11:$L$25,6),IF(AND(H298>1994,H298<1998),VLOOKUP(I298,Feuil1!$G$11:$L$25,5),IF(AND(H298>1997,H298<2000),VLOOKUP(I298,Feuil1!$G$11:$L$25,4),IF(AND(H298>1999,H298<2002),VLOOKUP(I298,Feuil1!$G$11:$L$25,3),VLOOKUP(I298,Feuil1!$G$11:$L$25,2)))))))","v":"FS69"},129.69540980951325,null," ",{"$f":"T298-HLOOKUP(X298,Feuil1!$C$1:$BL$10,2,FALSE)","v":20},{"$f":"T298-HLOOKUP(X298,Feuil1!$C$1:$BL$10,3,FALSE)","v":10},{"$f":"T298-HLOOKUP(X298,Feuil1!$C$1:$BL$10,4,FALSE)","v":-5},{"$f":"T298-HLOOKUP(X298,Feuil1!$C$1:$BL$10,5,FALSE)","v":-20},{"$f":"T298-HLOOKUP(X298,Feuil1!$C$1:$BL$10,6,FALSE)","v":-35},{"$f":"T298-HLOOKUP(X298,Feuil1!$C$1:$BL$10,7,FALSE)","v":-50},{"$f":"T298-HLOOKUP(X298,Feuil1!$C$1:$BL$10,8,FALSE)","v":-70},{"$f":"T298-HLOOKUP(X298,Feuil1!$C$1:$BL$10,9,FALSE)","v":-90},{"$f":"T298-HLOOKUP(X298,Feuil1!$C$1:$BL$10,10,FALSE)","v":-105},null,null,null,null,null,null,"DEP +"]
["F","N","IDF",31,366519,"GUIBERT","PAULINE",1986,64.5,"US METRO","F",35,38,-42,38,52,55,58,58,96,-33,"DEP +",6,{"$f":"IF(I299=\"\",\"\",IF(A299=\"H\",IF(OR(H299=\"SEN\",H299<1995),VLOOKUP(I299,Feuil1!$A$11:$F$29,6),IF(AND(H299>1994,H299<1998),VLOOKUP(I299,Feuil1!$A$11:$F$29,5),IF(AND(H299>1997,H299<2000),VLOOKUP(I299,Feuil1!$A$11:$F$29,4),IF(AND(H299>1999,H299<2002),VLOOKUP(I299,Feuil1!$A$11:$F$29,3),VLOOKUP(I299,Feuil1!$A$11:$F$29,2))))),IF(OR(H299=\"SEN\",H299<1995),VLOOKUP(I299,Feuil1!$G$11:$L$25,6),IF(AND(H299>1994,H299<1998),VLOOKUP(I299,Feuil1!$G$11:$L$25,5),IF(AND(H299>1997,H299<2000),VLOOKUP(I299,Feuil1!$G$11:$L$25,4),IF(AND(H299>1999,H299<2002),VLOOKUP(I299,Feuil1!$G$11:$L$25,3),VLOOKUP(I299,Feuil1!$G$11:$L$25,2)))))))","v":"FS69"},125.62022436555441,null," ",{"$f":"T299-HLOOKUP(X299,Feuil1!$C$1:$BL$10,2,FALSE)","v":16},{"$f":"T299-HLOOKUP(X299,Feuil1!$C$1:$BL$10,3,FALSE)","v":6},{"$f":"T299-HLOOKUP(X299,Feuil1!$C$1:$BL$10,4,FALSE)","v":-9},{"$f":"T299-HLOOKUP(X299,Feuil1!$C$1:$BL$10,5,FALSE)","v":-24},{"$f":"T299-HLOOKUP(X299,Feuil1!$C$1:$BL$10,6,FALSE)","v":-39},{"$f":"T299-HLOOKUP(X299,Feuil1!$C$1:$BL$10,7,FALSE)","v":-54},{"$f":"T299-HLOOKUP(X299,Feuil1!$C$1:$BL$10,8,FALSE)","v":-74},{"$f":"T299-HLOOKUP(X299,Feuil1!$C$1:$BL$10,9,FALSE)","v":-94},{"$f":"T299-HLOOKUP(X299,Feuil1!$C$1:$BL$10,10,FALSE)","v":-109},null,null,null,null,null,null,"DEP +"]
["F","N","IDF",32,379284,"HAUSTANT","VIRGINIE",1980,67,"SAINT-MAUR","F",40,-46,-46,40,45,50,55,55,95,-39,"DEP +",5,{"$f":"IF(I300=\"\",\"\",IF(A300=\"H\",IF(OR(H300=\"SEN\",H300<1995),VLOOKUP(I300,Feuil1!$A$11:$F$29,6),IF(AND(H300>1994,H300<1998),VLOOKUP(I300,Feuil1!$A$11:$F$29,5),IF(AND(H300>1997,H300<2000),VLOOKUP(I300,Feuil1!$A$11:$F$29,4),IF(AND(H300>1999,H300<2002),VLOOKUP(I300,Feuil1!$A$11:$F$29,3),VLOOKUP(I300,Feuil1!$A$11:$F$29,2))))),IF(OR(H300=\"SEN\",H300<1995),VLOOKUP(I300,Feuil1!$G$11:$L$25,6),IF(AND(H300>1994,H300<1998),VLOOKUP(I300,Feuil1!$G$11:$L$25,5),IF(AND(H300>1997,H300<2000),VLOOKUP(I300,Feuil1!$G$11:$L$25,4),IF(AND(H300>1999,H300<2002),VLOOKUP(I300,Feuil1!$G$11:$L$25,3),VLOOKUP(I300,Feuil1!$G$11:$L$25,2)))))))","v":"FS69"},121.35687716863184,null," ",{"$f":"T300-HLOOKUP(X300,Feuil1!$C$1:$BL$10,2,FALSE)","v":15},{"$f":"T300-HLOOKUP(X300,Feuil1!$C$1:$BL$10,3,FALSE)","v":5},{"$f":"T300-HLOOKUP(X300,Feuil1!$C$1:$BL$10,4,FALSE)","v":-10},{"$f":"T300-HLOOKUP(X300,Feuil1!$C$1:$BL$10,5,FALSE)","v":-25},{"$f":"T300-HLOOKUP(X300,Feuil1!$C$1:$BL$10,6,FALSE)","v":-40},{"$f":"T300-HLOOKUP(X300,Feuil1!$C$1:$BL$10,7,FALSE)","v":-55},{"$f":"T300-HLOOKUP(X300,Feuil1!$C$1:$BL$10,8,FALSE)","v":-75},{"$f":"T300-HLOOKUP(X300,Feuil1!$C$1:$BL$10,9,FALSE)","v":-95},{"$f":"T300-HLOOKUP(X300,Feuil1!$C$1:$BL$10,10,FALSE)","v":-110},null,null,null,null,null,null,"DEP +"]
["F","SO","MPY",33,342295,"RIVIERE","Sabine",1978,67.400000000000006,"DECAZEVILLE HC","F",35,39,-42,{"$f":"IF(H301=\"\",\"\",IF(MAXA(L301:N301)<=0,0,MAXA(L301:N301)))","v":39},48,52,56,{"$f":"IF(H301=\"\",\"\",IF(MAXA(P301:R301)<=0,0,MAXA(P301:R301)))","v":56},{"$f":"IF(H301=\"\",\"\",IF(OR(O301=0,S301=0),0,O301+S301))","v":95},{"$f":"T301-I301*2","v":-39.800000000000011},{"$f":"IF(H301=\"\",\"\",AQ301)","v":"DEP +"},{"$f":"IF(AJ301>=0,AJ301,IF(AI301>=0,AI301,IF(AH301>=0,AH301,IF(AG301>=0,AG301,IF(AF301>=0,AF301,IF(AE301>=0,AE301,IF(AD301>=0,AD301,IF(AC301>=0,AC301,AB301))))))))","v":5},{"$f":"IF(I301=\"\",\"\",IF(A301=\"H\",IF(OR(H301=\"SEN\",H301<1995),VLOOKUP(I301,Feuil1!$A$11:$F$29,6),IF(AND(H301>1994,H301<1998),VLOOKUP(I301,Feuil1!$A$11:$F$29,5),IF(AND(H301>1997,H301<2000),VLOOKUP(I301,Feuil1!$A$11:$F$29,4),IF(AND(H301>1999,H301<2002),VLOOKUP(I301,Feuil1!$A$11:$F$29,3),VLOOKUP(I301,Feuil1!$A$11:$F$29,2))))),IF(OR(H301=\"SEN\",H301<1995),VLOOKUP(I301,Feuil1!$G$11:$L$25,6),IF(AND(H301>1994,H301<1998),VLOOKUP(I301,Feuil1!$G$11:$L$25,5),IF(AND(H301>1997,H301<2000),VLOOKUP(I301,Feuil1!$G$11:$L$25,4),IF(AND(H301>1999,H301<2002),VLOOKUP(I301,Feuil1!$G$11:$L$25,3),VLOOKUP(I301,Feuil1!$G$11:$L$25,2)))))))","v":"FS69"},{"$f":"IF(I301=\"\",\"\",IF(A301=\"H\",10^(0.794358141*LOG(I301/174.393)^2)*T301,IF(A301=\"F\",10^(0.89726074*LOG(I301/148.026)^2)*T301,\"\")))","v":120.9130981790139},null," ",{"$f":"T301-HLOOKUP(X301,Feuil1!$C$1:$BL$10,2,FALSE)","v":15},{"$f":"T301-HLOOKUP(X301,Feuil1!$C$1:$BL$10,3,FALSE)","v":5},{"$f":"T301-HLOOKUP(X301,Feuil1!$C$1:$BL$10,4,FALSE)","v":-10},{"$f":"T301-HLOOKUP(X301,Feuil1!$C$1:$BL$10,5,FALSE)","v":-25},{"$f":"T301-HLOOKUP(X301,Feuil1!$C$1:$BL$10,6,FALSE)","v":-40},{"$f":"T301-HLOOKUP(X301,Feuil1!$C$1:$BL$10,7,FALSE)","v":-55},{"$f":"T301-HLOOKUP(X301,Feuil1!$C$1:$BL$10,8,FALSE)","v":-75},{"$f":"T301-HLOOKUP(X301,Feuil1!$C$1:$BL$10,9,FALSE)","v":-95},{"$f":"T301-HLOOKUP(X301,Feuil1!$C$1:$BL$10,10,FALSE)","v":-110},null,null,null,null,null,null,{"$f":"IF(AJ301>=0,$AJ$4,IF(AI301>=0,$AI$4,IF(AH301>=0,$AH$4,IF(AG301>=0,$AG$4,IF(AF301>=0,$AF$4,IF(AE301>=0,$AE$4,IF(AD301>=0,$AD$4,IF(AC301>=0,$AC$4,$AB$4))))))))","v":"DEP +"}]
["F","CO","BNO",34,383833,"TURMO","GWENDOLINE",1992,69,"Stade St Lois","F",39,-42,-42,39,50,-55,55,55,94,-44,"DEP +",4,{"$f":"IF(I302=\"\",\"\",IF(A302=\"H\",IF(OR(H302=\"SEN\",H302<1995),VLOOKUP(I302,Feuil1!$A$11:$F$29,6),IF(AND(H302>1994,H302<1998),VLOOKUP(I302,Feuil1!$A$11:$F$29,5),IF(AND(H302>1997,H302<2000),VLOOKUP(I302,Feuil1!$A$11:$F$29,4),IF(AND(H302>1999,H302<2002),VLOOKUP(I302,Feuil1!$A$11:$F$29,3),VLOOKUP(I302,Feuil1!$A$11:$F$29,2))))),IF(OR(H302=\"SEN\",H302<1995),VLOOKUP(I302,Feuil1!$G$11:$L$25,6),IF(AND(H302>1994,H302<1998),VLOOKUP(I302,Feuil1!$G$11:$L$25,5),IF(AND(H302>1997,H302<2000),VLOOKUP(I302,Feuil1!$G$11:$L$25,4),IF(AND(H302>1999,H302<2002),VLOOKUP(I302,Feuil1!$G$11:$L$25,3),VLOOKUP(I302,Feuil1!$G$11:$L$25,2)))))))","v":"FS69"},117.95687537041618,null," ",{"$f":"T302-HLOOKUP(X302,Feuil1!$C$1:$BL$10,2,FALSE)","v":14},{"$f":"T302-HLOOKUP(X302,Feuil1!$C$1:$BL$10,3,FALSE)","v":4},{"$f":"T302-HLOOKUP(X302,Feuil1!$C$1:$BL$10,4,FALSE)","v":-11},{"$f":"T302-HLOOKUP(X302,Feuil1!$C$1:$BL$10,5,FALSE)","v":-26},{"$f":"T302-HLOOKUP(X302,Feuil1!$C$1:$BL$10,6,FALSE)","v":-41},{"$f":"T302-HLOOKUP(X302,Feuil1!$C$1:$BL$10,7,FALSE)","v":-56},{"$f":"T302-HLOOKUP(X302,Feuil1!$C$1:$BL$10,8,FALSE)","v":-76},{"$f":"T302-HLOOKUP(X302,Feuil1!$C$1:$BL$10,9,FALSE)","v":-96},{"$f":"T302-HLOOKUP(X302,Feuil1!$C$1:$BL$10,10,FALSE)","v":-111},null,null,null,null,null,null,"DEP +"]
["F","SO","MPY",35,222167,"MELENDEZ","Belinda",1982,63.8,"MONTAUBAN HC","F",34,37,40,40,42,46,50,50,90,-37.599999999999994,"DEP +",0,{"$f":"IF(I303=\"\",\"\",IF(A303=\"H\",IF(OR(H303=\"SEN\",H303<1995),VLOOKUP(I303,Feuil1!$A$11:$F$29,6),IF(AND(H303>1994,H303<1998),VLOOKUP(I303,Feuil1!$A$11:$F$29,5),IF(AND(H303>1997,H303<2000),VLOOKUP(I303,Feuil1!$A$11:$F$29,4),IF(AND(H303>1999,H303<2002),VLOOKUP(I303,Feuil1!$A$11:$F$29,3),VLOOKUP(I303,Feuil1!$A$11:$F$29,2))))),IF(OR(H303=\"SEN\",H303<1995),VLOOKUP(I303,Feuil1!$G$11:$L$25,6),IF(AND(H303>1994,H303<1998),VLOOKUP(I303,Feuil1!$G$11:$L$25,5),IF(AND(H303>1997,H303<2000),VLOOKUP(I303,Feuil1!$G$11:$L$25,4),IF(AND(H303>1999,H303<2002),VLOOKUP(I303,Feuil1!$G$11:$L$25,3),VLOOKUP(I303,Feuil1!$G$11:$L$25,2)))))))","v":"FS69"},118.60941384456594,null," ",{"$f":"T303-HLOOKUP(X303,Feuil1!$C$1:$BL$10,2,FALSE)","v":10},{"$f":"T303-HLOOKUP(X303,Feuil1!$C$1:$BL$10,3,FALSE)","v":0},{"$f":"T303-HLOOKUP(X303,Feuil1!$C$1:$BL$10,4,FALSE)","v":-15},{"$f":"T303-HLOOKUP(X303,Feuil1!$C$1:$BL$10,5,FALSE)","v":-30},{"$f":"T303-HLOOKUP(X303,Feuil1!$C$1:$BL$10,6,FALSE)","v":-45},{"$f":"T303-HLOOKUP(X303,Feuil1!$C$1:$BL$10,7,FALSE)","v":-60},{"$f":"T303-HLOOKUP(X303,Feuil1!$C$1:$BL$10,8,FALSE)","v":-80},{"$f":"T303-HLOOKUP(X303,Feuil1!$C$1:$BL$10,9,FALSE)","v":-100},{"$f":"T303-HLOOKUP(X303,Feuil1!$C$1:$BL$10,10,FALSE)","v":-115},null,null,null,null,null,null,"DEP +"]
["F","N","IDF",36,256340,"ANDRE","CELINE",1973,64,"MANTES","F",30,35,-40,35,50,55,-58,55,90,-38,"DEP +",0,{"$f":"IF(I304=\"\",\"\",IF(A304=\"H\",IF(OR(H304=\"SEN\",H304<1995),VLOOKUP(I304,Feuil1!$A$11:$F$29,6),IF(AND(H304>1994,H304<1998),VLOOKUP(I304,Feuil1!$A$11:$F$29,5),IF(AND(H304>1997,H304<2000),VLOOKUP(I304,Feuil1!$A$11:$F$29,4),IF(AND(H304>1999,H304<2002),VLOOKUP(I304,Feuil1!$A$11:$F$29,3),VLOOKUP(I304,Feuil1!$A$11:$F$29,2))))),IF(OR(H304=\"SEN\",H304<1995),VLOOKUP(I304,Feuil1!$G$11:$L$25,6),IF(AND(H304>1994,H304<1998),VLOOKUP(I304,Feuil1!$G$11:$L$25,5),IF(AND(H304>1997,H304<2000),VLOOKUP(I304,Feuil1!$G$11:$L$25,4),IF(AND(H304>1999,H304<2002),VLOOKUP(I304,Feuil1!$G$11:$L$25,3),VLOOKUP(I304,Feuil1!$G$11:$L$25,2)))))))","v":"FS69"},118.36661193414432,null," ",{"$f":"T304-HLOOKUP(X304,Feuil1!$C$1:$BL$10,2,FALSE)","v":10},{"$f":"T304-HLOOKUP(X304,Feuil1!$C$1:$BL$10,3,FALSE)","v":0},{"$f":"T304-HLOOKUP(X304,Feuil1!$C$1:$BL$10,4,FALSE)","v":-15},{"$f":"T304-HLOOKUP(X304,Feuil1!$C$1:$BL$10,5,FALSE)","v":-30},{"$f":"T304-HLOOKUP(X304,Feuil1!$C$1:$BL$10,6,FALSE)","v":-45},{"$f":"T304-HLOOKUP(X304,Feuil1!$C$1:$BL$10,7,FALSE)","v":-60},{"$f":"T304-HLOOKUP(X304,Feuil1!$C$1:$BL$10,8,FALSE)","v":-80},{"$f":"T304-HLOOKUP(X304,Feuil1!$C$1:$BL$10,9,FALSE)","v":-100},{"$f":"T304-HLOOKUP(X304,Feuil1!$C$1:$BL$10,10,FALSE)","v":-115},null,null,null,null,null,null,"DEP +"]
["F","N","IDF",37,389607,"NEGRE","SOPHIA",1990,64.3,"MELUN","F",35,40,-43,40,46,50,-55,50,90,-38.599999999999994,"DEP +",0,{"$f":"IF(I305=\"\",\"\",IF(A305=\"H\",IF(OR(H305=\"SEN\",H305<1995),VLOOKUP(I305,Feuil1!$A$11:$F$29,6),IF(AND(H305>1994,H305<1998),VLOOKUP(I305,Feuil1!$A$11:$F$29,5),IF(AND(H305>1997,H305<2000),VLOOKUP(I305,Feuil1!$A$11:$F$29,4),IF(AND(H305>1999,H305<2002),VLOOKUP(I305,Feuil1!$A$11:$F$29,3),VLOOKUP(I305,Feuil1!$A$11:$F$29,2))))),IF(OR(H305=\"SEN\",H305<1995),VLOOKUP(I305,Feuil1!$G$11:$L$25,6),IF(AND(H305>1994,H305<1998),VLOOKUP(I305,Feuil1!$G$11:$L$25,5),IF(AND(H305>1997,H305<2000),VLOOKUP(I305,Feuil1!$G$11:$L$25,4),IF(AND(H305>1999,H305<2002),VLOOKUP(I305,Feuil1!$G$11:$L$25,3),VLOOKUP(I305,Feuil1!$G$11:$L$25,2)))))))","v":"FS69"},118.00643260975927,null," ",{"$f":"T305-HLOOKUP(X305,Feuil1!$C$1:$BL$10,2,FALSE)","v":10},{"$f":"T305-HLOOKUP(X305,Feuil1!$C$1:$BL$10,3,FALSE)","v":0},{"$f":"T305-HLOOKUP(X305,Feuil1!$C$1:$BL$10,4,FALSE)","v":-15},{"$f":"T305-HLOOKUP(X305,Feuil1!$C$1:$BL$10,5,FALSE)","v":-30},{"$f":"T305-HLOOKUP(X305,Feuil1!$C$1:$BL$10,6,FALSE)","v":-45},{"$f":"T305-HLOOKUP(X305,Feuil1!$C$1:$BL$10,7,FALSE)","v":-60},{"$f":"T305-HLOOKUP(X305,Feuil1!$C$1:$BL$10,8,FALSE)","v":-80},{"$f":"T305-HLOOKUP(X305,Feuil1!$C$1:$BL$10,9,FALSE)","v":-100},{"$f":"T305-HLOOKUP(X305,Feuil1!$C$1:$BL$10,10,FALSE)","v":-115},null,null,null,null,null,null,"DEP +"]
["F","SEST","PRO",38,359600,"SCHILD","LOU",1969,65.3,"AP AIX","F",35,-40,40,40,45,50,-53,50,90,-40.599999999999994,"DEP +",0,{"$f":"IF(I306=\"\",\"\",IF(A306=\"H\",IF(OR(H306=\"SEN\",H306<1995),VLOOKUP(I306,Feuil1!$A$11:$F$29,6),IF(AND(H306>1994,H306<1998),VLOOKUP(I306,Feuil1!$A$11:$F$29,5),IF(AND(H306>1997,H306<2000),VLOOKUP(I306,Feuil1!$A$11:$F$29,4),IF(AND(H306>1999,H306<2002),VLOOKUP(I306,Feuil1!$A$11:$F$29,3),VLOOKUP(I306,Feuil1!$A$11:$F$29,2))))),IF(OR(H306=\"SEN\",H306<1995),VLOOKUP(I306,Feuil1!$G$11:$L$25,6),IF(AND(H306>1994,H306<1998),VLOOKUP(I306,Feuil1!$G$11:$L$25,5),IF(AND(H306>1997,H306<2000),VLOOKUP(I306,Feuil1!$G$11:$L$25,4),IF(AND(H306>1999,H306<2002),VLOOKUP(I306,Feuil1!$G$11:$L$25,3),VLOOKUP(I306,Feuil1!$G$11:$L$25,2)))))))","v":"FS69"},116.83974256514131,null," ",{"$f":"T306-HLOOKUP(X306,Feuil1!$C$1:$BL$10,2,FALSE)","v":10},{"$f":"T306-HLOOKUP(X306,Feuil1!$C$1:$BL$10,3,FALSE)","v":0},{"$f":"T306-HLOOKUP(X306,Feuil1!$C$1:$BL$10,4,FALSE)","v":-15},{"$f":"T306-HLOOKUP(X306,Feuil1!$C$1:$BL$10,5,FALSE)","v":-30},{"$f":"T306-HLOOKUP(X306,Feuil1!$C$1:$BL$10,6,FALSE)","v":-45},{"$f":"T306-HLOOKUP(X306,Feuil1!$C$1:$BL$10,7,FALSE)","v":-60},{"$f":"T306-HLOOKUP(X306,Feuil1!$C$1:$BL$10,8,FALSE)","v":-80},{"$f":"T306-HLOOKUP(X306,Feuil1!$C$1:$BL$10,9,FALSE)","v":-100},{"$f":"T306-HLOOKUP(X306,Feuil1!$C$1:$BL$10,10,FALSE)","v":-115},null,null,null,null,null,null,"DEP +"]
["F","CO","CEN",39,262220,"CARTON","Alexandrine",1988,65.7,"US Tours","F",36,38,-40,38,47,50,52,52,90,-41.400000000000006,"DEP +",0,{"$f":"IF(I307=\"\",\"\",IF(A307=\"H\",IF(OR(H307=\"SEN\",H307<1995),VLOOKUP(I307,Feuil1!$A$11:$F$29,6),IF(AND(H307>1994,H307<1998),VLOOKUP(I307,Feuil1!$A$11:$F$29,5),IF(AND(H307>1997,H307<2000),VLOOKUP(I307,Feuil1!$A$11:$F$29,4),IF(AND(H307>1999,H307<2002),VLOOKUP(I307,Feuil1!$A$11:$F$29,3),VLOOKUP(I307,Feuil1!$A$11:$F$29,2))))),IF(OR(H307=\"SEN\",H307<1995),VLOOKUP(I307,Feuil1!$G$11:$L$25,6),IF(AND(H307>1994,H307<1998),VLOOKUP(I307,Feuil1!$G$11:$L$25,5),IF(AND(H307>1997,H307<2000),VLOOKUP(I307,Feuil1!$G$11:$L$25,4),IF(AND(H307>1999,H307<2002),VLOOKUP(I307,Feuil1!$G$11:$L$25,3),VLOOKUP(I307,Feuil1!$G$11:$L$25,2)))))))","v":"FS69"},116.38721891377347,null," ",{"$f":"T307-HLOOKUP(X307,Feuil1!$C$1:$BL$10,2,FALSE)","v":10},{"$f":"T307-HLOOKUP(X307,Feuil1!$C$1:$BL$10,3,FALSE)","v":0},{"$f":"T307-HLOOKUP(X307,Feuil1!$C$1:$BL$10,4,FALSE)","v":-15},{"$f":"T307-HLOOKUP(X307,Feuil1!$C$1:$BL$10,5,FALSE)","v":-30},{"$f":"T307-HLOOKUP(X307,Feuil1!$C$1:$BL$10,6,FALSE)","v":-45},{"$f":"T307-HLOOKUP(X307,Feuil1!$C$1:$BL$10,7,FALSE)","v":-60},{"$f":"T307-HLOOKUP(X307,Feuil1!$C$1:$BL$10,8,FALSE)","v":-80},{"$f":"T307-HLOOKUP(X307,Feuil1!$C$1:$BL$10,9,FALSE)","v":-100},{"$f":"T307-HLOOKUP(X307,Feuil1!$C$1:$BL$10,10,FALSE)","v":-115},null,null,null,null,null,null,"DEP +"]
["F","SEST","RAL",40,356463,"FARGIER","Sabrina",1981,67.400000000000006,"BOURG DE PEAGE","F",37,40,-41,40,47,-50,50,50,90,-44.800000000000011,"DEP +",0,{"$f":"IF(I308=\"\",\"\",IF(A308=\"H\",IF(OR(H308=\"SEN\",H308<1995),VLOOKUP(I308,Feuil1!$A$11:$F$29,6),IF(AND(H308>1994,H308<1998),VLOOKUP(I308,Feuil1!$A$11:$F$29,5),IF(AND(H308>1997,H308<2000),VLOOKUP(I308,Feuil1!$A$11:$F$29,4),IF(AND(H308>1999,H308<2002),VLOOKUP(I308,Feuil1!$A$11:$F$29,3),VLOOKUP(I308,Feuil1!$A$11:$F$29,2))))),IF(OR(H308=\"SEN\",H308<1995),VLOOKUP(I308,Feuil1!$G$11:$L$25,6),IF(AND(H308>1994,H308<1998),VLOOKUP(I308,Feuil1!$G$11:$L$25,5),IF(AND(H308>1997,H308<2000),VLOOKUP(I308,Feuil1!$G$11:$L$25,4),IF(AND(H308>1999,H308<2002),VLOOKUP(I308,Feuil1!$G$11:$L$25,3),VLOOKUP(I308,Feuil1!$G$11:$L$25,2)))))))","v":"FS69"},114.54925090643422,null," ",{"$f":"T308-HLOOKUP(X308,Feuil1!$C$1:$BL$10,2,FALSE)","v":10},{"$f":"T308-HLOOKUP(X308,Feuil1!$C$1:$BL$10,3,FALSE)","v":0},{"$f":"T308-HLOOKUP(X308,Feuil1!$C$1:$BL$10,4,FALSE)","v":-15},{"$f":"T308-HLOOKUP(X308,Feuil1!$C$1:$BL$10,5,FALSE)","v":-30},{"$f":"T308-HLOOKUP(X308,Feuil1!$C$1:$BL$10,6,FALSE)","v":-45},{"$f":"T308-HLOOKUP(X308,Feuil1!$C$1:$BL$10,7,FALSE)","v":-60},{"$f":"T308-HLOOKUP(X308,Feuil1!$C$1:$BL$10,8,FALSE)","v":-80},{"$f":"T308-HLOOKUP(X308,Feuil1!$C$1:$BL$10,9,FALSE)","v":-100},{"$f":"T308-HLOOKUP(X308,Feuil1!$C$1:$BL$10,10,FALSE)","v":-115},null,null,null,null,null,null,"DEP +"]
["F","SO","AQU",41,390214,"GALONNIER","Elodie",1989,67.7,"LE BOUSCAT","F",33,36,40,40,45,48,"5O",48,88,-47.400000000000006,"DEB ",8,{"$f":"IF(I309=\"\",\"\",IF(A309=\"H\",IF(OR(H309=\"SEN\",H309<1995),VLOOKUP(I309,Feuil1!$A$11:$F$29,6),IF(AND(H309>1994,H309<1998),VLOOKUP(I309,Feuil1!$A$11:$F$29,5),IF(AND(H309>1997,H309<2000),VLOOKUP(I309,Feuil1!$A$11:$F$29,4),IF(AND(H309>1999,H309<2002),VLOOKUP(I309,Feuil1!$A$11:$F$29,3),VLOOKUP(I309,Feuil1!$A$11:$F$29,2))))),IF(OR(H309=\"SEN\",H309<1995),VLOOKUP(I309,Feuil1!$G$11:$L$25,6),IF(AND(H309>1994,H309<1998),VLOOKUP(I309,Feuil1!$G$11:$L$25,5),IF(AND(H309>1997,H309<2000),VLOOKUP(I309,Feuil1!$G$11:$L$25,4),IF(AND(H309>1999,H309<2002),VLOOKUP(I309,Feuil1!$G$11:$L$25,3),VLOOKUP(I309,Feuil1!$G$11:$L$25,2)))))))","v":"FS69"},111.69998890963728,null," ",{"$f":"T309-HLOOKUP(X309,Feuil1!$C$1:$BL$10,2,FALSE)","v":8},{"$f":"T309-HLOOKUP(X309,Feuil1!$C$1:$BL$10,3,FALSE)","v":-2},{"$f":"T309-HLOOKUP(X309,Feuil1!$C$1:$BL$10,4,FALSE)","v":-17},{"$f":"T309-HLOOKUP(X309,Feuil1!$C$1:$BL$10,5,FALSE)","v":-32},{"$f":"T309-HLOOKUP(X309,Feuil1!$C$1:$BL$10,6,FALSE)","v":-47},{"$f":"T309-HLOOKUP(X309,Feuil1!$C$1:$BL$10,7,FALSE)","v":-62},{"$f":"T309-HLOOKUP(X309,Feuil1!$C$1:$BL$10,8,FALSE)","v":-82},{"$f":"T309-HLOOKUP(X309,Feuil1!$C$1:$BL$10,9,FALSE)","v":-102},{"$f":"T309-HLOOKUP(X309,Feuil1!$C$1:$BL$10,10,FALSE)","v":-117},null,null,null,null,null,null,"DEB "]
["F","SEST","CAZ",42,186993,"JOLY","Claire",1990,67.569999999999993,"ASLDD TOULON","F",32,36,38,38,43,47,49,49,87,-48.139999999999986,"DEB ",7,{"$f":"IF(I310=\"\",\"\",IF(A310=\"H\",IF(OR(H310=\"SEN\",H310<1995),VLOOKUP(I310,Feuil1!$A$11:$F$29,6),IF(AND(H310>1994,H310<1998),VLOOKUP(I310,Feuil1!$A$11:$F$29,5),IF(AND(H310>1997,H310<2000),VLOOKUP(I310,Feuil1!$A$11:$F$29,4),IF(AND(H310>1999,H310<2002),VLOOKUP(I310,Feuil1!$A$11:$F$29,3),VLOOKUP(I310,Feuil1!$A$11:$F$29,2))))),IF(OR(H310=\"SEN\",H310<1995),VLOOKUP(I310,Feuil1!$G$11:$L$25,6),IF(AND(H310>1994,H310<1998),VLOOKUP(I310,Feuil1!$G$11:$L$25,5),IF(AND(H310>1997,H310<2000),VLOOKUP(I310,Feuil1!$G$11:$L$25,4),IF(AND(H310>1999,H310<2002),VLOOKUP(I310,Feuil1!$G$11:$L$25,3),VLOOKUP(I310,Feuil1!$G$11:$L$25,2)))))))","v":"FS69"},110.56031621398083,null," ",{"$f":"T310-HLOOKUP(X310,Feuil1!$C$1:$BL$10,2,FALSE)","v":7},{"$f":"T310-HLOOKUP(X310,Feuil1!$C$1:$BL$10,3,FALSE)","v":-3},{"$f":"T310-HLOOKUP(X310,Feuil1!$C$1:$BL$10,4,FALSE)","v":-18},{"$f":"T310-HLOOKUP(X310,Feuil1!$C$1:$BL$10,5,FALSE)","v":-33},{"$f":"T310-HLOOKUP(X310,Feuil1!$C$1:$BL$10,6,FALSE)","v":-48},{"$f":"T310-HLOOKUP(X310,Feuil1!$C$1:$BL$10,7,FALSE)","v":-63},{"$f":"T310-HLOOKUP(X310,Feuil1!$C$1:$BL$10,8,FALSE)","v":-83},{"$f":"T310-HLOOKUP(X310,Feuil1!$C$1:$BL$10,9,FALSE)","v":-103},{"$f":"T310-HLOOKUP(X310,Feuil1!$C$1:$BL$10,10,FALSE)","v":-118},null,null,null,null,null,null,"DEB "]
["F","SEST","CAZ",43,380058,"GUEGAN","Elodie",1988,63.3,"HC HYERES","F",32,37,-42,37,42,48,-55,48,85,-41.599999999999994,"DEB ",5,{"$f":"IF(I311=\"\",\"\",IF(A311=\"H\",IF(OR(H311=\"SEN\",H311<1995),VLOOKUP(I311,Feuil1!$A$11:$F$29,6),IF(AND(H311>1994,H311<1998),VLOOKUP(I311,Feuil1!$A$11:$F$29,5),IF(AND(H311>1997,H311<2000),VLOOKUP(I311,Feuil1!$A$11:$F$29,4),IF(AND(H311>1999,H311<2002),VLOOKUP(I311,Feuil1!$A$11:$F$29,3),VLOOKUP(I311,Feuil1!$A$11:$F$29,2))))),IF(OR(H311=\"SEN\",H311<1995),VLOOKUP(I311,Feuil1!$G$11:$L$25,6),IF(AND(H311>1994,H311<1998),VLOOKUP(I311,Feuil1!$G$11:$L$25,5),IF(AND(H311>1997,H311<2000),VLOOKUP(I311,Feuil1!$G$11:$L$25,4),IF(AND(H311>1999,H311<2002),VLOOKUP(I311,Feuil1!$G$11:$L$25,3),VLOOKUP(I311,Feuil1!$G$11:$L$25,2)))))))","v":"FS69"},112.60232033587982,null," ",{"$f":"T311-HLOOKUP(X311,Feuil1!$C$1:$BL$10,2,FALSE)","v":5},{"$f":"T311-HLOOKUP(X311,Feuil1!$C$1:$BL$10,3,FALSE)","v":-5},{"$f":"T311-HLOOKUP(X311,Feuil1!$C$1:$BL$10,4,FALSE)","v":-20},{"$f":"T311-HLOOKUP(X311,Feuil1!$C$1:$BL$10,5,FALSE)","v":-35},{"$f":"T311-HLOOKUP(X311,Feuil1!$C$1:$BL$10,6,FALSE)","v":-50},{"$f":"T311-HLOOKUP(X311,Feuil1!$C$1:$BL$10,7,FALSE)","v":-65},{"$f":"T311-HLOOKUP(X311,Feuil1!$C$1:$BL$10,8,FALSE)","v":-85},{"$f":"T311-HLOOKUP(X311,Feuil1!$C$1:$BL$10,9,FALSE)","v":-105},{"$f":"T311-HLOOKUP(X311,Feuil1!$C$1:$BL$10,10,FALSE)","v":-120},null,null,null,null,null,null,"DEB "]
["F","NE","FCO",44,349744,"BERTHELIN","Edith",1974,67.5,"CH Luxeuil","F",33,-35,35,35,40,45,50,50,85,-50,"DEB ",5,{"$f":"IF(I312=\"\",\"\",IF(A312=\"H\",IF(OR(H312=\"SEN\",H312<1995),VLOOKUP(I312,Feuil1!$A$11:$F$29,6),IF(AND(H312>1994,H312<1998),VLOOKUP(I312,Feuil1!$A$11:$F$29,5),IF(AND(H312>1997,H312<2000),VLOOKUP(I312,Feuil1!$A$11:$F$29,4),IF(AND(H312>1999,H312<2002),VLOOKUP(I312,Feuil1!$A$11:$F$29,3),VLOOKUP(I312,Feuil1!$A$11:$F$29,2))))),IF(OR(H312=\"SEN\",H312<1995),VLOOKUP(I312,Feuil1!$G$11:$L$25,6),IF(AND(H312>1994,H312<1998),VLOOKUP(I312,Feuil1!$G$11:$L$25,5),IF(AND(H312>1997,H312<2000),VLOOKUP(I312,Feuil1!$G$11:$L$25,4),IF(AND(H312>1999,H312<2002),VLOOKUP(I312,Feuil1!$G$11:$L$25,3),VLOOKUP(I312,Feuil1!$G$11:$L$25,2)))))))","v":"FS69"},108.0871958259706,null," ",{"$f":"T312-HLOOKUP(X312,Feuil1!$C$1:$BL$10,2,FALSE)","v":5},{"$f":"T312-HLOOKUP(X312,Feuil1!$C$1:$BL$10,3,FALSE)","v":-5},{"$f":"T312-HLOOKUP(X312,Feuil1!$C$1:$BL$10,4,FALSE)","v":-20},{"$f":"T312-HLOOKUP(X312,Feuil1!$C$1:$BL$10,5,FALSE)","v":-35},{"$f":"T312-HLOOKUP(X312,Feuil1!$C$1:$BL$10,6,FALSE)","v":-50},{"$f":"T312-HLOOKUP(X312,Feuil1!$C$1:$BL$10,7,FALSE)","v":-65},{"$f":"T312-HLOOKUP(X312,Feuil1!$C$1:$BL$10,8,FALSE)","v":-85},{"$f":"T312-HLOOKUP(X312,Feuil1!$C$1:$BL$10,9,FALSE)","v":-105},{"$f":"T312-HLOOKUP(X312,Feuil1!$C$1:$BL$10,10,FALSE)","v":-120},null,null,null,null,null,null,"DEB "]
["F","SEST","PRO",45,124214,"ARQUIER","BEATRICE",1983,65.87,"HC PELISSANNAIS","F",30,33,-36,33,43,47,50,50,83,-48.740000000000009,"DEB ",3,{"$f":"IF(I313=\"\",\"\",IF(A313=\"H\",IF(OR(H313=\"SEN\",H313<1995),VLOOKUP(I313,Feuil1!$A$11:$F$29,6),IF(AND(H313>1994,H313<1998),VLOOKUP(I313,Feuil1!$A$11:$F$29,5),IF(AND(H313>1997,H313<2000),VLOOKUP(I313,Feuil1!$A$11:$F$29,4),IF(AND(H313>1999,H313<2002),VLOOKUP(I313,Feuil1!$A$11:$F$29,3),VLOOKUP(I313,Feuil1!$A$11:$F$29,2))))),IF(OR(H313=\"SEN\",H313<1995),VLOOKUP(I313,Feuil1!$G$11:$L$25,6),IF(AND(H313>1994,H313<1998),VLOOKUP(I313,Feuil1!$G$11:$L$25,5),IF(AND(H313>1997,H313<2000),VLOOKUP(I313,Feuil1!$G$11:$L$25,4),IF(AND(H313>1999,H313<2002),VLOOKUP(I313,Feuil1!$G$11:$L$25,3),VLOOKUP(I313,Feuil1!$G$11:$L$25,2)))))))","v":"FS69"},107.15970926974144,null," ",{"$f":"T313-HLOOKUP(X313,Feuil1!$C$1:$BL$10,2,FALSE)","v":3},{"$f":"T313-HLOOKUP(X313,Feuil1!$C$1:$BL$10,3,FALSE)","v":-7},{"$f":"T313-HLOOKUP(X313,Feuil1!$C$1:$BL$10,4,FALSE)","v":-22},{"$f":"T313-HLOOKUP(X313,Feuil1!$C$1:$BL$10,5,FALSE)","v":-37},{"$f":"T313-HLOOKUP(X313,Feuil1!$C$1:$BL$10,6,FALSE)","v":-52},{"$f":"T313-HLOOKUP(X313,Feuil1!$C$1:$BL$10,7,FALSE)","v":-67},{"$f":"T313-HLOOKUP(X313,Feuil1!$C$1:$BL$10,8,FALSE)","v":-87},{"$f":"T313-HLOOKUP(X313,Feuil1!$C$1:$BL$10,9,FALSE)","v":-107},{"$f":"T313-HLOOKUP(X313,Feuil1!$C$1:$BL$10,10,FALSE)","v":-122},null,null,null,null,null,null,"DEB "]
["F","N","IDF",46,385242,"NTEP","ALICE",1978,66,"NEUILLY","F",30,33,-35,33,43,45,48,48,81,-51,"DEB ",1,{"$f":"IF(I314=\"\",\"\",IF(A314=\"H\",IF(OR(H314=\"SEN\",H314<1995),VLOOKUP(I314,Feuil1!$A$11:$F$29,6),IF(AND(H314>1994,H314<1998),VLOOKUP(I314,Feuil1!$A$11:$F$29,5),IF(AND(H314>1997,H314<2000),VLOOKUP(I314,Feuil1!$A$11:$F$29,4),IF(AND(H314>1999,H314<2002),VLOOKUP(I314,Feuil1!$A$11:$F$29,3),VLOOKUP(I314,Feuil1!$A$11:$F$29,2))))),IF(OR(H314=\"SEN\",H314<1995),VLOOKUP(I314,Feuil1!$G$11:$L$25,6),IF(AND(H314>1994,H314<1998),VLOOKUP(I314,Feuil1!$G$11:$L$25,5),IF(AND(H314>1997,H314<2000),VLOOKUP(I314,Feuil1!$G$11:$L$25,4),IF(AND(H314>1999,H314<2002),VLOOKUP(I314,Feuil1!$G$11:$L$25,3),VLOOKUP(I314,Feuil1!$G$11:$L$25,2)))))))","v":"FS69"},104.44767224638871,null," ",{"$f":"T314-HLOOKUP(X314,Feuil1!$C$1:$BL$10,2,FALSE)","v":1},{"$f":"T314-HLOOKUP(X314,Feuil1!$C$1:$BL$10,3,FALSE)","v":-9},{"$f":"T314-HLOOKUP(X314,Feuil1!$C$1:$BL$10,4,FALSE)","v":-24},{"$f":"T314-HLOOKUP(X314,Feuil1!$C$1:$BL$10,5,FALSE)","v":-39},{"$f":"T314-HLOOKUP(X314,Feuil1!$C$1:$BL$10,6,FALSE)","v":-54},{"$f":"T314-HLOOKUP(X314,Feuil1!$C$1:$BL$10,7,FALSE)","v":-69},{"$f":"T314-HLOOKUP(X314,Feuil1!$C$1:$BL$10,8,FALSE)","v":-89},{"$f":"T314-HLOOKUP(X314,Feuil1!$C$1:$BL$10,9,FALSE)","v":-109},{"$f":"T314-HLOOKUP(X314,Feuil1!$C$1:$BL$10,10,FALSE)","v":-124},null,null,null,null,null,null,"DEB "]
["F","CO","BNO",47,383854,"LEGARDINIER","ESTELLE",1992,63.3,"Stade St Lois","F",30,33,35,35,40,44,-46,44,79,-47.599999999999994,"DEB ",-1,{"$f":"IF(I315=\"\",\"\",IF(A315=\"H\",IF(OR(H315=\"SEN\",H315<1995),VLOOKUP(I315,Feuil1!$A$11:$F$29,6),IF(AND(H315>1994,H315<1998),VLOOKUP(I315,Feuil1!$A$11:$F$29,5),IF(AND(H315>1997,H315<2000),VLOOKUP(I315,Feuil1!$A$11:$F$29,4),IF(AND(H315>1999,H315<2002),VLOOKUP(I315,Feuil1!$A$11:$F$29,3),VLOOKUP(I315,Feuil1!$A$11:$F$29,2))))),IF(OR(H315=\"SEN\",H315<1995),VLOOKUP(I315,Feuil1!$G$11:$L$25,6),IF(AND(H315>1994,H315<1998),VLOOKUP(I315,Feuil1!$G$11:$L$25,5),IF(AND(H315>1997,H315<2000),VLOOKUP(I315,Feuil1!$G$11:$L$25,4),IF(AND(H315>1999,H315<2002),VLOOKUP(I315,Feuil1!$G$11:$L$25,3),VLOOKUP(I315,Feuil1!$G$11:$L$25,2)))))))","v":"FS69"},104.65392125334714,null," ",{"$f":"T315-HLOOKUP(X315,Feuil1!$C$1:$BL$10,2,FALSE)","v":-1},{"$f":"T315-HLOOKUP(X315,Feuil1!$C$1:$BL$10,3,FALSE)","v":-11},{"$f":"T315-HLOOKUP(X315,Feuil1!$C$1:$BL$10,4,FALSE)","v":-26},{"$f":"T315-HLOOKUP(X315,Feuil1!$C$1:$BL$10,5,FALSE)","v":-41},{"$f":"T315-HLOOKUP(X315,Feuil1!$C$1:$BL$10,6,FALSE)","v":-56},{"$f":"T315-HLOOKUP(X315,Feuil1!$C$1:$BL$10,7,FALSE)","v":-71},{"$f":"T315-HLOOKUP(X315,Feuil1!$C$1:$BL$10,8,FALSE)","v":-91},{"$f":"T315-HLOOKUP(X315,Feuil1!$C$1:$BL$10,9,FALSE)","v":-111},{"$f":"T315-HLOOKUP(X315,Feuil1!$C$1:$BL$10,10,FALSE)","v":-126},null,null,null,null,null,null,"DEB "]
["F","SO","MPY",48,326408,"DEBEVE","Sandrine",1970,64.7,"PAMIERS HC","F",-32,32,35,35,40,43,-45,43,78,-51.400000000000006,"DEB ",-2,{"$f":"IF(I316=\"\",\"\",IF(A316=\"H\",IF(OR(H316=\"SEN\",H316<1995),VLOOKUP(I316,Feuil1!$A$11:$F$29,6),IF(AND(H316>1994,H316<1998),VLOOKUP(I316,Feuil1!$A$11:$F$29,5),IF(AND(H316>1997,H316<2000),VLOOKUP(I316,Feuil1!$A$11:$F$29,4),IF(AND(H316>1999,H316<2002),VLOOKUP(I316,Feuil1!$A$11:$F$29,3),VLOOKUP(I316,Feuil1!$A$11:$F$29,2))))),IF(OR(H316=\"SEN\",H316<1995),VLOOKUP(I316,Feuil1!$G$11:$L$25,6),IF(AND(H316>1994,H316<1998),VLOOKUP(I316,Feuil1!$G$11:$L$25,5),IF(AND(H316>1997,H316<2000),VLOOKUP(I316,Feuil1!$G$11:$L$25,4),IF(AND(H316>1999,H316<2002),VLOOKUP(I316,Feuil1!$G$11:$L$25,3),VLOOKUP(I316,Feuil1!$G$11:$L$25,2)))))))","v":"FS69"},101.86243452890605,null," ",{"$f":"T316-HLOOKUP(X316,Feuil1!$C$1:$BL$10,2,FALSE)","v":-2},{"$f":"T316-HLOOKUP(X316,Feuil1!$C$1:$BL$10,3,FALSE)","v":-12},{"$f":"T316-HLOOKUP(X316,Feuil1!$C$1:$BL$10,4,FALSE)","v":-27},{"$f":"T316-HLOOKUP(X316,Feuil1!$C$1:$BL$10,5,FALSE)","v":-42},{"$f":"T316-HLOOKUP(X316,Feuil1!$C$1:$BL$10,6,FALSE)","v":-57},{"$f":"T316-HLOOKUP(X316,Feuil1!$C$1:$BL$10,7,FALSE)","v":-72},{"$f":"T316-HLOOKUP(X316,Feuil1!$C$1:$BL$10,8,FALSE)","v":-92},{"$f":"T316-HLOOKUP(X316,Feuil1!$C$1:$BL$10,9,FALSE)","v":-112},{"$f":"T316-HLOOKUP(X316,Feuil1!$C$1:$BL$10,10,FALSE)","v":-127},null,null,null,null,null,null,"DEB "]
["F","NORD","NPC",49,374959,"JERUZALSKI","Julie",1992,65.8,"LOMME","F",30,-33,33,33,45,-48,-48,45,78,-53.599999999999994,"DEB ",-2,{"$f":"IF(I317=\"\",\"\",IF(A317=\"H\",IF(OR(H317=\"SEN\",H317<1995),VLOOKUP(I317,Feuil1!$A$11:$F$29,6),IF(AND(H317>1994,H317<1998),VLOOKUP(I317,Feuil1!$A$11:$F$29,5),IF(AND(H317>1997,H317<2000),VLOOKUP(I317,Feuil1!$A$11:$F$29,4),IF(AND(H317>1999,H317<2002),VLOOKUP(I317,Feuil1!$A$11:$F$29,3),VLOOKUP(I317,Feuil1!$A$11:$F$29,2))))),IF(OR(H317=\"SEN\",H317<1995),VLOOKUP(I317,Feuil1!$G$11:$L$25,6),IF(AND(H317>1994,H317<1998),VLOOKUP(I317,Feuil1!$G$11:$L$25,5),IF(AND(H317>1997,H317<2000),VLOOKUP(I317,Feuil1!$G$11:$L$25,4),IF(AND(H317>1999,H317<2002),VLOOKUP(I317,Feuil1!$G$11:$L$25,3),VLOOKUP(I317,Feuil1!$G$11:$L$25,2)))))))","v":"FS69"},100.77194139610289,null," ",{"$f":"T317-HLOOKUP(X317,Feuil1!$C$1:$BL$10,2,FALSE)","v":-2},{"$f":"T317-HLOOKUP(X317,Feuil1!$C$1:$BL$10,3,FALSE)","v":-12},{"$f":"T317-HLOOKUP(X317,Feuil1!$C$1:$BL$10,4,FALSE)","v":-27},{"$f":"T317-HLOOKUP(X317,Feuil1!$C$1:$BL$10,5,FALSE)","v":-42},{"$f":"T317-HLOOKUP(X317,Feuil1!$C$1:$BL$10,6,FALSE)","v":-57},{"$f":"T317-HLOOKUP(X317,Feuil1!$C$1:$BL$10,7,FALSE)","v":-72},{"$f":"T317-HLOOKUP(X317,Feuil1!$C$1:$BL$10,8,FALSE)","v":-92},{"$f":"T317-HLOOKUP(X317,Feuil1!$C$1:$BL$10,9,FALSE)","v":-112},{"$f":"T317-HLOOKUP(X317,Feuil1!$C$1:$BL$10,10,FALSE)","v":-127},null,null,null,null,null,null,"DEB "]
["F","N","IDF",50,110465,"NIGON","ARMELLE",1987,66.099999999999994,"RUEIL","F",32,35,-37,35,43,-46,-46,43,78,-54.199999999999989,"DEB ",-2,{"$f":"IF(I318=\"\",\"\",IF(A318=\"H\",IF(OR(H318=\"SEN\",H318<1995),VLOOKUP(I318,Feuil1!$A$11:$F$29,6),IF(AND(H318>1994,H318<1998),VLOOKUP(I318,Feuil1!$A$11:$F$29,5),IF(AND(H318>1997,H318<2000),VLOOKUP(I318,Feuil1!$A$11:$F$29,4),IF(AND(H318>1999,H318<2002),VLOOKUP(I318,Feuil1!$A$11:$F$29,3),VLOOKUP(I318,Feuil1!$A$11:$F$29,2))))),IF(OR(H318=\"SEN\",H318<1995),VLOOKUP(I318,Feuil1!$G$11:$L$25,6),IF(AND(H318>1994,H318<1998),VLOOKUP(I318,Feuil1!$G$11:$L$25,5),IF(AND(H318>1997,H318<2000),VLOOKUP(I318,Feuil1!$G$11:$L$25,4),IF(AND(H318>1999,H318<2002),VLOOKUP(I318,Feuil1!$G$11:$L$25,3),VLOOKUP(I318,Feuil1!$G$11:$L$25,2)))))))","v":"FS69"},100.48351556236388,null," ",{"$f":"T318-HLOOKUP(X318,Feuil1!$C$1:$BL$10,2,FALSE)","v":-2},{"$f":"T318-HLOOKUP(X318,Feuil1!$C$1:$BL$10,3,FALSE)","v":-12},{"$f":"T318-HLOOKUP(X318,Feuil1!$C$1:$BL$10,4,FALSE)","v":-27},{"$f":"T318-HLOOKUP(X318,Feuil1!$C$1:$BL$10,5,FALSE)","v":-42},{"$f":"T318-HLOOKUP(X318,Feuil1!$C$1:$BL$10,6,FALSE)","v":-57},{"$f":"T318-HLOOKUP(X318,Feuil1!$C$1:$BL$10,7,FALSE)","v":-72},{"$f":"T318-HLOOKUP(X318,Feuil1!$C$1:$BL$10,8,FALSE)","v":-92},{"$f":"T318-HLOOKUP(X318,Feuil1!$C$1:$BL$10,9,FALSE)","v":-112},{"$f":"T318-HLOOKUP(X318,Feuil1!$C$1:$BL$10,10,FALSE)","v":-127},null,null,null,null,null,null,"DEB "]
["F","SEST","RAL",51,383921,"NICOUD","Clémence",1994,67.5,"SAINT MARCELLIN","F",32,36,-38,36,40,-44,-44,40,76,-59,"DEB ",-4,{"$f":"IF(I319=\"\",\"\",IF(A319=\"H\",IF(OR(H319=\"SEN\",H319<1995),VLOOKUP(I319,Feuil1!$A$11:$F$29,6),IF(AND(H319>1994,H319<1998),VLOOKUP(I319,Feuil1!$A$11:$F$29,5),IF(AND(H319>1997,H319<2000),VLOOKUP(I319,Feuil1!$A$11:$F$29,4),IF(AND(H319>1999,H319<2002),VLOOKUP(I319,Feuil1!$A$11:$F$29,3),VLOOKUP(I319,Feuil1!$A$11:$F$29,2))))),IF(OR(H319=\"SEN\",H319<1995),VLOOKUP(I319,Feuil1!$G$11:$L$25,6),IF(AND(H319>1994,H319<1998),VLOOKUP(I319,Feuil1!$G$11:$L$25,5),IF(AND(H319>1997,H319<2000),VLOOKUP(I319,Feuil1!$G$11:$L$25,4),IF(AND(H319>1999,H319<2002),VLOOKUP(I319,Feuil1!$G$11:$L$25,3),VLOOKUP(I319,Feuil1!$G$11:$L$25,2)))))))","v":"FS69"},96.642669209103119,null," ",{"$f":"T319-HLOOKUP(X319,Feuil1!$C$1:$BL$10,2,FALSE)","v":-4},{"$f":"T319-HLOOKUP(X319,Feuil1!$C$1:$BL$10,3,FALSE)","v":-14},{"$f":"T319-HLOOKUP(X319,Feuil1!$C$1:$BL$10,4,FALSE)","v":-29},{"$f":"T319-HLOOKUP(X319,Feuil1!$C$1:$BL$10,5,FALSE)","v":-44},{"$f":"T319-HLOOKUP(X319,Feuil1!$C$1:$BL$10,6,FALSE)","v":-59},{"$f":"T319-HLOOKUP(X319,Feuil1!$C$1:$BL$10,7,FALSE)","v":-74},{"$f":"T319-HLOOKUP(X319,Feuil1!$C$1:$BL$10,8,FALSE)","v":-94},{"$f":"T319-HLOOKUP(X319,Feuil1!$C$1:$BL$10,9,FALSE)","v":-114},{"$f":"T319-HLOOKUP(X319,Feuil1!$C$1:$BL$10,10,FALSE)","v":-129},null,null,null,null,null,null,"DEB "]
["F","SEST","CAZ",52,376179,"ICARDI","Vanessa",1978,63.3,"HC HYERES","F",27,30,-33,30,40,-42,42,42,72,-54.599999999999994,"DEB ",-8,{"$f":"IF(I320=\"\",\"\",IF(A320=\"H\",IF(OR(H320=\"SEN\",H320<1995),VLOOKUP(I320,Feuil1!$A$11:$F$29,6),IF(AND(H320>1994,H320<1998),VLOOKUP(I320,Feuil1!$A$11:$F$29,5),IF(AND(H320>1997,H320<2000),VLOOKUP(I320,Feuil1!$A$11:$F$29,4),IF(AND(H320>1999,H320<2002),VLOOKUP(I320,Feuil1!$A$11:$F$29,3),VLOOKUP(I320,Feuil1!$A$11:$F$29,2))))),IF(OR(H320=\"SEN\",H320<1995),VLOOKUP(I320,Feuil1!$G$11:$L$25,6),IF(AND(H320>1994,H320<1998),VLOOKUP(I320,Feuil1!$G$11:$L$25,5),IF(AND(H320>1997,H320<2000),VLOOKUP(I320,Feuil1!$G$11:$L$25,4),IF(AND(H320>1999,H320<2002),VLOOKUP(I320,Feuil1!$G$11:$L$25,3),VLOOKUP(I320,Feuil1!$G$11:$L$25,2)))))))","v":"FS69"},95.380788990392318,null," ",{"$f":"T320-HLOOKUP(X320,Feuil1!$C$1:$BL$10,2,FALSE)","v":-8},{"$f":"T320-HLOOKUP(X320,Feuil1!$C$1:$BL$10,3,FALSE)","v":-18},{"$f":"T320-HLOOKUP(X320,Feuil1!$C$1:$BL$10,4,FALSE)","v":-33},{"$f":"T320-HLOOKUP(X320,Feuil1!$C$1:$BL$10,5,FALSE)","v":-48},{"$f":"T320-HLOOKUP(X320,Feuil1!$C$1:$BL$10,6,FALSE)","v":-63},{"$f":"T320-HLOOKUP(X320,Feuil1!$C$1:$BL$10,7,FALSE)","v":-78},{"$f":"T320-HLOOKUP(X320,Feuil1!$C$1:$BL$10,8,FALSE)","v":-98},{"$f":"T320-HLOOKUP(X320,Feuil1!$C$1:$BL$10,9,FALSE)","v":-118},{"$f":"T320-HLOOKUP(X320,Feuil1!$C$1:$BL$10,10,FALSE)","v":-133},null,null,null,null,null,null,"DEB "]
["F","NE","ALS",53,397992,"AMANN","EUGENIE",1992,63.45,"ASPTT Strasbourg","F",26,27,30,30,35,38,41,41,71,-55.900000000000006,"DEB ",-9,{"$f":"IF(I321=\"\",\"\",IF(A321=\"H\",IF(OR(H321=\"SEN\",H321<1995),VLOOKUP(I321,Feuil1!$A$11:$F$29,6),IF(AND(H321>1994,H321<1998),VLOOKUP(I321,Feuil1!$A$11:$F$29,5),IF(AND(H321>1997,H321<2000),VLOOKUP(I321,Feuil1!$A$11:$F$29,4),IF(AND(H321>1999,H321<2002),VLOOKUP(I321,Feuil1!$A$11:$F$29,3),VLOOKUP(I321,Feuil1!$A$11:$F$29,2))))),IF(OR(H321=\"SEN\",H321<1995),VLOOKUP(I321,Feuil1!$G$11:$L$25,6),IF(AND(H321>1994,H321<1998),VLOOKUP(I321,Feuil1!$G$11:$L$25,5),IF(AND(H321>1997,H321<2000),VLOOKUP(I321,Feuil1!$G$11:$L$25,4),IF(AND(H321>1999,H321<2002),VLOOKUP(I321,Feuil1!$G$11:$L$25,3),VLOOKUP(I321,Feuil1!$G$11:$L$25,2)))))))","v":"FS69"},93.908989649577421,null," ",{"$f":"T321-HLOOKUP(X321,Feuil1!$C$1:$BL$10,2,FALSE)","v":-9},{"$f":"T321-HLOOKUP(X321,Feuil1!$C$1:$BL$10,3,FALSE)","v":-19},{"$f":"T321-HLOOKUP(X321,Feuil1!$C$1:$BL$10,4,FALSE)","v":-34},{"$f":"T321-HLOOKUP(X321,Feuil1!$C$1:$BL$10,5,FALSE)","v":-49},{"$f":"T321-HLOOKUP(X321,Feuil1!$C$1:$BL$10,6,FALSE)","v":-64},{"$f":"T321-HLOOKUP(X321,Feuil1!$C$1:$BL$10,7,FALSE)","v":-79},{"$f":"T321-HLOOKUP(X321,Feuil1!$C$1:$BL$10,8,FALSE)","v":-99},{"$f":"T321-HLOOKUP(X321,Feuil1!$C$1:$BL$10,9,FALSE)","v":-119},{"$f":"T321-HLOOKUP(X321,Feuil1!$C$1:$BL$10,10,FALSE)","v":-134},null,null,null,null,null,null,"DEB "]
["F","NORD","PIC",54,263675,"SAUGOUT","Noelle",1957,69,"La Ferté Milon CMHM","F",27,29,30,30,37,-39,40,40,70,-68,"DEB ",-10,{"$f":"IF(I322=\"\",\"\",IF(A322=\"H\",IF(OR(H322=\"SEN\",H322<1995),VLOOKUP(I322,Feuil1!$A$11:$F$29,6),IF(AND(H322>1994,H322<1998),VLOOKUP(I322,Feuil1!$A$11:$F$29,5),IF(AND(H322>1997,H322<2000),VLOOKUP(I322,Feuil1!$A$11:$F$29,4),IF(AND(H322>1999,H322<2002),VLOOKUP(I322,Feuil1!$A$11:$F$29,3),VLOOKUP(I322,Feuil1!$A$11:$F$29,2))))),IF(OR(H322=\"SEN\",H322<1995),VLOOKUP(I322,Feuil1!$G$11:$L$25,6),IF(AND(H322>1994,H322<1998),VLOOKUP(I322,Feuil1!$G$11:$L$25,5),IF(AND(H322>1997,H322<2000),VLOOKUP(I322,Feuil1!$G$11:$L$25,4),IF(AND(H322>1999,H322<2002),VLOOKUP(I322,Feuil1!$G$11:$L$25,3),VLOOKUP(I322,Feuil1!$G$11:$L$25,2)))))))","v":"FS69"},87.840226339671631,null," ",{"$f":"T322-HLOOKUP(X322,Feuil1!$C$1:$BL$10,2,FALSE)","v":-10},{"$f":"T322-HLOOKUP(X322,Feuil1!$C$1:$BL$10,3,FALSE)","v":-20},{"$f":"T322-HLOOKUP(X322,Feuil1!$C$1:$BL$10,4,FALSE)","v":-35},{"$f":"T322-HLOOKUP(X322,Feuil1!$C$1:$BL$10,5,FALSE)","v":-50},{"$f":"T322-HLOOKUP(X322,Feuil1!$C$1:$BL$10,6,FALSE)","v":-65},{"$f":"T322-HLOOKUP(X322,Feuil1!$C$1:$BL$10,7,FALSE)","v":-80},{"$f":"T322-HLOOKUP(X322,Feuil1!$C$1:$BL$10,8,FALSE)","v":-100},{"$f":"T322-HLOOKUP(X322,Feuil1!$C$1:$BL$10,9,FALSE)","v":-120},{"$f":"T322-HLOOKUP(X322,Feuil1!$C$1:$BL$10,10,FALSE)","v":-135},null,null,null,null,null,null,"DEB "]
["F","SEST","RAL",55,380619,"DANDRIMONT","Amandine",1979,67.2,"GAULOISE DE VAISE","F",27,30,32,32,37,-40,-40,37,69,-65.400000000000006,"DEB ",-11,{"$f":"IF(I323=\"\",\"\",IF(A323=\"H\",IF(OR(H323=\"SEN\",H323<1995),VLOOKUP(I323,Feuil1!$A$11:$F$29,6),IF(AND(H323>1994,H323<1998),VLOOKUP(I323,Feuil1!$A$11:$F$29,5),IF(AND(H323>1997,H323<2000),VLOOKUP(I323,Feuil1!$A$11:$F$29,4),IF(AND(H323>1999,H323<2002),VLOOKUP(I323,Feuil1!$A$11:$F$29,3),VLOOKUP(I323,Feuil1!$A$11:$F$29,2))))),IF(OR(H323=\"SEN\",H323<1995),VLOOKUP(I323,Feuil1!$G$11:$L$25,6),IF(AND(H323>1994,H323<1998),VLOOKUP(I323,Feuil1!$G$11:$L$25,5),IF(AND(H323>1997,H323<2000),VLOOKUP(I323,Feuil1!$G$11:$L$25,4),IF(AND(H323>1999,H323<2002),VLOOKUP(I323,Feuil1!$G$11:$L$25,3),VLOOKUP(I323,Feuil1!$G$11:$L$25,2)))))))","v":"FS69"},87.981563095006933,null," ",{"$f":"T323-HLOOKUP(X323,Feuil1!$C$1:$BL$10,2,FALSE)","v":-11},{"$f":"T323-HLOOKUP(X323,Feuil1!$C$1:$BL$10,3,FALSE)","v":-21},{"$f":"T323-HLOOKUP(X323,Feuil1!$C$1:$BL$10,4,FALSE)","v":-36},{"$f":"T323-HLOOKUP(X323,Feuil1!$C$1:$BL$10,5,FALSE)","v":-51},{"$f":"T323-HLOOKUP(X323,Feuil1!$C$1:$BL$10,6,FALSE)","v":-66},{"$f":"T323-HLOOKUP(X323,Feuil1!$C$1:$BL$10,7,FALSE)","v":-81},{"$f":"T323-HLOOKUP(X323,Feuil1!$C$1:$BL$10,8,FALSE)","v":-101},{"$f":"T323-HLOOKUP(X323,Feuil1!$C$1:$BL$10,9,FALSE)","v":-121},{"$f":"T323-HLOOKUP(X323,Feuil1!$C$1:$BL$10,10,FALSE)","v":-136},null,null,null,null,null,null,"DEB "]
["F","SEST","RAL",56,249168,"BLANCHARD","Nathalie",1974,67.599999999999994,"CH Arbresle","F",24,26,-28,26,37,40,42,42,68,-67.199999999999989,"DEB ",-12,{"$f":"IF(I324=\"\",\"\",IF(A324=\"H\",IF(OR(H324=\"SEN\",H324<1995),VLOOKUP(I324,Feuil1!$A$11:$F$29,6),IF(AND(H324>1994,H324<1998),VLOOKUP(I324,Feuil1!$A$11:$F$29,5),IF(AND(H324>1997,H324<2000),VLOOKUP(I324,Feuil1!$A$11:$F$29,4),IF(AND(H324>1999,H324<2002),VLOOKUP(I324,Feuil1!$A$11:$F$29,3),VLOOKUP(I324,Feuil1!$A$11:$F$29,2))))),IF(OR(H324=\"SEN\",H324<1995),VLOOKUP(I324,Feuil1!$G$11:$L$25,6),IF(AND(H324>1994,H324<1998),VLOOKUP(I324,Feuil1!$G$11:$L$25,5),IF(AND(H324>1997,H324<2000),VLOOKUP(I324,Feuil1!$G$11:$L$25,4),IF(AND(H324>1999,H324<2002),VLOOKUP(I324,Feuil1!$G$11:$L$25,3),VLOOKUP(I324,Feuil1!$G$11:$L$25,2)))))))","v":"FS69"},86.391525548996867,null," ",{"$f":"T324-HLOOKUP(X324,Feuil1!$C$1:$BL$10,2,FALSE)","v":-12},{"$f":"T324-HLOOKUP(X324,Feuil1!$C$1:$BL$10,3,FALSE)","v":-22},{"$f":"T324-HLOOKUP(X324,Feuil1!$C$1:$BL$10,4,FALSE)","v":-37},{"$f":"T324-HLOOKUP(X324,Feuil1!$C$1:$BL$10,5,FALSE)","v":-52},{"$f":"T324-HLOOKUP(X324,Feuil1!$C$1:$BL$10,6,FALSE)","v":-67},{"$f":"T324-HLOOKUP(X324,Feuil1!$C$1:$BL$10,7,FALSE)","v":-82},{"$f":"T324-HLOOKUP(X324,Feuil1!$C$1:$BL$10,8,FALSE)","v":-102},{"$f":"T324-HLOOKUP(X324,Feuil1!$C$1:$BL$10,9,FALSE)","v":-122},{"$f":"T324-HLOOKUP(X324,Feuil1!$C$1:$BL$10,10,FALSE)","v":-137},null,null,null,null,null,null,"DEB "]
["F","SO","MPY",57,307081,"DELPECH","Frédérique",1972,68.099999999999994,"MONTAUBAN HC","F",24,27,-30,27,33,36,-40,36,63,-73.199999999999989,"DEB ",-17,{"$f":"IF(I325=\"\",\"\",IF(A325=\"H\",IF(OR(H325=\"SEN\",H325<1995),VLOOKUP(I325,Feuil1!$A$11:$F$29,6),IF(AND(H325>1994,H325<1998),VLOOKUP(I325,Feuil1!$A$11:$F$29,5),IF(AND(H325>1997,H325<2000),VLOOKUP(I325,Feuil1!$A$11:$F$29,4),IF(AND(H325>1999,H325<2002),VLOOKUP(I325,Feuil1!$A$11:$F$29,3),VLOOKUP(I325,Feuil1!$A$11:$F$29,2))))),IF(OR(H325=\"SEN\",H325<1995),VLOOKUP(I325,Feuil1!$G$11:$L$25,6),IF(AND(H325>1994,H325<1998),VLOOKUP(I325,Feuil1!$G$11:$L$25,5),IF(AND(H325>1997,H325<2000),VLOOKUP(I325,Feuil1!$G$11:$L$25,4),IF(AND(H325>1999,H325<2002),VLOOKUP(I325,Feuil1!$G$11:$L$25,3),VLOOKUP(I325,Feuil1!$G$11:$L$25,2)))))))","v":"FS69"},79.681413505478034,null," ",{"$f":"T325-HLOOKUP(X325,Feuil1!$C$1:$BL$10,2,FALSE)","v":-17},{"$f":"T325-HLOOKUP(X325,Feuil1!$C$1:$BL$10,3,FALSE)","v":-27},{"$f":"T325-HLOOKUP(X325,Feuil1!$C$1:$BL$10,4,FALSE)","v":-42},{"$f":"T325-HLOOKUP(X325,Feuil1!$C$1:$BL$10,5,FALSE)","v":-57},{"$f":"T325-HLOOKUP(X325,Feuil1!$C$1:$BL$10,6,FALSE)","v":-72},{"$f":"T325-HLOOKUP(X325,Feuil1!$C$1:$BL$10,7,FALSE)","v":-87},{"$f":"T325-HLOOKUP(X325,Feuil1!$C$1:$BL$10,8,FALSE)","v":-107},{"$f":"T325-HLOOKUP(X325,Feuil1!$C$1:$BL$10,9,FALSE)","v":-127},{"$f":"T325-HLOOKUP(X325,Feuil1!$C$1:$BL$10,10,FALSE)","v":-142},null,null,null,null,null,null,"DEB "]
["F","NORD","PIC",58,386577,"DEMEAUX","Sabrina",1983,66.3,"Hirson CEHT","F",20,23,25,25,30,33,35,35,60,-72.599999999999994,"DEB ",-20,{"$f":"IF(I326=\"\",\"\",IF(A326=\"H\",IF(OR(H326=\"SEN\",H326<1995),VLOOKUP(I326,Feuil1!$A$11:$F$29,6),IF(AND(H326>1994,H326<1998),VLOOKUP(I326,Feuil1!$A$11:$F$29,5),IF(AND(H326>1997,H326<2000),VLOOKUP(I326,Feuil1!$A$11:$F$29,4),IF(AND(H326>1999,H326<2002),VLOOKUP(I326,Feuil1!$A$11:$F$29,3),VLOOKUP(I326,Feuil1!$A$11:$F$29,2))))),IF(OR(H326=\"SEN\",H326<1995),VLOOKUP(I326,Feuil1!$G$11:$L$25,6),IF(AND(H326>1994,H326<1998),VLOOKUP(I326,Feuil1!$G$11:$L$25,5),IF(AND(H326>1997,H326<2000),VLOOKUP(I326,Feuil1!$G$11:$L$25,4),IF(AND(H326>1999,H326<2002),VLOOKUP(I326,Feuil1!$G$11:$L$25,3),VLOOKUP(I326,Feuil1!$G$11:$L$25,2)))))))","v":"FS69"},77.14869858546912,null," ",{"$f":"T326-HLOOKUP(X326,Feuil1!$C$1:$BL$10,2,FALSE)","v":-20},{"$f":"T326-HLOOKUP(X326,Feuil1!$C$1:$BL$10,3,FALSE)","v":-30},{"$f":"T326-HLOOKUP(X326,Feuil1!$C$1:$BL$10,4,FALSE)","v":-45},{"$f":"T326-HLOOKUP(X326,Feuil1!$C$1:$BL$10,5,FALSE)","v":-60},{"$f":"T326-HLOOKUP(X326,Feuil1!$C$1:$BL$10,6,FALSE)","v":-75},{"$f":"T326-HLOOKUP(X326,Feuil1!$C$1:$BL$10,7,FALSE)","v":-90},{"$f":"T326-HLOOKUP(X326,Feuil1!$C$1:$BL$10,8,FALSE)","v":-110},{"$f":"T326-HLOOKUP(X326,Feuil1!$C$1:$BL$10,9,FALSE)","v":-130},{"$f":"T326-HLOOKUP(X326,Feuil1!$C$1:$BL$10,10,FALSE)","v":-145},null,null,null,null,null,null,"DEB "]
[null,null,null,null,null,null,null,null,null,null,null,null,null,null,null,null,null,null,null,null,null,null,null,null,null,null," ",{"$f":"T327-HLOOKUP(X327,[1]Feuil1!$C$1:$BL$10,2,FALSE)","v":{"$error":"#N/A"}},{"$f":"T327-HLOOKUP(X327,[1]Feuil1!$C$1:$BL$10,3,FALSE)","v":{"$error":"#N/A"}},{"$f":"T327-HLOOKUP(X327,[1]Feuil1!$C$1:$BL$10,4,FALSE)","v":{"$error":"#N/A"}},{"$f":"T327-HLOOKUP(X327,[1]Feuil1!$C$1:$BL$10,5,FALSE)","v":{"$error":"#N/A"}},{"$f":"T327-HLOOKUP(X327,[1]Feuil1!$C$1:$BL$10,6,FALSE)","v":{"$error":"#N/A"}},{"$f":"T327-HLOOKUP(X327,[1]Feuil1!$C$1:$BL$10,7,FALSE)","v":{"$error":"#N/A"}},{"$f":"T327-HLOOKUP(X327,[1]Feuil1!$C$1:$BL$10,8,FALSE)","v":{"$error":"#N/A"}},{"$f":"T327-HLOOKUP(X327,[1]Feuil1!$C$1:$BL$10,9,FALSE)","v":{"$error":"#N/A"}},{"$f":"T327-HLOOKUP(X327,[1]Feuil1!$C$1:$BL$10,10,FALSE)","v":{"$error":"#N/A"}},null,null,null,null,null,null,{"$f":"IF(AJ327>=0,$AJ$4,IF(AI327>=0,$AI$4,IF(AH327>=0,$AH$4,IF(AG327>=0,$AG$4,IF(AF327>=0,$AF$4,IF(AE327>=0,$AE$4,IF(AD327>=0,$AD$4,IF(AC327>=0,$AC$4,$AB$4))))))))","v":{"$error":"#N/A"}}]
["F","SEST","LAN ",1,287541,"NAYO KETCHANKE","Gaëlle",1988,73.349999999999994,"Clermont Sports","F",100,104,107,{"$f":"IF(H328=\"\",\"\",IF(MAXA(L328:N328)<=0,0,MAXA(L328:N328)))","v":107},125,-131,131,{"$f":"IF(H328=\"\",\"\",IF(MAXA(P328:R328)<=0,0,MAXA(P328:R328)))","v":131},{"$f":"IF(H328=\"\",\"\",IF(OR(O328=0,S328=0),0,O328+S328))","v":238},{"$f":"T328-I328*2","v":91.300000000000011},{"$f":"IF(H328=\"\",\"\",AQ328)","v":"OLY +"},{"$f":"IF(AJ328>=0,AJ328,IF(AI328>=0,AI328,IF(AH328>=0,AH328,IF(AG328>=0,AG328,IF(AF328>=0,AF328,IF(AE328>=0,AE328,IF(AD328>=0,AD328,IF(AC328>=0,AC328,AB328))))))))","v":28},{"$f":"IF(I328=\"\",\"\",IF(A328=\"H\",IF(OR(H328=\"SEN\",H328<1995),VLOOKUP(I328,Feuil1!$A$11:$F$29,6),IF(AND(H328>1994,H328<1998),VLOOKUP(I328,Feuil1!$A$11:$F$29,5),IF(AND(H328>1997,H328<2000),VLOOKUP(I328,Feuil1!$A$11:$F$29,4),IF(AND(H328>1999,H328<2002),VLOOKUP(I328,Feuil1!$A$11:$F$29,3),VLOOKUP(I328,Feuil1!$A$11:$F$29,2))))),IF(OR(H328=\"SEN\",H328<1995),VLOOKUP(I328,Feuil1!$G$11:$L$25,6),IF(AND(H328>1994,H328<1998),VLOOKUP(I328,Feuil1!$G$11:$L$25,5),IF(AND(H328>1997,H328<2000),VLOOKUP(I328,Feuil1!$G$11:$L$25,4),IF(AND(H328>1999,H328<2002),VLOOKUP(I328,Feuil1!$G$11:$L$25,3),VLOOKUP(I328,Feuil1!$G$11:$L$25,2)))))))","v":"FS75"},{"$f":"IF(I328=\"\",\"\",IF(A328=\"H\",10^(0.794358141*LOG(I328/174.393)^2)*T328,IF(A328=\"F\",10^(0.89726074*LOG(I328/148.026)^2)*T328,\"\")))","v":288.41021864518041},null," ",{"$f":"T328-HLOOKUP(X328,Feuil1!$C$1:$BL$10,2,FALSE)","v":143},{"$f":"T328-HLOOKUP(X328,Feuil1!$C$1:$BL$10,3,FALSE)","v":133},{"$f":"T328-HLOOKUP(X328,Feuil1!$C$1:$BL$10,4,FALSE)","v":123},{"$f":"T328-HLOOKUP(X328,Feuil1!$C$1:$BL$10,5,FALSE)","v":108},{"$f":"T328-HLOOKUP(X328,Feuil1!$C$1:$BL$10,6,FALSE)","v":93},{"$f":"T328-HLOOKUP(X328,Feuil1!$C$1:$BL$10,7,FALSE)","v":78},{"$f":"T328-HLOOKUP(X328,Feuil1!$C$1:$BL$10,8,FALSE)","v":58},{"$f":"T328-HLOOKUP(X328,Feuil1!$C$1:$BL$10,9,FALSE)","v":43},{"$f":"T328-HLOOKUP(X328,Feuil1!$C$1:$BL$10,10,FALSE)","v":28},null,null,null,null,null,null,{"$f":"IF(AJ328>=0,$AJ$4,IF(AI328>=0,$AI$4,IF(AH328>=0,$AH$4,IF(AG328>=0,$AG$4,IF(AF328>=0,$AF$4,IF(AE328>=0,$AE$4,IF(AD328>=0,$AD$4,IF(AC328>=0,$AC$4,$AB$4))))))))","v":"OLY +"}]
["F","SEST","CAZ",2,199418,"KASIRYE","Ruth",1982,69.2,"ES VILLE LOUBET","NOR",90,93,95,95,113,118,-121,118,213,74.599999999999994,"OLY +",3,{"$f":"IF(I329=\"\",\"\",IF(A329=\"H\",IF(OR(H329=\"SEN\",H329<1995),VLOOKUP(I329,Feuil1!$A$11:$F$29,6),IF(AND(H329>1994,H329<1998),VLOOKUP(I329,Feuil1!$A$11:$F$29,5),IF(AND(H329>1997,H329<2000),VLOOKUP(I329,Feuil1!$A$11:$F$29,4),IF(AND(H329>1999,H329<2002),VLOOKUP(I329,Feuil1!$A$11:$F$29,3),VLOOKUP(I329,Feuil1!$A$11:$F$29,2))))),IF(OR(H329=\"SEN\",H329<1995),VLOOKUP(I329,Feuil1!$G$11:$L$25,6),IF(AND(H329>1994,H329<1998),VLOOKUP(I329,Feuil1!$G$11:$L$25,5),IF(AND(H329>1997,H329<2000),VLOOKUP(I329,Feuil1!$G$11:$L$25,4),IF(AND(H329>1999,H329<2002),VLOOKUP(I329,Feuil1!$G$11:$L$25,3),VLOOKUP(I329,Feuil1!$G$11:$L$25,2)))))))","v":"FS75"},266.82632891345986,null," ",{"$f":"T329-HLOOKUP(X329,Feuil1!$C$1:$BL$10,2,FALSE)","v":118},{"$f":"T329-HLOOKUP(X329,Feuil1!$C$1:$BL$10,3,FALSE)","v":108},{"$f":"T329-HLOOKUP(X329,Feuil1!$C$1:$BL$10,4,FALSE)","v":98},{"$f":"T329-HLOOKUP(X329,Feuil1!$C$1:$BL$10,5,FALSE)","v":83},{"$f":"T329-HLOOKUP(X329,Feuil1!$C$1:$BL$10,6,FALSE)","v":68},{"$f":"T329-HLOOKUP(X329,Feuil1!$C$1:$BL$10,7,FALSE)","v":53},{"$f":"T329-HLOOKUP(X329,Feuil1!$C$1:$BL$10,8,FALSE)","v":33},{"$f":"T329-HLOOKUP(X329,Feuil1!$C$1:$BL$10,9,FALSE)","v":18},{"$f":"T329-HLOOKUP(X329,Feuil1!$C$1:$BL$10,10,FALSE)","v":3},null,null,null,null,null,null,"OLY +"]
["F","NORD","PIC",3,314914,"VAN BELLINGHEN","Anna",1994,74.650000000000006,"La Vaillante Saint Quentin","Belge",-90,90,93,93,109,112,-114,112,205,55.699999999999989,"INTA +",10,{"$f":"IF(I330=\"\",\"\",IF(A330=\"H\",IF(OR(H330=\"SEN\",H330<1995),VLOOKUP(I330,Feuil1!$A$11:$F$29,6),IF(AND(H330>1994,H330<1998),VLOOKUP(I330,Feuil1!$A$11:$F$29,5),IF(AND(H330>1997,H330<2000),VLOOKUP(I330,Feuil1!$A$11:$F$29,4),IF(AND(H330>1999,H330<2002),VLOOKUP(I330,Feuil1!$A$11:$F$29,3),VLOOKUP(I330,Feuil1!$A$11:$F$29,2))))),IF(OR(H330=\"SEN\",H330<1995),VLOOKUP(I330,Feuil1!$G$11:$L$25,6),IF(AND(H330>1994,H330<1998),VLOOKUP(I330,Feuil1!$G$11:$L$25,5),IF(AND(H330>1997,H330<2000),VLOOKUP(I330,Feuil1!$G$11:$L$25,4),IF(AND(H330>1999,H330<2002),VLOOKUP(I330,Feuil1!$G$11:$L$25,3),VLOOKUP(I330,Feuil1!$G$11:$L$25,2)))))))","v":"FS75"},246.07340380408519,null," ",{"$f":"T330-HLOOKUP(X330,Feuil1!$C$1:$BL$10,2,FALSE)","v":110},{"$f":"T330-HLOOKUP(X330,Feuil1!$C$1:$BL$10,3,FALSE)","v":100},{"$f":"T330-HLOOKUP(X330,Feuil1!$C$1:$BL$10,4,FALSE)","v":90},{"$f":"T330-HLOOKUP(X330,Feuil1!$C$1:$BL$10,5,FALSE)","v":75},{"$f":"T330-HLOOKUP(X330,Feuil1!$C$1:$BL$10,6,FALSE)","v":60},{"$f":"T330-HLOOKUP(X330,Feuil1!$C$1:$BL$10,7,FALSE)","v":45},{"$f":"T330-HLOOKUP(X330,Feuil1!$C$1:$BL$10,8,FALSE)","v":25},{"$f":"T330-HLOOKUP(X330,Feuil1!$C$1:$BL$10,9,FALSE)","v":10},{"$f":"T330-HLOOKUP(X330,Feuil1!$C$1:$BL$10,10,FALSE)","v":-5},null,null,null,null,null,null,"INTA +"]
["F","NE","BOU",4,391211,"FEGUE","Marie Josephe",1991,70.900000000000006,"HMDB21","CAM",75,80,86,86,100,107,114,114,200,58.199999999999989,"INTA +",5,{"$f":"IF(I331=\"\",\"\",IF(A331=\"H\",IF(OR(H331=\"SEN\",H331<1995),VLOOKUP(I331,Feuil1!$A$11:$F$29,6),IF(AND(H331>1994,H331<1998),VLOOKUP(I331,Feuil1!$A$11:$F$29,5),IF(AND(H331>1997,H331<2000),VLOOKUP(I331,Feuil1!$A$11:$F$29,4),IF(AND(H331>1999,H331<2002),VLOOKUP(I331,Feuil1!$A$11:$F$29,3),VLOOKUP(I331,Feuil1!$A$11:$F$29,2))))),IF(OR(H331=\"SEN\",H331<1995),VLOOKUP(I331,Feuil1!$G$11:$L$25,6),IF(AND(H331>1994,H331<1998),VLOOKUP(I331,Feuil1!$G$11:$L$25,5),IF(AND(H331>1997,H331<2000),VLOOKUP(I331,Feuil1!$G$11:$L$25,4),IF(AND(H331>1999,H331<2002),VLOOKUP(I331,Feuil1!$G$11:$L$25,3),VLOOKUP(I331,Feuil1!$G$11:$L$25,2)))))))","v":"FS75"},247.02026296192176,null," ",{"$f":"T331-HLOOKUP(X331,Feuil1!$C$1:$BL$10,2,FALSE)","v":105},{"$f":"T331-HLOOKUP(X331,Feuil1!$C$1:$BL$10,3,FALSE)","v":95},{"$f":"T331-HLOOKUP(X331,Feuil1!$C$1:$BL$10,4,FALSE)","v":85},{"$f":"T331-HLOOKUP(X331,Feuil1!$C$1:$BL$10,5,FALSE)","v":70},{"$f":"T331-HLOOKUP(X331,Feuil1!$C$1:$BL$10,6,FALSE)","v":55},{"$f":"T331-HLOOKUP(X331,Feuil1!$C$1:$BL$10,7,FALSE)","v":40},{"$f":"T331-HLOOKUP(X331,Feuil1!$C$1:$BL$10,8,FALSE)","v":20},{"$f":"T331-HLOOKUP(X331,Feuil1!$C$1:$BL$10,9,FALSE)","v":5},{"$f":"T331-HLOOKUP(X331,Feuil1!$C$1:$BL$10,10,FALSE)","v":-10},null,null,null,null,null,null,"INTA +"]
["F","NE","BOU",5,357580,"ELUARD","Judith",1983,74.599999999999994,"HMDB21","F",60,63,66,66,85,90,95,95,161,11.800000000000011,"NAT +",1,{"$f":"IF(I332=\"\",\"\",IF(A332=\"H\",IF(OR(H332=\"SEN\",H332<1995),VLOOKUP(I332,Feuil1!$A$11:$F$29,6),IF(AND(H332>1994,H332<1998),VLOOKUP(I332,Feuil1!$A$11:$F$29,5),IF(AND(H332>1997,H332<2000),VLOOKUP(I332,Feuil1!$A$11:$F$29,4),IF(AND(H332>1999,H332<2002),VLOOKUP(I332,Feuil1!$A$11:$F$29,3),VLOOKUP(I332,Feuil1!$A$11:$F$29,2))))),IF(OR(H332=\"SEN\",H332<1995),VLOOKUP(I332,Feuil1!$G$11:$L$25,6),IF(AND(H332>1994,H332<1998),VLOOKUP(I332,Feuil1!$G$11:$L$25,5),IF(AND(H332>1997,H332<2000),VLOOKUP(I332,Feuil1!$G$11:$L$25,4),IF(AND(H332>1999,H332<2002),VLOOKUP(I332,Feuil1!$G$11:$L$25,3),VLOOKUP(I332,Feuil1!$G$11:$L$25,2)))))))","v":"FS75"},193.3267790781878,null," ",{"$f":"T332-HLOOKUP(X332,Feuil1!$C$1:$BL$10,2,FALSE)","v":66},{"$f":"T332-HLOOKUP(X332,Feuil1!$C$1:$BL$10,3,FALSE)","v":56},{"$f":"T332-HLOOKUP(X332,Feuil1!$C$1:$BL$10,4,FALSE)","v":46},{"$f":"T332-HLOOKUP(X332,Feuil1!$C$1:$BL$10,5,FALSE)","v":31},{"$f":"T332-HLOOKUP(X332,Feuil1!$C$1:$BL$10,6,FALSE)","v":16},{"$f":"T332-HLOOKUP(X332,Feuil1!$C$1:$BL$10,7,FALSE)","v":1},{"$f":"T332-HLOOKUP(X332,Feuil1!$C$1:$BL$10,8,FALSE)","v":-19},{"$f":"T332-HLOOKUP(X332,Feuil1!$C$1:$BL$10,9,FALSE)","v":-34},{"$f":"T332-HLOOKUP(X332,Feuil1!$C$1:$BL$10,10,FALSE)","v":-49},null,null,null,null,null,null,"NAT +"]
["F","NE","ALS",6,176279,"ZAHNER","SALOME",1993,70.7,"SAS Colmarienne","F",70,73,-75,73,80,87,-90,87,160,18.599999999999994,"NAT +",0,{"$f":"IF(I333=\"\",\"\",IF(A333=\"H\",IF(OR(H333=\"SEN\",H333<1995),VLOOKUP(I333,Feuil1!$A$11:$F$29,6),IF(AND(H333>1994,H333<1998),VLOOKUP(I333,Feuil1!$A$11:$F$29,5),IF(AND(H333>1997,H333<2000),VLOOKUP(I333,Feuil1!$A$11:$F$29,4),IF(AND(H333>1999,H333<2002),VLOOKUP(I333,Feuil1!$A$11:$F$29,3),VLOOKUP(I333,Feuil1!$A$11:$F$29,2))))),IF(OR(H333=\"SEN\",H333<1995),VLOOKUP(I333,Feuil1!$G$11:$L$25,6),IF(AND(H333>1994,H333<1998),VLOOKUP(I333,Feuil1!$G$11:$L$25,5),IF(AND(H333>1997,H333<2000),VLOOKUP(I333,Feuil1!$G$11:$L$25,4),IF(AND(H333>1999,H333<2002),VLOOKUP(I333,Feuil1!$G$11:$L$25,3),VLOOKUP(I333,Feuil1!$G$11:$L$25,2)))))))","v":"FS75"},197.9373433044498,null," ",{"$f":"T333-HLOOKUP(X333,Feuil1!$C$1:$BL$10,2,FALSE)","v":65},{"$f":"T333-HLOOKUP(X333,Feuil1!$C$1:$BL$10,3,FALSE)","v":55},{"$f":"T333-HLOOKUP(X333,Feuil1!$C$1:$BL$10,4,FALSE)","v":45},{"$f":"T333-HLOOKUP(X333,Feuil1!$C$1:$BL$10,5,FALSE)","v":30},{"$f":"T333-HLOOKUP(X333,Feuil1!$C$1:$BL$10,6,FALSE)","v":15},{"$f":"T333-HLOOKUP(X333,Feuil1!$C$1:$BL$10,7,FALSE)","v":0},{"$f":"T333-HLOOKUP(X333,Feuil1!$C$1:$BL$10,8,FALSE)","v":-20},{"$f":"T333-HLOOKUP(X333,Feuil1!$C$1:$BL$10,9,FALSE)","v":-35},{"$f":"T333-HLOOKUP(X333,Feuil1!$C$1:$BL$10,10,FALSE)","v":-50},null,null,null,null,null,null,"NAT +"]
["F","NE","CHA",7,"034517","CRISTOFOLI ","Adeline",1985,70.099999999999994,"Langres HM","F",63,67,69,69,78,83,86,86,155,14.800000000000011,"FED +",10,{"$f":"IF(I334=\"\",\"\",IF(A334=\"H\",IF(OR(H334=\"SEN\",H334<1995),VLOOKUP(I334,Feuil1!$A$11:$F$29,6),IF(AND(H334>1994,H334<1998),VLOOKUP(I334,Feuil1!$A$11:$F$29,5),IF(AND(H334>1997,H334<2000),VLOOKUP(I334,Feuil1!$A$11:$F$29,4),IF(AND(H334>1999,H334<2002),VLOOKUP(I334,Feuil1!$A$11:$F$29,3),VLOOKUP(I334,Feuil1!$A$11:$F$29,2))))),IF(OR(H334=\"SEN\",H334<1995),VLOOKUP(I334,Feuil1!$G$11:$L$25,6),IF(AND(H334>1994,H334<1998),VLOOKUP(I334,Feuil1!$G$11:$L$25,5),IF(AND(H334>1997,H334<2000),VLOOKUP(I334,Feuil1!$G$11:$L$25,4),IF(AND(H334>1999,H334<2002),VLOOKUP(I334,Feuil1!$G$11:$L$25,3),VLOOKUP(I334,Feuil1!$G$11:$L$25,2)))))))","v":"FS75"},192.70073079362112,null," ",{"$f":"T334-HLOOKUP(X334,Feuil1!$C$1:$BL$10,2,FALSE)","v":60},{"$f":"T334-HLOOKUP(X334,Feuil1!$C$1:$BL$10,3,FALSE)","v":50},{"$f":"T334-HLOOKUP(X334,Feuil1!$C$1:$BL$10,4,FALSE)","v":40},{"$f":"T334-HLOOKUP(X334,Feuil1!$C$1:$BL$10,5,FALSE)","v":25},{"$f":"T334-HLOOKUP(X334,Feuil1!$C$1:$BL$10,6,FALSE)","v":10},{"$f":"T334-HLOOKUP(X334,Feuil1!$C$1:$BL$10,7,FALSE)","v":-5},{"$f":"T334-HLOOKUP(X334,Feuil1!$C$1:$BL$10,8,FALSE)","v":-25},{"$f":"T334-HLOOKUP(X334,Feuil1!$C$1:$BL$10,9,FALSE)","v":-40},{"$f":"T334-HLOOKUP(X334,Feuil1!$C$1:$BL$10,10,FALSE)","v":-55},null,null,null,null,null,null,"FED +"]
["F","NE","ALS",8,319461,"TITTEL MOSSER","LINDSAY",1984,70.5,"SR Obernai HM","F",61,65,68,68,81,85,-88,85,153,12,"FED +",8,{"$f":"IF(I335=\"\",\"\",IF(A335=\"H\",IF(OR(H335=\"SEN\",H335<1995),VLOOKUP(I335,Feuil1!$A$11:$F$29,6),IF(AND(H335>1994,H335<1998),VLOOKUP(I335,Feuil1!$A$11:$F$29,5),IF(AND(H335>1997,H335<2000),VLOOKUP(I335,Feuil1!$A$11:$F$29,4),IF(AND(H335>1999,H335<2002),VLOOKUP(I335,Feuil1!$A$11:$F$29,3),VLOOKUP(I335,Feuil1!$A$11:$F$29,2))))),IF(OR(H335=\"SEN\",H335<1995),VLOOKUP(I335,Feuil1!$G$11:$L$25,6),IF(AND(H335>1994,H335<1998),VLOOKUP(I335,Feuil1!$G$11:$L$25,5),IF(AND(H335>1997,H335<2000),VLOOKUP(I335,Feuil1!$G$11:$L$25,4),IF(AND(H335>1999,H335<2002),VLOOKUP(I335,Feuil1!$G$11:$L$25,3),VLOOKUP(I335,Feuil1!$G$11:$L$25,2)))))))","v":"FS75"},189.58722304530369,null," ",{"$f":"T335-HLOOKUP(X335,Feuil1!$C$1:$BL$10,2,FALSE)","v":58},{"$f":"T335-HLOOKUP(X335,Feuil1!$C$1:$BL$10,3,FALSE)","v":48},{"$f":"T335-HLOOKUP(X335,Feuil1!$C$1:$BL$10,4,FALSE)","v":38},{"$f":"T335-HLOOKUP(X335,Feuil1!$C$1:$BL$10,5,FALSE)","v":23},{"$f":"T335-HLOOKUP(X335,Feuil1!$C$1:$BL$10,6,FALSE)","v":8},{"$f":"T335-HLOOKUP(X335,Feuil1!$C$1:$BL$10,7,FALSE)","v":-7},{"$f":"T335-HLOOKUP(X335,Feuil1!$C$1:$BL$10,8,FALSE)","v":-27},{"$f":"T335-HLOOKUP(X335,Feuil1!$C$1:$BL$10,9,FALSE)","v":-42},{"$f":"T335-HLOOKUP(X335,Feuil1!$C$1:$BL$10,10,FALSE)","v":-57},null,null,null,null,null,null,"FED +"]
["F","N","IDF",9,379286,"WONG","AMY",1989,69.3,"SAINT-MAUR ","USA",65,-70,-70,65,85,-90,-90,85,150,11.400000000000006,"FED +",5,{"$f":"IF(I336=\"\",\"\",IF(A336=\"H\",IF(OR(H336=\"SEN\",H336<1995),VLOOKUP(I336,Feuil1!$A$11:$F$29,6),IF(AND(H336>1994,H336<1998),VLOOKUP(I336,Feuil1!$A$11:$F$29,5),IF(AND(H336>1997,H336<2000),VLOOKUP(I336,Feuil1!$A$11:$F$29,4),IF(AND(H336>1999,H336<2002),VLOOKUP(I336,Feuil1!$A$11:$F$29,3),VLOOKUP(I336,Feuil1!$A$11:$F$29,2))))),IF(OR(H336=\"SEN\",H336<1995),VLOOKUP(I336,Feuil1!$G$11:$L$25,6),IF(AND(H336>1994,H336<1998),VLOOKUP(I336,Feuil1!$G$11:$L$25,5),IF(AND(H336>1997,H336<2000),VLOOKUP(I336,Feuil1!$G$11:$L$25,4),IF(AND(H336>1999,H336<2002),VLOOKUP(I336,Feuil1!$G$11:$L$25,3),VLOOKUP(I336,Feuil1!$G$11:$L$25,2)))))))","v":"FS75"},187.74528592573469,null," ",{"$f":"T336-HLOOKUP(X336,Feuil1!$C$1:$BL$10,2,FALSE)","v":55},{"$f":"T336-HLOOKUP(X336,Feuil1!$C$1:$BL$10,3,FALSE)","v":45},{"$f":"T336-HLOOKUP(X336,Feuil1!$C$1:$BL$10,4,FALSE)","v":35},{"$f":"T336-HLOOKUP(X336,Feuil1!$C$1:$BL$10,5,FALSE)","v":20},{"$f":"T336-HLOOKUP(X336,Feuil1!$C$1:$BL$10,6,FALSE)","v":5},{"$f":"T336-HLOOKUP(X336,Feuil1!$C$1:$BL$10,7,FALSE)","v":-10},{"$f":"T336-HLOOKUP(X336,Feuil1!$C$1:$BL$10,8,FALSE)","v":-30},{"$f":"T336-HLOOKUP(X336,Feuil1!$C$1:$BL$10,9,FALSE)","v":-45},{"$f":"T336-HLOOKUP(X336,Feuil1!$C$1:$BL$10,10,FALSE)","v":-60},null,null,null,null,null,null,"FED +"]
["F","DOM","REU",10,326348,"LEBRETON","FLORENCE",1992,70,"CH LA PLAINE","F",60,65,-70,65,80,85,-90,85,150,10,"FED +",5,{"$f":"IF(I337=\"\",\"\",IF(A337=\"H\",IF(OR(H337=\"SEN\",H337<1995),VLOOKUP(I337,Feuil1!$A$11:$F$29,6),IF(AND(H337>1994,H337<1998),VLOOKUP(I337,Feuil1!$A$11:$F$29,5),IF(AND(H337>1997,H337<2000),VLOOKUP(I337,Feuil1!$A$11:$F$29,4),IF(AND(H337>1999,H337<2002),VLOOKUP(I337,Feuil1!$A$11:$F$29,3),VLOOKUP(I337,Feuil1!$A$11:$F$29,2))))),IF(OR(H337=\"SEN\",H337<1995),VLOOKUP(I337,Feuil1!$G$11:$L$25,6),IF(AND(H337>1994,H337<1998),VLOOKUP(I337,Feuil1!$G$11:$L$25,5),IF(AND(H337>1997,H337<2000),VLOOKUP(I337,Feuil1!$G$11:$L$25,4),IF(AND(H337>1999,H337<2002),VLOOKUP(I337,Feuil1!$G$11:$L$25,3),VLOOKUP(I337,Feuil1!$G$11:$L$25,2)))))))","v":"FS75"},186.63987196682629,null," ",{"$f":"T337-HLOOKUP(X337,Feuil1!$C$1:$BL$10,2,FALSE)","v":55},{"$f":"T337-HLOOKUP(X337,Feuil1!$C$1:$BL$10,3,FALSE)","v":45},{"$f":"T337-HLOOKUP(X337,Feuil1!$C$1:$BL$10,4,FALSE)","v":35},{"$f":"T337-HLOOKUP(X337,Feuil1!$C$1:$BL$10,5,FALSE)","v":20},{"$f":"T337-HLOOKUP(X337,Feuil1!$C$1:$BL$10,6,FALSE)","v":5},{"$f":"T337-HLOOKUP(X337,Feuil1!$C$1:$BL$10,7,FALSE)","v":-10},{"$f":"T337-HLOOKUP(X337,Feuil1!$C$1:$BL$10,8,FALSE)","v":-30},{"$f":"T337-HLOOKUP(X337,Feuil1!$C$1:$BL$10,9,FALSE)","v":-45},{"$f":"T337-HLOOKUP(X337,Feuil1!$C$1:$BL$10,10,FALSE)","v":-60},null,null,null,null,null,null,"FED +"]
["F","SEST","RAL",11,372486,"BOULANGER","Gervaise",1993,73.53,"CH Arbresle","F",60,-65,65,65,-75,77,80,80,145,-2.0600000000000023,"FED +",0,{"$f":"IF(I338=\"\",\"\",IF(A338=\"H\",IF(OR(H338=\"SEN\",H338<1995),VLOOKUP(I338,Feuil1!$A$11:$F$29,6),IF(AND(H338>1994,H338<1998),VLOOKUP(I338,Feuil1!$A$11:$F$29,5),IF(AND(H338>1997,H338<2000),VLOOKUP(I338,Feuil1!$A$11:$F$29,4),IF(AND(H338>1999,H338<2002),VLOOKUP(I338,Feuil1!$A$11:$F$29,3),VLOOKUP(I338,Feuil1!$A$11:$F$29,2))))),IF(OR(H338=\"SEN\",H338<1995),VLOOKUP(I338,Feuil1!$G$11:$L$25,6),IF(AND(H338>1994,H338<1998),VLOOKUP(I338,Feuil1!$G$11:$L$25,5),IF(AND(H338>1997,H338<2000),VLOOKUP(I338,Feuil1!$G$11:$L$25,4),IF(AND(H338>1999,H338<2002),VLOOKUP(I338,Feuil1!$G$11:$L$25,3),VLOOKUP(I338,Feuil1!$G$11:$L$25,2)))))))","v":"FS75"},175.47700810676341,null," ",{"$f":"T338-HLOOKUP(X338,Feuil1!$C$1:$BL$10,2,FALSE)","v":50},{"$f":"T338-HLOOKUP(X338,Feuil1!$C$1:$BL$10,3,FALSE)","v":40},{"$f":"T338-HLOOKUP(X338,Feuil1!$C$1:$BL$10,4,FALSE)","v":30},{"$f":"T338-HLOOKUP(X338,Feuil1!$C$1:$BL$10,5,FALSE)","v":15},{"$f":"T338-HLOOKUP(X338,Feuil1!$C$1:$BL$10,6,FALSE)","v":0},{"$f":"T338-HLOOKUP(X338,Feuil1!$C$1:$BL$10,7,FALSE)","v":-15},{"$f":"T338-HLOOKUP(X338,Feuil1!$C$1:$BL$10,8,FALSE)","v":-35},{"$f":"T338-HLOOKUP(X338,Feuil1!$C$1:$BL$10,9,FALSE)","v":-50},{"$f":"T338-HLOOKUP(X338,Feuil1!$C$1:$BL$10,10,FALSE)","v":-65},null,null,null,null,null,null,"FED +"]
["F","NE","ALS",12,20829,"THOMAS","EVELYNE",1979,69.3,"ASPTT Strasbourg","F",58,60,62,62,70,74,76,76,138,-0.59999999999999432,"IRG +",8,{"$f":"IF(I339=\"\",\"\",IF(A339=\"H\",IF(OR(H339=\"SEN\",H339<1995),VLOOKUP(I339,Feuil1!$A$11:$F$29,6),IF(AND(H339>1994,H339<1998),VLOOKUP(I339,Feuil1!$A$11:$F$29,5),IF(AND(H339>1997,H339<2000),VLOOKUP(I339,Feuil1!$A$11:$F$29,4),IF(AND(H339>1999,H339<2002),VLOOKUP(I339,Feuil1!$A$11:$F$29,3),VLOOKUP(I339,Feuil1!$A$11:$F$29,2))))),IF(OR(H339=\"SEN\",H339<1995),VLOOKUP(I339,Feuil1!$G$11:$L$25,6),IF(AND(H339>1994,H339<1998),VLOOKUP(I339,Feuil1!$G$11:$L$25,5),IF(AND(H339>1997,H339<2000),VLOOKUP(I339,Feuil1!$G$11:$L$25,4),IF(AND(H339>1999,H339<2002),VLOOKUP(I339,Feuil1!$G$11:$L$25,3),VLOOKUP(I339,Feuil1!$G$11:$L$25,2)))))))","v":"FS75"},172.72566305167592,null," ",{"$f":"T339-HLOOKUP(X339,Feuil1!$C$1:$BL$10,2,FALSE)","v":43},{"$f":"T339-HLOOKUP(X339,Feuil1!$C$1:$BL$10,3,FALSE)","v":33},{"$f":"T339-HLOOKUP(X339,Feuil1!$C$1:$BL$10,4,FALSE)","v":23},{"$f":"T339-HLOOKUP(X339,Feuil1!$C$1:$BL$10,5,FALSE)","v":8},{"$f":"T339-HLOOKUP(X339,Feuil1!$C$1:$BL$10,6,FALSE)","v":-7},{"$f":"T339-HLOOKUP(X339,Feuil1!$C$1:$BL$10,7,FALSE)","v":-22},{"$f":"T339-HLOOKUP(X339,Feuil1!$C$1:$BL$10,8,FALSE)","v":-42},{"$f":"T339-HLOOKUP(X339,Feuil1!$C$1:$BL$10,9,FALSE)","v":-57},{"$f":"T339-HLOOKUP(X339,Feuil1!$C$1:$BL$10,10,FALSE)","v":-72},null,null,null,null,null,null,"IRG +"]
["F","SEST","RAL",13,127621,"MENONI","Alexia",1994,71.7,"SAINT MARCELLIN","F",58,-62,62,62,67,70,72,72,134,-9.4000000000000057,"IRG +",4,{"$f":"IF(I340=\"\",\"\",IF(A340=\"H\",IF(OR(H340=\"SEN\",H340<1995),VLOOKUP(I340,Feuil1!$A$11:$F$29,6),IF(AND(H340>1994,H340<1998),VLOOKUP(I340,Feuil1!$A$11:$F$29,5),IF(AND(H340>1997,H340<2000),VLOOKUP(I340,Feuil1!$A$11:$F$29,4),IF(AND(H340>1999,H340<2002),VLOOKUP(I340,Feuil1!$A$11:$F$29,3),VLOOKUP(I340,Feuil1!$A$11:$F$29,2))))),IF(OR(H340=\"SEN\",H340<1995),VLOOKUP(I340,Feuil1!$G$11:$L$25,6),IF(AND(H340>1994,H340<1998),VLOOKUP(I340,Feuil1!$G$11:$L$25,5),IF(AND(H340>1997,H340<2000),VLOOKUP(I340,Feuil1!$G$11:$L$25,4),IF(AND(H340>1999,H340<2002),VLOOKUP(I340,Feuil1!$G$11:$L$25,3),VLOOKUP(I340,Feuil1!$G$11:$L$25,2)))))))","v":"FS75"},164.44971462492606,null," ",{"$f":"T340-HLOOKUP(X340,Feuil1!$C$1:$BL$10,2,FALSE)","v":39},{"$f":"T340-HLOOKUP(X340,Feuil1!$C$1:$BL$10,3,FALSE)","v":29},{"$f":"T340-HLOOKUP(X340,Feuil1!$C$1:$BL$10,4,FALSE)","v":19},{"$f":"T340-HLOOKUP(X340,Feuil1!$C$1:$BL$10,5,FALSE)","v":4},{"$f":"T340-HLOOKUP(X340,Feuil1!$C$1:$BL$10,6,FALSE)","v":-11},{"$f":"T340-HLOOKUP(X340,Feuil1!$C$1:$BL$10,7,FALSE)","v":-26},{"$f":"T340-HLOOKUP(X340,Feuil1!$C$1:$BL$10,8,FALSE)","v":-46},{"$f":"T340-HLOOKUP(X340,Feuil1!$C$1:$BL$10,9,FALSE)","v":-61},{"$f":"T340-HLOOKUP(X340,Feuil1!$C$1:$BL$10,10,FALSE)","v":-76},null,null,null,null,null,null,"IRG +"]
["F","NE","FCO",14,193724,"VIALA","Caroline",1989,72.900000000000006,"LF Besançon","F",52,55,57,57,62,66,69,69,126,-19.800000000000011,"REG +",11,{"$f":"IF(I341=\"\",\"\",IF(A341=\"H\",IF(OR(H341=\"SEN\",H341<1995),VLOOKUP(I341,Feuil1!$A$11:$F$29,6),IF(AND(H341>1994,H341<1998),VLOOKUP(I341,Feuil1!$A$11:$F$29,5),IF(AND(H341>1997,H341<2000),VLOOKUP(I341,Feuil1!$A$11:$F$29,4),IF(AND(H341>1999,H341<2002),VLOOKUP(I341,Feuil1!$A$11:$F$29,3),VLOOKUP(I341,Feuil1!$A$11:$F$29,2))))),IF(OR(H341=\"SEN\",H341<1995),VLOOKUP(I341,Feuil1!$G$11:$L$25,6),IF(AND(H341>1994,H341<1998),VLOOKUP(I341,Feuil1!$G$11:$L$25,5),IF(AND(H341>1997,H341<2000),VLOOKUP(I341,Feuil1!$G$11:$L$25,4),IF(AND(H341>1999,H341<2002),VLOOKUP(I341,Feuil1!$G$11:$L$25,3),VLOOKUP(I341,Feuil1!$G$11:$L$25,2)))))))","v":"FS75"},153.20506693550431,null," ",{"$f":"T341-HLOOKUP(X341,Feuil1!$C$1:$BL$10,2,FALSE)","v":31},{"$f":"T341-HLOOKUP(X341,Feuil1!$C$1:$BL$10,3,FALSE)","v":21},{"$f":"T341-HLOOKUP(X341,Feuil1!$C$1:$BL$10,4,FALSE)","v":11},{"$f":"T341-HLOOKUP(X341,Feuil1!$C$1:$BL$10,5,FALSE)","v":-4},{"$f":"T341-HLOOKUP(X341,Feuil1!$C$1:$BL$10,6,FALSE)","v":-19},{"$f":"T341-HLOOKUP(X341,Feuil1!$C$1:$BL$10,7,FALSE)","v":-34},{"$f":"T341-HLOOKUP(X341,Feuil1!$C$1:$BL$10,8,FALSE)","v":-54},{"$f":"T341-HLOOKUP(X341,Feuil1!$C$1:$BL$10,9,FALSE)","v":-69},{"$f":"T341-HLOOKUP(X341,Feuil1!$C$1:$BL$10,10,FALSE)","v":-84},null,null,null,null,null,null,"REG +"]
["F","NORD","PIC",15,204929,"CHEVALLIER","Célia",1968,70.400000000000006,"La Ferté Milon CMHM","F",52,56,58,58,-57,57,63,63,121,-19.800000000000011,"REG +",6,{"$f":"IF(I342=\"\",\"\",IF(A342=\"H\",IF(OR(H342=\"SEN\",H342<1995),VLOOKUP(I342,Feuil1!$A$11:$F$29,6),IF(AND(H342>1994,H342<1998),VLOOKUP(I342,Feuil1!$A$11:$F$29,5),IF(AND(H342>1997,H342<2000),VLOOKUP(I342,Feuil1!$A$11:$F$29,4),IF(AND(H342>1999,H342<2002),VLOOKUP(I342,Feuil1!$A$11:$F$29,3),VLOOKUP(I342,Feuil1!$A$11:$F$29,2))))),IF(OR(H342=\"SEN\",H342<1995),VLOOKUP(I342,Feuil1!$G$11:$L$25,6),IF(AND(H342>1994,H342<1998),VLOOKUP(I342,Feuil1!$G$11:$L$25,5),IF(AND(H342>1997,H342<2000),VLOOKUP(I342,Feuil1!$G$11:$L$25,4),IF(AND(H342>1999,H342<2002),VLOOKUP(I342,Feuil1!$G$11:$L$25,3),VLOOKUP(I342,Feuil1!$G$11:$L$25,2)))))))","v":"FS75"},150.05819633034145,null," ",{"$f":"T342-HLOOKUP(X342,Feuil1!$C$1:$BL$10,2,FALSE)","v":26},{"$f":"T342-HLOOKUP(X342,Feuil1!$C$1:$BL$10,3,FALSE)","v":16},{"$f":"T342-HLOOKUP(X342,Feuil1!$C$1:$BL$10,4,FALSE)","v":6},{"$f":"T342-HLOOKUP(X342,Feuil1!$C$1:$BL$10,5,FALSE)","v":-9},{"$f":"T342-HLOOKUP(X342,Feuil1!$C$1:$BL$10,6,FALSE)","v":-24},{"$f":"T342-HLOOKUP(X342,Feuil1!$C$1:$BL$10,7,FALSE)","v":-39},{"$f":"T342-HLOOKUP(X342,Feuil1!$C$1:$BL$10,8,FALSE)","v":-59},{"$f":"T342-HLOOKUP(X342,Feuil1!$C$1:$BL$10,9,FALSE)","v":-74},{"$f":"T342-HLOOKUP(X342,Feuil1!$C$1:$BL$10,10,FALSE)","v":-89},null,null,null,null,null,null,"REG +"]
["F","SEST","RAL",16,357872,"BIGOT-DOLL","Eglantine",1983,73,"VAULX EN VELIN ","F",47,51,53,53,58,-62,63,63,116,-30,"REG +",1,{"$f":"IF(I343=\"\",\"\",IF(A343=\"H\",IF(OR(H343=\"SEN\",H343<1995),VLOOKUP(I343,Feuil1!$A$11:$F$29,6),IF(AND(H343>1994,H343<1998),VLOOKUP(I343,Feuil1!$A$11:$F$29,5),IF(AND(H343>1997,H343<2000),VLOOKUP(I343,Feuil1!$A$11:$F$29,4),IF(AND(H343>1999,H343<2002),VLOOKUP(I343,Feuil1!$A$11:$F$29,3),VLOOKUP(I343,Feuil1!$A$11:$F$29,2))))),IF(OR(H343=\"SEN\",H343<1995),VLOOKUP(I343,Feuil1!$G$11:$L$25,6),IF(AND(H343>1994,H343<1998),VLOOKUP(I343,Feuil1!$G$11:$L$25,5),IF(AND(H343>1997,H343<2000),VLOOKUP(I343,Feuil1!$G$11:$L$25,4),IF(AND(H343>1999,H343<2002),VLOOKUP(I343,Feuil1!$G$11:$L$25,3),VLOOKUP(I343,Feuil1!$G$11:$L$25,2)))))))","v":"FS75"},140.93934855107011,null," ",{"$f":"T343-HLOOKUP(X343,Feuil1!$C$1:$BL$10,2,FALSE)","v":21},{"$f":"T343-HLOOKUP(X343,Feuil1!$C$1:$BL$10,3,FALSE)","v":11},{"$f":"T343-HLOOKUP(X343,Feuil1!$C$1:$BL$10,4,FALSE)","v":1},{"$f":"T343-HLOOKUP(X343,Feuil1!$C$1:$BL$10,5,FALSE)","v":-14},{"$f":"T343-HLOOKUP(X343,Feuil1!$C$1:$BL$10,6,FALSE)","v":-29},{"$f":"T343-HLOOKUP(X343,Feuil1!$C$1:$BL$10,7,FALSE)","v":-44},{"$f":"T343-HLOOKUP(X343,Feuil1!$C$1:$BL$10,8,FALSE)","v":-64},{"$f":"T343-HLOOKUP(X343,Feuil1!$C$1:$BL$10,9,FALSE)","v":-79},{"$f":"T343-HLOOKUP(X343,Feuil1!$C$1:$BL$10,10,FALSE)","v":-94},null,null,null,null,null,null,"REG +"]
["F","NE","ALS",17,306844,"HUBERTY","LAETITIA",1983,73.3,"ASPTT Strasbourg","F",45,48,51,51,55,60,64,64,115,-31.599999999999994,"REG +",0,{"$f":"IF(I344=\"\",\"\",IF(A344=\"H\",IF(OR(H344=\"SEN\",H344<1995),VLOOKUP(I344,Feuil1!$A$11:$F$29,6),IF(AND(H344>1994,H344<1998),VLOOKUP(I344,Feuil1!$A$11:$F$29,5),IF(AND(H344>1997,H344<2000),VLOOKUP(I344,Feuil1!$A$11:$F$29,4),IF(AND(H344>1999,H344<2002),VLOOKUP(I344,Feuil1!$A$11:$F$29,3),VLOOKUP(I344,Feuil1!$A$11:$F$29,2))))),IF(OR(H344=\"SEN\",H344<1995),VLOOKUP(I344,Feuil1!$G$11:$L$25,6),IF(AND(H344>1994,H344<1998),VLOOKUP(I344,Feuil1!$G$11:$L$25,5),IF(AND(H344>1997,H344<2000),VLOOKUP(I344,Feuil1!$G$11:$L$25,4),IF(AND(H344>1999,H344<2002),VLOOKUP(I344,Feuil1!$G$11:$L$25,3),VLOOKUP(I344,Feuil1!$G$11:$L$25,2)))))))","v":"FS75"},139.40991445998731,null," ",{"$f":"T344-HLOOKUP(X344,Feuil1!$C$1:$BL$10,2,FALSE)","v":20},{"$f":"T344-HLOOKUP(X344,Feuil1!$C$1:$BL$10,3,FALSE)","v":10},{"$f":"T344-HLOOKUP(X344,Feuil1!$C$1:$BL$10,4,FALSE)","v":0},{"$f":"T344-HLOOKUP(X344,Feuil1!$C$1:$BL$10,5,FALSE)","v":-15},{"$f":"T344-HLOOKUP(X344,Feuil1!$C$1:$BL$10,6,FALSE)","v":-30},{"$f":"T344-HLOOKUP(X344,Feuil1!$C$1:$BL$10,7,FALSE)","v":-45},{"$f":"T344-HLOOKUP(X344,Feuil1!$C$1:$BL$10,8,FALSE)","v":-65},{"$f":"T344-HLOOKUP(X344,Feuil1!$C$1:$BL$10,9,FALSE)","v":-80},{"$f":"T344-HLOOKUP(X344,Feuil1!$C$1:$BL$10,10,FALSE)","v":-95},null,null,null,null,null,null,"REG +"]
["F","NE","ALS",18,360265,"MERTZ","DEBORAH",1992,74.8,"US Wittenheim","F",46,49,52,52,57,60,63,63,115,-34.599999999999994,"REG +",0,{"$f":"IF(I345=\"\",\"\",IF(A345=\"H\",IF(OR(H345=\"SEN\",H345<1995),VLOOKUP(I345,Feuil1!$A$11:$F$29,6),IF(AND(H345>1994,H345<1998),VLOOKUP(I345,Feuil1!$A$11:$F$29,5),IF(AND(H345>1997,H345<2000),VLOOKUP(I345,Feuil1!$A$11:$F$29,4),IF(AND(H345>1999,H345<2002),VLOOKUP(I345,Feuil1!$A$11:$F$29,3),VLOOKUP(I345,Feuil1!$A$11:$F$29,2))))),IF(OR(H345=\"SEN\",H345<1995),VLOOKUP(I345,Feuil1!$G$11:$L$25,6),IF(AND(H345>1994,H345<1998),VLOOKUP(I345,Feuil1!$G$11:$L$25,5),IF(AND(H345>1997,H345<2000),VLOOKUP(I345,Feuil1!$G$11:$L$25,4),IF(AND(H345>1999,H345<2002),VLOOKUP(I345,Feuil1!$G$11:$L$25,3),VLOOKUP(I345,Feuil1!$G$11:$L$25,2)))))))","v":"FS75"},137.89363417801727,null," ",{"$f":"T345-HLOOKUP(X345,Feuil1!$C$1:$BL$10,2,FALSE)","v":20},{"$f":"T345-HLOOKUP(X345,Feuil1!$C$1:$BL$10,3,FALSE)","v":10},{"$f":"T345-HLOOKUP(X345,Feuil1!$C$1:$BL$10,4,FALSE)","v":0},{"$f":"T345-HLOOKUP(X345,Feuil1!$C$1:$BL$10,5,FALSE)","v":-15},{"$f":"T345-HLOOKUP(X345,Feuil1!$C$1:$BL$10,6,FALSE)","v":-30},{"$f":"T345-HLOOKUP(X345,Feuil1!$C$1:$BL$10,7,FALSE)","v":-45},{"$f":"T345-HLOOKUP(X345,Feuil1!$C$1:$BL$10,8,FALSE)","v":-65},{"$f":"T345-HLOOKUP(X345,Feuil1!$C$1:$BL$10,9,FALSE)","v":-80},{"$f":"T345-HLOOKUP(X345,Feuil1!$C$1:$BL$10,10,FALSE)","v":-95},null,null,null,null,null,null,"REG +"]
["F","NORD","PIC",19,316550,"BROUETTE","Valérie",1972,69.349999999999994,"La Vaillante Saint Quentin","F",44,47,49,49,58,62,-64,62,111,-27.699999999999989,"DEP +",6,{"$f":"IF(I346=\"\",\"\",IF(A346=\"H\",IF(OR(H346=\"SEN\",H346<1995),VLOOKUP(I346,Feuil1!$A$11:$F$29,6),IF(AND(H346>1994,H346<1998),VLOOKUP(I346,Feuil1!$A$11:$F$29,5),IF(AND(H346>1997,H346<2000),VLOOKUP(I346,Feuil1!$A$11:$F$29,4),IF(AND(H346>1999,H346<2002),VLOOKUP(I346,Feuil1!$A$11:$F$29,3),VLOOKUP(I346,Feuil1!$A$11:$F$29,2))))),IF(OR(H346=\"SEN\",H346<1995),VLOOKUP(I346,Feuil1!$G$11:$L$25,6),IF(AND(H346>1994,H346<1998),VLOOKUP(I346,Feuil1!$G$11:$L$25,5),IF(AND(H346>1997,H346<2000),VLOOKUP(I346,Feuil1!$G$11:$L$25,4),IF(AND(H346>1999,H346<2002),VLOOKUP(I346,Feuil1!$G$11:$L$25,3),VLOOKUP(I346,Feuil1!$G$11:$L$25,2)))))))","v":"FS75"},138.87228399565598,null," ",{"$f":"T346-HLOOKUP(X346,Feuil1!$C$1:$BL$10,2,FALSE)","v":16},{"$f":"T346-HLOOKUP(X346,Feuil1!$C$1:$BL$10,3,FALSE)","v":6},{"$f":"T346-HLOOKUP(X346,Feuil1!$C$1:$BL$10,4,FALSE)","v":-4},{"$f":"T346-HLOOKUP(X346,Feuil1!$C$1:$BL$10,5,FALSE)","v":-19},{"$f":"T346-HLOOKUP(X346,Feuil1!$C$1:$BL$10,6,FALSE)","v":-34},{"$f":"T346-HLOOKUP(X346,Feuil1!$C$1:$BL$10,7,FALSE)","v":-49},{"$f":"T346-HLOOKUP(X346,Feuil1!$C$1:$BL$10,8,FALSE)","v":-69},{"$f":"T346-HLOOKUP(X346,Feuil1!$C$1:$BL$10,9,FALSE)","v":-84},{"$f":"T346-HLOOKUP(X346,Feuil1!$C$1:$BL$10,10,FALSE)","v":-99},null,null,null,null,null,null,"DEP +"]
["F","SO","MPY",20,64384,"GRIMAL","Anne-Marie",1967,74.7,"MONTAUBAN HC","F",-42,45,-48,45,60,64,-70,64,109,-40.400000000000006,"DEP +",4,{"$f":"IF(I347=\"\",\"\",IF(A347=\"H\",IF(OR(H347=\"SEN\",H347<1995),VLOOKUP(I347,Feuil1!$A$11:$F$29,6),IF(AND(H347>1994,H347<1998),VLOOKUP(I347,Feuil1!$A$11:$F$29,5),IF(AND(H347>1997,H347<2000),VLOOKUP(I347,Feuil1!$A$11:$F$29,4),IF(AND(H347>1999,H347<2002),VLOOKUP(I347,Feuil1!$A$11:$F$29,3),VLOOKUP(I347,Feuil1!$A$11:$F$29,2))))),IF(OR(H347=\"SEN\",H347<1995),VLOOKUP(I347,Feuil1!$G$11:$L$25,6),IF(AND(H347>1994,H347<1998),VLOOKUP(I347,Feuil1!$G$11:$L$25,5),IF(AND(H347>1997,H347<2000),VLOOKUP(I347,Feuil1!$G$11:$L$25,4),IF(AND(H347>1999,H347<2002),VLOOKUP(I347,Feuil1!$G$11:$L$25,3),VLOOKUP(I347,Feuil1!$G$11:$L$25,2)))))))","v":"FS75"},130.79232065165638,null," ",{"$f":"T347-HLOOKUP(X347,Feuil1!$C$1:$BL$10,2,FALSE)","v":14},{"$f":"T347-HLOOKUP(X347,Feuil1!$C$1:$BL$10,3,FALSE)","v":4},{"$f":"T347-HLOOKUP(X347,Feuil1!$C$1:$BL$10,4,FALSE)","v":-6},{"$f":"T347-HLOOKUP(X347,Feuil1!$C$1:$BL$10,5,FALSE)","v":-21},{"$f":"T347-HLOOKUP(X347,Feuil1!$C$1:$BL$10,6,FALSE)","v":-36},{"$f":"T347-HLOOKUP(X347,Feuil1!$C$1:$BL$10,7,FALSE)","v":-51},{"$f":"T347-HLOOKUP(X347,Feuil1!$C$1:$BL$10,8,FALSE)","v":-71},{"$f":"T347-HLOOKUP(X347,Feuil1!$C$1:$BL$10,9,FALSE)","v":-86},{"$f":"T347-HLOOKUP(X347,Feuil1!$C$1:$BL$10,10,FALSE)","v":-101},null,null,null,null,null,null,"DEP +"]
["F","N","IDF",21,350463,"FLAMAIN","PERRINE",1994,71.900000000000006,"CHAVILLE","F",45,-47,50,50,-55,55,-60,55,105,-38.800000000000011,"DEP +",0,{"$f":"IF(I348=\"\",\"\",IF(A348=\"H\",IF(OR(H348=\"SEN\",H348<1995),VLOOKUP(I348,Feuil1!$A$11:$F$29,6),IF(AND(H348>1994,H348<1998),VLOOKUP(I348,Feuil1!$A$11:$F$29,5),IF(AND(H348>1997,H348<2000),VLOOKUP(I348,Feuil1!$A$11:$F$29,4),IF(AND(H348>1999,H348<2002),VLOOKUP(I348,Feuil1!$A$11:$F$29,3),VLOOKUP(I348,Feuil1!$A$11:$F$29,2))))),IF(OR(H348=\"SEN\",H348<1995),VLOOKUP(I348,Feuil1!$G$11:$L$25,6),IF(AND(H348>1994,H348<1998),VLOOKUP(I348,Feuil1!$G$11:$L$25,5),IF(AND(H348>1997,H348<2000),VLOOKUP(I348,Feuil1!$G$11:$L$25,4),IF(AND(H348>1999,H348<2002),VLOOKUP(I348,Feuil1!$G$11:$L$25,3),VLOOKUP(I348,Feuil1!$G$11:$L$25,2)))))))","v":"FS75"},128.65761587918348,null," ",{"$f":"T348-HLOOKUP(X348,Feuil1!$C$1:$BL$10,2,FALSE)","v":10},{"$f":"T348-HLOOKUP(X348,Feuil1!$C$1:$BL$10,3,FALSE)","v":0},{"$f":"T348-HLOOKUP(X348,Feuil1!$C$1:$BL$10,4,FALSE)","v":-10},{"$f":"T348-HLOOKUP(X348,Feuil1!$C$1:$BL$10,5,FALSE)","v":-25},{"$f":"T348-HLOOKUP(X348,Feuil1!$C$1:$BL$10,6,FALSE)","v":-40},{"$f":"T348-HLOOKUP(X348,Feuil1!$C$1:$BL$10,7,FALSE)","v":-55},{"$f":"T348-HLOOKUP(X348,Feuil1!$C$1:$BL$10,8,FALSE)","v":-75},{"$f":"T348-HLOOKUP(X348,Feuil1!$C$1:$BL$10,9,FALSE)","v":-90},{"$f":"T348-HLOOKUP(X348,Feuil1!$C$1:$BL$10,10,FALSE)","v":-105},null,null,null,null,null,null,"DEP +"]
["F","NORD","NPC",22,345627,"FLOUR","Marjorie",1994,72.8,"CAHC BERCK/MER","F",45,48,-50,48,50,55,-58,55,103,-42.599999999999994,"DEB ",8,{"$f":"IF(I349=\"\",\"\",IF(A349=\"H\",IF(OR(H349=\"SEN\",H349<1995),VLOOKUP(I349,Feuil1!$A$11:$F$29,6),IF(AND(H349>1994,H349<1998),VLOOKUP(I349,Feuil1!$A$11:$F$29,5),IF(AND(H349>1997,H349<2000),VLOOKUP(I349,Feuil1!$A$11:$F$29,4),IF(AND(H349>1999,H349<2002),VLOOKUP(I349,Feuil1!$A$11:$F$29,3),VLOOKUP(I349,Feuil1!$A$11:$F$29,2))))),IF(OR(H349=\"SEN\",H349<1995),VLOOKUP(I349,Feuil1!$G$11:$L$25,6),IF(AND(H349>1994,H349<1998),VLOOKUP(I349,Feuil1!$G$11:$L$25,5),IF(AND(H349>1997,H349<2000),VLOOKUP(I349,Feuil1!$G$11:$L$25,4),IF(AND(H349>1999,H349<2002),VLOOKUP(I349,Feuil1!$G$11:$L$25,3),VLOOKUP(I349,Feuil1!$G$11:$L$25,2)))))))","v":"FS75"},125.33408930840423,null," ",{"$f":"T349-HLOOKUP(X349,Feuil1!$C$1:$BL$10,2,FALSE)","v":8},{"$f":"T349-HLOOKUP(X349,Feuil1!$C$1:$BL$10,3,FALSE)","v":-2},{"$f":"T349-HLOOKUP(X349,Feuil1!$C$1:$BL$10,4,FALSE)","v":-12},{"$f":"T349-HLOOKUP(X349,Feuil1!$C$1:$BL$10,5,FALSE)","v":-27},{"$f":"T349-HLOOKUP(X349,Feuil1!$C$1:$BL$10,6,FALSE)","v":-42},{"$f":"T349-HLOOKUP(X349,Feuil1!$C$1:$BL$10,7,FALSE)","v":-57},{"$f":"T349-HLOOKUP(X349,Feuil1!$C$1:$BL$10,8,FALSE)","v":-77},{"$f":"T349-HLOOKUP(X349,Feuil1!$C$1:$BL$10,9,FALSE)","v":-92},{"$f":"T349-HLOOKUP(X349,Feuil1!$C$1:$BL$10,10,FALSE)","v":-107},null,null,null,null,null,null,"DEB "]
["F","NE","CHA",23," 376658","GUYOT","Alice",1994,72.5,"Reims HM","F",37,-40,40,40,53,58,61,61,101,-44,"DEB ",6,{"$f":"IF(I350=\"\",\"\",IF(A350=\"H\",IF(OR(H350=\"SEN\",H350<1995),VLOOKUP(I350,Feuil1!$A$11:$F$29,6),IF(AND(H350>1994,H350<1998),VLOOKUP(I350,Feuil1!$A$11:$F$29,5),IF(AND(H350>1997,H350<2000),VLOOKUP(I350,Feuil1!$A$11:$F$29,4),IF(AND(H350>1999,H350<2002),VLOOKUP(I350,Feuil1!$A$11:$F$29,3),VLOOKUP(I350,Feuil1!$A$11:$F$29,2))))),IF(OR(H350=\"SEN\",H350<1995),VLOOKUP(I350,Feuil1!$G$11:$L$25,6),IF(AND(H350>1994,H350<1998),VLOOKUP(I350,Feuil1!$G$11:$L$25,5),IF(AND(H350>1997,H350<2000),VLOOKUP(I350,Feuil1!$G$11:$L$25,4),IF(AND(H350>1999,H350<2002),VLOOKUP(I350,Feuil1!$G$11:$L$25,3),VLOOKUP(I350,Feuil1!$G$11:$L$25,2)))))))","v":"FS75"},123.18224909211759,null," ",{"$f":"T350-HLOOKUP(X350,Feuil1!$C$1:$BL$10,2,FALSE)","v":6},{"$f":"T350-HLOOKUP(X350,Feuil1!$C$1:$BL$10,3,FALSE)","v":-4},{"$f":"T350-HLOOKUP(X350,Feuil1!$C$1:$BL$10,4,FALSE)","v":-14},{"$f":"T350-HLOOKUP(X350,Feuil1!$C$1:$BL$10,5,FALSE)","v":-29},{"$f":"T350-HLOOKUP(X350,Feuil1!$C$1:$BL$10,6,FALSE)","v":-44},{"$f":"T350-HLOOKUP(X350,Feuil1!$C$1:$BL$10,7,FALSE)","v":-59},{"$f":"T350-HLOOKUP(X350,Feuil1!$C$1:$BL$10,8,FALSE)","v":-79},{"$f":"T350-HLOOKUP(X350,Feuil1!$C$1:$BL$10,9,FALSE)","v":-94},{"$f":"T350-HLOOKUP(X350,Feuil1!$C$1:$BL$10,10,FALSE)","v":-109},null,null,null,null,null,null,"DEB "]
["F","SEST","CAZ",24,377641,"TORZUOLI AUDAX","Elodie",1981,74.2,"AS MONACO","F",40,43,-45,43,55,58,0,58,101,-47.400000000000006,"DEB ",6,{"$f":"IF(I351=\"\",\"\",IF(A351=\"H\",IF(OR(H351=\"SEN\",H351<1995),VLOOKUP(I351,Feuil1!$A$11:$F$29,6),IF(AND(H351>1994,H351<1998),VLOOKUP(I351,Feuil1!$A$11:$F$29,5),IF(AND(H351>1997,H351<2000),VLOOKUP(I351,Feuil1!$A$11:$F$29,4),IF(AND(H351>1999,H351<2002),VLOOKUP(I351,Feuil1!$A$11:$F$29,3),VLOOKUP(I351,Feuil1!$A$11:$F$29,2))))),IF(OR(H351=\"SEN\",H351<1995),VLOOKUP(I351,Feuil1!$G$11:$L$25,6),IF(AND(H351>1994,H351<1998),VLOOKUP(I351,Feuil1!$G$11:$L$25,5),IF(AND(H351>1997,H351<2000),VLOOKUP(I351,Feuil1!$G$11:$L$25,4),IF(AND(H351>1999,H351<2002),VLOOKUP(I351,Feuil1!$G$11:$L$25,3),VLOOKUP(I351,Feuil1!$G$11:$L$25,2)))))))","v":"FS75"},121.62962443041954,null," ",{"$f":"T351-HLOOKUP(X351,Feuil1!$C$1:$BL$10,2,FALSE)","v":6},{"$f":"T351-HLOOKUP(X351,Feuil1!$C$1:$BL$10,3,FALSE)","v":-4},{"$f":"T351-HLOOKUP(X351,Feuil1!$C$1:$BL$10,4,FALSE)","v":-14},{"$f":"T351-HLOOKUP(X351,Feuil1!$C$1:$BL$10,5,FALSE)","v":-29},{"$f":"T351-HLOOKUP(X351,Feuil1!$C$1:$BL$10,6,FALSE)","v":-44},{"$f":"T351-HLOOKUP(X351,Feuil1!$C$1:$BL$10,7,FALSE)","v":-59},{"$f":"T351-HLOOKUP(X351,Feuil1!$C$1:$BL$10,8,FALSE)","v":-79},{"$f":"T351-HLOOKUP(X351,Feuil1!$C$1:$BL$10,9,FALSE)","v":-94},{"$f":"T351-HLOOKUP(X351,Feuil1!$C$1:$BL$10,10,FALSE)","v":-109},null,null,null,null,null,null,"DEB "]
["F","NE","BOU",25,363720,"MONNIAUD","Elise",1979,72.400000000000006,"HMDB21","F",38,40,42,42,54,58,-60,58,100,-44.800000000000011,"DEB ",5,{"$f":"IF(I352=\"\",\"\",IF(A352=\"H\",IF(OR(H352=\"SEN\",H352<1995),VLOOKUP(I352,Feuil1!$A$11:$F$29,6),IF(AND(H352>1994,H352<1998),VLOOKUP(I352,Feuil1!$A$11:$F$29,5),IF(AND(H352>1997,H352<2000),VLOOKUP(I352,Feuil1!$A$11:$F$29,4),IF(AND(H352>1999,H352<2002),VLOOKUP(I352,Feuil1!$A$11:$F$29,3),VLOOKUP(I352,Feuil1!$A$11:$F$29,2))))),IF(OR(H352=\"SEN\",H352<1995),VLOOKUP(I352,Feuil1!$G$11:$L$25,6),IF(AND(H352>1994,H352<1998),VLOOKUP(I352,Feuil1!$G$11:$L$25,5),IF(AND(H352>1997,H352<2000),VLOOKUP(I352,Feuil1!$G$11:$L$25,4),IF(AND(H352>1999,H352<2002),VLOOKUP(I352,Feuil1!$G$11:$L$25,3),VLOOKUP(I352,Feuil1!$G$11:$L$25,2)))))))","v":"FS75"},122.05639749847383,null," ",{"$f":"T352-HLOOKUP(X352,Feuil1!$C$1:$BL$10,2,FALSE)","v":5},{"$f":"T352-HLOOKUP(X352,Feuil1!$C$1:$BL$10,3,FALSE)","v":-5},{"$f":"T352-HLOOKUP(X352,Feuil1!$C$1:$BL$10,4,FALSE)","v":-15},{"$f":"T352-HLOOKUP(X352,Feuil1!$C$1:$BL$10,5,FALSE)","v":-30},{"$f":"T352-HLOOKUP(X352,Feuil1!$C$1:$BL$10,6,FALSE)","v":-45},{"$f":"T352-HLOOKUP(X352,Feuil1!$C$1:$BL$10,7,FALSE)","v":-60},{"$f":"T352-HLOOKUP(X352,Feuil1!$C$1:$BL$10,8,FALSE)","v":-80},{"$f":"T352-HLOOKUP(X352,Feuil1!$C$1:$BL$10,9,FALSE)","v":-95},{"$f":"T352-HLOOKUP(X352,Feuil1!$C$1:$BL$10,10,FALSE)","v":-110},null,null,null,null,null,null,"DEB "]
["F","NE","ALS",26,395529,"RIEDINGER","ANNE",1986,69.900000000000006,"SHC Haguenau","F",34,37,-39,37,42,45,47,47,84,-55.800000000000011,"DEB ",-11,{"$f":"IF(I353=\"\",\"\",IF(A353=\"H\",IF(OR(H353=\"SEN\",H353<1995),VLOOKUP(I353,Feuil1!$A$11:$F$29,6),IF(AND(H353>1994,H353<1998),VLOOKUP(I353,Feuil1!$A$11:$F$29,5),IF(AND(H353>1997,H353<2000),VLOOKUP(I353,Feuil1!$A$11:$F$29,4),IF(AND(H353>1999,H353<2002),VLOOKUP(I353,Feuil1!$A$11:$F$29,3),VLOOKUP(I353,Feuil1!$A$11:$F$29,2))))),IF(OR(H353=\"SEN\",H353<1995),VLOOKUP(I353,Feuil1!$G$11:$L$25,6),IF(AND(H353>1994,H353<1998),VLOOKUP(I353,Feuil1!$G$11:$L$25,5),IF(AND(H353>1997,H353<2000),VLOOKUP(I353,Feuil1!$G$11:$L$25,4),IF(AND(H353>1999,H353<2002),VLOOKUP(I353,Feuil1!$G$11:$L$25,3),VLOOKUP(I353,Feuil1!$G$11:$L$25,2)))))))","v":"FS75"},104.60565621176208,null," ",{"$f":"T353-HLOOKUP(X353,Feuil1!$C$1:$BL$10,2,FALSE)","v":-11},{"$f":"T353-HLOOKUP(X353,Feuil1!$C$1:$BL$10,3,FALSE)","v":-21},{"$f":"T353-HLOOKUP(X353,Feuil1!$C$1:$BL$10,4,FALSE)","v":-31},{"$f":"T353-HLOOKUP(X353,Feuil1!$C$1:$BL$10,5,FALSE)","v":-46},{"$f":"T353-HLOOKUP(X353,Feuil1!$C$1:$BL$10,6,FALSE)","v":-61},{"$f":"T353-HLOOKUP(X353,Feuil1!$C$1:$BL$10,7,FALSE)","v":-76},{"$f":"T353-HLOOKUP(X353,Feuil1!$C$1:$BL$10,8,FALSE)","v":-96},{"$f":"T353-HLOOKUP(X353,Feuil1!$C$1:$BL$10,9,FALSE)","v":-111},{"$f":"T353-HLOOKUP(X353,Feuil1!$C$1:$BL$10,10,FALSE)","v":-126},null,null,null,null,null,null,"DEB "]
["F","SO","AQU",27,390214,"GALONNIER","Elodie",1989,69.900000000000006,"LE BOUSCAT","F",30,35,-37,35,38,42,45,45,80,-59.800000000000011,"DEB ",-15,{"$f":"IF(I354=\"\",\"\",IF(A354=\"H\",IF(OR(H354=\"SEN\",H354<1995),VLOOKUP(I354,Feuil1!$A$11:$F$29,6),IF(AND(H354>1994,H354<1998),VLOOKUP(I354,Feuil1!$A$11:$F$29,5),IF(AND(H354>1997,H354<2000),VLOOKUP(I354,Feuil1!$A$11:$F$29,4),IF(AND(H354>1999,H354<2002),VLOOKUP(I354,Feuil1!$A$11:$F$29,3),VLOOKUP(I354,Feuil1!$A$11:$F$29,2))))),IF(OR(H354=\"SEN\",H354<1995),VLOOKUP(I354,Feuil1!$G$11:$L$25,6),IF(AND(H354>1994,H354<1998),VLOOKUP(I354,Feuil1!$G$11:$L$25,5),IF(AND(H354>1997,H354<2000),VLOOKUP(I354,Feuil1!$G$11:$L$25,4),IF(AND(H354>1999,H354<2002),VLOOKUP(I354,Feuil1!$G$11:$L$25,3),VLOOKUP(I354,Feuil1!$G$11:$L$25,2)))))))","v":"FS75"},99.624434487392449,null," ",{"$f":"T354-HLOOKUP(X354,Feuil1!$C$1:$BL$10,2,FALSE)","v":-15},{"$f":"T354-HLOOKUP(X354,Feuil1!$C$1:$BL$10,3,FALSE)","v":-25},{"$f":"T354-HLOOKUP(X354,Feuil1!$C$1:$BL$10,4,FALSE)","v":-35},{"$f":"T354-HLOOKUP(X354,Feuil1!$C$1:$BL$10,5,FALSE)","v":-50},{"$f":"T354-HLOOKUP(X354,Feuil1!$C$1:$BL$10,6,FALSE)","v":-65},{"$f":"T354-HLOOKUP(X354,Feuil1!$C$1:$BL$10,7,FALSE)","v":-80},{"$f":"T354-HLOOKUP(X354,Feuil1!$C$1:$BL$10,8,FALSE)","v":-100},{"$f":"T354-HLOOKUP(X354,Feuil1!$C$1:$BL$10,9,FALSE)","v":-115},{"$f":"T354-HLOOKUP(X354,Feuil1!$C$1:$BL$10,10,FALSE)","v":-130},null,null,null,null,null,null,"DEB "]
["F","NE","ALS",28,245886,"PLASSARD","LUCIE",1976,73.849999999999994,"MJC Ungersheim","F",32,35,-37,35,40,44,-47,44,79,-68.699999999999989,"DEB ",-16,{"$f":"IF(I355=\"\",\"\",IF(A355=\"H\",IF(OR(H355=\"SEN\",H355<1995),VLOOKUP(I355,Feuil1!$A$11:$F$29,6),IF(AND(H355>1994,H355<1998),VLOOKUP(I355,Feuil1!$A$11:$F$29,5),IF(AND(H355>1997,H355<2000),VLOOKUP(I355,Feuil1!$A$11:$F$29,4),IF(AND(H355>1999,H355<2002),VLOOKUP(I355,Feuil1!$A$11:$F$29,3),VLOOKUP(I355,Feuil1!$A$11:$F$29,2))))),IF(OR(H355=\"SEN\",H355<1995),VLOOKUP(I355,Feuil1!$G$11:$L$25,6),IF(AND(H355>1994,H355<1998),VLOOKUP(I355,Feuil1!$G$11:$L$25,5),IF(AND(H355>1997,H355<2000),VLOOKUP(I355,Feuil1!$G$11:$L$25,4),IF(AND(H355>1999,H355<2002),VLOOKUP(I355,Feuil1!$G$11:$L$25,3),VLOOKUP(I355,Feuil1!$G$11:$L$25,2)))))))","v":"FS75"},95.379290567853076,null," ",{"$f":"T355-HLOOKUP(X355,Feuil1!$C$1:$BL$10,2,FALSE)","v":-16},{"$f":"T355-HLOOKUP(X355,Feuil1!$C$1:$BL$10,3,FALSE)","v":-26},{"$f":"T355-HLOOKUP(X355,Feuil1!$C$1:$BL$10,4,FALSE)","v":-36},{"$f":"T355-HLOOKUP(X355,Feuil1!$C$1:$BL$10,5,FALSE)","v":-51},{"$f":"T355-HLOOKUP(X355,Feuil1!$C$1:$BL$10,6,FALSE)","v":-66},{"$f":"T355-HLOOKUP(X355,Feuil1!$C$1:$BL$10,7,FALSE)","v":-81},{"$f":"T355-HLOOKUP(X355,Feuil1!$C$1:$BL$10,8,FALSE)","v":-101},{"$f":"T355-HLOOKUP(X355,Feuil1!$C$1:$BL$10,9,FALSE)","v":-116},{"$f":"T355-HLOOKUP(X355,Feuil1!$C$1:$BL$10,10,FALSE)","v":-131},null,null,null,null,null,null,"DEB "]
["F","NE","ALS",29,396673,"THIELEN","SARAH",1991,71.400000000000006,"SR Obernai HM","F",30,-34,-34,30,40,44,47,47,77,-65.800000000000011,"DEB ",-18,{"$f":"IF(I356=\"\",\"\",IF(A356=\"H\",IF(OR(H356=\"SEN\",H356<1995),VLOOKUP(I356,Feuil1!$A$11:$F$29,6),IF(AND(H356>1994,H356<1998),VLOOKUP(I356,Feuil1!$A$11:$F$29,5),IF(AND(H356>1997,H356<2000),VLOOKUP(I356,Feuil1!$A$11:$F$29,4),IF(AND(H356>1999,H356<2002),VLOOKUP(I356,Feuil1!$A$11:$F$29,3),VLOOKUP(I356,Feuil1!$A$11:$F$29,2))))),IF(OR(H356=\"SEN\",H356<1995),VLOOKUP(I356,Feuil1!$G$11:$L$25,6),IF(AND(H356>1994,H356<1998),VLOOKUP(I356,Feuil1!$G$11:$L$25,5),IF(AND(H356>1997,H356<2000),VLOOKUP(I356,Feuil1!$G$11:$L$25,4),IF(AND(H356>1999,H356<2002),VLOOKUP(I356,Feuil1!$G$11:$L$25,3),VLOOKUP(I356,Feuil1!$G$11:$L$25,2)))))))","v":"FS75"},94.721979839995257,null," ",{"$f":"T356-HLOOKUP(X356,Feuil1!$C$1:$BL$10,2,FALSE)","v":-18},{"$f":"T356-HLOOKUP(X356,Feuil1!$C$1:$BL$10,3,FALSE)","v":-28},{"$f":"T356-HLOOKUP(X356,Feuil1!$C$1:$BL$10,4,FALSE)","v":-38},{"$f":"T356-HLOOKUP(X356,Feuil1!$C$1:$BL$10,5,FALSE)","v":-53},{"$f":"T356-HLOOKUP(X356,Feuil1!$C$1:$BL$10,6,FALSE)","v":-68},{"$f":"T356-HLOOKUP(X356,Feuil1!$C$1:$BL$10,7,FALSE)","v":-83},{"$f":"T356-HLOOKUP(X356,Feuil1!$C$1:$BL$10,8,FALSE)","v":-103},{"$f":"T356-HLOOKUP(X356,Feuil1!$C$1:$BL$10,9,FALSE)","v":-118},{"$f":"T356-HLOOKUP(X356,Feuil1!$C$1:$BL$10,10,FALSE)","v":-133},null,null,null,null,null,null,"DEB "]
["F","SEST","RAL",30,328836,"GAILLOT","Elodie",1994,73.8,"ENTENTE VIRIAT","F",28,31,-34,31,38,43,46,46,77,-70.599999999999994,"DEB ",-18,{"$f":"IF(I357=\"\",\"\",IF(A357=\"H\",IF(OR(H357=\"SEN\",H357<1995),VLOOKUP(I357,Feuil1!$A$11:$F$29,6),IF(AND(H357>1994,H357<1998),VLOOKUP(I357,Feuil1!$A$11:$F$29,5),IF(AND(H357>1997,H357<2000),VLOOKUP(I357,Feuil1!$A$11:$F$29,4),IF(AND(H357>1999,H357<2002),VLOOKUP(I357,Feuil1!$A$11:$F$29,3),VLOOKUP(I357,Feuil1!$A$11:$F$29,2))))),IF(OR(H357=\"SEN\",H357<1995),VLOOKUP(I357,Feuil1!$G$11:$L$25,6),IF(AND(H357>1994,H357<1998),VLOOKUP(I357,Feuil1!$G$11:$L$25,5),IF(AND(H357>1997,H357<2000),VLOOKUP(I357,Feuil1!$G$11:$L$25,4),IF(AND(H357>1999,H357<2002),VLOOKUP(I357,Feuil1!$G$11:$L$25,3),VLOOKUP(I357,Feuil1!$G$11:$L$25,2)))))))","v":"FS75"},92.998768882879858,null," ",{"$f":"T357-HLOOKUP(X357,Feuil1!$C$1:$BL$10,2,FALSE)","v":-18},{"$f":"T357-HLOOKUP(X357,Feuil1!$C$1:$BL$10,3,FALSE)","v":-28},{"$f":"T357-HLOOKUP(X357,Feuil1!$C$1:$BL$10,4,FALSE)","v":-38},{"$f":"T357-HLOOKUP(X357,Feuil1!$C$1:$BL$10,5,FALSE)","v":-53},{"$f":"T357-HLOOKUP(X357,Feuil1!$C$1:$BL$10,6,FALSE)","v":-68},{"$f":"T357-HLOOKUP(X357,Feuil1!$C$1:$BL$10,7,FALSE)","v":-83},{"$f":"T357-HLOOKUP(X357,Feuil1!$C$1:$BL$10,8,FALSE)","v":-103},{"$f":"T357-HLOOKUP(X357,Feuil1!$C$1:$BL$10,9,FALSE)","v":-118},{"$f":"T357-HLOOKUP(X357,Feuil1!$C$1:$BL$10,10,FALSE)","v":-133},null,null,null,null,null,null,"DEB "]
["F","NORD","NPC",31,354857,"COEVOET","Aude",1976,70.3,"CHCD COMINES","F",30,33,35,35,34,37,40,40,75,-65.599999999999994,"DEB ",-20,{"$f":"IF(I358=\"\",\"\",IF(A358=\"H\",IF(OR(H358=\"SEN\",H358<1995),VLOOKUP(I358,Feuil1!$A$11:$F$29,6),IF(AND(H358>1994,H358<1998),VLOOKUP(I358,Feuil1!$A$11:$F$29,5),IF(AND(H358>1997,H358<2000),VLOOKUP(I358,Feuil1!$A$11:$F$29,4),IF(AND(H358>1999,H358<2002),VLOOKUP(I358,Feuil1!$A$11:$F$29,3),VLOOKUP(I358,Feuil1!$A$11:$F$29,2))))),IF(OR(H358=\"SEN\",H358<1995),VLOOKUP(I358,Feuil1!$G$11:$L$25,6),IF(AND(H358>1994,H358<1998),VLOOKUP(I358,Feuil1!$G$11:$L$25,5),IF(AND(H358>1997,H358<2000),VLOOKUP(I358,Feuil1!$G$11:$L$25,4),IF(AND(H358>1999,H358<2002),VLOOKUP(I358,Feuil1!$G$11:$L$25,3),VLOOKUP(I358,Feuil1!$G$11:$L$25,2)))))))","v":"FS75"},93.08796209552952,null," ",{"$f":"T358-HLOOKUP(X358,Feuil1!$C$1:$BL$10,2,FALSE)","v":-20},{"$f":"T358-HLOOKUP(X358,Feuil1!$C$1:$BL$10,3,FALSE)","v":-30},{"$f":"T358-HLOOKUP(X358,Feuil1!$C$1:$BL$10,4,FALSE)","v":-40},{"$f":"T358-HLOOKUP(X358,Feuil1!$C$1:$BL$10,5,FALSE)","v":-55},{"$f":"T358-HLOOKUP(X358,Feuil1!$C$1:$BL$10,6,FALSE)","v":-70},{"$f":"T358-HLOOKUP(X358,Feuil1!$C$1:$BL$10,7,FALSE)","v":-85},{"$f":"T358-HLOOKUP(X358,Feuil1!$C$1:$BL$10,8,FALSE)","v":-105},{"$f":"T358-HLOOKUP(X358,Feuil1!$C$1:$BL$10,9,FALSE)","v":-120},{"$f":"T358-HLOOKUP(X358,Feuil1!$C$1:$BL$10,10,FALSE)","v":-135},null,null,null,null,null,null,"DEB "]
["F","SEST","RAL",32,249168,"BLANCHARD","Nathalie",1974,69.599999999999994,"CH Arbresle","F",26,-29,29,29,40,43,45,45,74,-65.199999999999989,"DEB ",-21,{"$f":"IF(I359=\"\",\"\",IF(A359=\"H\",IF(OR(H359=\"SEN\",H359<1995),VLOOKUP(I359,Feuil1!$A$11:$F$29,6),IF(AND(H359>1994,H359<1998),VLOOKUP(I359,Feuil1!$A$11:$F$29,5),IF(AND(H359>1997,H359<2000),VLOOKUP(I359,Feuil1!$A$11:$F$29,4),IF(AND(H359>1999,H359<2002),VLOOKUP(I359,Feuil1!$A$11:$F$29,3),VLOOKUP(I359,Feuil1!$A$11:$F$29,2))))),IF(OR(H359=\"SEN\",H359<1995),VLOOKUP(I359,Feuil1!$G$11:$L$25,6),IF(AND(H359>1994,H359<1998),VLOOKUP(I359,Feuil1!$G$11:$L$25,5),IF(AND(H359>1997,H359<2000),VLOOKUP(I359,Feuil1!$G$11:$L$25,4),IF(AND(H359>1999,H359<2002),VLOOKUP(I359,Feuil1!$G$11:$L$25,3),VLOOKUP(I359,Feuil1!$G$11:$L$25,2)))))))","v":"FS75"},92.385334349526246,null," ",{"$f":"T359-HLOOKUP(X359,Feuil1!$C$1:$BL$10,2,FALSE)","v":-21},{"$f":"T359-HLOOKUP(X359,Feuil1!$C$1:$BL$10,3,FALSE)","v":-31},{"$f":"T359-HLOOKUP(X359,Feuil1!$C$1:$BL$10,4,FALSE)","v":-41},{"$f":"T359-HLOOKUP(X359,Feuil1!$C$1:$BL$10,5,FALSE)","v":-56},{"$f":"T359-HLOOKUP(X359,Feuil1!$C$1:$BL$10,6,FALSE)","v":-71},{"$f":"T359-HLOOKUP(X359,Feuil1!$C$1:$BL$10,7,FALSE)","v":-86},{"$f":"T359-HLOOKUP(X359,Feuil1!$C$1:$BL$10,8,FALSE)","v":-106},{"$f":"T359-HLOOKUP(X359,Feuil1!$C$1:$BL$10,9,FALSE)","v":-121},{"$f":"T359-HLOOKUP(X359,Feuil1!$C$1:$BL$10,10,FALSE)","v":-136},null,null,null,null,null,null,"DEB "]
["F","CO","BNO",33,365251,"Drezet","Christel",1973,75,"Caen CHM","F",26,29,31,31,37,41,-42,41,72,-78,"DEB ",-23,{"$f":"IF(I360=\"\",\"\",IF(A360=\"H\",IF(OR(H360=\"SEN\",H360<1995),VLOOKUP(I360,Feuil1!$A$11:$F$29,6),IF(AND(H360>1994,H360<1998),VLOOKUP(I360,Feuil1!$A$11:$F$29,5),IF(AND(H360>1997,H360<2000),VLOOKUP(I360,Feuil1!$A$11:$F$29,4),IF(AND(H360>1999,H360<2002),VLOOKUP(I360,Feuil1!$A$11:$F$29,3),VLOOKUP(I360,Feuil1!$A$11:$F$29,2))))),IF(OR(H360=\"SEN\",H360<1995),VLOOKUP(I360,Feuil1!$G$11:$L$25,6),IF(AND(H360>1994,H360<1998),VLOOKUP(I360,Feuil1!$G$11:$L$25,5),IF(AND(H360>1997,H360<2000),VLOOKUP(I360,Feuil1!$G$11:$L$25,4),IF(AND(H360>1999,H360<2002),VLOOKUP(I360,Feuil1!$G$11:$L$25,3),VLOOKUP(I360,Feuil1!$G$11:$L$25,2)))))))","v":"FS75"},86.211099289643244,null," ",{"$f":"T360-HLOOKUP(X360,Feuil1!$C$1:$BL$10,2,FALSE)","v":-23},{"$f":"T360-HLOOKUP(X360,Feuil1!$C$1:$BL$10,3,FALSE)","v":-33},{"$f":"T360-HLOOKUP(X360,Feuil1!$C$1:$BL$10,4,FALSE)","v":-43},{"$f":"T360-HLOOKUP(X360,Feuil1!$C$1:$BL$10,5,FALSE)","v":-58},{"$f":"T360-HLOOKUP(X360,Feuil1!$C$1:$BL$10,6,FALSE)","v":-73},{"$f":"T360-HLOOKUP(X360,Feuil1!$C$1:$BL$10,7,FALSE)","v":-88},{"$f":"T360-HLOOKUP(X360,Feuil1!$C$1:$BL$10,8,FALSE)","v":-108},{"$f":"T360-HLOOKUP(X360,Feuil1!$C$1:$BL$10,9,FALSE)","v":-123},{"$f":"T360-HLOOKUP(X360,Feuil1!$C$1:$BL$10,10,FALSE)","v":-138},null,null,null,null,null,null,"DEB "]
["F","NORD","PIC",34,263675,"SAUGOUT","Noelle",1957,69.599999999999994,"La Ferté Milon CMHM","F",28,-30,30,30,38,-40,40,40,70,-69.199999999999989,"DEB ",-25,{"$f":"IF(I361=\"\",\"\",IF(A361=\"H\",IF(OR(H361=\"SEN\",H361<1995),VLOOKUP(I361,Feuil1!$A$11:$F$29,6),IF(AND(H361>1994,H361<1998),VLOOKUP(I361,Feuil1!$A$11:$F$29,5),IF(AND(H361>1997,H361<2000),VLOOKUP(I361,Feuil1!$A$11:$F$29,4),IF(AND(H361>1999,H361<2002),VLOOKUP(I361,Feuil1!$A$11:$F$29,3),VLOOKUP(I361,Feuil1!$A$11:$F$29,2))))),IF(OR(H361=\"SEN\",H361<1995),VLOOKUP(I361,Feuil1!$G$11:$L$25,6),IF(AND(H361>1994,H361<1998),VLOOKUP(I361,Feuil1!$G$11:$L$25,5),IF(AND(H361>1997,H361<2000),VLOOKUP(I361,Feuil1!$G$11:$L$25,4),IF(AND(H361>1999,H361<2002),VLOOKUP(I361,Feuil1!$G$11:$L$25,3),VLOOKUP(I361,Feuil1!$G$11:$L$25,2)))))))","v":"FS75"},87.391532492795108,null," ",{"$f":"T361-HLOOKUP(X361,Feuil1!$C$1:$BL$10,2,FALSE)","v":-25},{"$f":"T361-HLOOKUP(X361,Feuil1!$C$1:$BL$10,3,FALSE)","v":-35},{"$f":"T361-HLOOKUP(X361,Feuil1!$C$1:$BL$10,4,FALSE)","v":-45},{"$f":"T361-HLOOKUP(X361,Feuil1!$C$1:$BL$10,5,FALSE)","v":-60},{"$f":"T361-HLOOKUP(X361,Feuil1!$C$1:$BL$10,6,FALSE)","v":-75},{"$f":"T361-HLOOKUP(X361,Feuil1!$C$1:$BL$10,7,FALSE)","v":-90},{"$f":"T361-HLOOKUP(X361,Feuil1!$C$1:$BL$10,8,FALSE)","v":-110},{"$f":"T361-HLOOKUP(X361,Feuil1!$C$1:$BL$10,9,FALSE)","v":-125},{"$f":"T361-HLOOKUP(X361,Feuil1!$C$1:$BL$10,10,FALSE)","v":-140},null,null,null,null,null,null,"DEB "]
["F","SO","MPY",35,307081,"DELPECH","Frédérique",1972,72.2,"MONTAUBAN HC","F",27,30,-32,30,36,38,40,40,70,-74.400000000000006,"DEB ",-25,{"$f":"IF(I362=\"\",\"\",IF(A362=\"H\",IF(OR(H362=\"SEN\",H362<1995),VLOOKUP(I362,Feuil1!$A$11:$F$29,6),IF(AND(H362>1994,H362<1998),VLOOKUP(I362,Feuil1!$A$11:$F$29,5),IF(AND(H362>1997,H362<2000),VLOOKUP(I362,Feuil1!$A$11:$F$29,4),IF(AND(H362>1999,H362<2002),VLOOKUP(I362,Feuil1!$A$11:$F$29,3),VLOOKUP(I362,Feuil1!$A$11:$F$29,2))))),IF(OR(H362=\"SEN\",H362<1995),VLOOKUP(I362,Feuil1!$G$11:$L$25,6),IF(AND(H362>1994,H362<1998),VLOOKUP(I362,Feuil1!$G$11:$L$25,5),IF(AND(H362>1997,H362<2000),VLOOKUP(I362,Feuil1!$G$11:$L$25,4),IF(AND(H362>1999,H362<2002),VLOOKUP(I362,Feuil1!$G$11:$L$25,3),VLOOKUP(I362,Feuil1!$G$11:$L$25,2)))))))","v":"FS75"},85.571569629966078,null," ",{"$f":"T362-HLOOKUP(X362,Feuil1!$C$1:$BL$10,2,FALSE)","v":-25},{"$f":"T362-HLOOKUP(X362,Feuil1!$C$1:$BL$10,3,FALSE)","v":-35},{"$f":"T362-HLOOKUP(X362,Feuil1!$C$1:$BL$10,4,FALSE)","v":-45},{"$f":"T362-HLOOKUP(X362,Feuil1!$C$1:$BL$10,5,FALSE)","v":-60},{"$f":"T362-HLOOKUP(X362,Feuil1!$C$1:$BL$10,6,FALSE)","v":-75},{"$f":"T362-HLOOKUP(X362,Feuil1!$C$1:$BL$10,7,FALSE)","v":-90},{"$f":"T362-HLOOKUP(X362,Feuil1!$C$1:$BL$10,8,FALSE)","v":-110},{"$f":"T362-HLOOKUP(X362,Feuil1!$C$1:$BL$10,9,FALSE)","v":-125},{"$f":"T362-HLOOKUP(X362,Feuil1!$C$1:$BL$10,10,FALSE)","v":-140},null,null,null,null,null,null,"DEB "]
["F","N","IDF",36,384912,"DELAFOSSE","Marie",1959,74.5,"MANTES","F",20,22,-25,22,-25,30,32,32,54,-95,"DEB ",-41,{"$f":"IF(I363=\"\",\"\",IF(A363=\"H\",IF(OR(H363=\"SEN\",H363<1995),VLOOKUP(I363,Feuil1!$A$11:$F$29,6),IF(AND(H363>1994,H363<1998),VLOOKUP(I363,Feuil1!$A$11:$F$29,5),IF(AND(H363>1997,H363<2000),VLOOKUP(I363,Feuil1!$A$11:$F$29,4),IF(AND(H363>1999,H363<2002),VLOOKUP(I363,Feuil1!$A$11:$F$29,3),VLOOKUP(I363,Feuil1!$A$11:$F$29,2))))),IF(OR(H363=\"SEN\",H363<1995),VLOOKUP(I363,Feuil1!$G$11:$L$25,6),IF(AND(H363>1994,H363<1998),VLOOKUP(I363,Feuil1!$G$11:$L$25,5),IF(AND(H363>1997,H363<2000),VLOOKUP(I363,Feuil1!$G$11:$L$25,4),IF(AND(H363>1999,H363<2002),VLOOKUP(I363,Feuil1!$G$11:$L$25,3),VLOOKUP(I363,Feuil1!$G$11:$L$25,2)))))))","v":"FS75"},64.88903506063636,null," ",{"$f":"T363-HLOOKUP(X363,Feuil1!$C$1:$BL$10,2,FALSE)","v":-41},{"$f":"T363-HLOOKUP(X363,Feuil1!$C$1:$BL$10,3,FALSE)","v":-51},{"$f":"T363-HLOOKUP(X363,Feuil1!$C$1:$BL$10,4,FALSE)","v":-61},{"$f":"T363-HLOOKUP(X363,Feuil1!$C$1:$BL$10,5,FALSE)","v":-76},{"$f":"T363-HLOOKUP(X363,Feuil1!$C$1:$BL$10,6,FALSE)","v":-91},{"$f":"T363-HLOOKUP(X363,Feuil1!$C$1:$BL$10,7,FALSE)","v":-106},{"$f":"T363-HLOOKUP(X363,Feuil1!$C$1:$BL$10,8,FALSE)","v":-126},{"$f":"T363-HLOOKUP(X363,Feuil1!$C$1:$BL$10,9,FALSE)","v":-141},{"$f":"T363-HLOOKUP(X363,Feuil1!$C$1:$BL$10,10,FALSE)","v":-156},null,null,null,null,null,null,"DEB "]
["F","SO","MPY",37,376232,"ALBERTELLI","Anne - Camille",1986,74.400000000000006,"PAMIERS HC","F",35,-38,-38,35,-50,-52,-52,0,0,-148.80000000000001,"DEB ",-95,{"$f":"IF(I364=\"\",\"\",IF(A364=\"H\",IF(OR(H364=\"SEN\",H364<1995),VLOOKUP(I364,Feuil1!$A$11:$F$29,6),IF(AND(H364>1994,H364<1998),VLOOKUP(I364,Feuil1!$A$11:$F$29,5),IF(AND(H364>1997,H364<2000),VLOOKUP(I364,Feuil1!$A$11:$F$29,4),IF(AND(H364>1999,H364<2002),VLOOKUP(I364,Feuil1!$A$11:$F$29,3),VLOOKUP(I364,Feuil1!$A$11:$F$29,2))))),IF(OR(H364=\"SEN\",H364<1995),VLOOKUP(I364,Feuil1!$G$11:$L$25,6),IF(AND(H364>1994,H364<1998),VLOOKUP(I364,Feuil1!$G$11:$L$25,5),IF(AND(H364>1997,H364<2000),VLOOKUP(I364,Feuil1!$G$11:$L$25,4),IF(AND(H364>1999,H364<2002),VLOOKUP(I364,Feuil1!$G$11:$L$25,3),VLOOKUP(I364,Feuil1!$G$11:$L$25,2)))))))","v":"FS75"},0,null," ",{"$f":"T364-HLOOKUP(X364,Feuil1!$C$1:$BL$10,2,FALSE)","v":-95},{"$f":"T364-HLOOKUP(X364,Feuil1!$C$1:$BL$10,3,FALSE)","v":-105},{"$f":"T364-HLOOKUP(X364,Feuil1!$C$1:$BL$10,4,FALSE)","v":-115},{"$f":"T364-HLOOKUP(X364,Feuil1!$C$1:$BL$10,5,FALSE)","v":-130},{"$f":"T364-HLOOKUP(X364,Feuil1!$C$1:$BL$10,6,FALSE)","v":-145},{"$f":"T364-HLOOKUP(X364,Feuil1!$C$1:$BL$10,7,FALSE)","v":-160},{"$f":"T364-HLOOKUP(X364,Feuil1!$C$1:$BL$10,8,FALSE)","v":-180},{"$f":"T364-HLOOKUP(X364,Feuil1!$C$1:$BL$10,9,FALSE)","v":-195},{"$f":"T364-HLOOKUP(X364,Feuil1!$C$1:$BL$10,10,FALSE)","v":-210},null,null,null,null,null,null,"DEB "]
[null,null,null,null,null,null,null,null,null,null,null,null,null,null,null,null,null,null,null,null,null,null,null,null,null,null," ",{"$f":"T365-HLOOKUP(X365,[1]Feuil1!$C$1:$BL$10,2,FALSE)","v":{"$error":"#N/A"}},{"$f":"T365-HLOOKUP(X365,[1]Feuil1!$C$1:$BL$10,3,FALSE)","v":{"$error":"#N/A"}},{"$f":"T365-HLOOKUP(X365,[1]Feuil1!$C$1:$BL$10,4,FALSE)","v":{"$error":"#N/A"}},{"$f":"T365-HLOOKUP(X365,[1]Feuil1!$C$1:$BL$10,5,FALSE)","v":{"$error":"#N/A"}},{"$f":"T365-HLOOKUP(X365,[1]Feuil1!$C$1:$BL$10,6,FALSE)","v":{"$error":"#N/A"}},{"$f":"T365-HLOOKUP(X365,[1]Feuil1!$C$1:$BL$10,7,FALSE)","v":{"$error":"#N/A"}},{"$f":"T365-HLOOKUP(X365,[1]Feuil1!$C$1:$BL$10,8,FALSE)","v":{"$error":"#N/A"}},{"$f":"T365-HLOOKUP(X365,[1]Feuil1!$C$1:$BL$10,9,FALSE)","v":{"$error":"#N/A"}},{"$f":"T365-HLOOKUP(X365,[1]Feuil1!$C$1:$BL$10,10,FALSE)","v":{"$error":"#N/A"}},null,null,null,null,null,null,{"$f":"IF(AJ365>=0,$AJ$4,IF(AI365>=0,$AI$4,IF(AH365>=0,$AH$4,IF(AG365>=0,$AG$4,IF(AF365>=0,$AF$4,IF(AE365>=0,$AE$4,IF(AD365>=0,$AD$4,IF(AC365>=0,$AC$4,$AB$4))))))))","v":{"$error":"#N/A"}}]
["F","SEST","LAN ",1,287541,"NAYO KETCHANKE","Gaëlle",1988,76.349999999999994,"Clermont Sports","F",95,100,105,{"$f":"IF(H366=\"\",\"\",IF(MAXA(L366:N366)<=0,0,MAXA(L366:N366)))","v":105},120,131,"-",{"$f":"IF(H366=\"\",\"\",IF(MAXA(P366:R366)<=0,0,MAXA(P366:R366)))","v":131},{"$f":"IF(H366=\"\",\"\",IF(OR(O366=0,S366=0),0,O366+S366))","v":236},{"$f":"T366-I366*2","v":83.300000000000011},{"$f":"IF(H366=\"\",\"\",AQ366)","v":"OLY +"},{"$f":"IF(AJ366>=0,AJ366,IF(AI366>=0,AI366,IF(AH366>=0,AH366,IF(AG366>=0,AG366,IF(AF366>=0,AF366,IF(AE366>=0,AE366,IF(AD366>=0,AD366,IF(AC366>=0,AC366,AB366))))))))","v":11},{"$f":"IF(I366=\"\",\"\",IF(A366=\"H\",IF(OR(H366=\"SEN\",H366<1995),VLOOKUP(I366,Feuil1!$A$11:$F$29,6),IF(AND(H366>1994,H366<1998),VLOOKUP(I366,Feuil1!$A$11:$F$29,5),IF(AND(H366>1997,H366<2000),VLOOKUP(I366,Feuil1!$A$11:$F$29,4),IF(AND(H366>1999,H366<2002),VLOOKUP(I366,Feuil1!$A$11:$F$29,3),VLOOKUP(I366,Feuil1!$A$11:$F$29,2))))),IF(OR(H366=\"SEN\",H366<1995),VLOOKUP(I366,Feuil1!$G$11:$L$25,6),IF(AND(H366>1994,H366<1998),VLOOKUP(I366,Feuil1!$G$11:$L$25,5),IF(AND(H366>1997,H366<2000),VLOOKUP(I366,Feuil1!$G$11:$L$25,4),IF(AND(H366>1999,H366<2002),VLOOKUP(I366,Feuil1!$G$11:$L$25,3),VLOOKUP(I366,Feuil1!$G$11:$L$25,2)))))))","v":"FS+75"},{"$f":"IF(I366=\"\",\"\",IF(A366=\"H\",10^(0.794358141*LOG(I366/174.393)^2)*T366,IF(A366=\"F\",10^(0.89726074*LOG(I366/148.026)^2)*T366,\"\")))","v":279.95688598405604},null," ",{"$f":"T366-HLOOKUP(X366,Feuil1!$C$1:$BL$10,2,FALSE)","v":136},{"$f":"T366-HLOOKUP(X366,Feuil1!$C$1:$BL$10,3,FALSE)","v":126},{"$f":"T366-HLOOKUP(X366,Feuil1!$C$1:$BL$10,4,FALSE)","v":111},{"$f":"T366-HLOOKUP(X366,Feuil1!$C$1:$BL$10,5,FALSE)","v":96},{"$f":"T366-HLOOKUP(X366,Feuil1!$C$1:$BL$10,6,FALSE)","v":86},{"$f":"T366-HLOOKUP(X366,Feuil1!$C$1:$BL$10,7,FALSE)","v":66},{"$f":"T366-HLOOKUP(X366,Feuil1!$C$1:$BL$10,8,FALSE)","v":46},{"$f":"T366-HLOOKUP(X366,Feuil1!$C$1:$BL$10,9,FALSE)","v":26},{"$f":"T366-HLOOKUP(X366,Feuil1!$C$1:$BL$10,10,FALSE)","v":11},null,null,null,null,null,null,{"$f":"IF(AJ366>=0,$AJ$4,IF(AI366>=0,$AI$4,IF(AH366>=0,$AH$4,IF(AG366>=0,$AG$4,IF(AF366>=0,$AF$4,IF(AE366>=0,$AE$4,IF(AD366>=0,$AD$4,IF(AC366>=0,$AC$4,$AB$4))))))))","v":"OLY +"}]
["F","NORD","PIC",2,314914,"VAN BELLINGHEN","Anna",1994,85.5,"La Vaillante Saint Quentin","Belge",90,95,-100,95,115,121,"-",121,216,45,"INTA +",6,{"$f":"IF(I367=\"\",\"\",IF(A367=\"H\",IF(OR(H367=\"SEN\",H367<1995),VLOOKUP(I367,Feuil1!$A$11:$F$29,6),IF(AND(H367>1994,H367<1998),VLOOKUP(I367,Feuil1!$A$11:$F$29,5),IF(AND(H367>1997,H367<2000),VLOOKUP(I367,Feuil1!$A$11:$F$29,4),IF(AND(H367>1999,H367<2002),VLOOKUP(I367,Feuil1!$A$11:$F$29,3),VLOOKUP(I367,Feuil1!$A$11:$F$29,2))))),IF(OR(H367=\"SEN\",H367<1995),VLOOKUP(I367,Feuil1!$G$11:$L$25,6),IF(AND(H367>1994,H367<1998),VLOOKUP(I367,Feuil1!$G$11:$L$25,5),IF(AND(H367>1997,H367<2000),VLOOKUP(I367,Feuil1!$G$11:$L$25,4),IF(AND(H367>1999,H367<2002),VLOOKUP(I367,Feuil1!$G$11:$L$25,3),VLOOKUP(I367,Feuil1!$G$11:$L$25,2)))))))","v":"FS+75"},242.90538616372677,null," ",{"$f":"T367-HLOOKUP(X367,Feuil1!$C$1:$BL$10,2,FALSE)","v":116},{"$f":"T367-HLOOKUP(X367,Feuil1!$C$1:$BL$10,3,FALSE)","v":106},{"$f":"T367-HLOOKUP(X367,Feuil1!$C$1:$BL$10,4,FALSE)","v":91},{"$f":"T367-HLOOKUP(X367,Feuil1!$C$1:$BL$10,5,FALSE)","v":76},{"$f":"T367-HLOOKUP(X367,Feuil1!$C$1:$BL$10,6,FALSE)","v":66},{"$f":"T367-HLOOKUP(X367,Feuil1!$C$1:$BL$10,7,FALSE)","v":46},{"$f":"T367-HLOOKUP(X367,Feuil1!$C$1:$BL$10,8,FALSE)","v":26},{"$f":"T367-HLOOKUP(X367,Feuil1!$C$1:$BL$10,9,FALSE)","v":6},{"$f":"T367-HLOOKUP(X367,Feuil1!$C$1:$BL$10,10,FALSE)","v":-9},null,null,null,null,null,null,"INTA +"]
["F","CO","CEN",3,31734,"YAMECHI","Madeleine",1982,83.84,"CM Orléans","F",88,90,-94,90,110,113,-115,113,203,35.319999999999993,"INTB +",13,{"$f":"IF(I368=\"\",\"\",IF(A368=\"H\",IF(OR(H368=\"SEN\",H368<1995),VLOOKUP(I368,Feuil1!$A$11:$F$29,6),IF(AND(H368>1994,H368<1998),VLOOKUP(I368,Feuil1!$A$11:$F$29,5),IF(AND(H368>1997,H368<2000),VLOOKUP(I368,Feuil1!$A$11:$F$29,4),IF(AND(H368>1999,H368<2002),VLOOKUP(I368,Feuil1!$A$11:$F$29,3),VLOOKUP(I368,Feuil1!$A$11:$F$29,2))))),IF(OR(H368=\"SEN\",H368<1995),VLOOKUP(I368,Feuil1!$G$11:$L$25,6),IF(AND(H368>1994,H368<1998),VLOOKUP(I368,Feuil1!$G$11:$L$25,5),IF(AND(H368>1997,H368<2000),VLOOKUP(I368,Feuil1!$G$11:$L$25,4),IF(AND(H368>1999,H368<2002),VLOOKUP(I368,Feuil1!$G$11:$L$25,3),VLOOKUP(I368,Feuil1!$G$11:$L$25,2)))))))","v":"FS+75"},230.24320663858629,null," ",{"$f":"T368-HLOOKUP(X368,Feuil1!$C$1:$BL$10,2,FALSE)","v":103},{"$f":"T368-HLOOKUP(X368,Feuil1!$C$1:$BL$10,3,FALSE)","v":93},{"$f":"T368-HLOOKUP(X368,Feuil1!$C$1:$BL$10,4,FALSE)","v":78},{"$f":"T368-HLOOKUP(X368,Feuil1!$C$1:$BL$10,5,FALSE)","v":63},{"$f":"T368-HLOOKUP(X368,Feuil1!$C$1:$BL$10,6,FALSE)","v":53},{"$f":"T368-HLOOKUP(X368,Feuil1!$C$1:$BL$10,7,FALSE)","v":33},{"$f":"T368-HLOOKUP(X368,Feuil1!$C$1:$BL$10,8,FALSE)","v":13},{"$f":"T368-HLOOKUP(X368,Feuil1!$C$1:$BL$10,9,FALSE)","v":-7},{"$f":"T368-HLOOKUP(X368,Feuil1!$C$1:$BL$10,10,FALSE)","v":-22},null,null,null,null,null,null,"INTB +"]
["F","NE","BOU",4,378763,"MYENGA","Hélène",1984,84,"HMDB21","CAM",80,85,-87,85,108,111,-115,111,196,28,"INTB +",6,{"$f":"IF(I369=\"\",\"\",IF(A369=\"H\",IF(OR(H369=\"SEN\",H369<1995),VLOOKUP(I369,Feuil1!$A$11:$F$29,6),IF(AND(H369>1994,H369<1998),VLOOKUP(I369,Feuil1!$A$11:$F$29,5),IF(AND(H369>1997,H369<2000),VLOOKUP(I369,Feuil1!$A$11:$F$29,4),IF(AND(H369>1999,H369<2002),VLOOKUP(I369,Feuil1!$A$11:$F$29,3),VLOOKUP(I369,Feuil1!$A$11:$F$29,2))))),IF(OR(H369=\"SEN\",H369<1995),VLOOKUP(I369,Feuil1!$G$11:$L$25,6),IF(AND(H369>1994,H369<1998),VLOOKUP(I369,Feuil1!$G$11:$L$25,5),IF(AND(H369>1997,H369<2000),VLOOKUP(I369,Feuil1!$G$11:$L$25,4),IF(AND(H369>1999,H369<2002),VLOOKUP(I369,Feuil1!$G$11:$L$25,3),VLOOKUP(I369,Feuil1!$G$11:$L$25,2)))))))","v":"FS+75"},222.11640024516288,null," ",{"$f":"T369-HLOOKUP(X369,Feuil1!$C$1:$BL$10,2,FALSE)","v":96},{"$f":"T369-HLOOKUP(X369,Feuil1!$C$1:$BL$10,3,FALSE)","v":86},{"$f":"T369-HLOOKUP(X369,Feuil1!$C$1:$BL$10,4,FALSE)","v":71},{"$f":"T369-HLOOKUP(X369,Feuil1!$C$1:$BL$10,5,FALSE)","v":56},{"$f":"T369-HLOOKUP(X369,Feuil1!$C$1:$BL$10,6,FALSE)","v":46},{"$f":"T369-HLOOKUP(X369,Feuil1!$C$1:$BL$10,7,FALSE)","v":26},{"$f":"T369-HLOOKUP(X369,Feuil1!$C$1:$BL$10,8,FALSE)","v":6},{"$f":"T369-HLOOKUP(X369,Feuil1!$C$1:$BL$10,9,FALSE)","v":-14},{"$f":"T369-HLOOKUP(X369,Feuil1!$C$1:$BL$10,10,FALSE)","v":-29},null,null,null,null,null,null,"INTB +"]
["F","NE","BOU",5,357580,"ELUARD","Judith",1983,77.8,"HMDB21","F",60,63,66,66,90,95,-100,95,161,5.4000000000000057,"FED +",11,{"$f":"IF(I370=\"\",\"\",IF(A370=\"H\",IF(OR(H370=\"SEN\",H370<1995),VLOOKUP(I370,Feuil1!$A$11:$F$29,6),IF(AND(H370>1994,H370<1998),VLOOKUP(I370,Feuil1!$A$11:$F$29,5),IF(AND(H370>1997,H370<2000),VLOOKUP(I370,Feuil1!$A$11:$F$29,4),IF(AND(H370>1999,H370<2002),VLOOKUP(I370,Feuil1!$A$11:$F$29,3),VLOOKUP(I370,Feuil1!$A$11:$F$29,2))))),IF(OR(H370=\"SEN\",H370<1995),VLOOKUP(I370,Feuil1!$G$11:$L$25,6),IF(AND(H370>1994,H370<1998),VLOOKUP(I370,Feuil1!$G$11:$L$25,5),IF(AND(H370>1997,H370<2000),VLOOKUP(I370,Feuil1!$G$11:$L$25,4),IF(AND(H370>1999,H370<2002),VLOOKUP(I370,Feuil1!$G$11:$L$25,3),VLOOKUP(I370,Feuil1!$G$11:$L$25,2)))))))","v":"FS+75"},189.1686256262812,null," ",{"$f":"T370-HLOOKUP(X370,Feuil1!$C$1:$BL$10,2,FALSE)","v":61},{"$f":"T370-HLOOKUP(X370,Feuil1!$C$1:$BL$10,3,FALSE)","v":51},{"$f":"T370-HLOOKUP(X370,Feuil1!$C$1:$BL$10,4,FALSE)","v":36},{"$f":"T370-HLOOKUP(X370,Feuil1!$C$1:$BL$10,5,FALSE)","v":21},{"$f":"T370-HLOOKUP(X370,Feuil1!$C$1:$BL$10,6,FALSE)","v":11},{"$f":"T370-HLOOKUP(X370,Feuil1!$C$1:$BL$10,7,FALSE)","v":-9},{"$f":"T370-HLOOKUP(X370,Feuil1!$C$1:$BL$10,8,FALSE)","v":-29},{"$f":"T370-HLOOKUP(X370,Feuil1!$C$1:$BL$10,9,FALSE)","v":-49},{"$f":"T370-HLOOKUP(X370,Feuil1!$C$1:$BL$10,10,FALSE)","v":-64},null,null,null,null,null,null,"FED +"]
["F","NE","ALS",6,134752,"CHRISTNACHER","ADELINE",1992,77.599999999999994,"ASPTT Strasbourg","F",62,66,69,69,79,84,-86,84,153,-2.1999999999999886,"FED +",3,{"$f":"IF(I371=\"\",\"\",IF(A371=\"H\",IF(OR(H371=\"SEN\",H371<1995),VLOOKUP(I371,Feuil1!$A$11:$F$29,6),IF(AND(H371>1994,H371<1998),VLOOKUP(I371,Feuil1!$A$11:$F$29,5),IF(AND(H371>1997,H371<2000),VLOOKUP(I371,Feuil1!$A$11:$F$29,4),IF(AND(H371>1999,H371<2002),VLOOKUP(I371,Feuil1!$A$11:$F$29,3),VLOOKUP(I371,Feuil1!$A$11:$F$29,2))))),IF(OR(H371=\"SEN\",H371<1995),VLOOKUP(I371,Feuil1!$G$11:$L$25,6),IF(AND(H371>1994,H371<1998),VLOOKUP(I371,Feuil1!$G$11:$L$25,5),IF(AND(H371>1997,H371<2000),VLOOKUP(I371,Feuil1!$G$11:$L$25,4),IF(AND(H371>1999,H371<2002),VLOOKUP(I371,Feuil1!$G$11:$L$25,3),VLOOKUP(I371,Feuil1!$G$11:$L$25,2)))))))","v":"FS+75"},180.00152813799374,null," ",{"$f":"T371-HLOOKUP(X371,Feuil1!$C$1:$BL$10,2,FALSE)","v":53},{"$f":"T371-HLOOKUP(X371,Feuil1!$C$1:$BL$10,3,FALSE)","v":43},{"$f":"T371-HLOOKUP(X371,Feuil1!$C$1:$BL$10,4,FALSE)","v":28},{"$f":"T371-HLOOKUP(X371,Feuil1!$C$1:$BL$10,5,FALSE)","v":13},{"$f":"T371-HLOOKUP(X371,Feuil1!$C$1:$BL$10,6,FALSE)","v":3},{"$f":"T371-HLOOKUP(X371,Feuil1!$C$1:$BL$10,7,FALSE)","v":-17},{"$f":"T371-HLOOKUP(X371,Feuil1!$C$1:$BL$10,8,FALSE)","v":-37},{"$f":"T371-HLOOKUP(X371,Feuil1!$C$1:$BL$10,9,FALSE)","v":-57},{"$f":"T371-HLOOKUP(X371,Feuil1!$C$1:$BL$10,10,FALSE)","v":-72},null,null,null,null,null,null,"FED +"]
["F","N","IDF",7,45169,"DRENO","EVA",1985,81,"CHAVILLE","F",60,64,67,67,80,85,-90,85,152,-10,"FED +",2,{"$f":"IF(I372=\"\",\"\",IF(A372=\"H\",IF(OR(H372=\"SEN\",H372<1995),VLOOKUP(I372,Feuil1!$A$11:$F$29,6),IF(AND(H372>1994,H372<1998),VLOOKUP(I372,Feuil1!$A$11:$F$29,5),IF(AND(H372>1997,H372<2000),VLOOKUP(I372,Feuil1!$A$11:$F$29,4),IF(AND(H372>1999,H372<2002),VLOOKUP(I372,Feuil1!$A$11:$F$29,3),VLOOKUP(I372,Feuil1!$A$11:$F$29,2))))),IF(OR(H372=\"SEN\",H372<1995),VLOOKUP(I372,Feuil1!$G$11:$L$25,6),IF(AND(H372>1994,H372<1998),VLOOKUP(I372,Feuil1!$G$11:$L$25,5),IF(AND(H372>1997,H372<2000),VLOOKUP(I372,Feuil1!$G$11:$L$25,4),IF(AND(H372>1999,H372<2002),VLOOKUP(I372,Feuil1!$G$11:$L$25,3),VLOOKUP(I372,Feuil1!$G$11:$L$25,2)))))))","v":"FS+75"},175.13221973334993,null," ",{"$f":"T372-HLOOKUP(X372,Feuil1!$C$1:$BL$10,2,FALSE)","v":52},{"$f":"T372-HLOOKUP(X372,Feuil1!$C$1:$BL$10,3,FALSE)","v":42},{"$f":"T372-HLOOKUP(X372,Feuil1!$C$1:$BL$10,4,FALSE)","v":27},{"$f":"T372-HLOOKUP(X372,Feuil1!$C$1:$BL$10,5,FALSE)","v":12},{"$f":"T372-HLOOKUP(X372,Feuil1!$C$1:$BL$10,6,FALSE)","v":2},{"$f":"T372-HLOOKUP(X372,Feuil1!$C$1:$BL$10,7,FALSE)","v":-18},{"$f":"T372-HLOOKUP(X372,Feuil1!$C$1:$BL$10,8,FALSE)","v":-38},{"$f":"T372-HLOOKUP(X372,Feuil1!$C$1:$BL$10,9,FALSE)","v":-58},{"$f":"T372-HLOOKUP(X372,Feuil1!$C$1:$BL$10,10,FALSE)","v":-73},null,null,null,null,null,null,"FED +"]
["F","NE","ALS",8,68212,"FARNY","MELANIE",1991,89.4,"ASPTT Strasbourg","F",54,57,59,59,69,72,75,75,134,-44.800000000000011,"REG +",9,{"$f":"IF(I373=\"\",\"\",IF(A373=\"H\",IF(OR(H373=\"SEN\",H373<1995),VLOOKUP(I373,Feuil1!$A$11:$F$29,6),IF(AND(H373>1994,H373<1998),VLOOKUP(I373,Feuil1!$A$11:$F$29,5),IF(AND(H373>1997,H373<2000),VLOOKUP(I373,Feuil1!$A$11:$F$29,4),IF(AND(H373>1999,H373<2002),VLOOKUP(I373,Feuil1!$A$11:$F$29,3),VLOOKUP(I373,Feuil1!$A$11:$F$29,2))))),IF(OR(H373=\"SEN\",H373<1995),VLOOKUP(I373,Feuil1!$G$11:$L$25,6),IF(AND(H373>1994,H373<1998),VLOOKUP(I373,Feuil1!$G$11:$L$25,5),IF(AND(H373>1997,H373<2000),VLOOKUP(I373,Feuil1!$G$11:$L$25,4),IF(AND(H373>1999,H373<2002),VLOOKUP(I373,Feuil1!$G$11:$L$25,3),VLOOKUP(I373,Feuil1!$G$11:$L$25,2)))))))","v":"FS+75"},147.95802013430637,null," ",{"$f":"T373-HLOOKUP(X373,Feuil1!$C$1:$BL$10,2,FALSE)","v":34},{"$f":"T373-HLOOKUP(X373,Feuil1!$C$1:$BL$10,3,FALSE)","v":24},{"$f":"T373-HLOOKUP(X373,Feuil1!$C$1:$BL$10,4,FALSE)","v":9},{"$f":"T373-HLOOKUP(X373,Feuil1!$C$1:$BL$10,5,FALSE)","v":-6},{"$f":"T373-HLOOKUP(X373,Feuil1!$C$1:$BL$10,6,FALSE)","v":-16},{"$f":"T373-HLOOKUP(X373,Feuil1!$C$1:$BL$10,7,FALSE)","v":-36},{"$f":"T373-HLOOKUP(X373,Feuil1!$C$1:$BL$10,8,FALSE)","v":-56},{"$f":"T373-HLOOKUP(X373,Feuil1!$C$1:$BL$10,9,FALSE)","v":-76},{"$f":"T373-HLOOKUP(X373,Feuil1!$C$1:$BL$10,10,FALSE)","v":-91},null,null,null,null,null,null,"REG +"]
["F","DOM","REU",9,250372,"MALOTO","MIKAELLA",1993,90.86,"CSPJ St Denis","F",55,-58,58,58,65,70,75,75,133,-48.72,"REG +",8,{"$f":"IF(I374=\"\",\"\",IF(A374=\"H\",IF(OR(H374=\"SEN\",H374<1995),VLOOKUP(I374,Feuil1!$A$11:$F$29,6),IF(AND(H374>1994,H374<1998),VLOOKUP(I374,Feuil1!$A$11:$F$29,5),IF(AND(H374>1997,H374<2000),VLOOKUP(I374,Feuil1!$A$11:$F$29,4),IF(AND(H374>1999,H374<2002),VLOOKUP(I374,Feuil1!$A$11:$F$29,3),VLOOKUP(I374,Feuil1!$A$11:$F$29,2))))),IF(OR(H374=\"SEN\",H374<1995),VLOOKUP(I374,Feuil1!$G$11:$L$25,6),IF(AND(H374>1994,H374<1998),VLOOKUP(I374,Feuil1!$G$11:$L$25,5),IF(AND(H374>1997,H374<2000),VLOOKUP(I374,Feuil1!$G$11:$L$25,4),IF(AND(H374>1999,H374<2002),VLOOKUP(I374,Feuil1!$G$11:$L$25,3),VLOOKUP(I374,Feuil1!$G$11:$L$25,2)))))))","v":"FS+75"},145.93683274790104,null," ",{"$f":"T374-HLOOKUP(X374,Feuil1!$C$1:$BL$10,2,FALSE)","v":33},{"$f":"T374-HLOOKUP(X374,Feuil1!$C$1:$BL$10,3,FALSE)","v":23},{"$f":"T374-HLOOKUP(X374,Feuil1!$C$1:$BL$10,4,FALSE)","v":8},{"$f":"T374-HLOOKUP(X374,Feuil1!$C$1:$BL$10,5,FALSE)","v":-7},{"$f":"T374-HLOOKUP(X374,Feuil1!$C$1:$BL$10,6,FALSE)","v":-17},{"$f":"T374-HLOOKUP(X374,Feuil1!$C$1:$BL$10,7,FALSE)","v":-37},{"$f":"T374-HLOOKUP(X374,Feuil1!$C$1:$BL$10,8,FALSE)","v":-57},{"$f":"T374-HLOOKUP(X374,Feuil1!$C$1:$BL$10,9,FALSE)","v":-77},{"$f":"T374-HLOOKUP(X374,Feuil1!$C$1:$BL$10,10,FALSE)","v":-92},null,null,null,null,null,null,"REG +"]
["F","NE","ALS",10,306844,"HUBERTY","LAETITIA",1983,76.5,"ASPTT Strasbourg","F",46,49,51,51,62,65,-67,65,116,-37,"DEP +",6,{"$f":"IF(I375=\"\",\"\",IF(A375=\"H\",IF(OR(H375=\"SEN\",H375<1995),VLOOKUP(I375,Feuil1!$A$11:$F$29,6),IF(AND(H375>1994,H375<1998),VLOOKUP(I375,Feuil1!$A$11:$F$29,5),IF(AND(H375>1997,H375<2000),VLOOKUP(I375,Feuil1!$A$11:$F$29,4),IF(AND(H375>1999,H375<2002),VLOOKUP(I375,Feuil1!$A$11:$F$29,3),VLOOKUP(I375,Feuil1!$A$11:$F$29,2))))),IF(OR(H375=\"SEN\",H375<1995),VLOOKUP(I375,Feuil1!$G$11:$L$25,6),IF(AND(H375>1994,H375<1998),VLOOKUP(I375,Feuil1!$G$11:$L$25,5),IF(AND(H375>1997,H375<2000),VLOOKUP(I375,Feuil1!$G$11:$L$25,4),IF(AND(H375>1999,H375<2002),VLOOKUP(I375,Feuil1!$G$11:$L$25,3),VLOOKUP(I375,Feuil1!$G$11:$L$25,2)))))))","v":"FS+75"},137.46684864780568,null," ",{"$f":"T375-HLOOKUP(X375,Feuil1!$C$1:$BL$10,2,FALSE)","v":16},{"$f":"T375-HLOOKUP(X375,Feuil1!$C$1:$BL$10,3,FALSE)","v":6},{"$f":"T375-HLOOKUP(X375,Feuil1!$C$1:$BL$10,4,FALSE)","v":-9},{"$f":"T375-HLOOKUP(X375,Feuil1!$C$1:$BL$10,5,FALSE)","v":-24},{"$f":"T375-HLOOKUP(X375,Feuil1!$C$1:$BL$10,6,FALSE)","v":-34},{"$f":"T375-HLOOKUP(X375,Feuil1!$C$1:$BL$10,7,FALSE)","v":-54},{"$f":"T375-HLOOKUP(X375,Feuil1!$C$1:$BL$10,8,FALSE)","v":-74},{"$f":"T375-HLOOKUP(X375,Feuil1!$C$1:$BL$10,9,FALSE)","v":-94},{"$f":"T375-HLOOKUP(X375,Feuil1!$C$1:$BL$10,10,FALSE)","v":-109},null,null,null,null,null,null,"DEP +"]
["F","SEST","CAZ",11,377639,"CLAPIER","Hélène",1979,78.900000000000006,"AS Monaco","F",45,48,50,50,60,63,66,66,116,-41.800000000000011,"DEP +",6,{"$f":"IF(I376=\"\",\"\",IF(A376=\"H\",IF(OR(H376=\"SEN\",H376<1995),VLOOKUP(I376,Feuil1!$A$11:$F$29,6),IF(AND(H376>1994,H376<1998),VLOOKUP(I376,Feuil1!$A$11:$F$29,5),IF(AND(H376>1997,H376<2000),VLOOKUP(I376,Feuil1!$A$11:$F$29,4),IF(AND(H376>1999,H376<2002),VLOOKUP(I376,Feuil1!$A$11:$F$29,3),VLOOKUP(I376,Feuil1!$A$11:$F$29,2))))),IF(OR(H376=\"SEN\",H376<1995),VLOOKUP(I376,Feuil1!$G$11:$L$25,6),IF(AND(H376>1994,H376<1998),VLOOKUP(I376,Feuil1!$G$11:$L$25,5),IF(AND(H376>1997,H376<2000),VLOOKUP(I376,Feuil1!$G$11:$L$25,4),IF(AND(H376>1999,H376<2002),VLOOKUP(I376,Feuil1!$G$11:$L$25,3),VLOOKUP(I376,Feuil1!$G$11:$L$25,2)))))))","v":"FS+75"},135.34987571188935,null," ",{"$f":"T376-HLOOKUP(X376,Feuil1!$C$1:$BL$10,2,FALSE)","v":16},{"$f":"T376-HLOOKUP(X376,Feuil1!$C$1:$BL$10,3,FALSE)","v":6},{"$f":"T376-HLOOKUP(X376,Feuil1!$C$1:$BL$10,4,FALSE)","v":-9},{"$f":"T376-HLOOKUP(X376,Feuil1!$C$1:$BL$10,5,FALSE)","v":-24},{"$f":"T376-HLOOKUP(X376,Feuil1!$C$1:$BL$10,6,FALSE)","v":-34},{"$f":"T376-HLOOKUP(X376,Feuil1!$C$1:$BL$10,7,FALSE)","v":-54},{"$f":"T376-HLOOKUP(X376,Feuil1!$C$1:$BL$10,8,FALSE)","v":-74},{"$f":"T376-HLOOKUP(X376,Feuil1!$C$1:$BL$10,9,FALSE)","v":-94},{"$f":"T376-HLOOKUP(X376,Feuil1!$C$1:$BL$10,10,FALSE)","v":-109},null,null,null,null,null,null,"DEP +"]
["F","NORD","NPC",12,351935,"DEPUYDT","Catherine",1988,94.5,"C.A.ROSENDAEL","F",45,-50,50,50,57,61,65,65,115,-74,"DEP +",5,{"$f":"IF(I377=\"\",\"\",IF(A377=\"H\",IF(OR(H377=\"SEN\",H377<1995),VLOOKUP(I377,Feuil1!$A$11:$F$29,6),IF(AND(H377>1994,H377<1998),VLOOKUP(I377,Feuil1!$A$11:$F$29,5),IF(AND(H377>1997,H377<2000),VLOOKUP(I377,Feuil1!$A$11:$F$29,4),IF(AND(H377>1999,H377<2002),VLOOKUP(I377,Feuil1!$A$11:$F$29,3),VLOOKUP(I377,Feuil1!$A$11:$F$29,2))))),IF(OR(H377=\"SEN\",H377<1995),VLOOKUP(I377,Feuil1!$G$11:$L$25,6),IF(AND(H377>1994,H377<1998),VLOOKUP(I377,Feuil1!$G$11:$L$25,5),IF(AND(H377>1997,H377<2000),VLOOKUP(I377,Feuil1!$G$11:$L$25,4),IF(AND(H377>1999,H377<2002),VLOOKUP(I377,Feuil1!$G$11:$L$25,3),VLOOKUP(I377,Feuil1!$G$11:$L$25,2)))))))","v":"FS+75"},124.38939702804215,null," ",{"$f":"T377-HLOOKUP(X377,Feuil1!$C$1:$BL$10,2,FALSE)","v":15},{"$f":"T377-HLOOKUP(X377,Feuil1!$C$1:$BL$10,3,FALSE)","v":5},{"$f":"T377-HLOOKUP(X377,Feuil1!$C$1:$BL$10,4,FALSE)","v":-10},{"$f":"T377-HLOOKUP(X377,Feuil1!$C$1:$BL$10,5,FALSE)","v":-25},{"$f":"T377-HLOOKUP(X377,Feuil1!$C$1:$BL$10,6,FALSE)","v":-35},{"$f":"T377-HLOOKUP(X377,Feuil1!$C$1:$BL$10,7,FALSE)","v":-55},{"$f":"T377-HLOOKUP(X377,Feuil1!$C$1:$BL$10,8,FALSE)","v":-75},{"$f":"T377-HLOOKUP(X377,Feuil1!$C$1:$BL$10,9,FALSE)","v":-95},{"$f":"T377-HLOOKUP(X377,Feuil1!$C$1:$BL$10,10,FALSE)","v":-110},null,null,null,null,null,null,"DEP +"]
["F","NE","ALS",13,360265,"MERTZ","DEBORAH",1992,75.599999999999994,"US Wittenheim","F",49,-52,-55,49,63,-66,-66,63,112,-39.199999999999989,"DEP +",2,{"$f":"IF(I378=\"\",\"\",IF(A378=\"H\",IF(OR(H378=\"SEN\",H378<1995),VLOOKUP(I378,Feuil1!$A$11:$F$29,6),IF(AND(H378>1994,H378<1998),VLOOKUP(I378,Feuil1!$A$11:$F$29,5),IF(AND(H378>1997,H378<2000),VLOOKUP(I378,Feuil1!$A$11:$F$29,4),IF(AND(H378>1999,H378<2002),VLOOKUP(I378,Feuil1!$A$11:$F$29,3),VLOOKUP(I378,Feuil1!$A$11:$F$29,2))))),IF(OR(H378=\"SEN\",H378<1995),VLOOKUP(I378,Feuil1!$G$11:$L$25,6),IF(AND(H378>1994,H378<1998),VLOOKUP(I378,Feuil1!$G$11:$L$25,5),IF(AND(H378>1997,H378<2000),VLOOKUP(I378,Feuil1!$G$11:$L$25,4),IF(AND(H378>1999,H378<2002),VLOOKUP(I378,Feuil1!$G$11:$L$25,3),VLOOKUP(I378,Feuil1!$G$11:$L$25,2)))))))","v":"FS+75"},133.54443214745396,null," ",{"$f":"T378-HLOOKUP(X378,Feuil1!$C$1:$BL$10,2,FALSE)","v":12},{"$f":"T378-HLOOKUP(X378,Feuil1!$C$1:$BL$10,3,FALSE)","v":2},{"$f":"T378-HLOOKUP(X378,Feuil1!$C$1:$BL$10,4,FALSE)","v":-13},{"$f":"T378-HLOOKUP(X378,Feuil1!$C$1:$BL$10,5,FALSE)","v":-28},{"$f":"T378-HLOOKUP(X378,Feuil1!$C$1:$BL$10,6,FALSE)","v":-38},{"$f":"T378-HLOOKUP(X378,Feuil1!$C$1:$BL$10,7,FALSE)","v":-58},{"$f":"T378-HLOOKUP(X378,Feuil1!$C$1:$BL$10,8,FALSE)","v":-78},{"$f":"T378-HLOOKUP(X378,Feuil1!$C$1:$BL$10,9,FALSE)","v":-98},{"$f":"T378-HLOOKUP(X378,Feuil1!$C$1:$BL$10,10,FALSE)","v":-113},null,null,null,null,null,null,"DEP +"]
["F","ZCO","BRE",14,395922,"NOVAR","Céline",1991,91.9,"Vannes AC","F",43,46,49,49,57,60,63,63,112,-71.800000000000011,"DEP +",2,{"$f":"IF(I379=\"\",\"\",IF(A379=\"H\",IF(OR(H379=\"SEN\",H379<1995),VLOOKUP(I379,Feuil1!$A$11:$F$29,6),IF(AND(H379>1994,H379<1998),VLOOKUP(I379,Feuil1!$A$11:$F$29,5),IF(AND(H379>1997,H379<2000),VLOOKUP(I379,Feuil1!$A$11:$F$29,4),IF(AND(H379>1999,H379<2002),VLOOKUP(I379,Feuil1!$A$11:$F$29,3),VLOOKUP(I379,Feuil1!$A$11:$F$29,2))))),IF(OR(H379=\"SEN\",H379<1995),VLOOKUP(I379,Feuil1!$G$11:$L$25,6),IF(AND(H379>1994,H379<1998),VLOOKUP(I379,Feuil1!$G$11:$L$25,5),IF(AND(H379>1997,H379<2000),VLOOKUP(I379,Feuil1!$G$11:$L$25,4),IF(AND(H379>1999,H379<2002),VLOOKUP(I379,Feuil1!$G$11:$L$25,3),VLOOKUP(I379,Feuil1!$G$11:$L$25,2)))))))","v":"FS+75"},122.36947694327675,null," ",{"$f":"T379-HLOOKUP(X379,Feuil1!$C$1:$BL$10,2,FALSE)","v":12},{"$f":"T379-HLOOKUP(X379,Feuil1!$C$1:$BL$10,3,FALSE)","v":2},{"$f":"T379-HLOOKUP(X379,Feuil1!$C$1:$BL$10,4,FALSE)","v":-13},{"$f":"T379-HLOOKUP(X379,Feuil1!$C$1:$BL$10,5,FALSE)","v":-28},{"$f":"T379-HLOOKUP(X379,Feuil1!$C$1:$BL$10,6,FALSE)","v":-38},{"$f":"T379-HLOOKUP(X379,Feuil1!$C$1:$BL$10,7,FALSE)","v":-58},{"$f":"T379-HLOOKUP(X379,Feuil1!$C$1:$BL$10,8,FALSE)","v":-78},{"$f":"T379-HLOOKUP(X379,Feuil1!$C$1:$BL$10,9,FALSE)","v":-98},{"$f":"T379-HLOOKUP(X379,Feuil1!$C$1:$BL$10,10,FALSE)","v":-113},null,null,null,null,null,null,"DEP +"]
["F","CO","PDL",15,248274,"BODARD","Suzanne",1964,84.2,"Saint Herblain","F",46,48,-50,48,57,60,63,63,111,-57.400000000000006,"DEP +",1,{"$f":"IF(I380=\"\",\"\",IF(A380=\"H\",IF(OR(H380=\"SEN\",H380<1995),VLOOKUP(I380,Feuil1!$A$11:$F$29,6),IF(AND(H380>1994,H380<1998),VLOOKUP(I380,Feuil1!$A$11:$F$29,5),IF(AND(H380>1997,H380<2000),VLOOKUP(I380,Feuil1!$A$11:$F$29,4),IF(AND(H380>1999,H380<2002),VLOOKUP(I380,Feuil1!$A$11:$F$29,3),VLOOKUP(I380,Feuil1!$A$11:$F$29,2))))),IF(OR(H380=\"SEN\",H380<1995),VLOOKUP(I380,Feuil1!$G$11:$L$25,6),IF(AND(H380>1994,H380<1998),VLOOKUP(I380,Feuil1!$G$11:$L$25,5),IF(AND(H380>1997,H380<2000),VLOOKUP(I380,Feuil1!$G$11:$L$25,4),IF(AND(H380>1999,H380<2002),VLOOKUP(I380,Feuil1!$G$11:$L$25,3),VLOOKUP(I380,Feuil1!$G$11:$L$25,2)))))))","v":"FS+75"},125.65866683528505,null," ",{"$f":"T380-HLOOKUP(X380,Feuil1!$C$1:$BL$10,2,FALSE)","v":11},{"$f":"T380-HLOOKUP(X380,Feuil1!$C$1:$BL$10,3,FALSE)","v":1},{"$f":"T380-HLOOKUP(X380,Feuil1!$C$1:$BL$10,4,FALSE)","v":-14},{"$f":"T380-HLOOKUP(X380,Feuil1!$C$1:$BL$10,5,FALSE)","v":-29},{"$f":"T380-HLOOKUP(X380,Feuil1!$C$1:$BL$10,6,FALSE)","v":-39},{"$f":"T380-HLOOKUP(X380,Feuil1!$C$1:$BL$10,7,FALSE)","v":-59},{"$f":"T380-HLOOKUP(X380,Feuil1!$C$1:$BL$10,8,FALSE)","v":-79},{"$f":"T380-HLOOKUP(X380,Feuil1!$C$1:$BL$10,9,FALSE)","v":-99},{"$f":"T380-HLOOKUP(X380,Feuil1!$C$1:$BL$10,10,FALSE)","v":-114},null,null,null,null,null,null,"DEP +"]
["F","N","IDF",16,357796,"ARNOULD","AMELIE",1983,79.8,"US METRO","F",45,-50,50,50,60,-67,-67,60,110,-49.599999999999994,"DEP +",0,{"$f":"IF(I381=\"\",\"\",IF(A381=\"H\",IF(OR(H381=\"SEN\",H381<1995),VLOOKUP(I381,Feuil1!$A$11:$F$29,6),IF(AND(H381>1994,H381<1998),VLOOKUP(I381,Feuil1!$A$11:$F$29,5),IF(AND(H381>1997,H381<2000),VLOOKUP(I381,Feuil1!$A$11:$F$29,4),IF(AND(H381>1999,H381<2002),VLOOKUP(I381,Feuil1!$A$11:$F$29,3),VLOOKUP(I381,Feuil1!$A$11:$F$29,2))))),IF(OR(H381=\"SEN\",H381<1995),VLOOKUP(I381,Feuil1!$G$11:$L$25,6),IF(AND(H381>1994,H381<1998),VLOOKUP(I381,Feuil1!$G$11:$L$25,5),IF(AND(H381>1997,H381<2000),VLOOKUP(I381,Feuil1!$G$11:$L$25,4),IF(AND(H381>1999,H381<2002),VLOOKUP(I381,Feuil1!$G$11:$L$25,3),VLOOKUP(I381,Feuil1!$G$11:$L$25,2)))))))","v":"FS+75"},127.64353038326678,null," ",{"$f":"T381-HLOOKUP(X381,Feuil1!$C$1:$BL$10,2,FALSE)","v":10},{"$f":"T381-HLOOKUP(X381,Feuil1!$C$1:$BL$10,3,FALSE)","v":0},{"$f":"T381-HLOOKUP(X381,Feuil1!$C$1:$BL$10,4,FALSE)","v":-15},{"$f":"T381-HLOOKUP(X381,Feuil1!$C$1:$BL$10,5,FALSE)","v":-30},{"$f":"T381-HLOOKUP(X381,Feuil1!$C$1:$BL$10,6,FALSE)","v":-40},{"$f":"T381-HLOOKUP(X381,Feuil1!$C$1:$BL$10,7,FALSE)","v":-60},{"$f":"T381-HLOOKUP(X381,Feuil1!$C$1:$BL$10,8,FALSE)","v":-80},{"$f":"T381-HLOOKUP(X381,Feuil1!$C$1:$BL$10,9,FALSE)","v":-100},{"$f":"T381-HLOOKUP(X381,Feuil1!$C$1:$BL$10,10,FALSE)","v":-115},null,null,null,null,null,null,"DEP +"]
["F","NE","CHA",17,363537,"GERIN ","Larissa",1974,120.1,"Reims HM","F",42,45,-51,45,52,60,65,65,110,-130.19999999999999,"DEP +",0,{"$f":"IF(I382=\"\",\"\",IF(A382=\"H\",IF(OR(H382=\"SEN\",H382<1995),VLOOKUP(I382,Feuil1!$A$11:$F$29,6),IF(AND(H382>1994,H382<1998),VLOOKUP(I382,Feuil1!$A$11:$F$29,5),IF(AND(H382>1997,H382<2000),VLOOKUP(I382,Feuil1!$A$11:$F$29,4),IF(AND(H382>1999,H382<2002),VLOOKUP(I382,Feuil1!$A$11:$F$29,3),VLOOKUP(I382,Feuil1!$A$11:$F$29,2))))),IF(OR(H382=\"SEN\",H382<1995),VLOOKUP(I382,Feuil1!$G$11:$L$25,6),IF(AND(H382>1994,H382<1998),VLOOKUP(I382,Feuil1!$G$11:$L$25,5),IF(AND(H382>1997,H382<2000),VLOOKUP(I382,Feuil1!$G$11:$L$25,4),IF(AND(H382>1999,H382<2002),VLOOKUP(I382,Feuil1!$G$11:$L$25,3),VLOOKUP(I382,Feuil1!$G$11:$L$25,2)))))))","v":"FS+75"},111.88953311226706,null," ",{"$f":"T382-HLOOKUP(X382,Feuil1!$C$1:$BL$10,2,FALSE)","v":10},{"$f":"T382-HLOOKUP(X382,Feuil1!$C$1:$BL$10,3,FALSE)","v":0},{"$f":"T382-HLOOKUP(X382,Feuil1!$C$1:$BL$10,4,FALSE)","v":-15},{"$f":"T382-HLOOKUP(X382,Feuil1!$C$1:$BL$10,5,FALSE)","v":-30},{"$f":"T382-HLOOKUP(X382,Feuil1!$C$1:$BL$10,6,FALSE)","v":-40},{"$f":"T382-HLOOKUP(X382,Feuil1!$C$1:$BL$10,7,FALSE)","v":-60},{"$f":"T382-HLOOKUP(X382,Feuil1!$C$1:$BL$10,8,FALSE)","v":-80},{"$f":"T382-HLOOKUP(X382,Feuil1!$C$1:$BL$10,9,FALSE)","v":-100},{"$f":"T382-HLOOKUP(X382,Feuil1!$C$1:$BL$10,10,FALSE)","v":-115},null,null,null,null,null,null,"DEP +"]
["F","SO","MPY",18,64384,"GRIMAL","Anne-Marie",1967,76.7,"MONTAUBAN HC","F",37,40,43,43,55,60,65,65,108,-45.400000000000006,"DEB ",8,{"$f":"IF(I383=\"\",\"\",IF(A383=\"H\",IF(OR(H383=\"SEN\",H383<1995),VLOOKUP(I383,Feuil1!$A$11:$F$29,6),IF(AND(H383>1994,H383<1998),VLOOKUP(I383,Feuil1!$A$11:$F$29,5),IF(AND(H383>1997,H383<2000),VLOOKUP(I383,Feuil1!$A$11:$F$29,4),IF(AND(H383>1999,H383<2002),VLOOKUP(I383,Feuil1!$A$11:$F$29,3),VLOOKUP(I383,Feuil1!$A$11:$F$29,2))))),IF(OR(H383=\"SEN\",H383<1995),VLOOKUP(I383,Feuil1!$G$11:$L$25,6),IF(AND(H383>1994,H383<1998),VLOOKUP(I383,Feuil1!$G$11:$L$25,5),IF(AND(H383>1997,H383<2000),VLOOKUP(I383,Feuil1!$G$11:$L$25,4),IF(AND(H383>1999,H383<2002),VLOOKUP(I383,Feuil1!$G$11:$L$25,3),VLOOKUP(I383,Feuil1!$G$11:$L$25,2)))))))","v":"FS+75"},127.81491931586149,null," ",{"$f":"T383-HLOOKUP(X383,Feuil1!$C$1:$BL$10,2,FALSE)","v":8},{"$f":"T383-HLOOKUP(X383,Feuil1!$C$1:$BL$10,3,FALSE)","v":-2},{"$f":"T383-HLOOKUP(X383,Feuil1!$C$1:$BL$10,4,FALSE)","v":-17},{"$f":"T383-HLOOKUP(X383,Feuil1!$C$1:$BL$10,5,FALSE)","v":-32},{"$f":"T383-HLOOKUP(X383,Feuil1!$C$1:$BL$10,6,FALSE)","v":-42},{"$f":"T383-HLOOKUP(X383,Feuil1!$C$1:$BL$10,7,FALSE)","v":-62},{"$f":"T383-HLOOKUP(X383,Feuil1!$C$1:$BL$10,8,FALSE)","v":-82},{"$f":"T383-HLOOKUP(X383,Feuil1!$C$1:$BL$10,9,FALSE)","v":-102},{"$f":"T383-HLOOKUP(X383,Feuil1!$C$1:$BL$10,10,FALSE)","v":-117},null,null,null,null,null,null,"DEB "]
["F","SEST","RAL",19,"\n 397889","MEBODO","Céline",1980,90,"CH Arbresle","F",40,48,-52,48,55,60,-65,60,108,-72,"DEB ",8,{"$f":"IF(I384=\"\",\"\",IF(A384=\"H\",IF(OR(H384=\"SEN\",H384<1995),VLOOKUP(I384,Feuil1!$A$11:$F$29,6),IF(AND(H384>1994,H384<1998),VLOOKUP(I384,Feuil1!$A$11:$F$29,5),IF(AND(H384>1997,H384<2000),VLOOKUP(I384,Feuil1!$A$11:$F$29,4),IF(AND(H384>1999,H384<2002),VLOOKUP(I384,Feuil1!$A$11:$F$29,3),VLOOKUP(I384,Feuil1!$A$11:$F$29,2))))),IF(OR(H384=\"SEN\",H384<1995),VLOOKUP(I384,Feuil1!$G$11:$L$25,6),IF(AND(H384>1994,H384<1998),VLOOKUP(I384,Feuil1!$G$11:$L$25,5),IF(AND(H384>1997,H384<2000),VLOOKUP(I384,Feuil1!$G$11:$L$25,4),IF(AND(H384>1999,H384<2002),VLOOKUP(I384,Feuil1!$G$11:$L$25,3),VLOOKUP(I384,Feuil1!$G$11:$L$25,2)))))))","v":"FS+75"},118.93875163951854,null," ",{"$f":"T384-HLOOKUP(X384,Feuil1!$C$1:$BL$10,2,FALSE)","v":8},{"$f":"T384-HLOOKUP(X384,Feuil1!$C$1:$BL$10,3,FALSE)","v":-2},{"$f":"T384-HLOOKUP(X384,Feuil1!$C$1:$BL$10,4,FALSE)","v":-17},{"$f":"T384-HLOOKUP(X384,Feuil1!$C$1:$BL$10,5,FALSE)","v":-32},{"$f":"T384-HLOOKUP(X384,Feuil1!$C$1:$BL$10,6,FALSE)","v":-42},{"$f":"T384-HLOOKUP(X384,Feuil1!$C$1:$BL$10,7,FALSE)","v":-62},{"$f":"T384-HLOOKUP(X384,Feuil1!$C$1:$BL$10,8,FALSE)","v":-82},{"$f":"T384-HLOOKUP(X384,Feuil1!$C$1:$BL$10,9,FALSE)","v":-102},{"$f":"T384-HLOOKUP(X384,Feuil1!$C$1:$BL$10,10,FALSE)","v":-117},null,null,null,null,null,null,"DEB "]
["F","N","IDF",20,395568,"RATSAVONG","VIRGINIE",1972,75.099999999999994,"MELUN","F",40,45,-48,45,60,-65,-65,60,105,-45.199999999999989,"DEB ",5,{"$f":"IF(I385=\"\",\"\",IF(A385=\"H\",IF(OR(H385=\"SEN\",H385<1995),VLOOKUP(I385,Feuil1!$A$11:$F$29,6),IF(AND(H385>1994,H385<1998),VLOOKUP(I385,Feuil1!$A$11:$F$29,5),IF(AND(H385>1997,H385<2000),VLOOKUP(I385,Feuil1!$A$11:$F$29,4),IF(AND(H385>1999,H385<2002),VLOOKUP(I385,Feuil1!$A$11:$F$29,3),VLOOKUP(I385,Feuil1!$A$11:$F$29,2))))),IF(OR(H385=\"SEN\",H385<1995),VLOOKUP(I385,Feuil1!$G$11:$L$25,6),IF(AND(H385>1994,H385<1998),VLOOKUP(I385,Feuil1!$G$11:$L$25,5),IF(AND(H385>1997,H385<2000),VLOOKUP(I385,Feuil1!$G$11:$L$25,4),IF(AND(H385>1999,H385<2002),VLOOKUP(I385,Feuil1!$G$11:$L$25,3),VLOOKUP(I385,Feuil1!$G$11:$L$25,2)))))))","v":"FS+75"},125.63587192213217,null," ",{"$f":"T385-HLOOKUP(X385,Feuil1!$C$1:$BL$10,2,FALSE)","v":5},{"$f":"T385-HLOOKUP(X385,Feuil1!$C$1:$BL$10,3,FALSE)","v":-5},{"$f":"T385-HLOOKUP(X385,Feuil1!$C$1:$BL$10,4,FALSE)","v":-20},{"$f":"T385-HLOOKUP(X385,Feuil1!$C$1:$BL$10,5,FALSE)","v":-35},{"$f":"T385-HLOOKUP(X385,Feuil1!$C$1:$BL$10,6,FALSE)","v":-45},{"$f":"T385-HLOOKUP(X385,Feuil1!$C$1:$BL$10,7,FALSE)","v":-65},{"$f":"T385-HLOOKUP(X385,Feuil1!$C$1:$BL$10,8,FALSE)","v":-85},{"$f":"T385-HLOOKUP(X385,Feuil1!$C$1:$BL$10,9,FALSE)","v":-105},{"$f":"T385-HLOOKUP(X385,Feuil1!$C$1:$BL$10,10,FALSE)","v":-120},null,null,null,null,null,null,"DEB "]
["F","NE","ALS",21,312822,"ROBERT","Manon",1992,77.099999999999994,"US Wittenheim","F",34,37,40,40,47,50,53,53,93,-61.199999999999989,"DEB ",-7,{"$f":"IF(I386=\"\",\"\",IF(A386=\"H\",IF(OR(H386=\"SEN\",H386<1995),VLOOKUP(I386,Feuil1!$A$11:$F$29,6),IF(AND(H386>1994,H386<1998),VLOOKUP(I386,Feuil1!$A$11:$F$29,5),IF(AND(H386>1997,H386<2000),VLOOKUP(I386,Feuil1!$A$11:$F$29,4),IF(AND(H386>1999,H386<2002),VLOOKUP(I386,Feuil1!$A$11:$F$29,3),VLOOKUP(I386,Feuil1!$A$11:$F$29,2))))),IF(OR(H386=\"SEN\",H386<1995),VLOOKUP(I386,Feuil1!$G$11:$L$25,6),IF(AND(H386>1994,H386<1998),VLOOKUP(I386,Feuil1!$G$11:$L$25,5),IF(AND(H386>1997,H386<2000),VLOOKUP(I386,Feuil1!$G$11:$L$25,4),IF(AND(H386>1999,H386<2002),VLOOKUP(I386,Feuil1!$G$11:$L$25,3),VLOOKUP(I386,Feuil1!$G$11:$L$25,2)))))))","v":"FS+75"},109.77103910095343,null," ",{"$f":"T386-HLOOKUP(X386,Feuil1!$C$1:$BL$10,2,FALSE)","v":-7},{"$f":"T386-HLOOKUP(X386,Feuil1!$C$1:$BL$10,3,FALSE)","v":-17},{"$f":"T386-HLOOKUP(X386,Feuil1!$C$1:$BL$10,4,FALSE)","v":-32},{"$f":"T386-HLOOKUP(X386,Feuil1!$C$1:$BL$10,5,FALSE)","v":-47},{"$f":"T386-HLOOKUP(X386,Feuil1!$C$1:$BL$10,6,FALSE)","v":-57},{"$f":"T386-HLOOKUP(X386,Feuil1!$C$1:$BL$10,7,FALSE)","v":-77},{"$f":"T386-HLOOKUP(X386,Feuil1!$C$1:$BL$10,8,FALSE)","v":-97},{"$f":"T386-HLOOKUP(X386,Feuil1!$C$1:$BL$10,9,FALSE)","v":-117},{"$f":"T386-HLOOKUP(X386,Feuil1!$C$1:$BL$10,10,FALSE)","v":-132},null,null,null,null,null,null,"DEB "]
["F","SO","MPY",22,376232,"ALBERTELLI","Anne - Camille",1986,75.2,"PAMIERS HC","F",30,35,-40,35,50,55,-60,55,90,-60.400000000000006,"DEB ",-10,{"$f":"IF(I387=\"\",\"\",IF(A387=\"H\",IF(OR(H387=\"SEN\",H387<1995),VLOOKUP(I387,Feuil1!$A$11:$F$29,6),IF(AND(H387>1994,H387<1998),VLOOKUP(I387,Feuil1!$A$11:$F$29,5),IF(AND(H387>1997,H387<2000),VLOOKUP(I387,Feuil1!$A$11:$F$29,4),IF(AND(H387>1999,H387<2002),VLOOKUP(I387,Feuil1!$A$11:$F$29,3),VLOOKUP(I387,Feuil1!$A$11:$F$29,2))))),IF(OR(H387=\"SEN\",H387<1995),VLOOKUP(I387,Feuil1!$G$11:$L$25,6),IF(AND(H387>1994,H387<1998),VLOOKUP(I387,Feuil1!$G$11:$L$25,5),IF(AND(H387>1997,H387<2000),VLOOKUP(I387,Feuil1!$G$11:$L$25,4),IF(AND(H387>1999,H387<2002),VLOOKUP(I387,Feuil1!$G$11:$L$25,3),VLOOKUP(I387,Feuil1!$G$11:$L$25,2)))))))","v":"FS+75"},107.61220950696193,null," ",{"$f":"T387-HLOOKUP(X387,Feuil1!$C$1:$BL$10,2,FALSE)","v":-10},{"$f":"T387-HLOOKUP(X387,Feuil1!$C$1:$BL$10,3,FALSE)","v":-20},{"$f":"T387-HLOOKUP(X387,Feuil1!$C$1:$BL$10,4,FALSE)","v":-35},{"$f":"T387-HLOOKUP(X387,Feuil1!$C$1:$BL$10,5,FALSE)","v":-50},{"$f":"T387-HLOOKUP(X387,Feuil1!$C$1:$BL$10,6,FALSE)","v":-60},{"$f":"T387-HLOOKUP(X387,Feuil1!$C$1:$BL$10,7,FALSE)","v":-80},{"$f":"T387-HLOOKUP(X387,Feuil1!$C$1:$BL$10,8,FALSE)","v":-100},{"$f":"T387-HLOOKUP(X387,Feuil1!$C$1:$BL$10,9,FALSE)","v":-120},{"$f":"T387-HLOOKUP(X387,Feuil1!$C$1:$BL$10,10,FALSE)","v":-135},null,null,null,null,null,null,"DEB "]
["F","SEST","CAZ",23,378194,"POCAS","Anne cathe",1980,78.900000000000006,"HC HYERES","F",35,-38,38,38,45,48,52,52,90,-67.800000000000011,"DEB ",-10,{"$f":"IF(I388=\"\",\"\",IF(A388=\"H\",IF(OR(H388=\"SEN\",H388<1995),VLOOKUP(I388,Feuil1!$A$11:$F$29,6),IF(AND(H388>1994,H388<1998),VLOOKUP(I388,Feuil1!$A$11:$F$29,5),IF(AND(H388>1997,H388<2000),VLOOKUP(I388,Feuil1!$A$11:$F$29,4),IF(AND(H388>1999,H388<2002),VLOOKUP(I388,Feuil1!$A$11:$F$29,3),VLOOKUP(I388,Feuil1!$A$11:$F$29,2))))),IF(OR(H388=\"SEN\",H388<1995),VLOOKUP(I388,Feuil1!$G$11:$L$25,6),IF(AND(H388>1994,H388<1998),VLOOKUP(I388,Feuil1!$G$11:$L$25,5),IF(AND(H388>1997,H388<2000),VLOOKUP(I388,Feuil1!$G$11:$L$25,4),IF(AND(H388>1999,H388<2002),VLOOKUP(I388,Feuil1!$G$11:$L$25,3),VLOOKUP(I388,Feuil1!$G$11:$L$25,2)))))))","v":"FS+75"},105.01283460405207,null," ",{"$f":"T388-HLOOKUP(X388,Feuil1!$C$1:$BL$10,2,FALSE)","v":-10},{"$f":"T388-HLOOKUP(X388,Feuil1!$C$1:$BL$10,3,FALSE)","v":-20},{"$f":"T388-HLOOKUP(X388,Feuil1!$C$1:$BL$10,4,FALSE)","v":-35},{"$f":"T388-HLOOKUP(X388,Feuil1!$C$1:$BL$10,5,FALSE)","v":-50},{"$f":"T388-HLOOKUP(X388,Feuil1!$C$1:$BL$10,6,FALSE)","v":-60},{"$f":"T388-HLOOKUP(X388,Feuil1!$C$1:$BL$10,7,FALSE)","v":-80},{"$f":"T388-HLOOKUP(X388,Feuil1!$C$1:$BL$10,8,FALSE)","v":-100},{"$f":"T388-HLOOKUP(X388,Feuil1!$C$1:$BL$10,9,FALSE)","v":-120},{"$f":"T388-HLOOKUP(X388,Feuil1!$C$1:$BL$10,10,FALSE)","v":-135},null,null,null,null,null,null,"DEB "]
["F","NORD","NPC",24,160407,"FELGUEIRAS","Victoria",1994,90.4,"WINGLES FORME","F",30,35,40,40,40,45,50,50,90,-90.800000000000011,"DEB ",-10,{"$f":"IF(I389=\"\",\"\",IF(A389=\"H\",IF(OR(H389=\"SEN\",H389<1995),VLOOKUP(I389,Feuil1!$A$11:$F$29,6),IF(AND(H389>1994,H389<1998),VLOOKUP(I389,Feuil1!$A$11:$F$29,5),IF(AND(H389>1997,H389<2000),VLOOKUP(I389,Feuil1!$A$11:$F$29,4),IF(AND(H389>1999,H389<2002),VLOOKUP(I389,Feuil1!$A$11:$F$29,3),VLOOKUP(I389,Feuil1!$A$11:$F$29,2))))),IF(OR(H389=\"SEN\",H389<1995),VLOOKUP(I389,Feuil1!$G$11:$L$25,6),IF(AND(H389>1994,H389<1998),VLOOKUP(I389,Feuil1!$G$11:$L$25,5),IF(AND(H389>1997,H389<2000),VLOOKUP(I389,Feuil1!$G$11:$L$25,4),IF(AND(H389>1999,H389<2002),VLOOKUP(I389,Feuil1!$G$11:$L$25,3),VLOOKUP(I389,Feuil1!$G$11:$L$25,2)))))))","v":"FS+75"},98.946083570209382,null," ",{"$f":"T389-HLOOKUP(X389,Feuil1!$C$1:$BL$10,2,FALSE)","v":-10},{"$f":"T389-HLOOKUP(X389,Feuil1!$C$1:$BL$10,3,FALSE)","v":-20},{"$f":"T389-HLOOKUP(X389,Feuil1!$C$1:$BL$10,4,FALSE)","v":-35},{"$f":"T389-HLOOKUP(X389,Feuil1!$C$1:$BL$10,5,FALSE)","v":-50},{"$f":"T389-HLOOKUP(X389,Feuil1!$C$1:$BL$10,6,FALSE)","v":-60},{"$f":"T389-HLOOKUP(X389,Feuil1!$C$1:$BL$10,7,FALSE)","v":-80},{"$f":"T389-HLOOKUP(X389,Feuil1!$C$1:$BL$10,8,FALSE)","v":-100},{"$f":"T389-HLOOKUP(X389,Feuil1!$C$1:$BL$10,9,FALSE)","v":-120},{"$f":"T389-HLOOKUP(X389,Feuil1!$C$1:$BL$10,10,FALSE)","v":-135},null,null,null,null,null,null,"DEB "]
["F","NE","BOU",25,383629,"SALTEL","Aurélie",1983,87.5,"varennes vauzelles","F",32,36,38,38,40,44,47,47,85,-90,"DEB ",-15,{"$f":"IF(I390=\"\",\"\",IF(A390=\"H\",IF(OR(H390=\"SEN\",H390<1995),VLOOKUP(I390,Feuil1!$A$11:$F$29,6),IF(AND(H390>1994,H390<1998),VLOOKUP(I390,Feuil1!$A$11:$F$29,5),IF(AND(H390>1997,H390<2000),VLOOKUP(I390,Feuil1!$A$11:$F$29,4),IF(AND(H390>1999,H390<2002),VLOOKUP(I390,Feuil1!$A$11:$F$29,3),VLOOKUP(I390,Feuil1!$A$11:$F$29,2))))),IF(OR(H390=\"SEN\",H390<1995),VLOOKUP(I390,Feuil1!$G$11:$L$25,6),IF(AND(H390>1994,H390<1998),VLOOKUP(I390,Feuil1!$G$11:$L$25,5),IF(AND(H390>1997,H390<2000),VLOOKUP(I390,Feuil1!$G$11:$L$25,4),IF(AND(H390>1999,H390<2002),VLOOKUP(I390,Feuil1!$G$11:$L$25,3),VLOOKUP(I390,Feuil1!$G$11:$L$25,2)))))))","v":"FS+75"},94.666697179555825,null," ",{"$f":"T390-HLOOKUP(X390,Feuil1!$C$1:$BL$10,2,FALSE)","v":-15},{"$f":"T390-HLOOKUP(X390,Feuil1!$C$1:$BL$10,3,FALSE)","v":-25},{"$f":"T390-HLOOKUP(X390,Feuil1!$C$1:$BL$10,4,FALSE)","v":-40},{"$f":"T390-HLOOKUP(X390,Feuil1!$C$1:$BL$10,5,FALSE)","v":-55},{"$f":"T390-HLOOKUP(X390,Feuil1!$C$1:$BL$10,6,FALSE)","v":-65},{"$f":"T390-HLOOKUP(X390,Feuil1!$C$1:$BL$10,7,FALSE)","v":-85},{"$f":"T390-HLOOKUP(X390,Feuil1!$C$1:$BL$10,8,FALSE)","v":-105},{"$f":"T390-HLOOKUP(X390,Feuil1!$C$1:$BL$10,9,FALSE)","v":-125},{"$f":"T390-HLOOKUP(X390,Feuil1!$C$1:$BL$10,10,FALSE)","v":-140},null,null,null,null,null,null,"DEB "]
["F","SO","AQU",26,390209,"PASZAK","Angélique",1990,91,"ASOA Aquitaine","F",30,32,35,35,40,43,46,46,81,-101,"DEB ",-19,{"$f":"IF(I391=\"\",\"\",IF(A391=\"H\",IF(OR(H391=\"SEN\",H391<1995),VLOOKUP(I391,Feuil1!$A$11:$F$29,6),IF(AND(H391>1994,H391<1998),VLOOKUP(I391,Feuil1!$A$11:$F$29,5),IF(AND(H391>1997,H391<2000),VLOOKUP(I391,Feuil1!$A$11:$F$29,4),IF(AND(H391>1999,H391<2002),VLOOKUP(I391,Feuil1!$A$11:$F$29,3),VLOOKUP(I391,Feuil1!$A$11:$F$29,2))))),IF(OR(H391=\"SEN\",H391<1995),VLOOKUP(I391,Feuil1!$G$11:$L$25,6),IF(AND(H391>1994,H391<1998),VLOOKUP(I391,Feuil1!$G$11:$L$25,5),IF(AND(H391>1997,H391<2000),VLOOKUP(I391,Feuil1!$G$11:$L$25,4),IF(AND(H391>1999,H391<2002),VLOOKUP(I391,Feuil1!$G$11:$L$25,3),VLOOKUP(I391,Feuil1!$G$11:$L$25,2)))))))","v":"FS+75"},88.826868820722268,null," ",{"$f":"T391-HLOOKUP(X391,Feuil1!$C$1:$BL$10,2,FALSE)","v":-19},{"$f":"T391-HLOOKUP(X391,Feuil1!$C$1:$BL$10,3,FALSE)","v":-29},{"$f":"T391-HLOOKUP(X391,Feuil1!$C$1:$BL$10,4,FALSE)","v":-44},{"$f":"T391-HLOOKUP(X391,Feuil1!$C$1:$BL$10,5,FALSE)","v":-59},{"$f":"T391-HLOOKUP(X391,Feuil1!$C$1:$BL$10,6,FALSE)","v":-69},{"$f":"T391-HLOOKUP(X391,Feuil1!$C$1:$BL$10,7,FALSE)","v":-89},{"$f":"T391-HLOOKUP(X391,Feuil1!$C$1:$BL$10,8,FALSE)","v":-109},{"$f":"T391-HLOOKUP(X391,Feuil1!$C$1:$BL$10,9,FALSE)","v":-129},{"$f":"T391-HLOOKUP(X391,Feuil1!$C$1:$BL$10,10,FALSE)","v":-144},null,null,null,null,null,null,"DEB "]
["F","NE","ALS",27,689,"GRIMM FERON","PASCALE",1962,94.4,"ASPTT Strasbourg","F",31,34,36,36,38,42,45,45,81,-107.80000000000001,"DEB ",-19,{"$f":"IF(I392=\"\",\"\",IF(A392=\"H\",IF(OR(H392=\"SEN\",H392<1995),VLOOKUP(I392,Feuil1!$A$11:$F$29,6),IF(AND(H392>1994,H392<1998),VLOOKUP(I392,Feuil1!$A$11:$F$29,5),IF(AND(H392>1997,H392<2000),VLOOKUP(I392,Feuil1!$A$11:$F$29,4),IF(AND(H392>1999,H392<2002),VLOOKUP(I392,Feuil1!$A$11:$F$29,3),VLOOKUP(I392,Feuil1!$A$11:$F$29,2))))),IF(OR(H392=\"SEN\",H392<1995),VLOOKUP(I392,Feuil1!$G$11:$L$25,6),IF(AND(H392>1994,H392<1998),VLOOKUP(I392,Feuil1!$G$11:$L$25,5),IF(AND(H392>1997,H392<2000),VLOOKUP(I392,Feuil1!$G$11:$L$25,4),IF(AND(H392>1999,H392<2002),VLOOKUP(I392,Feuil1!$G$11:$L$25,3),VLOOKUP(I392,Feuil1!$G$11:$L$25,2)))))))","v":"FS+75"},87.645890315606152,null," ",{"$f":"T392-HLOOKUP(X392,Feuil1!$C$1:$BL$10,2,FALSE)","v":-19},{"$f":"T392-HLOOKUP(X392,Feuil1!$C$1:$BL$10,3,FALSE)","v":-29},{"$f":"T392-HLOOKUP(X392,Feuil1!$C$1:$BL$10,4,FALSE)","v":-44},{"$f":"T392-HLOOKUP(X392,Feuil1!$C$1:$BL$10,5,FALSE)","v":-59},{"$f":"T392-HLOOKUP(X392,Feuil1!$C$1:$BL$10,6,FALSE)","v":-69},{"$f":"T392-HLOOKUP(X392,Feuil1!$C$1:$BL$10,7,FALSE)","v":-89},{"$f":"T392-HLOOKUP(X392,Feuil1!$C$1:$BL$10,8,FALSE)","v":-109},{"$f":"T392-HLOOKUP(X392,Feuil1!$C$1:$BL$10,9,FALSE)","v":-129},{"$f":"T392-HLOOKUP(X392,Feuil1!$C$1:$BL$10,10,FALSE)","v":-144},null,null,null,null,null,null,"DEB "]
["F","NE","ALS",28,245886,"PLASSARD","LUCIE",1976,75.2,"MJC Ungersheim","F",31,34,36,36,40,44,-46,44,80,-70.400000000000006,"DEB ",-20,{"$f":"IF(I393=\"\",\"\",IF(A393=\"H\",IF(OR(H393=\"SEN\",H393<1995),VLOOKUP(I393,Feuil1!$A$11:$F$29,6),IF(AND(H393>1994,H393<1998),VLOOKUP(I393,Feuil1!$A$11:$F$29,5),IF(AND(H393>1997,H393<2000),VLOOKUP(I393,Feuil1!$A$11:$F$29,4),IF(AND(H393>1999,H393<2002),VLOOKUP(I393,Feuil1!$A$11:$F$29,3),VLOOKUP(I393,Feuil1!$A$11:$F$29,2))))),IF(OR(H393=\"SEN\",H393<1995),VLOOKUP(I393,Feuil1!$G$11:$L$25,6),IF(AND(H393>1994,H393<1998),VLOOKUP(I393,Feuil1!$G$11:$L$25,5),IF(AND(H393>1997,H393<2000),VLOOKUP(I393,Feuil1!$G$11:$L$25,4),IF(AND(H393>1999,H393<2002),VLOOKUP(I393,Feuil1!$G$11:$L$25,3),VLOOKUP(I393,Feuil1!$G$11:$L$25,2)))))))","v":"FS+75"},95.655297339521724,null," ",{"$f":"T393-HLOOKUP(X393,Feuil1!$C$1:$BL$10,2,FALSE)","v":-20},{"$f":"T393-HLOOKUP(X393,Feuil1!$C$1:$BL$10,3,FALSE)","v":-30},{"$f":"T393-HLOOKUP(X393,Feuil1!$C$1:$BL$10,4,FALSE)","v":-45},{"$f":"T393-HLOOKUP(X393,Feuil1!$C$1:$BL$10,5,FALSE)","v":-60},{"$f":"T393-HLOOKUP(X393,Feuil1!$C$1:$BL$10,6,FALSE)","v":-70},{"$f":"T393-HLOOKUP(X393,Feuil1!$C$1:$BL$10,7,FALSE)","v":-90},{"$f":"T393-HLOOKUP(X393,Feuil1!$C$1:$BL$10,8,FALSE)","v":-110},{"$f":"T393-HLOOKUP(X393,Feuil1!$C$1:$BL$10,9,FALSE)","v":-130},{"$f":"T393-HLOOKUP(X393,Feuil1!$C$1:$BL$10,10,FALSE)","v":-145},null,null,null,null,null,null,"DEB "]
["F","N","IDF",29,384463,"ZANON","CAROLINE",1994,75.8,"MELUN","F",35,-40,-40,35,35,40,45,45,80,-71.599999999999994,"DEB ",-20,{"$f":"IF(I394=\"\",\"\",IF(A394=\"H\",IF(OR(H394=\"SEN\",H394<1995),VLOOKUP(I394,Feuil1!$A$11:$F$29,6),IF(AND(H394>1994,H394<1998),VLOOKUP(I394,Feuil1!$A$11:$F$29,5),IF(AND(H394>1997,H394<2000),VLOOKUP(I394,Feuil1!$A$11:$F$29,4),IF(AND(H394>1999,H394<2002),VLOOKUP(I394,Feuil1!$A$11:$F$29,3),VLOOKUP(I394,Feuil1!$A$11:$F$29,2))))),IF(OR(H394=\"SEN\",H394<1995),VLOOKUP(I394,Feuil1!$G$11:$L$25,6),IF(AND(H394>1994,H394<1998),VLOOKUP(I394,Feuil1!$G$11:$L$25,5),IF(AND(H394>1997,H394<2000),VLOOKUP(I394,Feuil1!$G$11:$L$25,4),IF(AND(H394>1999,H394<2002),VLOOKUP(I394,Feuil1!$G$11:$L$25,3),VLOOKUP(I394,Feuil1!$G$11:$L$25,2)))))))","v":"FS+75"},95.257255910451676,null," ",{"$f":"T394-HLOOKUP(X394,Feuil1!$C$1:$BL$10,2,FALSE)","v":-20},{"$f":"T394-HLOOKUP(X394,Feuil1!$C$1:$BL$10,3,FALSE)","v":-30},{"$f":"T394-HLOOKUP(X394,Feuil1!$C$1:$BL$10,4,FALSE)","v":-45},{"$f":"T394-HLOOKUP(X394,Feuil1!$C$1:$BL$10,5,FALSE)","v":-60},{"$f":"T394-HLOOKUP(X394,Feuil1!$C$1:$BL$10,6,FALSE)","v":-70},{"$f":"T394-HLOOKUP(X394,Feuil1!$C$1:$BL$10,7,FALSE)","v":-90},{"$f":"T394-HLOOKUP(X394,Feuil1!$C$1:$BL$10,8,FALSE)","v":-110},{"$f":"T394-HLOOKUP(X394,Feuil1!$C$1:$BL$10,9,FALSE)","v":-130},{"$f":"T394-HLOOKUP(X394,Feuil1!$C$1:$BL$10,10,FALSE)","v":-145},null,null,null,null,null,null,"DEB "]
["F","SEST","RAL",30,328836,"GAILLOT","Elodie",1994,75.45,"ENTENTE VIRIAT","F",32,35,-37,35,40,-44,44,44,79,-71.900000000000006,"DEB ",-21,{"$f":"IF(I395=\"\",\"\",IF(A395=\"H\",IF(OR(H395=\"SEN\",H395<1995),VLOOKUP(I395,Feuil1!$A$11:$F$29,6),IF(AND(H395>1994,H395<1998),VLOOKUP(I395,Feuil1!$A$11:$F$29,5),IF(AND(H395>1997,H395<2000),VLOOKUP(I395,Feuil1!$A$11:$F$29,4),IF(AND(H395>1999,H395<2002),VLOOKUP(I395,Feuil1!$A$11:$F$29,3),VLOOKUP(I395,Feuil1!$A$11:$F$29,2))))),IF(OR(H395=\"SEN\",H395<1995),VLOOKUP(I395,Feuil1!$G$11:$L$25,6),IF(AND(H395>1994,H395<1998),VLOOKUP(I395,Feuil1!$G$11:$L$25,5),IF(AND(H395>1997,H395<2000),VLOOKUP(I395,Feuil1!$G$11:$L$25,4),IF(AND(H395>1999,H395<2002),VLOOKUP(I395,Feuil1!$G$11:$L$25,3),VLOOKUP(I395,Feuil1!$G$11:$L$25,2)))))))","v":"FS+75"},94.294685119560924,null," ",{"$f":"T395-HLOOKUP(X395,Feuil1!$C$1:$BL$10,2,FALSE)","v":-21},{"$f":"T395-HLOOKUP(X395,Feuil1!$C$1:$BL$10,3,FALSE)","v":-31},{"$f":"T395-HLOOKUP(X395,Feuil1!$C$1:$BL$10,4,FALSE)","v":-46},{"$f":"T395-HLOOKUP(X395,Feuil1!$C$1:$BL$10,5,FALSE)","v":-61},{"$f":"T395-HLOOKUP(X395,Feuil1!$C$1:$BL$10,6,FALSE)","v":-71},{"$f":"T395-HLOOKUP(X395,Feuil1!$C$1:$BL$10,7,FALSE)","v":-91},{"$f":"T395-HLOOKUP(X395,Feuil1!$C$1:$BL$10,8,FALSE)","v":-111},{"$f":"T395-HLOOKUP(X395,Feuil1!$C$1:$BL$10,9,FALSE)","v":-131},{"$f":"T395-HLOOKUP(X395,Feuil1!$C$1:$BL$10,10,FALSE)","v":-146},null,null,null,null,null,null,"DEB "]
["F","SO","AQU",31,389305,"PEREIRA","Marlène",1991,83.8,"ASOA Aquitaine","F",30,32,-35,32,40,43,46,46,78,-89.6,"DEB ",-22,{"$f":"IF(I396=\"\",\"\",IF(A396=\"H\",IF(OR(H396=\"SEN\",H396<1995),VLOOKUP(I396,Feuil1!$A$11:$F$29,6),IF(AND(H396>1994,H396<1998),VLOOKUP(I396,Feuil1!$A$11:$F$29,5),IF(AND(H396>1997,H396<2000),VLOOKUP(I396,Feuil1!$A$11:$F$29,4),IF(AND(H396>1999,H396<2002),VLOOKUP(I396,Feuil1!$A$11:$F$29,3),VLOOKUP(I396,Feuil1!$A$11:$F$29,2))))),IF(OR(H396=\"SEN\",H396<1995),VLOOKUP(I396,Feuil1!$G$11:$L$25,6),IF(AND(H396>1994,H396<1998),VLOOKUP(I396,Feuil1!$G$11:$L$25,5),IF(AND(H396>1997,H396<2000),VLOOKUP(I396,Feuil1!$G$11:$L$25,4),IF(AND(H396>1999,H396<2002),VLOOKUP(I396,Feuil1!$G$11:$L$25,3),VLOOKUP(I396,Feuil1!$G$11:$L$25,2)))))))","v":"FS+75"},88.486547338360879,null," ",{"$f":"T396-HLOOKUP(X396,Feuil1!$C$1:$BL$10,2,FALSE)","v":-22},{"$f":"T396-HLOOKUP(X396,Feuil1!$C$1:$BL$10,3,FALSE)","v":-32},{"$f":"T396-HLOOKUP(X396,Feuil1!$C$1:$BL$10,4,FALSE)","v":-47},{"$f":"T396-HLOOKUP(X396,Feuil1!$C$1:$BL$10,5,FALSE)","v":-62},{"$f":"T396-HLOOKUP(X396,Feuil1!$C$1:$BL$10,6,FALSE)","v":-72},{"$f":"T396-HLOOKUP(X396,Feuil1!$C$1:$BL$10,7,FALSE)","v":-92},{"$f":"T396-HLOOKUP(X396,Feuil1!$C$1:$BL$10,8,FALSE)","v":-112},{"$f":"T396-HLOOKUP(X396,Feuil1!$C$1:$BL$10,9,FALSE)","v":-132},{"$f":"T396-HLOOKUP(X396,Feuil1!$C$1:$BL$10,10,FALSE)","v":-147},null,null,null,null,null,null,"DEB "]
["F","N","IDF",32,373878,"BARKATI","HEGER",1985,83.87,"CHAVILLE","F",25,30,-35,30,35,40,45,45,75,-92.740000000000009,"DEB ",-25,{"$f":"IF(I397=\"\",\"\",IF(A397=\"H\",IF(OR(H397=\"SEN\",H397<1995),VLOOKUP(I397,Feuil1!$A$11:$F$29,6),IF(AND(H397>1994,H397<1998),VLOOKUP(I397,Feuil1!$A$11:$F$29,5),IF(AND(H397>1997,H397<2000),VLOOKUP(I397,Feuil1!$A$11:$F$29,4),IF(AND(H397>1999,H397<2002),VLOOKUP(I397,Feuil1!$A$11:$F$29,3),VLOOKUP(I397,Feuil1!$A$11:$F$29,2))))),IF(OR(H397=\"SEN\",H397<1995),VLOOKUP(I397,Feuil1!$G$11:$L$25,6),IF(AND(H397>1994,H397<1998),VLOOKUP(I397,Feuil1!$G$11:$L$25,5),IF(AND(H397>1997,H397<2000),VLOOKUP(I397,Feuil1!$G$11:$L$25,4),IF(AND(H397>1999,H397<2002),VLOOKUP(I397,Feuil1!$G$11:$L$25,3),VLOOKUP(I397,Feuil1!$G$11:$L$25,2)))))))","v":"FS+75"},85.051746306804489,null," ",{"$f":"T397-HLOOKUP(X397,Feuil1!$C$1:$BL$10,2,FALSE)","v":-25},{"$f":"T397-HLOOKUP(X397,Feuil1!$C$1:$BL$10,3,FALSE)","v":-35},{"$f":"T397-HLOOKUP(X397,Feuil1!$C$1:$BL$10,4,FALSE)","v":-50},{"$f":"T397-HLOOKUP(X397,Feuil1!$C$1:$BL$10,5,FALSE)","v":-65},{"$f":"T397-HLOOKUP(X397,Feuil1!$C$1:$BL$10,6,FALSE)","v":-75},{"$f":"T397-HLOOKUP(X397,Feuil1!$C$1:$BL$10,7,FALSE)","v":-95},{"$f":"T397-HLOOKUP(X397,Feuil1!$C$1:$BL$10,8,FALSE)","v":-115},{"$f":"T397-HLOOKUP(X397,Feuil1!$C$1:$BL$10,9,FALSE)","v":-135},{"$f":"T397-HLOOKUP(X397,Feuil1!$C$1:$BL$10,10,FALSE)","v":-150},null,null,null,null,null,null,"DEB "]
["F","CO","PDL",33,379720,"DERUGNY","Violette",1981,80.5,"saint herblain","f",26,28,30,30,33,36,39,39,69,-92,"DEB ",-31,{"$f":"IF(I398=\"\",\"\",IF(A398=\"H\",IF(OR(H398=\"SEN\",H398<1995),VLOOKUP(I398,Feuil1!$A$11:$F$29,6),IF(AND(H398>1994,H398<1998),VLOOKUP(I398,Feuil1!$A$11:$F$29,5),IF(AND(H398>1997,H398<2000),VLOOKUP(I398,Feuil1!$A$11:$F$29,4),IF(AND(H398>1999,H398<2002),VLOOKUP(I398,Feuil1!$A$11:$F$29,3),VLOOKUP(I398,Feuil1!$A$11:$F$29,2))))),IF(OR(H398=\"SEN\",H398<1995),VLOOKUP(I398,Feuil1!$G$11:$L$25,6),IF(AND(H398>1994,H398<1998),VLOOKUP(I398,Feuil1!$G$11:$L$25,5),IF(AND(H398>1997,H398<2000),VLOOKUP(I398,Feuil1!$G$11:$L$25,4),IF(AND(H398>1999,H398<2002),VLOOKUP(I398,Feuil1!$G$11:$L$25,3),VLOOKUP(I398,Feuil1!$G$11:$L$25,2)))))))","v":"FS+75"},79.733654856928851,null," ",{"$f":"T398-HLOOKUP(X398,Feuil1!$C$1:$BL$10,2,FALSE)","v":-31},{"$f":"T398-HLOOKUP(X398,Feuil1!$C$1:$BL$10,3,FALSE)","v":-41},{"$f":"T398-HLOOKUP(X398,Feuil1!$C$1:$BL$10,4,FALSE)","v":-56},{"$f":"T398-HLOOKUP(X398,Feuil1!$C$1:$BL$10,5,FALSE)","v":-71},{"$f":"T398-HLOOKUP(X398,Feuil1!$C$1:$BL$10,6,FALSE)","v":-81},{"$f":"T398-HLOOKUP(X398,Feuil1!$C$1:$BL$10,7,FALSE)","v":-101},{"$f":"T398-HLOOKUP(X398,Feuil1!$C$1:$BL$10,8,FALSE)","v":-121},{"$f":"T398-HLOOKUP(X398,Feuil1!$C$1:$BL$10,9,FALSE)","v":-141},{"$f":"T398-HLOOKUP(X398,Feuil1!$C$1:$BL$10,10,FALSE)","v":-156},null,null,null,null,null,null,"DEB "]
["F","NE","ALS",34,385635,"MEYER","AUDREY",1986,88.5,"ASI Avenir HM","F",23,26,29,29,30,33,35,35,64,-113,"DEB ",-36,{"$f":"IF(I399=\"\",\"\",IF(A399=\"H\",IF(OR(H399=\"SEN\",H399<1995),VLOOKUP(I399,Feuil1!$A$11:$F$29,6),IF(AND(H399>1994,H399<1998),VLOOKUP(I399,Feuil1!$A$11:$F$29,5),IF(AND(H399>1997,H399<2000),VLOOKUP(I399,Feuil1!$A$11:$F$29,4),IF(AND(H399>1999,H399<2002),VLOOKUP(I399,Feuil1!$A$11:$F$29,3),VLOOKUP(I399,Feuil1!$A$11:$F$29,2))))),IF(OR(H399=\"SEN\",H399<1995),VLOOKUP(I399,Feuil1!$G$11:$L$25,6),IF(AND(H399>1994,H399<1998),VLOOKUP(I399,Feuil1!$G$11:$L$25,5),IF(AND(H399>1997,H399<2000),VLOOKUP(I399,Feuil1!$G$11:$L$25,4),IF(AND(H399>1999,H399<2002),VLOOKUP(I399,Feuil1!$G$11:$L$25,3),VLOOKUP(I399,Feuil1!$G$11:$L$25,2)))))))","v":"FS+75"},70.950907828041878,null," ",{"$f":"T399-HLOOKUP(X399,Feuil1!$C$1:$BL$10,2,FALSE)","v":-36},{"$f":"T399-HLOOKUP(X399,Feuil1!$C$1:$BL$10,3,FALSE)","v":-46},{"$f":"T399-HLOOKUP(X399,Feuil1!$C$1:$BL$10,4,FALSE)","v":-61},{"$f":"T399-HLOOKUP(X399,Feuil1!$C$1:$BL$10,5,FALSE)","v":-76},{"$f":"T399-HLOOKUP(X399,Feuil1!$C$1:$BL$10,6,FALSE)","v":-86},{"$f":"T399-HLOOKUP(X399,Feuil1!$C$1:$BL$10,7,FALSE)","v":-106},{"$f":"T399-HLOOKUP(X399,Feuil1!$C$1:$BL$10,8,FALSE)","v":-126},{"$f":"T399-HLOOKUP(X399,Feuil1!$C$1:$BL$10,9,FALSE)","v":-146},{"$f":"T399-HLOOKUP(X399,Feuil1!$C$1:$BL$10,10,FALSE)","v":-161},null,null,null,null,null,null,"DEB "]
[null,null,null,null,null,null,null,null,null,null,null,null,null,null,null,null,null,null,null,null,null,null,null,null,null,null," ",{"$f":"T400-HLOOKUP(X400,[1]Feuil1!$C$1:$BL$10,2,FALSE)","v":{"$error":"#N/A"}},{"$f":"T400-HLOOKUP(X400,[1]Feuil1!$C$1:$BL$10,3,FALSE)","v":{"$error":"#N/A"}},{"$f":"T400-HLOOKUP(X400,[1]Feuil1!$C$1:$BL$10,4,FALSE)","v":{"$error":"#N/A"}},{"$f":"T400-HLOOKUP(X400,[1]Feuil1!$C$1:$BL$10,5,FALSE)","v":{"$error":"#N/A"}},{"$f":"T400-HLOOKUP(X400,[1]Feuil1!$C$1:$BL$10,6,FALSE)","v":{"$error":"#N/A"}},{"$f":"T400-HLOOKUP(X400,[1]Feuil1!$C$1:$BL$10,7,FALSE)","v":{"$error":"#N/A"}},{"$f":"T400-HLOOKUP(X400,[1]Feuil1!$C$1:$BL$10,8,FALSE)","v":{"$error":"#N/A"}},{"$f":"T400-HLOOKUP(X400,[1]Feuil1!$C$1:$BL$10,9,FALSE)","v":{"$error":"#N/A"}},{"$f":"T400-HLOOKUP(X400,[1]Feuil1!$C$1:$BL$10,10,FALSE)","v":{"$error":"#N/A"}},null,null,null,null,null,null,{"$f":"IF(AJ400>=0,$AJ$4,IF(AI400>=0,$AI$4,IF(AH400>=0,$AH$4,IF(AG400>=0,$AG$4,IF(AF400>=0,$AF$4,IF(AE400>=0,$AE$4,IF(AD400>=0,$AD$4,IF(AC400>=0,$AC$4,$AB$4))))))))","v":{"$error":"#N/A"}}]
[]
[]
[]
[]
[]
[]
[]
[]
[]
[]
[]
[]
[]
[]
[]
[]
[]
[]
[]
[]
[]
[]
[]
[]
[]
[]
[]
[]
[]
[]
[]
[]
[]
[]
[]
[]
[]
[]
[]
[]
[]
[]
[]
[]
[]
[]
[]
[]
[]
[]
[]
[]
[]
[]
[]
[]
[]
[]
[]
[]
[]
[]
[]
[]
[]
[]
[]
[]
[]
[]
[]
[]
[]
[]
[]
[]
[]
[]
[]
[]
[]
[]
[]
[]
[]
[]
[]
[]
[]
[]
[]
[]
[]
[]
[]
[]
[]
[]
[]
[]
[]
[]
[]
[]
[]
[]
[]
[]
[]
[]
[]
[]
[]
[]
[]
[]
[]
[]
[]
[]
[]
[]
[]
[]
[]
[]
[]
[]
[]
[]
[]
[]
[]
[]
[]
[]
[]
[]
[]
[]
[]
[]
[]
[]
[]
[]
[]
[]
[]
[]
[]
[]
[]
[]
[]
[]
[]
[]
[]
[]
[]
[]
[]
[]
[]
[]
[]
[]
[]
[]
[]
[]
[]
[]
[]
[]
[]
[]
[]
[]
[]
[]
[]
[]
[]
[]
[]
[]
[]
[]
[]
[]
[]
[]
[]
[]
[]
[]
[]
[]
[]
[]
[]
[]
[]
[]
[]
[]
[]
[]
[]
[]
[]
[]
[]
[]
[]
[]
[]
[]
[]
[]
[]
[]
[]
[]
[]
[]
[]
[]
[]
[]
[]
[]
[]
[]
[]
[]
[]
[]
[]
[]
[]
[]
[]
[]
[]
[]
[]
[]
[]
[]
[]
[]
[]
[]
[]
[]
[]
[]
[]
[]
[]
[]
[]
[]
[]
[]
[]
[]
[]
[]
[]
[]
[]
[]
[]
[]
[]
[]
[]
[]
[]
[]
[]
[]
[]
[]
[]
[]
[]
[]
[]
[]
[]
[]
[]
[]
[]
[]
[]
[]
[]
[]
[]
[]
[]
[]
[]
[]
[]
[]
[]
[]
[]
[]
[]
[]
[]
[]
[]
[]
[]
[]
[]
[]
[]
[]
[]
[]
[]
[]
[]
[]
[]
[]
[]
[]
[]
[]
[]
[]
[]
[]
[]
[]
[]
[]
[]
[]
[]
[]
[]
[]
[]
[]
[]
[]
[]
[]
[]
[]
[]
[]
[]
[]
[]
[]
[]
[]
[]
[]
[]
[]
[]
[]
[]
[]
[]
[]
[]
[]
[]
[]
[]
[]
[]
[]
[]
[]
[]
[]
[null,null,null,null,null,null,null,null,null,null,null,null,null,null,null,null,null,null,null,null,null,null,null,null,null,null,null,"J77","J85","J94","J105","J+105",null,"J56","J62","J69","J77","J85","J94","J105","J+105",null,"S56","S62","S69","S77","S85","S94","S105","S+105"]
[null,null,null,null,null,null,null,null,null,null,null,null,null,null,null,null,null,null,null,null,null,null,null,null,null,null,null,145,160,170,180,190,null,100,115,130,145,160,170,180,190,null,115,135,150,165,180,190,200,210]
[null,null,null,null,null,null,null,null,null,null,null,null,null,null,null,null,null,null,null,null,null,null,null,null,null,null,null,165,180,190,200,210,null,115,135,150,165,180,190,200,210,null,130,150,165,185,200,210,220,230]
[null,null,null,null,null,null,null,null,null,null,null,null,null,null,null,null,null,null,null,null,null,null,null,null,null,null,null,185,200,210,220,230,null,130,150,165,185,200,210,220,230,null,145,165,180,200,220,230,240,250]
[null,null,null,null,null,null,null,null,null,null,null,null,null,null,null,null,null,null,null,null,null,null,null,null,null,null,null,200,220,230,240,250,null,145,165,180,200,220,230,240,250,null,175,195,215,235,250,260,275,280]
[null,null,null,null,null,null,null,null,null,null,null,null,null,null,null,null,null,null,null,null,null,null,null,null,null,null,null,235,250,260,275,280,null,175,195,215,235,250,260,275,280,null,210,230,250,270,290,300,310,325]
[null,null,null,null,null,null,null,null,null,null,null,null,null,null,null,null,null,null,null,null,null,null,null,null,null,null,null,270,290,300,310,325,null,210,230,250,270,290,300,310,325,null,230,255,275,300,315,335,345,355]
[null,null,null,null,null,null,null,null,null,null,null,null,null,null,null,null,null,null,null,null,null,null,null,null,null,null,null,320,335,355,370,380,null,245,270,295,320,335,355,370,380,null,245,270,295,320,335,355,370,380]