{"text_format":"1","workbook":"xlsx","n_sheets":4,"sheets":["FEM","HOM","Feuil1","Feuil2"],"not_rendered":{"charts":0,"images":1,"macros":1,"external_links":0,"defined_names":4,"comments":2,"pivot_tables":0},"unopened":[],"bounds":{"document_bytes":16777216,"sheet_cells":100000,"rows_first":2000,"rows_last":500,"rows_between":2000,"halvings":0,"cell_chars":16384,"cell_head_chars":4096},"cells_cut":0,"cells_raw":0,"read":"whole","date_system":"1900"}

{"sheet":"FEM","index":0,"n_rows":550,"n_cols":49,"rows_kept":550,"cut":false,"hidden":false,"merged":[[0,5,0,14],[0,18,0,21],[1,15,1,17],[3,21,3,22]]}
[null,null,null,null,null,"SOUVENIR  Daniel BOBHOT  MONACO",null,null,null,null,null,null,null,null,null,null,"DATE :",null,"2016-03-05"]
[null,null,null,null,null," "," ",null,null," ",null,null,null,null,null,"AUTEUR :",null,null,"Daniel MENONI"]
[]
["SEXE","ZONE","REG.","Cl.","LICENCE","NOMS","Prénoms","AN","POIDS","CLUB","NAT",1,2,3,"ARR",1,2,3,"EP-J","Total","IWF SMM","SERIE",null,null,"Catég",null,"N.CL.","REG +","FRA +","EUR +","MON +","INTB +","INTA +","OLY +","NCL"]
["F","SE","CAZ",null,null,"ROSON","STEPHANIE",1979,45.18,"ASPTT DRAGUIGNAN","F",-35,35,38,{"$f":"IF(I5=\"\",\"\",IF(MAXA(L5:N5)<=0,0,MAXA(L5:N5)))","v":38},45,47,-50,{"$f":"IF(I5=\"\",\"\",IF(MAXA(P5:R5)<=0,0,MAXA(P5:R5)))","v":47},{"$f":"IF(I5=\"\",\"\",IF(OR(O5=0,S5=0),0,O5+S5))","v":85},{"$f":"IF(I5=\"\",\"\",IF(A5=\"H\",10^(0.794358141*LOG(I5/174.393)^2)*T5*AS5,IF(A5=\"F\",10^(0.89726074 * LOG(I5/148.026)^2)*T5*AS5,\"\")))","v":161.86382550817268},{"$f":"IF(I5=\"\",\"\",AP5)","v":"MON +"},{"$f":"IF(I5=\"\",\"\",IF(AH5>=0,AH5,IF(AG5>=0,AG5,IF(AF5>=0,AF5,IF(AE5>=0,AE5,IF(AD5>=0,AD5,IF(AC5>=0,AC5,IF(AB5>=0,AB5,AA5))))))))","v":3},{"$f":"IF(AQ5<95,IF(AQ5<=90,VLOOKUP(AQ5,$AQ$464:$AR$519,2)))","v":"V1 F35"},{"$f":"IF(AND(H5<1936),VLOOKUP(I5,Feuil1!$F$10:$O$24,9),IF(AND(H5>=1942,H5<1947),VLOOKUP(I5,Feuil1!$F$10:$O$24,9),IF(AND(H5>=1947,H5<1952),VLOOKUP(I5,Feuil1!$F$10:$O$24,8),IF(AND(H5>=1952,H5<1957),VLOOKUP(I5,Feuil1!$F$10:$O$24,7),IF(AND(H5>=1957,H5<1962),VLOOKUP(I5,Feuil1!$F$10:$O$24,6),IF(AND(H5>=1962,H5<1967),VLOOKUP(I5,Feuil1!$F$10:$O$24,5),IF(AND(H5>=1967,H5<1972),VLOOKUP(I5,Feuil1!$F$10:$O$24,4),IF(AND(H5>=1972,H5<1977),VLOOKUP(I5,Feuil1!$F$10:$O$24,3),IF(AND(H5>=1977,H5<1982),VLOOKUP(I5,Feuil1!$F$10:$O$24,2),VLOOKUP(I5,Feuil1!$F$10:$O$24,2))))))))))","v":"VF35-48"},null,{"$f":"T5-HLOOKUP(Y5,Feuil1!$C$1:$BF$9,2,FALSE)","v":85},{"$f":"T5-HLOOKUP(Y5,Feuil1!$C$1:$BF$9,3,FALSE)","v":30},{"$f":"T5-HLOOKUP(Y5,Feuil1!$C$1:$BF$9,4,FALSE)","v":25},{"$f":"T5-HLOOKUP(Y5,Feuil1!$C$1:$BF$9,5,FALSE)","v":15},{"$f":"T5-HLOOKUP(Y5,Feuil1!$C$1:$BF$9,6,FALSE)","v":3},{"$f":"T5-HLOOKUP(Y5,Feuil1!$C$1:$BF$9,7,FALSE)","v":-915},{"$f":"T5-HLOOKUP(Y5,Feuil1!$C$1:$BF$9,8,FALSE)","v":-915},{"$f":"T5-HLOOKUP(Y5,Feuil1!$C$1:$BF$9,9,FALSE)","v":-915},null,null,null,null,null,null,null,{"$f":"IF(AH5>=0,$AH$4,IF(AG5>=0,$AG$4,IF(AF5>=0,$AF$4,IF(AE5>=0,$AE$4,IF(AD5>=0,$AD$4,IF(AC5>=0,$AC$4,IF(AB5>=0,$AB$4,IF(AA5>=0,$AA$4,$AI$4))))))))","v":"MON +"},{"$f":"2016-H5","v":37},null,{"$f":"IF(AQ5,VLOOKUP(AQ5,HOM!$AR$551:$AS$606,2))","v":1.1000000000000001}]
["F",null,null,null,null,null,null,null,null,null,null,null,null,null,"",null,null,null,"","","","","",{"$f":"IF(AQ6<95,IF(AQ6<=90,VLOOKUP(AQ6,$AQ$464:$AR$519,2)))","v":false},{"$f":"IF(AND(H6<1936),VLOOKUP(I6,Feuil1!$F$10:$O$24,9),IF(AND(H6>=1942,H6<1947),VLOOKUP(I6,Feuil1!$F$10:$O$24,9),IF(AND(H6>=1947,H6<1952),VLOOKUP(I6,Feuil1!$F$10:$O$24,8),IF(AND(H6>=1952,H6<1957),VLOOKUP(I6,Feuil1!$F$10:$O$24,7),IF(AND(H6>=1957,H6<1962),VLOOKUP(I6,Feuil1!$F$10:$O$24,6),IF(AND(H6>=1962,H6<1967),VLOOKUP(I6,Feuil1!$F$10:$O$24,5),IF(AND(H6>=1967,H6<1972),VLOOKUP(I6,Feuil1!$F$10:$O$24,4),IF(AND(H6>=1972,H6<1977),VLOOKUP(I6,Feuil1!$F$10:$O$24,3),IF(AND(H6>=1977,H6<1982),VLOOKUP(I6,Feuil1!$F$10:$O$24,2),VLOOKUP(I6,Feuil1!$F$10:$O$24,2))))))))))","v":{"$error":"#N/A"}},null,{"$f":"T6-HLOOKUP(Y6,Feuil1!$C$1:$BF$9,2,FALSE)","v":{"$error":"#VALUE!"}},{"$f":"T6-HLOOKUP(Y6,Feuil1!$C$1:$BF$9,3,FALSE)","v":{"$error":"#VALUE!"}},{"$f":"T6-HLOOKUP(Y6,Feuil1!$C$1:$BF$9,4,FALSE)","v":{"$error":"#VALUE!"}},{"$f":"T6-HLOOKUP(Y6,Feuil1!$C$1:$BF$9,5,FALSE)","v":{"$error":"#VALUE!"}},{"$f":"T6-HLOOKUP(Y6,Feuil1!$C$1:$BF$9,6,FALSE)","v":{"$error":"#VALUE!"}},{"$f":"T6-HLOOKUP(Y6,Feuil1!$C$1:$BF$9,7,FALSE)","v":{"$error":"#VALUE!"}},{"$f":"T6-HLOOKUP(Y6,Feuil1!$C$1:$BF$9,8,FALSE)","v":{"$error":"#VALUE!"}},{"$f":"T6-HLOOKUP(Y6,Feuil1!$C$1:$BF$9,9,FALSE)","v":{"$error":"#VALUE!"}},null,null,null,null,null,null,null,{"$error":"#VALUE!"},2016,null,{"$f":"IF(AQ6,VLOOKUP(AQ6,HOM!$AR$551:$AS$606,2))","v":3.5710000000000002}]
["F","SE","CAZ",null,null,"CLAPIER","HELENE",1979,78.41,"AS MONACO","MC",47,50,52,{"$f":"IF(I7=\"\",\"\",IF(MAXA(L7:N7)<=0,0,MAXA(L7:N7)))","v":52},64,-70,-70,64,116,149.34264610671823,"MON +",4,{"$f":"IF(AQ7<95,IF(AQ7<=90,VLOOKUP(AQ7,$AQ$464:$AR$519,2)))","v":"V1 F35"},{"$f":"IF(AND(H7<1936),VLOOKUP(I7,Feuil1!$F$10:$O$24,9),IF(AND(H7>=1942,H7<1947),VLOOKUP(I7,Feuil1!$F$10:$O$24,9),IF(AND(H7>=1947,H7<1952),VLOOKUP(I7,Feuil1!$F$10:$O$24,8),IF(AND(H7>=1952,H7<1957),VLOOKUP(I7,Feuil1!$F$10:$O$24,7),IF(AND(H7>=1957,H7<1962),VLOOKUP(I7,Feuil1!$F$10:$O$24,6),IF(AND(H7>=1962,H7<1967),VLOOKUP(I7,Feuil1!$F$10:$O$24,5),IF(AND(H7>=1967,H7<1972),VLOOKUP(I7,Feuil1!$F$10:$O$24,4),IF(AND(H7>=1972,H7<1977),VLOOKUP(I7,Feuil1!$F$10:$O$24,3),IF(AND(H7>=1977,H7<1982),VLOOKUP(I7,Feuil1!$F$10:$O$24,2),VLOOKUP(I7,Feuil1!$F$10:$O$24,2))))))))))","v":"VF35+75"},null,{"$f":"T7-HLOOKUP(Y7,Feuil1!$C$1:$BF$9,2,FALSE)","v":116},{"$f":"T7-HLOOKUP(Y7,Feuil1!$C$1:$BF$9,3,FALSE)","v":36},{"$f":"T7-HLOOKUP(Y7,Feuil1!$C$1:$BF$9,4,FALSE)","v":31},{"$f":"T7-HLOOKUP(Y7,Feuil1!$C$1:$BF$9,5,FALSE)","v":21},{"$f":"T7-HLOOKUP(Y7,Feuil1!$C$1:$BF$9,6,FALSE)","v":4},{"$f":"T7-HLOOKUP(Y7,Feuil1!$C$1:$BF$9,7,FALSE)","v":-884},{"$f":"T7-HLOOKUP(Y7,Feuil1!$C$1:$BF$9,8,FALSE)","v":-884},{"$f":"T7-HLOOKUP(Y7,Feuil1!$C$1:$BF$9,9,FALSE)","v":-884},null,null,null,null,null,null,null,"MON +",37,null,{"$f":"IF(AQ7,VLOOKUP(AQ7,HOM!$AR$551:$AS$606,2))","v":1.1000000000000001}]
["F",null,null,null,null,null,null,null,null,null,null,null,null,null,"",null,null,null,"","","","","",{"$f":"IF(AQ8<95,IF(AQ8<=90,VLOOKUP(AQ8,$AQ$464:$AR$519,2)))","v":false},{"$f":"IF(AND(H8<1936),VLOOKUP(I8,Feuil1!$F$10:$O$24,9),IF(AND(H8>=1942,H8<1947),VLOOKUP(I8,Feuil1!$F$10:$O$24,9),IF(AND(H8>=1947,H8<1952),VLOOKUP(I8,Feuil1!$F$10:$O$24,8),IF(AND(H8>=1952,H8<1957),VLOOKUP(I8,Feuil1!$F$10:$O$24,7),IF(AND(H8>=1957,H8<1962),VLOOKUP(I8,Feuil1!$F$10:$O$24,6),IF(AND(H8>=1962,H8<1967),VLOOKUP(I8,Feuil1!$F$10:$O$24,5),IF(AND(H8>=1967,H8<1972),VLOOKUP(I8,Feuil1!$F$10:$O$24,4),IF(AND(H8>=1972,H8<1977),VLOOKUP(I8,Feuil1!$F$10:$O$24,3),IF(AND(H8>=1977,H8<1982),VLOOKUP(I8,Feuil1!$F$10:$O$24,2),VLOOKUP(I8,Feuil1!$F$10:$O$24,2))))))))))","v":{"$error":"#N/A"}},null,{"$f":"T8-HLOOKUP(Y8,Feuil1!$C$1:$BF$9,2,FALSE)","v":{"$error":"#VALUE!"}},{"$f":"T8-HLOOKUP(Y8,Feuil1!$C$1:$BF$9,3,FALSE)","v":{"$error":"#VALUE!"}},{"$f":"T8-HLOOKUP(Y8,Feuil1!$C$1:$BF$9,4,FALSE)","v":{"$error":"#VALUE!"}},{"$f":"T8-HLOOKUP(Y8,Feuil1!$C$1:$BF$9,5,FALSE)","v":{"$error":"#VALUE!"}},{"$f":"T8-HLOOKUP(Y8,Feuil1!$C$1:$BF$9,6,FALSE)","v":{"$error":"#VALUE!"}},{"$f":"T8-HLOOKUP(Y8,Feuil1!$C$1:$BF$9,7,FALSE)","v":{"$error":"#VALUE!"}},{"$f":"T8-HLOOKUP(Y8,Feuil1!$C$1:$BF$9,8,FALSE)","v":{"$error":"#VALUE!"}},{"$f":"T8-HLOOKUP(Y8,Feuil1!$C$1:$BF$9,9,FALSE)","v":{"$error":"#VALUE!"}},null,null,null,null,null,null,null,{"$error":"#VALUE!"},2016,null,{"$f":"IF(AQ8,VLOOKUP(AQ8,HOM!$AR$551:$AS$606,2))","v":3.5710000000000002}]
["F",null,null,null,null,null,null,null,null,null,null,null,null,null,"",null,null,null,"","","","","",{"$f":"IF(AQ9<95,IF(AQ9<=90,VLOOKUP(AQ9,$AQ$464:$AR$519,2)))","v":false},{"$f":"IF(AND(H9<1936),VLOOKUP(I9,Feuil1!$F$10:$O$24,9),IF(AND(H9>=1942,H9<1947),VLOOKUP(I9,Feuil1!$F$10:$O$24,9),IF(AND(H9>=1947,H9<1952),VLOOKUP(I9,Feuil1!$F$10:$O$24,8),IF(AND(H9>=1952,H9<1957),VLOOKUP(I9,Feuil1!$F$10:$O$24,7),IF(AND(H9>=1957,H9<1962),VLOOKUP(I9,Feuil1!$F$10:$O$24,6),IF(AND(H9>=1962,H9<1967),VLOOKUP(I9,Feuil1!$F$10:$O$24,5),IF(AND(H9>=1967,H9<1972),VLOOKUP(I9,Feuil1!$F$10:$O$24,4),IF(AND(H9>=1972,H9<1977),VLOOKUP(I9,Feuil1!$F$10:$O$24,3),IF(AND(H9>=1977,H9<1982),VLOOKUP(I9,Feuil1!$F$10:$O$24,2),VLOOKUP(I9,Feuil1!$F$10:$O$24,2))))))))))","v":{"$error":"#N/A"}},null,{"$f":"T9-HLOOKUP(Y9,Feuil1!$C$1:$BF$9,2,FALSE)","v":{"$error":"#VALUE!"}},{"$f":"T9-HLOOKUP(Y9,Feuil1!$C$1:$BF$9,3,FALSE)","v":{"$error":"#VALUE!"}},{"$f":"T9-HLOOKUP(Y9,Feuil1!$C$1:$BF$9,4,FALSE)","v":{"$error":"#VALUE!"}},{"$f":"T9-HLOOKUP(Y9,Feuil1!$C$1:$BF$9,5,FALSE)","v":{"$error":"#VALUE!"}},{"$f":"T9-HLOOKUP(Y9,Feuil1!$C$1:$BF$9,6,FALSE)","v":{"$error":"#VALUE!"}},{"$f":"T9-HLOOKUP(Y9,Feuil1!$C$1:$BF$9,7,FALSE)","v":{"$error":"#VALUE!"}},{"$f":"T9-HLOOKUP(Y9,Feuil1!$C$1:$BF$9,8,FALSE)","v":{"$error":"#VALUE!"}},{"$f":"T9-HLOOKUP(Y9,Feuil1!$C$1:$BF$9,9,FALSE)","v":{"$error":"#VALUE!"}},null,null,null,null,null,null,null,{"$error":"#VALUE!"},2016,null,{"$f":"IF(AQ9,VLOOKUP(AQ9,HOM!$AR$551:$AS$606,2))","v":3.5710000000000002}]
["F",null,null,null,null,null,null,null,null,null,null,null,null,null,"",null,null,null,"","","","","",{"$f":"IF(AQ10<95,IF(AQ10<=90,VLOOKUP(AQ10,$AQ$464:$AR$519,2)))","v":false},{"$f":"IF(AND(H10<1936),VLOOKUP(I10,Feuil1!$F$10:$O$24,9),IF(AND(H10>=1942,H10<1947),VLOOKUP(I10,Feuil1!$F$10:$O$24,9),IF(AND(H10>=1947,H10<1952),VLOOKUP(I10,Feuil1!$F$10:$O$24,8),IF(AND(H10>=1952,H10<1957),VLOOKUP(I10,Feuil1!$F$10:$O$24,7),IF(AND(H10>=1957,H10<1962),VLOOKUP(I10,Feuil1!$F$10:$O$24,6),IF(AND(H10>=1962,H10<1967),VLOOKUP(I10,Feuil1!$F$10:$O$24,5),IF(AND(H10>=1967,H10<1972),VLOOKUP(I10,Feuil1!$F$10:$O$24,4),IF(AND(H10>=1972,H10<1977),VLOOKUP(I10,Feuil1!$F$10:$O$24,3),IF(AND(H10>=1977,H10<1982),VLOOKUP(I10,Feuil1!$F$10:$O$24,2),VLOOKUP(I10,Feuil1!$F$10:$O$24,2))))))))))","v":{"$error":"#N/A"}},null,{"$f":"T10-HLOOKUP(Y10,Feuil1!$C$1:$BF$9,2,FALSE)","v":{"$error":"#VALUE!"}},{"$f":"T10-HLOOKUP(Y10,Feuil1!$C$1:$BF$9,3,FALSE)","v":{"$error":"#VALUE!"}},{"$f":"T10-HLOOKUP(Y10,Feuil1!$C$1:$BF$9,4,FALSE)","v":{"$error":"#VALUE!"}},{"$f":"T10-HLOOKUP(Y10,Feuil1!$C$1:$BF$9,5,FALSE)","v":{"$error":"#VALUE!"}},{"$f":"T10-HLOOKUP(Y10,Feuil1!$C$1:$BF$9,6,FALSE)","v":{"$error":"#VALUE!"}},{"$f":"T10-HLOOKUP(Y10,Feuil1!$C$1:$BF$9,7,FALSE)","v":{"$error":"#VALUE!"}},{"$f":"T10-HLOOKUP(Y10,Feuil1!$C$1:$BF$9,8,FALSE)","v":{"$error":"#VALUE!"}},{"$f":"T10-HLOOKUP(Y10,Feuil1!$C$1:$BF$9,9,FALSE)","v":{"$error":"#VALUE!"}},null,null,null,null,null,null,null,{"$error":"#VALUE!"},2016,null,{"$f":"IF(AQ10,VLOOKUP(AQ10,HOM!$AR$551:$AS$606,2))","v":3.5710000000000002}]
["F",null,null,null,null,null,null,null,null,null,null,null,null,null,"",null,null,null,"","","","","",{"$f":"IF(AQ11<95,IF(AQ11<=90,VLOOKUP(AQ11,$AQ$464:$AR$519,2)))","v":false},{"$f":"IF(AND(H11<1936),VLOOKUP(I11,Feuil1!$F$10:$O$24,9),IF(AND(H11>=1942,H11<1947),VLOOKUP(I11,Feuil1!$F$10:$O$24,9),IF(AND(H11>=1947,H11<1952),VLOOKUP(I11,Feuil1!$F$10:$O$24,8),IF(AND(H11>=1952,H11<1957),VLOOKUP(I11,Feuil1!$F$10:$O$24,7),IF(AND(H11>=1957,H11<1962),VLOOKUP(I11,Feuil1!$F$10:$O$24,6),IF(AND(H11>=1962,H11<1967),VLOOKUP(I11,Feuil1!$F$10:$O$24,5),IF(AND(H11>=1967,H11<1972),VLOOKUP(I11,Feuil1!$F$10:$O$24,4),IF(AND(H11>=1972,H11<1977),VLOOKUP(I11,Feuil1!$F$10:$O$24,3),IF(AND(H11>=1977,H11<1982),VLOOKUP(I11,Feuil1!$F$10:$O$24,2),VLOOKUP(I11,Feuil1!$F$10:$O$24,2))))))))))","v":{"$error":"#N/A"}},null,{"$f":"T11-HLOOKUP(Y11,Feuil1!$C$1:$BF$9,2,FALSE)","v":{"$error":"#VALUE!"}},{"$f":"T11-HLOOKUP(Y11,Feuil1!$C$1:$BF$9,3,FALSE)","v":{"$error":"#VALUE!"}},{"$f":"T11-HLOOKUP(Y11,Feuil1!$C$1:$BF$9,4,FALSE)","v":{"$error":"#VALUE!"}},{"$f":"T11-HLOOKUP(Y11,Feuil1!$C$1:$BF$9,5,FALSE)","v":{"$error":"#VALUE!"}},{"$f":"T11-HLOOKUP(Y11,Feuil1!$C$1:$BF$9,6,FALSE)","v":{"$error":"#VALUE!"}},{"$f":"T11-HLOOKUP(Y11,Feuil1!$C$1:$BF$9,7,FALSE)","v":{"$error":"#VALUE!"}},{"$f":"T11-HLOOKUP(Y11,Feuil1!$C$1:$BF$9,8,FALSE)","v":{"$error":"#VALUE!"}},{"$f":"T11-HLOOKUP(Y11,Feuil1!$C$1:$BF$9,9,FALSE)","v":{"$error":"#VALUE!"}},null,null,null,null,null,null,null,{"$error":"#VALUE!"},2016,null,{"$f":"IF(AQ11,VLOOKUP(AQ11,HOM!$AR$551:$AS$606,2))","v":3.5710000000000002}]
["F",null,null,null,null,null,null,null,null,null,null,null,null,null,"",null,null,null,"","","","","",{"$f":"IF(AQ12<95,IF(AQ12<=90,VLOOKUP(AQ12,$AQ$464:$AR$519,2)))","v":false},{"$f":"IF(AND(H12<1936),VLOOKUP(I12,Feuil1!$F$10:$O$24,9),IF(AND(H12>=1942,H12<1947),VLOOKUP(I12,Feuil1!$F$10:$O$24,9),IF(AND(H12>=1947,H12<1952),VLOOKUP(I12,Feuil1!$F$10:$O$24,8),IF(AND(H12>=1952,H12<1957),VLOOKUP(I12,Feuil1!$F$10:$O$24,7),IF(AND(H12>=1957,H12<1962),VLOOKUP(I12,Feuil1!$F$10:$O$24,6),IF(AND(H12>=1962,H12<1967),VLOOKUP(I12,Feuil1!$F$10:$O$24,5),IF(AND(H12>=1967,H12<1972),VLOOKUP(I12,Feuil1!$F$10:$O$24,4),IF(AND(H12>=1972,H12<1977),VLOOKUP(I12,Feuil1!$F$10:$O$24,3),IF(AND(H12>=1977,H12<1982),VLOOKUP(I12,Feuil1!$F$10:$O$24,2),VLOOKUP(I12,Feuil1!$F$10:$O$24,2))))))))))","v":{"$error":"#N/A"}},null,{"$f":"T12-HLOOKUP(Y12,Feuil1!$C$1:$BF$9,2,FALSE)","v":{"$error":"#VALUE!"}},{"$f":"T12-HLOOKUP(Y12,Feuil1!$C$1:$BF$9,3,FALSE)","v":{"$error":"#VALUE!"}},{"$f":"T12-HLOOKUP(Y12,Feuil1!$C$1:$BF$9,4,FALSE)","v":{"$error":"#VALUE!"}},{"$f":"T12-HLOOKUP(Y12,Feuil1!$C$1:$BF$9,5,FALSE)","v":{"$error":"#VALUE!"}},{"$f":"T12-HLOOKUP(Y12,Feuil1!$C$1:$BF$9,6,FALSE)","v":{"$error":"#VALUE!"}},{"$f":"T12-HLOOKUP(Y12,Feuil1!$C$1:$BF$9,7,FALSE)","v":{"$error":"#VALUE!"}},{"$f":"T12-HLOOKUP(Y12,Feuil1!$C$1:$BF$9,8,FALSE)","v":{"$error":"#VALUE!"}},{"$f":"T12-HLOOKUP(Y12,Feuil1!$C$1:$BF$9,9,FALSE)","v":{"$error":"#VALUE!"}},null,null,null,null,null,null,null,{"$error":"#VALUE!"},2016,null,{"$f":"IF(AQ12,VLOOKUP(AQ12,HOM!$AR$551:$AS$606,2))","v":3.5710000000000002}]
["F",null,null,null,null,null,null,null,null,null,null,null,null,null,"",null,null,null,"","","","","",{"$f":"IF(AQ13<95,IF(AQ13<=90,VLOOKUP(AQ13,$AQ$464:$AR$519,2)))","v":false},{"$f":"IF(AND(H13<1936),VLOOKUP(I13,Feuil1!$F$10:$O$24,9),IF(AND(H13>=1942,H13<1947),VLOOKUP(I13,Feuil1!$F$10:$O$24,9),IF(AND(H13>=1947,H13<1952),VLOOKUP(I13,Feuil1!$F$10:$O$24,8),IF(AND(H13>=1952,H13<1957),VLOOKUP(I13,Feuil1!$F$10:$O$24,7),IF(AND(H13>=1957,H13<1962),VLOOKUP(I13,Feuil1!$F$10:$O$24,6),IF(AND(H13>=1962,H13<1967),VLOOKUP(I13,Feuil1!$F$10:$O$24,5),IF(AND(H13>=1967,H13<1972),VLOOKUP(I13,Feuil1!$F$10:$O$24,4),IF(AND(H13>=1972,H13<1977),VLOOKUP(I13,Feuil1!$F$10:$O$24,3),IF(AND(H13>=1977,H13<1982),VLOOKUP(I13,Feuil1!$F$10:$O$24,2),VLOOKUP(I13,Feuil1!$F$10:$O$24,2))))))))))","v":{"$error":"#N/A"}},null,{"$f":"T13-HLOOKUP(Y13,Feuil1!$C$1:$BF$9,2,FALSE)","v":{"$error":"#VALUE!"}},{"$f":"T13-HLOOKUP(Y13,Feuil1!$C$1:$BF$9,3,FALSE)","v":{"$error":"#VALUE!"}},{"$f":"T13-HLOOKUP(Y13,Feuil1!$C$1:$BF$9,4,FALSE)","v":{"$error":"#VALUE!"}},{"$f":"T13-HLOOKUP(Y13,Feuil1!$C$1:$BF$9,5,FALSE)","v":{"$error":"#VALUE!"}},{"$f":"T13-HLOOKUP(Y13,Feuil1!$C$1:$BF$9,6,FALSE)","v":{"$error":"#VALUE!"}},{"$f":"T13-HLOOKUP(Y13,Feuil1!$C$1:$BF$9,7,FALSE)","v":{"$error":"#VALUE!"}},{"$f":"T13-HLOOKUP(Y13,Feuil1!$C$1:$BF$9,8,FALSE)","v":{"$error":"#VALUE!"}},{"$f":"T13-HLOOKUP(Y13,Feuil1!$C$1:$BF$9,9,FALSE)","v":{"$error":"#VALUE!"}},null,null,null,null,null,null,null,{"$error":"#VALUE!"},2016,null,{"$f":"IF(AQ13,VLOOKUP(AQ13,HOM!$AR$551:$AS$606,2))","v":3.5710000000000002}]
["F",null,null,null,null,null,null,null,null,null,null,null,null,null,"",null,null,null,"","","","","",{"$f":"IF(AQ14<95,IF(AQ14<=90,VLOOKUP(AQ14,$AQ$464:$AR$519,2)))","v":false},{"$f":"IF(AND(H14<1936),VLOOKUP(I14,Feuil1!$F$10:$O$24,9),IF(AND(H14>=1942,H14<1947),VLOOKUP(I14,Feuil1!$F$10:$O$24,9),IF(AND(H14>=1947,H14<1952),VLOOKUP(I14,Feuil1!$F$10:$O$24,8),IF(AND(H14>=1952,H14<1957),VLOOKUP(I14,Feuil1!$F$10:$O$24,7),IF(AND(H14>=1957,H14<1962),VLOOKUP(I14,Feuil1!$F$10:$O$24,6),IF(AND(H14>=1962,H14<1967),VLOOKUP(I14,Feuil1!$F$10:$O$24,5),IF(AND(H14>=1967,H14<1972),VLOOKUP(I14,Feuil1!$F$10:$O$24,4),IF(AND(H14>=1972,H14<1977),VLOOKUP(I14,Feuil1!$F$10:$O$24,3),IF(AND(H14>=1977,H14<1982),VLOOKUP(I14,Feuil1!$F$10:$O$24,2),VLOOKUP(I14,Feuil1!$F$10:$O$24,2))))))))))","v":{"$error":"#N/A"}},null,{"$f":"T14-HLOOKUP(Y14,Feuil1!$C$1:$BF$9,2,FALSE)","v":{"$error":"#VALUE!"}},{"$f":"T14-HLOOKUP(Y14,Feuil1!$C$1:$BF$9,3,FALSE)","v":{"$error":"#VALUE!"}},{"$f":"T14-HLOOKUP(Y14,Feuil1!$C$1:$BF$9,4,FALSE)","v":{"$error":"#VALUE!"}},{"$f":"T14-HLOOKUP(Y14,Feuil1!$C$1:$BF$9,5,FALSE)","v":{"$error":"#VALUE!"}},{"$f":"T14-HLOOKUP(Y14,Feuil1!$C$1:$BF$9,6,FALSE)","v":{"$error":"#VALUE!"}},{"$f":"T14-HLOOKUP(Y14,Feuil1!$C$1:$BF$9,7,FALSE)","v":{"$error":"#VALUE!"}},{"$f":"T14-HLOOKUP(Y14,Feuil1!$C$1:$BF$9,8,FALSE)","v":{"$error":"#VALUE!"}},{"$f":"T14-HLOOKUP(Y14,Feuil1!$C$1:$BF$9,9,FALSE)","v":{"$error":"#VALUE!"}},null,null,null,null,null,null,null,{"$error":"#VALUE!"},2016,null,{"$f":"IF(AQ14,VLOOKUP(AQ14,HOM!$AR$551:$AS$606,2))","v":3.5710000000000002}]
["F",null,null,null,null,null,null,null,null,null,null,null,null,null,"",null,null,null,"","","","","",{"$f":"IF(AQ15<95,IF(AQ15<=90,VLOOKUP(AQ15,$AQ$464:$AR$519,2)))","v":false},{"$f":"IF(AND(H15<1936),VLOOKUP(I15,Feuil1!$F$10:$O$24,9),IF(AND(H15>=1942,H15<1947),VLOOKUP(I15,Feuil1!$F$10:$O$24,9),IF(AND(H15>=1947,H15<1952),VLOOKUP(I15,Feuil1!$F$10:$O$24,8),IF(AND(H15>=1952,H15<1957),VLOOKUP(I15,Feuil1!$F$10:$O$24,7),IF(AND(H15>=1957,H15<1962),VLOOKUP(I15,Feuil1!$F$10:$O$24,6),IF(AND(H15>=1962,H15<1967),VLOOKUP(I15,Feuil1!$F$10:$O$24,5),IF(AND(H15>=1967,H15<1972),VLOOKUP(I15,Feuil1!$F$10:$O$24,4),IF(AND(H15>=1972,H15<1977),VLOOKUP(I15,Feuil1!$F$10:$O$24,3),IF(AND(H15>=1977,H15<1982),VLOOKUP(I15,Feuil1!$F$10:$O$24,2),VLOOKUP(I15,Feuil1!$F$10:$O$24,2))))))))))","v":{"$error":"#N/A"}},null,{"$f":"T15-HLOOKUP(Y15,Feuil1!$C$1:$BF$9,2,FALSE)","v":{"$error":"#VALUE!"}},{"$f":"T15-HLOOKUP(Y15,Feuil1!$C$1:$BF$9,3,FALSE)","v":{"$error":"#VALUE!"}},{"$f":"T15-HLOOKUP(Y15,Feuil1!$C$1:$BF$9,4,FALSE)","v":{"$error":"#VALUE!"}},{"$f":"T15-HLOOKUP(Y15,Feuil1!$C$1:$BF$9,5,FALSE)","v":{"$error":"#VALUE!"}},{"$f":"T15-HLOOKUP(Y15,Feuil1!$C$1:$BF$9,6,FALSE)","v":{"$error":"#VALUE!"}},{"$f":"T15-HLOOKUP(Y15,Feuil1!$C$1:$BF$9,7,FALSE)","v":{"$error":"#VALUE!"}},{"$f":"T15-HLOOKUP(Y15,Feuil1!$C$1:$BF$9,8,FALSE)","v":{"$error":"#VALUE!"}},{"$f":"T15-HLOOKUP(Y15,Feuil1!$C$1:$BF$9,9,FALSE)","v":{"$error":"#VALUE!"}},null,null,null,null,null,null,null,{"$error":"#VALUE!"},2016,null,{"$f":"IF(AQ15,VLOOKUP(AQ15,HOM!$AR$551:$AS$606,2))","v":3.5710000000000002}]
["F",null,null,null,null,null,null,null,null,null,null,null,null,null,"",null,null,null,"","","","","",{"$f":"IF(AQ16<95,IF(AQ16<=90,VLOOKUP(AQ16,$AQ$464:$AR$519,2)))","v":false},{"$f":"IF(AND(H16<1936),VLOOKUP(I16,Feuil1!$F$10:$O$24,9),IF(AND(H16>=1942,H16<1947),VLOOKUP(I16,Feuil1!$F$10:$O$24,9),IF(AND(H16>=1947,H16<1952),VLOOKUP(I16,Feuil1!$F$10:$O$24,8),IF(AND(H16>=1952,H16<1957),VLOOKUP(I16,Feuil1!$F$10:$O$24,7),IF(AND(H16>=1957,H16<1962),VLOOKUP(I16,Feuil1!$F$10:$O$24,6),IF(AND(H16>=1962,H16<1967),VLOOKUP(I16,Feuil1!$F$10:$O$24,5),IF(AND(H16>=1967,H16<1972),VLOOKUP(I16,Feuil1!$F$10:$O$24,4),IF(AND(H16>=1972,H16<1977),VLOOKUP(I16,Feuil1!$F$10:$O$24,3),IF(AND(H16>=1977,H16<1982),VLOOKUP(I16,Feuil1!$F$10:$O$24,2),VLOOKUP(I16,Feuil1!$F$10:$O$24,2))))))))))","v":{"$error":"#N/A"}},null,{"$f":"T16-HLOOKUP(Y16,Feuil1!$C$1:$BF$9,2,FALSE)","v":{"$error":"#VALUE!"}},{"$f":"T16-HLOOKUP(Y16,Feuil1!$C$1:$BF$9,3,FALSE)","v":{"$error":"#VALUE!"}},{"$f":"T16-HLOOKUP(Y16,Feuil1!$C$1:$BF$9,4,FALSE)","v":{"$error":"#VALUE!"}},{"$f":"T16-HLOOKUP(Y16,Feuil1!$C$1:$BF$9,5,FALSE)","v":{"$error":"#VALUE!"}},{"$f":"T16-HLOOKUP(Y16,Feuil1!$C$1:$BF$9,6,FALSE)","v":{"$error":"#VALUE!"}},{"$f":"T16-HLOOKUP(Y16,Feuil1!$C$1:$BF$9,7,FALSE)","v":{"$error":"#VALUE!"}},{"$f":"T16-HLOOKUP(Y16,Feuil1!$C$1:$BF$9,8,FALSE)","v":{"$error":"#VALUE!"}},{"$f":"T16-HLOOKUP(Y16,Feuil1!$C$1:$BF$9,9,FALSE)","v":{"$error":"#VALUE!"}},null,null,null,null,null,null,null,{"$error":"#VALUE!"},2016,null,{"$f":"IF(AQ16,VLOOKUP(AQ16,HOM!$AR$551:$AS$606,2))","v":3.5710000000000002}]
["F",null,null,null,null,null,null,null,null,null,null,null,null,null,"",null,null,null,"","","","","",{"$f":"IF(AQ17<95,IF(AQ17<=90,VLOOKUP(AQ17,$AQ$464:$AR$519,2)))","v":false},{"$f":"IF(AND(H17<1936),VLOOKUP(I17,Feuil1!$F$10:$O$24,9),IF(AND(H17>=1942,H17<1947),VLOOKUP(I17,Feuil1!$F$10:$O$24,9),IF(AND(H17>=1947,H17<1952),VLOOKUP(I17,Feuil1!$F$10:$O$24,8),IF(AND(H17>=1952,H17<1957),VLOOKUP(I17,Feuil1!$F$10:$O$24,7),IF(AND(H17>=1957,H17<1962),VLOOKUP(I17,Feuil1!$F$10:$O$24,6),IF(AND(H17>=1962,H17<1967),VLOOKUP(I17,Feuil1!$F$10:$O$24,5),IF(AND(H17>=1967,H17<1972),VLOOKUP(I17,Feuil1!$F$10:$O$24,4),IF(AND(H17>=1972,H17<1977),VLOOKUP(I17,Feuil1!$F$10:$O$24,3),IF(AND(H17>=1977,H17<1982),VLOOKUP(I17,Feuil1!$F$10:$O$24,2),VLOOKUP(I17,Feuil1!$F$10:$O$24,2))))))))))","v":{"$error":"#N/A"}},null,{"$f":"T17-HLOOKUP(Y17,Feuil1!$C$1:$BF$9,2,FALSE)","v":{"$error":"#VALUE!"}},{"$f":"T17-HLOOKUP(Y17,Feuil1!$C$1:$BF$9,3,FALSE)","v":{"$error":"#VALUE!"}},{"$f":"T17-HLOOKUP(Y17,Feuil1!$C$1:$BF$9,4,FALSE)","v":{"$error":"#VALUE!"}},{"$f":"T17-HLOOKUP(Y17,Feuil1!$C$1:$BF$9,5,FALSE)","v":{"$error":"#VALUE!"}},{"$f":"T17-HLOOKUP(Y17,Feuil1!$C$1:$BF$9,6,FALSE)","v":{"$error":"#VALUE!"}},{"$f":"T17-HLOOKUP(Y17,Feuil1!$C$1:$BF$9,7,FALSE)","v":{"$error":"#VALUE!"}},{"$f":"T17-HLOOKUP(Y17,Feuil1!$C$1:$BF$9,8,FALSE)","v":{"$error":"#VALUE!"}},{"$f":"T17-HLOOKUP(Y17,Feuil1!$C$1:$BF$9,9,FALSE)","v":{"$error":"#VALUE!"}},null,null,null,null,null,null,null,{"$error":"#VALUE!"},2016,null,{"$f":"IF(AQ17,VLOOKUP(AQ17,HOM!$AR$551:$AS$606,2))","v":3.5710000000000002}]
["F",null,null,null,null,null,null,null,null,null,null,null,null,null,"",null,null,null,"","","","","",{"$f":"IF(AQ18<95,IF(AQ18<=90,VLOOKUP(AQ18,$AQ$464:$AR$519,2)))","v":false},{"$f":"IF(AND(H18<1936),VLOOKUP(I18,Feuil1!$F$10:$O$24,9),IF(AND(H18>=1942,H18<1947),VLOOKUP(I18,Feuil1!$F$10:$O$24,9),IF(AND(H18>=1947,H18<1952),VLOOKUP(I18,Feuil1!$F$10:$O$24,8),IF(AND(H18>=1952,H18<1957),VLOOKUP(I18,Feuil1!$F$10:$O$24,7),IF(AND(H18>=1957,H18<1962),VLOOKUP(I18,Feuil1!$F$10:$O$24,6),IF(AND(H18>=1962,H18<1967),VLOOKUP(I18,Feuil1!$F$10:$O$24,5),IF(AND(H18>=1967,H18<1972),VLOOKUP(I18,Feuil1!$F$10:$O$24,4),IF(AND(H18>=1972,H18<1977),VLOOKUP(I18,Feuil1!$F$10:$O$24,3),IF(AND(H18>=1977,H18<1982),VLOOKUP(I18,Feuil1!$F$10:$O$24,2),VLOOKUP(I18,Feuil1!$F$10:$O$24,2))))))))))","v":{"$error":"#N/A"}},null,{"$f":"T18-HLOOKUP(Y18,Feuil1!$C$1:$BF$9,2,FALSE)","v":{"$error":"#VALUE!"}},{"$f":"T18-HLOOKUP(Y18,Feuil1!$C$1:$BF$9,3,FALSE)","v":{"$error":"#VALUE!"}},{"$f":"T18-HLOOKUP(Y18,Feuil1!$C$1:$BF$9,4,FALSE)","v":{"$error":"#VALUE!"}},{"$f":"T18-HLOOKUP(Y18,Feuil1!$C$1:$BF$9,5,FALSE)","v":{"$error":"#VALUE!"}},{"$f":"T18-HLOOKUP(Y18,Feuil1!$C$1:$BF$9,6,FALSE)","v":{"$error":"#VALUE!"}},{"$f":"T18-HLOOKUP(Y18,Feuil1!$C$1:$BF$9,7,FALSE)","v":{"$error":"#VALUE!"}},{"$f":"T18-HLOOKUP(Y18,Feuil1!$C$1:$BF$9,8,FALSE)","v":{"$error":"#VALUE!"}},{"$f":"T18-HLOOKUP(Y18,Feuil1!$C$1:$BF$9,9,FALSE)","v":{"$error":"#VALUE!"}},null,null,null,null,null,null,null,{"$error":"#VALUE!"},2016,null,{"$f":"IF(AQ18,VLOOKUP(AQ18,HOM!$AR$551:$AS$606,2))","v":3.5710000000000002}]
["F",null,null,null,null,null,null,null,null,null,null,null,null,null,"",null,null,null,"","","","","",{"$f":"IF(AQ19<95,IF(AQ19<=90,VLOOKUP(AQ19,$AQ$464:$AR$519,2)))","v":false},{"$f":"IF(AND(H19<1936),VLOOKUP(I19,Feuil1!$F$10:$O$24,9),IF(AND(H19>=1942,H19<1947),VLOOKUP(I19,Feuil1!$F$10:$O$24,9),IF(AND(H19>=1947,H19<1952),VLOOKUP(I19,Feuil1!$F$10:$O$24,8),IF(AND(H19>=1952,H19<1957),VLOOKUP(I19,Feuil1!$F$10:$O$24,7),IF(AND(H19>=1957,H19<1962),VLOOKUP(I19,Feuil1!$F$10:$O$24,6),IF(AND(H19>=1962,H19<1967),VLOOKUP(I19,Feuil1!$F$10:$O$24,5),IF(AND(H19>=1967,H19<1972),VLOOKUP(I19,Feuil1!$F$10:$O$24,4),IF(AND(H19>=1972,H19<1977),VLOOKUP(I19,Feuil1!$F$10:$O$24,3),IF(AND(H19>=1977,H19<1982),VLOOKUP(I19,Feuil1!$F$10:$O$24,2),VLOOKUP(I19,Feuil1!$F$10:$O$24,2))))))))))","v":{"$error":"#N/A"}},null,{"$f":"T19-HLOOKUP(Y19,Feuil1!$C$1:$BF$9,2,FALSE)","v":{"$error":"#VALUE!"}},{"$f":"T19-HLOOKUP(Y19,Feuil1!$C$1:$BF$9,3,FALSE)","v":{"$error":"#VALUE!"}},{"$f":"T19-HLOOKUP(Y19,Feuil1!$C$1:$BF$9,4,FALSE)","v":{"$error":"#VALUE!"}},{"$f":"T19-HLOOKUP(Y19,Feuil1!$C$1:$BF$9,5,FALSE)","v":{"$error":"#VALUE!"}},{"$f":"T19-HLOOKUP(Y19,Feuil1!$C$1:$BF$9,6,FALSE)","v":{"$error":"#VALUE!"}},{"$f":"T19-HLOOKUP(Y19,Feuil1!$C$1:$BF$9,7,FALSE)","v":{"$error":"#VALUE!"}},{"$f":"T19-HLOOKUP(Y19,Feuil1!$C$1:$BF$9,8,FALSE)","v":{"$error":"#VALUE!"}},{"$f":"T19-HLOOKUP(Y19,Feuil1!$C$1:$BF$9,9,FALSE)","v":{"$error":"#VALUE!"}},null,null,null,null,null,null,null,{"$error":"#VALUE!"},2016,null,{"$f":"IF(AQ19,VLOOKUP(AQ19,HOM!$AR$551:$AS$606,2))","v":3.5710000000000002}]
["F",null,null,null,null,null,null,null,null,null,null,null,null,null,"",null,null,null,"","","","","",{"$f":"IF(AQ20<95,IF(AQ20<=90,VLOOKUP(AQ20,$AQ$464:$AR$519,2)))","v":false},{"$f":"IF(AND(H20<1936),VLOOKUP(I20,Feuil1!$F$10:$O$24,9),IF(AND(H20>=1942,H20<1947),VLOOKUP(I20,Feuil1!$F$10:$O$24,9),IF(AND(H20>=1947,H20<1952),VLOOKUP(I20,Feuil1!$F$10:$O$24,8),IF(AND(H20>=1952,H20<1957),VLOOKUP(I20,Feuil1!$F$10:$O$24,7),IF(AND(H20>=1957,H20<1962),VLOOKUP(I20,Feuil1!$F$10:$O$24,6),IF(AND(H20>=1962,H20<1967),VLOOKUP(I20,Feuil1!$F$10:$O$24,5),IF(AND(H20>=1967,H20<1972),VLOOKUP(I20,Feuil1!$F$10:$O$24,4),IF(AND(H20>=1972,H20<1977),VLOOKUP(I20,Feuil1!$F$10:$O$24,3),IF(AND(H20>=1977,H20<1982),VLOOKUP(I20,Feuil1!$F$10:$O$24,2),VLOOKUP(I20,Feuil1!$F$10:$O$24,2))))))))))","v":{"$error":"#N/A"}},null,{"$f":"T20-HLOOKUP(Y20,Feuil1!$C$1:$BF$9,2,FALSE)","v":{"$error":"#VALUE!"}},{"$f":"T20-HLOOKUP(Y20,Feuil1!$C$1:$BF$9,3,FALSE)","v":{"$error":"#VALUE!"}},{"$f":"T20-HLOOKUP(Y20,Feuil1!$C$1:$BF$9,4,FALSE)","v":{"$error":"#VALUE!"}},{"$f":"T20-HLOOKUP(Y20,Feuil1!$C$1:$BF$9,5,FALSE)","v":{"$error":"#VALUE!"}},{"$f":"T20-HLOOKUP(Y20,Feuil1!$C$1:$BF$9,6,FALSE)","v":{"$error":"#VALUE!"}},{"$f":"T20-HLOOKUP(Y20,Feuil1!$C$1:$BF$9,7,FALSE)","v":{"$error":"#VALUE!"}},{"$f":"T20-HLOOKUP(Y20,Feuil1!$C$1:$BF$9,8,FALSE)","v":{"$error":"#VALUE!"}},{"$f":"T20-HLOOKUP(Y20,Feuil1!$C$1:$BF$9,9,FALSE)","v":{"$error":"#VALUE!"}},null,null,null,null,null,null,null,{"$error":"#VALUE!"},2016,null,{"$f":"IF(AQ20,VLOOKUP(AQ20,HOM!$AR$551:$AS$606,2))","v":3.5710000000000002}]
["F",null,null,null,null,null,null,null,null,null,null,null,null,null,"",null,null,null,"","","","","",{"$f":"IF(AQ21<95,IF(AQ21<=90,VLOOKUP(AQ21,$AQ$464:$AR$519,2)))","v":false},{"$f":"IF(AND(H21<1936),VLOOKUP(I21,Feuil1!$F$10:$O$24,9),IF(AND(H21>=1942,H21<1947),VLOOKUP(I21,Feuil1!$F$10:$O$24,9),IF(AND(H21>=1947,H21<1952),VLOOKUP(I21,Feuil1!$F$10:$O$24,8),IF(AND(H21>=1952,H21<1957),VLOOKUP(I21,Feuil1!$F$10:$O$24,7),IF(AND(H21>=1957,H21<1962),VLOOKUP(I21,Feuil1!$F$10:$O$24,6),IF(AND(H21>=1962,H21<1967),VLOOKUP(I21,Feuil1!$F$10:$O$24,5),IF(AND(H21>=1967,H21<1972),VLOOKUP(I21,Feuil1!$F$10:$O$24,4),IF(AND(H21>=1972,H21<1977),VLOOKUP(I21,Feuil1!$F$10:$O$24,3),IF(AND(H21>=1977,H21<1982),VLOOKUP(I21,Feuil1!$F$10:$O$24,2),VLOOKUP(I21,Feuil1!$F$10:$O$24,2))))))))))","v":{"$error":"#N/A"}},null,{"$f":"T21-HLOOKUP(Y21,Feuil1!$C$1:$BF$9,2,FALSE)","v":{"$error":"#VALUE!"}},{"$f":"T21-HLOOKUP(Y21,Feuil1!$C$1:$BF$9,3,FALSE)","v":{"$error":"#VALUE!"}},{"$f":"T21-HLOOKUP(Y21,Feuil1!$C$1:$BF$9,4,FALSE)","v":{"$error":"#VALUE!"}},{"$f":"T21-HLOOKUP(Y21,Feuil1!$C$1:$BF$9,5,FALSE)","v":{"$error":"#VALUE!"}},{"$f":"T21-HLOOKUP(Y21,Feuil1!$C$1:$BF$9,6,FALSE)","v":{"$error":"#VALUE!"}},{"$f":"T21-HLOOKUP(Y21,Feuil1!$C$1:$BF$9,7,FALSE)","v":{"$error":"#VALUE!"}},{"$f":"T21-HLOOKUP(Y21,Feuil1!$C$1:$BF$9,8,FALSE)","v":{"$error":"#VALUE!"}},{"$f":"T21-HLOOKUP(Y21,Feuil1!$C$1:$BF$9,9,FALSE)","v":{"$error":"#VALUE!"}},null,null,null,null,null,null,null,{"$error":"#VALUE!"},2016,null,{"$f":"IF(AQ21,VLOOKUP(AQ21,HOM!$AR$551:$AS$606,2))","v":3.5710000000000002}]
["F",null,null,null,null,null,null,null,null,null,null,null,null,null,"",null,null,null,"","","","","",{"$f":"IF(AQ22<95,IF(AQ22<=90,VLOOKUP(AQ22,$AQ$464:$AR$519,2)))","v":false},{"$f":"IF(AND(H22<1936),VLOOKUP(I22,Feuil1!$F$10:$O$24,9),IF(AND(H22>=1942,H22<1947),VLOOKUP(I22,Feuil1!$F$10:$O$24,9),IF(AND(H22>=1947,H22<1952),VLOOKUP(I22,Feuil1!$F$10:$O$24,8),IF(AND(H22>=1952,H22<1957),VLOOKUP(I22,Feuil1!$F$10:$O$24,7),IF(AND(H22>=1957,H22<1962),VLOOKUP(I22,Feuil1!$F$10:$O$24,6),IF(AND(H22>=1962,H22<1967),VLOOKUP(I22,Feuil1!$F$10:$O$24,5),IF(AND(H22>=1967,H22<1972),VLOOKUP(I22,Feuil1!$F$10:$O$24,4),IF(AND(H22>=1972,H22<1977),VLOOKUP(I22,Feuil1!$F$10:$O$24,3),IF(AND(H22>=1977,H22<1982),VLOOKUP(I22,Feuil1!$F$10:$O$24,2),VLOOKUP(I22,Feuil1!$F$10:$O$24,2))))))))))","v":{"$error":"#N/A"}},null,{"$f":"T22-HLOOKUP(Y22,Feuil1!$C$1:$BF$9,2,FALSE)","v":{"$error":"#VALUE!"}},{"$f":"T22-HLOOKUP(Y22,Feuil1!$C$1:$BF$9,3,FALSE)","v":{"$error":"#VALUE!"}},{"$f":"T22-HLOOKUP(Y22,Feuil1!$C$1:$BF$9,4,FALSE)","v":{"$error":"#VALUE!"}},{"$f":"T22-HLOOKUP(Y22,Feuil1!$C$1:$BF$9,5,FALSE)","v":{"$error":"#VALUE!"}},{"$f":"T22-HLOOKUP(Y22,Feuil1!$C$1:$BF$9,6,FALSE)","v":{"$error":"#VALUE!"}},{"$f":"T22-HLOOKUP(Y22,Feuil1!$C$1:$BF$9,7,FALSE)","v":{"$error":"#VALUE!"}},{"$f":"T22-HLOOKUP(Y22,Feuil1!$C$1:$BF$9,8,FALSE)","v":{"$error":"#VALUE!"}},{"$f":"T22-HLOOKUP(Y22,Feuil1!$C$1:$BF$9,9,FALSE)","v":{"$error":"#VALUE!"}},null,null,null,null,null,null,null,{"$error":"#VALUE!"},2016,null,{"$f":"IF(AQ22,VLOOKUP(AQ22,HOM!$AR$551:$AS$606,2))","v":3.5710000000000002}]
["F",null,null,null,null,null,null,null,null,null,null,null,null,null,"",null,null,null,"","","","","",{"$f":"IF(AQ23<95,IF(AQ23<=90,VLOOKUP(AQ23,$AQ$464:$AR$519,2)))","v":false},{"$f":"IF(AND(H23<1936),VLOOKUP(I23,Feuil1!$F$10:$O$24,9),IF(AND(H23>=1942,H23<1947),VLOOKUP(I23,Feuil1!$F$10:$O$24,9),IF(AND(H23>=1947,H23<1952),VLOOKUP(I23,Feuil1!$F$10:$O$24,8),IF(AND(H23>=1952,H23<1957),VLOOKUP(I23,Feuil1!$F$10:$O$24,7),IF(AND(H23>=1957,H23<1962),VLOOKUP(I23,Feuil1!$F$10:$O$24,6),IF(AND(H23>=1962,H23<1967),VLOOKUP(I23,Feuil1!$F$10:$O$24,5),IF(AND(H23>=1967,H23<1972),VLOOKUP(I23,Feuil1!$F$10:$O$24,4),IF(AND(H23>=1972,H23<1977),VLOOKUP(I23,Feuil1!$F$10:$O$24,3),IF(AND(H23>=1977,H23<1982),VLOOKUP(I23,Feuil1!$F$10:$O$24,2),VLOOKUP(I23,Feuil1!$F$10:$O$24,2))))))))))","v":{"$error":"#N/A"}},null,{"$f":"T23-HLOOKUP(Y23,Feuil1!$C$1:$BF$9,2,FALSE)","v":{"$error":"#VALUE!"}},{"$f":"T23-HLOOKUP(Y23,Feuil1!$C$1:$BF$9,3,FALSE)","v":{"$error":"#VALUE!"}},{"$f":"T23-HLOOKUP(Y23,Feuil1!$C$1:$BF$9,4,FALSE)","v":{"$error":"#VALUE!"}},{"$f":"T23-HLOOKUP(Y23,Feuil1!$C$1:$BF$9,5,FALSE)","v":{"$error":"#VALUE!"}},{"$f":"T23-HLOOKUP(Y23,Feuil1!$C$1:$BF$9,6,FALSE)","v":{"$error":"#VALUE!"}},{"$f":"T23-HLOOKUP(Y23,Feuil1!$C$1:$BF$9,7,FALSE)","v":{"$error":"#VALUE!"}},{"$f":"T23-HLOOKUP(Y23,Feuil1!$C$1:$BF$9,8,FALSE)","v":{"$error":"#VALUE!"}},{"$f":"T23-HLOOKUP(Y23,Feuil1!$C$1:$BF$9,9,FALSE)","v":{"$error":"#VALUE!"}},null,null,null,null,null,null,null,{"$error":"#VALUE!"},2016,null,{"$f":"IF(AQ23,VLOOKUP(AQ23,HOM!$AR$551:$AS$606,2))","v":3.5710000000000002}]
["F",null,null,null,null,null,null,null,null,null,null,null,null,null,"",null,null,null,"","","","","",{"$f":"IF(AQ24<95,IF(AQ24<=90,VLOOKUP(AQ24,$AQ$464:$AR$519,2)))","v":false},{"$f":"IF(AND(H24<1936),VLOOKUP(I24,Feuil1!$F$10:$O$24,9),IF(AND(H24>=1942,H24<1947),VLOOKUP(I24,Feuil1!$F$10:$O$24,9),IF(AND(H24>=1947,H24<1952),VLOOKUP(I24,Feuil1!$F$10:$O$24,8),IF(AND(H24>=1952,H24<1957),VLOOKUP(I24,Feuil1!$F$10:$O$24,7),IF(AND(H24>=1957,H24<1962),VLOOKUP(I24,Feuil1!$F$10:$O$24,6),IF(AND(H24>=1962,H24<1967),VLOOKUP(I24,Feuil1!$F$10:$O$24,5),IF(AND(H24>=1967,H24<1972),VLOOKUP(I24,Feuil1!$F$10:$O$24,4),IF(AND(H24>=1972,H24<1977),VLOOKUP(I24,Feuil1!$F$10:$O$24,3),IF(AND(H24>=1977,H24<1982),VLOOKUP(I24,Feuil1!$F$10:$O$24,2),VLOOKUP(I24,Feuil1!$F$10:$O$24,2))))))))))","v":{"$error":"#N/A"}},null,{"$f":"T24-HLOOKUP(Y24,Feuil1!$C$1:$BF$9,2,FALSE)","v":{"$error":"#VALUE!"}},{"$f":"T24-HLOOKUP(Y24,Feuil1!$C$1:$BF$9,3,FALSE)","v":{"$error":"#VALUE!"}},{"$f":"T24-HLOOKUP(Y24,Feuil1!$C$1:$BF$9,4,FALSE)","v":{"$error":"#VALUE!"}},{"$f":"T24-HLOOKUP(Y24,Feuil1!$C$1:$BF$9,5,FALSE)","v":{"$error":"#VALUE!"}},{"$f":"T24-HLOOKUP(Y24,Feuil1!$C$1:$BF$9,6,FALSE)","v":{"$error":"#VALUE!"}},{"$f":"T24-HLOOKUP(Y24,Feuil1!$C$1:$BF$9,7,FALSE)","v":{"$error":"#VALUE!"}},{"$f":"T24-HLOOKUP(Y24,Feuil1!$C$1:$BF$9,8,FALSE)","v":{"$error":"#VALUE!"}},{"$f":"T24-HLOOKUP(Y24,Feuil1!$C$1:$BF$9,9,FALSE)","v":{"$error":"#VALUE!"}},null,null,null,null,null,null,null,{"$error":"#VALUE!"},2016,null,{"$f":"IF(AQ24,VLOOKUP(AQ24,HOM!$AR$551:$AS$606,2))","v":3.5710000000000002}]
["F",null,null,null,null,null,null,null,null,null,null,null,null,null,"",null,null,null,"","","","","",{"$f":"IF(AQ25<95,IF(AQ25<=90,VLOOKUP(AQ25,$AQ$464:$AR$519,2)))","v":false},{"$f":"IF(AND(H25<1936),VLOOKUP(I25,Feuil1!$F$10:$O$24,9),IF(AND(H25>=1942,H25<1947),VLOOKUP(I25,Feuil1!$F$10:$O$24,9),IF(AND(H25>=1947,H25<1952),VLOOKUP(I25,Feuil1!$F$10:$O$24,8),IF(AND(H25>=1952,H25<1957),VLOOKUP(I25,Feuil1!$F$10:$O$24,7),IF(AND(H25>=1957,H25<1962),VLOOKUP(I25,Feuil1!$F$10:$O$24,6),IF(AND(H25>=1962,H25<1967),VLOOKUP(I25,Feuil1!$F$10:$O$24,5),IF(AND(H25>=1967,H25<1972),VLOOKUP(I25,Feuil1!$F$10:$O$24,4),IF(AND(H25>=1972,H25<1977),VLOOKUP(I25,Feuil1!$F$10:$O$24,3),IF(AND(H25>=1977,H25<1982),VLOOKUP(I25,Feuil1!$F$10:$O$24,2),VLOOKUP(I25,Feuil1!$F$10:$O$24,2))))))))))","v":{"$error":"#N/A"}},null,{"$f":"T25-HLOOKUP(Y25,Feuil1!$C$1:$BF$9,2,FALSE)","v":{"$error":"#VALUE!"}},{"$f":"T25-HLOOKUP(Y25,Feuil1!$C$1:$BF$9,3,FALSE)","v":{"$error":"#VALUE!"}},{"$f":"T25-HLOOKUP(Y25,Feuil1!$C$1:$BF$9,4,FALSE)","v":{"$error":"#VALUE!"}},{"$f":"T25-HLOOKUP(Y25,Feuil1!$C$1:$BF$9,5,FALSE)","v":{"$error":"#VALUE!"}},{"$f":"T25-HLOOKUP(Y25,Feuil1!$C$1:$BF$9,6,FALSE)","v":{"$error":"#VALUE!"}},{"$f":"T25-HLOOKUP(Y25,Feuil1!$C$1:$BF$9,7,FALSE)","v":{"$error":"#VALUE!"}},{"$f":"T25-HLOOKUP(Y25,Feuil1!$C$1:$BF$9,8,FALSE)","v":{"$error":"#VALUE!"}},{"$f":"T25-HLOOKUP(Y25,Feuil1!$C$1:$BF$9,9,FALSE)","v":{"$error":"#VALUE!"}},null,null,null,null,null,null,null,{"$error":"#VALUE!"},2016,null,{"$f":"IF(AQ25,VLOOKUP(AQ25,HOM!$AR$551:$AS$606,2))","v":3.5710000000000002}]
["F",null,null,null,null,null,null,1980,48,null,null,null,null,null,0,null,null,null,0,0,0,"N.CL.",0,{"$f":"IF(AQ26<95,IF(AQ26<=90,VLOOKUP(AQ26,$AQ$464:$AR$519,2)))","v":"V1 F35"},{"$f":"IF(AND(H26<1936),VLOOKUP(I26,Feuil1!$F$10:$O$24,9),IF(AND(H26>=1942,H26<1947),VLOOKUP(I26,Feuil1!$F$10:$O$24,9),IF(AND(H26>=1947,H26<1952),VLOOKUP(I26,Feuil1!$F$10:$O$24,8),IF(AND(H26>=1952,H26<1957),VLOOKUP(I26,Feuil1!$F$10:$O$24,7),IF(AND(H26>=1957,H26<1962),VLOOKUP(I26,Feuil1!$F$10:$O$24,6),IF(AND(H26>=1962,H26<1967),VLOOKUP(I26,Feuil1!$F$10:$O$24,5),IF(AND(H26>=1967,H26<1972),VLOOKUP(I26,Feuil1!$F$10:$O$24,4),IF(AND(H26>=1972,H26<1977),VLOOKUP(I26,Feuil1!$F$10:$O$24,3),IF(AND(H26>=1977,H26<1982),VLOOKUP(I26,Feuil1!$F$10:$O$24,2),VLOOKUP(I26,Feuil1!$F$10:$O$24,2))))))))))","v":"VF35-48"},null,{"$f":"T26-HLOOKUP(Y26,Feuil1!$C$1:$BF$9,2,FALSE)","v":0},{"$f":"T26-HLOOKUP(Y26,Feuil1!$C$1:$BF$9,3,FALSE)","v":-55},{"$f":"T26-HLOOKUP(Y26,Feuil1!$C$1:$BF$9,4,FALSE)","v":-60},{"$f":"T26-HLOOKUP(Y26,Feuil1!$C$1:$BF$9,5,FALSE)","v":-70},{"$f":"T26-HLOOKUP(Y26,Feuil1!$C$1:$BF$9,6,FALSE)","v":-82},{"$f":"T26-HLOOKUP(Y26,Feuil1!$C$1:$BF$9,7,FALSE)","v":-1000},{"$f":"T26-HLOOKUP(Y26,Feuil1!$C$1:$BF$9,8,FALSE)","v":-1000},{"$f":"T26-HLOOKUP(Y26,Feuil1!$C$1:$BF$9,9,FALSE)","v":-1000},null,null,null,null,null,null,null,"N.CL.",36,null,{"$f":"IF(AQ26,VLOOKUP(AQ26,HOM!$AR$551:$AS$606,2))","v":1.087}]
["F",null,null,null,null,null,null,1980,53,null,null,null,null,null,0,null,null,null,0,0,0,"N.CL.",0,{"$f":"IF(AQ27<95,IF(AQ27<=90,VLOOKUP(AQ27,$AQ$464:$AR$519,2)))","v":"V1 F35"},{"$f":"IF(AND(H27<1936),VLOOKUP(I27,Feuil1!$F$10:$O$24,9),IF(AND(H27>=1942,H27<1947),VLOOKUP(I27,Feuil1!$F$10:$O$24,9),IF(AND(H27>=1947,H27<1952),VLOOKUP(I27,Feuil1!$F$10:$O$24,8),IF(AND(H27>=1952,H27<1957),VLOOKUP(I27,Feuil1!$F$10:$O$24,7),IF(AND(H27>=1957,H27<1962),VLOOKUP(I27,Feuil1!$F$10:$O$24,6),IF(AND(H27>=1962,H27<1967),VLOOKUP(I27,Feuil1!$F$10:$O$24,5),IF(AND(H27>=1967,H27<1972),VLOOKUP(I27,Feuil1!$F$10:$O$24,4),IF(AND(H27>=1972,H27<1977),VLOOKUP(I27,Feuil1!$F$10:$O$24,3),IF(AND(H27>=1977,H27<1982),VLOOKUP(I27,Feuil1!$F$10:$O$24,2),VLOOKUP(I27,Feuil1!$F$10:$O$24,2))))))))))","v":"VF35-53"},null,{"$f":"T27-HLOOKUP(Y27,Feuil1!$C$1:$BF$9,2,FALSE)","v":0},{"$f":"T27-HLOOKUP(Y27,Feuil1!$C$1:$BF$9,3,FALSE)","v":-60},{"$f":"T27-HLOOKUP(Y27,Feuil1!$C$1:$BF$9,4,FALSE)","v":-62},{"$f":"T27-HLOOKUP(Y27,Feuil1!$C$1:$BF$9,5,FALSE)","v":-72},{"$f":"T27-HLOOKUP(Y27,Feuil1!$C$1:$BF$9,6,FALSE)","v":-90},{"$f":"T27-HLOOKUP(Y27,Feuil1!$C$1:$BF$9,7,FALSE)","v":-1000},{"$f":"T27-HLOOKUP(Y27,Feuil1!$C$1:$BF$9,8,FALSE)","v":-1000},{"$f":"T27-HLOOKUP(Y27,Feuil1!$C$1:$BF$9,9,FALSE)","v":-1000},null,null,null,null,null,null,null,"N.CL.",36,null,{"$f":"IF(AQ27,VLOOKUP(AQ27,HOM!$AR$551:$AS$606,2))","v":1.087}]
["F",null,null,null,null,null,null,1975,58,null,null,null,null,null,0,null,null,null,0,0,0,"N.CL.",0,{"$f":"IF(AQ28<95,IF(AQ28<=90,VLOOKUP(AQ28,$AQ$464:$AR$519,2)))","v":"V2 F40"},{"$f":"IF(AND(H28<1936),VLOOKUP(I28,Feuil1!$F$10:$O$24,9),IF(AND(H28>=1942,H28<1947),VLOOKUP(I28,Feuil1!$F$10:$O$24,9),IF(AND(H28>=1947,H28<1952),VLOOKUP(I28,Feuil1!$F$10:$O$24,8),IF(AND(H28>=1952,H28<1957),VLOOKUP(I28,Feuil1!$F$10:$O$24,7),IF(AND(H28>=1957,H28<1962),VLOOKUP(I28,Feuil1!$F$10:$O$24,6),IF(AND(H28>=1962,H28<1967),VLOOKUP(I28,Feuil1!$F$10:$O$24,5),IF(AND(H28>=1967,H28<1972),VLOOKUP(I28,Feuil1!$F$10:$O$24,4),IF(AND(H28>=1972,H28<1977),VLOOKUP(I28,Feuil1!$F$10:$O$24,3),IF(AND(H28>=1977,H28<1982),VLOOKUP(I28,Feuil1!$F$10:$O$24,2),VLOOKUP(I28,Feuil1!$F$10:$O$24,2))))))))))","v":"VF40-58"},null,{"$f":"T28-HLOOKUP(Y28,Feuil1!$C$1:$BF$9,2,FALSE)","v":0},{"$f":"T28-HLOOKUP(Y28,Feuil1!$C$1:$BF$9,3,FALSE)","v":-60},{"$f":"T28-HLOOKUP(Y28,Feuil1!$C$1:$BF$9,4,FALSE)","v":-62},{"$f":"T28-HLOOKUP(Y28,Feuil1!$C$1:$BF$9,5,FALSE)","v":-72},{"$f":"T28-HLOOKUP(Y28,Feuil1!$C$1:$BF$9,6,FALSE)","v":-90},{"$f":"T28-HLOOKUP(Y28,Feuil1!$C$1:$BF$9,7,FALSE)","v":-1000},{"$f":"T28-HLOOKUP(Y28,Feuil1!$C$1:$BF$9,8,FALSE)","v":-1000},{"$f":"T28-HLOOKUP(Y28,Feuil1!$C$1:$BF$9,9,FALSE)","v":-1000},null,null,null,null,null,null,null,"N.CL.",41,null,{"$f":"IF(AQ28,VLOOKUP(AQ28,HOM!$AR$551:$AS$606,2))","v":1.147}]
["F",null,null,null,null,null,null,1975,63,null,null,null,null,null,0,null,null,null,0,0,0,"N.CL.",0,{"$f":"IF(AQ29<95,IF(AQ29<=90,VLOOKUP(AQ29,$AQ$464:$AR$519,2)))","v":"V2 F40"},{"$f":"IF(AND(H29<1936),VLOOKUP(I29,Feuil1!$F$10:$O$24,9),IF(AND(H29>=1942,H29<1947),VLOOKUP(I29,Feuil1!$F$10:$O$24,9),IF(AND(H29>=1947,H29<1952),VLOOKUP(I29,Feuil1!$F$10:$O$24,8),IF(AND(H29>=1952,H29<1957),VLOOKUP(I29,Feuil1!$F$10:$O$24,7),IF(AND(H29>=1957,H29<1962),VLOOKUP(I29,Feuil1!$F$10:$O$24,6),IF(AND(H29>=1962,H29<1967),VLOOKUP(I29,Feuil1!$F$10:$O$24,5),IF(AND(H29>=1967,H29<1972),VLOOKUP(I29,Feuil1!$F$10:$O$24,4),IF(AND(H29>=1972,H29<1977),VLOOKUP(I29,Feuil1!$F$10:$O$24,3),IF(AND(H29>=1977,H29<1982),VLOOKUP(I29,Feuil1!$F$10:$O$24,2),VLOOKUP(I29,Feuil1!$F$10:$O$24,2))))))))))","v":"VF40-63"},null,{"$f":"T29-HLOOKUP(Y29,Feuil1!$C$1:$BF$9,2,FALSE)","v":0},{"$f":"T29-HLOOKUP(Y29,Feuil1!$C$1:$BF$9,3,FALSE)","v":-62},{"$f":"T29-HLOOKUP(Y29,Feuil1!$C$1:$BF$9,4,FALSE)","v":-65},{"$f":"T29-HLOOKUP(Y29,Feuil1!$C$1:$BF$9,5,FALSE)","v":-75},{"$f":"T29-HLOOKUP(Y29,Feuil1!$C$1:$BF$9,6,FALSE)","v":-95},{"$f":"T29-HLOOKUP(Y29,Feuil1!$C$1:$BF$9,7,FALSE)","v":-1000},{"$f":"T29-HLOOKUP(Y29,Feuil1!$C$1:$BF$9,8,FALSE)","v":-1000},{"$f":"T29-HLOOKUP(Y29,Feuil1!$C$1:$BF$9,9,FALSE)","v":-1000},null,null,null,null,null,null,null,"N.CL.",41,null,{"$f":"IF(AQ29,VLOOKUP(AQ29,HOM!$AR$551:$AS$606,2))","v":1.147}]
["F",null,null,null,null,null,null,1970,69,null,null,null,null,null,0,null,null,null,0,0,0,"N.CL.",0,{"$f":"IF(AQ30<95,IF(AQ30<=90,VLOOKUP(AQ30,$AQ$464:$AR$519,2)))","v":"V3 F45"},{"$f":"IF(AND(H30<1936),VLOOKUP(I30,Feuil1!$F$10:$O$24,9),IF(AND(H30>=1942,H30<1947),VLOOKUP(I30,Feuil1!$F$10:$O$24,9),IF(AND(H30>=1947,H30<1952),VLOOKUP(I30,Feuil1!$F$10:$O$24,8),IF(AND(H30>=1952,H30<1957),VLOOKUP(I30,Feuil1!$F$10:$O$24,7),IF(AND(H30>=1957,H30<1962),VLOOKUP(I30,Feuil1!$F$10:$O$24,6),IF(AND(H30>=1962,H30<1967),VLOOKUP(I30,Feuil1!$F$10:$O$24,5),IF(AND(H30>=1967,H30<1972),VLOOKUP(I30,Feuil1!$F$10:$O$24,4),IF(AND(H30>=1972,H30<1977),VLOOKUP(I30,Feuil1!$F$10:$O$24,3),IF(AND(H30>=1977,H30<1982),VLOOKUP(I30,Feuil1!$F$10:$O$24,2),VLOOKUP(I30,Feuil1!$F$10:$O$24,2))))))))))","v":"VF45-69"},null,{"$f":"T30-HLOOKUP(Y30,Feuil1!$C$1:$BF$9,2,FALSE)","v":0},{"$f":"T30-HLOOKUP(Y30,Feuil1!$C$1:$BF$9,3,FALSE)","v":-62},{"$f":"T30-HLOOKUP(Y30,Feuil1!$C$1:$BF$9,4,FALSE)","v":-65},{"$f":"T30-HLOOKUP(Y30,Feuil1!$C$1:$BF$9,5,FALSE)","v":-75},{"$f":"T30-HLOOKUP(Y30,Feuil1!$C$1:$BF$9,6,FALSE)","v":-90},{"$f":"T30-HLOOKUP(Y30,Feuil1!$C$1:$BF$9,7,FALSE)","v":-1000},{"$f":"T30-HLOOKUP(Y30,Feuil1!$C$1:$BF$9,8,FALSE)","v":-1000},{"$f":"T30-HLOOKUP(Y30,Feuil1!$C$1:$BF$9,9,FALSE)","v":-1000},null,null,null,null,null,null,null,"N.CL.",46,null,{"$f":"IF(AQ30,VLOOKUP(AQ30,HOM!$AR$551:$AS$606,2))","v":1.2070000000000001}]
["F",null,null,null,null,null,null,1965,75,null,null,null,null,null,0,null,null,null,0,0,0,"N.CL.",0,{"$f":"IF(AQ31<95,IF(AQ31<=90,VLOOKUP(AQ31,$AQ$464:$AR$519,2)))","v":"V4 F50"},{"$f":"IF(AND(H31<1936),VLOOKUP(I31,Feuil1!$F$10:$O$24,9),IF(AND(H31>=1942,H31<1947),VLOOKUP(I31,Feuil1!$F$10:$O$24,9),IF(AND(H31>=1947,H31<1952),VLOOKUP(I31,Feuil1!$F$10:$O$24,8),IF(AND(H31>=1952,H31<1957),VLOOKUP(I31,Feuil1!$F$10:$O$24,7),IF(AND(H31>=1957,H31<1962),VLOOKUP(I31,Feuil1!$F$10:$O$24,6),IF(AND(H31>=1962,H31<1967),VLOOKUP(I31,Feuil1!$F$10:$O$24,5),IF(AND(H31>=1967,H31<1972),VLOOKUP(I31,Feuil1!$F$10:$O$24,4),IF(AND(H31>=1972,H31<1977),VLOOKUP(I31,Feuil1!$F$10:$O$24,3),IF(AND(H31>=1977,H31<1982),VLOOKUP(I31,Feuil1!$F$10:$O$24,2),VLOOKUP(I31,Feuil1!$F$10:$O$24,2))))))))))","v":"VF50-75"},null,{"$f":"T31-HLOOKUP(Y31,Feuil1!$C$1:$BF$9,2,FALSE)","v":0},{"$f":"T31-HLOOKUP(Y31,Feuil1!$C$1:$BF$9,3,FALSE)","v":-60},{"$f":"T31-HLOOKUP(Y31,Feuil1!$C$1:$BF$9,4,FALSE)","v":-65},{"$f":"T31-HLOOKUP(Y31,Feuil1!$C$1:$BF$9,5,FALSE)","v":-75},{"$f":"T31-HLOOKUP(Y31,Feuil1!$C$1:$BF$9,6,FALSE)","v":-85},{"$f":"T31-HLOOKUP(Y31,Feuil1!$C$1:$BF$9,7,FALSE)","v":-1000},{"$f":"T31-HLOOKUP(Y31,Feuil1!$C$1:$BF$9,8,FALSE)","v":-1000},{"$f":"T31-HLOOKUP(Y31,Feuil1!$C$1:$BF$9,9,FALSE)","v":-1000},null,null,null,null,null,null,null,"N.CL.",51,null,{"$f":"IF(AQ31,VLOOKUP(AQ31,HOM!$AR$551:$AS$606,2))","v":1.2549999999999999}]
["F",null,null,null,null,null,null,1950,76,null,null,null,null,null,0,null,null,null,0,0,0,"N.CL.",0,{"$f":"IF(AQ32<95,IF(AQ32<=90,VLOOKUP(AQ32,$AQ$464:$AR$519,2)))","v":"V7 F65"},{"$f":"IF(AND(H32<1936),VLOOKUP(I32,Feuil1!$F$10:$O$24,9),IF(AND(H32>=1942,H32<1947),VLOOKUP(I32,Feuil1!$F$10:$O$24,9),IF(AND(H32>=1947,H32<1952),VLOOKUP(I32,Feuil1!$F$10:$O$24,8),IF(AND(H32>=1952,H32<1957),VLOOKUP(I32,Feuil1!$F$10:$O$24,7),IF(AND(H32>=1957,H32<1962),VLOOKUP(I32,Feuil1!$F$10:$O$24,6),IF(AND(H32>=1962,H32<1967),VLOOKUP(I32,Feuil1!$F$10:$O$24,5),IF(AND(H32>=1967,H32<1972),VLOOKUP(I32,Feuil1!$F$10:$O$24,4),IF(AND(H32>=1972,H32<1977),VLOOKUP(I32,Feuil1!$F$10:$O$24,3),IF(AND(H32>=1977,H32<1982),VLOOKUP(I32,Feuil1!$F$10:$O$24,2),VLOOKUP(I32,Feuil1!$F$10:$O$24,2))))))))))","v":"VF65+75"},null,{"$f":"T32-HLOOKUP(Y32,Feuil1!$C$1:$BF$9,2,FALSE)","v":0},{"$f":"T32-HLOOKUP(Y32,Feuil1!$C$1:$BF$9,3,FALSE)","v":-52},{"$f":"T32-HLOOKUP(Y32,Feuil1!$C$1:$BF$9,4,FALSE)","v":-55},{"$f":"T32-HLOOKUP(Y32,Feuil1!$C$1:$BF$9,5,FALSE)","v":-65},{"$f":"T32-HLOOKUP(Y32,Feuil1!$C$1:$BF$9,6,FALSE)","v":-65},{"$f":"T32-HLOOKUP(Y32,Feuil1!$C$1:$BF$9,7,FALSE)","v":-1000},{"$f":"T32-HLOOKUP(Y32,Feuil1!$C$1:$BF$9,8,FALSE)","v":-1000},{"$f":"T32-HLOOKUP(Y32,Feuil1!$C$1:$BF$9,9,FALSE)","v":-1000},null,null,null,null,null,null,null,"N.CL.",66,null,{"$f":"IF(AQ32,VLOOKUP(AQ32,HOM!$AR$551:$AS$606,2))","v":1.671}]
["F",null,null,null,null,null,null,1945,48,null,null,17,null,null,17,19,null,null,19,36,118.14228931135654,"REG +",0,{"$f":"IF(AQ33<95,IF(AQ33<=90,VLOOKUP(AQ33,$AQ$464:$AR$519,2)))","v":"V8 F70+"},{"$f":"IF(AND(H33<1936),VLOOKUP(I33,Feuil1!$F$10:$O$24,9),IF(AND(H33>=1942,H33<1947),VLOOKUP(I33,Feuil1!$F$10:$O$24,9),IF(AND(H33>=1947,H33<1952),VLOOKUP(I33,Feuil1!$F$10:$O$24,8),IF(AND(H33>=1952,H33<1957),VLOOKUP(I33,Feuil1!$F$10:$O$24,7),IF(AND(H33>=1957,H33<1962),VLOOKUP(I33,Feuil1!$F$10:$O$24,6),IF(AND(H33>=1962,H33<1967),VLOOKUP(I33,Feuil1!$F$10:$O$24,5),IF(AND(H33>=1967,H33<1972),VLOOKUP(I33,Feuil1!$F$10:$O$24,4),IF(AND(H33>=1972,H33<1977),VLOOKUP(I33,Feuil1!$F$10:$O$24,3),IF(AND(H33>=1977,H33<1982),VLOOKUP(I33,Feuil1!$F$10:$O$24,2),VLOOKUP(I33,Feuil1!$F$10:$O$24,2))))))))))","v":"VF70+-48"},null,{"$f":"T33-HLOOKUP(Y33,Feuil1!$C$1:$BF$9,2,FALSE)","v":{"$error":"#VALUE!"}},{"$f":"T33-HLOOKUP(Y33,Feuil1!$C$1:$BF$9,3,FALSE)","v":0},{"$f":"T33-HLOOKUP(Y33,Feuil1!$C$1:$BF$9,4,FALSE)","v":-2},{"$f":"T33-HLOOKUP(Y33,Feuil1!$C$1:$BF$9,5,FALSE)","v":-9},{"$f":"T33-HLOOKUP(Y33,Feuil1!$C$1:$BF$9,6,FALSE)","v":-10},{"$f":"T33-HLOOKUP(Y33,Feuil1!$C$1:$BF$9,7,FALSE)","v":-964},{"$f":"T33-HLOOKUP(Y33,Feuil1!$C$1:$BF$9,8,FALSE)","v":-964},{"$f":"T33-HLOOKUP(Y33,Feuil1!$C$1:$BF$9,9,FALSE)","v":-964},null,null,null,null,null,null,null,"REG +",71,null,{"$f":"IF(AQ33,VLOOKUP(AQ33,HOM!$AR$551:$AS$606,2))","v":2.0019999999999998}]
["F",null,null,null,null,null,null,1940,53,null,null,null,null,null,0,null,null,null,0,0,0,"N.CL.",0,{"$f":"IF(AQ34<95,IF(AQ34<=90,VLOOKUP(AQ34,$AQ$464:$AR$519,2)))","v":"V8 F70+"},{"$f":"IF(AND(H34<1936),VLOOKUP(I34,Feuil1!$F$10:$O$24,9),IF(AND(H34>=1942,H34<1947),VLOOKUP(I34,Feuil1!$F$10:$O$24,9),IF(AND(H34>=1947,H34<1952),VLOOKUP(I34,Feuil1!$F$10:$O$24,8),IF(AND(H34>=1952,H34<1957),VLOOKUP(I34,Feuil1!$F$10:$O$24,7),IF(AND(H34>=1957,H34<1962),VLOOKUP(I34,Feuil1!$F$10:$O$24,6),IF(AND(H34>=1962,H34<1967),VLOOKUP(I34,Feuil1!$F$10:$O$24,5),IF(AND(H34>=1967,H34<1972),VLOOKUP(I34,Feuil1!$F$10:$O$24,4),IF(AND(H34>=1972,H34<1977),VLOOKUP(I34,Feuil1!$F$10:$O$24,3),IF(AND(H34>=1977,H34<1982),VLOOKUP(I34,Feuil1!$F$10:$O$24,2),VLOOKUP(I34,Feuil1!$F$10:$O$24,2))))))))))","v":"VF35-53"},null,{"$f":"T34-HLOOKUP(Y34,Feuil1!$C$1:$BF$9,2,FALSE)","v":0},{"$f":"T34-HLOOKUP(Y34,Feuil1!$C$1:$BF$9,3,FALSE)","v":-60},{"$f":"T34-HLOOKUP(Y34,Feuil1!$C$1:$BF$9,4,FALSE)","v":-62},{"$f":"T34-HLOOKUP(Y34,Feuil1!$C$1:$BF$9,5,FALSE)","v":-72},{"$f":"T34-HLOOKUP(Y34,Feuil1!$C$1:$BF$9,6,FALSE)","v":-90},{"$f":"T34-HLOOKUP(Y34,Feuil1!$C$1:$BF$9,7,FALSE)","v":-1000},{"$f":"T34-HLOOKUP(Y34,Feuil1!$C$1:$BF$9,8,FALSE)","v":-1000},{"$f":"T34-HLOOKUP(Y34,Feuil1!$C$1:$BF$9,9,FALSE)","v":-1000},null,null,null,null,null,null,null,"N.CL.",76,null,{"$f":"IF(AQ34,VLOOKUP(AQ34,HOM!$AR$551:$AS$606,2))","v":2.1840000000000002}]
["F",null,null,null,null,null,null,1933,58,null,null,null,null,null,0,null,null,null,0,0,0,"N.CL.",0,{"$f":"IF(AQ35<95,IF(AQ35<=90,VLOOKUP(AQ35,$AQ$464:$AR$519,2)))","v":"V8 F70+"},{"$f":"IF(AND(H35<1936),VLOOKUP(I35,Feuil1!$F$10:$O$24,9),IF(AND(H35>=1942,H35<1947),VLOOKUP(I35,Feuil1!$F$10:$O$24,9),IF(AND(H35>=1947,H35<1952),VLOOKUP(I35,Feuil1!$F$10:$O$24,8),IF(AND(H35>=1952,H35<1957),VLOOKUP(I35,Feuil1!$F$10:$O$24,7),IF(AND(H35>=1957,H35<1962),VLOOKUP(I35,Feuil1!$F$10:$O$24,6),IF(AND(H35>=1962,H35<1967),VLOOKUP(I35,Feuil1!$F$10:$O$24,5),IF(AND(H35>=1967,H35<1972),VLOOKUP(I35,Feuil1!$F$10:$O$24,4),IF(AND(H35>=1972,H35<1977),VLOOKUP(I35,Feuil1!$F$10:$O$24,3),IF(AND(H35>=1977,H35<1982),VLOOKUP(I35,Feuil1!$F$10:$O$24,2),VLOOKUP(I35,Feuil1!$F$10:$O$24,2))))))))))","v":"VF70+-58"},null,{"$f":"T35-HLOOKUP(Y35,Feuil1!$C$1:$BF$9,2,FALSE)","v":0},{"$f":"T35-HLOOKUP(Y35,Feuil1!$C$1:$BF$9,3,FALSE)","v":-40},{"$f":"T35-HLOOKUP(Y35,Feuil1!$C$1:$BF$9,4,FALSE)","v":-42},{"$f":"T35-HLOOKUP(Y35,Feuil1!$C$1:$BF$9,5,FALSE)","v":-49},{"$f":"T35-HLOOKUP(Y35,Feuil1!$C$1:$BF$9,6,FALSE)","v":-50},{"$f":"T35-HLOOKUP(Y35,Feuil1!$C$1:$BF$9,7,FALSE)","v":-1000},{"$f":"T35-HLOOKUP(Y35,Feuil1!$C$1:$BF$9,8,FALSE)","v":-1000},{"$f":"T35-HLOOKUP(Y35,Feuil1!$C$1:$BF$9,9,FALSE)","v":-1000},null,null,null,null,null,null,null,"N.CL.",83,null,{"$f":"IF(AQ35,VLOOKUP(AQ35,HOM!$AR$551:$AS$606,2))","v":3.1659999999999999}]
["F",null,null,null,null,null,null,1934,63,null,null,null,null,null,0,null,null,null,0,0,0,"N.CL.",0,{"$f":"IF(AQ36<95,IF(AQ36<=90,VLOOKUP(AQ36,$AQ$464:$AR$519,2)))","v":"V8 F70+"},{"$f":"IF(AND(H36<1936),VLOOKUP(I36,Feuil1!$F$10:$O$24,9),IF(AND(H36>=1942,H36<1947),VLOOKUP(I36,Feuil1!$F$10:$O$24,9),IF(AND(H36>=1947,H36<1952),VLOOKUP(I36,Feuil1!$F$10:$O$24,8),IF(AND(H36>=1952,H36<1957),VLOOKUP(I36,Feuil1!$F$10:$O$24,7),IF(AND(H36>=1957,H36<1962),VLOOKUP(I36,Feuil1!$F$10:$O$24,6),IF(AND(H36>=1962,H36<1967),VLOOKUP(I36,Feuil1!$F$10:$O$24,5),IF(AND(H36>=1967,H36<1972),VLOOKUP(I36,Feuil1!$F$10:$O$24,4),IF(AND(H36>=1972,H36<1977),VLOOKUP(I36,Feuil1!$F$10:$O$24,3),IF(AND(H36>=1977,H36<1982),VLOOKUP(I36,Feuil1!$F$10:$O$24,2),VLOOKUP(I36,Feuil1!$F$10:$O$24,2))))))))))","v":"VF70+-63"},null,{"$f":"T36-HLOOKUP(Y36,Feuil1!$C$1:$BF$9,2,FALSE)","v":0},{"$f":"T36-HLOOKUP(Y36,Feuil1!$C$1:$BF$9,3,FALSE)","v":-43},{"$f":"T36-HLOOKUP(Y36,Feuil1!$C$1:$BF$9,4,FALSE)","v":-45},{"$f":"T36-HLOOKUP(Y36,Feuil1!$C$1:$BF$9,5,FALSE)","v":-52},{"$f":"T36-HLOOKUP(Y36,Feuil1!$C$1:$BF$9,6,FALSE)","v":-53},{"$f":"T36-HLOOKUP(Y36,Feuil1!$C$1:$BF$9,7,FALSE)","v":-1000},{"$f":"T36-HLOOKUP(Y36,Feuil1!$C$1:$BF$9,8,FALSE)","v":-1000},{"$f":"T36-HLOOKUP(Y36,Feuil1!$C$1:$BF$9,9,FALSE)","v":-1000},null,null,null,null,null,null,null,"N.CL.",82,null,{"$f":"IF(AQ36,VLOOKUP(AQ36,HOM!$AR$551:$AS$606,2))","v":3.0179999999999998}]
["F",null,null,null,null,null,null,1932,69,null,null,null,null,null,0,null,null,null,0,0,0,"N.CL.",0,{"$f":"IF(AQ37<95,IF(AQ37<=90,VLOOKUP(AQ37,$AQ$464:$AR$519,2)))","v":"V8 F70+"},{"$f":"IF(AND(H37<1936),VLOOKUP(I37,Feuil1!$F$10:$O$24,9),IF(AND(H37>=1942,H37<1947),VLOOKUP(I37,Feuil1!$F$10:$O$24,9),IF(AND(H37>=1947,H37<1952),VLOOKUP(I37,Feuil1!$F$10:$O$24,8),IF(AND(H37>=1952,H37<1957),VLOOKUP(I37,Feuil1!$F$10:$O$24,7),IF(AND(H37>=1957,H37<1962),VLOOKUP(I37,Feuil1!$F$10:$O$24,6),IF(AND(H37>=1962,H37<1967),VLOOKUP(I37,Feuil1!$F$10:$O$24,5),IF(AND(H37>=1967,H37<1972),VLOOKUP(I37,Feuil1!$F$10:$O$24,4),IF(AND(H37>=1972,H37<1977),VLOOKUP(I37,Feuil1!$F$10:$O$24,3),IF(AND(H37>=1977,H37<1982),VLOOKUP(I37,Feuil1!$F$10:$O$24,2),VLOOKUP(I37,Feuil1!$F$10:$O$24,2))))))))))","v":"VF70+-69"},null,{"$f":"T37-HLOOKUP(Y37,Feuil1!$C$1:$BF$9,2,FALSE)","v":0},{"$f":"T37-HLOOKUP(Y37,Feuil1!$C$1:$BF$9,3,FALSE)","v":-45},{"$f":"T37-HLOOKUP(Y37,Feuil1!$C$1:$BF$9,4,FALSE)","v":-48},{"$f":"T37-HLOOKUP(Y37,Feuil1!$C$1:$BF$9,5,FALSE)","v":-55},{"$f":"T37-HLOOKUP(Y37,Feuil1!$C$1:$BF$9,6,FALSE)","v":-56},{"$f":"T37-HLOOKUP(Y37,Feuil1!$C$1:$BF$9,7,FALSE)","v":-1000},{"$f":"T37-HLOOKUP(Y37,Feuil1!$C$1:$BF$9,8,FALSE)","v":-1000},{"$f":"T37-HLOOKUP(Y37,Feuil1!$C$1:$BF$9,9,FALSE)","v":-1000},null,null,null,null,null,null,null,"N.CL.",84,null,{"$f":"IF(AQ37,VLOOKUP(AQ37,HOM!$AR$551:$AS$606,2))","v":3.2879999999999998}]
["F",null,null,null,null,null,null,1935,75,null,null,null,null,null,0,null,null,null,0,0,0,"N.CL.",0,{"$f":"IF(AQ38<95,IF(AQ38<=90,VLOOKUP(AQ38,$AQ$464:$AR$519,2)))","v":"V8 F70+"},{"$f":"IF(AND(H38<1936),VLOOKUP(I38,Feuil1!$F$10:$O$24,9),IF(AND(H38>=1942,H38<1947),VLOOKUP(I38,Feuil1!$F$10:$O$24,9),IF(AND(H38>=1947,H38<1952),VLOOKUP(I38,Feuil1!$F$10:$O$24,8),IF(AND(H38>=1952,H38<1957),VLOOKUP(I38,Feuil1!$F$10:$O$24,7),IF(AND(H38>=1957,H38<1962),VLOOKUP(I38,Feuil1!$F$10:$O$24,6),IF(AND(H38>=1962,H38<1967),VLOOKUP(I38,Feuil1!$F$10:$O$24,5),IF(AND(H38>=1967,H38<1972),VLOOKUP(I38,Feuil1!$F$10:$O$24,4),IF(AND(H38>=1972,H38<1977),VLOOKUP(I38,Feuil1!$F$10:$O$24,3),IF(AND(H38>=1977,H38<1982),VLOOKUP(I38,Feuil1!$F$10:$O$24,2),VLOOKUP(I38,Feuil1!$F$10:$O$24,2))))))))))","v":"VF70+-75"},null,{"$f":"T38-HLOOKUP(Y38,Feuil1!$C$1:$BF$9,2,FALSE)","v":0},{"$f":"T38-HLOOKUP(Y38,Feuil1!$C$1:$BF$9,3,FALSE)","v":-48},{"$f":"T38-HLOOKUP(Y38,Feuil1!$C$1:$BF$9,4,FALSE)","v":-50},{"$f":"T38-HLOOKUP(Y38,Feuil1!$C$1:$BF$9,5,FALSE)","v":-57},{"$f":"T38-HLOOKUP(Y38,Feuil1!$C$1:$BF$9,6,FALSE)","v":-58},{"$f":"T38-HLOOKUP(Y38,Feuil1!$C$1:$BF$9,7,FALSE)","v":-1000},{"$f":"T38-HLOOKUP(Y38,Feuil1!$C$1:$BF$9,8,FALSE)","v":-1000},{"$f":"T38-HLOOKUP(Y38,Feuil1!$C$1:$BF$9,9,FALSE)","v":-1000},null,null,null,null,null,null,null,"N.CL.",81,null,{"$f":"IF(AQ38,VLOOKUP(AQ38,HOM!$AR$551:$AS$606,2))","v":2.8490000000000002}]
["F",null,null,null,null,null,null,null,null,null,null,null,null,null,{"$f":"IF(I39=\"\",\"\",IF(MAXA(L39:N39)<=0,0,MAXA(L39:N39)))","v":""},null,null,null,{"$f":"IF(I39=\"\",\"\",IF(MAXA(P39:R39)<=0,0,MAXA(P39:R39)))","v":""},{"$f":"IF(I39=\"\",\"\",IF(OR(O39=0,S39=0),0,O39+S39))","v":""},{"$f":"IF(I39=\"\",\"\",IF(A39=\"H\",10^(0.794358141*LOG(I39/174.393)^2)*T39*AS39,IF(A39=\"F\",10^(0.89726074 * LOG(I39/148.026)^2)*T39*AS39,\"\")))","v":""},{"$f":"IF(I39=\"\",\"\",AP39)","v":""},{"$f":"IF(I39=\"\",\"\",IF(AH39>=0,AH39,IF(AG39>=0,AG39,IF(AF39>=0,AF39,IF(AE39>=0,AE39,IF(AD39>=0,AD39,IF(AC39>=0,AC39,IF(AB39>=0,AB39,AA39))))))))","v":""},{"$f":"IF(AQ39<95,IF(AQ39<=90,VLOOKUP(AQ39,$AQ$464:$AR$519,2)))","v":false},{"$f":"IF(AND(H39<1936),VLOOKUP(I39,Feuil1!$F$10:$O$24,9),IF(AND(H39>=1942,H39<1947),VLOOKUP(I39,Feuil1!$F$10:$O$24,9),IF(AND(H39>=1947,H39<1952),VLOOKUP(I39,Feuil1!$F$10:$O$24,8),IF(AND(H39>=1952,H39<1957),VLOOKUP(I39,Feuil1!$F$10:$O$24,7),IF(AND(H39>=1957,H39<1962),VLOOKUP(I39,Feuil1!$F$10:$O$24,6),IF(AND(H39>=1962,H39<1967),VLOOKUP(I39,Feuil1!$F$10:$O$24,5),IF(AND(H39>=1967,H39<1972),VLOOKUP(I39,Feuil1!$F$10:$O$24,4),IF(AND(H39>=1972,H39<1977),VLOOKUP(I39,Feuil1!$F$10:$O$24,3),IF(AND(H39>=1977,H39<1982),VLOOKUP(I39,Feuil1!$F$10:$O$24,2),VLOOKUP(I39,Feuil1!$F$10:$O$24,2))))))))))","v":{"$error":"#N/A"}},null,{"$f":"T39-HLOOKUP(Y39,Feuil1!$C$1:$BF$9,2,FALSE)","v":{"$error":"#VALUE!"}},{"$f":"T39-HLOOKUP(Y39,Feuil1!$C$1:$BF$9,3,FALSE)","v":{"$error":"#VALUE!"}},{"$f":"T39-HLOOKUP(Y39,Feuil1!$C$1:$BF$9,4,FALSE)","v":{"$error":"#VALUE!"}},{"$f":"T39-HLOOKUP(Y39,Feuil1!$C$1:$BF$9,5,FALSE)","v":{"$error":"#VALUE!"}},{"$f":"T39-HLOOKUP(Y39,Feuil1!$C$1:$BF$9,6,FALSE)","v":{"$error":"#VALUE!"}},{"$f":"T39-HLOOKUP(Y39,Feuil1!$C$1:$BF$9,7,FALSE)","v":{"$error":"#VALUE!"}},{"$f":"T39-HLOOKUP(Y39,Feuil1!$C$1:$BF$9,8,FALSE)","v":{"$error":"#VALUE!"}},{"$f":"T39-HLOOKUP(Y39,Feuil1!$C$1:$BF$9,9,FALSE)","v":{"$error":"#VALUE!"}},null,null,null,null,null,null,null,{"$f":"IF(AH39>=0,$AH$4,IF(AG39>=0,$AG$4,IF(AF39>=0,$AF$4,IF(AE39>=0,$AE$4,IF(AD39>=0,$AD$4,IF(AC39>=0,$AC$4,IF(AB39>=0,$AB$4,IF(AA39>=0,$AA$4,$AI$4))))))))","v":{"$error":"#VALUE!"}},2016,null,{"$f":"IF(AQ39,VLOOKUP(AQ39,HOM!$AR$551:$AS$606,2))","v":3.5710000000000002}]
["F",null,null,null,null,null,null,null,null,null,null,null,null,null,"",null,null,null,"","","","","",false,{"$f":"IF(AND(H40<1936),VLOOKUP(I40,Feuil1!$F$10:$O$24,9),IF(AND(H40>=1942,H40<1947),VLOOKUP(I40,Feuil1!$F$10:$O$24,9),IF(AND(H40>=1947,H40<1952),VLOOKUP(I40,Feuil1!$F$10:$O$24,8),IF(AND(H40>=1952,H40<1957),VLOOKUP(I40,Feuil1!$F$10:$O$24,7),IF(AND(H40>=1957,H40<1962),VLOOKUP(I40,Feuil1!$F$10:$O$24,6),IF(AND(H40>=1962,H40<1967),VLOOKUP(I40,Feuil1!$F$10:$O$24,5),IF(AND(H40>=1967,H40<1972),VLOOKUP(I40,Feuil1!$F$10:$O$24,4),IF(AND(H40>=1972,H40<1977),VLOOKUP(I40,Feuil1!$F$10:$O$24,3),IF(AND(H40>=1977,H40<1982),VLOOKUP(I40,Feuil1!$F$10:$O$24,2),VLOOKUP(I40,Feuil1!$F$10:$O$24,2))))))))))","v":{"$error":"#N/A"}},null,{"$f":"T40-HLOOKUP(Y40,Feuil1!$C$1:$BF$9,2,FALSE)","v":{"$error":"#VALUE!"}},{"$f":"T40-HLOOKUP(Y40,Feuil1!$C$1:$BF$9,3,FALSE)","v":{"$error":"#VALUE!"}},{"$f":"T40-HLOOKUP(Y40,Feuil1!$C$1:$BF$9,4,FALSE)","v":{"$error":"#VALUE!"}},{"$f":"T40-HLOOKUP(Y40,Feuil1!$C$1:$BF$9,5,FALSE)","v":{"$error":"#VALUE!"}},{"$f":"T40-HLOOKUP(Y40,Feuil1!$C$1:$BF$9,6,FALSE)","v":{"$error":"#VALUE!"}},{"$f":"T40-HLOOKUP(Y40,Feuil1!$C$1:$BF$9,7,FALSE)","v":{"$error":"#VALUE!"}},{"$f":"T40-HLOOKUP(Y40,Feuil1!$C$1:$BF$9,8,FALSE)","v":{"$error":"#VALUE!"}},{"$f":"T40-HLOOKUP(Y40,Feuil1!$C$1:$BF$9,9,FALSE)","v":{"$error":"#VALUE!"}},null,null,null,null,null,null,null,{"$error":"#VALUE!"},2016,null,{"$f":"IF(AQ40,VLOOKUP(AQ40,HOM!$AR$551:$AS$606,2))","v":3.5710000000000002}]
["F",null,null,null,null,null,null,null,null,null,null,null,null,null,"",null,null,null,"","","","","",false,{"$f":"IF(AND(H41<1936),VLOOKUP(I41,Feuil1!$F$10:$O$24,9),IF(AND(H41>=1942,H41<1947),VLOOKUP(I41,Feuil1!$F$10:$O$24,9),IF(AND(H41>=1947,H41<1952),VLOOKUP(I41,Feuil1!$F$10:$O$24,8),IF(AND(H41>=1952,H41<1957),VLOOKUP(I41,Feuil1!$F$10:$O$24,7),IF(AND(H41>=1957,H41<1962),VLOOKUP(I41,Feuil1!$F$10:$O$24,6),IF(AND(H41>=1962,H41<1967),VLOOKUP(I41,Feuil1!$F$10:$O$24,5),IF(AND(H41>=1967,H41<1972),VLOOKUP(I41,Feuil1!$F$10:$O$24,4),IF(AND(H41>=1972,H41<1977),VLOOKUP(I41,Feuil1!$F$10:$O$24,3),IF(AND(H41>=1977,H41<1982),VLOOKUP(I41,Feuil1!$F$10:$O$24,2),VLOOKUP(I41,Feuil1!$F$10:$O$24,2))))))))))","v":{"$error":"#N/A"}},null,{"$f":"T41-HLOOKUP(Y41,Feuil1!$C$1:$BF$9,2,FALSE)","v":{"$error":"#VALUE!"}},{"$f":"T41-HLOOKUP(Y41,Feuil1!$C$1:$BF$9,3,FALSE)","v":{"$error":"#VALUE!"}},{"$f":"T41-HLOOKUP(Y41,Feuil1!$C$1:$BF$9,4,FALSE)","v":{"$error":"#VALUE!"}},{"$f":"T41-HLOOKUP(Y41,Feuil1!$C$1:$BF$9,5,FALSE)","v":{"$error":"#VALUE!"}},{"$f":"T41-HLOOKUP(Y41,Feuil1!$C$1:$BF$9,6,FALSE)","v":{"$error":"#VALUE!"}},{"$f":"T41-HLOOKUP(Y41,Feuil1!$C$1:$BF$9,7,FALSE)","v":{"$error":"#VALUE!"}},{"$f":"T41-HLOOKUP(Y41,Feuil1!$C$1:$BF$9,8,FALSE)","v":{"$error":"#VALUE!"}},{"$f":"T41-HLOOKUP(Y41,Feuil1!$C$1:$BF$9,9,FALSE)","v":{"$error":"#VALUE!"}},null,null,null,null,null,null,null,{"$error":"#VALUE!"},2016,null,{"$f":"IF(AQ41,VLOOKUP(AQ41,HOM!$AR$551:$AS$606,2))","v":3.5710000000000002}]
["F",null,null,null,null,null,null,null,null,null,null,null,null,null,"",null,null,null,"","","","","",false,{"$f":"IF(AND(H42<1936),VLOOKUP(I42,Feuil1!$F$10:$O$24,9),IF(AND(H42>=1942,H42<1947),VLOOKUP(I42,Feuil1!$F$10:$O$24,9),IF(AND(H42>=1947,H42<1952),VLOOKUP(I42,Feuil1!$F$10:$O$24,8),IF(AND(H42>=1952,H42<1957),VLOOKUP(I42,Feuil1!$F$10:$O$24,7),IF(AND(H42>=1957,H42<1962),VLOOKUP(I42,Feuil1!$F$10:$O$24,6),IF(AND(H42>=1962,H42<1967),VLOOKUP(I42,Feuil1!$F$10:$O$24,5),IF(AND(H42>=1967,H42<1972),VLOOKUP(I42,Feuil1!$F$10:$O$24,4),IF(AND(H42>=1972,H42<1977),VLOOKUP(I42,Feuil1!$F$10:$O$24,3),IF(AND(H42>=1977,H42<1982),VLOOKUP(I42,Feuil1!$F$10:$O$24,2),VLOOKUP(I42,Feuil1!$F$10:$O$24,2))))))))))","v":{"$error":"#N/A"}},null,{"$f":"T42-HLOOKUP(Y42,Feuil1!$C$1:$BF$9,2,FALSE)","v":{"$error":"#VALUE!"}},{"$f":"T42-HLOOKUP(Y42,Feuil1!$C$1:$BF$9,3,FALSE)","v":{"$error":"#VALUE!"}},{"$f":"T42-HLOOKUP(Y42,Feuil1!$C$1:$BF$9,4,FALSE)","v":{"$error":"#VALUE!"}},{"$f":"T42-HLOOKUP(Y42,Feuil1!$C$1:$BF$9,5,FALSE)","v":{"$error":"#VALUE!"}},{"$f":"T42-HLOOKUP(Y42,Feuil1!$C$1:$BF$9,6,FALSE)","v":{"$error":"#VALUE!"}},{"$f":"T42-HLOOKUP(Y42,Feuil1!$C$1:$BF$9,7,FALSE)","v":{"$error":"#VALUE!"}},{"$f":"T42-HLOOKUP(Y42,Feuil1!$C$1:$BF$9,8,FALSE)","v":{"$error":"#VALUE!"}},{"$f":"T42-HLOOKUP(Y42,Feuil1!$C$1:$BF$9,9,FALSE)","v":{"$error":"#VALUE!"}},null,null,null,null,null,null,null,{"$error":"#VALUE!"},2016,null,{"$f":"IF(AQ42,VLOOKUP(AQ42,HOM!$AR$551:$AS$606,2))","v":3.5710000000000002}]
["F",null,null,null,null,null,null,null,null,null,null,null,null,null,"",null,null,null,"","","","","",false,{"$f":"IF(AND(H43<1936),VLOOKUP(I43,Feuil1!$F$10:$O$24,9),IF(AND(H43>=1942,H43<1947),VLOOKUP(I43,Feuil1!$F$10:$O$24,9),IF(AND(H43>=1947,H43<1952),VLOOKUP(I43,Feuil1!$F$10:$O$24,8),IF(AND(H43>=1952,H43<1957),VLOOKUP(I43,Feuil1!$F$10:$O$24,7),IF(AND(H43>=1957,H43<1962),VLOOKUP(I43,Feuil1!$F$10:$O$24,6),IF(AND(H43>=1962,H43<1967),VLOOKUP(I43,Feuil1!$F$10:$O$24,5),IF(AND(H43>=1967,H43<1972),VLOOKUP(I43,Feuil1!$F$10:$O$24,4),IF(AND(H43>=1972,H43<1977),VLOOKUP(I43,Feuil1!$F$10:$O$24,3),IF(AND(H43>=1977,H43<1982),VLOOKUP(I43,Feuil1!$F$10:$O$24,2),VLOOKUP(I43,Feuil1!$F$10:$O$24,2))))))))))","v":{"$error":"#N/A"}},null,{"$f":"T43-HLOOKUP(Y43,Feuil1!$C$1:$BF$9,2,FALSE)","v":{"$error":"#VALUE!"}},{"$f":"T43-HLOOKUP(Y43,Feuil1!$C$1:$BF$9,3,FALSE)","v":{"$error":"#VALUE!"}},{"$f":"T43-HLOOKUP(Y43,Feuil1!$C$1:$BF$9,4,FALSE)","v":{"$error":"#VALUE!"}},{"$f":"T43-HLOOKUP(Y43,Feuil1!$C$1:$BF$9,5,FALSE)","v":{"$error":"#VALUE!"}},{"$f":"T43-HLOOKUP(Y43,Feuil1!$C$1:$BF$9,6,FALSE)","v":{"$error":"#VALUE!"}},{"$f":"T43-HLOOKUP(Y43,Feuil1!$C$1:$BF$9,7,FALSE)","v":{"$error":"#VALUE!"}},{"$f":"T43-HLOOKUP(Y43,Feuil1!$C$1:$BF$9,8,FALSE)","v":{"$error":"#VALUE!"}},{"$f":"T43-HLOOKUP(Y43,Feuil1!$C$1:$BF$9,9,FALSE)","v":{"$error":"#VALUE!"}},null,null,null,null,null,null,null,{"$error":"#VALUE!"},2016,null,{"$f":"IF(AQ43,VLOOKUP(AQ43,HOM!$AR$551:$AS$606,2))","v":3.5710000000000002}]
["F",null,null,null,null,null,null,null,null,null,null,null,null,null,"",null,null,null,"","","","","",false,{"$f":"IF(AND(H44<1936),VLOOKUP(I44,Feuil1!$F$10:$O$24,9),IF(AND(H44>=1942,H44<1947),VLOOKUP(I44,Feuil1!$F$10:$O$24,9),IF(AND(H44>=1947,H44<1952),VLOOKUP(I44,Feuil1!$F$10:$O$24,8),IF(AND(H44>=1952,H44<1957),VLOOKUP(I44,Feuil1!$F$10:$O$24,7),IF(AND(H44>=1957,H44<1962),VLOOKUP(I44,Feuil1!$F$10:$O$24,6),IF(AND(H44>=1962,H44<1967),VLOOKUP(I44,Feuil1!$F$10:$O$24,5),IF(AND(H44>=1967,H44<1972),VLOOKUP(I44,Feuil1!$F$10:$O$24,4),IF(AND(H44>=1972,H44<1977),VLOOKUP(I44,Feuil1!$F$10:$O$24,3),IF(AND(H44>=1977,H44<1982),VLOOKUP(I44,Feuil1!$F$10:$O$24,2),VLOOKUP(I44,Feuil1!$F$10:$O$24,2))))))))))","v":{"$error":"#N/A"}},null,{"$f":"T44-HLOOKUP(Y44,Feuil1!$C$1:$BF$9,2,FALSE)","v":{"$error":"#VALUE!"}},{"$f":"T44-HLOOKUP(Y44,Feuil1!$C$1:$BF$9,3,FALSE)","v":{"$error":"#VALUE!"}},{"$f":"T44-HLOOKUP(Y44,Feuil1!$C$1:$BF$9,4,FALSE)","v":{"$error":"#VALUE!"}},{"$f":"T44-HLOOKUP(Y44,Feuil1!$C$1:$BF$9,5,FALSE)","v":{"$error":"#VALUE!"}},{"$f":"T44-HLOOKUP(Y44,Feuil1!$C$1:$BF$9,6,FALSE)","v":{"$error":"#VALUE!"}},{"$f":"T44-HLOOKUP(Y44,Feuil1!$C$1:$BF$9,7,FALSE)","v":{"$error":"#VALUE!"}},{"$f":"T44-HLOOKUP(Y44,Feuil1!$C$1:$BF$9,8,FALSE)","v":{"$error":"#VALUE!"}},{"$f":"T44-HLOOKUP(Y44,Feuil1!$C$1:$BF$9,9,FALSE)","v":{"$error":"#VALUE!"}},null,null,null,null,null,null,null,{"$error":"#VALUE!"},2016,null,{"$f":"IF(AQ44,VLOOKUP(AQ44,HOM!$AR$551:$AS$606,2))","v":3.5710000000000002}]
["F",null,null,null,null,null,null,null,null,null,null,null,null,null,"",null,null,null,"","","","","",false,{"$f":"IF(AND(H45<1936),VLOOKUP(I45,Feuil1!$F$10:$O$24,9),IF(AND(H45>=1942,H45<1947),VLOOKUP(I45,Feuil1!$F$10:$O$24,9),IF(AND(H45>=1947,H45<1952),VLOOKUP(I45,Feuil1!$F$10:$O$24,8),IF(AND(H45>=1952,H45<1957),VLOOKUP(I45,Feuil1!$F$10:$O$24,7),IF(AND(H45>=1957,H45<1962),VLOOKUP(I45,Feuil1!$F$10:$O$24,6),IF(AND(H45>=1962,H45<1967),VLOOKUP(I45,Feuil1!$F$10:$O$24,5),IF(AND(H45>=1967,H45<1972),VLOOKUP(I45,Feuil1!$F$10:$O$24,4),IF(AND(H45>=1972,H45<1977),VLOOKUP(I45,Feuil1!$F$10:$O$24,3),IF(AND(H45>=1977,H45<1982),VLOOKUP(I45,Feuil1!$F$10:$O$24,2),VLOOKUP(I45,Feuil1!$F$10:$O$24,2))))))))))","v":{"$error":"#N/A"}},null,{"$f":"T45-HLOOKUP(Y45,Feuil1!$C$1:$BF$9,2,FALSE)","v":{"$error":"#VALUE!"}},{"$f":"T45-HLOOKUP(Y45,Feuil1!$C$1:$BF$9,3,FALSE)","v":{"$error":"#VALUE!"}},{"$f":"T45-HLOOKUP(Y45,Feuil1!$C$1:$BF$9,4,FALSE)","v":{"$error":"#VALUE!"}},{"$f":"T45-HLOOKUP(Y45,Feuil1!$C$1:$BF$9,5,FALSE)","v":{"$error":"#VALUE!"}},{"$f":"T45-HLOOKUP(Y45,Feuil1!$C$1:$BF$9,6,FALSE)","v":{"$error":"#VALUE!"}},{"$f":"T45-HLOOKUP(Y45,Feuil1!$C$1:$BF$9,7,FALSE)","v":{"$error":"#VALUE!"}},{"$f":"T45-HLOOKUP(Y45,Feuil1!$C$1:$BF$9,8,FALSE)","v":{"$error":"#VALUE!"}},{"$f":"T45-HLOOKUP(Y45,Feuil1!$C$1:$BF$9,9,FALSE)","v":{"$error":"#VALUE!"}},null,null,null,null,null,null,null,{"$error":"#VALUE!"},2016,null,{"$f":"IF(AQ45,VLOOKUP(AQ45,HOM!$AR$551:$AS$606,2))","v":3.5710000000000002}]
["F",null,null,null,null,null,null,null,null,null,null,null,null,null,"",null,null,null,"","","","","",false,{"$f":"IF(AND(H46<1936),VLOOKUP(I46,Feuil1!$F$10:$O$24,9),IF(AND(H46>=1942,H46<1947),VLOOKUP(I46,Feuil1!$F$10:$O$24,9),IF(AND(H46>=1947,H46<1952),VLOOKUP(I46,Feuil1!$F$10:$O$24,8),IF(AND(H46>=1952,H46<1957),VLOOKUP(I46,Feuil1!$F$10:$O$24,7),IF(AND(H46>=1957,H46<1962),VLOOKUP(I46,Feuil1!$F$10:$O$24,6),IF(AND(H46>=1962,H46<1967),VLOOKUP(I46,Feuil1!$F$10:$O$24,5),IF(AND(H46>=1967,H46<1972),VLOOKUP(I46,Feuil1!$F$10:$O$24,4),IF(AND(H46>=1972,H46<1977),VLOOKUP(I46,Feuil1!$F$10:$O$24,3),IF(AND(H46>=1977,H46<1982),VLOOKUP(I46,Feuil1!$F$10:$O$24,2),VLOOKUP(I46,Feuil1!$F$10:$O$24,2))))))))))","v":{"$error":"#N/A"}},null,{"$f":"T46-HLOOKUP(Y46,Feuil1!$C$1:$BF$9,2,FALSE)","v":{"$error":"#VALUE!"}},{"$f":"T46-HLOOKUP(Y46,Feuil1!$C$1:$BF$9,3,FALSE)","v":{"$error":"#VALUE!"}},{"$f":"T46-HLOOKUP(Y46,Feuil1!$C$1:$BF$9,4,FALSE)","v":{"$error":"#VALUE!"}},{"$f":"T46-HLOOKUP(Y46,Feuil1!$C$1:$BF$9,5,FALSE)","v":{"$error":"#VALUE!"}},{"$f":"T46-HLOOKUP(Y46,Feuil1!$C$1:$BF$9,6,FALSE)","v":{"$error":"#VALUE!"}},{"$f":"T46-HLOOKUP(Y46,Feuil1!$C$1:$BF$9,7,FALSE)","v":{"$error":"#VALUE!"}},{"$f":"T46-HLOOKUP(Y46,Feuil1!$C$1:$BF$9,8,FALSE)","v":{"$error":"#VALUE!"}},{"$f":"T46-HLOOKUP(Y46,Feuil1!$C$1:$BF$9,9,FALSE)","v":{"$error":"#VALUE!"}},null,null,null,null,null,null,null,{"$error":"#VALUE!"},2016,null,{"$f":"IF(AQ46,VLOOKUP(AQ46,HOM!$AR$551:$AS$606,2))","v":3.5710000000000002}]
["F",null,null,null,null,null,null,null,null,null,null,null,null,null,"",null,null,null,"","","","","",false,{"$f":"IF(AND(H47<1936),VLOOKUP(I47,Feuil1!$F$10:$O$24,9),IF(AND(H47>=1942,H47<1947),VLOOKUP(I47,Feuil1!$F$10:$O$24,9),IF(AND(H47>=1947,H47<1952),VLOOKUP(I47,Feuil1!$F$10:$O$24,8),IF(AND(H47>=1952,H47<1957),VLOOKUP(I47,Feuil1!$F$10:$O$24,7),IF(AND(H47>=1957,H47<1962),VLOOKUP(I47,Feuil1!$F$10:$O$24,6),IF(AND(H47>=1962,H47<1967),VLOOKUP(I47,Feuil1!$F$10:$O$24,5),IF(AND(H47>=1967,H47<1972),VLOOKUP(I47,Feuil1!$F$10:$O$24,4),IF(AND(H47>=1972,H47<1977),VLOOKUP(I47,Feuil1!$F$10:$O$24,3),IF(AND(H47>=1977,H47<1982),VLOOKUP(I47,Feuil1!$F$10:$O$24,2),VLOOKUP(I47,Feuil1!$F$10:$O$24,2))))))))))","v":{"$error":"#N/A"}},null,{"$f":"T47-HLOOKUP(Y47,Feuil1!$C$1:$BF$9,2,FALSE)","v":{"$error":"#VALUE!"}},{"$f":"T47-HLOOKUP(Y47,Feuil1!$C$1:$BF$9,3,FALSE)","v":{"$error":"#VALUE!"}},{"$f":"T47-HLOOKUP(Y47,Feuil1!$C$1:$BF$9,4,FALSE)","v":{"$error":"#VALUE!"}},{"$f":"T47-HLOOKUP(Y47,Feuil1!$C$1:$BF$9,5,FALSE)","v":{"$error":"#VALUE!"}},{"$f":"T47-HLOOKUP(Y47,Feuil1!$C$1:$BF$9,6,FALSE)","v":{"$error":"#VALUE!"}},{"$f":"T47-HLOOKUP(Y47,Feuil1!$C$1:$BF$9,7,FALSE)","v":{"$error":"#VALUE!"}},{"$f":"T47-HLOOKUP(Y47,Feuil1!$C$1:$BF$9,8,FALSE)","v":{"$error":"#VALUE!"}},{"$f":"T47-HLOOKUP(Y47,Feuil1!$C$1:$BF$9,9,FALSE)","v":{"$error":"#VALUE!"}},null,null,null,null,null,null,null,{"$error":"#VALUE!"},2016,null,{"$f":"IF(AQ47,VLOOKUP(AQ47,HOM!$AR$551:$AS$606,2))","v":3.5710000000000002}]
["F",null,null,null,null,null,null,null,null,null,null,null,null,null,"",null,null,null,"","","","","",false,{"$f":"IF(AND(H48<1936),VLOOKUP(I48,Feuil1!$F$10:$O$24,9),IF(AND(H48>=1942,H48<1947),VLOOKUP(I48,Feuil1!$F$10:$O$24,9),IF(AND(H48>=1947,H48<1952),VLOOKUP(I48,Feuil1!$F$10:$O$24,8),IF(AND(H48>=1952,H48<1957),VLOOKUP(I48,Feuil1!$F$10:$O$24,7),IF(AND(H48>=1957,H48<1962),VLOOKUP(I48,Feuil1!$F$10:$O$24,6),IF(AND(H48>=1962,H48<1967),VLOOKUP(I48,Feuil1!$F$10:$O$24,5),IF(AND(H48>=1967,H48<1972),VLOOKUP(I48,Feuil1!$F$10:$O$24,4),IF(AND(H48>=1972,H48<1977),VLOOKUP(I48,Feuil1!$F$10:$O$24,3),IF(AND(H48>=1977,H48<1982),VLOOKUP(I48,Feuil1!$F$10:$O$24,2),VLOOKUP(I48,Feuil1!$F$10:$O$24,2))))))))))","v":{"$error":"#N/A"}},null,{"$f":"T48-HLOOKUP(Y48,Feuil1!$C$1:$BF$9,2,FALSE)","v":{"$error":"#VALUE!"}},{"$f":"T48-HLOOKUP(Y48,Feuil1!$C$1:$BF$9,3,FALSE)","v":{"$error":"#VALUE!"}},{"$f":"T48-HLOOKUP(Y48,Feuil1!$C$1:$BF$9,4,FALSE)","v":{"$error":"#VALUE!"}},{"$f":"T48-HLOOKUP(Y48,Feuil1!$C$1:$BF$9,5,FALSE)","v":{"$error":"#VALUE!"}},{"$f":"T48-HLOOKUP(Y48,Feuil1!$C$1:$BF$9,6,FALSE)","v":{"$error":"#VALUE!"}},{"$f":"T48-HLOOKUP(Y48,Feuil1!$C$1:$BF$9,7,FALSE)","v":{"$error":"#VALUE!"}},{"$f":"T48-HLOOKUP(Y48,Feuil1!$C$1:$BF$9,8,FALSE)","v":{"$error":"#VALUE!"}},{"$f":"T48-HLOOKUP(Y48,Feuil1!$C$1:$BF$9,9,FALSE)","v":{"$error":"#VALUE!"}},null,null,null,null,null,null,null,{"$error":"#VALUE!"},2016,null,{"$f":"IF(AQ48,VLOOKUP(AQ48,HOM!$AR$551:$AS$606,2))","v":3.5710000000000002}]
["F",null,null,null,null,null,null,null,null,null,null,null,null,null,"",null,null,null,"","","","","",false,{"$f":"IF(AND(H49<1936),VLOOKUP(I49,Feuil1!$F$10:$O$24,9),IF(AND(H49>=1942,H49<1947),VLOOKUP(I49,Feuil1!$F$10:$O$24,9),IF(AND(H49>=1947,H49<1952),VLOOKUP(I49,Feuil1!$F$10:$O$24,8),IF(AND(H49>=1952,H49<1957),VLOOKUP(I49,Feuil1!$F$10:$O$24,7),IF(AND(H49>=1957,H49<1962),VLOOKUP(I49,Feuil1!$F$10:$O$24,6),IF(AND(H49>=1962,H49<1967),VLOOKUP(I49,Feuil1!$F$10:$O$24,5),IF(AND(H49>=1967,H49<1972),VLOOKUP(I49,Feuil1!$F$10:$O$24,4),IF(AND(H49>=1972,H49<1977),VLOOKUP(I49,Feuil1!$F$10:$O$24,3),IF(AND(H49>=1977,H49<1982),VLOOKUP(I49,Feuil1!$F$10:$O$24,2),VLOOKUP(I49,Feuil1!$F$10:$O$24,2))))))))))","v":{"$error":"#N/A"}},null,{"$f":"T49-HLOOKUP(Y49,Feuil1!$C$1:$BF$9,2,FALSE)","v":{"$error":"#VALUE!"}},{"$f":"T49-HLOOKUP(Y49,Feuil1!$C$1:$BF$9,3,FALSE)","v":{"$error":"#VALUE!"}},{"$f":"T49-HLOOKUP(Y49,Feuil1!$C$1:$BF$9,4,FALSE)","v":{"$error":"#VALUE!"}},{"$f":"T49-HLOOKUP(Y49,Feuil1!$C$1:$BF$9,5,FALSE)","v":{"$error":"#VALUE!"}},{"$f":"T49-HLOOKUP(Y49,Feuil1!$C$1:$BF$9,6,FALSE)","v":{"$error":"#VALUE!"}},{"$f":"T49-HLOOKUP(Y49,Feuil1!$C$1:$BF$9,7,FALSE)","v":{"$error":"#VALUE!"}},{"$f":"T49-HLOOKUP(Y49,Feuil1!$C$1:$BF$9,8,FALSE)","v":{"$error":"#VALUE!"}},{"$f":"T49-HLOOKUP(Y49,Feuil1!$C$1:$BF$9,9,FALSE)","v":{"$error":"#VALUE!"}},null,null,null,null,null,null,null,{"$error":"#VALUE!"},2016,null,{"$f":"IF(AQ49,VLOOKUP(AQ49,HOM!$AR$551:$AS$606,2))","v":3.5710000000000002}]
["F",null,null,null,null,null,null,null,null,null,null,null,null,null,"",null,null,null,"","","","","",false,{"$f":"IF(AND(H50<1936),VLOOKUP(I50,Feuil1!$F$10:$O$24,9),IF(AND(H50>=1942,H50<1947),VLOOKUP(I50,Feuil1!$F$10:$O$24,9),IF(AND(H50>=1947,H50<1952),VLOOKUP(I50,Feuil1!$F$10:$O$24,8),IF(AND(H50>=1952,H50<1957),VLOOKUP(I50,Feuil1!$F$10:$O$24,7),IF(AND(H50>=1957,H50<1962),VLOOKUP(I50,Feuil1!$F$10:$O$24,6),IF(AND(H50>=1962,H50<1967),VLOOKUP(I50,Feuil1!$F$10:$O$24,5),IF(AND(H50>=1967,H50<1972),VLOOKUP(I50,Feuil1!$F$10:$O$24,4),IF(AND(H50>=1972,H50<1977),VLOOKUP(I50,Feuil1!$F$10:$O$24,3),IF(AND(H50>=1977,H50<1982),VLOOKUP(I50,Feuil1!$F$10:$O$24,2),VLOOKUP(I50,Feuil1!$F$10:$O$24,2))))))))))","v":{"$error":"#N/A"}},null,{"$f":"T50-HLOOKUP(Y50,Feuil1!$C$1:$BF$9,2,FALSE)","v":{"$error":"#VALUE!"}},{"$f":"T50-HLOOKUP(Y50,Feuil1!$C$1:$BF$9,3,FALSE)","v":{"$error":"#VALUE!"}},{"$f":"T50-HLOOKUP(Y50,Feuil1!$C$1:$BF$9,4,FALSE)","v":{"$error":"#VALUE!"}},{"$f":"T50-HLOOKUP(Y50,Feuil1!$C$1:$BF$9,5,FALSE)","v":{"$error":"#VALUE!"}},{"$f":"T50-HLOOKUP(Y50,Feuil1!$C$1:$BF$9,6,FALSE)","v":{"$error":"#VALUE!"}},{"$f":"T50-HLOOKUP(Y50,Feuil1!$C$1:$BF$9,7,FALSE)","v":{"$error":"#VALUE!"}},{"$f":"T50-HLOOKUP(Y50,Feuil1!$C$1:$BF$9,8,FALSE)","v":{"$error":"#VALUE!"}},{"$f":"T50-HLOOKUP(Y50,Feuil1!$C$1:$BF$9,9,FALSE)","v":{"$error":"#VALUE!"}},null,null,null,null,null,null,null,{"$error":"#VALUE!"},2016,null,{"$f":"IF(AQ50,VLOOKUP(AQ50,HOM!$AR$551:$AS$606,2))","v":3.5710000000000002}]
["F",null,null,null,null,null,null,null,null,null,null,null,null,null,"",null,null,null,"","","","","",false,{"$f":"IF(AND(H51<1936),VLOOKUP(I51,Feuil1!$F$10:$O$24,9),IF(AND(H51>=1942,H51<1947),VLOOKUP(I51,Feuil1!$F$10:$O$24,9),IF(AND(H51>=1947,H51<1952),VLOOKUP(I51,Feuil1!$F$10:$O$24,8),IF(AND(H51>=1952,H51<1957),VLOOKUP(I51,Feuil1!$F$10:$O$24,7),IF(AND(H51>=1957,H51<1962),VLOOKUP(I51,Feuil1!$F$10:$O$24,6),IF(AND(H51>=1962,H51<1967),VLOOKUP(I51,Feuil1!$F$10:$O$24,5),IF(AND(H51>=1967,H51<1972),VLOOKUP(I51,Feuil1!$F$10:$O$24,4),IF(AND(H51>=1972,H51<1977),VLOOKUP(I51,Feuil1!$F$10:$O$24,3),IF(AND(H51>=1977,H51<1982),VLOOKUP(I51,Feuil1!$F$10:$O$24,2),VLOOKUP(I51,Feuil1!$F$10:$O$24,2))))))))))","v":{"$error":"#N/A"}},null,{"$f":"T51-HLOOKUP(Y51,Feuil1!$C$1:$BF$9,2,FALSE)","v":{"$error":"#VALUE!"}},{"$f":"T51-HLOOKUP(Y51,Feuil1!$C$1:$BF$9,3,FALSE)","v":{"$error":"#VALUE!"}},{"$f":"T51-HLOOKUP(Y51,Feuil1!$C$1:$BF$9,4,FALSE)","v":{"$error":"#VALUE!"}},{"$f":"T51-HLOOKUP(Y51,Feuil1!$C$1:$BF$9,5,FALSE)","v":{"$error":"#VALUE!"}},{"$f":"T51-HLOOKUP(Y51,Feuil1!$C$1:$BF$9,6,FALSE)","v":{"$error":"#VALUE!"}},{"$f":"T51-HLOOKUP(Y51,Feuil1!$C$1:$BF$9,7,FALSE)","v":{"$error":"#VALUE!"}},{"$f":"T51-HLOOKUP(Y51,Feuil1!$C$1:$BF$9,8,FALSE)","v":{"$error":"#VALUE!"}},{"$f":"T51-HLOOKUP(Y51,Feuil1!$C$1:$BF$9,9,FALSE)","v":{"$error":"#VALUE!"}},null,null,null,null,null,null,null,{"$error":"#VALUE!"},2016,null,{"$f":"IF(AQ51,VLOOKUP(AQ51,HOM!$AR$551:$AS$606,2))","v":3.5710000000000002}]
["F",null,null,null,null,null,null,null,null,null,null,null,null,null,"",null,null,null,"","","","","",false,{"$f":"IF(AND(H52<1936),VLOOKUP(I52,Feuil1!$F$10:$O$24,9),IF(AND(H52>=1942,H52<1947),VLOOKUP(I52,Feuil1!$F$10:$O$24,9),IF(AND(H52>=1947,H52<1952),VLOOKUP(I52,Feuil1!$F$10:$O$24,8),IF(AND(H52>=1952,H52<1957),VLOOKUP(I52,Feuil1!$F$10:$O$24,7),IF(AND(H52>=1957,H52<1962),VLOOKUP(I52,Feuil1!$F$10:$O$24,6),IF(AND(H52>=1962,H52<1967),VLOOKUP(I52,Feuil1!$F$10:$O$24,5),IF(AND(H52>=1967,H52<1972),VLOOKUP(I52,Feuil1!$F$10:$O$24,4),IF(AND(H52>=1972,H52<1977),VLOOKUP(I52,Feuil1!$F$10:$O$24,3),IF(AND(H52>=1977,H52<1982),VLOOKUP(I52,Feuil1!$F$10:$O$24,2),VLOOKUP(I52,Feuil1!$F$10:$O$24,2))))))))))","v":{"$error":"#N/A"}},null,{"$f":"T52-HLOOKUP(Y52,Feuil1!$C$1:$BF$9,2,FALSE)","v":{"$error":"#VALUE!"}},{"$f":"T52-HLOOKUP(Y52,Feuil1!$C$1:$BF$9,3,FALSE)","v":{"$error":"#VALUE!"}},{"$f":"T52-HLOOKUP(Y52,Feuil1!$C$1:$BF$9,4,FALSE)","v":{"$error":"#VALUE!"}},{"$f":"T52-HLOOKUP(Y52,Feuil1!$C$1:$BF$9,5,FALSE)","v":{"$error":"#VALUE!"}},{"$f":"T52-HLOOKUP(Y52,Feuil1!$C$1:$BF$9,6,FALSE)","v":{"$error":"#VALUE!"}},{"$f":"T52-HLOOKUP(Y52,Feuil1!$C$1:$BF$9,7,FALSE)","v":{"$error":"#VALUE!"}},{"$f":"T52-HLOOKUP(Y52,Feuil1!$C$1:$BF$9,8,FALSE)","v":{"$error":"#VALUE!"}},{"$f":"T52-HLOOKUP(Y52,Feuil1!$C$1:$BF$9,9,FALSE)","v":{"$error":"#VALUE!"}},null,null,null,null,null,null,null,{"$error":"#VALUE!"},2016,null,{"$f":"IF(AQ52,VLOOKUP(AQ52,HOM!$AR$551:$AS$606,2))","v":3.5710000000000002}]
["F",null,null,null,null,null,null,1945,48,null,null,17,null,null,17,19,null,null,19,36,118.14228931135654,"REG +",0,"V8 F70+",{"$f":"IF(AND(H53<1936),VLOOKUP(I53,Feuil1!$F$10:$O$24,9),IF(AND(H53>=1942,H53<1947),VLOOKUP(I53,Feuil1!$F$10:$O$24,9),IF(AND(H53>=1947,H53<1952),VLOOKUP(I53,Feuil1!$F$10:$O$24,8),IF(AND(H53>=1952,H53<1957),VLOOKUP(I53,Feuil1!$F$10:$O$24,7),IF(AND(H53>=1957,H53<1962),VLOOKUP(I53,Feuil1!$F$10:$O$24,6),IF(AND(H53>=1962,H53<1967),VLOOKUP(I53,Feuil1!$F$10:$O$24,5),IF(AND(H53>=1967,H53<1972),VLOOKUP(I53,Feuil1!$F$10:$O$24,4),IF(AND(H53>=1972,H53<1977),VLOOKUP(I53,Feuil1!$F$10:$O$24,3),IF(AND(H53>=1977,H53<1982),VLOOKUP(I53,Feuil1!$F$10:$O$24,2),VLOOKUP(I53,Feuil1!$F$10:$O$24,2))))))))))","v":"VF70+-48"},null,{"$f":"T53-HLOOKUP(Y53,Feuil1!$C$1:$BF$9,2,FALSE)","v":{"$error":"#VALUE!"}},{"$f":"T53-HLOOKUP(Y53,Feuil1!$C$1:$BF$9,3,FALSE)","v":0},{"$f":"T53-HLOOKUP(Y53,Feuil1!$C$1:$BF$9,4,FALSE)","v":-2},{"$f":"T53-HLOOKUP(Y53,Feuil1!$C$1:$BF$9,5,FALSE)","v":-9},{"$f":"T53-HLOOKUP(Y53,Feuil1!$C$1:$BF$9,6,FALSE)","v":-10},{"$f":"T53-HLOOKUP(Y53,Feuil1!$C$1:$BF$9,7,FALSE)","v":-964},{"$f":"T53-HLOOKUP(Y53,Feuil1!$C$1:$BF$9,8,FALSE)","v":-964},{"$f":"T53-HLOOKUP(Y53,Feuil1!$C$1:$BF$9,9,FALSE)","v":-964},null,null,null,null,null,null,null,"REG +",71,null,{"$f":"IF(AQ53,VLOOKUP(AQ53,HOM!$AR$551:$AS$606,2))","v":2.0019999999999998}]
["F",null,null,null,null,null,null,null,null,null,null,null,null,null,"",null,null,null,"","","","","",false,{"$f":"IF(AND(H54<1936),VLOOKUP(I54,Feuil1!$F$10:$O$24,9),IF(AND(H54>=1942,H54<1947),VLOOKUP(I54,Feuil1!$F$10:$O$24,9),IF(AND(H54>=1947,H54<1952),VLOOKUP(I54,Feuil1!$F$10:$O$24,8),IF(AND(H54>=1952,H54<1957),VLOOKUP(I54,Feuil1!$F$10:$O$24,7),IF(AND(H54>=1957,H54<1962),VLOOKUP(I54,Feuil1!$F$10:$O$24,6),IF(AND(H54>=1962,H54<1967),VLOOKUP(I54,Feuil1!$F$10:$O$24,5),IF(AND(H54>=1967,H54<1972),VLOOKUP(I54,Feuil1!$F$10:$O$24,4),IF(AND(H54>=1972,H54<1977),VLOOKUP(I54,Feuil1!$F$10:$O$24,3),IF(AND(H54>=1977,H54<1982),VLOOKUP(I54,Feuil1!$F$10:$O$24,2),VLOOKUP(I54,Feuil1!$F$10:$O$24,2))))))))))","v":{"$error":"#N/A"}},null,{"$f":"T54-HLOOKUP(Y54,Feuil1!$C$1:$BF$9,2,FALSE)","v":{"$error":"#VALUE!"}},{"$f":"T54-HLOOKUP(Y54,Feuil1!$C$1:$BF$9,3,FALSE)","v":{"$error":"#VALUE!"}},{"$f":"T54-HLOOKUP(Y54,Feuil1!$C$1:$BF$9,4,FALSE)","v":{"$error":"#VALUE!"}},{"$f":"T54-HLOOKUP(Y54,Feuil1!$C$1:$BF$9,5,FALSE)","v":{"$error":"#VALUE!"}},{"$f":"T54-HLOOKUP(Y54,Feuil1!$C$1:$BF$9,6,FALSE)","v":{"$error":"#VALUE!"}},{"$f":"T54-HLOOKUP(Y54,Feuil1!$C$1:$BF$9,7,FALSE)","v":{"$error":"#VALUE!"}},{"$f":"T54-HLOOKUP(Y54,Feuil1!$C$1:$BF$9,8,FALSE)","v":{"$error":"#VALUE!"}},{"$f":"T54-HLOOKUP(Y54,Feuil1!$C$1:$BF$9,9,FALSE)","v":{"$error":"#VALUE!"}},null,null,null,null,null,null,null,{"$error":"#VALUE!"},2016,null,{"$f":"IF(AQ54,VLOOKUP(AQ54,HOM!$AR$551:$AS$606,2))","v":3.5710000000000002}]
["F",null,null,null,null,null,null,null,null,null,null,null,null,null,"",null,null,null,"","","","","",false,{"$f":"IF(AND(H55<1936),VLOOKUP(I55,Feuil1!$F$10:$O$24,9),IF(AND(H55>=1942,H55<1947),VLOOKUP(I55,Feuil1!$F$10:$O$24,9),IF(AND(H55>=1947,H55<1952),VLOOKUP(I55,Feuil1!$F$10:$O$24,8),IF(AND(H55>=1952,H55<1957),VLOOKUP(I55,Feuil1!$F$10:$O$24,7),IF(AND(H55>=1957,H55<1962),VLOOKUP(I55,Feuil1!$F$10:$O$24,6),IF(AND(H55>=1962,H55<1967),VLOOKUP(I55,Feuil1!$F$10:$O$24,5),IF(AND(H55>=1967,H55<1972),VLOOKUP(I55,Feuil1!$F$10:$O$24,4),IF(AND(H55>=1972,H55<1977),VLOOKUP(I55,Feuil1!$F$10:$O$24,3),IF(AND(H55>=1977,H55<1982),VLOOKUP(I55,Feuil1!$F$10:$O$24,2),VLOOKUP(I55,Feuil1!$F$10:$O$24,2))))))))))","v":{"$error":"#N/A"}},null,{"$f":"T55-HLOOKUP(Y55,Feuil1!$C$1:$BF$9,2,FALSE)","v":{"$error":"#VALUE!"}},{"$f":"T55-HLOOKUP(Y55,Feuil1!$C$1:$BF$9,3,FALSE)","v":{"$error":"#VALUE!"}},{"$f":"T55-HLOOKUP(Y55,Feuil1!$C$1:$BF$9,4,FALSE)","v":{"$error":"#VALUE!"}},{"$f":"T55-HLOOKUP(Y55,Feuil1!$C$1:$BF$9,5,FALSE)","v":{"$error":"#VALUE!"}},{"$f":"T55-HLOOKUP(Y55,Feuil1!$C$1:$BF$9,6,FALSE)","v":{"$error":"#VALUE!"}},{"$f":"T55-HLOOKUP(Y55,Feuil1!$C$1:$BF$9,7,FALSE)","v":{"$error":"#VALUE!"}},{"$f":"T55-HLOOKUP(Y55,Feuil1!$C$1:$BF$9,8,FALSE)","v":{"$error":"#VALUE!"}},{"$f":"T55-HLOOKUP(Y55,Feuil1!$C$1:$BF$9,9,FALSE)","v":{"$error":"#VALUE!"}},null,null,null,null,null,null,null,{"$error":"#VALUE!"},2016,null,{"$f":"IF(AQ55,VLOOKUP(AQ55,HOM!$AR$551:$AS$606,2))","v":3.5710000000000002}]
["F",null,null,null,null,null,null,null,null,null,null,null,null,null,"",null,null,null,"","","","","",false,{"$f":"IF(AND(H56<1936),VLOOKUP(I56,Feuil1!$F$10:$O$24,9),IF(AND(H56>=1942,H56<1947),VLOOKUP(I56,Feuil1!$F$10:$O$24,9),IF(AND(H56>=1947,H56<1952),VLOOKUP(I56,Feuil1!$F$10:$O$24,8),IF(AND(H56>=1952,H56<1957),VLOOKUP(I56,Feuil1!$F$10:$O$24,7),IF(AND(H56>=1957,H56<1962),VLOOKUP(I56,Feuil1!$F$10:$O$24,6),IF(AND(H56>=1962,H56<1967),VLOOKUP(I56,Feuil1!$F$10:$O$24,5),IF(AND(H56>=1967,H56<1972),VLOOKUP(I56,Feuil1!$F$10:$O$24,4),IF(AND(H56>=1972,H56<1977),VLOOKUP(I56,Feuil1!$F$10:$O$24,3),IF(AND(H56>=1977,H56<1982),VLOOKUP(I56,Feuil1!$F$10:$O$24,2),VLOOKUP(I56,Feuil1!$F$10:$O$24,2))))))))))","v":{"$error":"#N/A"}},null,{"$f":"T56-HLOOKUP(Y56,Feuil1!$C$1:$BF$9,2,FALSE)","v":{"$error":"#VALUE!"}},{"$f":"T56-HLOOKUP(Y56,Feuil1!$C$1:$BF$9,3,FALSE)","v":{"$error":"#VALUE!"}},{"$f":"T56-HLOOKUP(Y56,Feuil1!$C$1:$BF$9,4,FALSE)","v":{"$error":"#VALUE!"}},{"$f":"T56-HLOOKUP(Y56,Feuil1!$C$1:$BF$9,5,FALSE)","v":{"$error":"#VALUE!"}},{"$f":"T56-HLOOKUP(Y56,Feuil1!$C$1:$BF$9,6,FALSE)","v":{"$error":"#VALUE!"}},{"$f":"T56-HLOOKUP(Y56,Feuil1!$C$1:$BF$9,7,FALSE)","v":{"$error":"#VALUE!"}},{"$f":"T56-HLOOKUP(Y56,Feuil1!$C$1:$BF$9,8,FALSE)","v":{"$error":"#VALUE!"}},{"$f":"T56-HLOOKUP(Y56,Feuil1!$C$1:$BF$9,9,FALSE)","v":{"$error":"#VALUE!"}},null,null,null,null,null,null,null,{"$error":"#VALUE!"},2016,null,{"$f":"IF(AQ56,VLOOKUP(AQ56,HOM!$AR$551:$AS$606,2))","v":3.5710000000000002}]
["F",null,null,null,null,null,null,null,null,null,null,null,null,null,"",null,null,null,"","","","","",false,{"$f":"IF(AND(H57<1936),VLOOKUP(I57,Feuil1!$F$10:$O$24,9),IF(AND(H57>=1942,H57<1947),VLOOKUP(I57,Feuil1!$F$10:$O$24,9),IF(AND(H57>=1947,H57<1952),VLOOKUP(I57,Feuil1!$F$10:$O$24,8),IF(AND(H57>=1952,H57<1957),VLOOKUP(I57,Feuil1!$F$10:$O$24,7),IF(AND(H57>=1957,H57<1962),VLOOKUP(I57,Feuil1!$F$10:$O$24,6),IF(AND(H57>=1962,H57<1967),VLOOKUP(I57,Feuil1!$F$10:$O$24,5),IF(AND(H57>=1967,H57<1972),VLOOKUP(I57,Feuil1!$F$10:$O$24,4),IF(AND(H57>=1972,H57<1977),VLOOKUP(I57,Feuil1!$F$10:$O$24,3),IF(AND(H57>=1977,H57<1982),VLOOKUP(I57,Feuil1!$F$10:$O$24,2),VLOOKUP(I57,Feuil1!$F$10:$O$24,2))))))))))","v":{"$error":"#N/A"}},null,{"$f":"T57-HLOOKUP(Y57,Feuil1!$C$1:$BF$9,2,FALSE)","v":{"$error":"#VALUE!"}},{"$f":"T57-HLOOKUP(Y57,Feuil1!$C$1:$BF$9,3,FALSE)","v":{"$error":"#VALUE!"}},{"$f":"T57-HLOOKUP(Y57,Feuil1!$C$1:$BF$9,4,FALSE)","v":{"$error":"#VALUE!"}},{"$f":"T57-HLOOKUP(Y57,Feuil1!$C$1:$BF$9,5,FALSE)","v":{"$error":"#VALUE!"}},{"$f":"T57-HLOOKUP(Y57,Feuil1!$C$1:$BF$9,6,FALSE)","v":{"$error":"#VALUE!"}},{"$f":"T57-HLOOKUP(Y57,Feuil1!$C$1:$BF$9,7,FALSE)","v":{"$error":"#VALUE!"}},{"$f":"T57-HLOOKUP(Y57,Feuil1!$C$1:$BF$9,8,FALSE)","v":{"$error":"#VALUE!"}},{"$f":"T57-HLOOKUP(Y57,Feuil1!$C$1:$BF$9,9,FALSE)","v":{"$error":"#VALUE!"}},null,null,null,null,null,null,null,{"$error":"#VALUE!"},2016,null,{"$f":"IF(AQ57,VLOOKUP(AQ57,HOM!$AR$551:$AS$606,2))","v":3.5710000000000002}]
["F",null,null,null,null,null,null,null,null,null,null,null,null,null,"",null,null,null,"","","","","",false,{"$f":"IF(AND(H58<1936),VLOOKUP(I58,Feuil1!$F$10:$O$24,9),IF(AND(H58>=1942,H58<1947),VLOOKUP(I58,Feuil1!$F$10:$O$24,9),IF(AND(H58>=1947,H58<1952),VLOOKUP(I58,Feuil1!$F$10:$O$24,8),IF(AND(H58>=1952,H58<1957),VLOOKUP(I58,Feuil1!$F$10:$O$24,7),IF(AND(H58>=1957,H58<1962),VLOOKUP(I58,Feuil1!$F$10:$O$24,6),IF(AND(H58>=1962,H58<1967),VLOOKUP(I58,Feuil1!$F$10:$O$24,5),IF(AND(H58>=1967,H58<1972),VLOOKUP(I58,Feuil1!$F$10:$O$24,4),IF(AND(H58>=1972,H58<1977),VLOOKUP(I58,Feuil1!$F$10:$O$24,3),IF(AND(H58>=1977,H58<1982),VLOOKUP(I58,Feuil1!$F$10:$O$24,2),VLOOKUP(I58,Feuil1!$F$10:$O$24,2))))))))))","v":{"$error":"#N/A"}},null,{"$f":"T58-HLOOKUP(Y58,Feuil1!$C$1:$BF$9,2,FALSE)","v":{"$error":"#VALUE!"}},{"$f":"T58-HLOOKUP(Y58,Feuil1!$C$1:$BF$9,3,FALSE)","v":{"$error":"#VALUE!"}},{"$f":"T58-HLOOKUP(Y58,Feuil1!$C$1:$BF$9,4,FALSE)","v":{"$error":"#VALUE!"}},{"$f":"T58-HLOOKUP(Y58,Feuil1!$C$1:$BF$9,5,FALSE)","v":{"$error":"#VALUE!"}},{"$f":"T58-HLOOKUP(Y58,Feuil1!$C$1:$BF$9,6,FALSE)","v":{"$error":"#VALUE!"}},{"$f":"T58-HLOOKUP(Y58,Feuil1!$C$1:$BF$9,7,FALSE)","v":{"$error":"#VALUE!"}},{"$f":"T58-HLOOKUP(Y58,Feuil1!$C$1:$BF$9,8,FALSE)","v":{"$error":"#VALUE!"}},{"$f":"T58-HLOOKUP(Y58,Feuil1!$C$1:$BF$9,9,FALSE)","v":{"$error":"#VALUE!"}},null,null,null,null,null,null,null,{"$error":"#VALUE!"},2016,null,{"$f":"IF(AQ58,VLOOKUP(AQ58,HOM!$AR$551:$AS$606,2))","v":3.5710000000000002}]
["F",null,null,null,null,null,null,null,null,null,null,null,null,null,"",null,null,null,"","","","","",false,{"$f":"IF(AND(H59<1936),VLOOKUP(I59,Feuil1!$F$10:$O$24,9),IF(AND(H59>=1942,H59<1947),VLOOKUP(I59,Feuil1!$F$10:$O$24,9),IF(AND(H59>=1947,H59<1952),VLOOKUP(I59,Feuil1!$F$10:$O$24,8),IF(AND(H59>=1952,H59<1957),VLOOKUP(I59,Feuil1!$F$10:$O$24,7),IF(AND(H59>=1957,H59<1962),VLOOKUP(I59,Feuil1!$F$10:$O$24,6),IF(AND(H59>=1962,H59<1967),VLOOKUP(I59,Feuil1!$F$10:$O$24,5),IF(AND(H59>=1967,H59<1972),VLOOKUP(I59,Feuil1!$F$10:$O$24,4),IF(AND(H59>=1972,H59<1977),VLOOKUP(I59,Feuil1!$F$10:$O$24,3),IF(AND(H59>=1977,H59<1982),VLOOKUP(I59,Feuil1!$F$10:$O$24,2),VLOOKUP(I59,Feuil1!$F$10:$O$24,2))))))))))","v":{"$error":"#N/A"}},null,{"$f":"T59-HLOOKUP(Y59,Feuil1!$C$1:$BF$9,2,FALSE)","v":{"$error":"#VALUE!"}},{"$f":"T59-HLOOKUP(Y59,Feuil1!$C$1:$BF$9,3,FALSE)","v":{"$error":"#VALUE!"}},{"$f":"T59-HLOOKUP(Y59,Feuil1!$C$1:$BF$9,4,FALSE)","v":{"$error":"#VALUE!"}},{"$f":"T59-HLOOKUP(Y59,Feuil1!$C$1:$BF$9,5,FALSE)","v":{"$error":"#VALUE!"}},{"$f":"T59-HLOOKUP(Y59,Feuil1!$C$1:$BF$9,6,FALSE)","v":{"$error":"#VALUE!"}},{"$f":"T59-HLOOKUP(Y59,Feuil1!$C$1:$BF$9,7,FALSE)","v":{"$error":"#VALUE!"}},{"$f":"T59-HLOOKUP(Y59,Feuil1!$C$1:$BF$9,8,FALSE)","v":{"$error":"#VALUE!"}},{"$f":"T59-HLOOKUP(Y59,Feuil1!$C$1:$BF$9,9,FALSE)","v":{"$error":"#VALUE!"}},null,null,null,null,null,null,null,{"$error":"#VALUE!"},2016,null,{"$f":"IF(AQ59,VLOOKUP(AQ59,HOM!$AR$551:$AS$606,2))","v":3.5710000000000002}]
["F",null,null,null,null,null,null,null,null,null,null,null,null,null,"",null,null,null,"","","","","",false,{"$f":"IF(AND(H60<1936),VLOOKUP(I60,Feuil1!$F$10:$O$24,9),IF(AND(H60>=1942,H60<1947),VLOOKUP(I60,Feuil1!$F$10:$O$24,9),IF(AND(H60>=1947,H60<1952),VLOOKUP(I60,Feuil1!$F$10:$O$24,8),IF(AND(H60>=1952,H60<1957),VLOOKUP(I60,Feuil1!$F$10:$O$24,7),IF(AND(H60>=1957,H60<1962),VLOOKUP(I60,Feuil1!$F$10:$O$24,6),IF(AND(H60>=1962,H60<1967),VLOOKUP(I60,Feuil1!$F$10:$O$24,5),IF(AND(H60>=1967,H60<1972),VLOOKUP(I60,Feuil1!$F$10:$O$24,4),IF(AND(H60>=1972,H60<1977),VLOOKUP(I60,Feuil1!$F$10:$O$24,3),IF(AND(H60>=1977,H60<1982),VLOOKUP(I60,Feuil1!$F$10:$O$24,2),VLOOKUP(I60,Feuil1!$F$10:$O$24,2))))))))))","v":{"$error":"#N/A"}},null,{"$f":"T60-HLOOKUP(Y60,Feuil1!$C$1:$BF$9,2,FALSE)","v":{"$error":"#VALUE!"}},{"$f":"T60-HLOOKUP(Y60,Feuil1!$C$1:$BF$9,3,FALSE)","v":{"$error":"#VALUE!"}},{"$f":"T60-HLOOKUP(Y60,Feuil1!$C$1:$BF$9,4,FALSE)","v":{"$error":"#VALUE!"}},{"$f":"T60-HLOOKUP(Y60,Feuil1!$C$1:$BF$9,5,FALSE)","v":{"$error":"#VALUE!"}},{"$f":"T60-HLOOKUP(Y60,Feuil1!$C$1:$BF$9,6,FALSE)","v":{"$error":"#VALUE!"}},{"$f":"T60-HLOOKUP(Y60,Feuil1!$C$1:$BF$9,7,FALSE)","v":{"$error":"#VALUE!"}},{"$f":"T60-HLOOKUP(Y60,Feuil1!$C$1:$BF$9,8,FALSE)","v":{"$error":"#VALUE!"}},{"$f":"T60-HLOOKUP(Y60,Feuil1!$C$1:$BF$9,9,FALSE)","v":{"$error":"#VALUE!"}},null,null,null,null,null,null,null,{"$error":"#VALUE!"},2016,null,{"$f":"IF(AQ60,VLOOKUP(AQ60,HOM!$AR$551:$AS$606,2))","v":3.5710000000000002}]
["F",null,null,null,null,null,null,null,null,null,null,null,null,null,"",null,null,null,"","","","","",false,{"$f":"IF(AND(H61<1936),VLOOKUP(I61,Feuil1!$F$10:$O$24,9),IF(AND(H61>=1942,H61<1947),VLOOKUP(I61,Feuil1!$F$10:$O$24,9),IF(AND(H61>=1947,H61<1952),VLOOKUP(I61,Feuil1!$F$10:$O$24,8),IF(AND(H61>=1952,H61<1957),VLOOKUP(I61,Feuil1!$F$10:$O$24,7),IF(AND(H61>=1957,H61<1962),VLOOKUP(I61,Feuil1!$F$10:$O$24,6),IF(AND(H61>=1962,H61<1967),VLOOKUP(I61,Feuil1!$F$10:$O$24,5),IF(AND(H61>=1967,H61<1972),VLOOKUP(I61,Feuil1!$F$10:$O$24,4),IF(AND(H61>=1972,H61<1977),VLOOKUP(I61,Feuil1!$F$10:$O$24,3),IF(AND(H61>=1977,H61<1982),VLOOKUP(I61,Feuil1!$F$10:$O$24,2),VLOOKUP(I61,Feuil1!$F$10:$O$24,2))))))))))","v":{"$error":"#N/A"}},null,{"$f":"T61-HLOOKUP(Y61,Feuil1!$C$1:$BF$9,2,FALSE)","v":{"$error":"#VALUE!"}},{"$f":"T61-HLOOKUP(Y61,Feuil1!$C$1:$BF$9,3,FALSE)","v":{"$error":"#VALUE!"}},{"$f":"T61-HLOOKUP(Y61,Feuil1!$C$1:$BF$9,4,FALSE)","v":{"$error":"#VALUE!"}},{"$f":"T61-HLOOKUP(Y61,Feuil1!$C$1:$BF$9,5,FALSE)","v":{"$error":"#VALUE!"}},{"$f":"T61-HLOOKUP(Y61,Feuil1!$C$1:$BF$9,6,FALSE)","v":{"$error":"#VALUE!"}},{"$f":"T61-HLOOKUP(Y61,Feuil1!$C$1:$BF$9,7,FALSE)","v":{"$error":"#VALUE!"}},{"$f":"T61-HLOOKUP(Y61,Feuil1!$C$1:$BF$9,8,FALSE)","v":{"$error":"#VALUE!"}},{"$f":"T61-HLOOKUP(Y61,Feuil1!$C$1:$BF$9,9,FALSE)","v":{"$error":"#VALUE!"}},null,null,null,null,null,null,null,{"$error":"#VALUE!"},2016,null,{"$f":"IF(AQ61,VLOOKUP(AQ61,HOM!$AR$551:$AS$606,2))","v":3.5710000000000002}]
["F",null,null,null,null,null,null,null,null,null,null,null,null,null,"",null,null,null,"","","","","",false,{"$f":"IF(AND(H62<1936),VLOOKUP(I62,Feuil1!$F$10:$O$24,9),IF(AND(H62>=1942,H62<1947),VLOOKUP(I62,Feuil1!$F$10:$O$24,9),IF(AND(H62>=1947,H62<1952),VLOOKUP(I62,Feuil1!$F$10:$O$24,8),IF(AND(H62>=1952,H62<1957),VLOOKUP(I62,Feuil1!$F$10:$O$24,7),IF(AND(H62>=1957,H62<1962),VLOOKUP(I62,Feuil1!$F$10:$O$24,6),IF(AND(H62>=1962,H62<1967),VLOOKUP(I62,Feuil1!$F$10:$O$24,5),IF(AND(H62>=1967,H62<1972),VLOOKUP(I62,Feuil1!$F$10:$O$24,4),IF(AND(H62>=1972,H62<1977),VLOOKUP(I62,Feuil1!$F$10:$O$24,3),IF(AND(H62>=1977,H62<1982),VLOOKUP(I62,Feuil1!$F$10:$O$24,2),VLOOKUP(I62,Feuil1!$F$10:$O$24,2))))))))))","v":{"$error":"#N/A"}},null,{"$f":"T62-HLOOKUP(Y62,Feuil1!$C$1:$BF$9,2,FALSE)","v":{"$error":"#VALUE!"}},{"$f":"T62-HLOOKUP(Y62,Feuil1!$C$1:$BF$9,3,FALSE)","v":{"$error":"#VALUE!"}},{"$f":"T62-HLOOKUP(Y62,Feuil1!$C$1:$BF$9,4,FALSE)","v":{"$error":"#VALUE!"}},{"$f":"T62-HLOOKUP(Y62,Feuil1!$C$1:$BF$9,5,FALSE)","v":{"$error":"#VALUE!"}},{"$f":"T62-HLOOKUP(Y62,Feuil1!$C$1:$BF$9,6,FALSE)","v":{"$error":"#VALUE!"}},{"$f":"T62-HLOOKUP(Y62,Feuil1!$C$1:$BF$9,7,FALSE)","v":{"$error":"#VALUE!"}},{"$f":"T62-HLOOKUP(Y62,Feuil1!$C$1:$BF$9,8,FALSE)","v":{"$error":"#VALUE!"}},{"$f":"T62-HLOOKUP(Y62,Feuil1!$C$1:$BF$9,9,FALSE)","v":{"$error":"#VALUE!"}},null,null,null,null,null,null,null,{"$error":"#VALUE!"},2016,null,{"$f":"IF(AQ62,VLOOKUP(AQ62,HOM!$AR$551:$AS$606,2))","v":3.5710000000000002}]
["F",null,null,null,null,null,null,null,null,null,null,null,null,null,"",null,null,null,"","","","","",false,{"$f":"IF(AND(H63<1936),VLOOKUP(I63,Feuil1!$F$10:$O$24,9),IF(AND(H63>=1942,H63<1947),VLOOKUP(I63,Feuil1!$F$10:$O$24,9),IF(AND(H63>=1947,H63<1952),VLOOKUP(I63,Feuil1!$F$10:$O$24,8),IF(AND(H63>=1952,H63<1957),VLOOKUP(I63,Feuil1!$F$10:$O$24,7),IF(AND(H63>=1957,H63<1962),VLOOKUP(I63,Feuil1!$F$10:$O$24,6),IF(AND(H63>=1962,H63<1967),VLOOKUP(I63,Feuil1!$F$10:$O$24,5),IF(AND(H63>=1967,H63<1972),VLOOKUP(I63,Feuil1!$F$10:$O$24,4),IF(AND(H63>=1972,H63<1977),VLOOKUP(I63,Feuil1!$F$10:$O$24,3),IF(AND(H63>=1977,H63<1982),VLOOKUP(I63,Feuil1!$F$10:$O$24,2),VLOOKUP(I63,Feuil1!$F$10:$O$24,2))))))))))","v":{"$error":"#N/A"}},null,{"$f":"T63-HLOOKUP(Y63,Feuil1!$C$1:$BF$9,2,FALSE)","v":{"$error":"#VALUE!"}},{"$f":"T63-HLOOKUP(Y63,Feuil1!$C$1:$BF$9,3,FALSE)","v":{"$error":"#VALUE!"}},{"$f":"T63-HLOOKUP(Y63,Feuil1!$C$1:$BF$9,4,FALSE)","v":{"$error":"#VALUE!"}},{"$f":"T63-HLOOKUP(Y63,Feuil1!$C$1:$BF$9,5,FALSE)","v":{"$error":"#VALUE!"}},{"$f":"T63-HLOOKUP(Y63,Feuil1!$C$1:$BF$9,6,FALSE)","v":{"$error":"#VALUE!"}},{"$f":"T63-HLOOKUP(Y63,Feuil1!$C$1:$BF$9,7,FALSE)","v":{"$error":"#VALUE!"}},{"$f":"T63-HLOOKUP(Y63,Feuil1!$C$1:$BF$9,8,FALSE)","v":{"$error":"#VALUE!"}},{"$f":"T63-HLOOKUP(Y63,Feuil1!$C$1:$BF$9,9,FALSE)","v":{"$error":"#VALUE!"}},null,null,null,null,null,null,null,{"$error":"#VALUE!"},2016,null,{"$f":"IF(AQ63,VLOOKUP(AQ63,HOM!$AR$551:$AS$606,2))","v":3.5710000000000002}]
["F",null,null,null,null,null,null,null,null,null,null,null,null,null,"",null,null,null,"","","","","",false,{"$f":"IF(AND(H64<1936),VLOOKUP(I64,Feuil1!$F$10:$O$24,9),IF(AND(H64>=1942,H64<1947),VLOOKUP(I64,Feuil1!$F$10:$O$24,9),IF(AND(H64>=1947,H64<1952),VLOOKUP(I64,Feuil1!$F$10:$O$24,8),IF(AND(H64>=1952,H64<1957),VLOOKUP(I64,Feuil1!$F$10:$O$24,7),IF(AND(H64>=1957,H64<1962),VLOOKUP(I64,Feuil1!$F$10:$O$24,6),IF(AND(H64>=1962,H64<1967),VLOOKUP(I64,Feuil1!$F$10:$O$24,5),IF(AND(H64>=1967,H64<1972),VLOOKUP(I64,Feuil1!$F$10:$O$24,4),IF(AND(H64>=1972,H64<1977),VLOOKUP(I64,Feuil1!$F$10:$O$24,3),IF(AND(H64>=1977,H64<1982),VLOOKUP(I64,Feuil1!$F$10:$O$24,2),VLOOKUP(I64,Feuil1!$F$10:$O$24,2))))))))))","v":{"$error":"#N/A"}},null,{"$f":"T64-HLOOKUP(Y64,Feuil1!$C$1:$BF$9,2,FALSE)","v":{"$error":"#VALUE!"}},{"$f":"T64-HLOOKUP(Y64,Feuil1!$C$1:$BF$9,3,FALSE)","v":{"$error":"#VALUE!"}},{"$f":"T64-HLOOKUP(Y64,Feuil1!$C$1:$BF$9,4,FALSE)","v":{"$error":"#VALUE!"}},{"$f":"T64-HLOOKUP(Y64,Feuil1!$C$1:$BF$9,5,FALSE)","v":{"$error":"#VALUE!"}},{"$f":"T64-HLOOKUP(Y64,Feuil1!$C$1:$BF$9,6,FALSE)","v":{"$error":"#VALUE!"}},{"$f":"T64-HLOOKUP(Y64,Feuil1!$C$1:$BF$9,7,FALSE)","v":{"$error":"#VALUE!"}},{"$f":"T64-HLOOKUP(Y64,Feuil1!$C$1:$BF$9,8,FALSE)","v":{"$error":"#VALUE!"}},{"$f":"T64-HLOOKUP(Y64,Feuil1!$C$1:$BF$9,9,FALSE)","v":{"$error":"#VALUE!"}},null,null,null,null,null,null,null,{"$error":"#VALUE!"},2016,null,{"$f":"IF(AQ64,VLOOKUP(AQ64,HOM!$AR$551:$AS$606,2))","v":3.5710000000000002}]
["F",null,null,null,null,null,null,null,null,null,null,null,null,null,"",null,null,null,"","","","","",false,{"$f":"IF(AND(H65<1936),VLOOKUP(I65,Feuil1!$F$10:$O$24,9),IF(AND(H65>=1942,H65<1947),VLOOKUP(I65,Feuil1!$F$10:$O$24,9),IF(AND(H65>=1947,H65<1952),VLOOKUP(I65,Feuil1!$F$10:$O$24,8),IF(AND(H65>=1952,H65<1957),VLOOKUP(I65,Feuil1!$F$10:$O$24,7),IF(AND(H65>=1957,H65<1962),VLOOKUP(I65,Feuil1!$F$10:$O$24,6),IF(AND(H65>=1962,H65<1967),VLOOKUP(I65,Feuil1!$F$10:$O$24,5),IF(AND(H65>=1967,H65<1972),VLOOKUP(I65,Feuil1!$F$10:$O$24,4),IF(AND(H65>=1972,H65<1977),VLOOKUP(I65,Feuil1!$F$10:$O$24,3),IF(AND(H65>=1977,H65<1982),VLOOKUP(I65,Feuil1!$F$10:$O$24,2),VLOOKUP(I65,Feuil1!$F$10:$O$24,2))))))))))","v":{"$error":"#N/A"}},null,{"$f":"T65-HLOOKUP(Y65,Feuil1!$C$1:$BF$9,2,FALSE)","v":{"$error":"#VALUE!"}},{"$f":"T65-HLOOKUP(Y65,Feuil1!$C$1:$BF$9,3,FALSE)","v":{"$error":"#VALUE!"}},{"$f":"T65-HLOOKUP(Y65,Feuil1!$C$1:$BF$9,4,FALSE)","v":{"$error":"#VALUE!"}},{"$f":"T65-HLOOKUP(Y65,Feuil1!$C$1:$BF$9,5,FALSE)","v":{"$error":"#VALUE!"}},{"$f":"T65-HLOOKUP(Y65,Feuil1!$C$1:$BF$9,6,FALSE)","v":{"$error":"#VALUE!"}},{"$f":"T65-HLOOKUP(Y65,Feuil1!$C$1:$BF$9,7,FALSE)","v":{"$error":"#VALUE!"}},{"$f":"T65-HLOOKUP(Y65,Feuil1!$C$1:$BF$9,8,FALSE)","v":{"$error":"#VALUE!"}},{"$f":"T65-HLOOKUP(Y65,Feuil1!$C$1:$BF$9,9,FALSE)","v":{"$error":"#VALUE!"}},null,null,null,null,null,null,null,{"$error":"#VALUE!"},2016,null,{"$f":"IF(AQ65,VLOOKUP(AQ65,HOM!$AR$551:$AS$606,2))","v":3.5710000000000002}]
["F",null,null,null,null,null,null,null,null,null,null,null,null,null,"",null,null,null,"","","","","",false,{"$f":"IF(AND(H66<1936),VLOOKUP(I66,Feuil1!$F$10:$O$24,9),IF(AND(H66>=1942,H66<1947),VLOOKUP(I66,Feuil1!$F$10:$O$24,9),IF(AND(H66>=1947,H66<1952),VLOOKUP(I66,Feuil1!$F$10:$O$24,8),IF(AND(H66>=1952,H66<1957),VLOOKUP(I66,Feuil1!$F$10:$O$24,7),IF(AND(H66>=1957,H66<1962),VLOOKUP(I66,Feuil1!$F$10:$O$24,6),IF(AND(H66>=1962,H66<1967),VLOOKUP(I66,Feuil1!$F$10:$O$24,5),IF(AND(H66>=1967,H66<1972),VLOOKUP(I66,Feuil1!$F$10:$O$24,4),IF(AND(H66>=1972,H66<1977),VLOOKUP(I66,Feuil1!$F$10:$O$24,3),IF(AND(H66>=1977,H66<1982),VLOOKUP(I66,Feuil1!$F$10:$O$24,2),VLOOKUP(I66,Feuil1!$F$10:$O$24,2))))))))))","v":{"$error":"#N/A"}},null,{"$f":"T66-HLOOKUP(Y66,Feuil1!$C$1:$BF$9,2,FALSE)","v":{"$error":"#VALUE!"}},{"$f":"T66-HLOOKUP(Y66,Feuil1!$C$1:$BF$9,3,FALSE)","v":{"$error":"#VALUE!"}},{"$f":"T66-HLOOKUP(Y66,Feuil1!$C$1:$BF$9,4,FALSE)","v":{"$error":"#VALUE!"}},{"$f":"T66-HLOOKUP(Y66,Feuil1!$C$1:$BF$9,5,FALSE)","v":{"$error":"#VALUE!"}},{"$f":"T66-HLOOKUP(Y66,Feuil1!$C$1:$BF$9,6,FALSE)","v":{"$error":"#VALUE!"}},{"$f":"T66-HLOOKUP(Y66,Feuil1!$C$1:$BF$9,7,FALSE)","v":{"$error":"#VALUE!"}},{"$f":"T66-HLOOKUP(Y66,Feuil1!$C$1:$BF$9,8,FALSE)","v":{"$error":"#VALUE!"}},{"$f":"T66-HLOOKUP(Y66,Feuil1!$C$1:$BF$9,9,FALSE)","v":{"$error":"#VALUE!"}},null,null,null,null,null,null,null,{"$error":"#VALUE!"},2016,null,{"$f":"IF(AQ66,VLOOKUP(AQ66,HOM!$AR$551:$AS$606,2))","v":3.5710000000000002}]
["F",null,null,null,null,null,null,null,null,null,null,null,null,null,"",null,null,null,"","","","","",false,{"$f":"IF(AND(H67<1936),VLOOKUP(I67,Feuil1!$F$10:$O$24,9),IF(AND(H67>=1942,H67<1947),VLOOKUP(I67,Feuil1!$F$10:$O$24,9),IF(AND(H67>=1947,H67<1952),VLOOKUP(I67,Feuil1!$F$10:$O$24,8),IF(AND(H67>=1952,H67<1957),VLOOKUP(I67,Feuil1!$F$10:$O$24,7),IF(AND(H67>=1957,H67<1962),VLOOKUP(I67,Feuil1!$F$10:$O$24,6),IF(AND(H67>=1962,H67<1967),VLOOKUP(I67,Feuil1!$F$10:$O$24,5),IF(AND(H67>=1967,H67<1972),VLOOKUP(I67,Feuil1!$F$10:$O$24,4),IF(AND(H67>=1972,H67<1977),VLOOKUP(I67,Feuil1!$F$10:$O$24,3),IF(AND(H67>=1977,H67<1982),VLOOKUP(I67,Feuil1!$F$10:$O$24,2),VLOOKUP(I67,Feuil1!$F$10:$O$24,2))))))))))","v":{"$error":"#N/A"}},null,{"$f":"T67-HLOOKUP(Y67,Feuil1!$C$1:$BF$9,2,FALSE)","v":{"$error":"#VALUE!"}},{"$f":"T67-HLOOKUP(Y67,Feuil1!$C$1:$BF$9,3,FALSE)","v":{"$error":"#VALUE!"}},{"$f":"T67-HLOOKUP(Y67,Feuil1!$C$1:$BF$9,4,FALSE)","v":{"$error":"#VALUE!"}},{"$f":"T67-HLOOKUP(Y67,Feuil1!$C$1:$BF$9,5,FALSE)","v":{"$error":"#VALUE!"}},{"$f":"T67-HLOOKUP(Y67,Feuil1!$C$1:$BF$9,6,FALSE)","v":{"$error":"#VALUE!"}},{"$f":"T67-HLOOKUP(Y67,Feuil1!$C$1:$BF$9,7,FALSE)","v":{"$error":"#VALUE!"}},{"$f":"T67-HLOOKUP(Y67,Feuil1!$C$1:$BF$9,8,FALSE)","v":{"$error":"#VALUE!"}},{"$f":"T67-HLOOKUP(Y67,Feuil1!$C$1:$BF$9,9,FALSE)","v":{"$error":"#VALUE!"}},null,null,null,null,null,null,null,{"$error":"#VALUE!"},2016,null,{"$f":"IF(AQ67,VLOOKUP(AQ67,HOM!$AR$551:$AS$606,2))","v":3.5710000000000002}]
["F",null,null,null,null,null,null,null,null,null,null,null,null,null,"",null,null,null,"","","","","",false,{"$f":"IF(AND(H68<1936),VLOOKUP(I68,Feuil1!$F$10:$O$24,9),IF(AND(H68>=1942,H68<1947),VLOOKUP(I68,Feuil1!$F$10:$O$24,9),IF(AND(H68>=1947,H68<1952),VLOOKUP(I68,Feuil1!$F$10:$O$24,8),IF(AND(H68>=1952,H68<1957),VLOOKUP(I68,Feuil1!$F$10:$O$24,7),IF(AND(H68>=1957,H68<1962),VLOOKUP(I68,Feuil1!$F$10:$O$24,6),IF(AND(H68>=1962,H68<1967),VLOOKUP(I68,Feuil1!$F$10:$O$24,5),IF(AND(H68>=1967,H68<1972),VLOOKUP(I68,Feuil1!$F$10:$O$24,4),IF(AND(H68>=1972,H68<1977),VLOOKUP(I68,Feuil1!$F$10:$O$24,3),IF(AND(H68>=1977,H68<1982),VLOOKUP(I68,Feuil1!$F$10:$O$24,2),VLOOKUP(I68,Feuil1!$F$10:$O$24,2))))))))))","v":{"$error":"#N/A"}},null,{"$f":"T68-HLOOKUP(Y68,Feuil1!$C$1:$BF$9,2,FALSE)","v":{"$error":"#VALUE!"}},{"$f":"T68-HLOOKUP(Y68,Feuil1!$C$1:$BF$9,3,FALSE)","v":{"$error":"#VALUE!"}},{"$f":"T68-HLOOKUP(Y68,Feuil1!$C$1:$BF$9,4,FALSE)","v":{"$error":"#VALUE!"}},{"$f":"T68-HLOOKUP(Y68,Feuil1!$C$1:$BF$9,5,FALSE)","v":{"$error":"#VALUE!"}},{"$f":"T68-HLOOKUP(Y68,Feuil1!$C$1:$BF$9,6,FALSE)","v":{"$error":"#VALUE!"}},{"$f":"T68-HLOOKUP(Y68,Feuil1!$C$1:$BF$9,7,FALSE)","v":{"$error":"#VALUE!"}},{"$f":"T68-HLOOKUP(Y68,Feuil1!$C$1:$BF$9,8,FALSE)","v":{"$error":"#VALUE!"}},{"$f":"T68-HLOOKUP(Y68,Feuil1!$C$1:$BF$9,9,FALSE)","v":{"$error":"#VALUE!"}},null,null,null,null,null,null,null,{"$error":"#VALUE!"},2016,null,{"$f":"IF(AQ68,VLOOKUP(AQ68,HOM!$AR$551:$AS$606,2))","v":3.5710000000000002}]
["F",null,null,null,null,null,null,null,null,null,null,null,null,null,"",null,null,null,"","","","","",false,{"$f":"IF(AND(H69<1936),VLOOKUP(I69,Feuil1!$F$10:$O$24,9),IF(AND(H69>=1942,H69<1947),VLOOKUP(I69,Feuil1!$F$10:$O$24,9),IF(AND(H69>=1947,H69<1952),VLOOKUP(I69,Feuil1!$F$10:$O$24,8),IF(AND(H69>=1952,H69<1957),VLOOKUP(I69,Feuil1!$F$10:$O$24,7),IF(AND(H69>=1957,H69<1962),VLOOKUP(I69,Feuil1!$F$10:$O$24,6),IF(AND(H69>=1962,H69<1967),VLOOKUP(I69,Feuil1!$F$10:$O$24,5),IF(AND(H69>=1967,H69<1972),VLOOKUP(I69,Feuil1!$F$10:$O$24,4),IF(AND(H69>=1972,H69<1977),VLOOKUP(I69,Feuil1!$F$10:$O$24,3),IF(AND(H69>=1977,H69<1982),VLOOKUP(I69,Feuil1!$F$10:$O$24,2),VLOOKUP(I69,Feuil1!$F$10:$O$24,2))))))))))","v":{"$error":"#N/A"}},null,{"$f":"T69-HLOOKUP(Y69,Feuil1!$C$1:$BF$9,2,FALSE)","v":{"$error":"#VALUE!"}},{"$f":"T69-HLOOKUP(Y69,Feuil1!$C$1:$BF$9,3,FALSE)","v":{"$error":"#VALUE!"}},{"$f":"T69-HLOOKUP(Y69,Feuil1!$C$1:$BF$9,4,FALSE)","v":{"$error":"#VALUE!"}},{"$f":"T69-HLOOKUP(Y69,Feuil1!$C$1:$BF$9,5,FALSE)","v":{"$error":"#VALUE!"}},{"$f":"T69-HLOOKUP(Y69,Feuil1!$C$1:$BF$9,6,FALSE)","v":{"$error":"#VALUE!"}},{"$f":"T69-HLOOKUP(Y69,Feuil1!$C$1:$BF$9,7,FALSE)","v":{"$error":"#VALUE!"}},{"$f":"T69-HLOOKUP(Y69,Feuil1!$C$1:$BF$9,8,FALSE)","v":{"$error":"#VALUE!"}},{"$f":"T69-HLOOKUP(Y69,Feuil1!$C$1:$BF$9,9,FALSE)","v":{"$error":"#VALUE!"}},null,null,null,null,null,null,null,{"$error":"#VALUE!"},{"$f":"2016-H69","v":2016},null,{"$f":"IF(AQ69,VLOOKUP(AQ69,HOM!$AR$551:$AS$606,2))","v":3.5710000000000002}]
["F",null,null,null,null,null,null,null,null,null,null,null,null,null,"",null,null,null,"","","","","",false,{"$f":"IF(AND(H70<1936),VLOOKUP(I70,Feuil1!$F$10:$O$24,9),IF(AND(H70>=1942,H70<1947),VLOOKUP(I70,Feuil1!$F$10:$O$24,9),IF(AND(H70>=1947,H70<1952),VLOOKUP(I70,Feuil1!$F$10:$O$24,8),IF(AND(H70>=1952,H70<1957),VLOOKUP(I70,Feuil1!$F$10:$O$24,7),IF(AND(H70>=1957,H70<1962),VLOOKUP(I70,Feuil1!$F$10:$O$24,6),IF(AND(H70>=1962,H70<1967),VLOOKUP(I70,Feuil1!$F$10:$O$24,5),IF(AND(H70>=1967,H70<1972),VLOOKUP(I70,Feuil1!$F$10:$O$24,4),IF(AND(H70>=1972,H70<1977),VLOOKUP(I70,Feuil1!$F$10:$O$24,3),IF(AND(H70>=1977,H70<1982),VLOOKUP(I70,Feuil1!$F$10:$O$24,2),VLOOKUP(I70,Feuil1!$F$10:$O$24,2))))))))))","v":{"$error":"#N/A"}},null,{"$f":"T70-HLOOKUP(Y70,Feuil1!$C$1:$BF$9,2,FALSE)","v":{"$error":"#VALUE!"}},{"$f":"T70-HLOOKUP(Y70,Feuil1!$C$1:$BF$9,3,FALSE)","v":{"$error":"#VALUE!"}},{"$f":"T70-HLOOKUP(Y70,Feuil1!$C$1:$BF$9,4,FALSE)","v":{"$error":"#VALUE!"}},{"$f":"T70-HLOOKUP(Y70,Feuil1!$C$1:$BF$9,5,FALSE)","v":{"$error":"#VALUE!"}},{"$f":"T70-HLOOKUP(Y70,Feuil1!$C$1:$BF$9,6,FALSE)","v":{"$error":"#VALUE!"}},{"$f":"T70-HLOOKUP(Y70,Feuil1!$C$1:$BF$9,7,FALSE)","v":{"$error":"#VALUE!"}},{"$f":"T70-HLOOKUP(Y70,Feuil1!$C$1:$BF$9,8,FALSE)","v":{"$error":"#VALUE!"}},{"$f":"T70-HLOOKUP(Y70,Feuil1!$C$1:$BF$9,9,FALSE)","v":{"$error":"#VALUE!"}},null,null,null,null,null,null,null,{"$error":"#VALUE!"},2016,null,{"$f":"IF(AQ70,VLOOKUP(AQ70,HOM!$AR$551:$AS$606,2))","v":3.5710000000000002}]
["F",null,null,null,null,null,null,null,null,null,null,null,null,null,"",null,null,null,"","","","","",false,{"$f":"IF(AND(H71<1936),VLOOKUP(I71,Feuil1!$F$10:$O$24,9),IF(AND(H71>=1942,H71<1947),VLOOKUP(I71,Feuil1!$F$10:$O$24,9),IF(AND(H71>=1947,H71<1952),VLOOKUP(I71,Feuil1!$F$10:$O$24,8),IF(AND(H71>=1952,H71<1957),VLOOKUP(I71,Feuil1!$F$10:$O$24,7),IF(AND(H71>=1957,H71<1962),VLOOKUP(I71,Feuil1!$F$10:$O$24,6),IF(AND(H71>=1962,H71<1967),VLOOKUP(I71,Feuil1!$F$10:$O$24,5),IF(AND(H71>=1967,H71<1972),VLOOKUP(I71,Feuil1!$F$10:$O$24,4),IF(AND(H71>=1972,H71<1977),VLOOKUP(I71,Feuil1!$F$10:$O$24,3),IF(AND(H71>=1977,H71<1982),VLOOKUP(I71,Feuil1!$F$10:$O$24,2),VLOOKUP(I71,Feuil1!$F$10:$O$24,2))))))))))","v":{"$error":"#N/A"}},null,{"$f":"T71-HLOOKUP(Y71,Feuil1!$C$1:$BF$9,2,FALSE)","v":{"$error":"#VALUE!"}},{"$f":"T71-HLOOKUP(Y71,Feuil1!$C$1:$BF$9,3,FALSE)","v":{"$error":"#VALUE!"}},{"$f":"T71-HLOOKUP(Y71,Feuil1!$C$1:$BF$9,4,FALSE)","v":{"$error":"#VALUE!"}},{"$f":"T71-HLOOKUP(Y71,Feuil1!$C$1:$BF$9,5,FALSE)","v":{"$error":"#VALUE!"}},{"$f":"T71-HLOOKUP(Y71,Feuil1!$C$1:$BF$9,6,FALSE)","v":{"$error":"#VALUE!"}},{"$f":"T71-HLOOKUP(Y71,Feuil1!$C$1:$BF$9,7,FALSE)","v":{"$error":"#VALUE!"}},{"$f":"T71-HLOOKUP(Y71,Feuil1!$C$1:$BF$9,8,FALSE)","v":{"$error":"#VALUE!"}},{"$f":"T71-HLOOKUP(Y71,Feuil1!$C$1:$BF$9,9,FALSE)","v":{"$error":"#VALUE!"}},null,null,null,null,null,null,null,{"$error":"#VALUE!"},2016,null,{"$f":"IF(AQ71,VLOOKUP(AQ71,HOM!$AR$551:$AS$606,2))","v":3.5710000000000002}]
["F",null,null,null,null,null,null,null,null,null,null,null,null,null,"",null,null,null,"","","","","",false,{"$f":"IF(AND(H72<1936),VLOOKUP(I72,Feuil1!$F$10:$O$24,9),IF(AND(H72>=1942,H72<1947),VLOOKUP(I72,Feuil1!$F$10:$O$24,9),IF(AND(H72>=1947,H72<1952),VLOOKUP(I72,Feuil1!$F$10:$O$24,8),IF(AND(H72>=1952,H72<1957),VLOOKUP(I72,Feuil1!$F$10:$O$24,7),IF(AND(H72>=1957,H72<1962),VLOOKUP(I72,Feuil1!$F$10:$O$24,6),IF(AND(H72>=1962,H72<1967),VLOOKUP(I72,Feuil1!$F$10:$O$24,5),IF(AND(H72>=1967,H72<1972),VLOOKUP(I72,Feuil1!$F$10:$O$24,4),IF(AND(H72>=1972,H72<1977),VLOOKUP(I72,Feuil1!$F$10:$O$24,3),IF(AND(H72>=1977,H72<1982),VLOOKUP(I72,Feuil1!$F$10:$O$24,2),VLOOKUP(I72,Feuil1!$F$10:$O$24,2))))))))))","v":{"$error":"#N/A"}},null,{"$f":"T72-HLOOKUP(Y72,Feuil1!$C$1:$BF$9,2,FALSE)","v":{"$error":"#VALUE!"}},{"$f":"T72-HLOOKUP(Y72,Feuil1!$C$1:$BF$9,3,FALSE)","v":{"$error":"#VALUE!"}},{"$f":"T72-HLOOKUP(Y72,Feuil1!$C$1:$BF$9,4,FALSE)","v":{"$error":"#VALUE!"}},{"$f":"T72-HLOOKUP(Y72,Feuil1!$C$1:$BF$9,5,FALSE)","v":{"$error":"#VALUE!"}},{"$f":"T72-HLOOKUP(Y72,Feuil1!$C$1:$BF$9,6,FALSE)","v":{"$error":"#VALUE!"}},{"$f":"T72-HLOOKUP(Y72,Feuil1!$C$1:$BF$9,7,FALSE)","v":{"$error":"#VALUE!"}},{"$f":"T72-HLOOKUP(Y72,Feuil1!$C$1:$BF$9,8,FALSE)","v":{"$error":"#VALUE!"}},{"$f":"T72-HLOOKUP(Y72,Feuil1!$C$1:$BF$9,9,FALSE)","v":{"$error":"#VALUE!"}},null,null,null,null,null,null,null,{"$error":"#VALUE!"},2016,null,{"$f":"IF(AQ72,VLOOKUP(AQ72,HOM!$AR$551:$AS$606,2))","v":3.5710000000000002}]
["F",null,null,null,null,null,null,null,null,null,null,null,null,null,"",null,null,null,"","","","","",false,{"$f":"IF(AND(H73<1936),VLOOKUP(I73,Feuil1!$F$10:$O$24,9),IF(AND(H73>=1942,H73<1947),VLOOKUP(I73,Feuil1!$F$10:$O$24,9),IF(AND(H73>=1947,H73<1952),VLOOKUP(I73,Feuil1!$F$10:$O$24,8),IF(AND(H73>=1952,H73<1957),VLOOKUP(I73,Feuil1!$F$10:$O$24,7),IF(AND(H73>=1957,H73<1962),VLOOKUP(I73,Feuil1!$F$10:$O$24,6),IF(AND(H73>=1962,H73<1967),VLOOKUP(I73,Feuil1!$F$10:$O$24,5),IF(AND(H73>=1967,H73<1972),VLOOKUP(I73,Feuil1!$F$10:$O$24,4),IF(AND(H73>=1972,H73<1977),VLOOKUP(I73,Feuil1!$F$10:$O$24,3),IF(AND(H73>=1977,H73<1982),VLOOKUP(I73,Feuil1!$F$10:$O$24,2),VLOOKUP(I73,Feuil1!$F$10:$O$24,2))))))))))","v":{"$error":"#N/A"}},null,{"$f":"T73-HLOOKUP(Y73,Feuil1!$C$1:$BF$9,2,FALSE)","v":{"$error":"#VALUE!"}},{"$f":"T73-HLOOKUP(Y73,Feuil1!$C$1:$BF$9,3,FALSE)","v":{"$error":"#VALUE!"}},{"$f":"T73-HLOOKUP(Y73,Feuil1!$C$1:$BF$9,4,FALSE)","v":{"$error":"#VALUE!"}},{"$f":"T73-HLOOKUP(Y73,Feuil1!$C$1:$BF$9,5,FALSE)","v":{"$error":"#VALUE!"}},{"$f":"T73-HLOOKUP(Y73,Feuil1!$C$1:$BF$9,6,FALSE)","v":{"$error":"#VALUE!"}},{"$f":"T73-HLOOKUP(Y73,Feuil1!$C$1:$BF$9,7,FALSE)","v":{"$error":"#VALUE!"}},{"$f":"T73-HLOOKUP(Y73,Feuil1!$C$1:$BF$9,8,FALSE)","v":{"$error":"#VALUE!"}},{"$f":"T73-HLOOKUP(Y73,Feuil1!$C$1:$BF$9,9,FALSE)","v":{"$error":"#VALUE!"}},null,null,null,null,null,null,null,{"$error":"#VALUE!"},2016,null,{"$f":"IF(AQ73,VLOOKUP(AQ73,HOM!$AR$551:$AS$606,2))","v":3.5710000000000002}]
["F",null,null,null,null,null,null,null,null,null,null,null,null,null,"",null,null,null,"","","","","",false,{"$f":"IF(AND(H74<1936),VLOOKUP(I74,Feuil1!$F$10:$O$24,9),IF(AND(H74>=1942,H74<1947),VLOOKUP(I74,Feuil1!$F$10:$O$24,9),IF(AND(H74>=1947,H74<1952),VLOOKUP(I74,Feuil1!$F$10:$O$24,8),IF(AND(H74>=1952,H74<1957),VLOOKUP(I74,Feuil1!$F$10:$O$24,7),IF(AND(H74>=1957,H74<1962),VLOOKUP(I74,Feuil1!$F$10:$O$24,6),IF(AND(H74>=1962,H74<1967),VLOOKUP(I74,Feuil1!$F$10:$O$24,5),IF(AND(H74>=1967,H74<1972),VLOOKUP(I74,Feuil1!$F$10:$O$24,4),IF(AND(H74>=1972,H74<1977),VLOOKUP(I74,Feuil1!$F$10:$O$24,3),IF(AND(H74>=1977,H74<1982),VLOOKUP(I74,Feuil1!$F$10:$O$24,2),VLOOKUP(I74,Feuil1!$F$10:$O$24,2))))))))))","v":{"$error":"#N/A"}},null,{"$f":"T74-HLOOKUP(Y74,Feuil1!$C$1:$BF$9,2,FALSE)","v":{"$error":"#VALUE!"}},{"$f":"T74-HLOOKUP(Y74,Feuil1!$C$1:$BF$9,3,FALSE)","v":{"$error":"#VALUE!"}},{"$f":"T74-HLOOKUP(Y74,Feuil1!$C$1:$BF$9,4,FALSE)","v":{"$error":"#VALUE!"}},{"$f":"T74-HLOOKUP(Y74,Feuil1!$C$1:$BF$9,5,FALSE)","v":{"$error":"#VALUE!"}},{"$f":"T74-HLOOKUP(Y74,Feuil1!$C$1:$BF$9,6,FALSE)","v":{"$error":"#VALUE!"}},{"$f":"T74-HLOOKUP(Y74,Feuil1!$C$1:$BF$9,7,FALSE)","v":{"$error":"#VALUE!"}},{"$f":"T74-HLOOKUP(Y74,Feuil1!$C$1:$BF$9,8,FALSE)","v":{"$error":"#VALUE!"}},{"$f":"T74-HLOOKUP(Y74,Feuil1!$C$1:$BF$9,9,FALSE)","v":{"$error":"#VALUE!"}},null,null,null,null,null,null,null,{"$error":"#VALUE!"},2016,null,{"$f":"IF(AQ74,VLOOKUP(AQ74,HOM!$AR$551:$AS$606,2))","v":3.5710000000000002}]
["F",null,null,null,null,null,null,null,null,null,null,null,null,null,"",null,null,null,"","","","","",false,{"$f":"IF(AND(H75<1936),VLOOKUP(I75,Feuil1!$F$10:$O$24,9),IF(AND(H75>=1942,H75<1947),VLOOKUP(I75,Feuil1!$F$10:$O$24,9),IF(AND(H75>=1947,H75<1952),VLOOKUP(I75,Feuil1!$F$10:$O$24,8),IF(AND(H75>=1952,H75<1957),VLOOKUP(I75,Feuil1!$F$10:$O$24,7),IF(AND(H75>=1957,H75<1962),VLOOKUP(I75,Feuil1!$F$10:$O$24,6),IF(AND(H75>=1962,H75<1967),VLOOKUP(I75,Feuil1!$F$10:$O$24,5),IF(AND(H75>=1967,H75<1972),VLOOKUP(I75,Feuil1!$F$10:$O$24,4),IF(AND(H75>=1972,H75<1977),VLOOKUP(I75,Feuil1!$F$10:$O$24,3),IF(AND(H75>=1977,H75<1982),VLOOKUP(I75,Feuil1!$F$10:$O$24,2),VLOOKUP(I75,Feuil1!$F$10:$O$24,2))))))))))","v":{"$error":"#N/A"}},null,{"$f":"T75-HLOOKUP(Y75,Feuil1!$C$1:$BF$9,2,FALSE)","v":{"$error":"#VALUE!"}},{"$f":"T75-HLOOKUP(Y75,Feuil1!$C$1:$BF$9,3,FALSE)","v":{"$error":"#VALUE!"}},{"$f":"T75-HLOOKUP(Y75,Feuil1!$C$1:$BF$9,4,FALSE)","v":{"$error":"#VALUE!"}},{"$f":"T75-HLOOKUP(Y75,Feuil1!$C$1:$BF$9,5,FALSE)","v":{"$error":"#VALUE!"}},{"$f":"T75-HLOOKUP(Y75,Feuil1!$C$1:$BF$9,6,FALSE)","v":{"$error":"#VALUE!"}},{"$f":"T75-HLOOKUP(Y75,Feuil1!$C$1:$BF$9,7,FALSE)","v":{"$error":"#VALUE!"}},{"$f":"T75-HLOOKUP(Y75,Feuil1!$C$1:$BF$9,8,FALSE)","v":{"$error":"#VALUE!"}},{"$f":"T75-HLOOKUP(Y75,Feuil1!$C$1:$BF$9,9,FALSE)","v":{"$error":"#VALUE!"}},null,null,null,null,null,null,null,{"$error":"#VALUE!"},2016,null,{"$f":"IF(AQ75,VLOOKUP(AQ75,HOM!$AR$551:$AS$606,2))","v":3.5710000000000002}]
["F",null,null,null,null,null,null,null,null,null,null,null,null,null,"",null,null,null,"","","","","",false,{"$f":"IF(AND(H76<1936),VLOOKUP(I76,Feuil1!$F$10:$O$24,9),IF(AND(H76>=1942,H76<1947),VLOOKUP(I76,Feuil1!$F$10:$O$24,9),IF(AND(H76>=1947,H76<1952),VLOOKUP(I76,Feuil1!$F$10:$O$24,8),IF(AND(H76>=1952,H76<1957),VLOOKUP(I76,Feuil1!$F$10:$O$24,7),IF(AND(H76>=1957,H76<1962),VLOOKUP(I76,Feuil1!$F$10:$O$24,6),IF(AND(H76>=1962,H76<1967),VLOOKUP(I76,Feuil1!$F$10:$O$24,5),IF(AND(H76>=1967,H76<1972),VLOOKUP(I76,Feuil1!$F$10:$O$24,4),IF(AND(H76>=1972,H76<1977),VLOOKUP(I76,Feuil1!$F$10:$O$24,3),IF(AND(H76>=1977,H76<1982),VLOOKUP(I76,Feuil1!$F$10:$O$24,2),VLOOKUP(I76,Feuil1!$F$10:$O$24,2))))))))))","v":{"$error":"#N/A"}},null,{"$f":"T76-HLOOKUP(Y76,Feuil1!$C$1:$BF$9,2,FALSE)","v":{"$error":"#VALUE!"}},{"$f":"T76-HLOOKUP(Y76,Feuil1!$C$1:$BF$9,3,FALSE)","v":{"$error":"#VALUE!"}},{"$f":"T76-HLOOKUP(Y76,Feuil1!$C$1:$BF$9,4,FALSE)","v":{"$error":"#VALUE!"}},{"$f":"T76-HLOOKUP(Y76,Feuil1!$C$1:$BF$9,5,FALSE)","v":{"$error":"#VALUE!"}},{"$f":"T76-HLOOKUP(Y76,Feuil1!$C$1:$BF$9,6,FALSE)","v":{"$error":"#VALUE!"}},{"$f":"T76-HLOOKUP(Y76,Feuil1!$C$1:$BF$9,7,FALSE)","v":{"$error":"#VALUE!"}},{"$f":"T76-HLOOKUP(Y76,Feuil1!$C$1:$BF$9,8,FALSE)","v":{"$error":"#VALUE!"}},{"$f":"T76-HLOOKUP(Y76,Feuil1!$C$1:$BF$9,9,FALSE)","v":{"$error":"#VALUE!"}},null,null,null,null,null,null,null,{"$error":"#VALUE!"},2016,null,{"$f":"IF(AQ76,VLOOKUP(AQ76,HOM!$AR$551:$AS$606,2))","v":3.5710000000000002}]
["F",null,null,null,null,null,null,null,null,null,null,null,null,null,"",null,null,null,"","","","","",false,{"$f":"IF(AND(H77<1936),VLOOKUP(I77,Feuil1!$F$10:$O$24,9),IF(AND(H77>=1942,H77<1947),VLOOKUP(I77,Feuil1!$F$10:$O$24,9),IF(AND(H77>=1947,H77<1952),VLOOKUP(I77,Feuil1!$F$10:$O$24,8),IF(AND(H77>=1952,H77<1957),VLOOKUP(I77,Feuil1!$F$10:$O$24,7),IF(AND(H77>=1957,H77<1962),VLOOKUP(I77,Feuil1!$F$10:$O$24,6),IF(AND(H77>=1962,H77<1967),VLOOKUP(I77,Feuil1!$F$10:$O$24,5),IF(AND(H77>=1967,H77<1972),VLOOKUP(I77,Feuil1!$F$10:$O$24,4),IF(AND(H77>=1972,H77<1977),VLOOKUP(I77,Feuil1!$F$10:$O$24,3),IF(AND(H77>=1977,H77<1982),VLOOKUP(I77,Feuil1!$F$10:$O$24,2),VLOOKUP(I77,Feuil1!$F$10:$O$24,2))))))))))","v":{"$error":"#N/A"}},null,{"$f":"T77-HLOOKUP(Y77,Feuil1!$C$1:$BF$9,2,FALSE)","v":{"$error":"#VALUE!"}},{"$f":"T77-HLOOKUP(Y77,Feuil1!$C$1:$BF$9,3,FALSE)","v":{"$error":"#VALUE!"}},{"$f":"T77-HLOOKUP(Y77,Feuil1!$C$1:$BF$9,4,FALSE)","v":{"$error":"#VALUE!"}},{"$f":"T77-HLOOKUP(Y77,Feuil1!$C$1:$BF$9,5,FALSE)","v":{"$error":"#VALUE!"}},{"$f":"T77-HLOOKUP(Y77,Feuil1!$C$1:$BF$9,6,FALSE)","v":{"$error":"#VALUE!"}},{"$f":"T77-HLOOKUP(Y77,Feuil1!$C$1:$BF$9,7,FALSE)","v":{"$error":"#VALUE!"}},{"$f":"T77-HLOOKUP(Y77,Feuil1!$C$1:$BF$9,8,FALSE)","v":{"$error":"#VALUE!"}},{"$f":"T77-HLOOKUP(Y77,Feuil1!$C$1:$BF$9,9,FALSE)","v":{"$error":"#VALUE!"}},null,null,null,null,null,null,null,{"$error":"#VALUE!"},2016,null,{"$f":"IF(AQ77,VLOOKUP(AQ77,HOM!$AR$551:$AS$606,2))","v":3.5710000000000002}]
["F",null,null,null,null,null,null,null,null,null,null,null,null,null,"",null,null,null,"","","","","",false,{"$f":"IF(AND(H78<1936),VLOOKUP(I78,Feuil1!$F$10:$O$24,9),IF(AND(H78>=1942,H78<1947),VLOOKUP(I78,Feuil1!$F$10:$O$24,9),IF(AND(H78>=1947,H78<1952),VLOOKUP(I78,Feuil1!$F$10:$O$24,8),IF(AND(H78>=1952,H78<1957),VLOOKUP(I78,Feuil1!$F$10:$O$24,7),IF(AND(H78>=1957,H78<1962),VLOOKUP(I78,Feuil1!$F$10:$O$24,6),IF(AND(H78>=1962,H78<1967),VLOOKUP(I78,Feuil1!$F$10:$O$24,5),IF(AND(H78>=1967,H78<1972),VLOOKUP(I78,Feuil1!$F$10:$O$24,4),IF(AND(H78>=1972,H78<1977),VLOOKUP(I78,Feuil1!$F$10:$O$24,3),IF(AND(H78>=1977,H78<1982),VLOOKUP(I78,Feuil1!$F$10:$O$24,2),VLOOKUP(I78,Feuil1!$F$10:$O$24,2))))))))))","v":{"$error":"#N/A"}},null,{"$f":"T78-HLOOKUP(Y78,Feuil1!$C$1:$BF$9,2,FALSE)","v":{"$error":"#VALUE!"}},{"$f":"T78-HLOOKUP(Y78,Feuil1!$C$1:$BF$9,3,FALSE)","v":{"$error":"#VALUE!"}},{"$f":"T78-HLOOKUP(Y78,Feuil1!$C$1:$BF$9,4,FALSE)","v":{"$error":"#VALUE!"}},{"$f":"T78-HLOOKUP(Y78,Feuil1!$C$1:$BF$9,5,FALSE)","v":{"$error":"#VALUE!"}},{"$f":"T78-HLOOKUP(Y78,Feuil1!$C$1:$BF$9,6,FALSE)","v":{"$error":"#VALUE!"}},{"$f":"T78-HLOOKUP(Y78,Feuil1!$C$1:$BF$9,7,FALSE)","v":{"$error":"#VALUE!"}},{"$f":"T78-HLOOKUP(Y78,Feuil1!$C$1:$BF$9,8,FALSE)","v":{"$error":"#VALUE!"}},{"$f":"T78-HLOOKUP(Y78,Feuil1!$C$1:$BF$9,9,FALSE)","v":{"$error":"#VALUE!"}},null,null,null,null,null,null,null,{"$error":"#VALUE!"},2016,null,{"$f":"IF(AQ78,VLOOKUP(AQ78,HOM!$AR$551:$AS$606,2))","v":3.5710000000000002}]
["F",null,null,null,null,null,null,null,null,null,null,null,null,null,"",null,null,null,"","","","","",false,{"$f":"IF(AND(H79<1936),VLOOKUP(I79,Feuil1!$F$10:$O$24,9),IF(AND(H79>=1942,H79<1947),VLOOKUP(I79,Feuil1!$F$10:$O$24,9),IF(AND(H79>=1947,H79<1952),VLOOKUP(I79,Feuil1!$F$10:$O$24,8),IF(AND(H79>=1952,H79<1957),VLOOKUP(I79,Feuil1!$F$10:$O$24,7),IF(AND(H79>=1957,H79<1962),VLOOKUP(I79,Feuil1!$F$10:$O$24,6),IF(AND(H79>=1962,H79<1967),VLOOKUP(I79,Feuil1!$F$10:$O$24,5),IF(AND(H79>=1967,H79<1972),VLOOKUP(I79,Feuil1!$F$10:$O$24,4),IF(AND(H79>=1972,H79<1977),VLOOKUP(I79,Feuil1!$F$10:$O$24,3),IF(AND(H79>=1977,H79<1982),VLOOKUP(I79,Feuil1!$F$10:$O$24,2),VLOOKUP(I79,Feuil1!$F$10:$O$24,2))))))))))","v":{"$error":"#N/A"}},null,{"$f":"T79-HLOOKUP(Y79,Feuil1!$C$1:$BF$9,2,FALSE)","v":{"$error":"#VALUE!"}},{"$f":"T79-HLOOKUP(Y79,Feuil1!$C$1:$BF$9,3,FALSE)","v":{"$error":"#VALUE!"}},{"$f":"T79-HLOOKUP(Y79,Feuil1!$C$1:$BF$9,4,FALSE)","v":{"$error":"#VALUE!"}},{"$f":"T79-HLOOKUP(Y79,Feuil1!$C$1:$BF$9,5,FALSE)","v":{"$error":"#VALUE!"}},{"$f":"T79-HLOOKUP(Y79,Feuil1!$C$1:$BF$9,6,FALSE)","v":{"$error":"#VALUE!"}},{"$f":"T79-HLOOKUP(Y79,Feuil1!$C$1:$BF$9,7,FALSE)","v":{"$error":"#VALUE!"}},{"$f":"T79-HLOOKUP(Y79,Feuil1!$C$1:$BF$9,8,FALSE)","v":{"$error":"#VALUE!"}},{"$f":"T79-HLOOKUP(Y79,Feuil1!$C$1:$BF$9,9,FALSE)","v":{"$error":"#VALUE!"}},null,null,null,null,null,null,null,{"$error":"#VALUE!"},2016,null,{"$f":"IF(AQ79,VLOOKUP(AQ79,HOM!$AR$551:$AS$606,2))","v":3.5710000000000002}]
["F",null,null,null,null,null,null,null,null,null,null,null,null,null,"",null,null,null,"","","","","",false,{"$f":"IF(AND(H80<1936),VLOOKUP(I80,Feuil1!$F$10:$O$24,9),IF(AND(H80>=1942,H80<1947),VLOOKUP(I80,Feuil1!$F$10:$O$24,9),IF(AND(H80>=1947,H80<1952),VLOOKUP(I80,Feuil1!$F$10:$O$24,8),IF(AND(H80>=1952,H80<1957),VLOOKUP(I80,Feuil1!$F$10:$O$24,7),IF(AND(H80>=1957,H80<1962),VLOOKUP(I80,Feuil1!$F$10:$O$24,6),IF(AND(H80>=1962,H80<1967),VLOOKUP(I80,Feuil1!$F$10:$O$24,5),IF(AND(H80>=1967,H80<1972),VLOOKUP(I80,Feuil1!$F$10:$O$24,4),IF(AND(H80>=1972,H80<1977),VLOOKUP(I80,Feuil1!$F$10:$O$24,3),IF(AND(H80>=1977,H80<1982),VLOOKUP(I80,Feuil1!$F$10:$O$24,2),VLOOKUP(I80,Feuil1!$F$10:$O$24,2))))))))))","v":{"$error":"#N/A"}},null,{"$f":"T80-HLOOKUP(Y80,Feuil1!$C$1:$BF$9,2,FALSE)","v":{"$error":"#VALUE!"}},{"$f":"T80-HLOOKUP(Y80,Feuil1!$C$1:$BF$9,3,FALSE)","v":{"$error":"#VALUE!"}},{"$f":"T80-HLOOKUP(Y80,Feuil1!$C$1:$BF$9,4,FALSE)","v":{"$error":"#VALUE!"}},{"$f":"T80-HLOOKUP(Y80,Feuil1!$C$1:$BF$9,5,FALSE)","v":{"$error":"#VALUE!"}},{"$f":"T80-HLOOKUP(Y80,Feuil1!$C$1:$BF$9,6,FALSE)","v":{"$error":"#VALUE!"}},{"$f":"T80-HLOOKUP(Y80,Feuil1!$C$1:$BF$9,7,FALSE)","v":{"$error":"#VALUE!"}},{"$f":"T80-HLOOKUP(Y80,Feuil1!$C$1:$BF$9,8,FALSE)","v":{"$error":"#VALUE!"}},{"$f":"T80-HLOOKUP(Y80,Feuil1!$C$1:$BF$9,9,FALSE)","v":{"$error":"#VALUE!"}},null,null,null,null,null,null,null,{"$error":"#VALUE!"},2016,null,{"$f":"IF(AQ80,VLOOKUP(AQ80,HOM!$AR$551:$AS$606,2))","v":3.5710000000000002}]
["F",null,null,null,null,null,null,null,null,null,null,null,null,null,"",null,null,null,"","","","","",false,{"$f":"IF(AND(H81<1936),VLOOKUP(I81,Feuil1!$F$10:$O$24,9),IF(AND(H81>=1942,H81<1947),VLOOKUP(I81,Feuil1!$F$10:$O$24,9),IF(AND(H81>=1947,H81<1952),VLOOKUP(I81,Feuil1!$F$10:$O$24,8),IF(AND(H81>=1952,H81<1957),VLOOKUP(I81,Feuil1!$F$10:$O$24,7),IF(AND(H81>=1957,H81<1962),VLOOKUP(I81,Feuil1!$F$10:$O$24,6),IF(AND(H81>=1962,H81<1967),VLOOKUP(I81,Feuil1!$F$10:$O$24,5),IF(AND(H81>=1967,H81<1972),VLOOKUP(I81,Feuil1!$F$10:$O$24,4),IF(AND(H81>=1972,H81<1977),VLOOKUP(I81,Feuil1!$F$10:$O$24,3),IF(AND(H81>=1977,H81<1982),VLOOKUP(I81,Feuil1!$F$10:$O$24,2),VLOOKUP(I81,Feuil1!$F$10:$O$24,2))))))))))","v":{"$error":"#N/A"}},null,{"$f":"T81-HLOOKUP(Y81,Feuil1!$C$1:$BF$9,2,FALSE)","v":{"$error":"#VALUE!"}},{"$f":"T81-HLOOKUP(Y81,Feuil1!$C$1:$BF$9,3,FALSE)","v":{"$error":"#VALUE!"}},{"$f":"T81-HLOOKUP(Y81,Feuil1!$C$1:$BF$9,4,FALSE)","v":{"$error":"#VALUE!"}},{"$f":"T81-HLOOKUP(Y81,Feuil1!$C$1:$BF$9,5,FALSE)","v":{"$error":"#VALUE!"}},{"$f":"T81-HLOOKUP(Y81,Feuil1!$C$1:$BF$9,6,FALSE)","v":{"$error":"#VALUE!"}},{"$f":"T81-HLOOKUP(Y81,Feuil1!$C$1:$BF$9,7,FALSE)","v":{"$error":"#VALUE!"}},{"$f":"T81-HLOOKUP(Y81,Feuil1!$C$1:$BF$9,8,FALSE)","v":{"$error":"#VALUE!"}},{"$f":"T81-HLOOKUP(Y81,Feuil1!$C$1:$BF$9,9,FALSE)","v":{"$error":"#VALUE!"}},null,null,null,null,null,null,null,{"$error":"#VALUE!"},2016,null,{"$f":"IF(AQ81,VLOOKUP(AQ81,HOM!$AR$551:$AS$606,2))","v":3.5710000000000002}]
["F",null,null,null,null,null,null,null,null,null,null,null,null,null,"",null,null,null,"","","","","",false,{"$f":"IF(AND(H82<1936),VLOOKUP(I82,Feuil1!$F$10:$O$24,9),IF(AND(H82>=1942,H82<1947),VLOOKUP(I82,Feuil1!$F$10:$O$24,9),IF(AND(H82>=1947,H82<1952),VLOOKUP(I82,Feuil1!$F$10:$O$24,8),IF(AND(H82>=1952,H82<1957),VLOOKUP(I82,Feuil1!$F$10:$O$24,7),IF(AND(H82>=1957,H82<1962),VLOOKUP(I82,Feuil1!$F$10:$O$24,6),IF(AND(H82>=1962,H82<1967),VLOOKUP(I82,Feuil1!$F$10:$O$24,5),IF(AND(H82>=1967,H82<1972),VLOOKUP(I82,Feuil1!$F$10:$O$24,4),IF(AND(H82>=1972,H82<1977),VLOOKUP(I82,Feuil1!$F$10:$O$24,3),IF(AND(H82>=1977,H82<1982),VLOOKUP(I82,Feuil1!$F$10:$O$24,2),VLOOKUP(I82,Feuil1!$F$10:$O$24,2))))))))))","v":{"$error":"#N/A"}},null,{"$f":"T82-HLOOKUP(Y82,Feuil1!$C$1:$BF$9,2,FALSE)","v":{"$error":"#VALUE!"}},{"$f":"T82-HLOOKUP(Y82,Feuil1!$C$1:$BF$9,3,FALSE)","v":{"$error":"#VALUE!"}},{"$f":"T82-HLOOKUP(Y82,Feuil1!$C$1:$BF$9,4,FALSE)","v":{"$error":"#VALUE!"}},{"$f":"T82-HLOOKUP(Y82,Feuil1!$C$1:$BF$9,5,FALSE)","v":{"$error":"#VALUE!"}},{"$f":"T82-HLOOKUP(Y82,Feuil1!$C$1:$BF$9,6,FALSE)","v":{"$error":"#VALUE!"}},{"$f":"T82-HLOOKUP(Y82,Feuil1!$C$1:$BF$9,7,FALSE)","v":{"$error":"#VALUE!"}},{"$f":"T82-HLOOKUP(Y82,Feuil1!$C$1:$BF$9,8,FALSE)","v":{"$error":"#VALUE!"}},{"$f":"T82-HLOOKUP(Y82,Feuil1!$C$1:$BF$9,9,FALSE)","v":{"$error":"#VALUE!"}},null,null,null,null,null,null,null,{"$error":"#VALUE!"},2016,null,{"$f":"IF(AQ82,VLOOKUP(AQ82,HOM!$AR$551:$AS$606,2))","v":3.5710000000000002}]
["F",null,null,null,null,null,null,null,null,null,null,null,null,null,"",null,null,null,"","","","","",false,{"$f":"IF(AND(H83<1936),VLOOKUP(I83,Feuil1!$F$10:$O$24,9),IF(AND(H83>=1942,H83<1947),VLOOKUP(I83,Feuil1!$F$10:$O$24,9),IF(AND(H83>=1947,H83<1952),VLOOKUP(I83,Feuil1!$F$10:$O$24,8),IF(AND(H83>=1952,H83<1957),VLOOKUP(I83,Feuil1!$F$10:$O$24,7),IF(AND(H83>=1957,H83<1962),VLOOKUP(I83,Feuil1!$F$10:$O$24,6),IF(AND(H83>=1962,H83<1967),VLOOKUP(I83,Feuil1!$F$10:$O$24,5),IF(AND(H83>=1967,H83<1972),VLOOKUP(I83,Feuil1!$F$10:$O$24,4),IF(AND(H83>=1972,H83<1977),VLOOKUP(I83,Feuil1!$F$10:$O$24,3),IF(AND(H83>=1977,H83<1982),VLOOKUP(I83,Feuil1!$F$10:$O$24,2),VLOOKUP(I83,Feuil1!$F$10:$O$24,2))))))))))","v":{"$error":"#N/A"}},null,{"$f":"T83-HLOOKUP(Y83,Feuil1!$C$1:$BF$9,2,FALSE)","v":{"$error":"#VALUE!"}},{"$f":"T83-HLOOKUP(Y83,Feuil1!$C$1:$BF$9,3,FALSE)","v":{"$error":"#VALUE!"}},{"$f":"T83-HLOOKUP(Y83,Feuil1!$C$1:$BF$9,4,FALSE)","v":{"$error":"#VALUE!"}},{"$f":"T83-HLOOKUP(Y83,Feuil1!$C$1:$BF$9,5,FALSE)","v":{"$error":"#VALUE!"}},{"$f":"T83-HLOOKUP(Y83,Feuil1!$C$1:$BF$9,6,FALSE)","v":{"$error":"#VALUE!"}},{"$f":"T83-HLOOKUP(Y83,Feuil1!$C$1:$BF$9,7,FALSE)","v":{"$error":"#VALUE!"}},{"$f":"T83-HLOOKUP(Y83,Feuil1!$C$1:$BF$9,8,FALSE)","v":{"$error":"#VALUE!"}},{"$f":"T83-HLOOKUP(Y83,Feuil1!$C$1:$BF$9,9,FALSE)","v":{"$error":"#VALUE!"}},null,null,null,null,null,null,null,{"$error":"#VALUE!"},2016,null,{"$f":"IF(AQ83,VLOOKUP(AQ83,HOM!$AR$551:$AS$606,2))","v":3.5710000000000002}]
["F",null,null,null,null,null,null,null,null,null,null,null,null,null,"",null,null,null,"","","","","",false,{"$f":"IF(AND(H84<1936),VLOOKUP(I84,Feuil1!$F$10:$O$24,9),IF(AND(H84>=1942,H84<1947),VLOOKUP(I84,Feuil1!$F$10:$O$24,9),IF(AND(H84>=1947,H84<1952),VLOOKUP(I84,Feuil1!$F$10:$O$24,8),IF(AND(H84>=1952,H84<1957),VLOOKUP(I84,Feuil1!$F$10:$O$24,7),IF(AND(H84>=1957,H84<1962),VLOOKUP(I84,Feuil1!$F$10:$O$24,6),IF(AND(H84>=1962,H84<1967),VLOOKUP(I84,Feuil1!$F$10:$O$24,5),IF(AND(H84>=1967,H84<1972),VLOOKUP(I84,Feuil1!$F$10:$O$24,4),IF(AND(H84>=1972,H84<1977),VLOOKUP(I84,Feuil1!$F$10:$O$24,3),IF(AND(H84>=1977,H84<1982),VLOOKUP(I84,Feuil1!$F$10:$O$24,2),VLOOKUP(I84,Feuil1!$F$10:$O$24,2))))))))))","v":{"$error":"#N/A"}},null,{"$f":"T84-HLOOKUP(Y84,Feuil1!$C$1:$BF$9,2,FALSE)","v":{"$error":"#VALUE!"}},{"$f":"T84-HLOOKUP(Y84,Feuil1!$C$1:$BF$9,3,FALSE)","v":{"$error":"#VALUE!"}},{"$f":"T84-HLOOKUP(Y84,Feuil1!$C$1:$BF$9,4,FALSE)","v":{"$error":"#VALUE!"}},{"$f":"T84-HLOOKUP(Y84,Feuil1!$C$1:$BF$9,5,FALSE)","v":{"$error":"#VALUE!"}},{"$f":"T84-HLOOKUP(Y84,Feuil1!$C$1:$BF$9,6,FALSE)","v":{"$error":"#VALUE!"}},{"$f":"T84-HLOOKUP(Y84,Feuil1!$C$1:$BF$9,7,FALSE)","v":{"$error":"#VALUE!"}},{"$f":"T84-HLOOKUP(Y84,Feuil1!$C$1:$BF$9,8,FALSE)","v":{"$error":"#VALUE!"}},{"$f":"T84-HLOOKUP(Y84,Feuil1!$C$1:$BF$9,9,FALSE)","v":{"$error":"#VALUE!"}},null,null,null,null,null,null,null,{"$error":"#VALUE!"},2016,null,{"$f":"IF(AQ84,VLOOKUP(AQ84,HOM!$AR$551:$AS$606,2))","v":3.5710000000000002}]
["F",null,null,null,null,null,null,null,null,null,null,null,null,null,"",null,null,null,"","","","","",false,{"$f":"IF(AND(H85<1936),VLOOKUP(I85,Feuil1!$F$10:$O$24,9),IF(AND(H85>=1942,H85<1947),VLOOKUP(I85,Feuil1!$F$10:$O$24,9),IF(AND(H85>=1947,H85<1952),VLOOKUP(I85,Feuil1!$F$10:$O$24,8),IF(AND(H85>=1952,H85<1957),VLOOKUP(I85,Feuil1!$F$10:$O$24,7),IF(AND(H85>=1957,H85<1962),VLOOKUP(I85,Feuil1!$F$10:$O$24,6),IF(AND(H85>=1962,H85<1967),VLOOKUP(I85,Feuil1!$F$10:$O$24,5),IF(AND(H85>=1967,H85<1972),VLOOKUP(I85,Feuil1!$F$10:$O$24,4),IF(AND(H85>=1972,H85<1977),VLOOKUP(I85,Feuil1!$F$10:$O$24,3),IF(AND(H85>=1977,H85<1982),VLOOKUP(I85,Feuil1!$F$10:$O$24,2),VLOOKUP(I85,Feuil1!$F$10:$O$24,2))))))))))","v":{"$error":"#N/A"}},null,{"$f":"T85-HLOOKUP(Y85,Feuil1!$C$1:$BF$9,2,FALSE)","v":{"$error":"#VALUE!"}},{"$f":"T85-HLOOKUP(Y85,Feuil1!$C$1:$BF$9,3,FALSE)","v":{"$error":"#VALUE!"}},{"$f":"T85-HLOOKUP(Y85,Feuil1!$C$1:$BF$9,4,FALSE)","v":{"$error":"#VALUE!"}},{"$f":"T85-HLOOKUP(Y85,Feuil1!$C$1:$BF$9,5,FALSE)","v":{"$error":"#VALUE!"}},{"$f":"T85-HLOOKUP(Y85,Feuil1!$C$1:$BF$9,6,FALSE)","v":{"$error":"#VALUE!"}},{"$f":"T85-HLOOKUP(Y85,Feuil1!$C$1:$BF$9,7,FALSE)","v":{"$error":"#VALUE!"}},{"$f":"T85-HLOOKUP(Y85,Feuil1!$C$1:$BF$9,8,FALSE)","v":{"$error":"#VALUE!"}},{"$f":"T85-HLOOKUP(Y85,Feuil1!$C$1:$BF$9,9,FALSE)","v":{"$error":"#VALUE!"}},null,null,null,null,null,null,null,{"$error":"#VALUE!"},2016,null,{"$f":"IF(AQ85,VLOOKUP(AQ85,HOM!$AR$551:$AS$606,2))","v":3.5710000000000002}]
["F",null,null,null,null,null,null,null,null,null,null,null,null,null,"",null,null,null,"","","","","",false,{"$f":"IF(AND(H86<1936),VLOOKUP(I86,Feuil1!$F$10:$O$24,9),IF(AND(H86>=1942,H86<1947),VLOOKUP(I86,Feuil1!$F$10:$O$24,9),IF(AND(H86>=1947,H86<1952),VLOOKUP(I86,Feuil1!$F$10:$O$24,8),IF(AND(H86>=1952,H86<1957),VLOOKUP(I86,Feuil1!$F$10:$O$24,7),IF(AND(H86>=1957,H86<1962),VLOOKUP(I86,Feuil1!$F$10:$O$24,6),IF(AND(H86>=1962,H86<1967),VLOOKUP(I86,Feuil1!$F$10:$O$24,5),IF(AND(H86>=1967,H86<1972),VLOOKUP(I86,Feuil1!$F$10:$O$24,4),IF(AND(H86>=1972,H86<1977),VLOOKUP(I86,Feuil1!$F$10:$O$24,3),IF(AND(H86>=1977,H86<1982),VLOOKUP(I86,Feuil1!$F$10:$O$24,2),VLOOKUP(I86,Feuil1!$F$10:$O$24,2))))))))))","v":{"$error":"#N/A"}},null,{"$f":"T86-HLOOKUP(Y86,Feuil1!$C$1:$BF$9,2,FALSE)","v":{"$error":"#VALUE!"}},{"$f":"T86-HLOOKUP(Y86,Feuil1!$C$1:$BF$9,3,FALSE)","v":{"$error":"#VALUE!"}},{"$f":"T86-HLOOKUP(Y86,Feuil1!$C$1:$BF$9,4,FALSE)","v":{"$error":"#VALUE!"}},{"$f":"T86-HLOOKUP(Y86,Feuil1!$C$1:$BF$9,5,FALSE)","v":{"$error":"#VALUE!"}},{"$f":"T86-HLOOKUP(Y86,Feuil1!$C$1:$BF$9,6,FALSE)","v":{"$error":"#VALUE!"}},{"$f":"T86-HLOOKUP(Y86,Feuil1!$C$1:$BF$9,7,FALSE)","v":{"$error":"#VALUE!"}},{"$f":"T86-HLOOKUP(Y86,Feuil1!$C$1:$BF$9,8,FALSE)","v":{"$error":"#VALUE!"}},{"$f":"T86-HLOOKUP(Y86,Feuil1!$C$1:$BF$9,9,FALSE)","v":{"$error":"#VALUE!"}},null,null,null,null,null,null,null,{"$error":"#VALUE!"},2016,null,{"$f":"IF(AQ86,VLOOKUP(AQ86,HOM!$AR$551:$AS$606,2))","v":3.5710000000000002}]
["F",null,null,null,null,null,null,null,null,null,null,null,null,null,"",null,null,null,"","","","","",false,{"$f":"IF(AND(H87<1936),VLOOKUP(I87,Feuil1!$F$10:$O$24,9),IF(AND(H87>=1942,H87<1947),VLOOKUP(I87,Feuil1!$F$10:$O$24,9),IF(AND(H87>=1947,H87<1952),VLOOKUP(I87,Feuil1!$F$10:$O$24,8),IF(AND(H87>=1952,H87<1957),VLOOKUP(I87,Feuil1!$F$10:$O$24,7),IF(AND(H87>=1957,H87<1962),VLOOKUP(I87,Feuil1!$F$10:$O$24,6),IF(AND(H87>=1962,H87<1967),VLOOKUP(I87,Feuil1!$F$10:$O$24,5),IF(AND(H87>=1967,H87<1972),VLOOKUP(I87,Feuil1!$F$10:$O$24,4),IF(AND(H87>=1972,H87<1977),VLOOKUP(I87,Feuil1!$F$10:$O$24,3),IF(AND(H87>=1977,H87<1982),VLOOKUP(I87,Feuil1!$F$10:$O$24,2),VLOOKUP(I87,Feuil1!$F$10:$O$24,2))))))))))","v":{"$error":"#N/A"}},null,{"$f":"T87-HLOOKUP(Y87,Feuil1!$C$1:$BF$9,2,FALSE)","v":{"$error":"#VALUE!"}},{"$f":"T87-HLOOKUP(Y87,Feuil1!$C$1:$BF$9,3,FALSE)","v":{"$error":"#VALUE!"}},{"$f":"T87-HLOOKUP(Y87,Feuil1!$C$1:$BF$9,4,FALSE)","v":{"$error":"#VALUE!"}},{"$f":"T87-HLOOKUP(Y87,Feuil1!$C$1:$BF$9,5,FALSE)","v":{"$error":"#VALUE!"}},{"$f":"T87-HLOOKUP(Y87,Feuil1!$C$1:$BF$9,6,FALSE)","v":{"$error":"#VALUE!"}},{"$f":"T87-HLOOKUP(Y87,Feuil1!$C$1:$BF$9,7,FALSE)","v":{"$error":"#VALUE!"}},{"$f":"T87-HLOOKUP(Y87,Feuil1!$C$1:$BF$9,8,FALSE)","v":{"$error":"#VALUE!"}},{"$f":"T87-HLOOKUP(Y87,Feuil1!$C$1:$BF$9,9,FALSE)","v":{"$error":"#VALUE!"}},null,null,null,null,null,null,null,{"$error":"#VALUE!"},2016,null,{"$f":"IF(AQ87,VLOOKUP(AQ87,HOM!$AR$551:$AS$606,2))","v":3.5710000000000002}]
["F",null,null,null,null,null,null,null,null,null,null,null,null,null,"",null,null,null,"","","","","",false,{"$f":"IF(AND(H88<1936),VLOOKUP(I88,Feuil1!$F$10:$O$24,9),IF(AND(H88>=1942,H88<1947),VLOOKUP(I88,Feuil1!$F$10:$O$24,9),IF(AND(H88>=1947,H88<1952),VLOOKUP(I88,Feuil1!$F$10:$O$24,8),IF(AND(H88>=1952,H88<1957),VLOOKUP(I88,Feuil1!$F$10:$O$24,7),IF(AND(H88>=1957,H88<1962),VLOOKUP(I88,Feuil1!$F$10:$O$24,6),IF(AND(H88>=1962,H88<1967),VLOOKUP(I88,Feuil1!$F$10:$O$24,5),IF(AND(H88>=1967,H88<1972),VLOOKUP(I88,Feuil1!$F$10:$O$24,4),IF(AND(H88>=1972,H88<1977),VLOOKUP(I88,Feuil1!$F$10:$O$24,3),IF(AND(H88>=1977,H88<1982),VLOOKUP(I88,Feuil1!$F$10:$O$24,2),VLOOKUP(I88,Feuil1!$F$10:$O$24,2))))))))))","v":{"$error":"#N/A"}},null,{"$f":"T88-HLOOKUP(Y88,Feuil1!$C$1:$BF$9,2,FALSE)","v":{"$error":"#VALUE!"}},{"$f":"T88-HLOOKUP(Y88,Feuil1!$C$1:$BF$9,3,FALSE)","v":{"$error":"#VALUE!"}},{"$f":"T88-HLOOKUP(Y88,Feuil1!$C$1:$BF$9,4,FALSE)","v":{"$error":"#VALUE!"}},{"$f":"T88-HLOOKUP(Y88,Feuil1!$C$1:$BF$9,5,FALSE)","v":{"$error":"#VALUE!"}},{"$f":"T88-HLOOKUP(Y88,Feuil1!$C$1:$BF$9,6,FALSE)","v":{"$error":"#VALUE!"}},{"$f":"T88-HLOOKUP(Y88,Feuil1!$C$1:$BF$9,7,FALSE)","v":{"$error":"#VALUE!"}},{"$f":"T88-HLOOKUP(Y88,Feuil1!$C$1:$BF$9,8,FALSE)","v":{"$error":"#VALUE!"}},{"$f":"T88-HLOOKUP(Y88,Feuil1!$C$1:$BF$9,9,FALSE)","v":{"$error":"#VALUE!"}},null,null,null,null,null,null,null,{"$error":"#VALUE!"},2016,null,{"$f":"IF(AQ88,VLOOKUP(AQ88,HOM!$AR$551:$AS$606,2))","v":3.5710000000000002}]
["F",null,null,null,null,null,null,null,null,null,null,null,null,null,"",null,null,null,"","","","","",false,{"$f":"IF(AND(H89<1936),VLOOKUP(I89,Feuil1!$F$10:$O$24,9),IF(AND(H89>=1942,H89<1947),VLOOKUP(I89,Feuil1!$F$10:$O$24,9),IF(AND(H89>=1947,H89<1952),VLOOKUP(I89,Feuil1!$F$10:$O$24,8),IF(AND(H89>=1952,H89<1957),VLOOKUP(I89,Feuil1!$F$10:$O$24,7),IF(AND(H89>=1957,H89<1962),VLOOKUP(I89,Feuil1!$F$10:$O$24,6),IF(AND(H89>=1962,H89<1967),VLOOKUP(I89,Feuil1!$F$10:$O$24,5),IF(AND(H89>=1967,H89<1972),VLOOKUP(I89,Feuil1!$F$10:$O$24,4),IF(AND(H89>=1972,H89<1977),VLOOKUP(I89,Feuil1!$F$10:$O$24,3),IF(AND(H89>=1977,H89<1982),VLOOKUP(I89,Feuil1!$F$10:$O$24,2),VLOOKUP(I89,Feuil1!$F$10:$O$24,2))))))))))","v":{"$error":"#N/A"}},null,{"$f":"T89-HLOOKUP(Y89,Feuil1!$C$1:$BF$9,2,FALSE)","v":{"$error":"#VALUE!"}},{"$f":"T89-HLOOKUP(Y89,Feuil1!$C$1:$BF$9,3,FALSE)","v":{"$error":"#VALUE!"}},{"$f":"T89-HLOOKUP(Y89,Feuil1!$C$1:$BF$9,4,FALSE)","v":{"$error":"#VALUE!"}},{"$f":"T89-HLOOKUP(Y89,Feuil1!$C$1:$BF$9,5,FALSE)","v":{"$error":"#VALUE!"}},{"$f":"T89-HLOOKUP(Y89,Feuil1!$C$1:$BF$9,6,FALSE)","v":{"$error":"#VALUE!"}},{"$f":"T89-HLOOKUP(Y89,Feuil1!$C$1:$BF$9,7,FALSE)","v":{"$error":"#VALUE!"}},{"$f":"T89-HLOOKUP(Y89,Feuil1!$C$1:$BF$9,8,FALSE)","v":{"$error":"#VALUE!"}},{"$f":"T89-HLOOKUP(Y89,Feuil1!$C$1:$BF$9,9,FALSE)","v":{"$error":"#VALUE!"}},null,null,null,null,null,null,null,{"$error":"#VALUE!"},2016,null,{"$f":"IF(AQ89,VLOOKUP(AQ89,HOM!$AR$551:$AS$606,2))","v":3.5710000000000002}]
["F",null,null,null,null,null,null,null,null,null,null,null,null,null,"",null,null,null,"","","","","",false,{"$f":"IF(AND(H90<1936),VLOOKUP(I90,Feuil1!$F$10:$O$24,9),IF(AND(H90>=1942,H90<1947),VLOOKUP(I90,Feuil1!$F$10:$O$24,9),IF(AND(H90>=1947,H90<1952),VLOOKUP(I90,Feuil1!$F$10:$O$24,8),IF(AND(H90>=1952,H90<1957),VLOOKUP(I90,Feuil1!$F$10:$O$24,7),IF(AND(H90>=1957,H90<1962),VLOOKUP(I90,Feuil1!$F$10:$O$24,6),IF(AND(H90>=1962,H90<1967),VLOOKUP(I90,Feuil1!$F$10:$O$24,5),IF(AND(H90>=1967,H90<1972),VLOOKUP(I90,Feuil1!$F$10:$O$24,4),IF(AND(H90>=1972,H90<1977),VLOOKUP(I90,Feuil1!$F$10:$O$24,3),IF(AND(H90>=1977,H90<1982),VLOOKUP(I90,Feuil1!$F$10:$O$24,2),VLOOKUP(I90,Feuil1!$F$10:$O$24,2))))))))))","v":{"$error":"#N/A"}},null,{"$f":"T90-HLOOKUP(Y90,Feuil1!$C$1:$BF$9,2,FALSE)","v":{"$error":"#VALUE!"}},{"$f":"T90-HLOOKUP(Y90,Feuil1!$C$1:$BF$9,3,FALSE)","v":{"$error":"#VALUE!"}},{"$f":"T90-HLOOKUP(Y90,Feuil1!$C$1:$BF$9,4,FALSE)","v":{"$error":"#VALUE!"}},{"$f":"T90-HLOOKUP(Y90,Feuil1!$C$1:$BF$9,5,FALSE)","v":{"$error":"#VALUE!"}},{"$f":"T90-HLOOKUP(Y90,Feuil1!$C$1:$BF$9,6,FALSE)","v":{"$error":"#VALUE!"}},{"$f":"T90-HLOOKUP(Y90,Feuil1!$C$1:$BF$9,7,FALSE)","v":{"$error":"#VALUE!"}},{"$f":"T90-HLOOKUP(Y90,Feuil1!$C$1:$BF$9,8,FALSE)","v":{"$error":"#VALUE!"}},{"$f":"T90-HLOOKUP(Y90,Feuil1!$C$1:$BF$9,9,FALSE)","v":{"$error":"#VALUE!"}},null,null,null,null,null,null,null,{"$error":"#VALUE!"},2016,null,{"$f":"IF(AQ90,VLOOKUP(AQ90,HOM!$AR$551:$AS$606,2))","v":3.5710000000000002}]
["F",null,null,null,null,null,null,null,null,null,null,null,null,null,"",null,null,null,"","","","","",false,{"$f":"IF(AND(H91<1936),VLOOKUP(I91,Feuil1!$F$10:$O$24,9),IF(AND(H91>=1942,H91<1947),VLOOKUP(I91,Feuil1!$F$10:$O$24,9),IF(AND(H91>=1947,H91<1952),VLOOKUP(I91,Feuil1!$F$10:$O$24,8),IF(AND(H91>=1952,H91<1957),VLOOKUP(I91,Feuil1!$F$10:$O$24,7),IF(AND(H91>=1957,H91<1962),VLOOKUP(I91,Feuil1!$F$10:$O$24,6),IF(AND(H91>=1962,H91<1967),VLOOKUP(I91,Feuil1!$F$10:$O$24,5),IF(AND(H91>=1967,H91<1972),VLOOKUP(I91,Feuil1!$F$10:$O$24,4),IF(AND(H91>=1972,H91<1977),VLOOKUP(I91,Feuil1!$F$10:$O$24,3),IF(AND(H91>=1977,H91<1982),VLOOKUP(I91,Feuil1!$F$10:$O$24,2),VLOOKUP(I91,Feuil1!$F$10:$O$24,2))))))))))","v":{"$error":"#N/A"}},null,{"$f":"T91-HLOOKUP(Y91,Feuil1!$C$1:$BF$9,2,FALSE)","v":{"$error":"#VALUE!"}},{"$f":"T91-HLOOKUP(Y91,Feuil1!$C$1:$BF$9,3,FALSE)","v":{"$error":"#VALUE!"}},{"$f":"T91-HLOOKUP(Y91,Feuil1!$C$1:$BF$9,4,FALSE)","v":{"$error":"#VALUE!"}},{"$f":"T91-HLOOKUP(Y91,Feuil1!$C$1:$BF$9,5,FALSE)","v":{"$error":"#VALUE!"}},{"$f":"T91-HLOOKUP(Y91,Feuil1!$C$1:$BF$9,6,FALSE)","v":{"$error":"#VALUE!"}},{"$f":"T91-HLOOKUP(Y91,Feuil1!$C$1:$BF$9,7,FALSE)","v":{"$error":"#VALUE!"}},{"$f":"T91-HLOOKUP(Y91,Feuil1!$C$1:$BF$9,8,FALSE)","v":{"$error":"#VALUE!"}},{"$f":"T91-HLOOKUP(Y91,Feuil1!$C$1:$BF$9,9,FALSE)","v":{"$error":"#VALUE!"}},null,null,null,null,null,null,null,{"$error":"#VALUE!"},2016,null,{"$f":"IF(AQ91,VLOOKUP(AQ91,HOM!$AR$551:$AS$606,2))","v":3.5710000000000002}]
["F",null,null,null,null,null,null,null,null,null,null,null,null,null,"",null,null,null,"","","","","",false,{"$f":"IF(AND(H92<1936),VLOOKUP(I92,Feuil1!$F$10:$O$24,9),IF(AND(H92>=1942,H92<1947),VLOOKUP(I92,Feuil1!$F$10:$O$24,9),IF(AND(H92>=1947,H92<1952),VLOOKUP(I92,Feuil1!$F$10:$O$24,8),IF(AND(H92>=1952,H92<1957),VLOOKUP(I92,Feuil1!$F$10:$O$24,7),IF(AND(H92>=1957,H92<1962),VLOOKUP(I92,Feuil1!$F$10:$O$24,6),IF(AND(H92>=1962,H92<1967),VLOOKUP(I92,Feuil1!$F$10:$O$24,5),IF(AND(H92>=1967,H92<1972),VLOOKUP(I92,Feuil1!$F$10:$O$24,4),IF(AND(H92>=1972,H92<1977),VLOOKUP(I92,Feuil1!$F$10:$O$24,3),IF(AND(H92>=1977,H92<1982),VLOOKUP(I92,Feuil1!$F$10:$O$24,2),VLOOKUP(I92,Feuil1!$F$10:$O$24,2))))))))))","v":{"$error":"#N/A"}},null,{"$f":"T92-HLOOKUP(Y92,Feuil1!$C$1:$BF$9,2,FALSE)","v":{"$error":"#VALUE!"}},{"$f":"T92-HLOOKUP(Y92,Feuil1!$C$1:$BF$9,3,FALSE)","v":{"$error":"#VALUE!"}},{"$f":"T92-HLOOKUP(Y92,Feuil1!$C$1:$BF$9,4,FALSE)","v":{"$error":"#VALUE!"}},{"$f":"T92-HLOOKUP(Y92,Feuil1!$C$1:$BF$9,5,FALSE)","v":{"$error":"#VALUE!"}},{"$f":"T92-HLOOKUP(Y92,Feuil1!$C$1:$BF$9,6,FALSE)","v":{"$error":"#VALUE!"}},{"$f":"T92-HLOOKUP(Y92,Feuil1!$C$1:$BF$9,7,FALSE)","v":{"$error":"#VALUE!"}},{"$f":"T92-HLOOKUP(Y92,Feuil1!$C$1:$BF$9,8,FALSE)","v":{"$error":"#VALUE!"}},{"$f":"T92-HLOOKUP(Y92,Feuil1!$C$1:$BF$9,9,FALSE)","v":{"$error":"#VALUE!"}},null,null,null,null,null,null,null,{"$error":"#VALUE!"},2016,null,{"$f":"IF(AQ92,VLOOKUP(AQ92,HOM!$AR$551:$AS$606,2))","v":3.5710000000000002}]
["F",null,null,null,null,null,null,null,null,null,null,null,null,null,"",null,null,null,"","","","","",false,{"$f":"IF(AND(H93<1936),VLOOKUP(I93,Feuil1!$F$10:$O$24,9),IF(AND(H93>=1942,H93<1947),VLOOKUP(I93,Feuil1!$F$10:$O$24,9),IF(AND(H93>=1947,H93<1952),VLOOKUP(I93,Feuil1!$F$10:$O$24,8),IF(AND(H93>=1952,H93<1957),VLOOKUP(I93,Feuil1!$F$10:$O$24,7),IF(AND(H93>=1957,H93<1962),VLOOKUP(I93,Feuil1!$F$10:$O$24,6),IF(AND(H93>=1962,H93<1967),VLOOKUP(I93,Feuil1!$F$10:$O$24,5),IF(AND(H93>=1967,H93<1972),VLOOKUP(I93,Feuil1!$F$10:$O$24,4),IF(AND(H93>=1972,H93<1977),VLOOKUP(I93,Feuil1!$F$10:$O$24,3),IF(AND(H93>=1977,H93<1982),VLOOKUP(I93,Feuil1!$F$10:$O$24,2),VLOOKUP(I93,Feuil1!$F$10:$O$24,2))))))))))","v":{"$error":"#N/A"}},null,{"$f":"T93-HLOOKUP(Y93,Feuil1!$C$1:$BF$9,2,FALSE)","v":{"$error":"#VALUE!"}},{"$f":"T93-HLOOKUP(Y93,Feuil1!$C$1:$BF$9,3,FALSE)","v":{"$error":"#VALUE!"}},{"$f":"T93-HLOOKUP(Y93,Feuil1!$C$1:$BF$9,4,FALSE)","v":{"$error":"#VALUE!"}},{"$f":"T93-HLOOKUP(Y93,Feuil1!$C$1:$BF$9,5,FALSE)","v":{"$error":"#VALUE!"}},{"$f":"T93-HLOOKUP(Y93,Feuil1!$C$1:$BF$9,6,FALSE)","v":{"$error":"#VALUE!"}},{"$f":"T93-HLOOKUP(Y93,Feuil1!$C$1:$BF$9,7,FALSE)","v":{"$error":"#VALUE!"}},{"$f":"T93-HLOOKUP(Y93,Feuil1!$C$1:$BF$9,8,FALSE)","v":{"$error":"#VALUE!"}},{"$f":"T93-HLOOKUP(Y93,Feuil1!$C$1:$BF$9,9,FALSE)","v":{"$error":"#VALUE!"}},null,null,null,null,null,null,null,{"$error":"#VALUE!"},2016,null,{"$f":"IF(AQ93,VLOOKUP(AQ93,HOM!$AR$551:$AS$606,2))","v":3.5710000000000002}]
["F",null,null,null,null,null,null,null,null,null,null,null,null,null,"",null,null,null,"","","","","",false,{"$f":"IF(AND(H94<1936),VLOOKUP(I94,Feuil1!$F$10:$O$24,9),IF(AND(H94>=1942,H94<1947),VLOOKUP(I94,Feuil1!$F$10:$O$24,9),IF(AND(H94>=1947,H94<1952),VLOOKUP(I94,Feuil1!$F$10:$O$24,8),IF(AND(H94>=1952,H94<1957),VLOOKUP(I94,Feuil1!$F$10:$O$24,7),IF(AND(H94>=1957,H94<1962),VLOOKUP(I94,Feuil1!$F$10:$O$24,6),IF(AND(H94>=1962,H94<1967),VLOOKUP(I94,Feuil1!$F$10:$O$24,5),IF(AND(H94>=1967,H94<1972),VLOOKUP(I94,Feuil1!$F$10:$O$24,4),IF(AND(H94>=1972,H94<1977),VLOOKUP(I94,Feuil1!$F$10:$O$24,3),IF(AND(H94>=1977,H94<1982),VLOOKUP(I94,Feuil1!$F$10:$O$24,2),VLOOKUP(I94,Feuil1!$F$10:$O$24,2))))))))))","v":{"$error":"#N/A"}},null,{"$f":"T94-HLOOKUP(Y94,Feuil1!$C$1:$BF$9,2,FALSE)","v":{"$error":"#VALUE!"}},{"$f":"T94-HLOOKUP(Y94,Feuil1!$C$1:$BF$9,3,FALSE)","v":{"$error":"#VALUE!"}},{"$f":"T94-HLOOKUP(Y94,Feuil1!$C$1:$BF$9,4,FALSE)","v":{"$error":"#VALUE!"}},{"$f":"T94-HLOOKUP(Y94,Feuil1!$C$1:$BF$9,5,FALSE)","v":{"$error":"#VALUE!"}},{"$f":"T94-HLOOKUP(Y94,Feuil1!$C$1:$BF$9,6,FALSE)","v":{"$error":"#VALUE!"}},{"$f":"T94-HLOOKUP(Y94,Feuil1!$C$1:$BF$9,7,FALSE)","v":{"$error":"#VALUE!"}},{"$f":"T94-HLOOKUP(Y94,Feuil1!$C$1:$BF$9,8,FALSE)","v":{"$error":"#VALUE!"}},{"$f":"T94-HLOOKUP(Y94,Feuil1!$C$1:$BF$9,9,FALSE)","v":{"$error":"#VALUE!"}},null,null,null,null,null,null,null,{"$error":"#VALUE!"},2016,null,{"$f":"IF(AQ94,VLOOKUP(AQ94,HOM!$AR$551:$AS$606,2))","v":3.5710000000000002}]
["F",null,null,null,null,null,null,null,null,null,null,null,null,null,"",null,null,null,"","","","","",false,{"$f":"IF(AND(H95<1936),VLOOKUP(I95,Feuil1!$F$10:$O$24,9),IF(AND(H95>=1942,H95<1947),VLOOKUP(I95,Feuil1!$F$10:$O$24,9),IF(AND(H95>=1947,H95<1952),VLOOKUP(I95,Feuil1!$F$10:$O$24,8),IF(AND(H95>=1952,H95<1957),VLOOKUP(I95,Feuil1!$F$10:$O$24,7),IF(AND(H95>=1957,H95<1962),VLOOKUP(I95,Feuil1!$F$10:$O$24,6),IF(AND(H95>=1962,H95<1967),VLOOKUP(I95,Feuil1!$F$10:$O$24,5),IF(AND(H95>=1967,H95<1972),VLOOKUP(I95,Feuil1!$F$10:$O$24,4),IF(AND(H95>=1972,H95<1977),VLOOKUP(I95,Feuil1!$F$10:$O$24,3),IF(AND(H95>=1977,H95<1982),VLOOKUP(I95,Feuil1!$F$10:$O$24,2),VLOOKUP(I95,Feuil1!$F$10:$O$24,2))))))))))","v":{"$error":"#N/A"}},null,{"$f":"T95-HLOOKUP(Y95,Feuil1!$C$1:$BF$9,2,FALSE)","v":{"$error":"#VALUE!"}},{"$f":"T95-HLOOKUP(Y95,Feuil1!$C$1:$BF$9,3,FALSE)","v":{"$error":"#VALUE!"}},{"$f":"T95-HLOOKUP(Y95,Feuil1!$C$1:$BF$9,4,FALSE)","v":{"$error":"#VALUE!"}},{"$f":"T95-HLOOKUP(Y95,Feuil1!$C$1:$BF$9,5,FALSE)","v":{"$error":"#VALUE!"}},{"$f":"T95-HLOOKUP(Y95,Feuil1!$C$1:$BF$9,6,FALSE)","v":{"$error":"#VALUE!"}},{"$f":"T95-HLOOKUP(Y95,Feuil1!$C$1:$BF$9,7,FALSE)","v":{"$error":"#VALUE!"}},{"$f":"T95-HLOOKUP(Y95,Feuil1!$C$1:$BF$9,8,FALSE)","v":{"$error":"#VALUE!"}},{"$f":"T95-HLOOKUP(Y95,Feuil1!$C$1:$BF$9,9,FALSE)","v":{"$error":"#VALUE!"}},null,null,null,null,null,null,null,{"$error":"#VALUE!"},2016,null,{"$f":"IF(AQ95,VLOOKUP(AQ95,HOM!$AR$551:$AS$606,2))","v":3.5710000000000002}]
["F",null,null,null,null,null,null,null,null,null,null,null,null,null,"",null,null,null,"","","","","",false,{"$f":"IF(AND(H96<1936),VLOOKUP(I96,Feuil1!$F$10:$O$24,9),IF(AND(H96>=1942,H96<1947),VLOOKUP(I96,Feuil1!$F$10:$O$24,9),IF(AND(H96>=1947,H96<1952),VLOOKUP(I96,Feuil1!$F$10:$O$24,8),IF(AND(H96>=1952,H96<1957),VLOOKUP(I96,Feuil1!$F$10:$O$24,7),IF(AND(H96>=1957,H96<1962),VLOOKUP(I96,Feuil1!$F$10:$O$24,6),IF(AND(H96>=1962,H96<1967),VLOOKUP(I96,Feuil1!$F$10:$O$24,5),IF(AND(H96>=1967,H96<1972),VLOOKUP(I96,Feuil1!$F$10:$O$24,4),IF(AND(H96>=1972,H96<1977),VLOOKUP(I96,Feuil1!$F$10:$O$24,3),IF(AND(H96>=1977,H96<1982),VLOOKUP(I96,Feuil1!$F$10:$O$24,2),VLOOKUP(I96,Feuil1!$F$10:$O$24,2))))))))))","v":{"$error":"#N/A"}},null,{"$f":"T96-HLOOKUP(Y96,Feuil1!$C$1:$BF$9,2,FALSE)","v":{"$error":"#VALUE!"}},{"$f":"T96-HLOOKUP(Y96,Feuil1!$C$1:$BF$9,3,FALSE)","v":{"$error":"#VALUE!"}},{"$f":"T96-HLOOKUP(Y96,Feuil1!$C$1:$BF$9,4,FALSE)","v":{"$error":"#VALUE!"}},{"$f":"T96-HLOOKUP(Y96,Feuil1!$C$1:$BF$9,5,FALSE)","v":{"$error":"#VALUE!"}},{"$f":"T96-HLOOKUP(Y96,Feuil1!$C$1:$BF$9,6,FALSE)","v":{"$error":"#VALUE!"}},{"$f":"T96-HLOOKUP(Y96,Feuil1!$C$1:$BF$9,7,FALSE)","v":{"$error":"#VALUE!"}},{"$f":"T96-HLOOKUP(Y96,Feuil1!$C$1:$BF$9,8,FALSE)","v":{"$error":"#VALUE!"}},{"$f":"T96-HLOOKUP(Y96,Feuil1!$C$1:$BF$9,9,FALSE)","v":{"$error":"#VALUE!"}},null,null,null,null,null,null,null,{"$error":"#VALUE!"},2016,null,{"$f":"IF(AQ96,VLOOKUP(AQ96,HOM!$AR$551:$AS$606,2))","v":3.5710000000000002}]
["F",null,null,null,null,null,null,null,null,null,null,null,null,null,"",null,null,null,"","","","","",false,{"$f":"IF(AND(H97<1936),VLOOKUP(I97,Feuil1!$F$10:$O$24,9),IF(AND(H97>=1942,H97<1947),VLOOKUP(I97,Feuil1!$F$10:$O$24,9),IF(AND(H97>=1947,H97<1952),VLOOKUP(I97,Feuil1!$F$10:$O$24,8),IF(AND(H97>=1952,H97<1957),VLOOKUP(I97,Feuil1!$F$10:$O$24,7),IF(AND(H97>=1957,H97<1962),VLOOKUP(I97,Feuil1!$F$10:$O$24,6),IF(AND(H97>=1962,H97<1967),VLOOKUP(I97,Feuil1!$F$10:$O$24,5),IF(AND(H97>=1967,H97<1972),VLOOKUP(I97,Feuil1!$F$10:$O$24,4),IF(AND(H97>=1972,H97<1977),VLOOKUP(I97,Feuil1!$F$10:$O$24,3),IF(AND(H97>=1977,H97<1982),VLOOKUP(I97,Feuil1!$F$10:$O$24,2),VLOOKUP(I97,Feuil1!$F$10:$O$24,2))))))))))","v":{"$error":"#N/A"}},null,{"$f":"T97-HLOOKUP(Y97,Feuil1!$C$1:$BF$9,2,FALSE)","v":{"$error":"#VALUE!"}},{"$f":"T97-HLOOKUP(Y97,Feuil1!$C$1:$BF$9,3,FALSE)","v":{"$error":"#VALUE!"}},{"$f":"T97-HLOOKUP(Y97,Feuil1!$C$1:$BF$9,4,FALSE)","v":{"$error":"#VALUE!"}},{"$f":"T97-HLOOKUP(Y97,Feuil1!$C$1:$BF$9,5,FALSE)","v":{"$error":"#VALUE!"}},{"$f":"T97-HLOOKUP(Y97,Feuil1!$C$1:$BF$9,6,FALSE)","v":{"$error":"#VALUE!"}},{"$f":"T97-HLOOKUP(Y97,Feuil1!$C$1:$BF$9,7,FALSE)","v":{"$error":"#VALUE!"}},{"$f":"T97-HLOOKUP(Y97,Feuil1!$C$1:$BF$9,8,FALSE)","v":{"$error":"#VALUE!"}},{"$f":"T97-HLOOKUP(Y97,Feuil1!$C$1:$BF$9,9,FALSE)","v":{"$error":"#VALUE!"}},null,null,null,null,null,null,null,{"$error":"#VALUE!"},2016,null,{"$f":"IF(AQ97,VLOOKUP(AQ97,HOM!$AR$551:$AS$606,2))","v":3.5710000000000002}]
["F",null,null,null,null,null,null,null,null,null,null,null,null,null,"",null,null,null,"","","","","",false,{"$f":"IF(AND(H98<1936),VLOOKUP(I98,Feuil1!$F$10:$O$24,9),IF(AND(H98>=1942,H98<1947),VLOOKUP(I98,Feuil1!$F$10:$O$24,9),IF(AND(H98>=1947,H98<1952),VLOOKUP(I98,Feuil1!$F$10:$O$24,8),IF(AND(H98>=1952,H98<1957),VLOOKUP(I98,Feuil1!$F$10:$O$24,7),IF(AND(H98>=1957,H98<1962),VLOOKUP(I98,Feuil1!$F$10:$O$24,6),IF(AND(H98>=1962,H98<1967),VLOOKUP(I98,Feuil1!$F$10:$O$24,5),IF(AND(H98>=1967,H98<1972),VLOOKUP(I98,Feuil1!$F$10:$O$24,4),IF(AND(H98>=1972,H98<1977),VLOOKUP(I98,Feuil1!$F$10:$O$24,3),IF(AND(H98>=1977,H98<1982),VLOOKUP(I98,Feuil1!$F$10:$O$24,2),VLOOKUP(I98,Feuil1!$F$10:$O$24,2))))))))))","v":{"$error":"#N/A"}},null,{"$f":"T98-HLOOKUP(Y98,Feuil1!$C$1:$BF$9,2,FALSE)","v":{"$error":"#VALUE!"}},{"$f":"T98-HLOOKUP(Y98,Feuil1!$C$1:$BF$9,3,FALSE)","v":{"$error":"#VALUE!"}},{"$f":"T98-HLOOKUP(Y98,Feuil1!$C$1:$BF$9,4,FALSE)","v":{"$error":"#VALUE!"}},{"$f":"T98-HLOOKUP(Y98,Feuil1!$C$1:$BF$9,5,FALSE)","v":{"$error":"#VALUE!"}},{"$f":"T98-HLOOKUP(Y98,Feuil1!$C$1:$BF$9,6,FALSE)","v":{"$error":"#VALUE!"}},{"$f":"T98-HLOOKUP(Y98,Feuil1!$C$1:$BF$9,7,FALSE)","v":{"$error":"#VALUE!"}},{"$f":"T98-HLOOKUP(Y98,Feuil1!$C$1:$BF$9,8,FALSE)","v":{"$error":"#VALUE!"}},{"$f":"T98-HLOOKUP(Y98,Feuil1!$C$1:$BF$9,9,FALSE)","v":{"$error":"#VALUE!"}},null,null,null,null,null,null,null,{"$error":"#VALUE!"},2016,null,{"$f":"IF(AQ98,VLOOKUP(AQ98,HOM!$AR$551:$AS$606,2))","v":3.5710000000000002}]
["F",null,null,null,null,null,null,null,null,null,null,null,null,null,"",null,null,null,"","","","","",false,{"$f":"IF(AND(H99<1936),VLOOKUP(I99,Feuil1!$F$10:$O$24,9),IF(AND(H99>=1942,H99<1947),VLOOKUP(I99,Feuil1!$F$10:$O$24,9),IF(AND(H99>=1947,H99<1952),VLOOKUP(I99,Feuil1!$F$10:$O$24,8),IF(AND(H99>=1952,H99<1957),VLOOKUP(I99,Feuil1!$F$10:$O$24,7),IF(AND(H99>=1957,H99<1962),VLOOKUP(I99,Feuil1!$F$10:$O$24,6),IF(AND(H99>=1962,H99<1967),VLOOKUP(I99,Feuil1!$F$10:$O$24,5),IF(AND(H99>=1967,H99<1972),VLOOKUP(I99,Feuil1!$F$10:$O$24,4),IF(AND(H99>=1972,H99<1977),VLOOKUP(I99,Feuil1!$F$10:$O$24,3),IF(AND(H99>=1977,H99<1982),VLOOKUP(I99,Feuil1!$F$10:$O$24,2),VLOOKUP(I99,Feuil1!$F$10:$O$24,2))))))))))","v":{"$error":"#N/A"}},null,{"$f":"T99-HLOOKUP(Y99,Feuil1!$C$1:$BF$9,2,FALSE)","v":{"$error":"#VALUE!"}},{"$f":"T99-HLOOKUP(Y99,Feuil1!$C$1:$BF$9,3,FALSE)","v":{"$error":"#VALUE!"}},{"$f":"T99-HLOOKUP(Y99,Feuil1!$C$1:$BF$9,4,FALSE)","v":{"$error":"#VALUE!"}},{"$f":"T99-HLOOKUP(Y99,Feuil1!$C$1:$BF$9,5,FALSE)","v":{"$error":"#VALUE!"}},{"$f":"T99-HLOOKUP(Y99,Feuil1!$C$1:$BF$9,6,FALSE)","v":{"$error":"#VALUE!"}},{"$f":"T99-HLOOKUP(Y99,Feuil1!$C$1:$BF$9,7,FALSE)","v":{"$error":"#VALUE!"}},{"$f":"T99-HLOOKUP(Y99,Feuil1!$C$1:$BF$9,8,FALSE)","v":{"$error":"#VALUE!"}},{"$f":"T99-HLOOKUP(Y99,Feuil1!$C$1:$BF$9,9,FALSE)","v":{"$error":"#VALUE!"}},null,null,null,null,null,null,null,{"$error":"#VALUE!"},2016,null,{"$f":"IF(AQ99,VLOOKUP(AQ99,HOM!$AR$551:$AS$606,2))","v":3.5710000000000002}]
["F",null,null,null,null,null,null,null,null,null,null,null,null,null,"",null,null,null,"","","","","",false,{"$f":"IF(AND(H100<1936),VLOOKUP(I100,Feuil1!$F$10:$O$24,9),IF(AND(H100>=1942,H100<1947),VLOOKUP(I100,Feuil1!$F$10:$O$24,9),IF(AND(H100>=1947,H100<1952),VLOOKUP(I100,Feuil1!$F$10:$O$24,8),IF(AND(H100>=1952,H100<1957),VLOOKUP(I100,Feuil1!$F$10:$O$24,7),IF(AND(H100>=1957,H100<1962),VLOOKUP(I100,Feuil1!$F$10:$O$24,6),IF(AND(H100>=1962,H100<1967),VLOOKUP(I100,Feuil1!$F$10:$O$24,5),IF(AND(H100>=1967,H100<1972),VLOOKUP(I100,Feuil1!$F$10:$O$24,4),IF(AND(H100>=1972,H100<1977),VLOOKUP(I100,Feuil1!$F$10:$O$24,3),IF(AND(H100>=1977,H100<1982),VLOOKUP(I100,Feuil1!$F$10:$O$24,2),VLOOKUP(I100,Feuil1!$F$10:$O$24,2))))))))))","v":{"$error":"#N/A"}},null,{"$f":"T100-HLOOKUP(Y100,Feuil1!$C$1:$BF$9,2,FALSE)","v":{"$error":"#VALUE!"}},{"$f":"T100-HLOOKUP(Y100,Feuil1!$C$1:$BF$9,3,FALSE)","v":{"$error":"#VALUE!"}},{"$f":"T100-HLOOKUP(Y100,Feuil1!$C$1:$BF$9,4,FALSE)","v":{"$error":"#VALUE!"}},{"$f":"T100-HLOOKUP(Y100,Feuil1!$C$1:$BF$9,5,FALSE)","v":{"$error":"#VALUE!"}},{"$f":"T100-HLOOKUP(Y100,Feuil1!$C$1:$BF$9,6,FALSE)","v":{"$error":"#VALUE!"}},{"$f":"T100-HLOOKUP(Y100,Feuil1!$C$1:$BF$9,7,FALSE)","v":{"$error":"#VALUE!"}},{"$f":"T100-HLOOKUP(Y100,Feuil1!$C$1:$BF$9,8,FALSE)","v":{"$error":"#VALUE!"}},{"$f":"T100-HLOOKUP(Y100,Feuil1!$C$1:$BF$9,9,FALSE)","v":{"$error":"#VALUE!"}},null,null,null,null,null,null,null,{"$error":"#VALUE!"},2016,null,{"$f":"IF(AQ100,VLOOKUP(AQ100,HOM!$AR$551:$AS$606,2))","v":3.5710000000000002}]
["F",null,null,null,null,null,null,null,null,null,null,null,null,null,"",null,null,null,"","","","","",false,{"$f":"IF(AND(H101<1936),VLOOKUP(I101,Feuil1!$F$10:$O$24,9),IF(AND(H101>=1942,H101<1947),VLOOKUP(I101,Feuil1!$F$10:$O$24,9),IF(AND(H101>=1947,H101<1952),VLOOKUP(I101,Feuil1!$F$10:$O$24,8),IF(AND(H101>=1952,H101<1957),VLOOKUP(I101,Feuil1!$F$10:$O$24,7),IF(AND(H101>=1957,H101<1962),VLOOKUP(I101,Feuil1!$F$10:$O$24,6),IF(AND(H101>=1962,H101<1967),VLOOKUP(I101,Feuil1!$F$10:$O$24,5),IF(AND(H101>=1967,H101<1972),VLOOKUP(I101,Feuil1!$F$10:$O$24,4),IF(AND(H101>=1972,H101<1977),VLOOKUP(I101,Feuil1!$F$10:$O$24,3),IF(AND(H101>=1977,H101<1982),VLOOKUP(I101,Feuil1!$F$10:$O$24,2),VLOOKUP(I101,Feuil1!$F$10:$O$24,2))))))))))","v":{"$error":"#N/A"}},null,{"$f":"T101-HLOOKUP(Y101,Feuil1!$C$1:$BF$9,2,FALSE)","v":{"$error":"#VALUE!"}},{"$f":"T101-HLOOKUP(Y101,Feuil1!$C$1:$BF$9,3,FALSE)","v":{"$error":"#VALUE!"}},{"$f":"T101-HLOOKUP(Y101,Feuil1!$C$1:$BF$9,4,FALSE)","v":{"$error":"#VALUE!"}},{"$f":"T101-HLOOKUP(Y101,Feuil1!$C$1:$BF$9,5,FALSE)","v":{"$error":"#VALUE!"}},{"$f":"T101-HLOOKUP(Y101,Feuil1!$C$1:$BF$9,6,FALSE)","v":{"$error":"#VALUE!"}},{"$f":"T101-HLOOKUP(Y101,Feuil1!$C$1:$BF$9,7,FALSE)","v":{"$error":"#VALUE!"}},{"$f":"T101-HLOOKUP(Y101,Feuil1!$C$1:$BF$9,8,FALSE)","v":{"$error":"#VALUE!"}},{"$f":"T101-HLOOKUP(Y101,Feuil1!$C$1:$BF$9,9,FALSE)","v":{"$error":"#VALUE!"}},null,null,null,null,null,null,null,{"$error":"#VALUE!"},2016,null,{"$f":"IF(AQ101,VLOOKUP(AQ101,HOM!$AR$551:$AS$606,2))","v":3.5710000000000002}]
["F",null,null,null,null,null,null,null,null,null,null,null,null,null,"",null,null,null,"","","","","",false,{"$f":"IF(AND(H102<1936),VLOOKUP(I102,Feuil1!$F$10:$O$24,9),IF(AND(H102>=1942,H102<1947),VLOOKUP(I102,Feuil1!$F$10:$O$24,9),IF(AND(H102>=1947,H102<1952),VLOOKUP(I102,Feuil1!$F$10:$O$24,8),IF(AND(H102>=1952,H102<1957),VLOOKUP(I102,Feuil1!$F$10:$O$24,7),IF(AND(H102>=1957,H102<1962),VLOOKUP(I102,Feuil1!$F$10:$O$24,6),IF(AND(H102>=1962,H102<1967),VLOOKUP(I102,Feuil1!$F$10:$O$24,5),IF(AND(H102>=1967,H102<1972),VLOOKUP(I102,Feuil1!$F$10:$O$24,4),IF(AND(H102>=1972,H102<1977),VLOOKUP(I102,Feuil1!$F$10:$O$24,3),IF(AND(H102>=1977,H102<1982),VLOOKUP(I102,Feuil1!$F$10:$O$24,2),VLOOKUP(I102,Feuil1!$F$10:$O$24,2))))))))))","v":{"$error":"#N/A"}},null,{"$f":"T102-HLOOKUP(Y102,Feuil1!$C$1:$BF$9,2,FALSE)","v":{"$error":"#VALUE!"}},{"$f":"T102-HLOOKUP(Y102,Feuil1!$C$1:$BF$9,3,FALSE)","v":{"$error":"#VALUE!"}},{"$f":"T102-HLOOKUP(Y102,Feuil1!$C$1:$BF$9,4,FALSE)","v":{"$error":"#VALUE!"}},{"$f":"T102-HLOOKUP(Y102,Feuil1!$C$1:$BF$9,5,FALSE)","v":{"$error":"#VALUE!"}},{"$f":"T102-HLOOKUP(Y102,Feuil1!$C$1:$BF$9,6,FALSE)","v":{"$error":"#VALUE!"}},{"$f":"T102-HLOOKUP(Y102,Feuil1!$C$1:$BF$9,7,FALSE)","v":{"$error":"#VALUE!"}},{"$f":"T102-HLOOKUP(Y102,Feuil1!$C$1:$BF$9,8,FALSE)","v":{"$error":"#VALUE!"}},{"$f":"T102-HLOOKUP(Y102,Feuil1!$C$1:$BF$9,9,FALSE)","v":{"$error":"#VALUE!"}},null,null,null,null,null,null,null,{"$error":"#VALUE!"},2016,null,{"$f":"IF(AQ102,VLOOKUP(AQ102,HOM!$AR$551:$AS$606,2))","v":3.5710000000000002}]
["F",null,null,null,null,null,null,null,null,null,null,null,null,null,{"$f":"IF(I103=\"\",\"\",IF(MAXA(L103:N103)<=0,0,MAXA(L103:N103)))","v":""},null,null,null,{"$f":"IF(I103=\"\",\"\",IF(MAXA(P103:R103)<=0,0,MAXA(P103:R103)))","v":""},{"$f":"IF(I103=\"\",\"\",IF(OR(O103=0,S103=0),0,O103+S103))","v":""},{"$f":"IF(I103=\"\",\"\",IF(A103=\"H\",10^(0.794358141*LOG(I103/174.393)^2)*T103*AS103,IF(A103=\"F\",10^(0.89726074 * LOG(I103/148.026)^2)*T103*AS103,\"\")))","v":""},{"$f":"IF(I103=\"\",\"\",AP103)","v":""},{"$f":"IF(I103=\"\",\"\",IF(AH103>=0,AH103,IF(AG103>=0,AG103,IF(AF103>=0,AF103,IF(AE103>=0,AE103,IF(AD103>=0,AD103,IF(AC103>=0,AC103,IF(AB103>=0,AB103,AA103))))))))","v":""},{"$f":"IF(AQ103<95,IF(AQ103<=90,VLOOKUP(AQ103,$AQ$464:$AR$519,2)))","v":false},{"$f":"IF(AND(H103<1936),VLOOKUP(I103,Feuil1!$F$10:$O$24,9),IF(AND(H103>=1942,H103<1947),VLOOKUP(I103,Feuil1!$F$10:$O$24,9),IF(AND(H103>=1947,H103<1952),VLOOKUP(I103,Feuil1!$F$10:$O$24,8),IF(AND(H103>=1952,H103<1957),VLOOKUP(I103,Feuil1!$F$10:$O$24,7),IF(AND(H103>=1957,H103<1962),VLOOKUP(I103,Feuil1!$F$10:$O$24,6),IF(AND(H103>=1962,H103<1967),VLOOKUP(I103,Feuil1!$F$10:$O$24,5),IF(AND(H103>=1967,H103<1972),VLOOKUP(I103,Feuil1!$F$10:$O$24,4),IF(AND(H103>=1972,H103<1977),VLOOKUP(I103,Feuil1!$F$10:$O$24,3),IF(AND(H103>=1977,H103<1982),VLOOKUP(I103,Feuil1!$F$10:$O$24,2),VLOOKUP(I103,Feuil1!$F$10:$O$24,2))))))))))","v":{"$error":"#N/A"}},null,{"$f":"T103-HLOOKUP(Y103,Feuil1!$C$1:$BF$9,2,FALSE)","v":{"$error":"#VALUE!"}},{"$f":"T103-HLOOKUP(Y103,Feuil1!$C$1:$BF$9,3,FALSE)","v":{"$error":"#VALUE!"}},{"$f":"T103-HLOOKUP(Y103,Feuil1!$C$1:$BF$9,4,FALSE)","v":{"$error":"#VALUE!"}},{"$f":"T103-HLOOKUP(Y103,Feuil1!$C$1:$BF$9,5,FALSE)","v":{"$error":"#VALUE!"}},{"$f":"T103-HLOOKUP(Y103,Feuil1!$C$1:$BF$9,6,FALSE)","v":{"$error":"#VALUE!"}},{"$f":"T103-HLOOKUP(Y103,Feuil1!$C$1:$BF$9,7,FALSE)","v":{"$error":"#VALUE!"}},{"$f":"T103-HLOOKUP(Y103,Feuil1!$C$1:$BF$9,8,FALSE)","v":{"$error":"#VALUE!"}},{"$f":"T103-HLOOKUP(Y103,Feuil1!$C$1:$BF$9,9,FALSE)","v":{"$error":"#VALUE!"}},null,null,null,null,null,null,null,{"$f":"IF(AH103>=0,$AH$4,IF(AG103>=0,$AG$4,IF(AF103>=0,$AF$4,IF(AE103>=0,$AE$4,IF(AD103>=0,$AD$4,IF(AC103>=0,$AC$4,IF(AB103>=0,$AB$4,IF(AA103>=0,$AA$4,$AI$4))))))))","v":{"$error":"#VALUE!"}},2016,null,{"$f":"IF(AQ103,VLOOKUP(AQ103,HOM!$AR$551:$AS$606,2))","v":3.5710000000000002}]
["F",null,null,null,null,null,null,null,null,null,null,null,null,null,"",null,null,null,"","","","","",false,{"$f":"IF(AND(H104<1936),VLOOKUP(I104,Feuil1!$F$10:$O$24,9),IF(AND(H104>=1942,H104<1947),VLOOKUP(I104,Feuil1!$F$10:$O$24,9),IF(AND(H104>=1947,H104<1952),VLOOKUP(I104,Feuil1!$F$10:$O$24,8),IF(AND(H104>=1952,H104<1957),VLOOKUP(I104,Feuil1!$F$10:$O$24,7),IF(AND(H104>=1957,H104<1962),VLOOKUP(I104,Feuil1!$F$10:$O$24,6),IF(AND(H104>=1962,H104<1967),VLOOKUP(I104,Feuil1!$F$10:$O$24,5),IF(AND(H104>=1967,H104<1972),VLOOKUP(I104,Feuil1!$F$10:$O$24,4),IF(AND(H104>=1972,H104<1977),VLOOKUP(I104,Feuil1!$F$10:$O$24,3),IF(AND(H104>=1977,H104<1982),VLOOKUP(I104,Feuil1!$F$10:$O$24,2),VLOOKUP(I104,Feuil1!$F$10:$O$24,2))))))))))","v":{"$error":"#N/A"}},null,{"$f":"T104-HLOOKUP(Y104,Feuil1!$C$1:$BF$9,2,FALSE)","v":{"$error":"#VALUE!"}},{"$f":"T104-HLOOKUP(Y104,Feuil1!$C$1:$BF$9,3,FALSE)","v":{"$error":"#VALUE!"}},{"$f":"T104-HLOOKUP(Y104,Feuil1!$C$1:$BF$9,4,FALSE)","v":{"$error":"#VALUE!"}},{"$f":"T104-HLOOKUP(Y104,Feuil1!$C$1:$BF$9,5,FALSE)","v":{"$error":"#VALUE!"}},{"$f":"T104-HLOOKUP(Y104,Feuil1!$C$1:$BF$9,6,FALSE)","v":{"$error":"#VALUE!"}},{"$f":"T104-HLOOKUP(Y104,Feuil1!$C$1:$BF$9,7,FALSE)","v":{"$error":"#VALUE!"}},{"$f":"T104-HLOOKUP(Y104,Feuil1!$C$1:$BF$9,8,FALSE)","v":{"$error":"#VALUE!"}},{"$f":"T104-HLOOKUP(Y104,Feuil1!$C$1:$BF$9,9,FALSE)","v":{"$error":"#VALUE!"}},null,null,null,null,null,null,null,{"$error":"#VALUE!"},2016,null,{"$f":"IF(AQ104,VLOOKUP(AQ104,HOM!$AR$551:$AS$606,2))","v":3.5710000000000002}]
["F",null,null,null,null,null,null,null,null,null,null,null,null,null,"",null,null,null,"","","","","",false,{"$f":"IF(AND(H105<1936),VLOOKUP(I105,Feuil1!$F$10:$O$24,9),IF(AND(H105>=1942,H105<1947),VLOOKUP(I105,Feuil1!$F$10:$O$24,9),IF(AND(H105>=1947,H105<1952),VLOOKUP(I105,Feuil1!$F$10:$O$24,8),IF(AND(H105>=1952,H105<1957),VLOOKUP(I105,Feuil1!$F$10:$O$24,7),IF(AND(H105>=1957,H105<1962),VLOOKUP(I105,Feuil1!$F$10:$O$24,6),IF(AND(H105>=1962,H105<1967),VLOOKUP(I105,Feuil1!$F$10:$O$24,5),IF(AND(H105>=1967,H105<1972),VLOOKUP(I105,Feuil1!$F$10:$O$24,4),IF(AND(H105>=1972,H105<1977),VLOOKUP(I105,Feuil1!$F$10:$O$24,3),IF(AND(H105>=1977,H105<1982),VLOOKUP(I105,Feuil1!$F$10:$O$24,2),VLOOKUP(I105,Feuil1!$F$10:$O$24,2))))))))))","v":{"$error":"#N/A"}},null,{"$f":"T105-HLOOKUP(Y105,Feuil1!$C$1:$BF$9,2,FALSE)","v":{"$error":"#VALUE!"}},{"$f":"T105-HLOOKUP(Y105,Feuil1!$C$1:$BF$9,3,FALSE)","v":{"$error":"#VALUE!"}},{"$f":"T105-HLOOKUP(Y105,Feuil1!$C$1:$BF$9,4,FALSE)","v":{"$error":"#VALUE!"}},{"$f":"T105-HLOOKUP(Y105,Feuil1!$C$1:$BF$9,5,FALSE)","v":{"$error":"#VALUE!"}},{"$f":"T105-HLOOKUP(Y105,Feuil1!$C$1:$BF$9,6,FALSE)","v":{"$error":"#VALUE!"}},{"$f":"T105-HLOOKUP(Y105,Feuil1!$C$1:$BF$9,7,FALSE)","v":{"$error":"#VALUE!"}},{"$f":"T105-HLOOKUP(Y105,Feuil1!$C$1:$BF$9,8,FALSE)","v":{"$error":"#VALUE!"}},{"$f":"T105-HLOOKUP(Y105,Feuil1!$C$1:$BF$9,9,FALSE)","v":{"$error":"#VALUE!"}},null,null,null,null,null,null,null,{"$error":"#VALUE!"},2016,null,{"$f":"IF(AQ105,VLOOKUP(AQ105,HOM!$AR$551:$AS$606,2))","v":3.5710000000000002}]
["F",null,null,null,null,null,null,null,null,null,null,null,null,null,"",null,null,null,"","","","","",false,{"$f":"IF(AND(H106<1936),VLOOKUP(I106,Feuil1!$F$10:$O$24,9),IF(AND(H106>=1942,H106<1947),VLOOKUP(I106,Feuil1!$F$10:$O$24,9),IF(AND(H106>=1947,H106<1952),VLOOKUP(I106,Feuil1!$F$10:$O$24,8),IF(AND(H106>=1952,H106<1957),VLOOKUP(I106,Feuil1!$F$10:$O$24,7),IF(AND(H106>=1957,H106<1962),VLOOKUP(I106,Feuil1!$F$10:$O$24,6),IF(AND(H106>=1962,H106<1967),VLOOKUP(I106,Feuil1!$F$10:$O$24,5),IF(AND(H106>=1967,H106<1972),VLOOKUP(I106,Feuil1!$F$10:$O$24,4),IF(AND(H106>=1972,H106<1977),VLOOKUP(I106,Feuil1!$F$10:$O$24,3),IF(AND(H106>=1977,H106<1982),VLOOKUP(I106,Feuil1!$F$10:$O$24,2),VLOOKUP(I106,Feuil1!$F$10:$O$24,2))))))))))","v":{"$error":"#N/A"}},null,{"$f":"T106-HLOOKUP(Y106,Feuil1!$C$1:$BF$9,2,FALSE)","v":{"$error":"#VALUE!"}},{"$f":"T106-HLOOKUP(Y106,Feuil1!$C$1:$BF$9,3,FALSE)","v":{"$error":"#VALUE!"}},{"$f":"T106-HLOOKUP(Y106,Feuil1!$C$1:$BF$9,4,FALSE)","v":{"$error":"#VALUE!"}},{"$f":"T106-HLOOKUP(Y106,Feuil1!$C$1:$BF$9,5,FALSE)","v":{"$error":"#VALUE!"}},{"$f":"T106-HLOOKUP(Y106,Feuil1!$C$1:$BF$9,6,FALSE)","v":{"$error":"#VALUE!"}},{"$f":"T106-HLOOKUP(Y106,Feuil1!$C$1:$BF$9,7,FALSE)","v":{"$error":"#VALUE!"}},{"$f":"T106-HLOOKUP(Y106,Feuil1!$C$1:$BF$9,8,FALSE)","v":{"$error":"#VALUE!"}},{"$f":"T106-HLOOKUP(Y106,Feuil1!$C$1:$BF$9,9,FALSE)","v":{"$error":"#VALUE!"}},null,null,null,null,null,null,null,{"$error":"#VALUE!"},2016,null,{"$f":"IF(AQ106,VLOOKUP(AQ106,HOM!$AR$551:$AS$606,2))","v":3.5710000000000002}]
["F",null,null,null,null,null,null,null,null,null,null,null,null,null,"",null,null,null,"","","","","",false,{"$f":"IF(AND(H107<1936),VLOOKUP(I107,Feuil1!$F$10:$O$24,9),IF(AND(H107>=1942,H107<1947),VLOOKUP(I107,Feuil1!$F$10:$O$24,9),IF(AND(H107>=1947,H107<1952),VLOOKUP(I107,Feuil1!$F$10:$O$24,8),IF(AND(H107>=1952,H107<1957),VLOOKUP(I107,Feuil1!$F$10:$O$24,7),IF(AND(H107>=1957,H107<1962),VLOOKUP(I107,Feuil1!$F$10:$O$24,6),IF(AND(H107>=1962,H107<1967),VLOOKUP(I107,Feuil1!$F$10:$O$24,5),IF(AND(H107>=1967,H107<1972),VLOOKUP(I107,Feuil1!$F$10:$O$24,4),IF(AND(H107>=1972,H107<1977),VLOOKUP(I107,Feuil1!$F$10:$O$24,3),IF(AND(H107>=1977,H107<1982),VLOOKUP(I107,Feuil1!$F$10:$O$24,2),VLOOKUP(I107,Feuil1!$F$10:$O$24,2))))))))))","v":{"$error":"#N/A"}},null,{"$f":"T107-HLOOKUP(Y107,Feuil1!$C$1:$BF$9,2,FALSE)","v":{"$error":"#VALUE!"}},{"$f":"T107-HLOOKUP(Y107,Feuil1!$C$1:$BF$9,3,FALSE)","v":{"$error":"#VALUE!"}},{"$f":"T107-HLOOKUP(Y107,Feuil1!$C$1:$BF$9,4,FALSE)","v":{"$error":"#VALUE!"}},{"$f":"T107-HLOOKUP(Y107,Feuil1!$C$1:$BF$9,5,FALSE)","v":{"$error":"#VALUE!"}},{"$f":"T107-HLOOKUP(Y107,Feuil1!$C$1:$BF$9,6,FALSE)","v":{"$error":"#VALUE!"}},{"$f":"T107-HLOOKUP(Y107,Feuil1!$C$1:$BF$9,7,FALSE)","v":{"$error":"#VALUE!"}},{"$f":"T107-HLOOKUP(Y107,Feuil1!$C$1:$BF$9,8,FALSE)","v":{"$error":"#VALUE!"}},{"$f":"T107-HLOOKUP(Y107,Feuil1!$C$1:$BF$9,9,FALSE)","v":{"$error":"#VALUE!"}},null,null,null,null,null,null,null,{"$error":"#VALUE!"},2016,null,{"$f":"IF(AQ107,VLOOKUP(AQ107,HOM!$AR$551:$AS$606,2))","v":3.5710000000000002}]
["F",null,null,null,null,null,null,null,null,null,null,null,null,null,"",null,null,null,"","","","","",false,{"$f":"IF(AND(H108<1936),VLOOKUP(I108,Feuil1!$F$10:$O$24,9),IF(AND(H108>=1942,H108<1947),VLOOKUP(I108,Feuil1!$F$10:$O$24,9),IF(AND(H108>=1947,H108<1952),VLOOKUP(I108,Feuil1!$F$10:$O$24,8),IF(AND(H108>=1952,H108<1957),VLOOKUP(I108,Feuil1!$F$10:$O$24,7),IF(AND(H108>=1957,H108<1962),VLOOKUP(I108,Feuil1!$F$10:$O$24,6),IF(AND(H108>=1962,H108<1967),VLOOKUP(I108,Feuil1!$F$10:$O$24,5),IF(AND(H108>=1967,H108<1972),VLOOKUP(I108,Feuil1!$F$10:$O$24,4),IF(AND(H108>=1972,H108<1977),VLOOKUP(I108,Feuil1!$F$10:$O$24,3),IF(AND(H108>=1977,H108<1982),VLOOKUP(I108,Feuil1!$F$10:$O$24,2),VLOOKUP(I108,Feuil1!$F$10:$O$24,2))))))))))","v":{"$error":"#N/A"}},null,{"$f":"T108-HLOOKUP(Y108,Feuil1!$C$1:$BF$9,2,FALSE)","v":{"$error":"#VALUE!"}},{"$f":"T108-HLOOKUP(Y108,Feuil1!$C$1:$BF$9,3,FALSE)","v":{"$error":"#VALUE!"}},{"$f":"T108-HLOOKUP(Y108,Feuil1!$C$1:$BF$9,4,FALSE)","v":{"$error":"#VALUE!"}},{"$f":"T108-HLOOKUP(Y108,Feuil1!$C$1:$BF$9,5,FALSE)","v":{"$error":"#VALUE!"}},{"$f":"T108-HLOOKUP(Y108,Feuil1!$C$1:$BF$9,6,FALSE)","v":{"$error":"#VALUE!"}},{"$f":"T108-HLOOKUP(Y108,Feuil1!$C$1:$BF$9,7,FALSE)","v":{"$error":"#VALUE!"}},{"$f":"T108-HLOOKUP(Y108,Feuil1!$C$1:$BF$9,8,FALSE)","v":{"$error":"#VALUE!"}},{"$f":"T108-HLOOKUP(Y108,Feuil1!$C$1:$BF$9,9,FALSE)","v":{"$error":"#VALUE!"}},null,null,null,null,null,null,null,{"$error":"#VALUE!"},2016,null,{"$f":"IF(AQ108,VLOOKUP(AQ108,HOM!$AR$551:$AS$606,2))","v":3.5710000000000002}]
["F",null,null,null,null,null,null,null,null,null,null,null,null,null,"",null,null,null,"","","","","",false,{"$f":"IF(AND(H109<1936),VLOOKUP(I109,Feuil1!$F$10:$O$24,9),IF(AND(H109>=1942,H109<1947),VLOOKUP(I109,Feuil1!$F$10:$O$24,9),IF(AND(H109>=1947,H109<1952),VLOOKUP(I109,Feuil1!$F$10:$O$24,8),IF(AND(H109>=1952,H109<1957),VLOOKUP(I109,Feuil1!$F$10:$O$24,7),IF(AND(H109>=1957,H109<1962),VLOOKUP(I109,Feuil1!$F$10:$O$24,6),IF(AND(H109>=1962,H109<1967),VLOOKUP(I109,Feuil1!$F$10:$O$24,5),IF(AND(H109>=1967,H109<1972),VLOOKUP(I109,Feuil1!$F$10:$O$24,4),IF(AND(H109>=1972,H109<1977),VLOOKUP(I109,Feuil1!$F$10:$O$24,3),IF(AND(H109>=1977,H109<1982),VLOOKUP(I109,Feuil1!$F$10:$O$24,2),VLOOKUP(I109,Feuil1!$F$10:$O$24,2))))))))))","v":{"$error":"#N/A"}},null,{"$f":"T109-HLOOKUP(Y109,Feuil1!$C$1:$BF$9,2,FALSE)","v":{"$error":"#VALUE!"}},{"$f":"T109-HLOOKUP(Y109,Feuil1!$C$1:$BF$9,3,FALSE)","v":{"$error":"#VALUE!"}},{"$f":"T109-HLOOKUP(Y109,Feuil1!$C$1:$BF$9,4,FALSE)","v":{"$error":"#VALUE!"}},{"$f":"T109-HLOOKUP(Y109,Feuil1!$C$1:$BF$9,5,FALSE)","v":{"$error":"#VALUE!"}},{"$f":"T109-HLOOKUP(Y109,Feuil1!$C$1:$BF$9,6,FALSE)","v":{"$error":"#VALUE!"}},{"$f":"T109-HLOOKUP(Y109,Feuil1!$C$1:$BF$9,7,FALSE)","v":{"$error":"#VALUE!"}},{"$f":"T109-HLOOKUP(Y109,Feuil1!$C$1:$BF$9,8,FALSE)","v":{"$error":"#VALUE!"}},{"$f":"T109-HLOOKUP(Y109,Feuil1!$C$1:$BF$9,9,FALSE)","v":{"$error":"#VALUE!"}},null,null,null,null,null,null,null,{"$error":"#VALUE!"},2016,null,{"$f":"IF(AQ109,VLOOKUP(AQ109,HOM!$AR$551:$AS$606,2))","v":3.5710000000000002}]
["F",null,null,null,null,null,null,null,null,null,null,null,null,null,"",null,null,null,"","","","","",false,{"$f":"IF(AND(H110<1936),VLOOKUP(I110,Feuil1!$F$10:$O$24,9),IF(AND(H110>=1942,H110<1947),VLOOKUP(I110,Feuil1!$F$10:$O$24,9),IF(AND(H110>=1947,H110<1952),VLOOKUP(I110,Feuil1!$F$10:$O$24,8),IF(AND(H110>=1952,H110<1957),VLOOKUP(I110,Feuil1!$F$10:$O$24,7),IF(AND(H110>=1957,H110<1962),VLOOKUP(I110,Feuil1!$F$10:$O$24,6),IF(AND(H110>=1962,H110<1967),VLOOKUP(I110,Feuil1!$F$10:$O$24,5),IF(AND(H110>=1967,H110<1972),VLOOKUP(I110,Feuil1!$F$10:$O$24,4),IF(AND(H110>=1972,H110<1977),VLOOKUP(I110,Feuil1!$F$10:$O$24,3),IF(AND(H110>=1977,H110<1982),VLOOKUP(I110,Feuil1!$F$10:$O$24,2),VLOOKUP(I110,Feuil1!$F$10:$O$24,2))))))))))","v":{"$error":"#N/A"}},null,{"$f":"T110-HLOOKUP(Y110,Feuil1!$C$1:$BF$9,2,FALSE)","v":{"$error":"#VALUE!"}},{"$f":"T110-HLOOKUP(Y110,Feuil1!$C$1:$BF$9,3,FALSE)","v":{"$error":"#VALUE!"}},{"$f":"T110-HLOOKUP(Y110,Feuil1!$C$1:$BF$9,4,FALSE)","v":{"$error":"#VALUE!"}},{"$f":"T110-HLOOKUP(Y110,Feuil1!$C$1:$BF$9,5,FALSE)","v":{"$error":"#VALUE!"}},{"$f":"T110-HLOOKUP(Y110,Feuil1!$C$1:$BF$9,6,FALSE)","v":{"$error":"#VALUE!"}},{"$f":"T110-HLOOKUP(Y110,Feuil1!$C$1:$BF$9,7,FALSE)","v":{"$error":"#VALUE!"}},{"$f":"T110-HLOOKUP(Y110,Feuil1!$C$1:$BF$9,8,FALSE)","v":{"$error":"#VALUE!"}},{"$f":"T110-HLOOKUP(Y110,Feuil1!$C$1:$BF$9,9,FALSE)","v":{"$error":"#VALUE!"}},null,null,null,null,null,null,null,{"$error":"#VALUE!"},2016,null,{"$f":"IF(AQ110,VLOOKUP(AQ110,HOM!$AR$551:$AS$606,2))","v":3.5710000000000002}]
["F",null,null,null,null,null,null,null,null,null,null,null,null,null,"",null,null,null,"","","","","",false,{"$f":"IF(AND(H111<1936),VLOOKUP(I111,Feuil1!$F$10:$O$24,9),IF(AND(H111>=1942,H111<1947),VLOOKUP(I111,Feuil1!$F$10:$O$24,9),IF(AND(H111>=1947,H111<1952),VLOOKUP(I111,Feuil1!$F$10:$O$24,8),IF(AND(H111>=1952,H111<1957),VLOOKUP(I111,Feuil1!$F$10:$O$24,7),IF(AND(H111>=1957,H111<1962),VLOOKUP(I111,Feuil1!$F$10:$O$24,6),IF(AND(H111>=1962,H111<1967),VLOOKUP(I111,Feuil1!$F$10:$O$24,5),IF(AND(H111>=1967,H111<1972),VLOOKUP(I111,Feuil1!$F$10:$O$24,4),IF(AND(H111>=1972,H111<1977),VLOOKUP(I111,Feuil1!$F$10:$O$24,3),IF(AND(H111>=1977,H111<1982),VLOOKUP(I111,Feuil1!$F$10:$O$24,2),VLOOKUP(I111,Feuil1!$F$10:$O$24,2))))))))))","v":{"$error":"#N/A"}},null,{"$f":"T111-HLOOKUP(Y111,Feuil1!$C$1:$BF$9,2,FALSE)","v":{"$error":"#VALUE!"}},{"$f":"T111-HLOOKUP(Y111,Feuil1!$C$1:$BF$9,3,FALSE)","v":{"$error":"#VALUE!"}},{"$f":"T111-HLOOKUP(Y111,Feuil1!$C$1:$BF$9,4,FALSE)","v":{"$error":"#VALUE!"}},{"$f":"T111-HLOOKUP(Y111,Feuil1!$C$1:$BF$9,5,FALSE)","v":{"$error":"#VALUE!"}},{"$f":"T111-HLOOKUP(Y111,Feuil1!$C$1:$BF$9,6,FALSE)","v":{"$error":"#VALUE!"}},{"$f":"T111-HLOOKUP(Y111,Feuil1!$C$1:$BF$9,7,FALSE)","v":{"$error":"#VALUE!"}},{"$f":"T111-HLOOKUP(Y111,Feuil1!$C$1:$BF$9,8,FALSE)","v":{"$error":"#VALUE!"}},{"$f":"T111-HLOOKUP(Y111,Feuil1!$C$1:$BF$9,9,FALSE)","v":{"$error":"#VALUE!"}},null,null,null,null,null,null,null,{"$error":"#VALUE!"},2016,null,{"$f":"IF(AQ111,VLOOKUP(AQ111,HOM!$AR$551:$AS$606,2))","v":3.5710000000000002}]
["F",null,null,null,null,null,null,null,null,null,null,null,null,null,"",null,null,null,"","","","","",false,{"$f":"IF(AND(H112<1936),VLOOKUP(I112,Feuil1!$F$10:$O$24,9),IF(AND(H112>=1942,H112<1947),VLOOKUP(I112,Feuil1!$F$10:$O$24,9),IF(AND(H112>=1947,H112<1952),VLOOKUP(I112,Feuil1!$F$10:$O$24,8),IF(AND(H112>=1952,H112<1957),VLOOKUP(I112,Feuil1!$F$10:$O$24,7),IF(AND(H112>=1957,H112<1962),VLOOKUP(I112,Feuil1!$F$10:$O$24,6),IF(AND(H112>=1962,H112<1967),VLOOKUP(I112,Feuil1!$F$10:$O$24,5),IF(AND(H112>=1967,H112<1972),VLOOKUP(I112,Feuil1!$F$10:$O$24,4),IF(AND(H112>=1972,H112<1977),VLOOKUP(I112,Feuil1!$F$10:$O$24,3),IF(AND(H112>=1977,H112<1982),VLOOKUP(I112,Feuil1!$F$10:$O$24,2),VLOOKUP(I112,Feuil1!$F$10:$O$24,2))))))))))","v":{"$error":"#N/A"}},null,{"$f":"T112-HLOOKUP(Y112,Feuil1!$C$1:$BF$9,2,FALSE)","v":{"$error":"#VALUE!"}},{"$f":"T112-HLOOKUP(Y112,Feuil1!$C$1:$BF$9,3,FALSE)","v":{"$error":"#VALUE!"}},{"$f":"T112-HLOOKUP(Y112,Feuil1!$C$1:$BF$9,4,FALSE)","v":{"$error":"#VALUE!"}},{"$f":"T112-HLOOKUP(Y112,Feuil1!$C$1:$BF$9,5,FALSE)","v":{"$error":"#VALUE!"}},{"$f":"T112-HLOOKUP(Y112,Feuil1!$C$1:$BF$9,6,FALSE)","v":{"$error":"#VALUE!"}},{"$f":"T112-HLOOKUP(Y112,Feuil1!$C$1:$BF$9,7,FALSE)","v":{"$error":"#VALUE!"}},{"$f":"T112-HLOOKUP(Y112,Feuil1!$C$1:$BF$9,8,FALSE)","v":{"$error":"#VALUE!"}},{"$f":"T112-HLOOKUP(Y112,Feuil1!$C$1:$BF$9,9,FALSE)","v":{"$error":"#VALUE!"}},null,null,null,null,null,null,null,{"$error":"#VALUE!"},2016,null,{"$f":"IF(AQ112,VLOOKUP(AQ112,HOM!$AR$551:$AS$606,2))","v":3.5710000000000002}]
["F",null,null,null,null,null,null,null,null,null,null,null,null,null,"",null,null,null,"","","","","",false,{"$f":"IF(AND(H113<1936),VLOOKUP(I113,Feuil1!$F$10:$O$24,9),IF(AND(H113>=1942,H113<1947),VLOOKUP(I113,Feuil1!$F$10:$O$24,9),IF(AND(H113>=1947,H113<1952),VLOOKUP(I113,Feuil1!$F$10:$O$24,8),IF(AND(H113>=1952,H113<1957),VLOOKUP(I113,Feuil1!$F$10:$O$24,7),IF(AND(H113>=1957,H113<1962),VLOOKUP(I113,Feuil1!$F$10:$O$24,6),IF(AND(H113>=1962,H113<1967),VLOOKUP(I113,Feuil1!$F$10:$O$24,5),IF(AND(H113>=1967,H113<1972),VLOOKUP(I113,Feuil1!$F$10:$O$24,4),IF(AND(H113>=1972,H113<1977),VLOOKUP(I113,Feuil1!$F$10:$O$24,3),IF(AND(H113>=1977,H113<1982),VLOOKUP(I113,Feuil1!$F$10:$O$24,2),VLOOKUP(I113,Feuil1!$F$10:$O$24,2))))))))))","v":{"$error":"#N/A"}},null,{"$f":"T113-HLOOKUP(Y113,Feuil1!$C$1:$BF$9,2,FALSE)","v":{"$error":"#VALUE!"}},{"$f":"T113-HLOOKUP(Y113,Feuil1!$C$1:$BF$9,3,FALSE)","v":{"$error":"#VALUE!"}},{"$f":"T113-HLOOKUP(Y113,Feuil1!$C$1:$BF$9,4,FALSE)","v":{"$error":"#VALUE!"}},{"$f":"T113-HLOOKUP(Y113,Feuil1!$C$1:$BF$9,5,FALSE)","v":{"$error":"#VALUE!"}},{"$f":"T113-HLOOKUP(Y113,Feuil1!$C$1:$BF$9,6,FALSE)","v":{"$error":"#VALUE!"}},{"$f":"T113-HLOOKUP(Y113,Feuil1!$C$1:$BF$9,7,FALSE)","v":{"$error":"#VALUE!"}},{"$f":"T113-HLOOKUP(Y113,Feuil1!$C$1:$BF$9,8,FALSE)","v":{"$error":"#VALUE!"}},{"$f":"T113-HLOOKUP(Y113,Feuil1!$C$1:$BF$9,9,FALSE)","v":{"$error":"#VALUE!"}},null,null,null,null,null,null,null,{"$error":"#VALUE!"},2016,null,{"$f":"IF(AQ113,VLOOKUP(AQ113,HOM!$AR$551:$AS$606,2))","v":3.5710000000000002}]
["F",null,null,null,null,null,null,null,null,null,null,null,null,null,"",null,null,null,"","","","","",false,{"$f":"IF(AND(H114<1936),VLOOKUP(I114,Feuil1!$F$10:$O$24,9),IF(AND(H114>=1942,H114<1947),VLOOKUP(I114,Feuil1!$F$10:$O$24,9),IF(AND(H114>=1947,H114<1952),VLOOKUP(I114,Feuil1!$F$10:$O$24,8),IF(AND(H114>=1952,H114<1957),VLOOKUP(I114,Feuil1!$F$10:$O$24,7),IF(AND(H114>=1957,H114<1962),VLOOKUP(I114,Feuil1!$F$10:$O$24,6),IF(AND(H114>=1962,H114<1967),VLOOKUP(I114,Feuil1!$F$10:$O$24,5),IF(AND(H114>=1967,H114<1972),VLOOKUP(I114,Feuil1!$F$10:$O$24,4),IF(AND(H114>=1972,H114<1977),VLOOKUP(I114,Feuil1!$F$10:$O$24,3),IF(AND(H114>=1977,H114<1982),VLOOKUP(I114,Feuil1!$F$10:$O$24,2),VLOOKUP(I114,Feuil1!$F$10:$O$24,2))))))))))","v":{"$error":"#N/A"}},null,{"$f":"T114-HLOOKUP(Y114,Feuil1!$C$1:$BF$9,2,FALSE)","v":{"$error":"#VALUE!"}},{"$f":"T114-HLOOKUP(Y114,Feuil1!$C$1:$BF$9,3,FALSE)","v":{"$error":"#VALUE!"}},{"$f":"T114-HLOOKUP(Y114,Feuil1!$C$1:$BF$9,4,FALSE)","v":{"$error":"#VALUE!"}},{"$f":"T114-HLOOKUP(Y114,Feuil1!$C$1:$BF$9,5,FALSE)","v":{"$error":"#VALUE!"}},{"$f":"T114-HLOOKUP(Y114,Feuil1!$C$1:$BF$9,6,FALSE)","v":{"$error":"#VALUE!"}},{"$f":"T114-HLOOKUP(Y114,Feuil1!$C$1:$BF$9,7,FALSE)","v":{"$error":"#VALUE!"}},{"$f":"T114-HLOOKUP(Y114,Feuil1!$C$1:$BF$9,8,FALSE)","v":{"$error":"#VALUE!"}},{"$f":"T114-HLOOKUP(Y114,Feuil1!$C$1:$BF$9,9,FALSE)","v":{"$error":"#VALUE!"}},null,null,null,null,null,null,null,{"$error":"#VALUE!"},2016,null,{"$f":"IF(AQ114,VLOOKUP(AQ114,HOM!$AR$551:$AS$606,2))","v":3.5710000000000002}]
["F",null,null,null,null,null,null,null,null,null,null,null,null,null,"",null,null,null,"","","","","",false,{"$f":"IF(AND(H115<1936),VLOOKUP(I115,Feuil1!$F$10:$O$24,9),IF(AND(H115>=1942,H115<1947),VLOOKUP(I115,Feuil1!$F$10:$O$24,9),IF(AND(H115>=1947,H115<1952),VLOOKUP(I115,Feuil1!$F$10:$O$24,8),IF(AND(H115>=1952,H115<1957),VLOOKUP(I115,Feuil1!$F$10:$O$24,7),IF(AND(H115>=1957,H115<1962),VLOOKUP(I115,Feuil1!$F$10:$O$24,6),IF(AND(H115>=1962,H115<1967),VLOOKUP(I115,Feuil1!$F$10:$O$24,5),IF(AND(H115>=1967,H115<1972),VLOOKUP(I115,Feuil1!$F$10:$O$24,4),IF(AND(H115>=1972,H115<1977),VLOOKUP(I115,Feuil1!$F$10:$O$24,3),IF(AND(H115>=1977,H115<1982),VLOOKUP(I115,Feuil1!$F$10:$O$24,2),VLOOKUP(I115,Feuil1!$F$10:$O$24,2))))))))))","v":{"$error":"#N/A"}},null,{"$f":"T115-HLOOKUP(Y115,Feuil1!$C$1:$BF$9,2,FALSE)","v":{"$error":"#VALUE!"}},{"$f":"T115-HLOOKUP(Y115,Feuil1!$C$1:$BF$9,3,FALSE)","v":{"$error":"#VALUE!"}},{"$f":"T115-HLOOKUP(Y115,Feuil1!$C$1:$BF$9,4,FALSE)","v":{"$error":"#VALUE!"}},{"$f":"T115-HLOOKUP(Y115,Feuil1!$C$1:$BF$9,5,FALSE)","v":{"$error":"#VALUE!"}},{"$f":"T115-HLOOKUP(Y115,Feuil1!$C$1:$BF$9,6,FALSE)","v":{"$error":"#VALUE!"}},{"$f":"T115-HLOOKUP(Y115,Feuil1!$C$1:$BF$9,7,FALSE)","v":{"$error":"#VALUE!"}},{"$f":"T115-HLOOKUP(Y115,Feuil1!$C$1:$BF$9,8,FALSE)","v":{"$error":"#VALUE!"}},{"$f":"T115-HLOOKUP(Y115,Feuil1!$C$1:$BF$9,9,FALSE)","v":{"$error":"#VALUE!"}},null,null,null,null,null,null,null,{"$error":"#VALUE!"},2016,null,{"$f":"IF(AQ115,VLOOKUP(AQ115,HOM!$AR$551:$AS$606,2))","v":3.5710000000000002}]
["F",null,null,null,null,null,null,null,null,null,null,null,null,null,"",null,null,null,"","","","","",false,{"$f":"IF(AND(H116<1936),VLOOKUP(I116,Feuil1!$F$10:$O$24,9),IF(AND(H116>=1942,H116<1947),VLOOKUP(I116,Feuil1!$F$10:$O$24,9),IF(AND(H116>=1947,H116<1952),VLOOKUP(I116,Feuil1!$F$10:$O$24,8),IF(AND(H116>=1952,H116<1957),VLOOKUP(I116,Feuil1!$F$10:$O$24,7),IF(AND(H116>=1957,H116<1962),VLOOKUP(I116,Feuil1!$F$10:$O$24,6),IF(AND(H116>=1962,H116<1967),VLOOKUP(I116,Feuil1!$F$10:$O$24,5),IF(AND(H116>=1967,H116<1972),VLOOKUP(I116,Feuil1!$F$10:$O$24,4),IF(AND(H116>=1972,H116<1977),VLOOKUP(I116,Feuil1!$F$10:$O$24,3),IF(AND(H116>=1977,H116<1982),VLOOKUP(I116,Feuil1!$F$10:$O$24,2),VLOOKUP(I116,Feuil1!$F$10:$O$24,2))))))))))","v":{"$error":"#N/A"}},null,{"$f":"T116-HLOOKUP(Y116,Feuil1!$C$1:$BF$9,2,FALSE)","v":{"$error":"#VALUE!"}},{"$f":"T116-HLOOKUP(Y116,Feuil1!$C$1:$BF$9,3,FALSE)","v":{"$error":"#VALUE!"}},{"$f":"T116-HLOOKUP(Y116,Feuil1!$C$1:$BF$9,4,FALSE)","v":{"$error":"#VALUE!"}},{"$f":"T116-HLOOKUP(Y116,Feuil1!$C$1:$BF$9,5,FALSE)","v":{"$error":"#VALUE!"}},{"$f":"T116-HLOOKUP(Y116,Feuil1!$C$1:$BF$9,6,FALSE)","v":{"$error":"#VALUE!"}},{"$f":"T116-HLOOKUP(Y116,Feuil1!$C$1:$BF$9,7,FALSE)","v":{"$error":"#VALUE!"}},{"$f":"T116-HLOOKUP(Y116,Feuil1!$C$1:$BF$9,8,FALSE)","v":{"$error":"#VALUE!"}},{"$f":"T116-HLOOKUP(Y116,Feuil1!$C$1:$BF$9,9,FALSE)","v":{"$error":"#VALUE!"}},null,null,null,null,null,null,null,{"$error":"#VALUE!"},2016,null,{"$f":"IF(AQ116,VLOOKUP(AQ116,HOM!$AR$551:$AS$606,2))","v":3.5710000000000002}]
["F",null,null,null,null,null,null,null,null,null,null,null,null,null,"",null,null,null,"","","","","",false,{"$f":"IF(AND(H117<1936),VLOOKUP(I117,Feuil1!$F$10:$O$24,9),IF(AND(H117>=1942,H117<1947),VLOOKUP(I117,Feuil1!$F$10:$O$24,9),IF(AND(H117>=1947,H117<1952),VLOOKUP(I117,Feuil1!$F$10:$O$24,8),IF(AND(H117>=1952,H117<1957),VLOOKUP(I117,Feuil1!$F$10:$O$24,7),IF(AND(H117>=1957,H117<1962),VLOOKUP(I117,Feuil1!$F$10:$O$24,6),IF(AND(H117>=1962,H117<1967),VLOOKUP(I117,Feuil1!$F$10:$O$24,5),IF(AND(H117>=1967,H117<1972),VLOOKUP(I117,Feuil1!$F$10:$O$24,4),IF(AND(H117>=1972,H117<1977),VLOOKUP(I117,Feuil1!$F$10:$O$24,3),IF(AND(H117>=1977,H117<1982),VLOOKUP(I117,Feuil1!$F$10:$O$24,2),VLOOKUP(I117,Feuil1!$F$10:$O$24,2))))))))))","v":{"$error":"#N/A"}},null,{"$f":"T117-HLOOKUP(Y117,Feuil1!$C$1:$BF$9,2,FALSE)","v":{"$error":"#VALUE!"}},{"$f":"T117-HLOOKUP(Y117,Feuil1!$C$1:$BF$9,3,FALSE)","v":{"$error":"#VALUE!"}},{"$f":"T117-HLOOKUP(Y117,Feuil1!$C$1:$BF$9,4,FALSE)","v":{"$error":"#VALUE!"}},{"$f":"T117-HLOOKUP(Y117,Feuil1!$C$1:$BF$9,5,FALSE)","v":{"$error":"#VALUE!"}},{"$f":"T117-HLOOKUP(Y117,Feuil1!$C$1:$BF$9,6,FALSE)","v":{"$error":"#VALUE!"}},{"$f":"T117-HLOOKUP(Y117,Feuil1!$C$1:$BF$9,7,FALSE)","v":{"$error":"#VALUE!"}},{"$f":"T117-HLOOKUP(Y117,Feuil1!$C$1:$BF$9,8,FALSE)","v":{"$error":"#VALUE!"}},{"$f":"T117-HLOOKUP(Y117,Feuil1!$C$1:$BF$9,9,FALSE)","v":{"$error":"#VALUE!"}},null,null,null,null,null,null,null,{"$error":"#VALUE!"},2016,null,{"$f":"IF(AQ117,VLOOKUP(AQ117,HOM!$AR$551:$AS$606,2))","v":3.5710000000000002}]
["F",null,null,null,null,null,null,null,null,null,null,null,null,null,"",null,null,null,"","","","","",false,{"$f":"IF(AND(H118<1936),VLOOKUP(I118,Feuil1!$F$10:$O$24,9),IF(AND(H118>=1942,H118<1947),VLOOKUP(I118,Feuil1!$F$10:$O$24,9),IF(AND(H118>=1947,H118<1952),VLOOKUP(I118,Feuil1!$F$10:$O$24,8),IF(AND(H118>=1952,H118<1957),VLOOKUP(I118,Feuil1!$F$10:$O$24,7),IF(AND(H118>=1957,H118<1962),VLOOKUP(I118,Feuil1!$F$10:$O$24,6),IF(AND(H118>=1962,H118<1967),VLOOKUP(I118,Feuil1!$F$10:$O$24,5),IF(AND(H118>=1967,H118<1972),VLOOKUP(I118,Feuil1!$F$10:$O$24,4),IF(AND(H118>=1972,H118<1977),VLOOKUP(I118,Feuil1!$F$10:$O$24,3),IF(AND(H118>=1977,H118<1982),VLOOKUP(I118,Feuil1!$F$10:$O$24,2),VLOOKUP(I118,Feuil1!$F$10:$O$24,2))))))))))","v":{"$error":"#N/A"}},null,{"$f":"T118-HLOOKUP(Y118,Feuil1!$C$1:$BF$9,2,FALSE)","v":{"$error":"#VALUE!"}},{"$f":"T118-HLOOKUP(Y118,Feuil1!$C$1:$BF$9,3,FALSE)","v":{"$error":"#VALUE!"}},{"$f":"T118-HLOOKUP(Y118,Feuil1!$C$1:$BF$9,4,FALSE)","v":{"$error":"#VALUE!"}},{"$f":"T118-HLOOKUP(Y118,Feuil1!$C$1:$BF$9,5,FALSE)","v":{"$error":"#VALUE!"}},{"$f":"T118-HLOOKUP(Y118,Feuil1!$C$1:$BF$9,6,FALSE)","v":{"$error":"#VALUE!"}},{"$f":"T118-HLOOKUP(Y118,Feuil1!$C$1:$BF$9,7,FALSE)","v":{"$error":"#VALUE!"}},{"$f":"T118-HLOOKUP(Y118,Feuil1!$C$1:$BF$9,8,FALSE)","v":{"$error":"#VALUE!"}},{"$f":"T118-HLOOKUP(Y118,Feuil1!$C$1:$BF$9,9,FALSE)","v":{"$error":"#VALUE!"}},null,null,null,null,null,null,null,{"$error":"#VALUE!"},2016,null,{"$f":"IF(AQ118,VLOOKUP(AQ118,HOM!$AR$551:$AS$606,2))","v":3.5710000000000002}]
["F",null,null,null,null,null,null,null,null,null,null,null,null,null,"",null,null,null,"","","","","",false,{"$f":"IF(AND(H119<1936),VLOOKUP(I119,Feuil1!$F$10:$O$24,9),IF(AND(H119>=1942,H119<1947),VLOOKUP(I119,Feuil1!$F$10:$O$24,9),IF(AND(H119>=1947,H119<1952),VLOOKUP(I119,Feuil1!$F$10:$O$24,8),IF(AND(H119>=1952,H119<1957),VLOOKUP(I119,Feuil1!$F$10:$O$24,7),IF(AND(H119>=1957,H119<1962),VLOOKUP(I119,Feuil1!$F$10:$O$24,6),IF(AND(H119>=1962,H119<1967),VLOOKUP(I119,Feuil1!$F$10:$O$24,5),IF(AND(H119>=1967,H119<1972),VLOOKUP(I119,Feuil1!$F$10:$O$24,4),IF(AND(H119>=1972,H119<1977),VLOOKUP(I119,Feuil1!$F$10:$O$24,3),IF(AND(H119>=1977,H119<1982),VLOOKUP(I119,Feuil1!$F$10:$O$24,2),VLOOKUP(I119,Feuil1!$F$10:$O$24,2))))))))))","v":{"$error":"#N/A"}},null,{"$f":"T119-HLOOKUP(Y119,Feuil1!$C$1:$BF$9,2,FALSE)","v":{"$error":"#VALUE!"}},{"$f":"T119-HLOOKUP(Y119,Feuil1!$C$1:$BF$9,3,FALSE)","v":{"$error":"#VALUE!"}},{"$f":"T119-HLOOKUP(Y119,Feuil1!$C$1:$BF$9,4,FALSE)","v":{"$error":"#VALUE!"}},{"$f":"T119-HLOOKUP(Y119,Feuil1!$C$1:$BF$9,5,FALSE)","v":{"$error":"#VALUE!"}},{"$f":"T119-HLOOKUP(Y119,Feuil1!$C$1:$BF$9,6,FALSE)","v":{"$error":"#VALUE!"}},{"$f":"T119-HLOOKUP(Y119,Feuil1!$C$1:$BF$9,7,FALSE)","v":{"$error":"#VALUE!"}},{"$f":"T119-HLOOKUP(Y119,Feuil1!$C$1:$BF$9,8,FALSE)","v":{"$error":"#VALUE!"}},{"$f":"T119-HLOOKUP(Y119,Feuil1!$C$1:$BF$9,9,FALSE)","v":{"$error":"#VALUE!"}},null,null,null,null,null,null,null,{"$error":"#VALUE!"},2016,null,{"$f":"IF(AQ119,VLOOKUP(AQ119,HOM!$AR$551:$AS$606,2))","v":3.5710000000000002}]
["F",null,null,null,null,null,null,null,null,null,null,null,null,null,"",null,null,null,"","","","","",false,{"$f":"IF(AND(H120<1936),VLOOKUP(I120,Feuil1!$F$10:$O$24,9),IF(AND(H120>=1942,H120<1947),VLOOKUP(I120,Feuil1!$F$10:$O$24,9),IF(AND(H120>=1947,H120<1952),VLOOKUP(I120,Feuil1!$F$10:$O$24,8),IF(AND(H120>=1952,H120<1957),VLOOKUP(I120,Feuil1!$F$10:$O$24,7),IF(AND(H120>=1957,H120<1962),VLOOKUP(I120,Feuil1!$F$10:$O$24,6),IF(AND(H120>=1962,H120<1967),VLOOKUP(I120,Feuil1!$F$10:$O$24,5),IF(AND(H120>=1967,H120<1972),VLOOKUP(I120,Feuil1!$F$10:$O$24,4),IF(AND(H120>=1972,H120<1977),VLOOKUP(I120,Feuil1!$F$10:$O$24,3),IF(AND(H120>=1977,H120<1982),VLOOKUP(I120,Feuil1!$F$10:$O$24,2),VLOOKUP(I120,Feuil1!$F$10:$O$24,2))))))))))","v":{"$error":"#N/A"}},null,{"$f":"T120-HLOOKUP(Y120,Feuil1!$C$1:$BF$9,2,FALSE)","v":{"$error":"#VALUE!"}},{"$f":"T120-HLOOKUP(Y120,Feuil1!$C$1:$BF$9,3,FALSE)","v":{"$error":"#VALUE!"}},{"$f":"T120-HLOOKUP(Y120,Feuil1!$C$1:$BF$9,4,FALSE)","v":{"$error":"#VALUE!"}},{"$f":"T120-HLOOKUP(Y120,Feuil1!$C$1:$BF$9,5,FALSE)","v":{"$error":"#VALUE!"}},{"$f":"T120-HLOOKUP(Y120,Feuil1!$C$1:$BF$9,6,FALSE)","v":{"$error":"#VALUE!"}},{"$f":"T120-HLOOKUP(Y120,Feuil1!$C$1:$BF$9,7,FALSE)","v":{"$error":"#VALUE!"}},{"$f":"T120-HLOOKUP(Y120,Feuil1!$C$1:$BF$9,8,FALSE)","v":{"$error":"#VALUE!"}},{"$f":"T120-HLOOKUP(Y120,Feuil1!$C$1:$BF$9,9,FALSE)","v":{"$error":"#VALUE!"}},null,null,null,null,null,null,null,{"$error":"#VALUE!"},2016,null,{"$f":"IF(AQ120,VLOOKUP(AQ120,HOM!$AR$551:$AS$606,2))","v":3.5710000000000002}]
["F",null,null,null,null,null,null,null,null,null,null,null,null,null,"",null,null,null,"","","","","",false,{"$f":"IF(AND(H121<1936),VLOOKUP(I121,Feuil1!$F$10:$O$24,9),IF(AND(H121>=1942,H121<1947),VLOOKUP(I121,Feuil1!$F$10:$O$24,9),IF(AND(H121>=1947,H121<1952),VLOOKUP(I121,Feuil1!$F$10:$O$24,8),IF(AND(H121>=1952,H121<1957),VLOOKUP(I121,Feuil1!$F$10:$O$24,7),IF(AND(H121>=1957,H121<1962),VLOOKUP(I121,Feuil1!$F$10:$O$24,6),IF(AND(H121>=1962,H121<1967),VLOOKUP(I121,Feuil1!$F$10:$O$24,5),IF(AND(H121>=1967,H121<1972),VLOOKUP(I121,Feuil1!$F$10:$O$24,4),IF(AND(H121>=1972,H121<1977),VLOOKUP(I121,Feuil1!$F$10:$O$24,3),IF(AND(H121>=1977,H121<1982),VLOOKUP(I121,Feuil1!$F$10:$O$24,2),VLOOKUP(I121,Feuil1!$F$10:$O$24,2))))))))))","v":{"$error":"#N/A"}},null,{"$f":"T121-HLOOKUP(Y121,Feuil1!$C$1:$BF$9,2,FALSE)","v":{"$error":"#VALUE!"}},{"$f":"T121-HLOOKUP(Y121,Feuil1!$C$1:$BF$9,3,FALSE)","v":{"$error":"#VALUE!"}},{"$f":"T121-HLOOKUP(Y121,Feuil1!$C$1:$BF$9,4,FALSE)","v":{"$error":"#VALUE!"}},{"$f":"T121-HLOOKUP(Y121,Feuil1!$C$1:$BF$9,5,FALSE)","v":{"$error":"#VALUE!"}},{"$f":"T121-HLOOKUP(Y121,Feuil1!$C$1:$BF$9,6,FALSE)","v":{"$error":"#VALUE!"}},{"$f":"T121-HLOOKUP(Y121,Feuil1!$C$1:$BF$9,7,FALSE)","v":{"$error":"#VALUE!"}},{"$f":"T121-HLOOKUP(Y121,Feuil1!$C$1:$BF$9,8,FALSE)","v":{"$error":"#VALUE!"}},{"$f":"T121-HLOOKUP(Y121,Feuil1!$C$1:$BF$9,9,FALSE)","v":{"$error":"#VALUE!"}},null,null,null,null,null,null,null,{"$error":"#VALUE!"},2016,null,{"$f":"IF(AQ121,VLOOKUP(AQ121,HOM!$AR$551:$AS$606,2))","v":3.5710000000000002}]
["F",null,null,null,null,null,null,null,null,null,null,null,null,null,"",null,null,null,"","","","","",false,{"$f":"IF(AND(H122<1936),VLOOKUP(I122,Feuil1!$F$10:$O$24,9),IF(AND(H122>=1942,H122<1947),VLOOKUP(I122,Feuil1!$F$10:$O$24,9),IF(AND(H122>=1947,H122<1952),VLOOKUP(I122,Feuil1!$F$10:$O$24,8),IF(AND(H122>=1952,H122<1957),VLOOKUP(I122,Feuil1!$F$10:$O$24,7),IF(AND(H122>=1957,H122<1962),VLOOKUP(I122,Feuil1!$F$10:$O$24,6),IF(AND(H122>=1962,H122<1967),VLOOKUP(I122,Feuil1!$F$10:$O$24,5),IF(AND(H122>=1967,H122<1972),VLOOKUP(I122,Feuil1!$F$10:$O$24,4),IF(AND(H122>=1972,H122<1977),VLOOKUP(I122,Feuil1!$F$10:$O$24,3),IF(AND(H122>=1977,H122<1982),VLOOKUP(I122,Feuil1!$F$10:$O$24,2),VLOOKUP(I122,Feuil1!$F$10:$O$24,2))))))))))","v":{"$error":"#N/A"}},null,{"$f":"T122-HLOOKUP(Y122,Feuil1!$C$1:$BF$9,2,FALSE)","v":{"$error":"#VALUE!"}},{"$f":"T122-HLOOKUP(Y122,Feuil1!$C$1:$BF$9,3,FALSE)","v":{"$error":"#VALUE!"}},{"$f":"T122-HLOOKUP(Y122,Feuil1!$C$1:$BF$9,4,FALSE)","v":{"$error":"#VALUE!"}},{"$f":"T122-HLOOKUP(Y122,Feuil1!$C$1:$BF$9,5,FALSE)","v":{"$error":"#VALUE!"}},{"$f":"T122-HLOOKUP(Y122,Feuil1!$C$1:$BF$9,6,FALSE)","v":{"$error":"#VALUE!"}},{"$f":"T122-HLOOKUP(Y122,Feuil1!$C$1:$BF$9,7,FALSE)","v":{"$error":"#VALUE!"}},{"$f":"T122-HLOOKUP(Y122,Feuil1!$C$1:$BF$9,8,FALSE)","v":{"$error":"#VALUE!"}},{"$f":"T122-HLOOKUP(Y122,Feuil1!$C$1:$BF$9,9,FALSE)","v":{"$error":"#VALUE!"}},null,null,null,null,null,null,null,{"$error":"#VALUE!"},2016,null,{"$f":"IF(AQ122,VLOOKUP(AQ122,HOM!$AR$551:$AS$606,2))","v":3.5710000000000002}]
["F",null,null,null,null,null,null,null,null,null,null,null,null,null,"",null,null,null,"","","","","",false,{"$f":"IF(AND(H123<1936),VLOOKUP(I123,Feuil1!$F$10:$O$24,9),IF(AND(H123>=1942,H123<1947),VLOOKUP(I123,Feuil1!$F$10:$O$24,9),IF(AND(H123>=1947,H123<1952),VLOOKUP(I123,Feuil1!$F$10:$O$24,8),IF(AND(H123>=1952,H123<1957),VLOOKUP(I123,Feuil1!$F$10:$O$24,7),IF(AND(H123>=1957,H123<1962),VLOOKUP(I123,Feuil1!$F$10:$O$24,6),IF(AND(H123>=1962,H123<1967),VLOOKUP(I123,Feuil1!$F$10:$O$24,5),IF(AND(H123>=1967,H123<1972),VLOOKUP(I123,Feuil1!$F$10:$O$24,4),IF(AND(H123>=1972,H123<1977),VLOOKUP(I123,Feuil1!$F$10:$O$24,3),IF(AND(H123>=1977,H123<1982),VLOOKUP(I123,Feuil1!$F$10:$O$24,2),VLOOKUP(I123,Feuil1!$F$10:$O$24,2))))))))))","v":{"$error":"#N/A"}},null,{"$f":"T123-HLOOKUP(Y123,Feuil1!$C$1:$BF$9,2,FALSE)","v":{"$error":"#VALUE!"}},{"$f":"T123-HLOOKUP(Y123,Feuil1!$C$1:$BF$9,3,FALSE)","v":{"$error":"#VALUE!"}},{"$f":"T123-HLOOKUP(Y123,Feuil1!$C$1:$BF$9,4,FALSE)","v":{"$error":"#VALUE!"}},{"$f":"T123-HLOOKUP(Y123,Feuil1!$C$1:$BF$9,5,FALSE)","v":{"$error":"#VALUE!"}},{"$f":"T123-HLOOKUP(Y123,Feuil1!$C$1:$BF$9,6,FALSE)","v":{"$error":"#VALUE!"}},{"$f":"T123-HLOOKUP(Y123,Feuil1!$C$1:$BF$9,7,FALSE)","v":{"$error":"#VALUE!"}},{"$f":"T123-HLOOKUP(Y123,Feuil1!$C$1:$BF$9,8,FALSE)","v":{"$error":"#VALUE!"}},{"$f":"T123-HLOOKUP(Y123,Feuil1!$C$1:$BF$9,9,FALSE)","v":{"$error":"#VALUE!"}},null,null,null,null,null,null,null,{"$error":"#VALUE!"},2016,null,{"$f":"IF(AQ123,VLOOKUP(AQ123,HOM!$AR$551:$AS$606,2))","v":3.5710000000000002}]
["F",null,null,null,null,null,null,null,null,null,null,null,null,null,"",null,null,null,"","","","","",false,{"$f":"IF(AND(H124<1936),VLOOKUP(I124,Feuil1!$F$10:$O$24,9),IF(AND(H124>=1942,H124<1947),VLOOKUP(I124,Feuil1!$F$10:$O$24,9),IF(AND(H124>=1947,H124<1952),VLOOKUP(I124,Feuil1!$F$10:$O$24,8),IF(AND(H124>=1952,H124<1957),VLOOKUP(I124,Feuil1!$F$10:$O$24,7),IF(AND(H124>=1957,H124<1962),VLOOKUP(I124,Feuil1!$F$10:$O$24,6),IF(AND(H124>=1962,H124<1967),VLOOKUP(I124,Feuil1!$F$10:$O$24,5),IF(AND(H124>=1967,H124<1972),VLOOKUP(I124,Feuil1!$F$10:$O$24,4),IF(AND(H124>=1972,H124<1977),VLOOKUP(I124,Feuil1!$F$10:$O$24,3),IF(AND(H124>=1977,H124<1982),VLOOKUP(I124,Feuil1!$F$10:$O$24,2),VLOOKUP(I124,Feuil1!$F$10:$O$24,2))))))))))","v":{"$error":"#N/A"}},null,{"$f":"T124-HLOOKUP(Y124,Feuil1!$C$1:$BF$9,2,FALSE)","v":{"$error":"#VALUE!"}},{"$f":"T124-HLOOKUP(Y124,Feuil1!$C$1:$BF$9,3,FALSE)","v":{"$error":"#VALUE!"}},{"$f":"T124-HLOOKUP(Y124,Feuil1!$C$1:$BF$9,4,FALSE)","v":{"$error":"#VALUE!"}},{"$f":"T124-HLOOKUP(Y124,Feuil1!$C$1:$BF$9,5,FALSE)","v":{"$error":"#VALUE!"}},{"$f":"T124-HLOOKUP(Y124,Feuil1!$C$1:$BF$9,6,FALSE)","v":{"$error":"#VALUE!"}},{"$f":"T124-HLOOKUP(Y124,Feuil1!$C$1:$BF$9,7,FALSE)","v":{"$error":"#VALUE!"}},{"$f":"T124-HLOOKUP(Y124,Feuil1!$C$1:$BF$9,8,FALSE)","v":{"$error":"#VALUE!"}},{"$f":"T124-HLOOKUP(Y124,Feuil1!$C$1:$BF$9,9,FALSE)","v":{"$error":"#VALUE!"}},null,null,null,null,null,null,null,{"$error":"#VALUE!"},2016,null,{"$f":"IF(AQ124,VLOOKUP(AQ124,HOM!$AR$551:$AS$606,2))","v":3.5710000000000002}]
["F",null,null,null,null,null,null,null,null,null,null,null,null,null,"",null,null,null,"","","","","",false,{"$f":"IF(AND(H125<1936),VLOOKUP(I125,Feuil1!$F$10:$O$24,9),IF(AND(H125>=1942,H125<1947),VLOOKUP(I125,Feuil1!$F$10:$O$24,9),IF(AND(H125>=1947,H125<1952),VLOOKUP(I125,Feuil1!$F$10:$O$24,8),IF(AND(H125>=1952,H125<1957),VLOOKUP(I125,Feuil1!$F$10:$O$24,7),IF(AND(H125>=1957,H125<1962),VLOOKUP(I125,Feuil1!$F$10:$O$24,6),IF(AND(H125>=1962,H125<1967),VLOOKUP(I125,Feuil1!$F$10:$O$24,5),IF(AND(H125>=1967,H125<1972),VLOOKUP(I125,Feuil1!$F$10:$O$24,4),IF(AND(H125>=1972,H125<1977),VLOOKUP(I125,Feuil1!$F$10:$O$24,3),IF(AND(H125>=1977,H125<1982),VLOOKUP(I125,Feuil1!$F$10:$O$24,2),VLOOKUP(I125,Feuil1!$F$10:$O$24,2))))))))))","v":{"$error":"#N/A"}},null,{"$f":"T125-HLOOKUP(Y125,Feuil1!$C$1:$BF$9,2,FALSE)","v":{"$error":"#VALUE!"}},{"$f":"T125-HLOOKUP(Y125,Feuil1!$C$1:$BF$9,3,FALSE)","v":{"$error":"#VALUE!"}},{"$f":"T125-HLOOKUP(Y125,Feuil1!$C$1:$BF$9,4,FALSE)","v":{"$error":"#VALUE!"}},{"$f":"T125-HLOOKUP(Y125,Feuil1!$C$1:$BF$9,5,FALSE)","v":{"$error":"#VALUE!"}},{"$f":"T125-HLOOKUP(Y125,Feuil1!$C$1:$BF$9,6,FALSE)","v":{"$error":"#VALUE!"}},{"$f":"T125-HLOOKUP(Y125,Feuil1!$C$1:$BF$9,7,FALSE)","v":{"$error":"#VALUE!"}},{"$f":"T125-HLOOKUP(Y125,Feuil1!$C$1:$BF$9,8,FALSE)","v":{"$error":"#VALUE!"}},{"$f":"T125-HLOOKUP(Y125,Feuil1!$C$1:$BF$9,9,FALSE)","v":{"$error":"#VALUE!"}},null,null,null,null,null,null,null,{"$error":"#VALUE!"},2016,null,{"$f":"IF(AQ125,VLOOKUP(AQ125,HOM!$AR$551:$AS$606,2))","v":3.5710000000000002}]
["F",null,null,null,null,null,null,null,null,null,null,null,null,null,"",null,null,null,"","","","","",false,{"$f":"IF(AND(H126<1936),VLOOKUP(I126,Feuil1!$F$10:$O$24,9),IF(AND(H126>=1942,H126<1947),VLOOKUP(I126,Feuil1!$F$10:$O$24,9),IF(AND(H126>=1947,H126<1952),VLOOKUP(I126,Feuil1!$F$10:$O$24,8),IF(AND(H126>=1952,H126<1957),VLOOKUP(I126,Feuil1!$F$10:$O$24,7),IF(AND(H126>=1957,H126<1962),VLOOKUP(I126,Feuil1!$F$10:$O$24,6),IF(AND(H126>=1962,H126<1967),VLOOKUP(I126,Feuil1!$F$10:$O$24,5),IF(AND(H126>=1967,H126<1972),VLOOKUP(I126,Feuil1!$F$10:$O$24,4),IF(AND(H126>=1972,H126<1977),VLOOKUP(I126,Feuil1!$F$10:$O$24,3),IF(AND(H126>=1977,H126<1982),VLOOKUP(I126,Feuil1!$F$10:$O$24,2),VLOOKUP(I126,Feuil1!$F$10:$O$24,2))))))))))","v":{"$error":"#N/A"}},null,{"$f":"T126-HLOOKUP(Y126,Feuil1!$C$1:$BF$9,2,FALSE)","v":{"$error":"#VALUE!"}},{"$f":"T126-HLOOKUP(Y126,Feuil1!$C$1:$BF$9,3,FALSE)","v":{"$error":"#VALUE!"}},{"$f":"T126-HLOOKUP(Y126,Feuil1!$C$1:$BF$9,4,FALSE)","v":{"$error":"#VALUE!"}},{"$f":"T126-HLOOKUP(Y126,Feuil1!$C$1:$BF$9,5,FALSE)","v":{"$error":"#VALUE!"}},{"$f":"T126-HLOOKUP(Y126,Feuil1!$C$1:$BF$9,6,FALSE)","v":{"$error":"#VALUE!"}},{"$f":"T126-HLOOKUP(Y126,Feuil1!$C$1:$BF$9,7,FALSE)","v":{"$error":"#VALUE!"}},{"$f":"T126-HLOOKUP(Y126,Feuil1!$C$1:$BF$9,8,FALSE)","v":{"$error":"#VALUE!"}},{"$f":"T126-HLOOKUP(Y126,Feuil1!$C$1:$BF$9,9,FALSE)","v":{"$error":"#VALUE!"}},null,null,null,null,null,null,null,{"$error":"#VALUE!"},2016,null,{"$f":"IF(AQ126,VLOOKUP(AQ126,HOM!$AR$551:$AS$606,2))","v":3.5710000000000002}]
["F",null,null,null,null,null,null,null,null,null,null,null,null,null,"",null,null,null,"","","","","",false,{"$f":"IF(AND(H127<1936),VLOOKUP(I127,Feuil1!$F$10:$O$24,9),IF(AND(H127>=1942,H127<1947),VLOOKUP(I127,Feuil1!$F$10:$O$24,9),IF(AND(H127>=1947,H127<1952),VLOOKUP(I127,Feuil1!$F$10:$O$24,8),IF(AND(H127>=1952,H127<1957),VLOOKUP(I127,Feuil1!$F$10:$O$24,7),IF(AND(H127>=1957,H127<1962),VLOOKUP(I127,Feuil1!$F$10:$O$24,6),IF(AND(H127>=1962,H127<1967),VLOOKUP(I127,Feuil1!$F$10:$O$24,5),IF(AND(H127>=1967,H127<1972),VLOOKUP(I127,Feuil1!$F$10:$O$24,4),IF(AND(H127>=1972,H127<1977),VLOOKUP(I127,Feuil1!$F$10:$O$24,3),IF(AND(H127>=1977,H127<1982),VLOOKUP(I127,Feuil1!$F$10:$O$24,2),VLOOKUP(I127,Feuil1!$F$10:$O$24,2))))))))))","v":{"$error":"#N/A"}},null,{"$f":"T127-HLOOKUP(Y127,Feuil1!$C$1:$BF$9,2,FALSE)","v":{"$error":"#VALUE!"}},{"$f":"T127-HLOOKUP(Y127,Feuil1!$C$1:$BF$9,3,FALSE)","v":{"$error":"#VALUE!"}},{"$f":"T127-HLOOKUP(Y127,Feuil1!$C$1:$BF$9,4,FALSE)","v":{"$error":"#VALUE!"}},{"$f":"T127-HLOOKUP(Y127,Feuil1!$C$1:$BF$9,5,FALSE)","v":{"$error":"#VALUE!"}},{"$f":"T127-HLOOKUP(Y127,Feuil1!$C$1:$BF$9,6,FALSE)","v":{"$error":"#VALUE!"}},{"$f":"T127-HLOOKUP(Y127,Feuil1!$C$1:$BF$9,7,FALSE)","v":{"$error":"#VALUE!"}},{"$f":"T127-HLOOKUP(Y127,Feuil1!$C$1:$BF$9,8,FALSE)","v":{"$error":"#VALUE!"}},{"$f":"T127-HLOOKUP(Y127,Feuil1!$C$1:$BF$9,9,FALSE)","v":{"$error":"#VALUE!"}},null,null,null,null,null,null,null,{"$error":"#VALUE!"},2016,null,{"$f":"IF(AQ127,VLOOKUP(AQ127,HOM!$AR$551:$AS$606,2))","v":3.5710000000000002}]
["F",null,null,null,null,null,null,null,null,null,null,null,null,null,"",null,null,null,"","","","","",false,{"$f":"IF(AND(H128<1936),VLOOKUP(I128,Feuil1!$F$10:$O$24,9),IF(AND(H128>=1942,H128<1947),VLOOKUP(I128,Feuil1!$F$10:$O$24,9),IF(AND(H128>=1947,H128<1952),VLOOKUP(I128,Feuil1!$F$10:$O$24,8),IF(AND(H128>=1952,H128<1957),VLOOKUP(I128,Feuil1!$F$10:$O$24,7),IF(AND(H128>=1957,H128<1962),VLOOKUP(I128,Feuil1!$F$10:$O$24,6),IF(AND(H128>=1962,H128<1967),VLOOKUP(I128,Feuil1!$F$10:$O$24,5),IF(AND(H128>=1967,H128<1972),VLOOKUP(I128,Feuil1!$F$10:$O$24,4),IF(AND(H128>=1972,H128<1977),VLOOKUP(I128,Feuil1!$F$10:$O$24,3),IF(AND(H128>=1977,H128<1982),VLOOKUP(I128,Feuil1!$F$10:$O$24,2),VLOOKUP(I128,Feuil1!$F$10:$O$24,2))))))))))","v":{"$error":"#N/A"}},null,{"$f":"T128-HLOOKUP(Y128,Feuil1!$C$1:$BF$9,2,FALSE)","v":{"$error":"#VALUE!"}},{"$f":"T128-HLOOKUP(Y128,Feuil1!$C$1:$BF$9,3,FALSE)","v":{"$error":"#VALUE!"}},{"$f":"T128-HLOOKUP(Y128,Feuil1!$C$1:$BF$9,4,FALSE)","v":{"$error":"#VALUE!"}},{"$f":"T128-HLOOKUP(Y128,Feuil1!$C$1:$BF$9,5,FALSE)","v":{"$error":"#VALUE!"}},{"$f":"T128-HLOOKUP(Y128,Feuil1!$C$1:$BF$9,6,FALSE)","v":{"$error":"#VALUE!"}},{"$f":"T128-HLOOKUP(Y128,Feuil1!$C$1:$BF$9,7,FALSE)","v":{"$error":"#VALUE!"}},{"$f":"T128-HLOOKUP(Y128,Feuil1!$C$1:$BF$9,8,FALSE)","v":{"$error":"#VALUE!"}},{"$f":"T128-HLOOKUP(Y128,Feuil1!$C$1:$BF$9,9,FALSE)","v":{"$error":"#VALUE!"}},null,null,null,null,null,null,null,{"$error":"#VALUE!"},2016,null,{"$f":"IF(AQ128,VLOOKUP(AQ128,HOM!$AR$551:$AS$606,2))","v":3.5710000000000002}]
["F",null,null,null,null,null,null,null,null,null,null,null,null,null,"",null,null,null,"","","","","",false,{"$f":"IF(AND(H129<1936),VLOOKUP(I129,Feuil1!$F$10:$O$24,9),IF(AND(H129>=1942,H129<1947),VLOOKUP(I129,Feuil1!$F$10:$O$24,9),IF(AND(H129>=1947,H129<1952),VLOOKUP(I129,Feuil1!$F$10:$O$24,8),IF(AND(H129>=1952,H129<1957),VLOOKUP(I129,Feuil1!$F$10:$O$24,7),IF(AND(H129>=1957,H129<1962),VLOOKUP(I129,Feuil1!$F$10:$O$24,6),IF(AND(H129>=1962,H129<1967),VLOOKUP(I129,Feuil1!$F$10:$O$24,5),IF(AND(H129>=1967,H129<1972),VLOOKUP(I129,Feuil1!$F$10:$O$24,4),IF(AND(H129>=1972,H129<1977),VLOOKUP(I129,Feuil1!$F$10:$O$24,3),IF(AND(H129>=1977,H129<1982),VLOOKUP(I129,Feuil1!$F$10:$O$24,2),VLOOKUP(I129,Feuil1!$F$10:$O$24,2))))))))))","v":{"$error":"#N/A"}},null,{"$f":"T129-HLOOKUP(Y129,Feuil1!$C$1:$BF$9,2,FALSE)","v":{"$error":"#VALUE!"}},{"$f":"T129-HLOOKUP(Y129,Feuil1!$C$1:$BF$9,3,FALSE)","v":{"$error":"#VALUE!"}},{"$f":"T129-HLOOKUP(Y129,Feuil1!$C$1:$BF$9,4,FALSE)","v":{"$error":"#VALUE!"}},{"$f":"T129-HLOOKUP(Y129,Feuil1!$C$1:$BF$9,5,FALSE)","v":{"$error":"#VALUE!"}},{"$f":"T129-HLOOKUP(Y129,Feuil1!$C$1:$BF$9,6,FALSE)","v":{"$error":"#VALUE!"}},{"$f":"T129-HLOOKUP(Y129,Feuil1!$C$1:$BF$9,7,FALSE)","v":{"$error":"#VALUE!"}},{"$f":"T129-HLOOKUP(Y129,Feuil1!$C$1:$BF$9,8,FALSE)","v":{"$error":"#VALUE!"}},{"$f":"T129-HLOOKUP(Y129,Feuil1!$C$1:$BF$9,9,FALSE)","v":{"$error":"#VALUE!"}},null,null,null,null,null,null,null,{"$error":"#VALUE!"},2016,null,{"$f":"IF(AQ129,VLOOKUP(AQ129,HOM!$AR$551:$AS$606,2))","v":3.5710000000000002}]
["F",null,null,null,null,null,null,null,null,null,null,null,null,null,"",null,null,null,"","","","","",false,{"$f":"IF(AND(H130<1936),VLOOKUP(I130,Feuil1!$F$10:$O$24,9),IF(AND(H130>=1942,H130<1947),VLOOKUP(I130,Feuil1!$F$10:$O$24,9),IF(AND(H130>=1947,H130<1952),VLOOKUP(I130,Feuil1!$F$10:$O$24,8),IF(AND(H130>=1952,H130<1957),VLOOKUP(I130,Feuil1!$F$10:$O$24,7),IF(AND(H130>=1957,H130<1962),VLOOKUP(I130,Feuil1!$F$10:$O$24,6),IF(AND(H130>=1962,H130<1967),VLOOKUP(I130,Feuil1!$F$10:$O$24,5),IF(AND(H130>=1967,H130<1972),VLOOKUP(I130,Feuil1!$F$10:$O$24,4),IF(AND(H130>=1972,H130<1977),VLOOKUP(I130,Feuil1!$F$10:$O$24,3),IF(AND(H130>=1977,H130<1982),VLOOKUP(I130,Feuil1!$F$10:$O$24,2),VLOOKUP(I130,Feuil1!$F$10:$O$24,2))))))))))","v":{"$error":"#N/A"}},null,{"$f":"T130-HLOOKUP(Y130,Feuil1!$C$1:$BF$9,2,FALSE)","v":{"$error":"#VALUE!"}},{"$f":"T130-HLOOKUP(Y130,Feuil1!$C$1:$BF$9,3,FALSE)","v":{"$error":"#VALUE!"}},{"$f":"T130-HLOOKUP(Y130,Feuil1!$C$1:$BF$9,4,FALSE)","v":{"$error":"#VALUE!"}},{"$f":"T130-HLOOKUP(Y130,Feuil1!$C$1:$BF$9,5,FALSE)","v":{"$error":"#VALUE!"}},{"$f":"T130-HLOOKUP(Y130,Feuil1!$C$1:$BF$9,6,FALSE)","v":{"$error":"#VALUE!"}},{"$f":"T130-HLOOKUP(Y130,Feuil1!$C$1:$BF$9,7,FALSE)","v":{"$error":"#VALUE!"}},{"$f":"T130-HLOOKUP(Y130,Feuil1!$C$1:$BF$9,8,FALSE)","v":{"$error":"#VALUE!"}},{"$f":"T130-HLOOKUP(Y130,Feuil1!$C$1:$BF$9,9,FALSE)","v":{"$error":"#VALUE!"}},null,null,null,null,null,null,null,{"$error":"#VALUE!"},2016,null,{"$f":"IF(AQ130,VLOOKUP(AQ130,HOM!$AR$551:$AS$606,2))","v":3.5710000000000002}]
["F",null,null,null,null,null,null,null,null,null,null,null,null,null,"",null,null,null,"","","","","",false,{"$f":"IF(AND(H131<1936),VLOOKUP(I131,Feuil1!$F$10:$O$24,9),IF(AND(H131>=1942,H131<1947),VLOOKUP(I131,Feuil1!$F$10:$O$24,9),IF(AND(H131>=1947,H131<1952),VLOOKUP(I131,Feuil1!$F$10:$O$24,8),IF(AND(H131>=1952,H131<1957),VLOOKUP(I131,Feuil1!$F$10:$O$24,7),IF(AND(H131>=1957,H131<1962),VLOOKUP(I131,Feuil1!$F$10:$O$24,6),IF(AND(H131>=1962,H131<1967),VLOOKUP(I131,Feuil1!$F$10:$O$24,5),IF(AND(H131>=1967,H131<1972),VLOOKUP(I131,Feuil1!$F$10:$O$24,4),IF(AND(H131>=1972,H131<1977),VLOOKUP(I131,Feuil1!$F$10:$O$24,3),IF(AND(H131>=1977,H131<1982),VLOOKUP(I131,Feuil1!$F$10:$O$24,2),VLOOKUP(I131,Feuil1!$F$10:$O$24,2))))))))))","v":{"$error":"#N/A"}},null,{"$f":"T131-HLOOKUP(Y131,Feuil1!$C$1:$BF$9,2,FALSE)","v":{"$error":"#VALUE!"}},{"$f":"T131-HLOOKUP(Y131,Feuil1!$C$1:$BF$9,3,FALSE)","v":{"$error":"#VALUE!"}},{"$f":"T131-HLOOKUP(Y131,Feuil1!$C$1:$BF$9,4,FALSE)","v":{"$error":"#VALUE!"}},{"$f":"T131-HLOOKUP(Y131,Feuil1!$C$1:$BF$9,5,FALSE)","v":{"$error":"#VALUE!"}},{"$f":"T131-HLOOKUP(Y131,Feuil1!$C$1:$BF$9,6,FALSE)","v":{"$error":"#VALUE!"}},{"$f":"T131-HLOOKUP(Y131,Feuil1!$C$1:$BF$9,7,FALSE)","v":{"$error":"#VALUE!"}},{"$f":"T131-HLOOKUP(Y131,Feuil1!$C$1:$BF$9,8,FALSE)","v":{"$error":"#VALUE!"}},{"$f":"T131-HLOOKUP(Y131,Feuil1!$C$1:$BF$9,9,FALSE)","v":{"$error":"#VALUE!"}},null,null,null,null,null,null,null,{"$error":"#VALUE!"},2016,null,{"$f":"IF(AQ131,VLOOKUP(AQ131,HOM!$AR$551:$AS$606,2))","v":3.5710000000000002}]
["F",null,null,null,null,null,null,null,null,null,null,null,null,null,"",null,null,null,"","","","","",false,{"$f":"IF(AND(H132<1936),VLOOKUP(I132,Feuil1!$F$10:$O$24,9),IF(AND(H132>=1942,H132<1947),VLOOKUP(I132,Feuil1!$F$10:$O$24,9),IF(AND(H132>=1947,H132<1952),VLOOKUP(I132,Feuil1!$F$10:$O$24,8),IF(AND(H132>=1952,H132<1957),VLOOKUP(I132,Feuil1!$F$10:$O$24,7),IF(AND(H132>=1957,H132<1962),VLOOKUP(I132,Feuil1!$F$10:$O$24,6),IF(AND(H132>=1962,H132<1967),VLOOKUP(I132,Feuil1!$F$10:$O$24,5),IF(AND(H132>=1967,H132<1972),VLOOKUP(I132,Feuil1!$F$10:$O$24,4),IF(AND(H132>=1972,H132<1977),VLOOKUP(I132,Feuil1!$F$10:$O$24,3),IF(AND(H132>=1977,H132<1982),VLOOKUP(I132,Feuil1!$F$10:$O$24,2),VLOOKUP(I132,Feuil1!$F$10:$O$24,2))))))))))","v":{"$error":"#N/A"}},null,{"$f":"T132-HLOOKUP(Y132,Feuil1!$C$1:$BF$9,2,FALSE)","v":{"$error":"#VALUE!"}},{"$f":"T132-HLOOKUP(Y132,Feuil1!$C$1:$BF$9,3,FALSE)","v":{"$error":"#VALUE!"}},{"$f":"T132-HLOOKUP(Y132,Feuil1!$C$1:$BF$9,4,FALSE)","v":{"$error":"#VALUE!"}},{"$f":"T132-HLOOKUP(Y132,Feuil1!$C$1:$BF$9,5,FALSE)","v":{"$error":"#VALUE!"}},{"$f":"T132-HLOOKUP(Y132,Feuil1!$C$1:$BF$9,6,FALSE)","v":{"$error":"#VALUE!"}},{"$f":"T132-HLOOKUP(Y132,Feuil1!$C$1:$BF$9,7,FALSE)","v":{"$error":"#VALUE!"}},{"$f":"T132-HLOOKUP(Y132,Feuil1!$C$1:$BF$9,8,FALSE)","v":{"$error":"#VALUE!"}},{"$f":"T132-HLOOKUP(Y132,Feuil1!$C$1:$BF$9,9,FALSE)","v":{"$error":"#VALUE!"}},null,null,null,null,null,null,null,{"$error":"#VALUE!"},2016,null,{"$f":"IF(AQ132,VLOOKUP(AQ132,HOM!$AR$551:$AS$606,2))","v":3.5710000000000002}]
["F",null,null,null,null,null,null,null,null,null,null,null,null,null,"",null,null,null,"","","","","",false,{"$f":"IF(AND(H133<1936),VLOOKUP(I133,Feuil1!$F$10:$O$24,9),IF(AND(H133>=1942,H133<1947),VLOOKUP(I133,Feuil1!$F$10:$O$24,9),IF(AND(H133>=1947,H133<1952),VLOOKUP(I133,Feuil1!$F$10:$O$24,8),IF(AND(H133>=1952,H133<1957),VLOOKUP(I133,Feuil1!$F$10:$O$24,7),IF(AND(H133>=1957,H133<1962),VLOOKUP(I133,Feuil1!$F$10:$O$24,6),IF(AND(H133>=1962,H133<1967),VLOOKUP(I133,Feuil1!$F$10:$O$24,5),IF(AND(H133>=1967,H133<1972),VLOOKUP(I133,Feuil1!$F$10:$O$24,4),IF(AND(H133>=1972,H133<1977),VLOOKUP(I133,Feuil1!$F$10:$O$24,3),IF(AND(H133>=1977,H133<1982),VLOOKUP(I133,Feuil1!$F$10:$O$24,2),VLOOKUP(I133,Feuil1!$F$10:$O$24,2))))))))))","v":{"$error":"#N/A"}},null,{"$f":"T133-HLOOKUP(Y133,Feuil1!$C$1:$BF$9,2,FALSE)","v":{"$error":"#VALUE!"}},{"$f":"T133-HLOOKUP(Y133,Feuil1!$C$1:$BF$9,3,FALSE)","v":{"$error":"#VALUE!"}},{"$f":"T133-HLOOKUP(Y133,Feuil1!$C$1:$BF$9,4,FALSE)","v":{"$error":"#VALUE!"}},{"$f":"T133-HLOOKUP(Y133,Feuil1!$C$1:$BF$9,5,FALSE)","v":{"$error":"#VALUE!"}},{"$f":"T133-HLOOKUP(Y133,Feuil1!$C$1:$BF$9,6,FALSE)","v":{"$error":"#VALUE!"}},{"$f":"T133-HLOOKUP(Y133,Feuil1!$C$1:$BF$9,7,FALSE)","v":{"$error":"#VALUE!"}},{"$f":"T133-HLOOKUP(Y133,Feuil1!$C$1:$BF$9,8,FALSE)","v":{"$error":"#VALUE!"}},{"$f":"T133-HLOOKUP(Y133,Feuil1!$C$1:$BF$9,9,FALSE)","v":{"$error":"#VALUE!"}},null,null,null,null,null,null,null,{"$error":"#VALUE!"},{"$f":"2016-H133","v":2016},null,{"$f":"IF(AQ133,VLOOKUP(AQ133,HOM!$AR$551:$AS$606,2))","v":3.5710000000000002}]
["F",null,null,null,null,null,null,null,null,null,null,null,null,null,"",null,null,null,"","","","","",false,{"$f":"IF(AND(H134<1936),VLOOKUP(I134,Feuil1!$F$10:$O$24,9),IF(AND(H134>=1942,H134<1947),VLOOKUP(I134,Feuil1!$F$10:$O$24,9),IF(AND(H134>=1947,H134<1952),VLOOKUP(I134,Feuil1!$F$10:$O$24,8),IF(AND(H134>=1952,H134<1957),VLOOKUP(I134,Feuil1!$F$10:$O$24,7),IF(AND(H134>=1957,H134<1962),VLOOKUP(I134,Feuil1!$F$10:$O$24,6),IF(AND(H134>=1962,H134<1967),VLOOKUP(I134,Feuil1!$F$10:$O$24,5),IF(AND(H134>=1967,H134<1972),VLOOKUP(I134,Feuil1!$F$10:$O$24,4),IF(AND(H134>=1972,H134<1977),VLOOKUP(I134,Feuil1!$F$10:$O$24,3),IF(AND(H134>=1977,H134<1982),VLOOKUP(I134,Feuil1!$F$10:$O$24,2),VLOOKUP(I134,Feuil1!$F$10:$O$24,2))))))))))","v":{"$error":"#N/A"}},null,{"$f":"T134-HLOOKUP(Y134,Feuil1!$C$1:$BF$9,2,FALSE)","v":{"$error":"#VALUE!"}},{"$f":"T134-HLOOKUP(Y134,Feuil1!$C$1:$BF$9,3,FALSE)","v":{"$error":"#VALUE!"}},{"$f":"T134-HLOOKUP(Y134,Feuil1!$C$1:$BF$9,4,FALSE)","v":{"$error":"#VALUE!"}},{"$f":"T134-HLOOKUP(Y134,Feuil1!$C$1:$BF$9,5,FALSE)","v":{"$error":"#VALUE!"}},{"$f":"T134-HLOOKUP(Y134,Feuil1!$C$1:$BF$9,6,FALSE)","v":{"$error":"#VALUE!"}},{"$f":"T134-HLOOKUP(Y134,Feuil1!$C$1:$BF$9,7,FALSE)","v":{"$error":"#VALUE!"}},{"$f":"T134-HLOOKUP(Y134,Feuil1!$C$1:$BF$9,8,FALSE)","v":{"$error":"#VALUE!"}},{"$f":"T134-HLOOKUP(Y134,Feuil1!$C$1:$BF$9,9,FALSE)","v":{"$error":"#VALUE!"}},null,null,null,null,null,null,null,{"$error":"#VALUE!"},2016,null,{"$f":"IF(AQ134,VLOOKUP(AQ134,HOM!$AR$551:$AS$606,2))","v":3.5710000000000002}]
[null,null,null,null,null,null,null,null,null,null,null,null,null,null,null,null,null,null,null,null,null,null,null,null,{"$f":"IF(AND(H135<1936),VLOOKUP(I135,Feuil1!$F$10:$O$24,9),IF(AND(H135>=1942,H135<1947),VLOOKUP(I135,Feuil1!$F$10:$O$24,9),IF(AND(H135>=1947,H135<1952),VLOOKUP(I135,Feuil1!$F$10:$O$24,8),IF(AND(H135>=1952,H135<1957),VLOOKUP(I135,Feuil1!$F$10:$O$24,7),IF(AND(H135>=1957,H135<1962),VLOOKUP(I135,Feuil1!$F$10:$O$24,6),IF(AND(H135>=1962,H135<1967),VLOOKUP(I135,Feuil1!$F$10:$O$24,5),IF(AND(H135>=1967,H135<1972),VLOOKUP(I135,Feuil1!$F$10:$O$24,4),IF(AND(H135>=1972,H135<1977),VLOOKUP(I135,Feuil1!$F$10:$O$24,3),IF(AND(H135>=1977,H135<1982),VLOOKUP(I135,Feuil1!$F$10:$O$24,2),VLOOKUP(I135,Feuil1!$F$10:$O$24,2))))))))))","v":{"$error":"#N/A"}},null,null,null,null,null,null,null,null,null,null,null,null,null,null,null,null,{"$f":"IF(AH135>=0,$AH$4,IF(AG135>=0,$AG$4,IF(AF135>=0,$AF$4,IF(AE135>=0,$AE$4,IF(AD135>=0,$AD$4,IF(AC135>=0,$AC$4,IF(AB135>=0,$AB$4,IF(AA135>=0,$AA$4,$AI$4))))))))","v":"OLY +"},2016,null,{"$f":"IF(AQ135,VLOOKUP(AQ135,HOM!$AR$551:$AS$606,2))","v":3.5710000000000002}]
[null,null,null,null,null,null,null,null,null,null,null,null,null,null,null,null,null,null,null,null,null,null,null,null,{"$f":"IF(AND(H136<1936),VLOOKUP(I136,Feuil1!$F$10:$O$24,9),IF(AND(H136>=1942,H136<1947),VLOOKUP(I136,Feuil1!$F$10:$O$24,9),IF(AND(H136>=1947,H136<1952),VLOOKUP(I136,Feuil1!$F$10:$O$24,8),IF(AND(H136>=1952,H136<1957),VLOOKUP(I136,Feuil1!$F$10:$O$24,7),IF(AND(H136>=1957,H136<1962),VLOOKUP(I136,Feuil1!$F$10:$O$24,6),IF(AND(H136>=1962,H136<1967),VLOOKUP(I136,Feuil1!$F$10:$O$24,5),IF(AND(H136>=1967,H136<1972),VLOOKUP(I136,Feuil1!$F$10:$O$24,4),IF(AND(H136>=1972,H136<1977),VLOOKUP(I136,Feuil1!$F$10:$O$24,3),IF(AND(H136>=1977,H136<1982),VLOOKUP(I136,Feuil1!$F$10:$O$24,2),VLOOKUP(I136,Feuil1!$F$10:$O$24,2))))))))))","v":{"$error":"#N/A"}},null,null,null,null,null,null,null,null,null,null,null,null,null,null,null,null,"OLY +",2016,null,{"$f":"IF(AQ136,VLOOKUP(AQ136,HOM!$AR$551:$AS$606,2))","v":3.5710000000000002}]
[null,null,null,null,null,null,null,null,null,null,null,null,null,null,null,null,null,null,null,null,null,null,null,null,{"$f":"IF(AND(H137<1936),VLOOKUP(I137,Feuil1!$F$10:$O$24,9),IF(AND(H137>=1942,H137<1947),VLOOKUP(I137,Feuil1!$F$10:$O$24,9),IF(AND(H137>=1947,H137<1952),VLOOKUP(I137,Feuil1!$F$10:$O$24,8),IF(AND(H137>=1952,H137<1957),VLOOKUP(I137,Feuil1!$F$10:$O$24,7),IF(AND(H137>=1957,H137<1962),VLOOKUP(I137,Feuil1!$F$10:$O$24,6),IF(AND(H137>=1962,H137<1967),VLOOKUP(I137,Feuil1!$F$10:$O$24,5),IF(AND(H137>=1967,H137<1972),VLOOKUP(I137,Feuil1!$F$10:$O$24,4),IF(AND(H137>=1972,H137<1977),VLOOKUP(I137,Feuil1!$F$10:$O$24,3),IF(AND(H137>=1977,H137<1982),VLOOKUP(I137,Feuil1!$F$10:$O$24,2),VLOOKUP(I137,Feuil1!$F$10:$O$24,2))))))))))","v":{"$error":"#N/A"}},null,null,null,null,null,null,null,null,null,null,null,null,null,null,null,null,"OLY +",2016,null,{"$f":"IF(AQ137,VLOOKUP(AQ137,HOM!$AR$551:$AS$606,2))","v":3.5710000000000002}]
[null,null,null,null,null,null,null,null,null,null,null,null,null,null,null,null,null,null,null,null,null,null,null,null,{"$f":"IF(AND(H138<1936),VLOOKUP(I138,Feuil1!$F$10:$O$24,9),IF(AND(H138>=1942,H138<1947),VLOOKUP(I138,Feuil1!$F$10:$O$24,9),IF(AND(H138>=1947,H138<1952),VLOOKUP(I138,Feuil1!$F$10:$O$24,8),IF(AND(H138>=1952,H138<1957),VLOOKUP(I138,Feuil1!$F$10:$O$24,7),IF(AND(H138>=1957,H138<1962),VLOOKUP(I138,Feuil1!$F$10:$O$24,6),IF(AND(H138>=1962,H138<1967),VLOOKUP(I138,Feuil1!$F$10:$O$24,5),IF(AND(H138>=1967,H138<1972),VLOOKUP(I138,Feuil1!$F$10:$O$24,4),IF(AND(H138>=1972,H138<1977),VLOOKUP(I138,Feuil1!$F$10:$O$24,3),IF(AND(H138>=1977,H138<1982),VLOOKUP(I138,Feuil1!$F$10:$O$24,2),VLOOKUP(I138,Feuil1!$F$10:$O$24,2))))))))))","v":{"$error":"#N/A"}},null,null,null,null,null,null,null,null,null,null,null,null,null,null,null,null,"OLY +",2016,null,{"$f":"IF(AQ138,VLOOKUP(AQ138,HOM!$AR$551:$AS$606,2))","v":3.5710000000000002}]
[null,null,null,null,null,null,null,null,null,null,null,null,null,null,null,null,null,null,null,null,null,null,null,null,{"$f":"IF(AND(H139<1936),VLOOKUP(I139,Feuil1!$F$10:$O$24,9),IF(AND(H139>=1942,H139<1947),VLOOKUP(I139,Feuil1!$F$10:$O$24,9),IF(AND(H139>=1947,H139<1952),VLOOKUP(I139,Feuil1!$F$10:$O$24,8),IF(AND(H139>=1952,H139<1957),VLOOKUP(I139,Feuil1!$F$10:$O$24,7),IF(AND(H139>=1957,H139<1962),VLOOKUP(I139,Feuil1!$F$10:$O$24,6),IF(AND(H139>=1962,H139<1967),VLOOKUP(I139,Feuil1!$F$10:$O$24,5),IF(AND(H139>=1967,H139<1972),VLOOKUP(I139,Feuil1!$F$10:$O$24,4),IF(AND(H139>=1972,H139<1977),VLOOKUP(I139,Feuil1!$F$10:$O$24,3),IF(AND(H139>=1977,H139<1982),VLOOKUP(I139,Feuil1!$F$10:$O$24,2),VLOOKUP(I139,Feuil1!$F$10:$O$24,2))))))))))","v":{"$error":"#N/A"}},null,null,null,null,null,null,null,null,null,null,null,null,null,null,null,null,"OLY +",2016,null,{"$f":"IF(AQ139,VLOOKUP(AQ139,HOM!$AR$551:$AS$606,2))","v":3.5710000000000002}]
[null,null,null,null,null,null,null,null,null,null,null,null,null,null,null,null,null,null,null,null,null,null,null,null,{"$f":"IF(AND(H140<1936),VLOOKUP(I140,Feuil1!$F$10:$O$24,9),IF(AND(H140>=1942,H140<1947),VLOOKUP(I140,Feuil1!$F$10:$O$24,9),IF(AND(H140>=1947,H140<1952),VLOOKUP(I140,Feuil1!$F$10:$O$24,8),IF(AND(H140>=1952,H140<1957),VLOOKUP(I140,Feuil1!$F$10:$O$24,7),IF(AND(H140>=1957,H140<1962),VLOOKUP(I140,Feuil1!$F$10:$O$24,6),IF(AND(H140>=1962,H140<1967),VLOOKUP(I140,Feuil1!$F$10:$O$24,5),IF(AND(H140>=1967,H140<1972),VLOOKUP(I140,Feuil1!$F$10:$O$24,4),IF(AND(H140>=1972,H140<1977),VLOOKUP(I140,Feuil1!$F$10:$O$24,3),IF(AND(H140>=1977,H140<1982),VLOOKUP(I140,Feuil1!$F$10:$O$24,2),VLOOKUP(I140,Feuil1!$F$10:$O$24,2))))))))))","v":{"$error":"#N/A"}},null,null,null,null,null,null,null,null,null,null,null,null,null,null,null,null,"OLY +",2016,null,{"$f":"IF(AQ140,VLOOKUP(AQ140,HOM!$AR$551:$AS$606,2))","v":3.5710000000000002}]
[null,null,null,null,null,null,null,null,null,null,null,null,null,null,null,null,null,null,null,null,null,null,null,null,{"$f":"IF(AND(H141<1936),VLOOKUP(I141,Feuil1!$F$10:$O$24,9),IF(AND(H141>=1942,H141<1947),VLOOKUP(I141,Feuil1!$F$10:$O$24,9),IF(AND(H141>=1947,H141<1952),VLOOKUP(I141,Feuil1!$F$10:$O$24,8),IF(AND(H141>=1952,H141<1957),VLOOKUP(I141,Feuil1!$F$10:$O$24,7),IF(AND(H141>=1957,H141<1962),VLOOKUP(I141,Feuil1!$F$10:$O$24,6),IF(AND(H141>=1962,H141<1967),VLOOKUP(I141,Feuil1!$F$10:$O$24,5),IF(AND(H141>=1967,H141<1972),VLOOKUP(I141,Feuil1!$F$10:$O$24,4),IF(AND(H141>=1972,H141<1977),VLOOKUP(I141,Feuil1!$F$10:$O$24,3),IF(AND(H141>=1977,H141<1982),VLOOKUP(I141,Feuil1!$F$10:$O$24,2),VLOOKUP(I141,Feuil1!$F$10:$O$24,2))))))))))","v":{"$error":"#N/A"}},null,null,null,null,null,null,null,null,null,null,null,null,null,null,null,null,"OLY +",2016,null,{"$f":"IF(AQ141,VLOOKUP(AQ141,HOM!$AR$551:$AS$606,2))","v":3.5710000000000002}]
[null,null,null,null,null,null,null,null,null,null,null,null,null,null,null,null,null,null,null,null,null,null,null,null,{"$f":"IF(AND(H142<1936),VLOOKUP(I142,Feuil1!$F$10:$O$24,9),IF(AND(H142>=1942,H142<1947),VLOOKUP(I142,Feuil1!$F$10:$O$24,9),IF(AND(H142>=1947,H142<1952),VLOOKUP(I142,Feuil1!$F$10:$O$24,8),IF(AND(H142>=1952,H142<1957),VLOOKUP(I142,Feuil1!$F$10:$O$24,7),IF(AND(H142>=1957,H142<1962),VLOOKUP(I142,Feuil1!$F$10:$O$24,6),IF(AND(H142>=1962,H142<1967),VLOOKUP(I142,Feuil1!$F$10:$O$24,5),IF(AND(H142>=1967,H142<1972),VLOOKUP(I142,Feuil1!$F$10:$O$24,4),IF(AND(H142>=1972,H142<1977),VLOOKUP(I142,Feuil1!$F$10:$O$24,3),IF(AND(H142>=1977,H142<1982),VLOOKUP(I142,Feuil1!$F$10:$O$24,2),VLOOKUP(I142,Feuil1!$F$10:$O$24,2))))))))))","v":{"$error":"#N/A"}},null,null,null,null,null,null,null,null,null,null,null,null,null,null,null,null,"OLY +",2016,null,{"$f":"IF(AQ142,VLOOKUP(AQ142,HOM!$AR$551:$AS$606,2))","v":3.5710000000000002}]
[null,null,null,null,null,null,null,null,null,null,null,null,null,null,null,null,null,null,null,null,null,null,null,null,{"$f":"IF(AND(H143<1936),VLOOKUP(I143,Feuil1!$F$10:$O$24,9),IF(AND(H143>=1942,H143<1947),VLOOKUP(I143,Feuil1!$F$10:$O$24,9),IF(AND(H143>=1947,H143<1952),VLOOKUP(I143,Feuil1!$F$10:$O$24,8),IF(AND(H143>=1952,H143<1957),VLOOKUP(I143,Feuil1!$F$10:$O$24,7),IF(AND(H143>=1957,H143<1962),VLOOKUP(I143,Feuil1!$F$10:$O$24,6),IF(AND(H143>=1962,H143<1967),VLOOKUP(I143,Feuil1!$F$10:$O$24,5),IF(AND(H143>=1967,H143<1972),VLOOKUP(I143,Feuil1!$F$10:$O$24,4),IF(AND(H143>=1972,H143<1977),VLOOKUP(I143,Feuil1!$F$10:$O$24,3),IF(AND(H143>=1977,H143<1982),VLOOKUP(I143,Feuil1!$F$10:$O$24,2),VLOOKUP(I143,Feuil1!$F$10:$O$24,2))))))))))","v":{"$error":"#N/A"}},null,null,null,null,null,null,null,null,null,null,null,null,null,null,null,null,"OLY +",2016,null,{"$f":"IF(AQ143,VLOOKUP(AQ143,HOM!$AR$551:$AS$606,2))","v":3.5710000000000002}]
[null,null,null,null,null,null,null,null,null,null,null,null,null,null,null,null,null,null,null,null,null,null,null,null,{"$f":"IF(AND(H144<1936),VLOOKUP(I144,Feuil1!$F$10:$O$24,9),IF(AND(H144>=1942,H144<1947),VLOOKUP(I144,Feuil1!$F$10:$O$24,9),IF(AND(H144>=1947,H144<1952),VLOOKUP(I144,Feuil1!$F$10:$O$24,8),IF(AND(H144>=1952,H144<1957),VLOOKUP(I144,Feuil1!$F$10:$O$24,7),IF(AND(H144>=1957,H144<1962),VLOOKUP(I144,Feuil1!$F$10:$O$24,6),IF(AND(H144>=1962,H144<1967),VLOOKUP(I144,Feuil1!$F$10:$O$24,5),IF(AND(H144>=1967,H144<1972),VLOOKUP(I144,Feuil1!$F$10:$O$24,4),IF(AND(H144>=1972,H144<1977),VLOOKUP(I144,Feuil1!$F$10:$O$24,3),IF(AND(H144>=1977,H144<1982),VLOOKUP(I144,Feuil1!$F$10:$O$24,2),VLOOKUP(I144,Feuil1!$F$10:$O$24,2))))))))))","v":{"$error":"#N/A"}},null,null,null,null,null,null,null,null,null,null,null,null,null,null,null,null,"OLY +",2016,null,{"$f":"IF(AQ144,VLOOKUP(AQ144,HOM!$AR$551:$AS$606,2))","v":3.5710000000000002}]
[null,null,null,null,null,null,null,null," ",null,null,null,null,null,null,null,null,null,null,null,null,null,null,null,{"$f":"IF(AND(H145<1936),VLOOKUP(I145,Feuil1!$F$10:$O$24,9),IF(AND(H145>=1942,H145<1947),VLOOKUP(I145,Feuil1!$F$10:$O$24,9),IF(AND(H145>=1947,H145<1952),VLOOKUP(I145,Feuil1!$F$10:$O$24,8),IF(AND(H145>=1952,H145<1957),VLOOKUP(I145,Feuil1!$F$10:$O$24,7),IF(AND(H145>=1957,H145<1962),VLOOKUP(I145,Feuil1!$F$10:$O$24,6),IF(AND(H145>=1962,H145<1967),VLOOKUP(I145,Feuil1!$F$10:$O$24,5),IF(AND(H145>=1967,H145<1972),VLOOKUP(I145,Feuil1!$F$10:$O$24,4),IF(AND(H145>=1972,H145<1977),VLOOKUP(I145,Feuil1!$F$10:$O$24,3),IF(AND(H145>=1977,H145<1982),VLOOKUP(I145,Feuil1!$F$10:$O$24,2),VLOOKUP(I145,Feuil1!$F$10:$O$24,2))))))))))","v":{"$error":"#N/A"}},null,null,null,null,null,null,null,null,null,null,null,null,null,null,null,null,"OLY +",2016,null,{"$f":"IF(AQ145,VLOOKUP(AQ145,HOM!$AR$551:$AS$606,2))","v":3.5710000000000002}]
[null,null,null,null,null,null,null,null,null,null,null,null,null,null,null,null,null,null,null,null,null,null,null,null,{"$f":"IF(AND(H146<1936),VLOOKUP(I146,Feuil1!$F$10:$O$24,9),IF(AND(H146>=1942,H146<1947),VLOOKUP(I146,Feuil1!$F$10:$O$24,9),IF(AND(H146>=1947,H146<1952),VLOOKUP(I146,Feuil1!$F$10:$O$24,8),IF(AND(H146>=1952,H146<1957),VLOOKUP(I146,Feuil1!$F$10:$O$24,7),IF(AND(H146>=1957,H146<1962),VLOOKUP(I146,Feuil1!$F$10:$O$24,6),IF(AND(H146>=1962,H146<1967),VLOOKUP(I146,Feuil1!$F$10:$O$24,5),IF(AND(H146>=1967,H146<1972),VLOOKUP(I146,Feuil1!$F$10:$O$24,4),IF(AND(H146>=1972,H146<1977),VLOOKUP(I146,Feuil1!$F$10:$O$24,3),IF(AND(H146>=1977,H146<1982),VLOOKUP(I146,Feuil1!$F$10:$O$24,2),VLOOKUP(I146,Feuil1!$F$10:$O$24,2))))))))))","v":{"$error":"#N/A"}},null,null,null,null,null,null,null,null,null,null,null,null,null,null,null,null,"OLY +",2016,null,{"$f":"IF(AQ146,VLOOKUP(AQ146,HOM!$AR$551:$AS$606,2))","v":3.5710000000000002}]
[null,null,null,null,null,null,null,null,null,null,null,null,null,null,null,null,null,null,null,null,null,null,null,null,{"$f":"IF(AND(H147<1936),VLOOKUP(I147,Feuil1!$F$10:$O$24,9),IF(AND(H147>=1942,H147<1947),VLOOKUP(I147,Feuil1!$F$10:$O$24,9),IF(AND(H147>=1947,H147<1952),VLOOKUP(I147,Feuil1!$F$10:$O$24,8),IF(AND(H147>=1952,H147<1957),VLOOKUP(I147,Feuil1!$F$10:$O$24,7),IF(AND(H147>=1957,H147<1962),VLOOKUP(I147,Feuil1!$F$10:$O$24,6),IF(AND(H147>=1962,H147<1967),VLOOKUP(I147,Feuil1!$F$10:$O$24,5),IF(AND(H147>=1967,H147<1972),VLOOKUP(I147,Feuil1!$F$10:$O$24,4),IF(AND(H147>=1972,H147<1977),VLOOKUP(I147,Feuil1!$F$10:$O$24,3),IF(AND(H147>=1977,H147<1982),VLOOKUP(I147,Feuil1!$F$10:$O$24,2),VLOOKUP(I147,Feuil1!$F$10:$O$24,2))))))))))","v":{"$error":"#N/A"}},null,null,null,null,null,null,null,null,null,null,null,null,null,null,null,null,"OLY +",2016,null,{"$f":"IF(AQ147,VLOOKUP(AQ147,HOM!$AR$551:$AS$606,2))","v":3.5710000000000002}]
[null,null,null,null,null,null,null,null,null,null,null,null,null,null,null,null,null,null,null,null,null,null,null,null,{"$f":"IF(AND(H148<1936),VLOOKUP(I148,Feuil1!$F$10:$O$24,9),IF(AND(H148>=1942,H148<1947),VLOOKUP(I148,Feuil1!$F$10:$O$24,9),IF(AND(H148>=1947,H148<1952),VLOOKUP(I148,Feuil1!$F$10:$O$24,8),IF(AND(H148>=1952,H148<1957),VLOOKUP(I148,Feuil1!$F$10:$O$24,7),IF(AND(H148>=1957,H148<1962),VLOOKUP(I148,Feuil1!$F$10:$O$24,6),IF(AND(H148>=1962,H148<1967),VLOOKUP(I148,Feuil1!$F$10:$O$24,5),IF(AND(H148>=1967,H148<1972),VLOOKUP(I148,Feuil1!$F$10:$O$24,4),IF(AND(H148>=1972,H148<1977),VLOOKUP(I148,Feuil1!$F$10:$O$24,3),IF(AND(H148>=1977,H148<1982),VLOOKUP(I148,Feuil1!$F$10:$O$24,2),VLOOKUP(I148,Feuil1!$F$10:$O$24,2))))))))))","v":{"$error":"#N/A"}},null,null,null,null,null,null,null,null,null,null,null,null,null,null,null,null,"OLY +",2016,null,{"$f":"IF(AQ148,VLOOKUP(AQ148,HOM!$AR$551:$AS$606,2))","v":3.5710000000000002}]
[null,null,null,null,null,null,null,null,null,null,null,null,null,null,null,null,null,null,null,null,null,null,null,null,{"$f":"IF(AND(H149<1936),VLOOKUP(I149,Feuil1!$F$10:$O$24,9),IF(AND(H149>=1942,H149<1947),VLOOKUP(I149,Feuil1!$F$10:$O$24,9),IF(AND(H149>=1947,H149<1952),VLOOKUP(I149,Feuil1!$F$10:$O$24,8),IF(AND(H149>=1952,H149<1957),VLOOKUP(I149,Feuil1!$F$10:$O$24,7),IF(AND(H149>=1957,H149<1962),VLOOKUP(I149,Feuil1!$F$10:$O$24,6),IF(AND(H149>=1962,H149<1967),VLOOKUP(I149,Feuil1!$F$10:$O$24,5),IF(AND(H149>=1967,H149<1972),VLOOKUP(I149,Feuil1!$F$10:$O$24,4),IF(AND(H149>=1972,H149<1977),VLOOKUP(I149,Feuil1!$F$10:$O$24,3),IF(AND(H149>=1977,H149<1982),VLOOKUP(I149,Feuil1!$F$10:$O$24,2),VLOOKUP(I149,Feuil1!$F$10:$O$24,2))))))))))","v":{"$error":"#N/A"}},null,null,null,null,null,null,null,null,null,null,null,null,null,null,null,null,"OLY +",2016,null,{"$f":"IF(AQ149,VLOOKUP(AQ149,HOM!$AR$551:$AS$606,2))","v":3.5710000000000002}]
[null,null,null,null,null,null,null,null,null,null,null,null,null,null,null,null,null,null,null,null,null,null,null,null,{"$f":"IF(AND(H150<1936),VLOOKUP(I150,Feuil1!$F$10:$O$24,9),IF(AND(H150>=1942,H150<1947),VLOOKUP(I150,Feuil1!$F$10:$O$24,9),IF(AND(H150>=1947,H150<1952),VLOOKUP(I150,Feuil1!$F$10:$O$24,8),IF(AND(H150>=1952,H150<1957),VLOOKUP(I150,Feuil1!$F$10:$O$24,7),IF(AND(H150>=1957,H150<1962),VLOOKUP(I150,Feuil1!$F$10:$O$24,6),IF(AND(H150>=1962,H150<1967),VLOOKUP(I150,Feuil1!$F$10:$O$24,5),IF(AND(H150>=1967,H150<1972),VLOOKUP(I150,Feuil1!$F$10:$O$24,4),IF(AND(H150>=1972,H150<1977),VLOOKUP(I150,Feuil1!$F$10:$O$24,3),IF(AND(H150>=1977,H150<1982),VLOOKUP(I150,Feuil1!$F$10:$O$24,2),VLOOKUP(I150,Feuil1!$F$10:$O$24,2))))))))))","v":{"$error":"#N/A"}},null,null,null,null,null,null,null,null,null,null,null,null,null,null,null,null,"OLY +",2016,null,{"$f":"IF(AQ150,VLOOKUP(AQ150,HOM!$AR$551:$AS$606,2))","v":3.5710000000000002}]
[null,null,null,null,null,null,null,null,null,null,null,null,null,null,null,null,null,null,null,null,null,null,null,null,{"$f":"IF(AND(H151<1936),VLOOKUP(I151,Feuil1!$F$10:$O$24,9),IF(AND(H151>=1942,H151<1947),VLOOKUP(I151,Feuil1!$F$10:$O$24,9),IF(AND(H151>=1947,H151<1952),VLOOKUP(I151,Feuil1!$F$10:$O$24,8),IF(AND(H151>=1952,H151<1957),VLOOKUP(I151,Feuil1!$F$10:$O$24,7),IF(AND(H151>=1957,H151<1962),VLOOKUP(I151,Feuil1!$F$10:$O$24,6),IF(AND(H151>=1962,H151<1967),VLOOKUP(I151,Feuil1!$F$10:$O$24,5),IF(AND(H151>=1967,H151<1972),VLOOKUP(I151,Feuil1!$F$10:$O$24,4),IF(AND(H151>=1972,H151<1977),VLOOKUP(I151,Feuil1!$F$10:$O$24,3),IF(AND(H151>=1977,H151<1982),VLOOKUP(I151,Feuil1!$F$10:$O$24,2),VLOOKUP(I151,Feuil1!$F$10:$O$24,2))))))))))","v":{"$error":"#N/A"}},null,null,null,null,null,null,null,null,null,null,null,null,null,null,null,null,"OLY +",2016,null,{"$f":"IF(AQ151,VLOOKUP(AQ151,HOM!$AR$551:$AS$606,2))","v":3.5710000000000002}]
[null,null,null,null,null,null,null,null,null,null,null,null,null,null,null,null,null,null,null,null,null,null,null,null,{"$f":"IF(AND(H152<1936),VLOOKUP(I152,Feuil1!$F$10:$O$24,9),IF(AND(H152>=1942,H152<1947),VLOOKUP(I152,Feuil1!$F$10:$O$24,9),IF(AND(H152>=1947,H152<1952),VLOOKUP(I152,Feuil1!$F$10:$O$24,8),IF(AND(H152>=1952,H152<1957),VLOOKUP(I152,Feuil1!$F$10:$O$24,7),IF(AND(H152>=1957,H152<1962),VLOOKUP(I152,Feuil1!$F$10:$O$24,6),IF(AND(H152>=1962,H152<1967),VLOOKUP(I152,Feuil1!$F$10:$O$24,5),IF(AND(H152>=1967,H152<1972),VLOOKUP(I152,Feuil1!$F$10:$O$24,4),IF(AND(H152>=1972,H152<1977),VLOOKUP(I152,Feuil1!$F$10:$O$24,3),IF(AND(H152>=1977,H152<1982),VLOOKUP(I152,Feuil1!$F$10:$O$24,2),VLOOKUP(I152,Feuil1!$F$10:$O$24,2))))))))))","v":{"$error":"#N/A"}},null,null,null,null,null,null,null,null,null,null,null,null,null,null,null,null,"OLY +",2016,null,{"$f":"IF(AQ152,VLOOKUP(AQ152,HOM!$AR$551:$AS$606,2))","v":3.5710000000000002}]
[null,null,null,null,null,null,null,null,null,null,null,null,null,null,null,null,null,null,null,null,null,null,null,null,{"$f":"IF(AND(H153<1936),VLOOKUP(I153,Feuil1!$F$10:$O$24,9),IF(AND(H153>=1942,H153<1947),VLOOKUP(I153,Feuil1!$F$10:$O$24,9),IF(AND(H153>=1947,H153<1952),VLOOKUP(I153,Feuil1!$F$10:$O$24,8),IF(AND(H153>=1952,H153<1957),VLOOKUP(I153,Feuil1!$F$10:$O$24,7),IF(AND(H153>=1957,H153<1962),VLOOKUP(I153,Feuil1!$F$10:$O$24,6),IF(AND(H153>=1962,H153<1967),VLOOKUP(I153,Feuil1!$F$10:$O$24,5),IF(AND(H153>=1967,H153<1972),VLOOKUP(I153,Feuil1!$F$10:$O$24,4),IF(AND(H153>=1972,H153<1977),VLOOKUP(I153,Feuil1!$F$10:$O$24,3),IF(AND(H153>=1977,H153<1982),VLOOKUP(I153,Feuil1!$F$10:$O$24,2),VLOOKUP(I153,Feuil1!$F$10:$O$24,2))))))))))","v":{"$error":"#N/A"}},null,null,null,null,null,null,null,null,null,null,null,null,null,null,null,null,"OLY +",2016,null,{"$f":"IF(AQ153,VLOOKUP(AQ153,HOM!$AR$551:$AS$606,2))","v":3.5710000000000002}]
[null,null,null,null,null,null,null,null,null,null,null,null,null,null,null,null,null,null,null,null,null,null,null,null,{"$f":"IF(AND(H154<1936),VLOOKUP(I154,Feuil1!$F$10:$O$24,9),IF(AND(H154>=1942,H154<1947),VLOOKUP(I154,Feuil1!$F$10:$O$24,9),IF(AND(H154>=1947,H154<1952),VLOOKUP(I154,Feuil1!$F$10:$O$24,8),IF(AND(H154>=1952,H154<1957),VLOOKUP(I154,Feuil1!$F$10:$O$24,7),IF(AND(H154>=1957,H154<1962),VLOOKUP(I154,Feuil1!$F$10:$O$24,6),IF(AND(H154>=1962,H154<1967),VLOOKUP(I154,Feuil1!$F$10:$O$24,5),IF(AND(H154>=1967,H154<1972),VLOOKUP(I154,Feuil1!$F$10:$O$24,4),IF(AND(H154>=1972,H154<1977),VLOOKUP(I154,Feuil1!$F$10:$O$24,3),IF(AND(H154>=1977,H154<1982),VLOOKUP(I154,Feuil1!$F$10:$O$24,2),VLOOKUP(I154,Feuil1!$F$10:$O$24,2))))))))))","v":{"$error":"#N/A"}},null,null,null,null,null,null,null,null,null,null,null,null,null,null,null,null,"OLY +",2016,null,{"$f":"IF(AQ154,VLOOKUP(AQ154,HOM!$AR$551:$AS$606,2))","v":3.5710000000000002}]
[null,null,null,null,null,null,null,null,null,null,null,null,null,null,null,null,null,null,null,null,null,null,null,null,{"$f":"IF(AND(H155<1936),VLOOKUP(I155,Feuil1!$F$10:$O$24,9),IF(AND(H155>=1942,H155<1947),VLOOKUP(I155,Feuil1!$F$10:$O$24,9),IF(AND(H155>=1947,H155<1952),VLOOKUP(I155,Feuil1!$F$10:$O$24,8),IF(AND(H155>=1952,H155<1957),VLOOKUP(I155,Feuil1!$F$10:$O$24,7),IF(AND(H155>=1957,H155<1962),VLOOKUP(I155,Feuil1!$F$10:$O$24,6),IF(AND(H155>=1962,H155<1967),VLOOKUP(I155,Feuil1!$F$10:$O$24,5),IF(AND(H155>=1967,H155<1972),VLOOKUP(I155,Feuil1!$F$10:$O$24,4),IF(AND(H155>=1972,H155<1977),VLOOKUP(I155,Feuil1!$F$10:$O$24,3),IF(AND(H155>=1977,H155<1982),VLOOKUP(I155,Feuil1!$F$10:$O$24,2),VLOOKUP(I155,Feuil1!$F$10:$O$24,2))))))))))","v":{"$error":"#N/A"}},null,null,null,null,null,null,null,null,null,null,null,null,null,null,null,null,"OLY +",2016,null,{"$f":"IF(AQ155,VLOOKUP(AQ155,HOM!$AR$551:$AS$606,2))","v":3.5710000000000002}]
[null,null,null,null,null,null,null,null,null,null,null,null,null,null,null,null,null,null,null,null,null,null,null,null,{"$f":"IF(AND(H156<1936),VLOOKUP(I156,Feuil1!$F$10:$O$24,9),IF(AND(H156>=1942,H156<1947),VLOOKUP(I156,Feuil1!$F$10:$O$24,9),IF(AND(H156>=1947,H156<1952),VLOOKUP(I156,Feuil1!$F$10:$O$24,8),IF(AND(H156>=1952,H156<1957),VLOOKUP(I156,Feuil1!$F$10:$O$24,7),IF(AND(H156>=1957,H156<1962),VLOOKUP(I156,Feuil1!$F$10:$O$24,6),IF(AND(H156>=1962,H156<1967),VLOOKUP(I156,Feuil1!$F$10:$O$24,5),IF(AND(H156>=1967,H156<1972),VLOOKUP(I156,Feuil1!$F$10:$O$24,4),IF(AND(H156>=1972,H156<1977),VLOOKUP(I156,Feuil1!$F$10:$O$24,3),IF(AND(H156>=1977,H156<1982),VLOOKUP(I156,Feuil1!$F$10:$O$24,2),VLOOKUP(I156,Feuil1!$F$10:$O$24,2))))))))))","v":{"$error":"#N/A"}},null,null,null,null,null,null,null,null,null,null,null,null,null,null,null,null,"OLY +",2016,null,{"$f":"IF(AQ156,VLOOKUP(AQ156,HOM!$AR$551:$AS$606,2))","v":3.5710000000000002}]
[null,null,null,null,null,null,null,null,null,null,null,null,null,null,null,null,null,null,null,null,null,null,null,null,{"$f":"IF(AND(H157<1936),VLOOKUP(I157,Feuil1!$F$10:$O$24,9),IF(AND(H157>=1942,H157<1947),VLOOKUP(I157,Feuil1!$F$10:$O$24,9),IF(AND(H157>=1947,H157<1952),VLOOKUP(I157,Feuil1!$F$10:$O$24,8),IF(AND(H157>=1952,H157<1957),VLOOKUP(I157,Feuil1!$F$10:$O$24,7),IF(AND(H157>=1957,H157<1962),VLOOKUP(I157,Feuil1!$F$10:$O$24,6),IF(AND(H157>=1962,H157<1967),VLOOKUP(I157,Feuil1!$F$10:$O$24,5),IF(AND(H157>=1967,H157<1972),VLOOKUP(I157,Feuil1!$F$10:$O$24,4),IF(AND(H157>=1972,H157<1977),VLOOKUP(I157,Feuil1!$F$10:$O$24,3),IF(AND(H157>=1977,H157<1982),VLOOKUP(I157,Feuil1!$F$10:$O$24,2),VLOOKUP(I157,Feuil1!$F$10:$O$24,2))))))))))","v":{"$error":"#N/A"}},null,null,null,null,null,null,null,null,null,null,null,null,null,null,null,null,"OLY +",2016,null,{"$f":"IF(AQ157,VLOOKUP(AQ157,HOM!$AR$551:$AS$606,2))","v":3.5710000000000002}]
[null,null,null,null,null,null,null,null,null,null,null,null,null,null,null,null,null,null,null,null,null,null,null,null,{"$f":"IF(AND(H158<1936),VLOOKUP(I158,Feuil1!$F$10:$O$24,9),IF(AND(H158>=1942,H158<1947),VLOOKUP(I158,Feuil1!$F$10:$O$24,9),IF(AND(H158>=1947,H158<1952),VLOOKUP(I158,Feuil1!$F$10:$O$24,8),IF(AND(H158>=1952,H158<1957),VLOOKUP(I158,Feuil1!$F$10:$O$24,7),IF(AND(H158>=1957,H158<1962),VLOOKUP(I158,Feuil1!$F$10:$O$24,6),IF(AND(H158>=1962,H158<1967),VLOOKUP(I158,Feuil1!$F$10:$O$24,5),IF(AND(H158>=1967,H158<1972),VLOOKUP(I158,Feuil1!$F$10:$O$24,4),IF(AND(H158>=1972,H158<1977),VLOOKUP(I158,Feuil1!$F$10:$O$24,3),IF(AND(H158>=1977,H158<1982),VLOOKUP(I158,Feuil1!$F$10:$O$24,2),VLOOKUP(I158,Feuil1!$F$10:$O$24,2))))))))))","v":{"$error":"#N/A"}},null,null,null,null,null,null,null,null,null,null,null,null,null,null,null,null,"OLY +",2016,null,{"$f":"IF(AQ158,VLOOKUP(AQ158,HOM!$AR$551:$AS$606,2))","v":3.5710000000000002}]
[null,null,null,null,null,null,null,null,null,null,null,null,null,null,null,null,null,null,null,null,null,null,null,null,{"$f":"IF(AND(H159<1936),VLOOKUP(I159,Feuil1!$F$10:$O$24,9),IF(AND(H159>=1942,H159<1947),VLOOKUP(I159,Feuil1!$F$10:$O$24,9),IF(AND(H159>=1947,H159<1952),VLOOKUP(I159,Feuil1!$F$10:$O$24,8),IF(AND(H159>=1952,H159<1957),VLOOKUP(I159,Feuil1!$F$10:$O$24,7),IF(AND(H159>=1957,H159<1962),VLOOKUP(I159,Feuil1!$F$10:$O$24,6),IF(AND(H159>=1962,H159<1967),VLOOKUP(I159,Feuil1!$F$10:$O$24,5),IF(AND(H159>=1967,H159<1972),VLOOKUP(I159,Feuil1!$F$10:$O$24,4),IF(AND(H159>=1972,H159<1977),VLOOKUP(I159,Feuil1!$F$10:$O$24,3),IF(AND(H159>=1977,H159<1982),VLOOKUP(I159,Feuil1!$F$10:$O$24,2),VLOOKUP(I159,Feuil1!$F$10:$O$24,2))))))))))","v":{"$error":"#N/A"}},null,null,null,null,null,null,null,null,null,null,null,null,null,null,null,null,"OLY +",2016,null,{"$f":"IF(AQ159,VLOOKUP(AQ159,HOM!$AR$551:$AS$606,2))","v":3.5710000000000002}]
[null,null,null,null,null,null,null,null,null,null,null,null,null,null,null,null,null,null,null,null,null,null,null,null,{"$f":"IF(AND(H160<1936),VLOOKUP(I160,Feuil1!$F$10:$O$24,9),IF(AND(H160>=1942,H160<1947),VLOOKUP(I160,Feuil1!$F$10:$O$24,9),IF(AND(H160>=1947,H160<1952),VLOOKUP(I160,Feuil1!$F$10:$O$24,8),IF(AND(H160>=1952,H160<1957),VLOOKUP(I160,Feuil1!$F$10:$O$24,7),IF(AND(H160>=1957,H160<1962),VLOOKUP(I160,Feuil1!$F$10:$O$24,6),IF(AND(H160>=1962,H160<1967),VLOOKUP(I160,Feuil1!$F$10:$O$24,5),IF(AND(H160>=1967,H160<1972),VLOOKUP(I160,Feuil1!$F$10:$O$24,4),IF(AND(H160>=1972,H160<1977),VLOOKUP(I160,Feuil1!$F$10:$O$24,3),IF(AND(H160>=1977,H160<1982),VLOOKUP(I160,Feuil1!$F$10:$O$24,2),VLOOKUP(I160,Feuil1!$F$10:$O$24,2))))))))))","v":{"$error":"#N/A"}},null,null,null,null,null,null,null,null,null,null,null,null,null,null,null,null,"OLY +",2016,null,{"$f":"IF(AQ160,VLOOKUP(AQ160,HOM!$AR$551:$AS$606,2))","v":3.5710000000000002}]
[null,null,null,null,null,null,null,null,null,null,null,null,null,null,null,null,null,null,null,null,null,null,null,null,{"$f":"IF(AND(H161<1936),VLOOKUP(I161,Feuil1!$F$10:$O$24,9),IF(AND(H161>=1942,H161<1947),VLOOKUP(I161,Feuil1!$F$10:$O$24,9),IF(AND(H161>=1947,H161<1952),VLOOKUP(I161,Feuil1!$F$10:$O$24,8),IF(AND(H161>=1952,H161<1957),VLOOKUP(I161,Feuil1!$F$10:$O$24,7),IF(AND(H161>=1957,H161<1962),VLOOKUP(I161,Feuil1!$F$10:$O$24,6),IF(AND(H161>=1962,H161<1967),VLOOKUP(I161,Feuil1!$F$10:$O$24,5),IF(AND(H161>=1967,H161<1972),VLOOKUP(I161,Feuil1!$F$10:$O$24,4),IF(AND(H161>=1972,H161<1977),VLOOKUP(I161,Feuil1!$F$10:$O$24,3),IF(AND(H161>=1977,H161<1982),VLOOKUP(I161,Feuil1!$F$10:$O$24,2),VLOOKUP(I161,Feuil1!$F$10:$O$24,2))))))))))","v":{"$error":"#N/A"}},null,null,null,null,null,null,null,null,null,null,null,null,null,null,null,null,"OLY +",2016,null,{"$f":"IF(AQ161,VLOOKUP(AQ161,HOM!$AR$551:$AS$606,2))","v":3.5710000000000002}]
[null,null,null,null,null,null,null,null,null,null,null,null,null,null,null,null,null,null,null,null,null,null,null,null,{"$f":"IF(AND(H162<1936),VLOOKUP(I162,Feuil1!$F$10:$O$24,9),IF(AND(H162>=1942,H162<1947),VLOOKUP(I162,Feuil1!$F$10:$O$24,9),IF(AND(H162>=1947,H162<1952),VLOOKUP(I162,Feuil1!$F$10:$O$24,8),IF(AND(H162>=1952,H162<1957),VLOOKUP(I162,Feuil1!$F$10:$O$24,7),IF(AND(H162>=1957,H162<1962),VLOOKUP(I162,Feuil1!$F$10:$O$24,6),IF(AND(H162>=1962,H162<1967),VLOOKUP(I162,Feuil1!$F$10:$O$24,5),IF(AND(H162>=1967,H162<1972),VLOOKUP(I162,Feuil1!$F$10:$O$24,4),IF(AND(H162>=1972,H162<1977),VLOOKUP(I162,Feuil1!$F$10:$O$24,3),IF(AND(H162>=1977,H162<1982),VLOOKUP(I162,Feuil1!$F$10:$O$24,2),VLOOKUP(I162,Feuil1!$F$10:$O$24,2))))))))))","v":{"$error":"#N/A"}},null,null,null,null,null,null,null,null,null,null,null,null,null,null,null,null,"OLY +",2016,null,{"$f":"IF(AQ162,VLOOKUP(AQ162,HOM!$AR$551:$AS$606,2))","v":3.5710000000000002}]
[null,null,null,null,null,null,null,null,null,null,null,null,null,null,null,null,null,null,null,null,null,null,null,null,{"$f":"IF(AND(H163<1936),VLOOKUP(I163,Feuil1!$F$10:$O$24,9),IF(AND(H163>=1942,H163<1947),VLOOKUP(I163,Feuil1!$F$10:$O$24,9),IF(AND(H163>=1947,H163<1952),VLOOKUP(I163,Feuil1!$F$10:$O$24,8),IF(AND(H163>=1952,H163<1957),VLOOKUP(I163,Feuil1!$F$10:$O$24,7),IF(AND(H163>=1957,H163<1962),VLOOKUP(I163,Feuil1!$F$10:$O$24,6),IF(AND(H163>=1962,H163<1967),VLOOKUP(I163,Feuil1!$F$10:$O$24,5),IF(AND(H163>=1967,H163<1972),VLOOKUP(I163,Feuil1!$F$10:$O$24,4),IF(AND(H163>=1972,H163<1977),VLOOKUP(I163,Feuil1!$F$10:$O$24,3),IF(AND(H163>=1977,H163<1982),VLOOKUP(I163,Feuil1!$F$10:$O$24,2),VLOOKUP(I163,Feuil1!$F$10:$O$24,2))))))))))","v":{"$error":"#N/A"}},null,null,null,null,null,null,null,null,null,null,null,null,null,null,null,null,"OLY +",2016,null,{"$f":"IF(AQ163,VLOOKUP(AQ163,HOM!$AR$551:$AS$606,2))","v":3.5710000000000002}]
[null,null,null,null,null,null,null,null,null,null,null,null,null,null,null,null,null,null,null,null,null,null,null,null,{"$f":"IF(AND(H164<1936),VLOOKUP(I164,Feuil1!$F$10:$O$24,9),IF(AND(H164>=1942,H164<1947),VLOOKUP(I164,Feuil1!$F$10:$O$24,9),IF(AND(H164>=1947,H164<1952),VLOOKUP(I164,Feuil1!$F$10:$O$24,8),IF(AND(H164>=1952,H164<1957),VLOOKUP(I164,Feuil1!$F$10:$O$24,7),IF(AND(H164>=1957,H164<1962),VLOOKUP(I164,Feuil1!$F$10:$O$24,6),IF(AND(H164>=1962,H164<1967),VLOOKUP(I164,Feuil1!$F$10:$O$24,5),IF(AND(H164>=1967,H164<1972),VLOOKUP(I164,Feuil1!$F$10:$O$24,4),IF(AND(H164>=1972,H164<1977),VLOOKUP(I164,Feuil1!$F$10:$O$24,3),IF(AND(H164>=1977,H164<1982),VLOOKUP(I164,Feuil1!$F$10:$O$24,2),VLOOKUP(I164,Feuil1!$F$10:$O$24,2))))))))))","v":{"$error":"#N/A"}},null,null,null,null,null,null,null,null,null,null,null,null,null,null,null,null,"OLY +",2016,null,{"$f":"IF(AQ164,VLOOKUP(AQ164,HOM!$AR$551:$AS$606,2))","v":3.5710000000000002}]
[null,null,null,null,null,null,null,null,null,null,null,null,null,null,null,null,null,null,null,null,null,null,null,null,{"$f":"IF(AND(H165<1936),VLOOKUP(I165,Feuil1!$F$10:$O$24,9),IF(AND(H165>=1942,H165<1947),VLOOKUP(I165,Feuil1!$F$10:$O$24,9),IF(AND(H165>=1947,H165<1952),VLOOKUP(I165,Feuil1!$F$10:$O$24,8),IF(AND(H165>=1952,H165<1957),VLOOKUP(I165,Feuil1!$F$10:$O$24,7),IF(AND(H165>=1957,H165<1962),VLOOKUP(I165,Feuil1!$F$10:$O$24,6),IF(AND(H165>=1962,H165<1967),VLOOKUP(I165,Feuil1!$F$10:$O$24,5),IF(AND(H165>=1967,H165<1972),VLOOKUP(I165,Feuil1!$F$10:$O$24,4),IF(AND(H165>=1972,H165<1977),VLOOKUP(I165,Feuil1!$F$10:$O$24,3),IF(AND(H165>=1977,H165<1982),VLOOKUP(I165,Feuil1!$F$10:$O$24,2),VLOOKUP(I165,Feuil1!$F$10:$O$24,2))))))))))","v":{"$error":"#N/A"}},null,null,null,null,null,null,null,null,null,null,null,null,null,null,null,null,"OLY +",2016,null,{"$f":"IF(AQ165,VLOOKUP(AQ165,HOM!$AR$551:$AS$606,2))","v":3.5710000000000002}]
[null,null,null,null,null,null,null,null,null,null,null,null,null,null,null,null,null,null,null,null,null,null,null,null,{"$f":"IF(AND(H166<1936),VLOOKUP(I166,Feuil1!$F$10:$O$24,9),IF(AND(H166>=1942,H166<1947),VLOOKUP(I166,Feuil1!$F$10:$O$24,9),IF(AND(H166>=1947,H166<1952),VLOOKUP(I166,Feuil1!$F$10:$O$24,8),IF(AND(H166>=1952,H166<1957),VLOOKUP(I166,Feuil1!$F$10:$O$24,7),IF(AND(H166>=1957,H166<1962),VLOOKUP(I166,Feuil1!$F$10:$O$24,6),IF(AND(H166>=1962,H166<1967),VLOOKUP(I166,Feuil1!$F$10:$O$24,5),IF(AND(H166>=1967,H166<1972),VLOOKUP(I166,Feuil1!$F$10:$O$24,4),IF(AND(H166>=1972,H166<1977),VLOOKUP(I166,Feuil1!$F$10:$O$24,3),IF(AND(H166>=1977,H166<1982),VLOOKUP(I166,Feuil1!$F$10:$O$24,2),VLOOKUP(I166,Feuil1!$F$10:$O$24,2))))))))))","v":{"$error":"#N/A"}},null,null,null,null,null,null,null,null,null,null,null,null,null,null,null,null,"OLY +",2016,null,{"$f":"IF(AQ166,VLOOKUP(AQ166,HOM!$AR$551:$AS$606,2))","v":3.5710000000000002}]
[null,null,null,null,null,null,null,null,null,null,null,null,null,null,null,null,null,null,null,null,null,null,null,null,{"$f":"IF(AND(H167<1936),VLOOKUP(I167,Feuil1!$F$10:$O$24,9),IF(AND(H167>=1942,H167<1947),VLOOKUP(I167,Feuil1!$F$10:$O$24,9),IF(AND(H167>=1947,H167<1952),VLOOKUP(I167,Feuil1!$F$10:$O$24,8),IF(AND(H167>=1952,H167<1957),VLOOKUP(I167,Feuil1!$F$10:$O$24,7),IF(AND(H167>=1957,H167<1962),VLOOKUP(I167,Feuil1!$F$10:$O$24,6),IF(AND(H167>=1962,H167<1967),VLOOKUP(I167,Feuil1!$F$10:$O$24,5),IF(AND(H167>=1967,H167<1972),VLOOKUP(I167,Feuil1!$F$10:$O$24,4),IF(AND(H167>=1972,H167<1977),VLOOKUP(I167,Feuil1!$F$10:$O$24,3),IF(AND(H167>=1977,H167<1982),VLOOKUP(I167,Feuil1!$F$10:$O$24,2),VLOOKUP(I167,Feuil1!$F$10:$O$24,2))))))))))","v":{"$error":"#N/A"}},null,null,null,null,null,null,null,null,null,null,null,null,null,null,null,null,{"$f":"IF(AH167>=0,$AH$4,IF(AG167>=0,$AG$4,IF(AF167>=0,$AF$4,IF(AE167>=0,$AE$4,IF(AD167>=0,$AD$4,IF(AC167>=0,$AC$4,IF(AB167>=0,$AB$4,IF(AA167>=0,$AA$4,$AI$4))))))))","v":"OLY +"},2016,null,{"$f":"IF(AQ167,VLOOKUP(AQ167,HOM!$AR$551:$AS$606,2))","v":3.5710000000000002}]
[null,null,null,null,null,null,null,null,null,null,null,null,null,null,null,null,null,null,null,null,null,null,null,null,{"$f":"IF(AND(H168<1936),VLOOKUP(I168,Feuil1!$F$10:$O$24,9),IF(AND(H168>=1942,H168<1947),VLOOKUP(I168,Feuil1!$F$10:$O$24,9),IF(AND(H168>=1947,H168<1952),VLOOKUP(I168,Feuil1!$F$10:$O$24,8),IF(AND(H168>=1952,H168<1957),VLOOKUP(I168,Feuil1!$F$10:$O$24,7),IF(AND(H168>=1957,H168<1962),VLOOKUP(I168,Feuil1!$F$10:$O$24,6),IF(AND(H168>=1962,H168<1967),VLOOKUP(I168,Feuil1!$F$10:$O$24,5),IF(AND(H168>=1967,H168<1972),VLOOKUP(I168,Feuil1!$F$10:$O$24,4),IF(AND(H168>=1972,H168<1977),VLOOKUP(I168,Feuil1!$F$10:$O$24,3),IF(AND(H168>=1977,H168<1982),VLOOKUP(I168,Feuil1!$F$10:$O$24,2),VLOOKUP(I168,Feuil1!$F$10:$O$24,2))))))))))","v":{"$error":"#N/A"}},null,null,null,null,null,null,null,null,null,null,null,null,null,null,null,null,"OLY +",2016,null,{"$f":"IF(AQ168,VLOOKUP(AQ168,HOM!$AR$551:$AS$606,2))","v":3.5710000000000002}]
[null,null,null,null,null,null,null,null,null,null,null,null,null,null,null,null,null,null,null,null,null,null,null,null,{"$f":"IF(AND(H169<1936),VLOOKUP(I169,Feuil1!$F$10:$O$24,9),IF(AND(H169>=1942,H169<1947),VLOOKUP(I169,Feuil1!$F$10:$O$24,9),IF(AND(H169>=1947,H169<1952),VLOOKUP(I169,Feuil1!$F$10:$O$24,8),IF(AND(H169>=1952,H169<1957),VLOOKUP(I169,Feuil1!$F$10:$O$24,7),IF(AND(H169>=1957,H169<1962),VLOOKUP(I169,Feuil1!$F$10:$O$24,6),IF(AND(H169>=1962,H169<1967),VLOOKUP(I169,Feuil1!$F$10:$O$24,5),IF(AND(H169>=1967,H169<1972),VLOOKUP(I169,Feuil1!$F$10:$O$24,4),IF(AND(H169>=1972,H169<1977),VLOOKUP(I169,Feuil1!$F$10:$O$24,3),IF(AND(H169>=1977,H169<1982),VLOOKUP(I169,Feuil1!$F$10:$O$24,2),VLOOKUP(I169,Feuil1!$F$10:$O$24,2))))))))))","v":{"$error":"#N/A"}},null,null,null,null,null,null,null,null,null,null,null,null,null,null,null,null,"OLY +",2016,null,{"$f":"IF(AQ169,VLOOKUP(AQ169,HOM!$AR$551:$AS$606,2))","v":3.5710000000000002}]
[null,null,null,null,null,null,null,null,null,null,null,null,null,null,null,null,null,null,null,null,null,null,null,null,{"$f":"IF(AND(H170<1936),VLOOKUP(I170,Feuil1!$F$10:$O$24,9),IF(AND(H170>=1942,H170<1947),VLOOKUP(I170,Feuil1!$F$10:$O$24,9),IF(AND(H170>=1947,H170<1952),VLOOKUP(I170,Feuil1!$F$10:$O$24,8),IF(AND(H170>=1952,H170<1957),VLOOKUP(I170,Feuil1!$F$10:$O$24,7),IF(AND(H170>=1957,H170<1962),VLOOKUP(I170,Feuil1!$F$10:$O$24,6),IF(AND(H170>=1962,H170<1967),VLOOKUP(I170,Feuil1!$F$10:$O$24,5),IF(AND(H170>=1967,H170<1972),VLOOKUP(I170,Feuil1!$F$10:$O$24,4),IF(AND(H170>=1972,H170<1977),VLOOKUP(I170,Feuil1!$F$10:$O$24,3),IF(AND(H170>=1977,H170<1982),VLOOKUP(I170,Feuil1!$F$10:$O$24,2),VLOOKUP(I170,Feuil1!$F$10:$O$24,2))))))))))","v":{"$error":"#N/A"}},null,null,null,null,null,null,null,null,null,null,null,null,null,null,null,null,"OLY +",2016,null,{"$f":"IF(AQ170,VLOOKUP(AQ170,HOM!$AR$551:$AS$606,2))","v":3.5710000000000002}]
[null,null,null,null,null,null,null,null,null,null,null,null,null,null,null,null,null,null,null,null,null,null,null,null,{"$f":"IF(AND(H171<1936),VLOOKUP(I171,Feuil1!$F$10:$O$24,9),IF(AND(H171>=1942,H171<1947),VLOOKUP(I171,Feuil1!$F$10:$O$24,9),IF(AND(H171>=1947,H171<1952),VLOOKUP(I171,Feuil1!$F$10:$O$24,8),IF(AND(H171>=1952,H171<1957),VLOOKUP(I171,Feuil1!$F$10:$O$24,7),IF(AND(H171>=1957,H171<1962),VLOOKUP(I171,Feuil1!$F$10:$O$24,6),IF(AND(H171>=1962,H171<1967),VLOOKUP(I171,Feuil1!$F$10:$O$24,5),IF(AND(H171>=1967,H171<1972),VLOOKUP(I171,Feuil1!$F$10:$O$24,4),IF(AND(H171>=1972,H171<1977),VLOOKUP(I171,Feuil1!$F$10:$O$24,3),IF(AND(H171>=1977,H171<1982),VLOOKUP(I171,Feuil1!$F$10:$O$24,2),VLOOKUP(I171,Feuil1!$F$10:$O$24,2))))))))))","v":{"$error":"#N/A"}},null,null,null,null,null,null,null,null,null,null,null,null,null,null,null,null,"OLY +",2016,null,{"$f":"IF(AQ171,VLOOKUP(AQ171,HOM!$AR$551:$AS$606,2))","v":3.5710000000000002}]
[null,null,null,null,null,null,null,null,null,null,null,null,null,null,null,null,null,null,null,null,null,null,null,null,{"$f":"IF(AND(H172<1936),VLOOKUP(I172,Feuil1!$F$10:$O$24,9),IF(AND(H172>=1942,H172<1947),VLOOKUP(I172,Feuil1!$F$10:$O$24,9),IF(AND(H172>=1947,H172<1952),VLOOKUP(I172,Feuil1!$F$10:$O$24,8),IF(AND(H172>=1952,H172<1957),VLOOKUP(I172,Feuil1!$F$10:$O$24,7),IF(AND(H172>=1957,H172<1962),VLOOKUP(I172,Feuil1!$F$10:$O$24,6),IF(AND(H172>=1962,H172<1967),VLOOKUP(I172,Feuil1!$F$10:$O$24,5),IF(AND(H172>=1967,H172<1972),VLOOKUP(I172,Feuil1!$F$10:$O$24,4),IF(AND(H172>=1972,H172<1977),VLOOKUP(I172,Feuil1!$F$10:$O$24,3),IF(AND(H172>=1977,H172<1982),VLOOKUP(I172,Feuil1!$F$10:$O$24,2),VLOOKUP(I172,Feuil1!$F$10:$O$24,2))))))))))","v":{"$error":"#N/A"}},null,null,null,null,null,null,null,null,null,null,null,null,null,null,null,null,"OLY +",2016,null,{"$f":"IF(AQ172,VLOOKUP(AQ172,HOM!$AR$551:$AS$606,2))","v":3.5710000000000002}]
[null,null,null,null,null,null,null,null,null,null,null,null,null,null,null,null,null,null,null,null,null,null,null,null,{"$f":"IF(AND(H173<1936),VLOOKUP(I173,Feuil1!$F$10:$O$24,9),IF(AND(H173>=1942,H173<1947),VLOOKUP(I173,Feuil1!$F$10:$O$24,9),IF(AND(H173>=1947,H173<1952),VLOOKUP(I173,Feuil1!$F$10:$O$24,8),IF(AND(H173>=1952,H173<1957),VLOOKUP(I173,Feuil1!$F$10:$O$24,7),IF(AND(H173>=1957,H173<1962),VLOOKUP(I173,Feuil1!$F$10:$O$24,6),IF(AND(H173>=1962,H173<1967),VLOOKUP(I173,Feuil1!$F$10:$O$24,5),IF(AND(H173>=1967,H173<1972),VLOOKUP(I173,Feuil1!$F$10:$O$24,4),IF(AND(H173>=1972,H173<1977),VLOOKUP(I173,Feuil1!$F$10:$O$24,3),IF(AND(H173>=1977,H173<1982),VLOOKUP(I173,Feuil1!$F$10:$O$24,2),VLOOKUP(I173,Feuil1!$F$10:$O$24,2))))))))))","v":{"$error":"#N/A"}},null,null,null,null,null,null,null,null,null,null,null,null,null,null,null,null,"OLY +",2016,null,{"$f":"IF(AQ173,VLOOKUP(AQ173,HOM!$AR$551:$AS$606,2))","v":3.5710000000000002}]
[null,null,null,null,null,null,null,null,null,null,null,null,null,null,null,null,null,null,null,null,null,null,null,null,{"$f":"IF(AND(H174<1936),VLOOKUP(I174,Feuil1!$F$10:$O$24,9),IF(AND(H174>=1942,H174<1947),VLOOKUP(I174,Feuil1!$F$10:$O$24,9),IF(AND(H174>=1947,H174<1952),VLOOKUP(I174,Feuil1!$F$10:$O$24,8),IF(AND(H174>=1952,H174<1957),VLOOKUP(I174,Feuil1!$F$10:$O$24,7),IF(AND(H174>=1957,H174<1962),VLOOKUP(I174,Feuil1!$F$10:$O$24,6),IF(AND(H174>=1962,H174<1967),VLOOKUP(I174,Feuil1!$F$10:$O$24,5),IF(AND(H174>=1967,H174<1972),VLOOKUP(I174,Feuil1!$F$10:$O$24,4),IF(AND(H174>=1972,H174<1977),VLOOKUP(I174,Feuil1!$F$10:$O$24,3),IF(AND(H174>=1977,H174<1982),VLOOKUP(I174,Feuil1!$F$10:$O$24,2),VLOOKUP(I174,Feuil1!$F$10:$O$24,2))))))))))","v":{"$error":"#N/A"}},null,null,null,null,null,null,null,null,null,null,null,null,null,null,null,null,"OLY +",2016,null,{"$f":"IF(AQ174,VLOOKUP(AQ174,HOM!$AR$551:$AS$606,2))","v":3.5710000000000002}]
[null,null,null,null,null,null,null,null,null,null,null,null,null,null,null,null,null,null,null,null,null,null,null,null,{"$f":"IF(AND(H175<1936),VLOOKUP(I175,Feuil1!$F$10:$O$24,9),IF(AND(H175>=1942,H175<1947),VLOOKUP(I175,Feuil1!$F$10:$O$24,9),IF(AND(H175>=1947,H175<1952),VLOOKUP(I175,Feuil1!$F$10:$O$24,8),IF(AND(H175>=1952,H175<1957),VLOOKUP(I175,Feuil1!$F$10:$O$24,7),IF(AND(H175>=1957,H175<1962),VLOOKUP(I175,Feuil1!$F$10:$O$24,6),IF(AND(H175>=1962,H175<1967),VLOOKUP(I175,Feuil1!$F$10:$O$24,5),IF(AND(H175>=1967,H175<1972),VLOOKUP(I175,Feuil1!$F$10:$O$24,4),IF(AND(H175>=1972,H175<1977),VLOOKUP(I175,Feuil1!$F$10:$O$24,3),IF(AND(H175>=1977,H175<1982),VLOOKUP(I175,Feuil1!$F$10:$O$24,2),VLOOKUP(I175,Feuil1!$F$10:$O$24,2))))))))))","v":{"$error":"#N/A"}},null,null,null,null,null,null,null,null,null,null,null,null,null,null,null,null,"OLY +",2016,null,{"$f":"IF(AQ175,VLOOKUP(AQ175,HOM!$AR$551:$AS$606,2))","v":3.5710000000000002}]
[null,null,null,null,null,null,null,null,null,null,null,null,null,null,null,null,null,null,null,null,null,null,null,null,{"$f":"IF(AND(H176<1936),VLOOKUP(I176,Feuil1!$F$10:$O$24,9),IF(AND(H176>=1942,H176<1947),VLOOKUP(I176,Feuil1!$F$10:$O$24,9),IF(AND(H176>=1947,H176<1952),VLOOKUP(I176,Feuil1!$F$10:$O$24,8),IF(AND(H176>=1952,H176<1957),VLOOKUP(I176,Feuil1!$F$10:$O$24,7),IF(AND(H176>=1957,H176<1962),VLOOKUP(I176,Feuil1!$F$10:$O$24,6),IF(AND(H176>=1962,H176<1967),VLOOKUP(I176,Feuil1!$F$10:$O$24,5),IF(AND(H176>=1967,H176<1972),VLOOKUP(I176,Feuil1!$F$10:$O$24,4),IF(AND(H176>=1972,H176<1977),VLOOKUP(I176,Feuil1!$F$10:$O$24,3),IF(AND(H176>=1977,H176<1982),VLOOKUP(I176,Feuil1!$F$10:$O$24,2),VLOOKUP(I176,Feuil1!$F$10:$O$24,2))))))))))","v":{"$error":"#N/A"}},null,null,null,null,null,null,null,null,null,null,null,null,null,null,null,null,"OLY +",2016,null,{"$f":"IF(AQ176,VLOOKUP(AQ176,HOM!$AR$551:$AS$606,2))","v":3.5710000000000002}]
[null,null,null,null,null,null,null,null,null,null,null,null,null,null,null,null,null,null,null,null,null,null,null,null,{"$f":"IF(AND(H177<1936),VLOOKUP(I177,Feuil1!$F$10:$O$24,9),IF(AND(H177>=1942,H177<1947),VLOOKUP(I177,Feuil1!$F$10:$O$24,9),IF(AND(H177>=1947,H177<1952),VLOOKUP(I177,Feuil1!$F$10:$O$24,8),IF(AND(H177>=1952,H177<1957),VLOOKUP(I177,Feuil1!$F$10:$O$24,7),IF(AND(H177>=1957,H177<1962),VLOOKUP(I177,Feuil1!$F$10:$O$24,6),IF(AND(H177>=1962,H177<1967),VLOOKUP(I177,Feuil1!$F$10:$O$24,5),IF(AND(H177>=1967,H177<1972),VLOOKUP(I177,Feuil1!$F$10:$O$24,4),IF(AND(H177>=1972,H177<1977),VLOOKUP(I177,Feuil1!$F$10:$O$24,3),IF(AND(H177>=1977,H177<1982),VLOOKUP(I177,Feuil1!$F$10:$O$24,2),VLOOKUP(I177,Feuil1!$F$10:$O$24,2))))))))))","v":{"$error":"#N/A"}},null,null,null,null,null,null,null,null,null,null,null,null,null,null,null,null,"OLY +",2016,null,{"$f":"IF(AQ177,VLOOKUP(AQ177,HOM!$AR$551:$AS$606,2))","v":3.5710000000000002}]
[null,null,null,null,null,null,null,null,null,null,null,null,null,null,null,null,null,null,null,null,null,null,null,null,{"$f":"IF(AND(H178<1936),VLOOKUP(I178,Feuil1!$F$10:$O$24,9),IF(AND(H178>=1942,H178<1947),VLOOKUP(I178,Feuil1!$F$10:$O$24,9),IF(AND(H178>=1947,H178<1952),VLOOKUP(I178,Feuil1!$F$10:$O$24,8),IF(AND(H178>=1952,H178<1957),VLOOKUP(I178,Feuil1!$F$10:$O$24,7),IF(AND(H178>=1957,H178<1962),VLOOKUP(I178,Feuil1!$F$10:$O$24,6),IF(AND(H178>=1962,H178<1967),VLOOKUP(I178,Feuil1!$F$10:$O$24,5),IF(AND(H178>=1967,H178<1972),VLOOKUP(I178,Feuil1!$F$10:$O$24,4),IF(AND(H178>=1972,H178<1977),VLOOKUP(I178,Feuil1!$F$10:$O$24,3),IF(AND(H178>=1977,H178<1982),VLOOKUP(I178,Feuil1!$F$10:$O$24,2),VLOOKUP(I178,Feuil1!$F$10:$O$24,2))))))))))","v":{"$error":"#N/A"}},null,null,null,null,null,null,null,null,null,null,null,null,null,null,null,null,"OLY +",2016,null,{"$f":"IF(AQ178,VLOOKUP(AQ178,HOM!$AR$551:$AS$606,2))","v":3.5710000000000002}]
[null,null,null,null,null,null,null,null,null,null,null,null,null,null,null,null,null,null,null,null,null,null,null,null,{"$f":"IF(AND(H179<1936),VLOOKUP(I179,Feuil1!$F$10:$O$24,9),IF(AND(H179>=1942,H179<1947),VLOOKUP(I179,Feuil1!$F$10:$O$24,9),IF(AND(H179>=1947,H179<1952),VLOOKUP(I179,Feuil1!$F$10:$O$24,8),IF(AND(H179>=1952,H179<1957),VLOOKUP(I179,Feuil1!$F$10:$O$24,7),IF(AND(H179>=1957,H179<1962),VLOOKUP(I179,Feuil1!$F$10:$O$24,6),IF(AND(H179>=1962,H179<1967),VLOOKUP(I179,Feuil1!$F$10:$O$24,5),IF(AND(H179>=1967,H179<1972),VLOOKUP(I179,Feuil1!$F$10:$O$24,4),IF(AND(H179>=1972,H179<1977),VLOOKUP(I179,Feuil1!$F$10:$O$24,3),IF(AND(H179>=1977,H179<1982),VLOOKUP(I179,Feuil1!$F$10:$O$24,2),VLOOKUP(I179,Feuil1!$F$10:$O$24,2))))))))))","v":{"$error":"#N/A"}},null,null,null,null,null,null,null,null,null,null,null,null,null,null,null,null,"OLY +",2016,null,{"$f":"IF(AQ179,VLOOKUP(AQ179,HOM!$AR$551:$AS$606,2))","v":3.5710000000000002}]
[null,null,null,null,null,null,null,null,null,null,null,null,null,null,null,null,null,null,null,null,null,null,null,null,{"$f":"IF(AND(H180<1936),VLOOKUP(I180,Feuil1!$F$10:$O$24,9),IF(AND(H180>=1942,H180<1947),VLOOKUP(I180,Feuil1!$F$10:$O$24,9),IF(AND(H180>=1947,H180<1952),VLOOKUP(I180,Feuil1!$F$10:$O$24,8),IF(AND(H180>=1952,H180<1957),VLOOKUP(I180,Feuil1!$F$10:$O$24,7),IF(AND(H180>=1957,H180<1962),VLOOKUP(I180,Feuil1!$F$10:$O$24,6),IF(AND(H180>=1962,H180<1967),VLOOKUP(I180,Feuil1!$F$10:$O$24,5),IF(AND(H180>=1967,H180<1972),VLOOKUP(I180,Feuil1!$F$10:$O$24,4),IF(AND(H180>=1972,H180<1977),VLOOKUP(I180,Feuil1!$F$10:$O$24,3),IF(AND(H180>=1977,H180<1982),VLOOKUP(I180,Feuil1!$F$10:$O$24,2),VLOOKUP(I180,Feuil1!$F$10:$O$24,2))))))))))","v":{"$error":"#N/A"}},null,null,null,null,null,null,null,null,null,null,null,null,null,null,null,null,"OLY +",2016,null,{"$f":"IF(AQ180,VLOOKUP(AQ180,HOM!$AR$551:$AS$606,2))","v":3.5710000000000002}]
[null,null,null,null,null,null,null,null,null,null,null,null,null,null,null,null,null,null,null,null,null,null,null,null,{"$f":"IF(AND(H181<1936),VLOOKUP(I181,Feuil1!$F$10:$O$24,9),IF(AND(H181>=1942,H181<1947),VLOOKUP(I181,Feuil1!$F$10:$O$24,9),IF(AND(H181>=1947,H181<1952),VLOOKUP(I181,Feuil1!$F$10:$O$24,8),IF(AND(H181>=1952,H181<1957),VLOOKUP(I181,Feuil1!$F$10:$O$24,7),IF(AND(H181>=1957,H181<1962),VLOOKUP(I181,Feuil1!$F$10:$O$24,6),IF(AND(H181>=1962,H181<1967),VLOOKUP(I181,Feuil1!$F$10:$O$24,5),IF(AND(H181>=1967,H181<1972),VLOOKUP(I181,Feuil1!$F$10:$O$24,4),IF(AND(H181>=1972,H181<1977),VLOOKUP(I181,Feuil1!$F$10:$O$24,3),IF(AND(H181>=1977,H181<1982),VLOOKUP(I181,Feuil1!$F$10:$O$24,2),VLOOKUP(I181,Feuil1!$F$10:$O$24,2))))))))))","v":{"$error":"#N/A"}},null,null,null,null,null,null,null,null,null,null,null,null,null,null,null,null,"OLY +",2016,null,{"$f":"IF(AQ181,VLOOKUP(AQ181,HOM!$AR$551:$AS$606,2))","v":3.5710000000000002}]
[null,null,null,null,null,null,null,null,null,null,null,null,null,null,null,null,null,null,null,null,null,null,null,null,{"$f":"IF(AND(H182<1936),VLOOKUP(I182,Feuil1!$F$10:$O$24,9),IF(AND(H182>=1942,H182<1947),VLOOKUP(I182,Feuil1!$F$10:$O$24,9),IF(AND(H182>=1947,H182<1952),VLOOKUP(I182,Feuil1!$F$10:$O$24,8),IF(AND(H182>=1952,H182<1957),VLOOKUP(I182,Feuil1!$F$10:$O$24,7),IF(AND(H182>=1957,H182<1962),VLOOKUP(I182,Feuil1!$F$10:$O$24,6),IF(AND(H182>=1962,H182<1967),VLOOKUP(I182,Feuil1!$F$10:$O$24,5),IF(AND(H182>=1967,H182<1972),VLOOKUP(I182,Feuil1!$F$10:$O$24,4),IF(AND(H182>=1972,H182<1977),VLOOKUP(I182,Feuil1!$F$10:$O$24,3),IF(AND(H182>=1977,H182<1982),VLOOKUP(I182,Feuil1!$F$10:$O$24,2),VLOOKUP(I182,Feuil1!$F$10:$O$24,2))))))))))","v":{"$error":"#N/A"}},null,null,null,null,null,null,null,null,null,null,null,null,null,null,null,null,"OLY +",2016,null,{"$f":"IF(AQ182,VLOOKUP(AQ182,HOM!$AR$551:$AS$606,2))","v":3.5710000000000002}]
[null,null,null,null,null,null,null,null,null,null,null,null,null,null,null,null,null,null,null,null,null,null,null,null,{"$f":"IF(AND(H183<1936),VLOOKUP(I183,Feuil1!$F$10:$O$24,9),IF(AND(H183>=1942,H183<1947),VLOOKUP(I183,Feuil1!$F$10:$O$24,9),IF(AND(H183>=1947,H183<1952),VLOOKUP(I183,Feuil1!$F$10:$O$24,8),IF(AND(H183>=1952,H183<1957),VLOOKUP(I183,Feuil1!$F$10:$O$24,7),IF(AND(H183>=1957,H183<1962),VLOOKUP(I183,Feuil1!$F$10:$O$24,6),IF(AND(H183>=1962,H183<1967),VLOOKUP(I183,Feuil1!$F$10:$O$24,5),IF(AND(H183>=1967,H183<1972),VLOOKUP(I183,Feuil1!$F$10:$O$24,4),IF(AND(H183>=1972,H183<1977),VLOOKUP(I183,Feuil1!$F$10:$O$24,3),IF(AND(H183>=1977,H183<1982),VLOOKUP(I183,Feuil1!$F$10:$O$24,2),VLOOKUP(I183,Feuil1!$F$10:$O$24,2))))))))))","v":{"$error":"#N/A"}},null,null,null,null,null,null,null,null,null,null,null,null,null,null,null,null,"OLY +",2016,null,{"$f":"IF(AQ183,VLOOKUP(AQ183,HOM!$AR$551:$AS$606,2))","v":3.5710000000000002}]
[null,null,null,null,null,null,null,null,null,null,null,null,null,null,null,null,null,null,null,null,null,null,null,null,{"$f":"IF(AND(H184<1936),VLOOKUP(I184,Feuil1!$F$10:$O$24,9),IF(AND(H184>=1942,H184<1947),VLOOKUP(I184,Feuil1!$F$10:$O$24,9),IF(AND(H184>=1947,H184<1952),VLOOKUP(I184,Feuil1!$F$10:$O$24,8),IF(AND(H184>=1952,H184<1957),VLOOKUP(I184,Feuil1!$F$10:$O$24,7),IF(AND(H184>=1957,H184<1962),VLOOKUP(I184,Feuil1!$F$10:$O$24,6),IF(AND(H184>=1962,H184<1967),VLOOKUP(I184,Feuil1!$F$10:$O$24,5),IF(AND(H184>=1967,H184<1972),VLOOKUP(I184,Feuil1!$F$10:$O$24,4),IF(AND(H184>=1972,H184<1977),VLOOKUP(I184,Feuil1!$F$10:$O$24,3),IF(AND(H184>=1977,H184<1982),VLOOKUP(I184,Feuil1!$F$10:$O$24,2),VLOOKUP(I184,Feuil1!$F$10:$O$24,2))))))))))","v":{"$error":"#N/A"}},null,null,null,null,null,null,null,null,null,null,null,null,null,null,null,null,"OLY +",2016,null,{"$f":"IF(AQ184,VLOOKUP(AQ184,HOM!$AR$551:$AS$606,2))","v":3.5710000000000002}]
[null,null,null,null,null,null,null,null,null,null,null,null,null,null,null,null,null,null,null,null,null,null,null,null,{"$f":"IF(AND(H185<1936),VLOOKUP(I185,Feuil1!$F$10:$O$24,9),IF(AND(H185>=1942,H185<1947),VLOOKUP(I185,Feuil1!$F$10:$O$24,9),IF(AND(H185>=1947,H185<1952),VLOOKUP(I185,Feuil1!$F$10:$O$24,8),IF(AND(H185>=1952,H185<1957),VLOOKUP(I185,Feuil1!$F$10:$O$24,7),IF(AND(H185>=1957,H185<1962),VLOOKUP(I185,Feuil1!$F$10:$O$24,6),IF(AND(H185>=1962,H185<1967),VLOOKUP(I185,Feuil1!$F$10:$O$24,5),IF(AND(H185>=1967,H185<1972),VLOOKUP(I185,Feuil1!$F$10:$O$24,4),IF(AND(H185>=1972,H185<1977),VLOOKUP(I185,Feuil1!$F$10:$O$24,3),IF(AND(H185>=1977,H185<1982),VLOOKUP(I185,Feuil1!$F$10:$O$24,2),VLOOKUP(I185,Feuil1!$F$10:$O$24,2))))))))))","v":{"$error":"#N/A"}},null,null,null,null,null,null,null,null,null,null,null,null,null,null,null,null,"OLY +",2016,null,{"$f":"IF(AQ185,VLOOKUP(AQ185,HOM!$AR$551:$AS$606,2))","v":3.5710000000000002}]
[null,null,null,null,null,null,null,null,null,null,null,null,null,null,null,null,null,null,null,null,null,null,null,null,null,null,null,null,null,null,null,null,null,null,null,null,null,null,null,null,null,"OLY +",2016,null,{"$f":"IF(AQ186,VLOOKUP(AQ186,HOM!$AR$551:$AS$606,2))","v":3.5710000000000002}]
[null,null,null,null,null,null,null,null,null,null,null,null,null,null,null,null,null,null,null,null,null,null,null,null,null,null,null,null,null,null,null,null,null,null,null,null,null,null,null,null,null,"OLY +",2016,null,{"$f":"IF(AQ187,VLOOKUP(AQ187,HOM!$AR$551:$AS$606,2))","v":3.5710000000000002}]
[null,null,null,null,null,null,null,null,null,null,null,null,null,null,null,null,null,null,null,null,null,null,null,null,null,null,null,null,null,null,null,null,null,null,null,null,null,null,null,null,null,"OLY +",2016,null,{"$f":"IF(AQ188,VLOOKUP(AQ188,HOM!$AR$551:$AS$606,2))","v":3.5710000000000002}]
[null,null,null,null,null,null,null,null,null,null,null,null,null,null,null,null,null,null,null,null,null,null,null,null,null,null,null,null,null,null,null,null,null,null,null,null,null,null,null,null,null,"OLY +",2016,null,{"$f":"IF(AQ189,VLOOKUP(AQ189,HOM!$AR$551:$AS$606,2))","v":3.5710000000000002}]
[null,null,null,null,null,null,null,null,null,null,null,null,null,null,null,null,null,null,null,null,null,null,null,null,null,null,null,null,null,null,null,null,null,null,null,null,null,null,null,null,null,"OLY +",2016,null,{"$f":"IF(AQ190,VLOOKUP(AQ190,HOM!$AR$551:$AS$606,2))","v":3.5710000000000002}]
[null,null,null,null,null,null,null,null,null,null,null,null,null,null,null,null,null,null,null,null,null,null,null,null,null,null,null,null,null,null,null,null,null,null,null,null,null,null,null,null,null,"OLY +",2016,null,{"$f":"IF(AQ191,VLOOKUP(AQ191,HOM!$AR$551:$AS$606,2))","v":3.5710000000000002}]
[null,null,null,null,null,null,null,null,null,null,null,null,null,null,null,null,null,null,null,null,null,null,null,null,null,null,null,null,null,null,null,null,null,null,null,null,null,null,null,null,null,"OLY +",2016,null,{"$f":"IF(AQ192,VLOOKUP(AQ192,HOM!$AR$551:$AS$606,2))","v":3.5710000000000002}]
[null,null,null,null,null,null,null,null,null,null,null,null,null,null,null,null,null,null,null,null,null,null,null,null,null,null,null,null,null,null,null,null,null,null,null,null,null,null,null,null,null,"OLY +",2016,null,{"$f":"IF(AQ193,VLOOKUP(AQ193,HOM!$AR$551:$AS$606,2))","v":3.5710000000000002}]
[null,null,null,null,null,null,null,null,null,null,null,null,null,null,null,null,null,null,null,null,null,null,null,null,null,null,null,null,null,null,null,null,null,null,null,null,null,null,null,null,null,"OLY +",2016,null,{"$f":"IF(AQ194,VLOOKUP(AQ194,HOM!$AR$551:$AS$606,2))","v":3.5710000000000002}]
[null,null,null,null,null,null,null,null,null,null,null,null,null,null,null,null,null,null,null,null,null,null,null,null,null,null,null,null,null,null,null,null,null,null,null,null,null,null,null,null,null,"OLY +",2016,null,{"$f":"IF(AQ195,VLOOKUP(AQ195,HOM!$AR$551:$AS$606,2))","v":3.5710000000000002}]
[null,null,null,null,null,null,null,null,null,null,null,null,null,null,null,null,null,null,null,null,null,null,null,null,null,null,null,null,null,null,null,null,null,null,null,null,null,null,null,null,null,"OLY +",2016,null,{"$f":"IF(AQ196,VLOOKUP(AQ196,HOM!$AR$551:$AS$606,2))","v":3.5710000000000002}]
[null,null,null,null,null,null,null,null,null,null,null,null,null,null,null,null,null,null,null,null,null,null,null,null,null,null,null,null,null,null,null,null,null,null,null,null,null,null,null,null,null,"OLY +",{"$f":"2016-H197","v":2016},null,{"$f":"IF(AQ197,VLOOKUP(AQ197,HOM!$AR$551:$AS$606,2))","v":3.5710000000000002}]
[null,null,null,null,null,null,null,null,null,null,null,null,null,null,null,null,null,null,null,null,null,null,null,null,null,null,null,null,null,null,null,null,null,null,null,null,null,null,null,null,null,"OLY +",2016,null,{"$f":"IF(AQ198,VLOOKUP(AQ198,HOM!$AR$551:$AS$606,2))","v":3.5710000000000002}]
[null,null,null,null,null,null,null,null,null,null,null,null,null,null,null,null,null,null,null,null,null,null,null,null,null,null,null,null,null,null,null,null,null,null,null,null,null,null,null,null,null,"OLY +",2016,null,{"$f":"IF(AQ199,VLOOKUP(AQ199,HOM!$AR$551:$AS$606,2))","v":3.5710000000000002}]
[null,null,null,null,null,null,null,null,null,null,null,null,null,null,null,null,null,null,null,null,null,null,null,null,null,null,null,null,null,null,null,null,null,null,null,null,null,null,null,null,null,"OLY +",2016,null,{"$f":"IF(AQ200,VLOOKUP(AQ200,HOM!$AR$551:$AS$606,2))","v":3.5710000000000002}]
[null,null,null,null,null,null,null,null,null,null,null,null,null,null,null,null,null,null,null,null,null,null,null,null,null,null,null,null,null,null,null,null,null,null,null,null,null,null,null,null,null,"OLY +",2016,null,{"$f":"IF(AQ201,VLOOKUP(AQ201,HOM!$AR$551:$AS$606,2))","v":3.5710000000000002}]
[null,null,null,null,null,null,null,null,null,null,null,null,null,null,null,null,null,null,null,null,null,null,null,null,null,null,null,null,null,null,null,null,null,null,null,null,null,null,null,null,null,"OLY +",2016,null,{"$f":"IF(AQ202,VLOOKUP(AQ202,HOM!$AR$551:$AS$606,2))","v":3.5710000000000002}]
[null,null,null,null,null,null,null,null,null,null,null,null,null,null,null,null,null,null,null,null,null,null,null,null,null,null,null,null,null,null,null,null,null,null,null,null,null,null,null,null,null,"OLY +",2016,null,{"$f":"IF(AQ203,VLOOKUP(AQ203,HOM!$AR$551:$AS$606,2))","v":3.5710000000000002}]
[null,null,null,null,null,null,null,null,null,null,null,null,null,null,null,null,null,null,null,null,null,null,null,null,null,null,null,null,null,null,null,null,null,null,null,null,null,null,null,null,null,"OLY +",2016,null,{"$f":"IF(AQ204,VLOOKUP(AQ204,HOM!$AR$551:$AS$606,2))","v":3.5710000000000002}]
[null,null,null,null,null,null,null,null,null,null,null,null,null,null,null,null,null,null,null,null,null,null,null,null,null,null,null,null,null,null,null,null,null,null,null,null,null,null,null,null,null,"OLY +",2016,null,{"$f":"IF(AQ205,VLOOKUP(AQ205,HOM!$AR$551:$AS$606,2))","v":3.5710000000000002}]
[null,null,null,null,null,null,null,null,null,null,null,null,null,null,null,null,null,null,null,null,null,null,null,null,null,null,null,null,null,null,null,null,null,null,null,null,null,null,null,null,null,"OLY +",2016,null,{"$f":"IF(AQ206,VLOOKUP(AQ206,HOM!$AR$551:$AS$606,2))","v":3.5710000000000002}]
[null,null,null,null,null,null,null,null,null,null,null,null,null,null,null,null,null,null,null,null,null,null,null,null,null,null,null,null,null,null,null,null,null,null,null,null,null,null,null,null,null,"OLY +",2016,null,{"$f":"IF(AQ207,VLOOKUP(AQ207,HOM!$AR$551:$AS$606,2))","v":3.5710000000000002}]
[null,null,null,null,null,null,null,null,null,null,null,null,null,null,null,null,null,null,null,null,null,null,null,null,null,null,null,null,null,null,null,null,null,null,null,null,null,null,null,null,null,"OLY +",2016,null,{"$f":"IF(AQ208,VLOOKUP(AQ208,HOM!$AR$551:$AS$606,2))","v":3.5710000000000002}]
[null,null,null,null,null,null,null,null,null,null,null,null,null,null,null,null,null,null,null,null,null,null,null,null,null,null,null,null,null,null,null,null,null,null,null,null,null,null,null,null,null,"OLY +",2016,null,{"$f":"IF(AQ209,VLOOKUP(AQ209,HOM!$AR$551:$AS$606,2))","v":3.5710000000000002}]
[null,null,null,null,null,null,null,null,null,null,null,null,null,null,null,null,null,null,null,null,null,null,null,null,null,null,null,null,null,null,null,null,null,null,null,null,null,null,null,null,null,"OLY +",2016,null,{"$f":"IF(AQ210,VLOOKUP(AQ210,HOM!$AR$551:$AS$606,2))","v":3.5710000000000002}]
[null,null,null,null,null,null,null,null,null,null,null,null,null,null,null,null,null,null,null,null,null,null,null,null,null,null,null,null,null,null,null,null,null,null,null,null,null,null,null,null,null,"OLY +",2016,null,{"$f":"IF(AQ211,VLOOKUP(AQ211,HOM!$AR$551:$AS$606,2))","v":3.5710000000000002}]
[null,null,null,null,null,null,null,null,null,null,null,null,null,null,null,null,null,null,null,null,null,null,null,null,null,null,null,null,null,null,null,null,null,null,null,null,null,null,null,null,null,"OLY +",2016,null,{"$f":"IF(AQ212,VLOOKUP(AQ212,HOM!$AR$551:$AS$606,2))","v":3.5710000000000002}]
[null,null,null,null,null,null,null,null,null,null,null,null,null,null,null,null,null,null,null,null,null,null,null,null,null,null,null,null,null,null,null,null,null,null,null,null,null,null,null,null,null,"OLY +",2016,null,{"$f":"IF(AQ213,VLOOKUP(AQ213,HOM!$AR$551:$AS$606,2))","v":3.5710000000000002}]
[null,null,null,null,null,null,null,null,null,null,null,null,null,null,null,null,null,null,null,null,null,null,null,null,null,null,null,null,null,null,null,null,null,null,null,null,null,null,null,null,null,"OLY +",2016,null,{"$f":"IF(AQ214,VLOOKUP(AQ214,HOM!$AR$551:$AS$606,2))","v":3.5710000000000002}]
[null,null,null,null,null,null,null,null,null,null,null,null,null,null,null,null,null,null,null,null,null,null,null,null,null,null,null,null,null,null,null,null,null,null,null,null,null,null,null,null,null,"OLY +",2016,null,{"$f":"IF(AQ215,VLOOKUP(AQ215,HOM!$AR$551:$AS$606,2))","v":3.5710000000000002}]
[null,null,null,null,null,null,null,null,null,null,null,null,null,null,null,null,null,null,null,null,null,null,null,null,null,null,null,null,null,null,null,null,null,null,null,null,null,null,null,null,null,"OLY +",2016,null,{"$f":"IF(AQ216,VLOOKUP(AQ216,HOM!$AR$551:$AS$606,2))","v":3.5710000000000002}]
[null,null,null,null,null,null,null,null,null,null,null,null,null,null,null,null,null,null,null,null,null,null,null,null,null,null,null,null,null,null,null,null,null,null,null,null,null,null,null,null,null,"OLY +",2016,null,{"$f":"IF(AQ217,VLOOKUP(AQ217,HOM!$AR$551:$AS$606,2))","v":3.5710000000000002}]
[null,null,null,null,null,null,null,null,null,null,null,null,null,null,null,null,null,null,null,null,null,null,null,null,null,null,null,null,null,null,null,null,null,null,null,null,null,null,null,null,null,"OLY +",2016,null,{"$f":"IF(AQ218,VLOOKUP(AQ218,HOM!$AR$551:$AS$606,2))","v":3.5710000000000002}]
[null,null,null,null,null,null,null,null,null,null,null,null,null,null,null,null,null,null,null,null,null,null,null,null,null,null,null,null,null,null,null,null,null,null,null,null,null,null,null,null,null,"OLY +",2016,null,{"$f":"IF(AQ219,VLOOKUP(AQ219,HOM!$AR$551:$AS$606,2))","v":3.5710000000000002}]
[null,null,null,null,null,null,null,null,null,null,null,null,null,null,null,null,null,null,null,null,null,null,null,null,null,null,null,null,null,null,null,null,null,null,null,null,null,null,null,null,null,"OLY +",2016,null,{"$f":"IF(AQ220,VLOOKUP(AQ220,HOM!$AR$551:$AS$606,2))","v":3.5710000000000002}]
[null,null,null,null,null,null,null,null,null,null,null,null,null,null,null,null,null,null,null,null,null,null,null,null,null,null,null,null,null,null,null,null,null,null,null,null,null,null,null,null,null,"OLY +",2016,null,{"$f":"IF(AQ221,VLOOKUP(AQ221,HOM!$AR$551:$AS$606,2))","v":3.5710000000000002}]
[null,null,null,null,null,null,null,null,null,null,null,null,null,null,null,null,null,null,null,null,null,null,null,null,null,null,null,null,null,null,null,null,null,null,null,null,null,null,null,null,null,"OLY +",2016,null,{"$f":"IF(AQ222,VLOOKUP(AQ222,HOM!$AR$551:$AS$606,2))","v":3.5710000000000002}]
[null,null,null,null,null,null,null,null,null,null,null,null,null,null,null,null,null,null,null,null,null,null,null,null,null,null,null,null,null,null,null,null,null,null,null,null,null,null,null,null,null,"OLY +",2016,null,{"$f":"IF(AQ223,VLOOKUP(AQ223,HOM!$AR$551:$AS$606,2))","v":3.5710000000000002}]
[null,null,null,null,null,null,null,null,null,null,null,null,null,null,null,null,null,null,null,null,null,null,null,null,null,null,null,null,null,null,null,null,null,null,null,null,null,null,null,null,null,"OLY +",2016,null,{"$f":"IF(AQ224,VLOOKUP(AQ224,HOM!$AR$551:$AS$606,2))","v":3.5710000000000002}]
[null,null,null,null,null,null,null,null,null,null,null,null,null,null,null,null,null,null,null,null,null,null,null,null,null,null,null,null,null,null,null,null,null,null,null,null,null,null,null,null,null,"OLY +",2016,null,{"$f":"IF(AQ225,VLOOKUP(AQ225,HOM!$AR$551:$AS$606,2))","v":3.5710000000000002}]
[null,null,null,null,null,null,null,null,null,null,null,null,null,null,null,null,null,null,null,null,null,null,null,null,null,null,null,null,null,null,null,null,null,null,null,null,null,null,null,null,null,"OLY +",2016,null,{"$f":"IF(AQ226,VLOOKUP(AQ226,HOM!$AR$551:$AS$606,2))","v":3.5710000000000002}]
[null,null,null,null,null,null,null,null,null,null,null,null,null,null,null,null,null,null,null,null,null,null,null,null,null,null,null,null,null,null,null,null,null,null,null,null,null,null,null,null,null,"OLY +",2016,null,{"$f":"IF(AQ227,VLOOKUP(AQ227,HOM!$AR$551:$AS$606,2))","v":3.5710000000000002}]
[null,null,null,null,null,null,null,null,null,null,null,null,null,null,null,null,null,null,null,null,null,null,null,null,null,null,null,null,null,null,null,null,null,null,null,null,null,null,null,null,null,"OLY +",2016,null,{"$f":"IF(AQ228,VLOOKUP(AQ228,HOM!$AR$551:$AS$606,2))","v":3.5710000000000002}]
[null,null,null,null,null,null,null,null,null,null,null,null,null,null,null,null,null,null,null,null,null,null,null,null,null,null,null,null,null,null,null,null,null,null,null,null,null,null,null,null,null,"OLY +",2016,null,{"$f":"IF(AQ229,VLOOKUP(AQ229,HOM!$AR$551:$AS$606,2))","v":3.5710000000000002}]
[null,null,null,null,null,null,null,null,null,null,null,null,null,null,null,null,null,null,null,null,null,null,null,null,null,null,null,null,null,null,null,null,null,null,null,null,null,null,null,null,null,"OLY +",2016,null,{"$f":"IF(AQ230,VLOOKUP(AQ230,HOM!$AR$551:$AS$606,2))","v":3.5710000000000002}]
[null,null,null,null,null,null,null,null,null,null,null,null,null,null,null,null,null,null,null,null,null,null,null,null,null,null,null,null,null,null,null,null,null,null,null,null,null,null,null,null,null,{"$f":"IF(AH231>=0,$AH$4,IF(AG231>=0,$AG$4,IF(AF231>=0,$AF$4,IF(AE231>=0,$AE$4,IF(AD231>=0,$AD$4,IF(AC231>=0,$AC$4,IF(AB231>=0,$AB$4,IF(AA231>=0,$AA$4,$AI$4))))))))","v":"OLY +"},2016,null,{"$f":"IF(AQ231,VLOOKUP(AQ231,HOM!$AR$551:$AS$606,2))","v":3.5710000000000002}]
[null,null,null,null,null,null,null,null,null,null,null,null,null,null,null,null,null,null,null,null,null,null,null,null,null,null,null,null,null,null,null,null,null,null,null,null,null,null,null,null,null,"OLY +",2016,null,{"$f":"IF(AQ232,VLOOKUP(AQ232,HOM!$AR$551:$AS$606,2))","v":3.5710000000000002}]
[null,null,null,null,null,null,null,null,null,null,null,null,null,null,null,null,null,null,null,null,null,null,null,null,null,null,null,null,null,null,null,null,null,null,null,null,null,null,null,null,null,"OLY +",2016,null,{"$f":"IF(AQ233,VLOOKUP(AQ233,HOM!$AR$551:$AS$606,2))","v":3.5710000000000002}]
[null,null,null,null,null,null,null,null,null,null,null,null,null,null,null,null,null,null,null,null,null,null,null,null,null,null,null,null,null,null,null,null,null,null,null,null,null,null,null,null,null,"OLY +",2016,null,{"$f":"IF(AQ234,VLOOKUP(AQ234,HOM!$AR$551:$AS$606,2))","v":3.5710000000000002}]
[null,null,null,null,null,null,null,null,null,null,null,null,null,null,null,null,null,null,null,null,null,null,null,null,null,null,null,null,null,null,null,null,null,null,null,null,null,null,null,null,null,"OLY +",2016,null,{"$f":"IF(AQ235,VLOOKUP(AQ235,HOM!$AR$551:$AS$606,2))","v":3.5710000000000002}]
[null,null,null,null,null,null,null,null,null,null,null,null,null,null,null,null,null,null,null,null,null,null,null,null,null,null,null,null,null,null,null,null,null,null,null,null,null,null,null,null,null,"OLY +",2016,null,{"$f":"IF(AQ236,VLOOKUP(AQ236,HOM!$AR$551:$AS$606,2))","v":3.5710000000000002}]
[null,null,null,null,null,null,null,null,null,null,null,null,null,null,null,null,null,null,null,null,null,null,null,null,null,null,null,null,null,null,null,null,null,null,null,null,null,null,null,null,null,"OLY +",2016,null,{"$f":"IF(AQ237,VLOOKUP(AQ237,HOM!$AR$551:$AS$606,2))","v":3.5710000000000002}]
[null,null,null,null,null,null,null,null,null,null,null,null,null,null,null,null,null,null,null,null,null,null,null,null,null,null,null,null,null,null,null,null,null,null,null,null,null,null,null,null,null,"OLY +",2016,null,{"$f":"IF(AQ238,VLOOKUP(AQ238,HOM!$AR$551:$AS$606,2))","v":3.5710000000000002}]
[null,null,null,null,null,null,null,null,null,null,null,null,null,null,null,null,null,null,null,null,null,null,null,null,null,null,null,null,null,null,null,null,null,null,null,null,null,null,null,null,null,"OLY +",2016,null,{"$f":"IF(AQ239,VLOOKUP(AQ239,HOM!$AR$551:$AS$606,2))","v":3.5710000000000002}]
[null,null,null,null,null,null,null,null,null,null,null,null,null,null,null,null,null,null,null,null,null,null,null,null,null,null,null,null,null,null,null,null,null,null,null,null,null,null,null,null,null,"OLY +",2016,null,{"$f":"IF(AQ240,VLOOKUP(AQ240,HOM!$AR$551:$AS$606,2))","v":3.5710000000000002}]
[null,null,null,null,null,null,null,null,null,null,null,null,null,null,null,null,null,null,null,null,null,null,null,null,null,null,null,null,null,null,null,null,null,null,null,null,null,null,null,null,null,"OLY +",2016,null,{"$f":"IF(AQ241,VLOOKUP(AQ241,HOM!$AR$551:$AS$606,2))","v":3.5710000000000002}]
[null,null,null,null,null,null,null,null,null,null,null,null,null,null,null,null,null,null,null,null,null,null,null,null,null,null,null,null,null,null,null,null,null,null,null,null,null,null,null,null,null,"OLY +",2016,null,{"$f":"IF(AQ242,VLOOKUP(AQ242,HOM!$AR$551:$AS$606,2))","v":3.5710000000000002}]
[null,null,null,null,null,null,null,null,null,null,null,null,null,null,null,null,null,null,null,null,null,null,null,null,null,null,null,null,null,null,null,null,null,null,null,null,null,null,null,null,null,"OLY +",2016,null,{"$f":"IF(AQ243,VLOOKUP(AQ243,HOM!$AR$551:$AS$606,2))","v":3.5710000000000002}]
[null,null,null,null,null,null,null,null,null,null,null,null,null,null,null,null,null,null,null,null,null,null,null,null,null,null,null,null,null,null,null,null,null,null,null,null,null,null,null,null,null,"OLY +",2016,null,{"$f":"IF(AQ244,VLOOKUP(AQ244,HOM!$AR$551:$AS$606,2))","v":3.5710000000000002}]
[null,null,null,null,null,null,null,null,null,null,null,null,null,null,null,null,null,null,null,null,null,null,null,null,null,null,null,null,null,null,null,null,null,null,null,null,null,null,null,null,null,"OLY +",2016,null,{"$f":"IF(AQ245,VLOOKUP(AQ245,HOM!$AR$551:$AS$606,2))","v":3.5710000000000002}]
[null,null,null,null,null,null,null,null,null,null,null,null,null,null,null,null,null,null,null,null,null,null,null,null,null,null,null,null,null,null,null,null,null,null,null,null,null,null,null,null,null,"OLY +",2016,null,{"$f":"IF(AQ246,VLOOKUP(AQ246,HOM!$AR$551:$AS$606,2))","v":3.5710000000000002}]
[null,null,null,null,null,null,null,null,null,null,null,null,null,null,null,null,null,null,null,null,null,null,null,null,null,null,null,null,null,null,null,null,null,null,null,null,null,null,null,null,null,"OLY +",2016,null,{"$f":"IF(AQ247,VLOOKUP(AQ247,HOM!$AR$551:$AS$606,2))","v":3.5710000000000002}]
[null,null,null,null,null,null,null,null,null,null,null,null,null,null,null,null,null,null,null,null,null,null,null,null,null,null,null,null,null,null,null,null,null,null,null,null,null,null,null,null,null,"OLY +",2016,null,{"$f":"IF(AQ248,VLOOKUP(AQ248,HOM!$AR$551:$AS$606,2))","v":3.5710000000000002}]
[null,null,null,null,null,null,null,null,null,null,null,null,null,null,null,null,null,null,null,null,null,null,null,null,null,null,null,null,null,null,null,null,null,null,null,null,null,null,null,null,null,"OLY +",2016,null,{"$f":"IF(AQ249,VLOOKUP(AQ249,HOM!$AR$551:$AS$606,2))","v":3.5710000000000002}]
[null,null,null,null,null,null,null,null,null,null,null,null,null,null,null,null,null,null,null,null,null,null,null,null,null,null,null,null,null,null,null,null,null,null,null,null,null,null,null,null,null,"OLY +",2016,null,{"$f":"IF(AQ250,VLOOKUP(AQ250,HOM!$AR$551:$AS$606,2))","v":3.5710000000000002}]
[null,null,null,null,null,null,null,null,null,null,null,null,null,null,null,null,null,null,null,null,null,null,null,null,null,null,null,null,null,null,null,null,null,null,null,null,null,null,null,null,null,"OLY +",2016,null,{"$f":"IF(AQ251,VLOOKUP(AQ251,HOM!$AR$551:$AS$606,2))","v":3.5710000000000002}]
[null,null,null,null,null,null,null,null,null,null,null,null,null,null,null,null,null,null,null,null,null,null,null,null,null,null,null,null,null,null,null,null,null,null,null,null,null,null,null,null,null,"OLY +",2016,null,{"$f":"IF(AQ252,VLOOKUP(AQ252,HOM!$AR$551:$AS$606,2))","v":3.5710000000000002}]
[null,null,null,null,null,null,null,null,null,null,null,null,null,null,null,null,null,null,null,null,null,null,null,null,null,null,null,null,null,null,null,null,null,null,null,null,null,null,null,null,null,"OLY +",2016,null,{"$f":"IF(AQ253,VLOOKUP(AQ253,HOM!$AR$551:$AS$606,2))","v":3.5710000000000002}]
[null,null,null,null,null,null,null,null,null,null,null,null,null,null,null,null,null,null,null,null,null,null,null,null,null,null,null,null,null,null,null,null,null,null,null,null,null,null,null,null,null,"OLY +",2016,null,{"$f":"IF(AQ254,VLOOKUP(AQ254,HOM!$AR$551:$AS$606,2))","v":3.5710000000000002}]
[null,null,null,null,null,null,null,null,null,null,null,null,null,null,null,null,null,null,null,null,null,null,null,null,null,null,null,null,null,null,null,null,null,null,null,null,null,null,null,null,null,"OLY +",2016,null,{"$f":"IF(AQ255,VLOOKUP(AQ255,HOM!$AR$551:$AS$606,2))","v":3.5710000000000002}]
[null,null,null,null,null,null,null,null,null,null,null,null,null,null,null,null,null,null,null,null,null,null,null,null,null,null,null,null,null,null,null,null,null,null,null,null,null,null,null,null,null,"OLY +",2016,null,{"$f":"IF(AQ256,VLOOKUP(AQ256,HOM!$AR$551:$AS$606,2))","v":3.5710000000000002}]
[null,null,null,null,null,null,null,null,null,null,null,null,null,null,null,null,null,null,null,null,null,null,null,null,null,null,null,null,null,null,null,null,null,null,null,null,null,null,null,null,null,"OLY +",2016,null,{"$f":"IF(AQ257,VLOOKUP(AQ257,HOM!$AR$551:$AS$606,2))","v":3.5710000000000002}]
[null,null,null,null,null,null,null,null,null,null,null,null,null,null,null,null,null,null,null,null,null,null,null,null,null,null,null,null,null,null,null,null,null,null,null,null,null,null,null,null,null,"OLY +",2016,null,{"$f":"IF(AQ258,VLOOKUP(AQ258,HOM!$AR$551:$AS$606,2))","v":3.5710000000000002}]
[null,null,null,null,null,null,null,null,null,null,null,null,null,null,null,null,null,null,null,null,null,null,null,null,null,null,null,null,null,null,null,null,null,null,null,null,null,null,null,null,null,"OLY +",2016,null,{"$f":"IF(AQ259,VLOOKUP(AQ259,HOM!$AR$551:$AS$606,2))","v":3.5710000000000002}]
[null,null,null,null,null,null,null,null,null,null,null,null,null,null,null,null,null,null,null,null,null,null,null,null,null,null,null,null,null,null,null,null,null,null,null,null,null,null,null,null,null,"OLY +",2016,null,{"$f":"IF(AQ260,VLOOKUP(AQ260,HOM!$AR$551:$AS$606,2))","v":3.5710000000000002}]
[null,null,null,null,null,null,null,null,null,null,null,null,null,null,null,null,null,null,null,null,null,null,null,null,null,null,null,null,null,null,null,null,null,null,null,null,null,null,null,null,null,"OLY +",{"$f":"2016-H261","v":2016},null,{"$f":"IF(AQ261,VLOOKUP(AQ261,HOM!$AR$551:$AS$606,2))","v":3.5710000000000002}]
[null,null,null,null,null,null,null,null,null,null,null,null,null,null,null,null,null,null,null,null,null,null,null,null,null,null,null,null,null,null,null,null,null,null,null,null,null,null,null,null,null,"OLY +",2016,null,{"$f":"IF(AQ262,VLOOKUP(AQ262,HOM!$AR$551:$AS$606,2))","v":3.5710000000000002}]
[null,null,null,null,null,null,null,null,null,null,null,null,null,null,null,null,null,null,null,null,null,null,null,null,null,null,null,null,null,null,null,null,null,null,null,null,null,null,null,null,null,"OLY +",2016,null,{"$f":"IF(AQ263,VLOOKUP(AQ263,HOM!$AR$551:$AS$606,2))","v":3.5710000000000002}]
[null,null,null,null,null,null,null,null,null,null,null,null,null,null,null,null,null,null,null,null,null,null,null,null,null,null,null,null,null,null,null,null,null,null,null,null,null,null,null,null,null,"OLY +",2016,null,{"$f":"IF(AQ264,VLOOKUP(AQ264,HOM!$AR$551:$AS$606,2))","v":3.5710000000000002}]
[null,null,null,null,null,null,null,null,null,null,null,null,null,null,null,null,null,null,null,null,null,null,null,null,null,null,null,null,null,null,null,null,null,null,null,null,null,null,null,null,null,"OLY +",2016,null,{"$f":"IF(AQ265,VLOOKUP(AQ265,HOM!$AR$551:$AS$606,2))","v":3.5710000000000002}]
[null,null,null,null,null,null,null,null,null,null,null,null,null,null,null,null,null,null,null,null,null,null,null,null,null,null,null,null,null,null,null,null,null,null,null,null,null,null,null,null,null,"OLY +",2016,null,{"$f":"IF(AQ266,VLOOKUP(AQ266,HOM!$AR$551:$AS$606,2))","v":3.5710000000000002}]
[null,null,null,null,null,null,null,null,null,null,null,null,null,null,null,null,null,null,null,null,null,null,null,null,null,null,null,null,null,null,null,null,null,null,null,null,null,null,null,null,null,"OLY +",2016,null,{"$f":"IF(AQ267,VLOOKUP(AQ267,HOM!$AR$551:$AS$606,2))","v":3.5710000000000002}]
[null,null,null,null,null,null,null,null,null,null,null,null,null,null,null,null,null,null,null,null,null,null,null,null,null,null,null,null,null,null,null,null,null,null,null,null,null,null,null,null,null,"OLY +",2016,null,{"$f":"IF(AQ268,VLOOKUP(AQ268,HOM!$AR$551:$AS$606,2))","v":3.5710000000000002}]
[null,null,null,null,null,null,null,null,null,null,null,null,null,null,null,null,null,null,null,null,null,null,null,null,null,null,null,null,null,null,null,null,null,null,null,null,null,null,null,null,null,"OLY +",2016,null,{"$f":"IF(AQ269,VLOOKUP(AQ269,HOM!$AR$551:$AS$606,2))","v":3.5710000000000002}]
[null,null,null,null,null,null,null,null,null,null,null,null,null,null,null,null,null,null,null,null,null,null,null,null,null,null,null,null,null,null,null,null,null,null,null,null,null,null,null,null,null,"OLY +",2016,null,{"$f":"IF(AQ270,VLOOKUP(AQ270,HOM!$AR$551:$AS$606,2))","v":3.5710000000000002}]
[null,null,null,null,null,null,null,null,null,null,null,null,null,null,null,null,null,null,null,null,null,null,null,null,null,null,null,null,null,null,null,null,null,null,null,null,null,null,null,null,null,"OLY +",2016,null,{"$f":"IF(AQ271,VLOOKUP(AQ271,HOM!$AR$551:$AS$606,2))","v":3.5710000000000002}]
[null,null,null,null,null,null,null,null,null,null,null,null,null,null,null,null,null,null,null,null,null,null,null,null,null,null,null,null,null,null,null,null,null,null,null,null,null,null,null,null,null,"OLY +",2016,null,{"$f":"IF(AQ272,VLOOKUP(AQ272,HOM!$AR$551:$AS$606,2))","v":3.5710000000000002}]
[null,null,null,null,null,null,null,null,null,null,null,null,null,null,null,null,null,null,null,null,null,null,null,null,null,null,null,null,null,null,null,null,null,null,null,null,null,null,null,null,null,"OLY +",2016,null,{"$f":"IF(AQ273,VLOOKUP(AQ273,HOM!$AR$551:$AS$606,2))","v":3.5710000000000002}]
[null,null,null,null,null,null,null,null,null,null,null,null,null,null,null,null,null,null,null,null,null,null,null,null,null,null,null,null,null,null,null,null,null,null,null,null,null,null,null,null,null,"OLY +",2016,null,{"$f":"IF(AQ274,VLOOKUP(AQ274,HOM!$AR$551:$AS$606,2))","v":3.5710000000000002}]
[null,null,null,null,null,null,null,null,null,null,null,null,null,null,null,null,null,null,null,null,null,null,null,null,null,null,null,null,null,null,null,null,null,null,null,null,null,null,null,null,null,"OLY +",2016,null,{"$f":"IF(AQ275,VLOOKUP(AQ275,HOM!$AR$551:$AS$606,2))","v":3.5710000000000002}]
[null,null,null,null,null,null,null,null,null,null,null,null,null,null,null,null,null,null,null,null,null,null,null,null,null,null,null,null,null,null,null,null,null,null,null,null,null,null,null,null,null,"OLY +",2016,null,{"$f":"IF(AQ276,VLOOKUP(AQ276,HOM!$AR$551:$AS$606,2))","v":3.5710000000000002}]
[null,null,null,null,null,null,null,null,null,null,null,null,null,null,null,null,null,null,null,null,null,null,null,null,null,null,null,null,null,null,null,null,null,null,null,null,null,null,null,null,null,"OLY +",2016,null,{"$f":"IF(AQ277,VLOOKUP(AQ277,HOM!$AR$551:$AS$606,2))","v":3.5710000000000002}]
[null,null,null,null,null,null,null,null,null,null,null,null,null,null,null,null,null,null,null,null,null,null,null,null,null,null,null,null,null,null,null,null,null,null,null,null,null,null,null,null,null,"OLY +",2016,null,{"$f":"IF(AQ278,VLOOKUP(AQ278,HOM!$AR$551:$AS$606,2))","v":3.5710000000000002}]
[null,null,null,null,null,null,null,null,null,null,null,null,null,null,null,null,null,null,null,null,null,null,null,null,null,null,null,null,null,null,null,null,null,null,null,null,null,null,null,null,null,"OLY +",2016,null,{"$f":"IF(AQ279,VLOOKUP(AQ279,HOM!$AR$551:$AS$606,2))","v":3.5710000000000002}]
[null,null,null,null,null,null,null,null,null,null,null,null,null,null,null,null,null,null,null,null,null,null,null,null,null,null,null,null,null,null,null,null,null,null,null,null,null,null,null,null,null,"OLY +",2016,null,{"$f":"IF(AQ280,VLOOKUP(AQ280,HOM!$AR$551:$AS$606,2))","v":3.5710000000000002}]
[null,null,null,null,null,null,null,null,null,null,null,null,null,null,null,null,null,null,null,null,null,null,null,null,null,null,null,null,null,null,null,null,null,null,null,null,null,null,null,null,null,"OLY +",2016,null,{"$f":"IF(AQ281,VLOOKUP(AQ281,HOM!$AR$551:$AS$606,2))","v":3.5710000000000002}]
[null,null,null,null,null,null,null,null,null,null,null,null,null,null,null,null,null,null,null,null,null,null,null,null,null,null,null,null,null,null,null,null,null,null,null,null,null,null,null,null,null,"OLY +",2016,null,{"$f":"IF(AQ282,VLOOKUP(AQ282,HOM!$AR$551:$AS$606,2))","v":3.5710000000000002}]
[null,null,null,null,null,null,null,null,null,null,null,null,null,null,null,null,null,null,null,null,null,null,null,null,null,null,null,null,null,null,null,null,null,null,null,null,null,null,null,null,null,"OLY +",2016,null,{"$f":"IF(AQ283,VLOOKUP(AQ283,HOM!$AR$551:$AS$606,2))","v":3.5710000000000002}]
[null,null,null,null,null,null,null,null,null,null,null,null,null,null,null,null,null,null,null,null,null,null,null,null,null,null,null,null,null,null,null,null,null,null,null,null,null,null,null,null,null,"OLY +",2016,null,{"$f":"IF(AQ284,VLOOKUP(AQ284,HOM!$AR$551:$AS$606,2))","v":3.5710000000000002}]
[null,null,null,null,null,null,null,null,null,null,null,null,null,null,null,null,null,null,null,null,null,null,null,null,null,null,null,null,null,null,null,null,null,null,null,null,null,null,null,null,null,"OLY +",2016,null,{"$f":"IF(AQ285,VLOOKUP(AQ285,HOM!$AR$551:$AS$606,2))","v":3.5710000000000002}]
[null,null,null,null,null,null,null,null,null,null,null,null,null,null,null,null,null,null,null,null,null,null,null,null,null,null,null,null,null,null,null,null,null,null,null,null,null,null,null,null,null,"OLY +",2016,null,{"$f":"IF(AQ286,VLOOKUP(AQ286,HOM!$AR$551:$AS$606,2))","v":3.5710000000000002}]
[null,null,null,null,null,null,null,null,null,null,null,null,null,null,null,null,null,null,null,null,null,null,null,null,null,null,null,null,null,null,null,null,null,null,null,null,null,null,null,null,null,"OLY +",2016,null,{"$f":"IF(AQ287,VLOOKUP(AQ287,HOM!$AR$551:$AS$606,2))","v":3.5710000000000002}]
[null,null,null,null,null,null,null,null,null,null,null,null,null,null,null,null,null,null,null,null,null,null,null,null,null,null,null,null,null,null,null,null,null,null,null,null,null,null,null,null,null,"OLY +",2016,null,{"$f":"IF(AQ288,VLOOKUP(AQ288,HOM!$AR$551:$AS$606,2))","v":3.5710000000000002}]
[null,null,null,null,null,null,null,null,null,null,null,null,null,null,null,null,null,null,null,null,null,null,null,null,null,null,null,null,null,null,null,null,null,null,null,null,null,null,null,null,null,"OLY +",2016,null,{"$f":"IF(AQ289,VLOOKUP(AQ289,HOM!$AR$551:$AS$606,2))","v":3.5710000000000002}]
[null,null,null,null,null,null,null,null,null,null,null,null,null,null,null,null,null,null,null,null,null,null,null,null,null,null,null,null,null,null,null,null,null,null,null,null,null,null,null,null,null,"OLY +",2016,null,{"$f":"IF(AQ290,VLOOKUP(AQ290,HOM!$AR$551:$AS$606,2))","v":3.5710000000000002}]
[null,null,null,null,null,null,null,null,null,null,null,null,null,null,null,null,null,null,null,null,null,null,null,null,null,null,null,null,null,null,null,null,null,null,null,null,null,null,null,null,null,"OLY +",2016,null,{"$f":"IF(AQ291,VLOOKUP(AQ291,HOM!$AR$551:$AS$606,2))","v":3.5710000000000002}]
[null,null,null,null,null,null,null,null,null,null,null,null,null,null,null,null,null,null,null,null,null,null,null,null,null,null,null,null,null,null,null,null,null,null,null,null,null,null,null,null,null,"OLY +",2016,null,{"$f":"IF(AQ292,VLOOKUP(AQ292,HOM!$AR$551:$AS$606,2))","v":3.5710000000000002}]
[null,null,null,null,null,null,null,null,null,null,null,null,null,null,null,null,null,null,null,null,null,null,null,null,null,null,null,null,null,null,null,null,null,null,null,null,null,null,null,null,null,"OLY +",2016,null,{"$f":"IF(AQ293,VLOOKUP(AQ293,HOM!$AR$551:$AS$606,2))","v":3.5710000000000002}]
[null,null,null,null,null,null,null,null,null,null,null,null,null,null,null,null,null,null,null,null,null,null,null,null,null,null,null,null,null,null,null,null,null,null,null,null,null,null,null,null,null,"OLY +",2016,null,{"$f":"IF(AQ294,VLOOKUP(AQ294,HOM!$AR$551:$AS$606,2))","v":3.5710000000000002}]
[null,null,null,null,null,null,null,null,null,null,null,null,null,null,null,null,null,null,null,null,null,null,null,null,null,null,null,null,null,null,null,null,null,null,null,null,null,null,null,null,null,{"$f":"IF(AH295>=0,$AH$4,IF(AG295>=0,$AG$4,IF(AF295>=0,$AF$4,IF(AE295>=0,$AE$4,IF(AD295>=0,$AD$4,IF(AC295>=0,$AC$4,IF(AB295>=0,$AB$4,IF(AA295>=0,$AA$4,$AI$4))))))))","v":"OLY +"},2016,null,{"$f":"IF(AQ295,VLOOKUP(AQ295,HOM!$AR$551:$AS$606,2))","v":3.5710000000000002}]
[null,null,null,null,null,null,null,null,null,null,null,null,null,null,null,null,null,null,null,null,null,null,null,null,null,null,null,null,null,null,null,null,null,null,null,null,null,null,null,null,null,"OLY +",2016,null,{"$f":"IF(AQ296,VLOOKUP(AQ296,HOM!$AR$551:$AS$606,2))","v":3.5710000000000002}]
[null,null,null,null,null,null,null,null,null,null,null,null,null,null,null,null,null,null,null,null,null,null,null,null,null,null,null,null,null,null,null,null,null,null,null,null,null,null,null,null,null,"OLY +",2016,null,{"$f":"IF(AQ297,VLOOKUP(AQ297,HOM!$AR$551:$AS$606,2))","v":3.5710000000000002}]
[null,null,null,null,null,null,null,null,null,null,null,null,null,null,null,null,null,null,null,null,null,null,null,null,null,null,null,null,null,null,null,null,null,null,null,null,null,null,null,null,null,"OLY +",2016,null,{"$f":"IF(AQ298,VLOOKUP(AQ298,HOM!$AR$551:$AS$606,2))","v":3.5710000000000002}]
[null,null,null,null,null,null,null,null,null,null,null,null,null,null,null,null,null,null,null,null,null,null,null,null,null,null,null,null,null,null,null,null,null,null,null,null,null,null,null,null,null,"OLY +",2016,null,{"$f":"IF(AQ299,VLOOKUP(AQ299,HOM!$AR$551:$AS$606,2))","v":3.5710000000000002}]
[null,null,null,null,null,null,null,null,null,null,null,null,null,null,null,null,null,null,null,null,null,null,null,null,null,null,null,null,null,null,null,null,null,null,null,null,null,null,null,null,null,"OLY +",2016,null,{"$f":"IF(AQ300,VLOOKUP(AQ300,HOM!$AR$551:$AS$606,2))","v":3.5710000000000002}]
[null,null,null,null,null,null,null,null,null,null,null,null,null,null,null,null,null,null,null,null,null,null,null,null,null,null,null,null,null,null,null,null,null,null,null,null,null,null,null,null,null,"OLY +",2016,null,{"$f":"IF(AQ301,VLOOKUP(AQ301,HOM!$AR$551:$AS$606,2))","v":3.5710000000000002}]
[null,null,null,null,null,null,null,null,null,null,null,null,null,null,null,null,null,null,null,null,null,null,null,null,null,null,null,null,null,null,null,null,null,null,null,null,null,null,null,null,null,"OLY +",2016,null,{"$f":"IF(AQ302,VLOOKUP(AQ302,HOM!$AR$551:$AS$606,2))","v":3.5710000000000002}]
[null,null,null,null,null,null,null,null,null,null,null,null,null,null,null,null,null,null,null,null,null,null,null,null,null,null,null,null,null,null,null,null,null,null,null,null,null,null,null,null,null,"OLY +",2016,null,{"$f":"IF(AQ303,VLOOKUP(AQ303,HOM!$AR$551:$AS$606,2))","v":3.5710000000000002}]
[null,null,null,null,null,null,null,null,null,null,null,null,null,null,null,null,null,null,null,null,null,null,null,null,null,null,null,null,null,null,null,null,null,null,null,null,null,null,null,null,null,"OLY +",2016,null,{"$f":"IF(AQ304,VLOOKUP(AQ304,HOM!$AR$551:$AS$606,2))","v":3.5710000000000002}]
[null,null,null,null,null,null,null,null,null,null,null,null,null,null,null,null,null,null,null,null,null,null,null,null,null,null,null,null,null,null,null,null,null,null,null,null,null,null,null,null,null,"OLY +",2016,null,{"$f":"IF(AQ305,VLOOKUP(AQ305,HOM!$AR$551:$AS$606,2))","v":3.5710000000000002}]
[null,null,null,null,null,null,null,null,null,null,null,null,null,null,null,null,null,null,null,null,null,null,null,null,null,null,null,null,null,null,null,null,null,null,null,null,null,null,null,null,null,"OLY +",2016,null,{"$f":"IF(AQ306,VLOOKUP(AQ306,HOM!$AR$551:$AS$606,2))","v":3.5710000000000002}]
[null,null,null,null,null,null,null,null,null,null,null,null,null,null,null,null,null,null,null,null,null,null,null,null,null,null,null,null,null,null,null,null,null,null,null,null,null,null,null,null,null,"OLY +",2016,null,{"$f":"IF(AQ307,VLOOKUP(AQ307,HOM!$AR$551:$AS$606,2))","v":3.5710000000000002}]
[null,null,null,null,null,null,null,null,null,null,null,null,null,null,null,null,null,null,null,null,null,null,null,null,null,null,null,null,null,null,null,null,null,null,null,null,null,null,null,null,null,"OLY +",2016,null,{"$f":"IF(AQ308,VLOOKUP(AQ308,HOM!$AR$551:$AS$606,2))","v":3.5710000000000002}]
[null,null,null,null,null,null,null,null,null,null,null,null,null,null,null,null,null,null,null,null,null,null,null,null,null,null,null,null,null,null,null,null,null,null,null,null,null,null,null,null,null,"OLY +",2016,null,{"$f":"IF(AQ309,VLOOKUP(AQ309,HOM!$AR$551:$AS$606,2))","v":3.5710000000000002}]
[null,null,null,null,null,null,null,null,null,null,null,null,null,null,null,null,null,null,null,null,null,null,null,null,null,null,null,null,null,null,null,null,null,null,null,null,null,null,null,null,null,"OLY +",2016,null,{"$f":"IF(AQ310,VLOOKUP(AQ310,HOM!$AR$551:$AS$606,2))","v":3.5710000000000002}]
[null,null,null,null,null,null,null,null,null,null,null,null,null,null,null,null,null,null,null,null,null,null,null,null,null,null,null,null,null,null,null,null,null,null,null,null,null,null,null,null,null,"OLY +",2016,null,{"$f":"IF(AQ311,VLOOKUP(AQ311,HOM!$AR$551:$AS$606,2))","v":3.5710000000000002}]
[null,null,null,null,null,null,null,null,null,null,null,null,null,null,null,null,null,null,null,null,null,null,null,null,null,null,null,null,null,null,null,null,null,null,null,null,null,null,null,null,null,"OLY +",2016,null,{"$f":"IF(AQ312,VLOOKUP(AQ312,HOM!$AR$551:$AS$606,2))","v":3.5710000000000002}]
[null,null,null,null,null,null,null,null,null,null,null,null,null,null,null,null,null,null,null,null,null,null,null,null,null,null,null,null,null,null,null,null,null,null,null,null,null,null,null,null,null,"OLY +",2016,null,{"$f":"IF(AQ313,VLOOKUP(AQ313,HOM!$AR$551:$AS$606,2))","v":3.5710000000000002}]
[null,null,null,null,null,null,null,null,null,null,null,null,null,null,null,null,null,null,null,null,null,null,null,null,null,null,null,null,null,null,null,null,null,null,null,null,null,null,null,null,null,"OLY +",2016,null,{"$f":"IF(AQ314,VLOOKUP(AQ314,HOM!$AR$551:$AS$606,2))","v":3.5710000000000002}]
[null,null,null,null,null,null,null,null,null,null,null,null,null,null,null,null,null,null,null,null,null,null,null,null,null,null,null,null,null,null,null,null,null,null,null,null,null,null,null,null,null,"OLY +",2016,null,{"$f":"IF(AQ315,VLOOKUP(AQ315,HOM!$AR$551:$AS$606,2))","v":3.5710000000000002}]
[null,null,null,null,null,null,null,null,null,null,null,null,null,null,null,null,null,null,null,null,null,null,null,null,null,null,null,null,null,null,null,null,null,null,null,null,null,null,null,null,null,"OLY +",2016,null,{"$f":"IF(AQ316,VLOOKUP(AQ316,HOM!$AR$551:$AS$606,2))","v":3.5710000000000002}]
[null,null,null,null,null,null,null,null,null,null,null,null,null,null,null,null,null,null,null,null,null,null,null,null,null,null,null,null,null,null,null,null,null,null,null,null,null,null,null,null,null,"OLY +",2016,null,{"$f":"IF(AQ317,VLOOKUP(AQ317,HOM!$AR$551:$AS$606,2))","v":3.5710000000000002}]
[null,null,null,null,null,null,null,null,null,null,null,null,null,null,null,null,null,null,null,null,null,null,null,null,null,null,null,null,null,null,null,null,null,null,null,null,null,null,null,null,null,"OLY +",2016,null,{"$f":"IF(AQ318,VLOOKUP(AQ318,HOM!$AR$551:$AS$606,2))","v":3.5710000000000002}]
[null,null,null,null,null,null,null,null,null,null,null,null,null,null,null,null,null,null,null,null,null,null,null,null,null,null,null,null,null,null,null,null,null,null,null,null,null,null,null,null,null,"OLY +",2016,null,{"$f":"IF(AQ319,VLOOKUP(AQ319,HOM!$AR$551:$AS$606,2))","v":3.5710000000000002}]
[null,null,null,null,null,null,null,null,null,null,null,null,null,null,null,null,null,null,null,null,null,null,null,null,null,null,null,null,null,null,null,null,null,null,null,null,null,null,null,null,null,"OLY +",2016,null,{"$f":"IF(AQ320,VLOOKUP(AQ320,HOM!$AR$551:$AS$606,2))","v":3.5710000000000002}]
[null,null,null,null,null,null,null,null,null,null,null,null,null,null,null,null,null,null,null,null,null,null,null,null,null,null,null,null,null,null,null,null,null,null,null,null,null,null,null,null,null,"OLY +",2016,null,{"$f":"IF(AQ321,VLOOKUP(AQ321,HOM!$AR$551:$AS$606,2))","v":3.5710000000000002}]
[null,null,null,null,null,null,null,null,null,null,null,null,null,null,null,null,null,null,null,null,null,null,null,null,null,null,null,null,null,null,null,null,null,null,null,null,null,null,null,null,null,"OLY +",2016,null,{"$f":"IF(AQ322,VLOOKUP(AQ322,HOM!$AR$551:$AS$606,2))","v":3.5710000000000002}]
[null,null,null,null,null,null,null,null,null,null,null,null,null,null,null,null,null,null,null,null,null,null,null,null,null,null,null,null,null,null,null,null,null,null,null,null,null,null,null,null,null,"OLY +",2016,null,{"$f":"IF(AQ323,VLOOKUP(AQ323,HOM!$AR$551:$AS$606,2))","v":3.5710000000000002}]
[null,null,null,null,null,null,null,null,null,null,null,null,null,null,null,null,null,null,null,null,null,null,null,null,null,null,null,null,null,null,null,null,null,null,null,null,null,null,null,null,null,"OLY +",2016,null,{"$f":"IF(AQ324,VLOOKUP(AQ324,HOM!$AR$551:$AS$606,2))","v":3.5710000000000002}]
[null,null,null,null,null,null,null,null,null,null,null,null,null,null,null,null,null,null,null,null,null,null,null,null,null,null,null,null,null,null,null,null,null,null,null,null,null,null,null,null,null,"OLY +",{"$f":"2016-H325","v":2016},null,{"$f":"IF(AQ325,VLOOKUP(AQ325,HOM!$AR$551:$AS$606,2))","v":3.5710000000000002}]
[null,null,null,null,null,null,null,null,null,null,null,null,null,null,null,null,null,null,null,null,null,null,null,null,null,null,null,null,null,null,null,null,null,null,null,null,null,null,null,null,null,"OLY +",2016,null,{"$f":"IF(AQ326,VLOOKUP(AQ326,HOM!$AR$551:$AS$606,2))","v":3.5710000000000002}]
[null,null,null,null,null,null,null,null,null,null,null,null,null,null,null,null,null,null,null,null,null,null,null,null,null,null,null,null,null,null,null,null,null,null,null,null,null,null,null,null,null,"OLY +",2016,null,{"$f":"IF(AQ327,VLOOKUP(AQ327,HOM!$AR$551:$AS$606,2))","v":3.5710000000000002}]
[null,null,null,null,null,null,null,null,null,null,null,null,null,null,null,null,null,null,null,null,null,null,null,null,null,null,null,null,null,null,null,null,null,null,null,null,null,null,null,null,null,"OLY +",2016,null,{"$f":"IF(AQ328,VLOOKUP(AQ328,HOM!$AR$551:$AS$606,2))","v":3.5710000000000002}]
[null,null,null,null,null,null,null,null,null,null,null,null,null,null,null,null,null,null,null,null,null,null,null,null,null,null,null,null,null,null,null,null,null,null,null,null,null,null,null,null,null,"OLY +",2016,null,{"$f":"IF(AQ329,VLOOKUP(AQ329,HOM!$AR$551:$AS$606,2))","v":3.5710000000000002}]
[null,null,null,null,null,null,null,null,null,null,null,null,null,null,null,null,null,null,null,null,null,null,null,null,null,null,null,null,null,null,null,null,null,null,null,null,null,null,null,null,null,"OLY +",2016,null,{"$f":"IF(AQ330,VLOOKUP(AQ330,HOM!$AR$551:$AS$606,2))","v":3.5710000000000002}]
[null,null,null,null,null,null,null,null,null,null,null,null,null,null,null,null,null,null,null,null,null,null,null,null,null,null,null,null,null,null,null,null,null,null,null,null,null,null,null,null,null,"OLY +",2016,null,{"$f":"IF(AQ331,VLOOKUP(AQ331,HOM!$AR$551:$AS$606,2))","v":3.5710000000000002}]
[null,null,null,null,null,null,null,null,null,null,null,null,null,null,null,null,null,null,null,null,null,null,null,null,null,null,null,null,null,null,null,null,null,null,null,null,null,null,null,null,null,"OLY +",2016,null,{"$f":"IF(AQ332,VLOOKUP(AQ332,HOM!$AR$551:$AS$606,2))","v":3.5710000000000002}]
[null,null,null,null,null,null,null,null,null,null,null,null,null,null,null,null,null,null,null,null,null,null,null,null,null,null,null,null,null,null,null,null,null,null,null,null,null,null,null,null,null,"OLY +",2016,null,{"$f":"IF(AQ333,VLOOKUP(AQ333,HOM!$AR$551:$AS$606,2))","v":3.5710000000000002}]
[null,null,null,null,null,null,null,null,null,null,null,null,null,null,null,null,null,null,null,null,null,null,null,null,null,null,null,null,null,null,null,null,null,null,null,null,null,null,null,null,null,"OLY +",2016,null,{"$f":"IF(AQ334,VLOOKUP(AQ334,HOM!$AR$551:$AS$606,2))","v":3.5710000000000002}]
[null,null,null,null,null,null,null,null,null,null,null,null,null,null,null,null,null,null,null,null,null,null,null,null,null,null,null,null,null,null,null,null,null,null,null,null,null,null,null,null,null,"OLY +",2016,null,{"$f":"IF(AQ335,VLOOKUP(AQ335,HOM!$AR$551:$AS$606,2))","v":3.5710000000000002}]
[null,null,null,null,null,null,null,null,null,null,null,null,null,null,null,null,null,null,null,null,null,null,null,null,null,null,null,null,null,null,null,null,null,null,null,null,null,null,null,null,null,"OLY +",2016,null,{"$f":"IF(AQ336,VLOOKUP(AQ336,HOM!$AR$551:$AS$606,2))","v":3.5710000000000002}]
[null,null,null,null,null,null,null,null,null,null,null,null,null,null,null,null,null,null,null,null,null,null,null,null,null,null,null,null,null,null,null,null,null,null,null,null,null,null,null,null,null,"OLY +",2016,null,{"$f":"IF(AQ337,VLOOKUP(AQ337,HOM!$AR$551:$AS$606,2))","v":3.5710000000000002}]
[null,null,null,null,null,null,null,null,null,null,null,null,null,null,null,null,null,null,null,null,null,null,null,null,null,null,null,null,null,null,null,null,null,null,null,null,null,null,null,null,null,"OLY +",2016,null,{"$f":"IF(AQ338,VLOOKUP(AQ338,HOM!$AR$551:$AS$606,2))","v":3.5710000000000002}]
[null,null,null,null,null,null,null,null,null,null,null,null,null,null,null,null,null,null,null,null,null,null,null,null,null,null,null,null,null,null,null,null,null,null,null,null,null,null,null,null,null,"OLY +",2016,null,{"$f":"IF(AQ339,VLOOKUP(AQ339,HOM!$AR$551:$AS$606,2))","v":3.5710000000000002}]
[null,null,null,null,null,null,null,null,null,null,null,null,null,null,null,null,null,null,null,null,null,null,null,null,null,null,null,null,null,null,null,null,null,null,null,null,null,null,null,null,null,"OLY +",2016,null,{"$f":"IF(AQ340,VLOOKUP(AQ340,HOM!$AR$551:$AS$606,2))","v":3.5710000000000002}]
[null,null,null,null,null,null,null,null,null,null,null,null,null,null,null,null,null,null,null,null,null,null,null,null,null,null,null,null,null,null,null,null,null,null,null,null,null,null,null,null,null,"OLY +",2016,null,{"$f":"IF(AQ341,VLOOKUP(AQ341,HOM!$AR$551:$AS$606,2))","v":3.5710000000000002}]
[null,null,null,null,null,null,null,null,null,null,null,null,null,null,null,null,null,null,null,null,null,null,null,null,null,null,null,null,null,null,null,null,null,null,null,null,null,null,null,null,null,"OLY +",2016,null,{"$f":"IF(AQ342,VLOOKUP(AQ342,HOM!$AR$551:$AS$606,2))","v":3.5710000000000002}]
[null,null,null,null,null,null,null,null,null,null,null,null,null,null,null,null,null,null,null,null,null,null,null,null,null,null,null,null,null,null,null,null,null,null,null,null,null,null,null,null,null,"OLY +",2016,null,{"$f":"IF(AQ343,VLOOKUP(AQ343,HOM!$AR$551:$AS$606,2))","v":3.5710000000000002}]
[null,null,null,null,null,null,null,null,null,null,null,null,null,null,null,null,null,null,null,null,null,null,null,null,null,null,null,null,null,null,null,null,null,null,null,null,null,null,null,null,null,"OLY +",2016,null,{"$f":"IF(AQ344,VLOOKUP(AQ344,HOM!$AR$551:$AS$606,2))","v":3.5710000000000002}]
[null,null,null,null,null,null,null,null,null,null,null,null,null,null,null,null,null,null,null,null,null,null,null,null,null,null,null,null,null,null,null,null,null,null,null,null,null,null,null,null,null,"OLY +",2016,null,{"$f":"IF(AQ345,VLOOKUP(AQ345,HOM!$AR$551:$AS$606,2))","v":3.5710000000000002}]
[null,null,null,null,null,null,null,null,null,null,null,null,null,null,null,null,null,null,null,null,null,null,null,null,null,null,null,null,null,null,null,null,null,null,null,null,null,null,null,null,null,"OLY +",2016,null,{"$f":"IF(AQ346,VLOOKUP(AQ346,HOM!$AR$551:$AS$606,2))","v":3.5710000000000002}]
[null,null,null,null,null,null,null,null,null,null,null,null,null,null,null,null,null,null,null,null,null,null,null,null,null,null,null,null,null,null,null,null,null,null,null,null,null,null,null,null,null,"OLY +",2016,null,{"$f":"IF(AQ347,VLOOKUP(AQ347,HOM!$AR$551:$AS$606,2))","v":3.5710000000000002}]
[null,null,null,null,null,null,null,null,null,null,null,null,null,null,null,null,null,null,null,null,null,null,null,null,null,null,null,null,null,null,null,null,null,null,null,null,null,null,null,null,null,"OLY +",2016,null,{"$f":"IF(AQ348,VLOOKUP(AQ348,HOM!$AR$551:$AS$606,2))","v":3.5710000000000002}]
[null,null,null,null,null,null,null,null,null,null,null,null,null,null,null,null,null,null,null,null,null,null,null,null,null,null,null,null,null,null,null,null,null,null,null,null,null,null,null,null,null,"OLY +",2016,null,{"$f":"IF(AQ349,VLOOKUP(AQ349,HOM!$AR$551:$AS$606,2))","v":3.5710000000000002}]
[null,null,null,null,null,null,null,null,null,null,null,null,null,null,null,null,null,null,null,null,null,null,null,null,null,null,null,null,null,null,null,null,null,null,null,null,null,null,null,null,null,"OLY +",2016,null,{"$f":"IF(AQ350,VLOOKUP(AQ350,HOM!$AR$551:$AS$606,2))","v":3.5710000000000002}]
[null,null,null,null,null,null,null,null,null,null,null,null,null,null,null,null,null,null,null,null,null,null,null,null,null,null,null,null,null,null,null,null,null,null,null,null,null,null,null,null,null,"OLY +",2016,null,{"$f":"IF(AQ351,VLOOKUP(AQ351,HOM!$AR$551:$AS$606,2))","v":3.5710000000000002}]
[null,null,null,null,null,null,null,null,null,null,null,null,null,null,null,null,null,null,null,null,null,null,null,null,null,null,null,null,null,null,null,null,null,null,null,null,null,null,null,null,null,"OLY +",2016,null,{"$f":"IF(AQ352,VLOOKUP(AQ352,HOM!$AR$551:$AS$606,2))","v":3.5710000000000002}]
[null,null,null,null,null,null,null,null,null,null,null,null,null,null,null,null,null,null,null,null,null,null,null,null,null,null,null,null,null,null,null,null,null,null,null,null,null,null,null,null,null,"OLY +",2016,null,{"$f":"IF(AQ353,VLOOKUP(AQ353,HOM!$AR$551:$AS$606,2))","v":3.5710000000000002}]
[null,null,null,null,null,null,null,null,null,null,null,null,null,null,null,null,null,null,null,null,null,null,null,null,null,null,null,null,null,null,null,null,null,null,null,null,null,null,null,null,null,"OLY +",2016,null,{"$f":"IF(AQ354,VLOOKUP(AQ354,HOM!$AR$551:$AS$606,2))","v":3.5710000000000002}]
[null,null,null,null,null,null,null,null,null,null,null,null,null,null,null,null,null,null,null,null,null,null,null,null,null,null,null,null,null,null,null,null,null,null,null,null,null,null,null,null,null,"OLY +",2016,null,{"$f":"IF(AQ355,VLOOKUP(AQ355,HOM!$AR$551:$AS$606,2))","v":3.5710000000000002}]
[null,null,null,null,null,null,null,null,null,null,null,null,null,null,null,null,null,null,null,null,null,null,null,null,null,null,null,null,null,null,null,null,null,null,null,null,null,null,null,null,null,"OLY +",2016,null,{"$f":"IF(AQ356,VLOOKUP(AQ356,HOM!$AR$551:$AS$606,2))","v":3.5710000000000002}]
[null,null,null,null,null,null,null,null,null,null,null,null,null,null,null,null,null,null,null,null,null,null,null,null,null,null,null,null,null,null,null,null,null,null,null,null,null,null,null,null,null,"OLY +",2016,null,{"$f":"IF(AQ357,VLOOKUP(AQ357,HOM!$AR$551:$AS$606,2))","v":3.5710000000000002}]
[null,null,null,null,null,null,null,null,null,null,null,null,null,null,null,null,null,null,null,null,null,null,null,null,null,null,null,null,null,null,null,null,null,null,null,null,null,null,null,null,null,"OLY +",2016,null,{"$f":"IF(AQ358,VLOOKUP(AQ358,HOM!$AR$551:$AS$606,2))","v":3.5710000000000002}]
[null,null,null,null,null,null,null,null,null,null,null,null,null,null,null,null,null,null,null,null,null,null,null,null,null,null,null,null,null,null,null,null,null,null,null,null,null,null,null,null,null,{"$f":"IF(AH359>=0,$AH$4,IF(AG359>=0,$AG$4,IF(AF359>=0,$AF$4,IF(AE359>=0,$AE$4,IF(AD359>=0,$AD$4,IF(AC359>=0,$AC$4,IF(AB359>=0,$AB$4,IF(AA359>=0,$AA$4,$AI$4))))))))","v":"OLY +"},2016,null,{"$f":"IF(AQ359,VLOOKUP(AQ359,HOM!$AR$551:$AS$606,2))","v":3.5710000000000002}]
[null,null,null,null,null,null,null,null,null,null,null,null,null,null,null,null,null,null,null,null,null,null,null,null,null,null,null,null,null,null,null,null,null,null,null,null,null,null,null,null,null,"OLY +",2016,null,{"$f":"IF(AQ360,VLOOKUP(AQ360,HOM!$AR$551:$AS$606,2))","v":3.5710000000000002}]
[null,null,null,null,null,null,null,null,null,null,null,null,null,null,null,null,null,null,null,null,null,null,null,null,null,null,null,null,null,null,null,null,null,null,null,null,null,null,null,null,null,"OLY +",2016,null,{"$f":"IF(AQ361,VLOOKUP(AQ361,HOM!$AR$551:$AS$606,2))","v":3.5710000000000002}]
[null,null,null,null,null,null,null,null,null,null,null,null,null,null,null,null,null,null,null,null,null,null,null,null,null,null,null,null,null,null,null,null,null,null,null,null,null,null,null,null,null,"OLY +",2016,null,{"$f":"IF(AQ362,VLOOKUP(AQ362,HOM!$AR$551:$AS$606,2))","v":3.5710000000000002}]
[null,null,null,null,null,null,null,null,null,null,null,null,null,null,null,null,null,null,null,null,null,null,null,null,null,null,null,null,null,null,null,null,null,null,null,null,null,null,null,null,null,"OLY +",2016,null,{"$f":"IF(AQ363,VLOOKUP(AQ363,HOM!$AR$551:$AS$606,2))","v":3.5710000000000002}]
[null,null,null,null,null,null,null,null,null,null,null,null,null,null,null,null,null,null,null,null,null,null,null,null,null,null,null,null,null,null,null,null,null,null,null,null,null,null,null,null,null,"OLY +",2016,null,{"$f":"IF(AQ364,VLOOKUP(AQ364,HOM!$AR$551:$AS$606,2))","v":3.5710000000000002}]
[null,null,null,null,null,null,null,null,null,null,null,null,null,null,null,null,null,null,null,null,null,null,null,null,null,null,null,null,null,null,null,null,null,null,null,null,null,null,null,null,null,"OLY +",2016,null,{"$f":"IF(AQ365,VLOOKUP(AQ365,HOM!$AR$551:$AS$606,2))","v":3.5710000000000002}]
[null,null,null,null,null,null,null,null,null,null,null,null,null,null,null,null,null,null,null,null,null,null,null,null,null,null,null,null,null,null,null,null,null,null,null,null,null,null,null,null,null,"OLY +",2016,null,{"$f":"IF(AQ366,VLOOKUP(AQ366,HOM!$AR$551:$AS$606,2))","v":3.5710000000000002}]
[null,null,null,null,null,null,null,null,null,null,null,null,null,null,null,null,null,null,null,null,null,null,null,null,null,null,null,null,null,null,null,null,null,null,null,null,null,null,null,null,null,"OLY +",2016,null,{"$f":"IF(AQ367,VLOOKUP(AQ367,HOM!$AR$551:$AS$606,2))","v":3.5710000000000002}]
[null,null,null,null,null,null,null,null,null,null,null,null,null,null,null,null,null,null,null,null,null,null,null,null,null,null,null,null,null,null,null,null,null,null,null,null,null,null,null,null,null,"OLY +",2016,null,{"$f":"IF(AQ368,VLOOKUP(AQ368,HOM!$AR$551:$AS$606,2))","v":3.5710000000000002}]
[null,null,null,null,null,null,null,null,null,null,null,null,null,null,null,null,null,null,null,null,null,null,null,null,null,null,null,null,null,null,null,null,null,null,null,null,null,null,null,null,null,"OLY +",2016,null,{"$f":"IF(AQ369,VLOOKUP(AQ369,HOM!$AR$551:$AS$606,2))","v":3.5710000000000002}]
[null,null,null,null,null,null,null,null,null,null,null,null,null,null,null,null,null,null,null,null,null,null,null,null,null,null,null,null,null,null,null,null,null,null,null,null,null,null,null,null,null,"OLY +",2016,null,{"$f":"IF(AQ370,VLOOKUP(AQ370,HOM!$AR$551:$AS$606,2))","v":3.5710000000000002}]
[null,null,null,null,null,null,null,null,null,null,null,null,null,null,null,null,null,null,null,null,null,null,null,null,null,null,null,null,null,null,null,null,null,null,null,null,null,null,null,null,null,"OLY +",2016,null,{"$f":"IF(AQ371,VLOOKUP(AQ371,HOM!$AR$551:$AS$606,2))","v":3.5710000000000002}]
[null,null,null,null,null,null,null,null,null,null,null,null,null,null,null,null,null,null,null,null,null,null,null,null,null,null,null,null,null,null,null,null,null,null,null,null,null,null,null,null,null,"OLY +",2016,null,{"$f":"IF(AQ372,VLOOKUP(AQ372,HOM!$AR$551:$AS$606,2))","v":3.5710000000000002}]
[null,null,null,null,null,null,null,null,null,null,null,null,null,null,null,null,null,null,null,null,null,null,null,null,null,null,null,null,null,null,null,null,null,null,null,null,null,null,null,null,null,"OLY +",2016,null,{"$f":"IF(AQ373,VLOOKUP(AQ373,HOM!$AR$551:$AS$606,2))","v":3.5710000000000002}]
[null,null,null,null,null,null,null,null,null,null,null,null,null,null,null,null,null,null,null,null,null,null,null,null,null,null,null,null,null,null,null,null,null,null,null,null,null,null,null,null,null,"OLY +",2016,null,{"$f":"IF(AQ374,VLOOKUP(AQ374,HOM!$AR$551:$AS$606,2))","v":3.5710000000000002}]
[null,null,null,null,null,null,null,null,null,null,null,null,null,null,null,null,null,null,null,null,null,null,null,null,null,null,null,null,null,null,null,null,null,null,null,null,null,null,null,null,null,"OLY +",2016,null,{"$f":"IF(AQ375,VLOOKUP(AQ375,HOM!$AR$551:$AS$606,2))","v":3.5710000000000002}]
[null,null,null,null,null,null,null,null,null,null,null,null,null,null,null,null,null,null,null,null,null,null,null,null,null,null,null,null,null,null,null,null,null,null,null,null,null,null,null,null,null,"OLY +",2016,null,{"$f":"IF(AQ376,VLOOKUP(AQ376,HOM!$AR$551:$AS$606,2))","v":3.5710000000000002}]
[null,null,null,null,null,null,null,null,null,null,null,null,null,null,null,null,null,null,null,null,null,null,null,null,null,null,null,null,null,null,null,null,null,null,null,null,null,null,null,null,null,"OLY +",2016,null,{"$f":"IF(AQ377,VLOOKUP(AQ377,HOM!$AR$551:$AS$606,2))","v":3.5710000000000002}]
[null,null,null,null,null,null,null,null,null,null,null,null,null,null,null,null,null,null,null,null,null,null,null,null,null,null,null,null,null,null,null,null,null,null,null,null,null,null,null,null,null,"OLY +",2016,null,{"$f":"IF(AQ378,VLOOKUP(AQ378,HOM!$AR$551:$AS$606,2))","v":3.5710000000000002}]
[null,null,null,null,null,null,null,null,null,null,null,null,null,null,null,null,null,null,null,null,null,null,null,null,null,null,null,null,null,null,null,null,null,null,null,null,null,null,null,null,null,"OLY +",2016,null,{"$f":"IF(AQ379,VLOOKUP(AQ379,HOM!$AR$551:$AS$606,2))","v":3.5710000000000002}]
[null,null,null,null,null,null,null,null,null,null,null,null,null,null,null,null,null,null,null,null,null,null,null,null,null,null,null,null,null,null,null,null,null,null,null,null,null,null,null,null,null,"OLY +",2016,null,{"$f":"IF(AQ380,VLOOKUP(AQ380,HOM!$AR$551:$AS$606,2))","v":3.5710000000000002}]
[null,null,null,null,null,null,null,null,null,null,null,null,null,null,null,null,null,null,null,null,null,null,null,null,null,null,null,null,null,null,null,null,null,null,null,null,null,null,null,null,null,"OLY +",2016,null,{"$f":"IF(AQ381,VLOOKUP(AQ381,HOM!$AR$551:$AS$606,2))","v":3.5710000000000002}]
[null,null,null,null,null,null,null,null,null,null,null,null,null,null,null,null,null,null,null,null,null,null,null,null,null,null,null,null,null,null,null,null,null,null,null,null,null,null,null,null,null,"OLY +",2016,null,{"$f":"IF(AQ382,VLOOKUP(AQ382,HOM!$AR$551:$AS$606,2))","v":3.5710000000000002}]
[null,null,null,null,null,null,null,null,null,null,null,null,null,null,null,null,null,null,null,null,null,null,null,null,null,null,null,null,null,null,null,null,null,null,null,null,null,null,null,null,null,"OLY +",2016,null,{"$f":"IF(AQ383,VLOOKUP(AQ383,HOM!$AR$551:$AS$606,2))","v":3.5710000000000002}]
[null,null,null,null,null,null,null,null,null,null,null,null,null,null,null,null,null,null,null,null,null,null,null,null,null,null,null,null,null,null,null,null,null,null,null,null,null,null,null,null,null,"OLY +",2016,null,{"$f":"IF(AQ384,VLOOKUP(AQ384,HOM!$AR$551:$AS$606,2))","v":3.5710000000000002}]
[null,null,null,null,null,null,null,null,null,null,null,null,null,null,null,null,null,null,null,null,null,null,null,null,null,null,null,null,null,null,null,null,null,null,null,null,null,null,null,null,null,"OLY +",2016,null,{"$f":"IF(AQ385,VLOOKUP(AQ385,HOM!$AR$551:$AS$606,2))","v":3.5710000000000002}]
[null,null,null,null,null,null,null,null,null,null,null,null,null,null,null,null,null,null,null,null,null,null,null,null,null,null,null,null,null,null,null,null,null,null,null,null,null,null,null,null,null,"OLY +",2016,null,{"$f":"IF(AQ386,VLOOKUP(AQ386,HOM!$AR$551:$AS$606,2))","v":3.5710000000000002}]
[null,null,null,null,null,null,null,null,null,null,null,null,null,null,null,null,null,null,null,null,null,null,null,null,null,null,null,null,null,null,null,null,null,null,null,null,null,null,null,null,null,"OLY +",2016,null,{"$f":"IF(AQ387,VLOOKUP(AQ387,HOM!$AR$551:$AS$606,2))","v":3.5710000000000002}]
[null,null,null,null,null,null,null,null,null,null,null,null,null,null,null,null,null,null,null,null,null,null,null,null,null,null,null,null,null,null,null,null,null,null,null,null,null,null,null,null,null,"OLY +",2016,null,{"$f":"IF(AQ388,VLOOKUP(AQ388,HOM!$AR$551:$AS$606,2))","v":3.5710000000000002}]
[null,null,null,null,null,null,null,null,null,null,null,null,null,null,null,null,null,null,null,null,null,null,null,null,null,null,null,null,null,null,null,null,null,null,null,null,null,null,null,null,null,"OLY +",{"$f":"2016-H389","v":2016},null,{"$f":"IF(AQ389,VLOOKUP(AQ389,HOM!$AR$551:$AS$606,2))","v":3.5710000000000002}]
[null,null,null,null,null,null,null,null,null,null,null,null,null,null,null,null,null,null,null,null,null,null,null,null,null,null,null,null,null,null,null,null,null,null,null,null,null,null,null,null,null,"OLY +",2016,null,{"$f":"IF(AQ390,VLOOKUP(AQ390,HOM!$AR$551:$AS$606,2))","v":3.5710000000000002}]
[null,null,null,null,null,null,null,null,null,null,null,null,null,null,null,null,null,null,null,null,null,null,null,null,null,null,null,null,null,null,null,null,null,null,null,null,null,null,null,null,null,"OLY +",2016,null,{"$f":"IF(AQ391,VLOOKUP(AQ391,HOM!$AR$551:$AS$606,2))","v":3.5710000000000002}]
[null,null,null,null,null,null,null,null,null,null,null,null,null,null,null,null,null,null,null,null,null,null,null,null,null,null,null,null,null,null,null,null,null,null,null,null,null,null,null,null,null,"OLY +",2016,null,{"$f":"IF(AQ392,VLOOKUP(AQ392,HOM!$AR$551:$AS$606,2))","v":3.5710000000000002}]
[null,null,null,null,null,null,null,null,null,null,null,null,null,null,null,null,null,null,null,null,null,null,null,null,null,null,null,null,null,null,null,null,null,null,null,null,null,null,null,null,null,"OLY +",2016,null,{"$f":"IF(AQ393,VLOOKUP(AQ393,HOM!$AR$551:$AS$606,2))","v":3.5710000000000002}]
[null,null,null,null,null,null,null,null,null,null,null,null,null,null,null,null,null,null,null,null,null,null,null,null,null,null,null,null,null,null,null,null,null,null,null,null,null,null,null,null,null,"OLY +",2016,null,{"$f":"IF(AQ394,VLOOKUP(AQ394,HOM!$AR$551:$AS$606,2))","v":3.5710000000000002}]
[null,null,null,null,null,null,null,null,null,null,null,null,null,null,null,null,null,null,null,null,null,null,null,null,null,null,null,null,null,null,null,null,null,null,null,null,null,null,null,null,null,"OLY +",2016,null,{"$f":"IF(AQ395,VLOOKUP(AQ395,HOM!$AR$551:$AS$606,2))","v":3.5710000000000002}]
[null,null,null,null,null,null,null,null,null,null,null,null,null,null,null,null,null,null,null,null,null,null,null,null,null,null,null,null,null,null,null,null,null,null,null,null,null,null,null,null,null,"OLY +",2016,null,{"$f":"IF(AQ396,VLOOKUP(AQ396,HOM!$AR$551:$AS$606,2))","v":3.5710000000000002}]
[null,null,null,null,null,null,null,null,null,null,null,null,null,null,null,null,null,null,null,null,null,null,null,null,null,null,null,null,null,null,null,null,null,null,null,null,null,null,null,null,null,"OLY +",2016,null,{"$f":"IF(AQ397,VLOOKUP(AQ397,HOM!$AR$551:$AS$606,2))","v":3.5710000000000002}]
[null,null,null,null,null,null,null,null,null,null,null,null,null,null,null,null,null,null,null,null,null,null,null,null,null,null,null,null,null,null,null,null,null,null,null,null,null,null,null,null,null,"OLY +",2016,null,{"$f":"IF(AQ398,VLOOKUP(AQ398,HOM!$AR$551:$AS$606,2))","v":3.5710000000000002}]
[null,null,null,null,null,null,null,null,null,null,null,null,null,null,null,null,null,null,null,null,null,null,null,null,null,null,null,null,null,null,null,null,null,null,null,null,null,null,null,null,null,"OLY +",2016,null,{"$f":"IF(AQ399,VLOOKUP(AQ399,HOM!$AR$551:$AS$606,2))","v":3.5710000000000002}]
[null,null,null,null,null,null,null,null,null,null,null,null,null,null,null,null,null,null,null,null,null,null,null,null,null,null,null,null,null,null,null,null,null,null,null,null,null,null,null,null,null,"OLY +",2016,null,{"$f":"IF(AQ400,VLOOKUP(AQ400,HOM!$AR$551:$AS$606,2))","v":3.5710000000000002}]
[null,null,null,null,null,null,null,null,null,null,null,null,null,null,null,null,null,null,null,null,null,null,null,null,null,null,null,null,null,null,null,null,null,null,null,null,null,null,null,null,null,"OLY +",2016,null,{"$f":"IF(AQ401,VLOOKUP(AQ401,HOM!$AR$551:$AS$606,2))","v":3.5710000000000002}]
[null,null,null,null,null,null,null,null,null,null,null,null,null,null,null,null,null,null,null,null,null,null,null,null,null,null,null,null,null,null,null,null,null,null,null,null,null,null,null,null,null,"OLY +",2016,null,{"$f":"IF(AQ402,VLOOKUP(AQ402,HOM!$AR$551:$AS$606,2))","v":3.5710000000000002}]
[null,null,null,null,null,null,null,null,null,null,null,null,null,null,null,null,null,null,null,null,null,null,null,null,null,null,null,null,null,null,null,null,null,null,null,null,null,null,null,null,null,"OLY +",2016,null,{"$f":"IF(AQ403,VLOOKUP(AQ403,HOM!$AR$551:$AS$606,2))","v":3.5710000000000002}]
[null,null,null,null,null,null,null,null,null,null,null,null,null,null,null,null,null,null,null,null,null,null,null,null,null,null,null,null,null,null,null,null,null,null,null,null,null,null,null,null,null,"OLY +",2016,null,{"$f":"IF(AQ404,VLOOKUP(AQ404,HOM!$AR$551:$AS$606,2))","v":3.5710000000000002}]
[null,null,null,null,null,null,null,null,null,null,null,null,null,null,null,null,null,null,null,null,null,null,null,null,null,null,null,null,null,null,null,null,null,null,null,null,null,null,null,null,null,"OLY +",2016,null,{"$f":"IF(AQ405,VLOOKUP(AQ405,HOM!$AR$551:$AS$606,2))","v":3.5710000000000002}]
[null,null,null,null,null,null,null,null,null,null,null,null,null,null,null,null,null,null,null,null,null,null,null,null,null,null,null,null,null,null,null,null,null,null,null,null,null,null,null,null,null,"OLY +",2016,null,{"$f":"IF(AQ406,VLOOKUP(AQ406,HOM!$AR$551:$AS$606,2))","v":3.5710000000000002}]
[null,null,null,null,null,null,null,null,null,null,null,null,null,null,null,null,null,null,null,null,null,null,null,null,null,null,null,null,null,null,null,null,null,null,null,null,null,null,null,null,null,"OLY +",2016,null,{"$f":"IF(AQ407,VLOOKUP(AQ407,HOM!$AR$551:$AS$606,2))","v":3.5710000000000002}]
[null,null,null,null,null,null,null,null,null,null,null,null,null,null,null,null,null,null,null,null,null,null,null,null,null,null,null,null,null,null,null,null,null,null,null,null,null,null,null,null,null,"OLY +",2016,null,{"$f":"IF(AQ408,VLOOKUP(AQ408,HOM!$AR$551:$AS$606,2))","v":3.5710000000000002}]
[null,null,null,null,null,null,null,null,null,null,null,null,null,null,null,null,null,null,null,null,null,null,null,null,null,null,null,null,null,null,null,null,null,null,null,null,null,null,null,null,null,"OLY +",2016,null,{"$f":"IF(AQ409,VLOOKUP(AQ409,HOM!$AR$551:$AS$606,2))","v":3.5710000000000002}]
[null,null,null,null,null,null,null,null,null,null,null,null,null,null,null,null,null,null,null,null,null,null,null,null,null,null,null,null,null,null,null,null,null,null,null,null,null,null,null,null,null,"OLY +",2016,null,{"$f":"IF(AQ410,VLOOKUP(AQ410,HOM!$AR$551:$AS$606,2))","v":3.5710000000000002}]
[null,null,null,null,null,null,null,null,null,null,null,null,null,null,null,null,null,null,null,null,null,null,null,null,null,null,null,null,null,null,null,null,null,null,null,null,null,null,null,null,null,"OLY +",2016,null,{"$f":"IF(AQ411,VLOOKUP(AQ411,HOM!$AR$551:$AS$606,2))","v":3.5710000000000002}]
[null,null,null,null,null,null,null,null,null,null,null,null,null,null,null,null,null,null,null,null,null,null,null,null,null,null,null,null,null,null,null,null,null,null,null,null,null,null,null,null,null,"OLY +",2016,null,{"$f":"IF(AQ412,VLOOKUP(AQ412,HOM!$AR$551:$AS$606,2))","v":3.5710000000000002}]
[null,null,null,null,null,null,null,null,null,null,null,null,null,null,null,null,null,null,null,null,null,null,null,null,null,null,null,null,null,null,null,null,null,null,null,null,null,null,null,null,null,"OLY +",2016,null,{"$f":"IF(AQ413,VLOOKUP(AQ413,HOM!$AR$551:$AS$606,2))","v":3.5710000000000002}]
[null,null,null,null,null,null,null,null,null,null,null,null,null,null,null,null,null,null,null,null,null,null,null,null,null,null,null,null,null,null,null,null,null,null,null,null,null,null,null,null,null,"OLY +",2016,null,{"$f":"IF(AQ414,VLOOKUP(AQ414,HOM!$AR$551:$AS$606,2))","v":3.5710000000000002}]
[null,null,null,null,null,null,null,null,null,null,null,null,null,null,null,null,null,null,null,null,null,null,null,null,null,null,null,null,null,null,null,null,null,null,null,null,null,null,null,null,null,"OLY +",2016,null,{"$f":"IF(AQ415,VLOOKUP(AQ415,HOM!$AR$551:$AS$606,2))","v":3.5710000000000002}]
[null,null,null,null,null,null,null,null,null,null,null,null,null,null,null,null,null,null,null,null,null,null,null,null,null,null,null,null,null,null,null,null,null,null,null,null,null,null,null,null,null,"OLY +",2016,null,{"$f":"IF(AQ416,VLOOKUP(AQ416,HOM!$AR$551:$AS$606,2))","v":3.5710000000000002}]
[null,null,null,null,null,null,null,null,null,null,null,null,null,null,null,null,null,null,null,null,null,null,null,null,null,null,null,null,null,null,null,null,null,null,null,null,null,null,null,null,null,"OLY +",2016,null,{"$f":"IF(AQ417,VLOOKUP(AQ417,HOM!$AR$551:$AS$606,2))","v":3.5710000000000002}]
[null,null,null,null,null,null,null,null,null,null,null,null,null,null,null,null,null,null,null,null,null,null,null,null,null,null,null,null,null,null,null,null,null,null,null,null,null,null,null,null,null,"OLY +",2016,null,{"$f":"IF(AQ418,VLOOKUP(AQ418,HOM!$AR$551:$AS$606,2))","v":3.5710000000000002}]
[null,null,null,null,null,null,null,null,null,null,null,null,null,null,null,null,null,null,null,null,null,null,null,null,null,null,null,null,null,null,null,null,null,null,null,null,null,null,null,null,null,"OLY +",2016,null,{"$f":"IF(AQ419,VLOOKUP(AQ419,HOM!$AR$551:$AS$606,2))","v":3.5710000000000002}]
[null,null,null,null,null,null,null,null,null,null,null,null,null,null,null,null,null,null,null,null,null,null,null,null,null,null,null,null,null,null,null,null,null,null,null,null,null,null,null,null,null,"OLY +",2016,null,{"$f":"IF(AQ420,VLOOKUP(AQ420,HOM!$AR$551:$AS$606,2))","v":3.5710000000000002}]
[null,null,null,null,null,null,null,null,null,null,null,null,null,null,null,null,null,null,null,null,null,null,null,null,null,null,null,null,null,null,null,null,null,null,null,null,null,null,null,null,null,"OLY +",2016,null,{"$f":"IF(AQ421,VLOOKUP(AQ421,HOM!$AR$551:$AS$606,2))","v":3.5710000000000002}]
[null,null,null,null,null,null,null,null,null,null,null,null,null,null,null,null,null,null,null,null,null,null,null,null,null,null,null,null,null,null,null,null,null,null,null,null,null,null,null,null,null,"OLY +",2016,null,{"$f":"IF(AQ422,VLOOKUP(AQ422,HOM!$AR$551:$AS$606,2))","v":3.5710000000000002}]
[null,null,null,null,null,null,null,null,null,null,null,null,null,null,null,null,null,null,null,null,null,null,null,null,null,null,null,null,null,null,null,null,null,null,null,null,null,null,null,null,null,{"$f":"IF(AH423>=0,$AH$4,IF(AG423>=0,$AG$4,IF(AF423>=0,$AF$4,IF(AE423>=0,$AE$4,IF(AD423>=0,$AD$4,IF(AC423>=0,$AC$4,IF(AB423>=0,$AB$4,IF(AA423>=0,$AA$4,$AI$4))))))))","v":"OLY +"},2016,null,{"$f":"IF(AQ423,VLOOKUP(AQ423,HOM!$AR$551:$AS$606,2))","v":3.5710000000000002}]
[null,null,null,null,null,null,null,null,null,null,null,null,null,null,null,null,null,null,null,null,null,null,null,null,null,null,null,null,null,null,null,null,null,null,null,null,null,null,null,null,null,"OLY +",2016,null,{"$f":"IF(AQ424,VLOOKUP(AQ424,HOM!$AR$551:$AS$606,2))","v":3.5710000000000002}]
[null,null,null,null,null,null,null,null,null,null,null,null,null,null,null,null,null,null,null,null,null,null,null,null,null,null,null,null,null,null,null,null,null,null,null,null,null,null,null,null,null,"OLY +",2016,null,{"$f":"IF(AQ425,VLOOKUP(AQ425,HOM!$AR$551:$AS$606,2))","v":3.5710000000000002}]
[null,null,null,null,null,null,null,null,null,null,null,null,null,null,null,null,null,null,null,null,null,null,null,null,null,null,null,null,null,null,null,null,null,null,null,null,null,null,null,null,null,"OLY +",2016,null,{"$f":"IF(AQ426,VLOOKUP(AQ426,HOM!$AR$551:$AS$606,2))","v":3.5710000000000002}]
[null,null,null,null,null,null,null,null,null,null,null,null,null,null,null,null,null,null,null,null,null,null,null,null,null,null,null,null,null,null,null,null,null,null,null,null,null,null,null,null,null,"OLY +",2016,null,{"$f":"IF(AQ427,VLOOKUP(AQ427,HOM!$AR$551:$AS$606,2))","v":3.5710000000000002}]
[null,null,null,null,null,null,null,null,null,null,null,null,null,null,null,null,null,null,null,null,null,null,null,null,null,null,null,null,null,null,null,null,null,null,null,null,null,null,null,null,null,"OLY +",2016,null,{"$f":"IF(AQ428,VLOOKUP(AQ428,HOM!$AR$551:$AS$606,2))","v":3.5710000000000002}]
[null,null,null,null,null,null,null,null,null,null,null,null,null,null,null,null,null,null,null,null,null,null,null,null,null,null,null,null,null,null,null,null,null,null,null,null,null,null,null,null,null,"OLY +",2016,null,{"$f":"IF(AQ429,VLOOKUP(AQ429,HOM!$AR$551:$AS$606,2))","v":3.5710000000000002}]
[null,null,null,null,null,null,null,null,null,null,null,null,null,null,null,null,null,null,null,null,null,null,null,null,null,null,null,null,null,null,null,null,null,null,null,null,null,null,null,null,null,"OLY +",2016,null,{"$f":"IF(AQ430,VLOOKUP(AQ430,HOM!$AR$551:$AS$606,2))","v":3.5710000000000002}]
[null,null,null,null,null,null,null,null,null,null,null,null,null,null,null,null,null,null,null,null,null,null,null,null,null,null,null,null,null,null,null,null,null,null,null,null,null,null,null,null,null,"OLY +",2016,null,{"$f":"IF(AQ431,VLOOKUP(AQ431,HOM!$AR$551:$AS$606,2))","v":3.5710000000000002}]
[null,null,null,null,null,null,null,null,null,null,null,null,null,null,null,null,null,null,null,null,null,null,null,null,null,null,null,null,null,null,null,null,null,null,null,null,null,null,null,null,null,"OLY +",2016,null,{"$f":"IF(AQ432,VLOOKUP(AQ432,HOM!$AR$551:$AS$606,2))","v":3.5710000000000002}]
[null,null,null,null,null,null,null,null,null,null,null,null,null,null,null,null,null,null,null,null,null,null,null,null,null,null,null,null,null,null,null,null,null,null,null,null,null,null,null,null,null,"OLY +",2016,null,{"$f":"IF(AQ433,VLOOKUP(AQ433,HOM!$AR$551:$AS$606,2))","v":3.5710000000000002}]
[null,null,null,null,null,null,null,null,null,null,null,null,null,null,null,null,null,null,null,null,null,null,null,null,null,null,null,null,null,null,null,null,null,null,null,null,null,null,null,null,null,"OLY +",2016,null,{"$f":"IF(AQ434,VLOOKUP(AQ434,HOM!$AR$551:$AS$606,2))","v":3.5710000000000002}]
[null,null,null,null,null,null,null,null,null,null,null,null,null,null,null,null,null,null,null,null,null,null,null,null,null,null,null,null,null,null,null,null,null,null,null,null,null,null,null,null,null,"OLY +",2016,null,{"$f":"IF(AQ435,VLOOKUP(AQ435,HOM!$AR$551:$AS$606,2))","v":3.5710000000000002}]
[null,null,null,null,null,null,null,null,null,null,null,null,null,null,null,null,null,null,null,null,null,null,null,null,null,null,null,null,null,null,null,null,null,null,null,null,null,null,null,null,null,"OLY +",2016,null,{"$f":"IF(AQ436,VLOOKUP(AQ436,HOM!$AR$551:$AS$606,2))","v":3.5710000000000002}]
[null,null,null,null,null,null,null,null,null,null,null,null,null,null,null,null,null,null,null,null,null,null,null,null,null,null,null,null,null,null,null,null,null,null,null,null,null,null,null,null,null,"OLY +",2016,null,{"$f":"IF(AQ437,VLOOKUP(AQ437,HOM!$AR$551:$AS$606,2))","v":3.5710000000000002}]
[null,null,null,null,null,null,null,null,null,null,null,null,null,null,null,null,null,null,null,null,null,null,null,null,null,null,null,null,null,null,null,null,null,null,null,null,null,null,null,null,null,"OLY +",2016,null,{"$f":"IF(AQ438,VLOOKUP(AQ438,HOM!$AR$551:$AS$606,2))","v":3.5710000000000002}]
[null,null,null,null,null,null,null,null,null,null,null,null,null,null,null,null,null,null,null,null,null,null,null,null,null,null,null,null,null,null,null,null,null,null,null,null,null,null,null,null,null,"OLY +",2016,null,{"$f":"IF(AQ439,VLOOKUP(AQ439,HOM!$AR$551:$AS$606,2))","v":3.5710000000000002}]
[null,null,null,null,null,null,null,null,null,null,null,null,null,null,null,null,null,null,null,null,null,null,null,null,null,null,null,null,null,null,null,null,null,null,null,null,null,null,null,null,null,"OLY +",2016,null,{"$f":"IF(AQ440,VLOOKUP(AQ440,HOM!$AR$551:$AS$606,2))","v":3.5710000000000002}]
[null,null,null,null,null,null,null,null,null,null,null,null,null,null,null,null,null,null,null,null,null,null,null,null,null,null,null,null,null,null,null,null,null,null,null,null,null,null,null,null,null,"OLY +",2016,null,{"$f":"IF(AQ441,VLOOKUP(AQ441,HOM!$AR$551:$AS$606,2))","v":3.5710000000000002}]
[null,null,null,null,null,null,null,null,null,null,null,null,null,null,null,null,null,null,null,null,null,null,null,null,null,null,null,null,null,null,null,null,null,null,null,null,null,null,null,null,null,"OLY +",2016,null,{"$f":"IF(AQ442,VLOOKUP(AQ442,HOM!$AR$551:$AS$606,2))","v":3.5710000000000002}]
[null,null,null,null,null,null,null,null,null,null,null,null,null,null,null,null,null,null,null,null,null,null,null,null,null,null,null,null,null,null,null,null,null,null,null,null,null,null,null,null,null,"OLY +",2016,null,{"$f":"IF(AQ443,VLOOKUP(AQ443,HOM!$AR$551:$AS$606,2))","v":3.5710000000000002}]
[null,null,null,null,null,null,null,null,null,null,null,null,null,null,null,null,null,null,null,null,null,null,null,null,null,null,null,null,null,null,null,null,null,null,null,null,null,null,null,null,null,"OLY +",2016,null,{"$f":"IF(AQ444,VLOOKUP(AQ444,HOM!$AR$551:$AS$606,2))","v":3.5710000000000002}]
[null,null,null,null,null,null,null,null,null,null,null,null,null,null,null,null,null,null,null,null,null,null,null,null,null,null,null,null,null,null,null,null,null,null,null,null,null,null,null,null,null,"OLY +",2016,null,{"$f":"IF(AQ445,VLOOKUP(AQ445,HOM!$AR$551:$AS$606,2))","v":3.5710000000000002}]
[null,null,null,null,null,null,null,null,null,null,null,null,null,null,null,null,null,null,null,null,null,null,null,null,null,null,null,null,null,null,null,null,null,null,null,null,null,null,null,null,null,"OLY +",2016,null,{"$f":"IF(AQ446,VLOOKUP(AQ446,HOM!$AR$551:$AS$606,2))","v":3.5710000000000002}]
[null,null,null,null,null,null,null,null,null,null,null,null,null,null,null,null,null,null,null,null,null,null,null,null,null,null,null,null,null,null,null,null,null,null,null,null,null,null,null,null,null,"OLY +",2016,null,{"$f":"IF(AQ447,VLOOKUP(AQ447,HOM!$AR$551:$AS$606,2))","v":3.5710000000000002}]
[null,null,null,null,null,null,null,null,null,null,null,null,null,null,null,null,null,null,null,null,null,null,null,null,null,null,null,null,null,null,null,null,null,null,null,null,null,null,null,null,null,"OLY +",2016,null,{"$f":"IF(AQ448,VLOOKUP(AQ448,HOM!$AR$551:$AS$606,2))","v":3.5710000000000002}]
[null,null,null,null,null,null,null,null,null,null,null,null,null,null,null,null,null,null,null,null,null,null,null,null,null,null,null,null,null,null,null,null,null,null,null,null,null,null,null,null,null,"OLY +",2016,null,{"$f":"IF(AQ449,VLOOKUP(AQ449,HOM!$AR$551:$AS$606,2))","v":3.5710000000000002}]
[null,null,null,null,null,null,null,null,null,null,null,null,null,null,null,null,null,null,null,null,null,null,null,null,null,null,null,null,null,null,null,null,null,null,null,null,null,null,null,null,null,"OLY +",2016,null,{"$f":"IF(AQ450,VLOOKUP(AQ450,HOM!$AR$551:$AS$606,2))","v":3.5710000000000002}]
[null,null,null,null,null,null,null,null,null,null,null,null,null,null,null,null,null,null,null,null,null,null,null,null,null,null,null,null,null,null,null,null,null,null,null,null,null,null,null,null,null,"OLY +",2016,null,{"$f":"IF(AQ451,VLOOKUP(AQ451,HOM!$AR$551:$AS$606,2))","v":3.5710000000000002}]
[null,null,null,null,null,null,null,null,null,null,null,null,null,null,null,null,null,null,null,null,null,null,null,null,null,null,null,null,null,null,null,null,null,null,null,null,null,null,null,null,null,"OLY +",2016,null,{"$f":"IF(AQ452,VLOOKUP(AQ452,HOM!$AR$551:$AS$606,2))","v":3.5710000000000002}]
[null,null,null,null,null,null,null,null,null,null,null,null,null,null,null,null,null,null,null,null,null,null,null,null,null,null,null,null,null,null,null,null,null,null,null,null,null,null,null,null,null,"OLY +",{"$f":"2016-H453","v":2016},null,{"$f":"IF(AQ453,VLOOKUP(AQ453,HOM!$AR$551:$AS$606,2))","v":3.5710000000000002}]
[null,null,null,null,null,null,null,null,null,null,null,null,null,null,null,null,null,null,null,null,null,null,null,null,null,null,null,null,null,null,null,null,null,null,null,null,null,null,null,null,null,"OLY +",2016,null,{"$f":"IF(AQ454,VLOOKUP(AQ454,HOM!$AR$551:$AS$606,2))","v":3.5710000000000002}]
[null,null,null,null,null,null,null,null,null,null,null,null,null,null,null,null,null,null,null,null,null,null,null,null,null,null,null,null,null,null,null,null,null,null,null,null,null,null,null,null,null,"OLY +",2016,null,{"$f":"IF(AQ455,VLOOKUP(AQ455,HOM!$AR$551:$AS$606,2))","v":3.5710000000000002}]
[null,null,null,null,null,null,null,null,null,null,null,null,null,null,null,null,null,null,null,null,null,null,null,null,null,null,null,null,null,null,null,null,null,null,null,null,null,null,null,null,null,"OLY +",2016,null,{"$f":"IF(AQ456,VLOOKUP(AQ456,HOM!$AR$551:$AS$606,2))","v":3.5710000000000002}]
[null,null,null,null,null,null,null,null,null,null,null,null,null,null,null,null,null,null,null,null,null,null,null,null,null,null,null,null,null,null,null,null,null,null,null,null,null,null,null,null,null,"OLY +",2016,null,{"$f":"IF(AQ457,VLOOKUP(AQ457,HOM!$AR$551:$AS$606,2))","v":3.5710000000000002}]
[null,null,null,null,null,null,null,null,null,null,null,null,null,null,null,null,null,null,null,null,null,null,null,null,null,null,null,null,null,null,null,null,null,null,null,null,null,null,null,null,null,"OLY +",2016,null,{"$f":"IF(AQ458,VLOOKUP(AQ458,HOM!$AR$551:$AS$606,2))","v":3.5710000000000002}]
[null,null,null,null,null,null,null,null,null,null,null,null,null,null,null,null,null,null,null,null,null,null,null,null,null,null,null,null,null,null,null,null,null,null,null,null,null,null,null,null,null,"OLY +",2016,null,{"$f":"IF(AQ459,VLOOKUP(AQ459,HOM!$AR$551:$AS$606,2))","v":3.5710000000000002}]
[null,null,null,null,null,null,null,null,null,null,null,null,null,null,null,null,null,null,null,null,null,null,null,null,null,null,null,null,null,null,null,null,null,null,null,null,null,null,null,null,null,"OLY +",2016,null,{"$f":"IF(AQ460,VLOOKUP(AQ460,HOM!$AR$551:$AS$606,2))","v":3.5710000000000002}]
[null,null,null,null,null,null,null,null,null,null,null,null,null,null,null,null,null,null,null,null,null,null,null,null,null,null,null,null,null,null,null,null,null,null,null,null,null,null,null,null,null,"OLY +",2016,null,{"$f":"IF(AQ461,VLOOKUP(AQ461,HOM!$AR$551:$AS$606,2))","v":3.5710000000000002}]
[]
[]
[]
[null,null,null,null,null,null,null,null,null,null,null,null,null,null,null,null,null,null,null,null,null,null,null,null,null,null,null,null,null,null,null,null,null,null,null,null,null,null,null,null,null,null,35,"V1 F35"]
[null,null,null,null,null,null,null,null,null,null,null,null,null,null,null,null,null,null,null,null,null,null,null,null,null,null,null,null,null,null,null,null,null,null,null,null,null,null,null,null,null,null,36,"V1 F35"]
[null,null,null,null,null,null,null,null,null,null,null,null,null,null,null,null,null,null,null,null,null,null,null,null,null,null,null,null,null,null,null,null,null,null,null,null,null,null,null,null,null,null,37,"V1 F35"]
[null,null,null,null,null,null,null,null,null,null,null,null,null,null,null,null,null,null,null,null,null,null,null,null,null,null,null,null,null,null,null,null,null,null,null,null,null,null,null,null,null,null,38,"V1 F35"]
[null,null,null,null,null,null,null,null,null,null,null,null,null,null,null,null,null,null,null,null,null,null,null,null,null,null,null,null,null,null,null,null,null,null,null,null,null,null,null,null,null,null,39,"V1 F35"]
[null,null,null,null,null,null,null,null,null,null,null,null,null,null,null,null,null,null,null,null,null,null,null,null,null,null,null,null,null,null,null,null,null,null,null,null,null,null,null,null,null,null,40,"V2 F40"]
[null,null,null,null,null,null,null,null,null,null,null,null,null,null,null,null,null,null,null,null,null,null,null,null,null,null,null,null,null,null,null,null,null,null,null,null,null,null,null,null,null,null,41,"V2 F40"]
[null,null,null,null,null,null,null,null,null,null,null,null,null,null,null,null,null,null,null,null,null,null,null,null,null,null,null,null,null,null,null,null,null,null,null,null,null,null,null,null,null,null,42,"V2 F40"]
[null,null,null,null,null,null,null,null,null,null,null,null,null,null,null,null,null,null,null,null,null,null,null,null,null,null,null,null,null,null,null,null,null,null,null,null,null,null,null,null,null,null,43,"V2 F40"]
[null,null,null,null,null,null,null,null,null,null,null,null,null,null,null,null,null,null,null,null,null,null,null,null,null,null,null,null,null,null,null,null,null,null,null,null,null,null,null,null,null,null,44,"V2 F40"]
[null,null,null,null,null,null,null,null,null,null,null,null,null,null,null,null,null,null,null,null,null,null,null,null,null,null,null,null,null,null,null,null,null,null,null,null,null,null,null,null,null,null,45,"V3 F45"]
[null,null,null,null,null,null,null,null,null,null,null,null,null,null,null,null,null,null,null,null,null,null,null,null,null,null,null,null,null,null,null,null,null,null,null,null,null,null,null,null,null,null,46,"V3 F45"]
[null,null,null,null,null,null,null,null,null,null,null,null,null,null,null,null,null,null,null,null,null,null,null,null,null,null,null,null,null,null,null,null,null,null,null,null,null,null,null,null,null,null,47,"V3 F45"]
[null,null,null,null,null,null,null,null,null,null,null,null,null,null,null,null,null,null,null,null,null,null,null,null,null,null,null,null,null,null,null,null,null,null,null,null,null,null,null,null,null,null,48,"V3 F45"]
[null,null,null,null,null,null,null,null,null,null,null,null,null,null,null,null,null,null,null,null,null,null,null,null,null,null,null,null,null,null,null,null,null,null,null,null,null,null,null,null,null,null,49,"V3 F45"]
[null,null,null,null,null,null,null,null,null,null,null,null,null,null,null,null,null,null,null,null,null,null,null,null,null,null,null,null,null,null,null,null,null,null,null,null,null,null,null,null,null,null,50,"V4 F50"]
[null,null,null,null,null,null,null,null,null,null,null,null,null,null,null,null,null,null,null,null,null,null,null,null,null,null,null,null,null,null,null,null,null,null,null,null,null,null,null,null,null,null,51,"V4 F50"]
[null,null,null,null,null,null,null,null,null,null,null,null,null,null,null,null,null,null,null,null,null,null,null,null,null,null,null,null,null,null,null,null,null,null,null,null,null,null,null,null,null,null,52,"V4 F50"]
[null,null,null,null,null,null,null,null,null,null,null,null,null,null,null,null,null,null,null,null,null,null,null,null,null,null,null,null,null,null,null,null,null,null,null,null,null,null,null,null,null,null,53,"V4 F50"]
[null,null,null,null,null,null,null,null,null,null,null,null,null,null,null,null,null,null,null,null,null,null,null,null,null,null,null,null,null,null,null,null,null,null,null,null,null,null,null,null,null,null,54,"V4 F50"]
[null,null,null,null,null,null,null,null,null,null,null,null,null,null,null,null,null,null,null,null,null,null,null,null,null,null,null,null,null,null,null,null,null,null,null,null,null,null,null,null,null,null,55,"V5 F55"]
[null,null,null,null,null,null,null,null,null,null,null,null,null,null,null,null,null,null,null,null,null,null,null,null,null,null,null,null,null,null,null,null,null,null,null,null,null,null,null,null,null,null,56,"V5 F55"]
[null,null,null,null,null,null,null,null,null,null,null,null,null,null,null,null,null,null,null,null,null,null,null,null,null,null,null,null,null,null,null,null,null,null,null,null,null,null,null,null,null,null,57,"V5 F55"]
[null,null,null,null,null,null,null,null,null,null,null,null,null,null,null,null,null,null,null,null,null,null,null,null,null,null,null,null,null,null,null,null,null,null,null,null,null,null,null,null,null,null,58,"V5 F55"]
[null,null,null,null,null,null,null,null,null,null,null,null,null,null,null,null,null,null,null,null,null,null,null,null,null,null,null,null,null,null,null,null,null,null,null,null,null,null,null,null,null,null,59,"V5 F55"]
[null,null,null,null,null,null,null,null,null,null,null,null,null,null,null,null,null,null,null,null,null,null,null,null,null,null,null,null,null,null,null,null,null,null,null,null,null,null,null,null,null,null,60,"V6 F60"]
[null,null,null,null,null,null,null,null,null,null,null,null,null,null,null,null,null,null,null,null,null,null,null,null,null,null,null,null,null,null,null,null,null,null,null,null,null,null,null,null,null,null,61,"V6 F60"]
[null,null,null,null,null,null,null,null,null,null,null,null,null,null,null,null,null,null,null,null,null,null,null,null,null,null,null,null,null,null,null,null,null,null,null,null,null,null,null,null,null,null,62,"V6 F60"]
[null,null,null,null,null,null,null,null,null,null,null,null,null,null,null,null,null,null,null,null,null,null,null,null,null,null,null,null,null,null,null,null,null,null,null,null,null,null,null,null,null,null,63,"V6 F60"]
[null,null,null,null,null,null,null,null,null,null,null,null,null,null,null,null,null,null,null,null,null,null,null,null,null,null,null,null,null,null,null,null,null,null,null,null,null,null,null,null,null,null,64,"V6 F60"]
[null,null,null,null,null,null,null,null,null,null,null,null,null,null,null,null,null,null,null,null,null,null,null,null,null,null,null,null,null,null,null,null,null,null,null,null,null,null,null,null,null,null,65,"V7 F65"]
[null,null,null,null,null,null,null,null,null,null,null,null,null,null,null,null,null,null,null,null,null,null,null,null,null,null,null,null,null,null,null,null,null,null,null,null,null,null,null,null,null,null,66,"V7 F65"]
[null,null,null,null,null,null,null,null,null,null,null,null,null,null,null,null,null,null,null,null,null,null,null,null,null,null,null,null,null,null,null,null,null,null,null,null,null,null,null,null,null,null,67,"V7 F65"]
[null,null,null,null,null,null,null,null,null,null,null,null,null,null,null,null,null,null,null,null,null,null,null,null,null,null,null,null,null,null,null,null,null,null,null,null,null,null,null,null,null,null,68,"V7 F65"]
[null,null,null,null,null,null,null,null,null,null,null,null,null,null,null,null,null,null,null,null,null,null,null,null,null,null,null,null,null,null,null,null,null,null,null,null,null,null,null,null,null,null,69,"V7 F65"]
[null,null,null,null,null,null,null,null,null,null,null,null,null,null,null,null,null,null,null,null,null,null,null,null,null,null,null,null,null,null,null,null,null,null,null,null,null,null,null,null,null,null,70,"V8 F70+"]
[null,null,null,null,null,null,null,null,null,null,null,null,null,null,null,null,null,null,null,null,null,null,null,null,null,null,null,null,null,null,null,null,null,null,null,null,null,null,null,null,null,null,71,"V8 F70+"]
[null,null,null,null,null,null,null,null,null,null,null,null,null,null,null,null,null,null,null,null,null,null,null,null,null,null,null,null,null,null,null,null,null,null,null,null,null,null,null,null,null,null,72,"V8 F70+"]
[null,null,null,null,null,null,null,null,null,null,null,null,null,null,null,null,null,null,null,null,null,null,null,null,null,null,null,null,null,null,null,null,null,null,null,null,null,null,null,null,null,null,73,"V8 F70+"]
[null,null,null,null,null,null,null,null,null,null,null,null,null,null,null,null,null,null,null,null,null,null,null,null,null,null,null,null,null,null,null,null,null,null,null,null,null,null,null,null,null,null,74,"V8 F70+"]
[null,null,null,null,null,null,null,null,null,null,null,null,null,null,null,null,null,null,null,null,null,null,null,null,null,null,null,null,null,null,null,null,null,null,null,null,null,null,null,null,null,null,75,"V8 F70+"]
[null,null,null,null,null,null,null,null,null,null,null,null,null,null,null,null,null,null,null,null,null,null,null,null,null,null,null,null,null,null,null,null,null,null,null,null,null,null,null,null,null,null,76,"V8 F70+"]
[null,null,null,null,null,null,null,null,null,null,null,null,null,null,null,null,null,null,null,null,null,null,null,null,null,null,null,null,null,null,null,null,null,null,null,null,null,null,null,null,null,null,77,"V8 F70+"]
[null,null,null,null,null,null,null,null,null,null,null,null,null,null,null,null,null,null,null,null,null,null,null,null,null,null,null,null,null,null,null,null,null,null,null,null,null,null,null,null,null,null,78,"V8 F70+"]
[null,null,null,null,null,null,null,null,null,null,null,null,null,null,null,null,null,null,null,null,null,null,null,null,null,null,null,null,null,null,null,null,null,null,null,null,null,null,null,null,null,null,79,"V8 F70+"]
[null,null,null,null,null,null,null,null,null,null,null,null,null,null,null,null,null,null,null,null,null,null,null,null,null,null,null,null,null,null,null,null,null,null,null,null,null,null,null,null,null,null,80,"V8 F70+"]
[null,null,null,null,null,null,null,null,null,null,null,null,null,null,null,null,null,null,null,null,null,null,null,null,null,null,null,null,null,null,null,null,null,null,null,null,null,null,null,null,null,null,81,"V8 F70+"]
[null,null,null,null,null,null,null,null,null,null,null,null,null,null,null,null,null,null,null,null,null,null,null,null,null,null,null,null,null,null,null,null,null,null,null,null,null,null,null,null,null,null,82,"V8 F70+"]
[null,null,null,null,null,null,null,null,null,null,null,null,null,null,null,null,null,null,null,null,null,null,null,null,null,null,null,null,null,null,null,null,null,null,null,null,null,null,null,null,null,null,83,"V8 F70+"]
[null,null,null,null,null,null,null,null,null,null,null,null,null,null,null,null,null,null,null,null,null,null,null,null,null,null,null,null,null,null,null,null,null,null,null,null,null,null,null,null,null,null,84,"V8 F70+"]
[null,null,null,null,null,null,null,null,null,null,null,null,null,null,null,null,null,null,null,null,null,null,null,null,null,null,null,null,null,null,null,null,null,null,null,null,null,null,null,null,null,null,85,"V8 F70+"]
[null,null,null,null,null,null,null,null,null,null,null,null,null,null,null,null,null,null,null,null,null,null,null,null,null,null,null,null,null,null,null,null,null,null,null,null,null,null,null,null,null,null,86,"V8 F70+"]
[null,null,null,null,null,null,null,null,null,null,null,null,null,null,null,null,null,null,null,null,null,null,null,null,null,null,null,null,null,null,null,null,null,null,null,null,null,null,null,null,null,null,87,"V8 F70+"]
[null,null,null,null,null,null,null,null,null,null,null,null,null,null,null,null,null,null,null,null,null,null,null,null,null,null,null,null,null,null,null,null,null,null,null,null,null,null,null,null,null,null,88,"V8 F70+"]
[null,null,null,null,null,null,null,null,null,null,null,null,null,null,null,null,null,null,null,null,null,null,null,null,null,null,null,null,null,null,null,null,null,null,null,null,null,null,null,null,null,null,89,"V8 F70+"]
[null,null,null,null,null,null,null,null,null,null,null,null,null,null,null,null,null,null,null,null,null,null,null,null,null,null,null,null,null,null,null,null,null,null,null,null,null,null,null,null,null,null,90,"V8 F70+"]
[]
[]
[]
[]
[]
[]
[]
[]
[]
[]
[]
[]
[]
[]
[]
[]
[]
[]
[]
[]
[]
[]
[null,null,null,null,null,null,null,null,null,null,null,null,null,null,null,null,null,null,null,null,null,null,null,null,null,"J69","J77","J85","J94","J105","J+105",null,"J56","J62","J69","J77","J85","J94","J105","J+105",null,"S56","S62","S69","S77","S85","S94","S105","S+105"]
[null,null,null,null,null,null,null,null,null,null,null,null,null,null,null,null,null,null,null,null,null,null,null,null,null,130,145,160,170,180,190,null,100,115,130,145,160,170,180,190,null,115,135,150,165,180,190,200,210]
[null,null,null,null,null,null,null,null,null,null,null,null,null,null,null,null,null,null,null,null,null,null,null,null,null,150,165,180,190,200,210,null,115,135,150,165,180,190,200,210,null,130,150,165,185,200,210,220,230]
[null,null,null,null,null,null,null,null,null,null,null,null,null,null,null,null,null,null,null,null,null,null,null,null,null,165,185,200,210,220,230,null,130,150,165,185,200,210,220,230,null,145,165,180,200,220,230,240,250]
[null,null,null,null,null,null,null,null,null,null,null,null,null,null,null,null,null,null,null,null,null,null,null,null,null,180,200,220,230,240,250,null,145,165,180,200,220,230,240,250,null,175,195,215,235,250,260,275,280]
[null,null,null,null,null,null,null,null,null,null,null,null,null,null,null,null,null,null,null,null,null,null,null,null,null,215,235,250,260,275,280,null,175,195,215,235,250,260,275,280,null,210,230,250,270,290,300,310,325]
[null,null,null,null,null,null,null,null,null,null,null,null,null,null,null,null,null,null,null,null,null,null,null,null,null,250,270,290,300,310,325,null,210,230,250,270,290,300,310,325,null,230,255,275,300,315,335,345,355]
[null,null,null,null,null,null,null,null,null,null,null,null,null,null,null,null,null,null,null,null,null,null,null,null,null,295,320,335,355,370,380,null,245,270,295,320,335,355,370,380,null,245,270,295,320,335,355,370,380]

{"sheet":"HOM","index":1,"n_rows":703,"n_cols":48,"rows_kept":703,"cut":false,"hidden":true,"merged":[[0,6,0,14],[0,18,0,21],[1,15,1,17],[3,21,3,22]]}
[null,null,null,null,null,null,"LISTING MASTERS HOMMES",null,null,null,null,null,null,null,null,null,"DATE :",null," "]
[null,null,null,null,null,null," "," "," ",null,null,null,null,null,null,"AUTEUR :",null,null,"Daniel MENONI"]
[]
["SEXE","ZONE","REG.","LICENCE","NAT","Caté","NOMS","Prénoms","CLUB","AN","POIDS",1,2,3,"ARR",1,2,3,"EP-J","Total","IWF","SERIE",null,"Catég",null,"N.CL.","REG +","FRA +","EUR +","MON +","INTB +","INTA +","OLY +","NCL"]
["H",null," ",null,null,{"$f":"IF(AP5<95,IF(AP5<=90,VLOOKUP(AP5,$AP$550:$AQ$605,2)))","v":"V6 H60"}," "," "," ",54,98,60,null,null,{"$f":"IF(K5=\"\",\"\",IF(MAXA(L5:N5)<=0,0,MAXA(L5:N5)))","v":60},80,null,null,{"$f":"IF(K5=\"\",\"\",IF(MAXA(P5:R5)<=0,0,MAXA(P5:R5)))","v":80},{"$f":"IF(K5=\"\",\"\",IF(OR(O5=0,S5=0),0,O5+S5))","v":140},{"$f":"IF(K5=\"\",\"\",IF(A5=\"H\",10^(0.794358141*LOG(K5/174.393)^2)*T5*AR5,IF(A5=\"F\",10^(0.89726074 * LOG(K5/148.026)^2)*T5*AR5,\"\")))","v":236.91091317141627},{"$f":"IF(K5=\"\",\"\",AO5)","v":"FRA +"},{"$f":"IF(K5=\"\",\"\",IF(AG5>=0,AG5,IF(AF5>=0,AF5,IF(AE5>=0,AE5,IF(AD5>=0,AD5,IF(AC5>=0,AC5,IF(AB5>=0,AB5,IF(AA5>=0,AA5,Z5))))))))","v":8},{"$f":"IF(AND(J5>=40,J5<45),VLOOKUP(K5,Feuil2!$F$10:$P$28,9),IF(AND(J5>=45,J5<50),VLOOKUP(K5,Feuil2!$F$10:$P$28,8),IF(AND(J5>=50,J5<55),VLOOKUP(K5,Feuil2!$F$10:$P$28,7),IF(AND(J5>=55,J5<60),VLOOKUP(K5,Feuil2!$F$10:$P$28,6),IF(AND(J5>=60,J5<65),VLOOKUP(K5,Feuil2!$F$10:$P$28,5),IF(AND(J5>=65,J5<70),VLOOKUP(K5,Feuil2!$F$10:$P$28,4),IF(AND(J5>=70,J5<75),VLOOKUP(K5,Feuil2!$F$10:$P$28,3),IF(AND(J5>=75,J5<80),VLOOKUP(K5,Feuil2!$F$10:$P$28,2),VLOOKUP(K5,Feuil2!$F$10:$P$28,2)))))))))","v":"VH60-105"},null,{"$f":"T5-HLOOKUP(X5,Feuil2!$C$1:$CD$9,2,FALSE)","v":140},{"$f":"T5-HLOOKUP(X5,Feuil2!$C$1:$CD$9,3,FALSE)","v":18},{"$f":"T5-HLOOKUP(X5,Feuil2!$C$1:$CD$9,4,FALSE)","v":8},{"$f":"T5-HLOOKUP(X5,Feuil2!$C$1:$CD$9,5,FALSE)","v":-2},{"$f":"T5-HLOOKUP(X5,Feuil2!$C$1:$CD$9,6,FALSE)","v":-20},{"$f":"T5-HLOOKUP(X5,Feuil2!$C$1:$CD$9,7,FALSE)","v":-860},{"$f":"T5-HLOOKUP(X5,Feuil2!$C$1:$CD$9,8,FALSE)","v":-860},{"$f":"T5-HLOOKUP(X5,Feuil2!$C$1:$CD$9,9,FALSE)","v":-860},null,null,null,null,null,null,null,{"$f":"IF(AG5>=0,$AG$4,IF(AF5>=0,$AF$4,IF(AE5>=0,$AE$4,IF(AD5>=0,$AD$4,IF(AC5>=0,$AC$4,IF(AB5>=0,$AB$4,IF(AA5>=0,$AA$4,IF(Z5>=0,$Z$4,$AH$4))))))))","v":"FRA +"},{"$f":"114-J5","v":60},null,{"$f":"IF(AP5,VLOOKUP(AP5,HOM!$AR$551:$AS$606,2))","v":1.5089999999999999}]
["H",null," ",null,null,"V6 H60",null,null,null,54,99,50,null,null,50,70,null,null,70,120,202.25552202432547,"N.CL.",120,{"$f":"IF(AND(J6>=40,J6<45),VLOOKUP(K6,Feuil2!$F$10:$P$28,9),IF(AND(J6>=45,J6<50),VLOOKUP(K6,Feuil2!$F$10:$P$28,8),IF(AND(J6>=50,J6<55),VLOOKUP(K6,Feuil2!$F$10:$P$28,7),IF(AND(J6>=55,J6<60),VLOOKUP(K6,Feuil2!$F$10:$P$28,6),IF(AND(J6>=60,J6<65),VLOOKUP(K6,Feuil2!$F$10:$P$28,5),IF(AND(J6>=65,J6<70),VLOOKUP(K6,Feuil2!$F$10:$P$28,4),IF(AND(J6>=70,J6<75),VLOOKUP(K6,Feuil2!$F$10:$P$28,3),IF(AND(J6>=75,J6<80),VLOOKUP(K6,Feuil2!$F$10:$P$28,2),VLOOKUP(K6,Feuil2!$F$10:$P$28,2)))))))))","v":"VH60-105"},null,{"$f":"T6-HLOOKUP(X6,Feuil2!$C$1:$CD$9,2,FALSE)","v":120},{"$f":"T6-HLOOKUP(X6,Feuil2!$C$1:$CD$9,3,FALSE)","v":-2},{"$f":"T6-HLOOKUP(X6,Feuil2!$C$1:$CD$9,4,FALSE)","v":-12},{"$f":"T6-HLOOKUP(X6,Feuil2!$C$1:$CD$9,5,FALSE)","v":-22},{"$f":"T6-HLOOKUP(X6,Feuil2!$C$1:$CD$9,6,FALSE)","v":-40},{"$f":"T6-HLOOKUP(X6,Feuil2!$C$1:$CD$9,7,FALSE)","v":-880},{"$f":"T6-HLOOKUP(X6,Feuil2!$C$1:$CD$9,8,FALSE)","v":-880},{"$f":"T6-HLOOKUP(X6,Feuil2!$C$1:$CD$9,9,FALSE)","v":-880},null,null,null,null,null,null,null,"N.CL.",{"$f":"114-J6","v":60},null,{"$f":"IF(AP6,VLOOKUP(AP6,HOM!$AR$551:$AS$606,2))","v":1.5089999999999999}]
["H",null," ",null,null,"V6 H60",null,null,null,54,98,80,null,null,80,90,null,null,90,170,287.67753742243406,"MON +",10,{"$f":"IF(AND(J7>=40,J7<45),VLOOKUP(K7,Feuil2!$F$10:$P$28,9),IF(AND(J7>=45,J7<50),VLOOKUP(K7,Feuil2!$F$10:$P$28,8),IF(AND(J7>=50,J7<55),VLOOKUP(K7,Feuil2!$F$10:$P$28,7),IF(AND(J7>=55,J7<60),VLOOKUP(K7,Feuil2!$F$10:$P$28,6),IF(AND(J7>=60,J7<65),VLOOKUP(K7,Feuil2!$F$10:$P$28,5),IF(AND(J7>=65,J7<70),VLOOKUP(K7,Feuil2!$F$10:$P$28,4),IF(AND(J7>=70,J7<75),VLOOKUP(K7,Feuil2!$F$10:$P$28,3),IF(AND(J7>=75,J7<80),VLOOKUP(K7,Feuil2!$F$10:$P$28,2),VLOOKUP(K7,Feuil2!$F$10:$P$28,2)))))))))","v":"VH60-105"},null,{"$f":"T7-HLOOKUP(X7,Feuil2!$C$1:$CD$9,2,FALSE)","v":170},{"$f":"T7-HLOOKUP(X7,Feuil2!$C$1:$CD$9,3,FALSE)","v":48},{"$f":"T7-HLOOKUP(X7,Feuil2!$C$1:$CD$9,4,FALSE)","v":38},{"$f":"T7-HLOOKUP(X7,Feuil2!$C$1:$CD$9,5,FALSE)","v":28},{"$f":"T7-HLOOKUP(X7,Feuil2!$C$1:$CD$9,6,FALSE)","v":10},{"$f":"T7-HLOOKUP(X7,Feuil2!$C$1:$CD$9,7,FALSE)","v":-830},{"$f":"T7-HLOOKUP(X7,Feuil2!$C$1:$CD$9,8,FALSE)","v":-830},{"$f":"T7-HLOOKUP(X7,Feuil2!$C$1:$CD$9,9,FALSE)","v":-830},null,null,null,null,null,null,null,"MON +",{"$f":"114-J7","v":60},null,{"$f":"IF(AP7,VLOOKUP(AP7,HOM!$AR$551:$AS$606,2))","v":1.5089999999999999}]
["H",null," ",null,null,"V6 H60",null,null,null,54,98,65,null,null,65,80,null,null,80,145,245.37201721325258,"EUR +",3,{"$f":"IF(AND(J8>=40,J8<45),VLOOKUP(K8,Feuil2!$F$10:$P$28,9),IF(AND(J8>=45,J8<50),VLOOKUP(K8,Feuil2!$F$10:$P$28,8),IF(AND(J8>=50,J8<55),VLOOKUP(K8,Feuil2!$F$10:$P$28,7),IF(AND(J8>=55,J8<60),VLOOKUP(K8,Feuil2!$F$10:$P$28,6),IF(AND(J8>=60,J8<65),VLOOKUP(K8,Feuil2!$F$10:$P$28,5),IF(AND(J8>=65,J8<70),VLOOKUP(K8,Feuil2!$F$10:$P$28,4),IF(AND(J8>=70,J8<75),VLOOKUP(K8,Feuil2!$F$10:$P$28,3),IF(AND(J8>=75,J8<80),VLOOKUP(K8,Feuil2!$F$10:$P$28,2),VLOOKUP(K8,Feuil2!$F$10:$P$28,2)))))))))","v":"VH60-105"},null,{"$f":"T8-HLOOKUP(X8,Feuil2!$C$1:$CD$9,2,FALSE)","v":145},{"$f":"T8-HLOOKUP(X8,Feuil2!$C$1:$CD$9,3,FALSE)","v":23},{"$f":"T8-HLOOKUP(X8,Feuil2!$C$1:$CD$9,4,FALSE)","v":13},{"$f":"T8-HLOOKUP(X8,Feuil2!$C$1:$CD$9,5,FALSE)","v":3},{"$f":"T8-HLOOKUP(X8,Feuil2!$C$1:$CD$9,6,FALSE)","v":-15},{"$f":"T8-HLOOKUP(X8,Feuil2!$C$1:$CD$9,7,FALSE)","v":-855},{"$f":"T8-HLOOKUP(X8,Feuil2!$C$1:$CD$9,8,FALSE)","v":-855},{"$f":"T8-HLOOKUP(X8,Feuil2!$C$1:$CD$9,9,FALSE)","v":-855},null,null,null,null,null,null,null,"EUR +",{"$f":"114-J8","v":60},null,{"$f":"IF(AP8,VLOOKUP(AP8,HOM!$AR$551:$AS$606,2))","v":1.5089999999999999}]
["H"," "," ",null,null,"V6 H60",null,null,null,54,98,55,null,null,55,75,null,null,75,130,219.98870508774368,"REG +",8,{"$f":"IF(AND(J9>=40,J9<45),VLOOKUP(K9,Feuil2!$F$10:$P$28,9),IF(AND(J9>=45,J9<50),VLOOKUP(K9,Feuil2!$F$10:$P$28,8),IF(AND(J9>=50,J9<55),VLOOKUP(K9,Feuil2!$F$10:$P$28,7),IF(AND(J9>=55,J9<60),VLOOKUP(K9,Feuil2!$F$10:$P$28,6),IF(AND(J9>=60,J9<65),VLOOKUP(K9,Feuil2!$F$10:$P$28,5),IF(AND(J9>=65,J9<70),VLOOKUP(K9,Feuil2!$F$10:$P$28,4),IF(AND(J9>=70,J9<75),VLOOKUP(K9,Feuil2!$F$10:$P$28,3),IF(AND(J9>=75,J9<80),VLOOKUP(K9,Feuil2!$F$10:$P$28,2),VLOOKUP(K9,Feuil2!$F$10:$P$28,2)))))))))","v":"VH60-105"},null,{"$f":"T9-HLOOKUP(X9,Feuil2!$C$1:$CD$9,2,FALSE)","v":130},{"$f":"T9-HLOOKUP(X9,Feuil2!$C$1:$CD$9,3,FALSE)","v":8},{"$f":"T9-HLOOKUP(X9,Feuil2!$C$1:$CD$9,4,FALSE)","v":-2},{"$f":"T9-HLOOKUP(X9,Feuil2!$C$1:$CD$9,5,FALSE)","v":-12},{"$f":"T9-HLOOKUP(X9,Feuil2!$C$1:$CD$9,6,FALSE)","v":-30},{"$f":"T9-HLOOKUP(X9,Feuil2!$C$1:$CD$9,7,FALSE)","v":-870},{"$f":"T9-HLOOKUP(X9,Feuil2!$C$1:$CD$9,8,FALSE)","v":-870},{"$f":"T9-HLOOKUP(X9,Feuil2!$C$1:$CD$9,9,FALSE)","v":-870},null,null,null,null,null,null,null,"REG +",60,null,{"$f":"IF(AP9,VLOOKUP(AP9,HOM!$AR$551:$AS$606,2))","v":1.5089999999999999}]
["H"," "," ",null,null,false,null,null,null,null,null,null,null,null,"",null,null,null,"","","","","",{"$f":"IF(AND(J10>=40,J10<45),VLOOKUP(K10,Feuil2!$F$10:$P$28,9),IF(AND(J10>=45,J10<50),VLOOKUP(K10,Feuil2!$F$10:$P$28,8),IF(AND(J10>=50,J10<55),VLOOKUP(K10,Feuil2!$F$10:$P$28,7),IF(AND(J10>=55,J10<60),VLOOKUP(K10,Feuil2!$F$10:$P$28,6),IF(AND(J10>=60,J10<65),VLOOKUP(K10,Feuil2!$F$10:$P$28,5),IF(AND(J10>=65,J10<70),VLOOKUP(K10,Feuil2!$F$10:$P$28,4),IF(AND(J10>=70,J10<75),VLOOKUP(K10,Feuil2!$F$10:$P$28,3),IF(AND(J10>=75,J10<80),VLOOKUP(K10,Feuil2!$F$10:$P$28,2),VLOOKUP(K10,Feuil2!$F$10:$P$28,2)))))))))","v":{"$error":"#N/A"}},null,{"$f":"T10-HLOOKUP(X10,Feuil2!$C$1:$CD$9,2,FALSE)","v":{"$error":"#VALUE!"}},{"$f":"T10-HLOOKUP(X10,Feuil2!$C$1:$CD$9,3,FALSE)","v":{"$error":"#VALUE!"}},{"$f":"T10-HLOOKUP(X10,Feuil2!$C$1:$CD$9,4,FALSE)","v":{"$error":"#VALUE!"}},{"$f":"T10-HLOOKUP(X10,Feuil2!$C$1:$CD$9,5,FALSE)","v":{"$error":"#VALUE!"}},{"$f":"T10-HLOOKUP(X10,Feuil2!$C$1:$CD$9,6,FALSE)","v":{"$error":"#VALUE!"}},{"$f":"T10-HLOOKUP(X10,Feuil2!$C$1:$CD$9,7,FALSE)","v":{"$error":"#VALUE!"}},{"$f":"T10-HLOOKUP(X10,Feuil2!$C$1:$CD$9,8,FALSE)","v":{"$error":"#VALUE!"}},{"$f":"T10-HLOOKUP(X10,Feuil2!$C$1:$CD$9,9,FALSE)","v":{"$error":"#VALUE!"}},null,null,null,null,null,null,null,{"$error":"#VALUE!"},114,null,{"$f":"IF(AP10,VLOOKUP(AP10,HOM!$AR$551:$AS$606,2))","v":3.5710000000000002}]
["H",null,null,null,null,false,null,null,null,null,null,null,null,null,"",null,null,null,"","",{"$f":"IF(K11=\"\",\"\",IF(A11=\"H\",10^(0.794358141*LOG(K11/174.393)^2)*T11*AR11,IF(A11=\"F\",10^(0.89726074 * LOG(K11/148.026)^2)*T11*AR11,\"\")))","v":""},{"$f":"IF(K11=\"\",\"\",AO11)","v":""},{"$f":"IF(K11=\"\",\"\",IF(AG11>=0,AG11,IF(AF11>=0,AF11,IF(AE11>=0,AE11,IF(AD11>=0,AD11,IF(AC11>=0,AC11,IF(AB11>=0,AB11,IF(AA11>=0,AA11,Z11))))))))","v":""},{"$f":"IF(AND(J11>=40,J11<45),VLOOKUP(K11,Feuil2!$F$10:$P$28,9),IF(AND(J11>=45,J11<50),VLOOKUP(K11,Feuil2!$F$10:$P$28,8),IF(AND(J11>=50,J11<55),VLOOKUP(K11,Feuil2!$F$10:$P$28,7),IF(AND(J11>=55,J11<60),VLOOKUP(K11,Feuil2!$F$10:$P$28,6),IF(AND(J11>=60,J11<65),VLOOKUP(K11,Feuil2!$F$10:$P$28,5),IF(AND(J11>=65,J11<70),VLOOKUP(K11,Feuil2!$F$10:$P$28,4),IF(AND(J11>=70,J11<75),VLOOKUP(K11,Feuil2!$F$10:$P$28,3),IF(AND(J11>=75,J11<80),VLOOKUP(K11,Feuil2!$F$10:$P$28,2),VLOOKUP(K11,Feuil2!$F$10:$P$28,2)))))))))","v":{"$error":"#N/A"}},null,{"$f":"T11-HLOOKUP(X11,Feuil2!$C$1:$CD$9,2,FALSE)","v":{"$error":"#VALUE!"}},{"$f":"T11-HLOOKUP(X11,Feuil2!$C$1:$CD$9,3,FALSE)","v":{"$error":"#VALUE!"}},{"$f":"T11-HLOOKUP(X11,Feuil2!$C$1:$CD$9,4,FALSE)","v":{"$error":"#VALUE!"}},{"$f":"T11-HLOOKUP(X11,Feuil2!$C$1:$CD$9,5,FALSE)","v":{"$error":"#VALUE!"}},{"$f":"T11-HLOOKUP(X11,Feuil2!$C$1:$CD$9,6,FALSE)","v":{"$error":"#VALUE!"}},{"$f":"T11-HLOOKUP(X11,Feuil2!$C$1:$CD$9,7,FALSE)","v":{"$error":"#VALUE!"}},{"$f":"T11-HLOOKUP(X11,Feuil2!$C$1:$CD$9,8,FALSE)","v":{"$error":"#VALUE!"}},{"$f":"T11-HLOOKUP(X11,Feuil2!$C$1:$CD$9,9,FALSE)","v":{"$error":"#VALUE!"}},null,null,null,null,null,null,null,{"$f":"IF(AG11>=0,$AG$4,IF(AF11>=0,$AF$4,IF(AE11>=0,$AE$4,IF(AD11>=0,$AD$4,IF(AC11>=0,$AC$4,IF(AB11>=0,$AB$4,IF(AA11>=0,$AA$4,IF(Z11>=0,$Z$4,$AH$4))))))))","v":{"$error":"#VALUE!"}},114,null,{"$f":"IF(AP11,VLOOKUP(AP11,HOM!$AR$551:$AS$606,2))","v":3.5710000000000002}]
["H",null,null,null,null,false,null,null,null,null,null,null,null,null,"",null,null,null,"","",{"$f":"IF(K12=\"\",\"\",IF(A12=\"H\",10^(0.794358141*LOG(K12/174.393)^2)*T12*AR12,IF(A12=\"F\",10^(0.89726074 * LOG(K12/148.026)^2)*T12*AR12,\"\")))","v":""},{"$f":"IF(K12=\"\",\"\",AO12)","v":""},{"$f":"IF(K12=\"\",\"\",IF(AG12>=0,AG12,IF(AF12>=0,AF12,IF(AE12>=0,AE12,IF(AD12>=0,AD12,IF(AC12>=0,AC12,IF(AB12>=0,AB12,IF(AA12>=0,AA12,Z12))))))))","v":""},{"$f":"IF(AND(J12>=40,J12<45),VLOOKUP(K12,Feuil2!$F$10:$P$28,9),IF(AND(J12>=45,J12<50),VLOOKUP(K12,Feuil2!$F$10:$P$28,8),IF(AND(J12>=50,J12<55),VLOOKUP(K12,Feuil2!$F$10:$P$28,7),IF(AND(J12>=55,J12<60),VLOOKUP(K12,Feuil2!$F$10:$P$28,6),IF(AND(J12>=60,J12<65),VLOOKUP(K12,Feuil2!$F$10:$P$28,5),IF(AND(J12>=65,J12<70),VLOOKUP(K12,Feuil2!$F$10:$P$28,4),IF(AND(J12>=70,J12<75),VLOOKUP(K12,Feuil2!$F$10:$P$28,3),IF(AND(J12>=75,J12<80),VLOOKUP(K12,Feuil2!$F$10:$P$28,2),VLOOKUP(K12,Feuil2!$F$10:$P$28,2)))))))))","v":{"$error":"#N/A"}},null,{"$f":"T12-HLOOKUP(X12,Feuil2!$C$1:$CD$9,2,FALSE)","v":{"$error":"#VALUE!"}},{"$f":"T12-HLOOKUP(X12,Feuil2!$C$1:$CD$9,3,FALSE)","v":{"$error":"#VALUE!"}},{"$f":"T12-HLOOKUP(X12,Feuil2!$C$1:$CD$9,4,FALSE)","v":{"$error":"#VALUE!"}},{"$f":"T12-HLOOKUP(X12,Feuil2!$C$1:$CD$9,5,FALSE)","v":{"$error":"#VALUE!"}},{"$f":"T12-HLOOKUP(X12,Feuil2!$C$1:$CD$9,6,FALSE)","v":{"$error":"#VALUE!"}},{"$f":"T12-HLOOKUP(X12,Feuil2!$C$1:$CD$9,7,FALSE)","v":{"$error":"#VALUE!"}},{"$f":"T12-HLOOKUP(X12,Feuil2!$C$1:$CD$9,8,FALSE)","v":{"$error":"#VALUE!"}},{"$f":"T12-HLOOKUP(X12,Feuil2!$C$1:$CD$9,9,FALSE)","v":{"$error":"#VALUE!"}},null,null,null,null,null,null,null,{"$f":"IF(AG12>=0,$AG$4,IF(AF12>=0,$AF$4,IF(AE12>=0,$AE$4,IF(AD12>=0,$AD$4,IF(AC12>=0,$AC$4,IF(AB12>=0,$AB$4,IF(AA12>=0,$AA$4,IF(Z12>=0,$Z$4,$AH$4))))))))","v":{"$error":"#VALUE!"}},114,null,{"$f":"IF(AP12,VLOOKUP(AP12,HOM!$AR$551:$AS$606,2))","v":3.5710000000000002}]
["H",null,null,null,null,false,null,null,null,null,null,null,null,null,"",null,null,null,"","","","","",{"$f":"IF(AND(J13>=40,J13<45),VLOOKUP(K13,Feuil2!$F$10:$P$28,9),IF(AND(J13>=45,J13<50),VLOOKUP(K13,Feuil2!$F$10:$P$28,8),IF(AND(J13>=50,J13<55),VLOOKUP(K13,Feuil2!$F$10:$P$28,7),IF(AND(J13>=55,J13<60),VLOOKUP(K13,Feuil2!$F$10:$P$28,6),IF(AND(J13>=60,J13<65),VLOOKUP(K13,Feuil2!$F$10:$P$28,5),IF(AND(J13>=65,J13<70),VLOOKUP(K13,Feuil2!$F$10:$P$28,4),IF(AND(J13>=70,J13<75),VLOOKUP(K13,Feuil2!$F$10:$P$28,3),IF(AND(J13>=75,J13<80),VLOOKUP(K13,Feuil2!$F$10:$P$28,2),VLOOKUP(K13,Feuil2!$F$10:$P$28,2)))))))))","v":{"$error":"#N/A"}},null,{"$f":"T13-HLOOKUP(X13,Feuil2!$C$1:$CD$9,2,FALSE)","v":{"$error":"#VALUE!"}},{"$f":"T13-HLOOKUP(X13,Feuil2!$C$1:$CD$9,3,FALSE)","v":{"$error":"#VALUE!"}},{"$f":"T13-HLOOKUP(X13,Feuil2!$C$1:$CD$9,4,FALSE)","v":{"$error":"#VALUE!"}},{"$f":"T13-HLOOKUP(X13,Feuil2!$C$1:$CD$9,5,FALSE)","v":{"$error":"#VALUE!"}},{"$f":"T13-HLOOKUP(X13,Feuil2!$C$1:$CD$9,6,FALSE)","v":{"$error":"#VALUE!"}},{"$f":"T13-HLOOKUP(X13,Feuil2!$C$1:$CD$9,7,FALSE)","v":{"$error":"#VALUE!"}},{"$f":"T13-HLOOKUP(X13,Feuil2!$C$1:$CD$9,8,FALSE)","v":{"$error":"#VALUE!"}},{"$f":"T13-HLOOKUP(X13,Feuil2!$C$1:$CD$9,9,FALSE)","v":{"$error":"#VALUE!"}},null,null,null,null,null,null,null,{"$error":"#VALUE!"},114,null,{"$f":"IF(AP13,VLOOKUP(AP13,HOM!$AR$551:$AS$606,2))","v":3.5710000000000002}]
["H",null,null,null,null,false,null,null,null,null,null,null,null,null,"",null,null,null,"","","","","",{"$f":"IF(AND(J14>=40,J14<45),VLOOKUP(K14,Feuil2!$F$10:$P$28,9),IF(AND(J14>=45,J14<50),VLOOKUP(K14,Feuil2!$F$10:$P$28,8),IF(AND(J14>=50,J14<55),VLOOKUP(K14,Feuil2!$F$10:$P$28,7),IF(AND(J14>=55,J14<60),VLOOKUP(K14,Feuil2!$F$10:$P$28,6),IF(AND(J14>=60,J14<65),VLOOKUP(K14,Feuil2!$F$10:$P$28,5),IF(AND(J14>=65,J14<70),VLOOKUP(K14,Feuil2!$F$10:$P$28,4),IF(AND(J14>=70,J14<75),VLOOKUP(K14,Feuil2!$F$10:$P$28,3),IF(AND(J14>=75,J14<80),VLOOKUP(K14,Feuil2!$F$10:$P$28,2),VLOOKUP(K14,Feuil2!$F$10:$P$28,2)))))))))","v":{"$error":"#N/A"}},null,{"$f":"T14-HLOOKUP(X14,Feuil2!$C$1:$CD$9,2,FALSE)","v":{"$error":"#VALUE!"}},{"$f":"T14-HLOOKUP(X14,Feuil2!$C$1:$CD$9,3,FALSE)","v":{"$error":"#VALUE!"}},{"$f":"T14-HLOOKUP(X14,Feuil2!$C$1:$CD$9,4,FALSE)","v":{"$error":"#VALUE!"}},{"$f":"T14-HLOOKUP(X14,Feuil2!$C$1:$CD$9,5,FALSE)","v":{"$error":"#VALUE!"}},{"$f":"T14-HLOOKUP(X14,Feuil2!$C$1:$CD$9,6,FALSE)","v":{"$error":"#VALUE!"}},{"$f":"T14-HLOOKUP(X14,Feuil2!$C$1:$CD$9,7,FALSE)","v":{"$error":"#VALUE!"}},{"$f":"T14-HLOOKUP(X14,Feuil2!$C$1:$CD$9,8,FALSE)","v":{"$error":"#VALUE!"}},{"$f":"T14-HLOOKUP(X14,Feuil2!$C$1:$CD$9,9,FALSE)","v":{"$error":"#VALUE!"}},null,null,null,null,null,null,null,{"$error":"#VALUE!"},114,null,{"$f":"IF(AP14,VLOOKUP(AP14,HOM!$AR$551:$AS$606,2))","v":3.5710000000000002}]
["H",null,null,null,null,false,null,null,null,null,null,null,null,null,"",null,null,null,"","","","","",{"$f":"IF(AND(J15>=40,J15<45),VLOOKUP(K15,Feuil2!$F$10:$P$28,9),IF(AND(J15>=45,J15<50),VLOOKUP(K15,Feuil2!$F$10:$P$28,8),IF(AND(J15>=50,J15<55),VLOOKUP(K15,Feuil2!$F$10:$P$28,7),IF(AND(J15>=55,J15<60),VLOOKUP(K15,Feuil2!$F$10:$P$28,6),IF(AND(J15>=60,J15<65),VLOOKUP(K15,Feuil2!$F$10:$P$28,5),IF(AND(J15>=65,J15<70),VLOOKUP(K15,Feuil2!$F$10:$P$28,4),IF(AND(J15>=70,J15<75),VLOOKUP(K15,Feuil2!$F$10:$P$28,3),IF(AND(J15>=75,J15<80),VLOOKUP(K15,Feuil2!$F$10:$P$28,2),VLOOKUP(K15,Feuil2!$F$10:$P$28,2)))))))))","v":{"$error":"#N/A"}},null,{"$f":"T15-HLOOKUP(X15,Feuil2!$C$1:$CD$9,2,FALSE)","v":{"$error":"#VALUE!"}},{"$f":"T15-HLOOKUP(X15,Feuil2!$C$1:$CD$9,3,FALSE)","v":{"$error":"#VALUE!"}},{"$f":"T15-HLOOKUP(X15,Feuil2!$C$1:$CD$9,4,FALSE)","v":{"$error":"#VALUE!"}},{"$f":"T15-HLOOKUP(X15,Feuil2!$C$1:$CD$9,5,FALSE)","v":{"$error":"#VALUE!"}},{"$f":"T15-HLOOKUP(X15,Feuil2!$C$1:$CD$9,6,FALSE)","v":{"$error":"#VALUE!"}},{"$f":"T15-HLOOKUP(X15,Feuil2!$C$1:$CD$9,7,FALSE)","v":{"$error":"#VALUE!"}},{"$f":"T15-HLOOKUP(X15,Feuil2!$C$1:$CD$9,8,FALSE)","v":{"$error":"#VALUE!"}},{"$f":"T15-HLOOKUP(X15,Feuil2!$C$1:$CD$9,9,FALSE)","v":{"$error":"#VALUE!"}},null,null,null,null,null,null,null,{"$error":"#VALUE!"},114,null,{"$f":"IF(AP15,VLOOKUP(AP15,HOM!$AR$551:$AS$606,2))","v":3.5710000000000002}]
["H",null,null,null,null,false,null,null,null,null,null,null,null,null,"",null,null,null,"","","","","",{"$f":"IF(AND(J16>=40,J16<45),VLOOKUP(K16,Feuil2!$F$10:$P$28,9),IF(AND(J16>=45,J16<50),VLOOKUP(K16,Feuil2!$F$10:$P$28,8),IF(AND(J16>=50,J16<55),VLOOKUP(K16,Feuil2!$F$10:$P$28,7),IF(AND(J16>=55,J16<60),VLOOKUP(K16,Feuil2!$F$10:$P$28,6),IF(AND(J16>=60,J16<65),VLOOKUP(K16,Feuil2!$F$10:$P$28,5),IF(AND(J16>=65,J16<70),VLOOKUP(K16,Feuil2!$F$10:$P$28,4),IF(AND(J16>=70,J16<75),VLOOKUP(K16,Feuil2!$F$10:$P$28,3),IF(AND(J16>=75,J16<80),VLOOKUP(K16,Feuil2!$F$10:$P$28,2),VLOOKUP(K16,Feuil2!$F$10:$P$28,2)))))))))","v":{"$error":"#N/A"}},null,{"$f":"T16-HLOOKUP(X16,Feuil2!$C$1:$CD$9,2,FALSE)","v":{"$error":"#VALUE!"}},{"$f":"T16-HLOOKUP(X16,Feuil2!$C$1:$CD$9,3,FALSE)","v":{"$error":"#VALUE!"}},{"$f":"T16-HLOOKUP(X16,Feuil2!$C$1:$CD$9,4,FALSE)","v":{"$error":"#VALUE!"}},{"$f":"T16-HLOOKUP(X16,Feuil2!$C$1:$CD$9,5,FALSE)","v":{"$error":"#VALUE!"}},{"$f":"T16-HLOOKUP(X16,Feuil2!$C$1:$CD$9,6,FALSE)","v":{"$error":"#VALUE!"}},{"$f":"T16-HLOOKUP(X16,Feuil2!$C$1:$CD$9,7,FALSE)","v":{"$error":"#VALUE!"}},{"$f":"T16-HLOOKUP(X16,Feuil2!$C$1:$CD$9,8,FALSE)","v":{"$error":"#VALUE!"}},{"$f":"T16-HLOOKUP(X16,Feuil2!$C$1:$CD$9,9,FALSE)","v":{"$error":"#VALUE!"}},null,null,null,null,null,null,null,{"$error":"#VALUE!"},114,null,{"$f":"IF(AP16,VLOOKUP(AP16,HOM!$AR$551:$AS$606,2))","v":3.5710000000000002}]
["H",null,null,null,null,false,null,null,null,null,null,null,null,null,"",null,null,null,"","","","","",{"$f":"IF(AND(J17>=40,J17<45),VLOOKUP(K17,Feuil2!$F$10:$P$28,9),IF(AND(J17>=45,J17<50),VLOOKUP(K17,Feuil2!$F$10:$P$28,8),IF(AND(J17>=50,J17<55),VLOOKUP(K17,Feuil2!$F$10:$P$28,7),IF(AND(J17>=55,J17<60),VLOOKUP(K17,Feuil2!$F$10:$P$28,6),IF(AND(J17>=60,J17<65),VLOOKUP(K17,Feuil2!$F$10:$P$28,5),IF(AND(J17>=65,J17<70),VLOOKUP(K17,Feuil2!$F$10:$P$28,4),IF(AND(J17>=70,J17<75),VLOOKUP(K17,Feuil2!$F$10:$P$28,3),IF(AND(J17>=75,J17<80),VLOOKUP(K17,Feuil2!$F$10:$P$28,2),VLOOKUP(K17,Feuil2!$F$10:$P$28,2)))))))))","v":{"$error":"#N/A"}},null,{"$f":"T17-HLOOKUP(X17,Feuil2!$C$1:$CD$9,2,FALSE)","v":{"$error":"#VALUE!"}},{"$f":"T17-HLOOKUP(X17,Feuil2!$C$1:$CD$9,3,FALSE)","v":{"$error":"#VALUE!"}},{"$f":"T17-HLOOKUP(X17,Feuil2!$C$1:$CD$9,4,FALSE)","v":{"$error":"#VALUE!"}},{"$f":"T17-HLOOKUP(X17,Feuil2!$C$1:$CD$9,5,FALSE)","v":{"$error":"#VALUE!"}},{"$f":"T17-HLOOKUP(X17,Feuil2!$C$1:$CD$9,6,FALSE)","v":{"$error":"#VALUE!"}},{"$f":"T17-HLOOKUP(X17,Feuil2!$C$1:$CD$9,7,FALSE)","v":{"$error":"#VALUE!"}},{"$f":"T17-HLOOKUP(X17,Feuil2!$C$1:$CD$9,8,FALSE)","v":{"$error":"#VALUE!"}},{"$f":"T17-HLOOKUP(X17,Feuil2!$C$1:$CD$9,9,FALSE)","v":{"$error":"#VALUE!"}},null,null,null,null,null,null,null,{"$error":"#VALUE!"},114,null,{"$f":"IF(AP17,VLOOKUP(AP17,HOM!$AR$551:$AS$606,2))","v":3.5710000000000002}]
["H",null,null,null,null,false,null,null,null,null,null,null,null,null,"",null,null,null,"","","","","",{"$f":"IF(AND(J18>=40,J18<45),VLOOKUP(K18,Feuil2!$F$10:$P$28,9),IF(AND(J18>=45,J18<50),VLOOKUP(K18,Feuil2!$F$10:$P$28,8),IF(AND(J18>=50,J18<55),VLOOKUP(K18,Feuil2!$F$10:$P$28,7),IF(AND(J18>=55,J18<60),VLOOKUP(K18,Feuil2!$F$10:$P$28,6),IF(AND(J18>=60,J18<65),VLOOKUP(K18,Feuil2!$F$10:$P$28,5),IF(AND(J18>=65,J18<70),VLOOKUP(K18,Feuil2!$F$10:$P$28,4),IF(AND(J18>=70,J18<75),VLOOKUP(K18,Feuil2!$F$10:$P$28,3),IF(AND(J18>=75,J18<80),VLOOKUP(K18,Feuil2!$F$10:$P$28,2),VLOOKUP(K18,Feuil2!$F$10:$P$28,2)))))))))","v":{"$error":"#N/A"}},null,{"$f":"T18-HLOOKUP(X18,Feuil2!$C$1:$CD$9,2,FALSE)","v":{"$error":"#VALUE!"}},{"$f":"T18-HLOOKUP(X18,Feuil2!$C$1:$CD$9,3,FALSE)","v":{"$error":"#VALUE!"}},{"$f":"T18-HLOOKUP(X18,Feuil2!$C$1:$CD$9,4,FALSE)","v":{"$error":"#VALUE!"}},{"$f":"T18-HLOOKUP(X18,Feuil2!$C$1:$CD$9,5,FALSE)","v":{"$error":"#VALUE!"}},{"$f":"T18-HLOOKUP(X18,Feuil2!$C$1:$CD$9,6,FALSE)","v":{"$error":"#VALUE!"}},{"$f":"T18-HLOOKUP(X18,Feuil2!$C$1:$CD$9,7,FALSE)","v":{"$error":"#VALUE!"}},{"$f":"T18-HLOOKUP(X18,Feuil2!$C$1:$CD$9,8,FALSE)","v":{"$error":"#VALUE!"}},{"$f":"T18-HLOOKUP(X18,Feuil2!$C$1:$CD$9,9,FALSE)","v":{"$error":"#VALUE!"}},null,null,null,null,null,null,null,{"$error":"#VALUE!"},114,null,{"$f":"IF(AP18,VLOOKUP(AP18,HOM!$AR$551:$AS$606,2))","v":3.5710000000000002}]
["H",null,null,null,null,false,null,null,null,null,null,null,null,null,"",null,null,null,"","","","","",{"$f":"IF(AND(J19>=40,J19<45),VLOOKUP(K19,Feuil2!$F$10:$P$28,9),IF(AND(J19>=45,J19<50),VLOOKUP(K19,Feuil2!$F$10:$P$28,8),IF(AND(J19>=50,J19<55),VLOOKUP(K19,Feuil2!$F$10:$P$28,7),IF(AND(J19>=55,J19<60),VLOOKUP(K19,Feuil2!$F$10:$P$28,6),IF(AND(J19>=60,J19<65),VLOOKUP(K19,Feuil2!$F$10:$P$28,5),IF(AND(J19>=65,J19<70),VLOOKUP(K19,Feuil2!$F$10:$P$28,4),IF(AND(J19>=70,J19<75),VLOOKUP(K19,Feuil2!$F$10:$P$28,3),IF(AND(J19>=75,J19<80),VLOOKUP(K19,Feuil2!$F$10:$P$28,2),VLOOKUP(K19,Feuil2!$F$10:$P$28,2)))))))))","v":{"$error":"#N/A"}},null,{"$f":"T19-HLOOKUP(X19,Feuil2!$C$1:$CD$9,2,FALSE)","v":{"$error":"#VALUE!"}},{"$f":"T19-HLOOKUP(X19,Feuil2!$C$1:$CD$9,3,FALSE)","v":{"$error":"#VALUE!"}},{"$f":"T19-HLOOKUP(X19,Feuil2!$C$1:$CD$9,4,FALSE)","v":{"$error":"#VALUE!"}},{"$f":"T19-HLOOKUP(X19,Feuil2!$C$1:$CD$9,5,FALSE)","v":{"$error":"#VALUE!"}},{"$f":"T19-HLOOKUP(X19,Feuil2!$C$1:$CD$9,6,FALSE)","v":{"$error":"#VALUE!"}},{"$f":"T19-HLOOKUP(X19,Feuil2!$C$1:$CD$9,7,FALSE)","v":{"$error":"#VALUE!"}},{"$f":"T19-HLOOKUP(X19,Feuil2!$C$1:$CD$9,8,FALSE)","v":{"$error":"#VALUE!"}},{"$f":"T19-HLOOKUP(X19,Feuil2!$C$1:$CD$9,9,FALSE)","v":{"$error":"#VALUE!"}},null,null,null,null,null,null,null,{"$error":"#VALUE!"},114,null,{"$f":"IF(AP19,VLOOKUP(AP19,HOM!$AR$551:$AS$606,2))","v":3.5710000000000002}]
["H",null,null,null,null,false,null,null,null,null,null,null,null,null,"",null,null,null,"","","","","",{"$f":"IF(AND(J20>=40,J20<45),VLOOKUP(K20,Feuil2!$F$10:$P$28,9),IF(AND(J20>=45,J20<50),VLOOKUP(K20,Feuil2!$F$10:$P$28,8),IF(AND(J20>=50,J20<55),VLOOKUP(K20,Feuil2!$F$10:$P$28,7),IF(AND(J20>=55,J20<60),VLOOKUP(K20,Feuil2!$F$10:$P$28,6),IF(AND(J20>=60,J20<65),VLOOKUP(K20,Feuil2!$F$10:$P$28,5),IF(AND(J20>=65,J20<70),VLOOKUP(K20,Feuil2!$F$10:$P$28,4),IF(AND(J20>=70,J20<75),VLOOKUP(K20,Feuil2!$F$10:$P$28,3),IF(AND(J20>=75,J20<80),VLOOKUP(K20,Feuil2!$F$10:$P$28,2),VLOOKUP(K20,Feuil2!$F$10:$P$28,2)))))))))","v":{"$error":"#N/A"}},null,{"$f":"T20-HLOOKUP(X20,Feuil2!$C$1:$CD$9,2,FALSE)","v":{"$error":"#VALUE!"}},{"$f":"T20-HLOOKUP(X20,Feuil2!$C$1:$CD$9,3,FALSE)","v":{"$error":"#VALUE!"}},{"$f":"T20-HLOOKUP(X20,Feuil2!$C$1:$CD$9,4,FALSE)","v":{"$error":"#VALUE!"}},{"$f":"T20-HLOOKUP(X20,Feuil2!$C$1:$CD$9,5,FALSE)","v":{"$error":"#VALUE!"}},{"$f":"T20-HLOOKUP(X20,Feuil2!$C$1:$CD$9,6,FALSE)","v":{"$error":"#VALUE!"}},{"$f":"T20-HLOOKUP(X20,Feuil2!$C$1:$CD$9,7,FALSE)","v":{"$error":"#VALUE!"}},{"$f":"T20-HLOOKUP(X20,Feuil2!$C$1:$CD$9,8,FALSE)","v":{"$error":"#VALUE!"}},{"$f":"T20-HLOOKUP(X20,Feuil2!$C$1:$CD$9,9,FALSE)","v":{"$error":"#VALUE!"}},null,null,null,null,null,null,null,{"$error":"#VALUE!"},114,null,{"$f":"IF(AP20,VLOOKUP(AP20,HOM!$AR$551:$AS$606,2))","v":3.5710000000000002}]
["H",null,null,null,null,false,null,null,null,null,null,null,null,null,"",null,null,null,"","","","","",{"$f":"IF(AND(J21>=40,J21<45),VLOOKUP(K21,Feuil2!$F$10:$P$28,9),IF(AND(J21>=45,J21<50),VLOOKUP(K21,Feuil2!$F$10:$P$28,8),IF(AND(J21>=50,J21<55),VLOOKUP(K21,Feuil2!$F$10:$P$28,7),IF(AND(J21>=55,J21<60),VLOOKUP(K21,Feuil2!$F$10:$P$28,6),IF(AND(J21>=60,J21<65),VLOOKUP(K21,Feuil2!$F$10:$P$28,5),IF(AND(J21>=65,J21<70),VLOOKUP(K21,Feuil2!$F$10:$P$28,4),IF(AND(J21>=70,J21<75),VLOOKUP(K21,Feuil2!$F$10:$P$28,3),IF(AND(J21>=75,J21<80),VLOOKUP(K21,Feuil2!$F$10:$P$28,2),VLOOKUP(K21,Feuil2!$F$10:$P$28,2)))))))))","v":{"$error":"#N/A"}},null,{"$f":"T21-HLOOKUP(X21,Feuil2!$C$1:$CD$9,2,FALSE)","v":{"$error":"#VALUE!"}},{"$f":"T21-HLOOKUP(X21,Feuil2!$C$1:$CD$9,3,FALSE)","v":{"$error":"#VALUE!"}},{"$f":"T21-HLOOKUP(X21,Feuil2!$C$1:$CD$9,4,FALSE)","v":{"$error":"#VALUE!"}},{"$f":"T21-HLOOKUP(X21,Feuil2!$C$1:$CD$9,5,FALSE)","v":{"$error":"#VALUE!"}},{"$f":"T21-HLOOKUP(X21,Feuil2!$C$1:$CD$9,6,FALSE)","v":{"$error":"#VALUE!"}},{"$f":"T21-HLOOKUP(X21,Feuil2!$C$1:$CD$9,7,FALSE)","v":{"$error":"#VALUE!"}},{"$f":"T21-HLOOKUP(X21,Feuil2!$C$1:$CD$9,8,FALSE)","v":{"$error":"#VALUE!"}},{"$f":"T21-HLOOKUP(X21,Feuil2!$C$1:$CD$9,9,FALSE)","v":{"$error":"#VALUE!"}},null,null,null,null,null,null,null,{"$error":"#VALUE!"},114,null,{"$f":"IF(AP21,VLOOKUP(AP21,HOM!$AR$551:$AS$606,2))","v":3.5710000000000002}]
["H",null,null,null,null,false,null,null,null,null,null,null,null,null,"",null,null,null,"","","","","",{"$f":"IF(AND(J22>=40,J22<45),VLOOKUP(K22,Feuil2!$F$10:$P$28,9),IF(AND(J22>=45,J22<50),VLOOKUP(K22,Feuil2!$F$10:$P$28,8),IF(AND(J22>=50,J22<55),VLOOKUP(K22,Feuil2!$F$10:$P$28,7),IF(AND(J22>=55,J22<60),VLOOKUP(K22,Feuil2!$F$10:$P$28,6),IF(AND(J22>=60,J22<65),VLOOKUP(K22,Feuil2!$F$10:$P$28,5),IF(AND(J22>=65,J22<70),VLOOKUP(K22,Feuil2!$F$10:$P$28,4),IF(AND(J22>=70,J22<75),VLOOKUP(K22,Feuil2!$F$10:$P$28,3),IF(AND(J22>=75,J22<80),VLOOKUP(K22,Feuil2!$F$10:$P$28,2),VLOOKUP(K22,Feuil2!$F$10:$P$28,2)))))))))","v":{"$error":"#N/A"}},null,{"$f":"T22-HLOOKUP(X22,Feuil2!$C$1:$CD$9,2,FALSE)","v":{"$error":"#VALUE!"}},{"$f":"T22-HLOOKUP(X22,Feuil2!$C$1:$CD$9,3,FALSE)","v":{"$error":"#VALUE!"}},{"$f":"T22-HLOOKUP(X22,Feuil2!$C$1:$CD$9,4,FALSE)","v":{"$error":"#VALUE!"}},{"$f":"T22-HLOOKUP(X22,Feuil2!$C$1:$CD$9,5,FALSE)","v":{"$error":"#VALUE!"}},{"$f":"T22-HLOOKUP(X22,Feuil2!$C$1:$CD$9,6,FALSE)","v":{"$error":"#VALUE!"}},{"$f":"T22-HLOOKUP(X22,Feuil2!$C$1:$CD$9,7,FALSE)","v":{"$error":"#VALUE!"}},{"$f":"T22-HLOOKUP(X22,Feuil2!$C$1:$CD$9,8,FALSE)","v":{"$error":"#VALUE!"}},{"$f":"T22-HLOOKUP(X22,Feuil2!$C$1:$CD$9,9,FALSE)","v":{"$error":"#VALUE!"}},null,null,null,null,null,null,null,{"$error":"#VALUE!"},114,null,{"$f":"IF(AP22,VLOOKUP(AP22,HOM!$AR$551:$AS$606,2))","v":3.5710000000000002}]
["H",null,null,null,null,false,null,null,null,null,null,null,null,null,"",null,null,null,"","","","","",{"$f":"IF(AND(J23>=40,J23<45),VLOOKUP(K23,Feuil2!$F$10:$P$28,9),IF(AND(J23>=45,J23<50),VLOOKUP(K23,Feuil2!$F$10:$P$28,8),IF(AND(J23>=50,J23<55),VLOOKUP(K23,Feuil2!$F$10:$P$28,7),IF(AND(J23>=55,J23<60),VLOOKUP(K23,Feuil2!$F$10:$P$28,6),IF(AND(J23>=60,J23<65),VLOOKUP(K23,Feuil2!$F$10:$P$28,5),IF(AND(J23>=65,J23<70),VLOOKUP(K23,Feuil2!$F$10:$P$28,4),IF(AND(J23>=70,J23<75),VLOOKUP(K23,Feuil2!$F$10:$P$28,3),IF(AND(J23>=75,J23<80),VLOOKUP(K23,Feuil2!$F$10:$P$28,2),VLOOKUP(K23,Feuil2!$F$10:$P$28,2)))))))))","v":{"$error":"#N/A"}},null,{"$f":"T23-HLOOKUP(X23,Feuil2!$C$1:$CD$9,2,FALSE)","v":{"$error":"#VALUE!"}},{"$f":"T23-HLOOKUP(X23,Feuil2!$C$1:$CD$9,3,FALSE)","v":{"$error":"#VALUE!"}},{"$f":"T23-HLOOKUP(X23,Feuil2!$C$1:$CD$9,4,FALSE)","v":{"$error":"#VALUE!"}},{"$f":"T23-HLOOKUP(X23,Feuil2!$C$1:$CD$9,5,FALSE)","v":{"$error":"#VALUE!"}},{"$f":"T23-HLOOKUP(X23,Feuil2!$C$1:$CD$9,6,FALSE)","v":{"$error":"#VALUE!"}},{"$f":"T23-HLOOKUP(X23,Feuil2!$C$1:$CD$9,7,FALSE)","v":{"$error":"#VALUE!"}},{"$f":"T23-HLOOKUP(X23,Feuil2!$C$1:$CD$9,8,FALSE)","v":{"$error":"#VALUE!"}},{"$f":"T23-HLOOKUP(X23,Feuil2!$C$1:$CD$9,9,FALSE)","v":{"$error":"#VALUE!"}},null,null,null,null,null,null,null,{"$error":"#VALUE!"},114,null,{"$f":"IF(AP23,VLOOKUP(AP23,HOM!$AR$551:$AS$606,2))","v":3.5710000000000002}]
["H",null,null,null,null,false,null,null,null,null,null,null,null,null,"",null,null,null,"","","","","",{"$f":"IF(AND(J24>=40,J24<45),VLOOKUP(K24,Feuil2!$F$10:$P$28,9),IF(AND(J24>=45,J24<50),VLOOKUP(K24,Feuil2!$F$10:$P$28,8),IF(AND(J24>=50,J24<55),VLOOKUP(K24,Feuil2!$F$10:$P$28,7),IF(AND(J24>=55,J24<60),VLOOKUP(K24,Feuil2!$F$10:$P$28,6),IF(AND(J24>=60,J24<65),VLOOKUP(K24,Feuil2!$F$10:$P$28,5),IF(AND(J24>=65,J24<70),VLOOKUP(K24,Feuil2!$F$10:$P$28,4),IF(AND(J24>=70,J24<75),VLOOKUP(K24,Feuil2!$F$10:$P$28,3),IF(AND(J24>=75,J24<80),VLOOKUP(K24,Feuil2!$F$10:$P$28,2),VLOOKUP(K24,Feuil2!$F$10:$P$28,2)))))))))","v":{"$error":"#N/A"}},null,{"$f":"T24-HLOOKUP(X24,Feuil2!$C$1:$CD$9,2,FALSE)","v":{"$error":"#VALUE!"}},{"$f":"T24-HLOOKUP(X24,Feuil2!$C$1:$CD$9,3,FALSE)","v":{"$error":"#VALUE!"}},{"$f":"T24-HLOOKUP(X24,Feuil2!$C$1:$CD$9,4,FALSE)","v":{"$error":"#VALUE!"}},{"$f":"T24-HLOOKUP(X24,Feuil2!$C$1:$CD$9,5,FALSE)","v":{"$error":"#VALUE!"}},{"$f":"T24-HLOOKUP(X24,Feuil2!$C$1:$CD$9,6,FALSE)","v":{"$error":"#VALUE!"}},{"$f":"T24-HLOOKUP(X24,Feuil2!$C$1:$CD$9,7,FALSE)","v":{"$error":"#VALUE!"}},{"$f":"T24-HLOOKUP(X24,Feuil2!$C$1:$CD$9,8,FALSE)","v":{"$error":"#VALUE!"}},{"$f":"T24-HLOOKUP(X24,Feuil2!$C$1:$CD$9,9,FALSE)","v":{"$error":"#VALUE!"}},null,null,null,null,null,null,null,{"$error":"#VALUE!"},114,null,{"$f":"IF(AP24,VLOOKUP(AP24,HOM!$AR$551:$AS$606,2))","v":3.5710000000000002}]
["H",null,null,null,null,false,null,null,null,null,null,null,null,null,"",null,null,null,"","","","","",{"$f":"IF(AND(J25>=40,J25<45),VLOOKUP(K25,Feuil2!$F$10:$P$28,9),IF(AND(J25>=45,J25<50),VLOOKUP(K25,Feuil2!$F$10:$P$28,8),IF(AND(J25>=50,J25<55),VLOOKUP(K25,Feuil2!$F$10:$P$28,7),IF(AND(J25>=55,J25<60),VLOOKUP(K25,Feuil2!$F$10:$P$28,6),IF(AND(J25>=60,J25<65),VLOOKUP(K25,Feuil2!$F$10:$P$28,5),IF(AND(J25>=65,J25<70),VLOOKUP(K25,Feuil2!$F$10:$P$28,4),IF(AND(J25>=70,J25<75),VLOOKUP(K25,Feuil2!$F$10:$P$28,3),IF(AND(J25>=75,J25<80),VLOOKUP(K25,Feuil2!$F$10:$P$28,2),VLOOKUP(K25,Feuil2!$F$10:$P$28,2)))))))))","v":{"$error":"#N/A"}},null,{"$f":"T25-HLOOKUP(X25,Feuil2!$C$1:$CD$9,2,FALSE)","v":{"$error":"#VALUE!"}},{"$f":"T25-HLOOKUP(X25,Feuil2!$C$1:$CD$9,3,FALSE)","v":{"$error":"#VALUE!"}},{"$f":"T25-HLOOKUP(X25,Feuil2!$C$1:$CD$9,4,FALSE)","v":{"$error":"#VALUE!"}},{"$f":"T25-HLOOKUP(X25,Feuil2!$C$1:$CD$9,5,FALSE)","v":{"$error":"#VALUE!"}},{"$f":"T25-HLOOKUP(X25,Feuil2!$C$1:$CD$9,6,FALSE)","v":{"$error":"#VALUE!"}},{"$f":"T25-HLOOKUP(X25,Feuil2!$C$1:$CD$9,7,FALSE)","v":{"$error":"#VALUE!"}},{"$f":"T25-HLOOKUP(X25,Feuil2!$C$1:$CD$9,8,FALSE)","v":{"$error":"#VALUE!"}},{"$f":"T25-HLOOKUP(X25,Feuil2!$C$1:$CD$9,9,FALSE)","v":{"$error":"#VALUE!"}},null,null,null,null,null,null,null,{"$error":"#VALUE!"},114,null,{"$f":"IF(AP25,VLOOKUP(AP25,HOM!$AR$551:$AS$606,2))","v":3.5710000000000002}]
["H",null,null,null,null,false,null,null,null,null,null,null,null,null,"",null,null,null,"","","","","",{"$f":"IF(AND(J26>=40,J26<45),VLOOKUP(K26,Feuil2!$F$10:$P$28,9),IF(AND(J26>=45,J26<50),VLOOKUP(K26,Feuil2!$F$10:$P$28,8),IF(AND(J26>=50,J26<55),VLOOKUP(K26,Feuil2!$F$10:$P$28,7),IF(AND(J26>=55,J26<60),VLOOKUP(K26,Feuil2!$F$10:$P$28,6),IF(AND(J26>=60,J26<65),VLOOKUP(K26,Feuil2!$F$10:$P$28,5),IF(AND(J26>=65,J26<70),VLOOKUP(K26,Feuil2!$F$10:$P$28,4),IF(AND(J26>=70,J26<75),VLOOKUP(K26,Feuil2!$F$10:$P$28,3),IF(AND(J26>=75,J26<80),VLOOKUP(K26,Feuil2!$F$10:$P$28,2),VLOOKUP(K26,Feuil2!$F$10:$P$28,2)))))))))","v":{"$error":"#N/A"}},null,{"$f":"T26-HLOOKUP(X26,Feuil2!$C$1:$CD$9,2,FALSE)","v":{"$error":"#VALUE!"}},{"$f":"T26-HLOOKUP(X26,Feuil2!$C$1:$CD$9,3,FALSE)","v":{"$error":"#VALUE!"}},{"$f":"T26-HLOOKUP(X26,Feuil2!$C$1:$CD$9,4,FALSE)","v":{"$error":"#VALUE!"}},{"$f":"T26-HLOOKUP(X26,Feuil2!$C$1:$CD$9,5,FALSE)","v":{"$error":"#VALUE!"}},{"$f":"T26-HLOOKUP(X26,Feuil2!$C$1:$CD$9,6,FALSE)","v":{"$error":"#VALUE!"}},{"$f":"T26-HLOOKUP(X26,Feuil2!$C$1:$CD$9,7,FALSE)","v":{"$error":"#VALUE!"}},{"$f":"T26-HLOOKUP(X26,Feuil2!$C$1:$CD$9,8,FALSE)","v":{"$error":"#VALUE!"}},{"$f":"T26-HLOOKUP(X26,Feuil2!$C$1:$CD$9,9,FALSE)","v":{"$error":"#VALUE!"}},null,null,null,null,null,null,null,{"$error":"#VALUE!"},114,null,{"$f":"IF(AP26,VLOOKUP(AP26,HOM!$AR$551:$AS$606,2))","v":3.5710000000000002}]
["H",null,null,null,null,false,null,null,null,null,null,null,null,null,"",null,null,null,"","","","","",{"$f":"IF(AND(J27>=40,J27<45),VLOOKUP(K27,Feuil2!$F$10:$P$28,9),IF(AND(J27>=45,J27<50),VLOOKUP(K27,Feuil2!$F$10:$P$28,8),IF(AND(J27>=50,J27<55),VLOOKUP(K27,Feuil2!$F$10:$P$28,7),IF(AND(J27>=55,J27<60),VLOOKUP(K27,Feuil2!$F$10:$P$28,6),IF(AND(J27>=60,J27<65),VLOOKUP(K27,Feuil2!$F$10:$P$28,5),IF(AND(J27>=65,J27<70),VLOOKUP(K27,Feuil2!$F$10:$P$28,4),IF(AND(J27>=70,J27<75),VLOOKUP(K27,Feuil2!$F$10:$P$28,3),IF(AND(J27>=75,J27<80),VLOOKUP(K27,Feuil2!$F$10:$P$28,2),VLOOKUP(K27,Feuil2!$F$10:$P$28,2)))))))))","v":{"$error":"#N/A"}},null,{"$f":"T27-HLOOKUP(X27,Feuil2!$C$1:$CD$9,2,FALSE)","v":{"$error":"#VALUE!"}},{"$f":"T27-HLOOKUP(X27,Feuil2!$C$1:$CD$9,3,FALSE)","v":{"$error":"#VALUE!"}},{"$f":"T27-HLOOKUP(X27,Feuil2!$C$1:$CD$9,4,FALSE)","v":{"$error":"#VALUE!"}},{"$f":"T27-HLOOKUP(X27,Feuil2!$C$1:$CD$9,5,FALSE)","v":{"$error":"#VALUE!"}},{"$f":"T27-HLOOKUP(X27,Feuil2!$C$1:$CD$9,6,FALSE)","v":{"$error":"#VALUE!"}},{"$f":"T27-HLOOKUP(X27,Feuil2!$C$1:$CD$9,7,FALSE)","v":{"$error":"#VALUE!"}},{"$f":"T27-HLOOKUP(X27,Feuil2!$C$1:$CD$9,8,FALSE)","v":{"$error":"#VALUE!"}},{"$f":"T27-HLOOKUP(X27,Feuil2!$C$1:$CD$9,9,FALSE)","v":{"$error":"#VALUE!"}},null,null,null,null,null,null,null,{"$error":"#VALUE!"},114,null,{"$f":"IF(AP27,VLOOKUP(AP27,HOM!$AR$551:$AS$606,2))","v":3.5710000000000002}]
["H",null,null,null,null,false,null,null,null,null,null,null,null,null,"",null,null,null,"","","","","",{"$f":"IF(AND(J28>=40,J28<45),VLOOKUP(K28,Feuil2!$F$10:$P$28,9),IF(AND(J28>=45,J28<50),VLOOKUP(K28,Feuil2!$F$10:$P$28,8),IF(AND(J28>=50,J28<55),VLOOKUP(K28,Feuil2!$F$10:$P$28,7),IF(AND(J28>=55,J28<60),VLOOKUP(K28,Feuil2!$F$10:$P$28,6),IF(AND(J28>=60,J28<65),VLOOKUP(K28,Feuil2!$F$10:$P$28,5),IF(AND(J28>=65,J28<70),VLOOKUP(K28,Feuil2!$F$10:$P$28,4),IF(AND(J28>=70,J28<75),VLOOKUP(K28,Feuil2!$F$10:$P$28,3),IF(AND(J28>=75,J28<80),VLOOKUP(K28,Feuil2!$F$10:$P$28,2),VLOOKUP(K28,Feuil2!$F$10:$P$28,2)))))))))","v":{"$error":"#N/A"}},null,{"$f":"T28-HLOOKUP(X28,Feuil2!$C$1:$CD$9,2,FALSE)","v":{"$error":"#VALUE!"}},{"$f":"T28-HLOOKUP(X28,Feuil2!$C$1:$CD$9,3,FALSE)","v":{"$error":"#VALUE!"}},{"$f":"T28-HLOOKUP(X28,Feuil2!$C$1:$CD$9,4,FALSE)","v":{"$error":"#VALUE!"}},{"$f":"T28-HLOOKUP(X28,Feuil2!$C$1:$CD$9,5,FALSE)","v":{"$error":"#VALUE!"}},{"$f":"T28-HLOOKUP(X28,Feuil2!$C$1:$CD$9,6,FALSE)","v":{"$error":"#VALUE!"}},{"$f":"T28-HLOOKUP(X28,Feuil2!$C$1:$CD$9,7,FALSE)","v":{"$error":"#VALUE!"}},{"$f":"T28-HLOOKUP(X28,Feuil2!$C$1:$CD$9,8,FALSE)","v":{"$error":"#VALUE!"}},{"$f":"T28-HLOOKUP(X28,Feuil2!$C$1:$CD$9,9,FALSE)","v":{"$error":"#VALUE!"}},null,null,null,null,null,null,null,{"$error":"#VALUE!"},114,null,{"$f":"IF(AP28,VLOOKUP(AP28,HOM!$AR$551:$AS$606,2))","v":3.5710000000000002}]
["H",null,null,null,null,false,null,null,null,null,null,null,null,null,"",null,null,null,"","","","","",{"$f":"IF(AND(J29>=40,J29<45),VLOOKUP(K29,Feuil2!$F$10:$P$28,9),IF(AND(J29>=45,J29<50),VLOOKUP(K29,Feuil2!$F$10:$P$28,8),IF(AND(J29>=50,J29<55),VLOOKUP(K29,Feuil2!$F$10:$P$28,7),IF(AND(J29>=55,J29<60),VLOOKUP(K29,Feuil2!$F$10:$P$28,6),IF(AND(J29>=60,J29<65),VLOOKUP(K29,Feuil2!$F$10:$P$28,5),IF(AND(J29>=65,J29<70),VLOOKUP(K29,Feuil2!$F$10:$P$28,4),IF(AND(J29>=70,J29<75),VLOOKUP(K29,Feuil2!$F$10:$P$28,3),IF(AND(J29>=75,J29<80),VLOOKUP(K29,Feuil2!$F$10:$P$28,2),VLOOKUP(K29,Feuil2!$F$10:$P$28,2)))))))))","v":{"$error":"#N/A"}},null,{"$f":"T29-HLOOKUP(X29,Feuil2!$C$1:$CD$9,2,FALSE)","v":{"$error":"#VALUE!"}},{"$f":"T29-HLOOKUP(X29,Feuil2!$C$1:$CD$9,3,FALSE)","v":{"$error":"#VALUE!"}},{"$f":"T29-HLOOKUP(X29,Feuil2!$C$1:$CD$9,4,FALSE)","v":{"$error":"#VALUE!"}},{"$f":"T29-HLOOKUP(X29,Feuil2!$C$1:$CD$9,5,FALSE)","v":{"$error":"#VALUE!"}},{"$f":"T29-HLOOKUP(X29,Feuil2!$C$1:$CD$9,6,FALSE)","v":{"$error":"#VALUE!"}},{"$f":"T29-HLOOKUP(X29,Feuil2!$C$1:$CD$9,7,FALSE)","v":{"$error":"#VALUE!"}},{"$f":"T29-HLOOKUP(X29,Feuil2!$C$1:$CD$9,8,FALSE)","v":{"$error":"#VALUE!"}},{"$f":"T29-HLOOKUP(X29,Feuil2!$C$1:$CD$9,9,FALSE)","v":{"$error":"#VALUE!"}},null,null,null,null,null,null,null,{"$error":"#VALUE!"},114,null,{"$f":"IF(AP29,VLOOKUP(AP29,HOM!$AR$551:$AS$606,2))","v":3.5710000000000002}]
["H",null,null,null,null,false,null,null,null,null,null,null,null,null,"",null,null,null,"","","","","",{"$f":"IF(AND(J30>=40,J30<45),VLOOKUP(K30,Feuil2!$F$10:$P$28,9),IF(AND(J30>=45,J30<50),VLOOKUP(K30,Feuil2!$F$10:$P$28,8),IF(AND(J30>=50,J30<55),VLOOKUP(K30,Feuil2!$F$10:$P$28,7),IF(AND(J30>=55,J30<60),VLOOKUP(K30,Feuil2!$F$10:$P$28,6),IF(AND(J30>=60,J30<65),VLOOKUP(K30,Feuil2!$F$10:$P$28,5),IF(AND(J30>=65,J30<70),VLOOKUP(K30,Feuil2!$F$10:$P$28,4),IF(AND(J30>=70,J30<75),VLOOKUP(K30,Feuil2!$F$10:$P$28,3),IF(AND(J30>=75,J30<80),VLOOKUP(K30,Feuil2!$F$10:$P$28,2),VLOOKUP(K30,Feuil2!$F$10:$P$28,2)))))))))","v":{"$error":"#N/A"}},null,{"$f":"T30-HLOOKUP(X30,Feuil2!$C$1:$CD$9,2,FALSE)","v":{"$error":"#VALUE!"}},{"$f":"T30-HLOOKUP(X30,Feuil2!$C$1:$CD$9,3,FALSE)","v":{"$error":"#VALUE!"}},{"$f":"T30-HLOOKUP(X30,Feuil2!$C$1:$CD$9,4,FALSE)","v":{"$error":"#VALUE!"}},{"$f":"T30-HLOOKUP(X30,Feuil2!$C$1:$CD$9,5,FALSE)","v":{"$error":"#VALUE!"}},{"$f":"T30-HLOOKUP(X30,Feuil2!$C$1:$CD$9,6,FALSE)","v":{"$error":"#VALUE!"}},{"$f":"T30-HLOOKUP(X30,Feuil2!$C$1:$CD$9,7,FALSE)","v":{"$error":"#VALUE!"}},{"$f":"T30-HLOOKUP(X30,Feuil2!$C$1:$CD$9,8,FALSE)","v":{"$error":"#VALUE!"}},{"$f":"T30-HLOOKUP(X30,Feuil2!$C$1:$CD$9,9,FALSE)","v":{"$error":"#VALUE!"}},null,null,null,null,null,null,null,{"$error":"#VALUE!"},114,null,{"$f":"IF(AP30,VLOOKUP(AP30,HOM!$AR$551:$AS$606,2))","v":3.5710000000000002}]
["H",null,null,null,null,false,null,null,null,null,null,null,null,null,"",null,null,null,"","","","","",{"$f":"IF(AND(J31>=40,J31<45),VLOOKUP(K31,Feuil2!$F$10:$P$28,9),IF(AND(J31>=45,J31<50),VLOOKUP(K31,Feuil2!$F$10:$P$28,8),IF(AND(J31>=50,J31<55),VLOOKUP(K31,Feuil2!$F$10:$P$28,7),IF(AND(J31>=55,J31<60),VLOOKUP(K31,Feuil2!$F$10:$P$28,6),IF(AND(J31>=60,J31<65),VLOOKUP(K31,Feuil2!$F$10:$P$28,5),IF(AND(J31>=65,J31<70),VLOOKUP(K31,Feuil2!$F$10:$P$28,4),IF(AND(J31>=70,J31<75),VLOOKUP(K31,Feuil2!$F$10:$P$28,3),IF(AND(J31>=75,J31<80),VLOOKUP(K31,Feuil2!$F$10:$P$28,2),VLOOKUP(K31,Feuil2!$F$10:$P$28,2)))))))))","v":{"$error":"#N/A"}},null,{"$f":"T31-HLOOKUP(X31,Feuil2!$C$1:$CD$9,2,FALSE)","v":{"$error":"#VALUE!"}},{"$f":"T31-HLOOKUP(X31,Feuil2!$C$1:$CD$9,3,FALSE)","v":{"$error":"#VALUE!"}},{"$f":"T31-HLOOKUP(X31,Feuil2!$C$1:$CD$9,4,FALSE)","v":{"$error":"#VALUE!"}},{"$f":"T31-HLOOKUP(X31,Feuil2!$C$1:$CD$9,5,FALSE)","v":{"$error":"#VALUE!"}},{"$f":"T31-HLOOKUP(X31,Feuil2!$C$1:$CD$9,6,FALSE)","v":{"$error":"#VALUE!"}},{"$f":"T31-HLOOKUP(X31,Feuil2!$C$1:$CD$9,7,FALSE)","v":{"$error":"#VALUE!"}},{"$f":"T31-HLOOKUP(X31,Feuil2!$C$1:$CD$9,8,FALSE)","v":{"$error":"#VALUE!"}},{"$f":"T31-HLOOKUP(X31,Feuil2!$C$1:$CD$9,9,FALSE)","v":{"$error":"#VALUE!"}},null,null,null,null,null,null,null,{"$error":"#VALUE!"},114,null,{"$f":"IF(AP31,VLOOKUP(AP31,HOM!$AR$551:$AS$606,2))","v":3.5710000000000002}]
["H",null,null,null,null,false,null,null,null,null,null,null,null,null,"",null,null,null,"","","","","",{"$f":"IF(AND(J32>=40,J32<45),VLOOKUP(K32,Feuil2!$F$10:$P$28,9),IF(AND(J32>=45,J32<50),VLOOKUP(K32,Feuil2!$F$10:$P$28,8),IF(AND(J32>=50,J32<55),VLOOKUP(K32,Feuil2!$F$10:$P$28,7),IF(AND(J32>=55,J32<60),VLOOKUP(K32,Feuil2!$F$10:$P$28,6),IF(AND(J32>=60,J32<65),VLOOKUP(K32,Feuil2!$F$10:$P$28,5),IF(AND(J32>=65,J32<70),VLOOKUP(K32,Feuil2!$F$10:$P$28,4),IF(AND(J32>=70,J32<75),VLOOKUP(K32,Feuil2!$F$10:$P$28,3),IF(AND(J32>=75,J32<80),VLOOKUP(K32,Feuil2!$F$10:$P$28,2),VLOOKUP(K32,Feuil2!$F$10:$P$28,2)))))))))","v":{"$error":"#N/A"}},null,{"$f":"T32-HLOOKUP(X32,Feuil2!$C$1:$CD$9,2,FALSE)","v":{"$error":"#VALUE!"}},{"$f":"T32-HLOOKUP(X32,Feuil2!$C$1:$CD$9,3,FALSE)","v":{"$error":"#VALUE!"}},{"$f":"T32-HLOOKUP(X32,Feuil2!$C$1:$CD$9,4,FALSE)","v":{"$error":"#VALUE!"}},{"$f":"T32-HLOOKUP(X32,Feuil2!$C$1:$CD$9,5,FALSE)","v":{"$error":"#VALUE!"}},{"$f":"T32-HLOOKUP(X32,Feuil2!$C$1:$CD$9,6,FALSE)","v":{"$error":"#VALUE!"}},{"$f":"T32-HLOOKUP(X32,Feuil2!$C$1:$CD$9,7,FALSE)","v":{"$error":"#VALUE!"}},{"$f":"T32-HLOOKUP(X32,Feuil2!$C$1:$CD$9,8,FALSE)","v":{"$error":"#VALUE!"}},{"$f":"T32-HLOOKUP(X32,Feuil2!$C$1:$CD$9,9,FALSE)","v":{"$error":"#VALUE!"}},null,null,null,null,null,null,null,{"$error":"#VALUE!"},114,null,{"$f":"IF(AP32,VLOOKUP(AP32,HOM!$AR$551:$AS$606,2))","v":3.5710000000000002}]
["H",null,null,null,null,false,null,null,null,null,null,null,null,null,"",null,null,null,"","","","","",{"$f":"IF(AND(J33>=40,J33<45),VLOOKUP(K33,Feuil2!$F$10:$P$28,9),IF(AND(J33>=45,J33<50),VLOOKUP(K33,Feuil2!$F$10:$P$28,8),IF(AND(J33>=50,J33<55),VLOOKUP(K33,Feuil2!$F$10:$P$28,7),IF(AND(J33>=55,J33<60),VLOOKUP(K33,Feuil2!$F$10:$P$28,6),IF(AND(J33>=60,J33<65),VLOOKUP(K33,Feuil2!$F$10:$P$28,5),IF(AND(J33>=65,J33<70),VLOOKUP(K33,Feuil2!$F$10:$P$28,4),IF(AND(J33>=70,J33<75),VLOOKUP(K33,Feuil2!$F$10:$P$28,3),IF(AND(J33>=75,J33<80),VLOOKUP(K33,Feuil2!$F$10:$P$28,2),VLOOKUP(K33,Feuil2!$F$10:$P$28,2)))))))))","v":{"$error":"#N/A"}},null,{"$f":"T33-HLOOKUP(X33,Feuil2!$C$1:$CD$9,2,FALSE)","v":{"$error":"#VALUE!"}},{"$f":"T33-HLOOKUP(X33,Feuil2!$C$1:$CD$9,3,FALSE)","v":{"$error":"#VALUE!"}},{"$f":"T33-HLOOKUP(X33,Feuil2!$C$1:$CD$9,4,FALSE)","v":{"$error":"#VALUE!"}},{"$f":"T33-HLOOKUP(X33,Feuil2!$C$1:$CD$9,5,FALSE)","v":{"$error":"#VALUE!"}},{"$f":"T33-HLOOKUP(X33,Feuil2!$C$1:$CD$9,6,FALSE)","v":{"$error":"#VALUE!"}},{"$f":"T33-HLOOKUP(X33,Feuil2!$C$1:$CD$9,7,FALSE)","v":{"$error":"#VALUE!"}},{"$f":"T33-HLOOKUP(X33,Feuil2!$C$1:$CD$9,8,FALSE)","v":{"$error":"#VALUE!"}},{"$f":"T33-HLOOKUP(X33,Feuil2!$C$1:$CD$9,9,FALSE)","v":{"$error":"#VALUE!"}},null,null,null,null,null,null,null,{"$error":"#VALUE!"},114,null,{"$f":"IF(AP33,VLOOKUP(AP33,HOM!$AR$551:$AS$606,2))","v":3.5710000000000002}]
["H",null,null,null,null,false,null,null,null,null,null,null,null,null,"",null,null,null,"","","","","",{"$f":"IF(AND(J34>=40,J34<45),VLOOKUP(K34,Feuil2!$F$10:$P$28,9),IF(AND(J34>=45,J34<50),VLOOKUP(K34,Feuil2!$F$10:$P$28,8),IF(AND(J34>=50,J34<55),VLOOKUP(K34,Feuil2!$F$10:$P$28,7),IF(AND(J34>=55,J34<60),VLOOKUP(K34,Feuil2!$F$10:$P$28,6),IF(AND(J34>=60,J34<65),VLOOKUP(K34,Feuil2!$F$10:$P$28,5),IF(AND(J34>=65,J34<70),VLOOKUP(K34,Feuil2!$F$10:$P$28,4),IF(AND(J34>=70,J34<75),VLOOKUP(K34,Feuil2!$F$10:$P$28,3),IF(AND(J34>=75,J34<80),VLOOKUP(K34,Feuil2!$F$10:$P$28,2),VLOOKUP(K34,Feuil2!$F$10:$P$28,2)))))))))","v":{"$error":"#N/A"}},null,{"$f":"T34-HLOOKUP(X34,Feuil2!$C$1:$CD$9,2,FALSE)","v":{"$error":"#VALUE!"}},{"$f":"T34-HLOOKUP(X34,Feuil2!$C$1:$CD$9,3,FALSE)","v":{"$error":"#VALUE!"}},{"$f":"T34-HLOOKUP(X34,Feuil2!$C$1:$CD$9,4,FALSE)","v":{"$error":"#VALUE!"}},{"$f":"T34-HLOOKUP(X34,Feuil2!$C$1:$CD$9,5,FALSE)","v":{"$error":"#VALUE!"}},{"$f":"T34-HLOOKUP(X34,Feuil2!$C$1:$CD$9,6,FALSE)","v":{"$error":"#VALUE!"}},{"$f":"T34-HLOOKUP(X34,Feuil2!$C$1:$CD$9,7,FALSE)","v":{"$error":"#VALUE!"}},{"$f":"T34-HLOOKUP(X34,Feuil2!$C$1:$CD$9,8,FALSE)","v":{"$error":"#VALUE!"}},{"$f":"T34-HLOOKUP(X34,Feuil2!$C$1:$CD$9,9,FALSE)","v":{"$error":"#VALUE!"}},null,null,null,null,null,null,null,{"$error":"#VALUE!"},114,null,{"$f":"IF(AP34,VLOOKUP(AP34,HOM!$AR$551:$AS$606,2))","v":3.5710000000000002}]
["H",null,null,null,null,false,null,null,null,null,null,null,null,null,"",null,null,null,"","","","","",{"$f":"IF(AND(J35>=40,J35<45),VLOOKUP(K35,Feuil2!$F$10:$P$28,9),IF(AND(J35>=45,J35<50),VLOOKUP(K35,Feuil2!$F$10:$P$28,8),IF(AND(J35>=50,J35<55),VLOOKUP(K35,Feuil2!$F$10:$P$28,7),IF(AND(J35>=55,J35<60),VLOOKUP(K35,Feuil2!$F$10:$P$28,6),IF(AND(J35>=60,J35<65),VLOOKUP(K35,Feuil2!$F$10:$P$28,5),IF(AND(J35>=65,J35<70),VLOOKUP(K35,Feuil2!$F$10:$P$28,4),IF(AND(J35>=70,J35<75),VLOOKUP(K35,Feuil2!$F$10:$P$28,3),IF(AND(J35>=75,J35<80),VLOOKUP(K35,Feuil2!$F$10:$P$28,2),VLOOKUP(K35,Feuil2!$F$10:$P$28,2)))))))))","v":{"$error":"#N/A"}},null,{"$f":"T35-HLOOKUP(X35,Feuil2!$C$1:$CD$9,2,FALSE)","v":{"$error":"#VALUE!"}},{"$f":"T35-HLOOKUP(X35,Feuil2!$C$1:$CD$9,3,FALSE)","v":{"$error":"#VALUE!"}},{"$f":"T35-HLOOKUP(X35,Feuil2!$C$1:$CD$9,4,FALSE)","v":{"$error":"#VALUE!"}},{"$f":"T35-HLOOKUP(X35,Feuil2!$C$1:$CD$9,5,FALSE)","v":{"$error":"#VALUE!"}},{"$f":"T35-HLOOKUP(X35,Feuil2!$C$1:$CD$9,6,FALSE)","v":{"$error":"#VALUE!"}},{"$f":"T35-HLOOKUP(X35,Feuil2!$C$1:$CD$9,7,FALSE)","v":{"$error":"#VALUE!"}},{"$f":"T35-HLOOKUP(X35,Feuil2!$C$1:$CD$9,8,FALSE)","v":{"$error":"#VALUE!"}},{"$f":"T35-HLOOKUP(X35,Feuil2!$C$1:$CD$9,9,FALSE)","v":{"$error":"#VALUE!"}},null,null,null,null,null,null,null,{"$error":"#VALUE!"},114,null,{"$f":"IF(AP35,VLOOKUP(AP35,HOM!$AR$551:$AS$606,2))","v":3.5710000000000002}]
["H",null,null,null,null,false,null,null,null,null,null,null,null,null,"",null,null,null,"","","","","",{"$f":"IF(AND(J36>=40,J36<45),VLOOKUP(K36,Feuil2!$F$10:$P$28,9),IF(AND(J36>=45,J36<50),VLOOKUP(K36,Feuil2!$F$10:$P$28,8),IF(AND(J36>=50,J36<55),VLOOKUP(K36,Feuil2!$F$10:$P$28,7),IF(AND(J36>=55,J36<60),VLOOKUP(K36,Feuil2!$F$10:$P$28,6),IF(AND(J36>=60,J36<65),VLOOKUP(K36,Feuil2!$F$10:$P$28,5),IF(AND(J36>=65,J36<70),VLOOKUP(K36,Feuil2!$F$10:$P$28,4),IF(AND(J36>=70,J36<75),VLOOKUP(K36,Feuil2!$F$10:$P$28,3),IF(AND(J36>=75,J36<80),VLOOKUP(K36,Feuil2!$F$10:$P$28,2),VLOOKUP(K36,Feuil2!$F$10:$P$28,2)))))))))","v":{"$error":"#N/A"}},null,{"$f":"T36-HLOOKUP(X36,Feuil2!$C$1:$CD$9,2,FALSE)","v":{"$error":"#VALUE!"}},{"$f":"T36-HLOOKUP(X36,Feuil2!$C$1:$CD$9,3,FALSE)","v":{"$error":"#VALUE!"}},{"$f":"T36-HLOOKUP(X36,Feuil2!$C$1:$CD$9,4,FALSE)","v":{"$error":"#VALUE!"}},{"$f":"T36-HLOOKUP(X36,Feuil2!$C$1:$CD$9,5,FALSE)","v":{"$error":"#VALUE!"}},{"$f":"T36-HLOOKUP(X36,Feuil2!$C$1:$CD$9,6,FALSE)","v":{"$error":"#VALUE!"}},{"$f":"T36-HLOOKUP(X36,Feuil2!$C$1:$CD$9,7,FALSE)","v":{"$error":"#VALUE!"}},{"$f":"T36-HLOOKUP(X36,Feuil2!$C$1:$CD$9,8,FALSE)","v":{"$error":"#VALUE!"}},{"$f":"T36-HLOOKUP(X36,Feuil2!$C$1:$CD$9,9,FALSE)","v":{"$error":"#VALUE!"}},null,null,null,null,null,null,null,{"$error":"#VALUE!"},114,null,{"$f":"IF(AP36,VLOOKUP(AP36,HOM!$AR$551:$AS$606,2))","v":3.5710000000000002}]
["H",null,null,null,null,{"$f":"IF(AP37<95,IF(AP37<=90,VLOOKUP(AP37,$AP$550:$AQ$605,2)))","v":false},null,null,null,null,null,null,null,null,"",null,null,null,"","","","","",{"$f":"IF(AND(J37>=40,J37<45),VLOOKUP(K37,Feuil2!$F$10:$P$28,9),IF(AND(J37>=45,J37<50),VLOOKUP(K37,Feuil2!$F$10:$P$28,8),IF(AND(J37>=50,J37<55),VLOOKUP(K37,Feuil2!$F$10:$P$28,7),IF(AND(J37>=55,J37<60),VLOOKUP(K37,Feuil2!$F$10:$P$28,6),IF(AND(J37>=60,J37<65),VLOOKUP(K37,Feuil2!$F$10:$P$28,5),IF(AND(J37>=65,J37<70),VLOOKUP(K37,Feuil2!$F$10:$P$28,4),IF(AND(J37>=70,J37<75),VLOOKUP(K37,Feuil2!$F$10:$P$28,3),IF(AND(J37>=75,J37<80),VLOOKUP(K37,Feuil2!$F$10:$P$28,2),VLOOKUP(K37,Feuil2!$F$10:$P$28,2)))))))))","v":{"$error":"#N/A"}},null,{"$f":"T37-HLOOKUP(X37,Feuil2!$C$1:$CD$9,2,FALSE)","v":{"$error":"#VALUE!"}},{"$f":"T37-HLOOKUP(X37,Feuil2!$C$1:$CD$9,3,FALSE)","v":{"$error":"#VALUE!"}},{"$f":"T37-HLOOKUP(X37,Feuil2!$C$1:$CD$9,4,FALSE)","v":{"$error":"#VALUE!"}},{"$f":"T37-HLOOKUP(X37,Feuil2!$C$1:$CD$9,5,FALSE)","v":{"$error":"#VALUE!"}},{"$f":"T37-HLOOKUP(X37,Feuil2!$C$1:$CD$9,6,FALSE)","v":{"$error":"#VALUE!"}},{"$f":"T37-HLOOKUP(X37,Feuil2!$C$1:$CD$9,7,FALSE)","v":{"$error":"#VALUE!"}},{"$f":"T37-HLOOKUP(X37,Feuil2!$C$1:$CD$9,8,FALSE)","v":{"$error":"#VALUE!"}},{"$f":"T37-HLOOKUP(X37,Feuil2!$C$1:$CD$9,9,FALSE)","v":{"$error":"#VALUE!"}},null,null,null,null,null,null,null,{"$error":"#VALUE!"},114,null,{"$f":"IF(AP37,VLOOKUP(AP37,HOM!$AR$551:$AS$606,2))","v":3.5710000000000002}]
["H",null,null,null,null,false,null,null,null,null,null,null,null,null,"",null,null,null,"","","","","",{"$f":"IF(AND(J38>=40,J38<45),VLOOKUP(K38,Feuil2!$F$10:$P$28,9),IF(AND(J38>=45,J38<50),VLOOKUP(K38,Feuil2!$F$10:$P$28,8),IF(AND(J38>=50,J38<55),VLOOKUP(K38,Feuil2!$F$10:$P$28,7),IF(AND(J38>=55,J38<60),VLOOKUP(K38,Feuil2!$F$10:$P$28,6),IF(AND(J38>=60,J38<65),VLOOKUP(K38,Feuil2!$F$10:$P$28,5),IF(AND(J38>=65,J38<70),VLOOKUP(K38,Feuil2!$F$10:$P$28,4),IF(AND(J38>=70,J38<75),VLOOKUP(K38,Feuil2!$F$10:$P$28,3),IF(AND(J38>=75,J38<80),VLOOKUP(K38,Feuil2!$F$10:$P$28,2),VLOOKUP(K38,Feuil2!$F$10:$P$28,2)))))))))","v":{"$error":"#N/A"}},null,{"$f":"T38-HLOOKUP(X38,Feuil2!$C$1:$CD$9,2,FALSE)","v":{"$error":"#VALUE!"}},{"$f":"T38-HLOOKUP(X38,Feuil2!$C$1:$CD$9,3,FALSE)","v":{"$error":"#VALUE!"}},{"$f":"T38-HLOOKUP(X38,Feuil2!$C$1:$CD$9,4,FALSE)","v":{"$error":"#VALUE!"}},{"$f":"T38-HLOOKUP(X38,Feuil2!$C$1:$CD$9,5,FALSE)","v":{"$error":"#VALUE!"}},{"$f":"T38-HLOOKUP(X38,Feuil2!$C$1:$CD$9,6,FALSE)","v":{"$error":"#VALUE!"}},{"$f":"T38-HLOOKUP(X38,Feuil2!$C$1:$CD$9,7,FALSE)","v":{"$error":"#VALUE!"}},{"$f":"T38-HLOOKUP(X38,Feuil2!$C$1:$CD$9,8,FALSE)","v":{"$error":"#VALUE!"}},{"$f":"T38-HLOOKUP(X38,Feuil2!$C$1:$CD$9,9,FALSE)","v":{"$error":"#VALUE!"}},null,null,null,null,null,null,null,{"$error":"#VALUE!"},114,null,{"$f":"IF(AP38,VLOOKUP(AP38,HOM!$AR$551:$AS$606,2))","v":3.5710000000000002}]
["H",null,null,null,null,false,null,null,null,null,null,null,null,null,"",null,null,null,"","","","","",{"$f":"IF(AND(J39>=40,J39<45),VLOOKUP(K39,Feuil2!$F$10:$P$28,9),IF(AND(J39>=45,J39<50),VLOOKUP(K39,Feuil2!$F$10:$P$28,8),IF(AND(J39>=50,J39<55),VLOOKUP(K39,Feuil2!$F$10:$P$28,7),IF(AND(J39>=55,J39<60),VLOOKUP(K39,Feuil2!$F$10:$P$28,6),IF(AND(J39>=60,J39<65),VLOOKUP(K39,Feuil2!$F$10:$P$28,5),IF(AND(J39>=65,J39<70),VLOOKUP(K39,Feuil2!$F$10:$P$28,4),IF(AND(J39>=70,J39<75),VLOOKUP(K39,Feuil2!$F$10:$P$28,3),IF(AND(J39>=75,J39<80),VLOOKUP(K39,Feuil2!$F$10:$P$28,2),VLOOKUP(K39,Feuil2!$F$10:$P$28,2)))))))))","v":{"$error":"#N/A"}},null,{"$f":"T39-HLOOKUP(X39,Feuil2!$C$1:$CD$9,2,FALSE)","v":{"$error":"#VALUE!"}},{"$f":"T39-HLOOKUP(X39,Feuil2!$C$1:$CD$9,3,FALSE)","v":{"$error":"#VALUE!"}},{"$f":"T39-HLOOKUP(X39,Feuil2!$C$1:$CD$9,4,FALSE)","v":{"$error":"#VALUE!"}},{"$f":"T39-HLOOKUP(X39,Feuil2!$C$1:$CD$9,5,FALSE)","v":{"$error":"#VALUE!"}},{"$f":"T39-HLOOKUP(X39,Feuil2!$C$1:$CD$9,6,FALSE)","v":{"$error":"#VALUE!"}},{"$f":"T39-HLOOKUP(X39,Feuil2!$C$1:$CD$9,7,FALSE)","v":{"$error":"#VALUE!"}},{"$f":"T39-HLOOKUP(X39,Feuil2!$C$1:$CD$9,8,FALSE)","v":{"$error":"#VALUE!"}},{"$f":"T39-HLOOKUP(X39,Feuil2!$C$1:$CD$9,9,FALSE)","v":{"$error":"#VALUE!"}},null,null,null,null,null,null,null,{"$error":"#VALUE!"},114,null,{"$f":"IF(AP39,VLOOKUP(AP39,HOM!$AR$551:$AS$606,2))","v":3.5710000000000002}]
["H",null,null,null,null,false,null,null,null,null,null,null,null,null,"",null,null,null,"","","","","",{"$f":"IF(AND(J40>=40,J40<45),VLOOKUP(K40,Feuil2!$F$10:$P$28,9),IF(AND(J40>=45,J40<50),VLOOKUP(K40,Feuil2!$F$10:$P$28,8),IF(AND(J40>=50,J40<55),VLOOKUP(K40,Feuil2!$F$10:$P$28,7),IF(AND(J40>=55,J40<60),VLOOKUP(K40,Feuil2!$F$10:$P$28,6),IF(AND(J40>=60,J40<65),VLOOKUP(K40,Feuil2!$F$10:$P$28,5),IF(AND(J40>=65,J40<70),VLOOKUP(K40,Feuil2!$F$10:$P$28,4),IF(AND(J40>=70,J40<75),VLOOKUP(K40,Feuil2!$F$10:$P$28,3),IF(AND(J40>=75,J40<80),VLOOKUP(K40,Feuil2!$F$10:$P$28,2),VLOOKUP(K40,Feuil2!$F$10:$P$28,2)))))))))","v":{"$error":"#N/A"}},null,{"$f":"T40-HLOOKUP(X40,Feuil2!$C$1:$CD$9,2,FALSE)","v":{"$error":"#VALUE!"}},{"$f":"T40-HLOOKUP(X40,Feuil2!$C$1:$CD$9,3,FALSE)","v":{"$error":"#VALUE!"}},{"$f":"T40-HLOOKUP(X40,Feuil2!$C$1:$CD$9,4,FALSE)","v":{"$error":"#VALUE!"}},{"$f":"T40-HLOOKUP(X40,Feuil2!$C$1:$CD$9,5,FALSE)","v":{"$error":"#VALUE!"}},{"$f":"T40-HLOOKUP(X40,Feuil2!$C$1:$CD$9,6,FALSE)","v":{"$error":"#VALUE!"}},{"$f":"T40-HLOOKUP(X40,Feuil2!$C$1:$CD$9,7,FALSE)","v":{"$error":"#VALUE!"}},{"$f":"T40-HLOOKUP(X40,Feuil2!$C$1:$CD$9,8,FALSE)","v":{"$error":"#VALUE!"}},{"$f":"T40-HLOOKUP(X40,Feuil2!$C$1:$CD$9,9,FALSE)","v":{"$error":"#VALUE!"}},null,null,null,null,null,null,null,{"$error":"#VALUE!"},114,null,{"$f":"IF(AP40,VLOOKUP(AP40,HOM!$AR$551:$AS$606,2))","v":3.5710000000000002}]
["H",null,null,null,null,false,null,null,null,null,null,null,null,null,"",null,null,null,"","","","","",{"$f":"IF(AND(J41>=40,J41<45),VLOOKUP(K41,Feuil2!$F$10:$P$28,9),IF(AND(J41>=45,J41<50),VLOOKUP(K41,Feuil2!$F$10:$P$28,8),IF(AND(J41>=50,J41<55),VLOOKUP(K41,Feuil2!$F$10:$P$28,7),IF(AND(J41>=55,J41<60),VLOOKUP(K41,Feuil2!$F$10:$P$28,6),IF(AND(J41>=60,J41<65),VLOOKUP(K41,Feuil2!$F$10:$P$28,5),IF(AND(J41>=65,J41<70),VLOOKUP(K41,Feuil2!$F$10:$P$28,4),IF(AND(J41>=70,J41<75),VLOOKUP(K41,Feuil2!$F$10:$P$28,3),IF(AND(J41>=75,J41<80),VLOOKUP(K41,Feuil2!$F$10:$P$28,2),VLOOKUP(K41,Feuil2!$F$10:$P$28,2)))))))))","v":{"$error":"#N/A"}},null,{"$f":"T41-HLOOKUP(X41,Feuil2!$C$1:$CD$9,2,FALSE)","v":{"$error":"#VALUE!"}},{"$f":"T41-HLOOKUP(X41,Feuil2!$C$1:$CD$9,3,FALSE)","v":{"$error":"#VALUE!"}},{"$f":"T41-HLOOKUP(X41,Feuil2!$C$1:$CD$9,4,FALSE)","v":{"$error":"#VALUE!"}},{"$f":"T41-HLOOKUP(X41,Feuil2!$C$1:$CD$9,5,FALSE)","v":{"$error":"#VALUE!"}},{"$f":"T41-HLOOKUP(X41,Feuil2!$C$1:$CD$9,6,FALSE)","v":{"$error":"#VALUE!"}},{"$f":"T41-HLOOKUP(X41,Feuil2!$C$1:$CD$9,7,FALSE)","v":{"$error":"#VALUE!"}},{"$f":"T41-HLOOKUP(X41,Feuil2!$C$1:$CD$9,8,FALSE)","v":{"$error":"#VALUE!"}},{"$f":"T41-HLOOKUP(X41,Feuil2!$C$1:$CD$9,9,FALSE)","v":{"$error":"#VALUE!"}},null,null,null,null,null,null,null,{"$error":"#VALUE!"},114,null,{"$f":"IF(AP41,VLOOKUP(AP41,HOM!$AR$551:$AS$606,2))","v":3.5710000000000002}]
["H",null,null,null,null,false,null,null,null,null,null,null,null,null,"",null,null,null,"","","","","",{"$f":"IF(AND(J42>=40,J42<45),VLOOKUP(K42,Feuil2!$F$10:$P$28,9),IF(AND(J42>=45,J42<50),VLOOKUP(K42,Feuil2!$F$10:$P$28,8),IF(AND(J42>=50,J42<55),VLOOKUP(K42,Feuil2!$F$10:$P$28,7),IF(AND(J42>=55,J42<60),VLOOKUP(K42,Feuil2!$F$10:$P$28,6),IF(AND(J42>=60,J42<65),VLOOKUP(K42,Feuil2!$F$10:$P$28,5),IF(AND(J42>=65,J42<70),VLOOKUP(K42,Feuil2!$F$10:$P$28,4),IF(AND(J42>=70,J42<75),VLOOKUP(K42,Feuil2!$F$10:$P$28,3),IF(AND(J42>=75,J42<80),VLOOKUP(K42,Feuil2!$F$10:$P$28,2),VLOOKUP(K42,Feuil2!$F$10:$P$28,2)))))))))","v":{"$error":"#N/A"}},null,{"$f":"T42-HLOOKUP(X42,Feuil2!$C$1:$CD$9,2,FALSE)","v":{"$error":"#VALUE!"}},{"$f":"T42-HLOOKUP(X42,Feuil2!$C$1:$CD$9,3,FALSE)","v":{"$error":"#VALUE!"}},{"$f":"T42-HLOOKUP(X42,Feuil2!$C$1:$CD$9,4,FALSE)","v":{"$error":"#VALUE!"}},{"$f":"T42-HLOOKUP(X42,Feuil2!$C$1:$CD$9,5,FALSE)","v":{"$error":"#VALUE!"}},{"$f":"T42-HLOOKUP(X42,Feuil2!$C$1:$CD$9,6,FALSE)","v":{"$error":"#VALUE!"}},{"$f":"T42-HLOOKUP(X42,Feuil2!$C$1:$CD$9,7,FALSE)","v":{"$error":"#VALUE!"}},{"$f":"T42-HLOOKUP(X42,Feuil2!$C$1:$CD$9,8,FALSE)","v":{"$error":"#VALUE!"}},{"$f":"T42-HLOOKUP(X42,Feuil2!$C$1:$CD$9,9,FALSE)","v":{"$error":"#VALUE!"}},null,null,null,null,null,null,null,{"$error":"#VALUE!"},114,null,{"$f":"IF(AP42,VLOOKUP(AP42,HOM!$AR$551:$AS$606,2))","v":3.5710000000000002}]
["H",null,null,null,null,false,null,null,null,null,null,null,null,null,"",null,null,null,"","","","","",{"$f":"IF(AND(J43>=40,J43<45),VLOOKUP(K43,Feuil2!$F$10:$P$28,9),IF(AND(J43>=45,J43<50),VLOOKUP(K43,Feuil2!$F$10:$P$28,8),IF(AND(J43>=50,J43<55),VLOOKUP(K43,Feuil2!$F$10:$P$28,7),IF(AND(J43>=55,J43<60),VLOOKUP(K43,Feuil2!$F$10:$P$28,6),IF(AND(J43>=60,J43<65),VLOOKUP(K43,Feuil2!$F$10:$P$28,5),IF(AND(J43>=65,J43<70),VLOOKUP(K43,Feuil2!$F$10:$P$28,4),IF(AND(J43>=70,J43<75),VLOOKUP(K43,Feuil2!$F$10:$P$28,3),IF(AND(J43>=75,J43<80),VLOOKUP(K43,Feuil2!$F$10:$P$28,2),VLOOKUP(K43,Feuil2!$F$10:$P$28,2)))))))))","v":{"$error":"#N/A"}},null,{"$f":"T43-HLOOKUP(X43,Feuil2!$C$1:$CD$9,2,FALSE)","v":{"$error":"#VALUE!"}},{"$f":"T43-HLOOKUP(X43,Feuil2!$C$1:$CD$9,3,FALSE)","v":{"$error":"#VALUE!"}},{"$f":"T43-HLOOKUP(X43,Feuil2!$C$1:$CD$9,4,FALSE)","v":{"$error":"#VALUE!"}},{"$f":"T43-HLOOKUP(X43,Feuil2!$C$1:$CD$9,5,FALSE)","v":{"$error":"#VALUE!"}},{"$f":"T43-HLOOKUP(X43,Feuil2!$C$1:$CD$9,6,FALSE)","v":{"$error":"#VALUE!"}},{"$f":"T43-HLOOKUP(X43,Feuil2!$C$1:$CD$9,7,FALSE)","v":{"$error":"#VALUE!"}},{"$f":"T43-HLOOKUP(X43,Feuil2!$C$1:$CD$9,8,FALSE)","v":{"$error":"#VALUE!"}},{"$f":"T43-HLOOKUP(X43,Feuil2!$C$1:$CD$9,9,FALSE)","v":{"$error":"#VALUE!"}},null,null,null,null,null,null,null,{"$error":"#VALUE!"},114,null,{"$f":"IF(AP43,VLOOKUP(AP43,HOM!$AR$551:$AS$606,2))","v":3.5710000000000002}]
["H",null,null,null,null,false,null,null,null,null,null,null,null,null,"",null,null,null,"","","","","",{"$f":"IF(AND(J44>=40,J44<45),VLOOKUP(K44,Feuil2!$F$10:$P$28,9),IF(AND(J44>=45,J44<50),VLOOKUP(K44,Feuil2!$F$10:$P$28,8),IF(AND(J44>=50,J44<55),VLOOKUP(K44,Feuil2!$F$10:$P$28,7),IF(AND(J44>=55,J44<60),VLOOKUP(K44,Feuil2!$F$10:$P$28,6),IF(AND(J44>=60,J44<65),VLOOKUP(K44,Feuil2!$F$10:$P$28,5),IF(AND(J44>=65,J44<70),VLOOKUP(K44,Feuil2!$F$10:$P$28,4),IF(AND(J44>=70,J44<75),VLOOKUP(K44,Feuil2!$F$10:$P$28,3),IF(AND(J44>=75,J44<80),VLOOKUP(K44,Feuil2!$F$10:$P$28,2),VLOOKUP(K44,Feuil2!$F$10:$P$28,2)))))))))","v":{"$error":"#N/A"}},null,{"$f":"T44-HLOOKUP(X44,Feuil2!$C$1:$CD$9,2,FALSE)","v":{"$error":"#VALUE!"}},{"$f":"T44-HLOOKUP(X44,Feuil2!$C$1:$CD$9,3,FALSE)","v":{"$error":"#VALUE!"}},{"$f":"T44-HLOOKUP(X44,Feuil2!$C$1:$CD$9,4,FALSE)","v":{"$error":"#VALUE!"}},{"$f":"T44-HLOOKUP(X44,Feuil2!$C$1:$CD$9,5,FALSE)","v":{"$error":"#VALUE!"}},{"$f":"T44-HLOOKUP(X44,Feuil2!$C$1:$CD$9,6,FALSE)","v":{"$error":"#VALUE!"}},{"$f":"T44-HLOOKUP(X44,Feuil2!$C$1:$CD$9,7,FALSE)","v":{"$error":"#VALUE!"}},{"$f":"T44-HLOOKUP(X44,Feuil2!$C$1:$CD$9,8,FALSE)","v":{"$error":"#VALUE!"}},{"$f":"T44-HLOOKUP(X44,Feuil2!$C$1:$CD$9,9,FALSE)","v":{"$error":"#VALUE!"}},null,null,null,null,null,null,null,{"$error":"#VALUE!"},114,null,{"$f":"IF(AP44,VLOOKUP(AP44,HOM!$AR$551:$AS$606,2))","v":3.5710000000000002}]
["H",null,null,null,null,false,null,null,null,null,null,null,null,null,"",null,null,null,"","","","","",{"$f":"IF(AND(J45>=40,J45<45),VLOOKUP(K45,Feuil2!$F$10:$P$28,9),IF(AND(J45>=45,J45<50),VLOOKUP(K45,Feuil2!$F$10:$P$28,8),IF(AND(J45>=50,J45<55),VLOOKUP(K45,Feuil2!$F$10:$P$28,7),IF(AND(J45>=55,J45<60),VLOOKUP(K45,Feuil2!$F$10:$P$28,6),IF(AND(J45>=60,J45<65),VLOOKUP(K45,Feuil2!$F$10:$P$28,5),IF(AND(J45>=65,J45<70),VLOOKUP(K45,Feuil2!$F$10:$P$28,4),IF(AND(J45>=70,J45<75),VLOOKUP(K45,Feuil2!$F$10:$P$28,3),IF(AND(J45>=75,J45<80),VLOOKUP(K45,Feuil2!$F$10:$P$28,2),VLOOKUP(K45,Feuil2!$F$10:$P$28,2)))))))))","v":{"$error":"#N/A"}},null,{"$f":"T45-HLOOKUP(X45,Feuil2!$C$1:$CD$9,2,FALSE)","v":{"$error":"#VALUE!"}},{"$f":"T45-HLOOKUP(X45,Feuil2!$C$1:$CD$9,3,FALSE)","v":{"$error":"#VALUE!"}},{"$f":"T45-HLOOKUP(X45,Feuil2!$C$1:$CD$9,4,FALSE)","v":{"$error":"#VALUE!"}},{"$f":"T45-HLOOKUP(X45,Feuil2!$C$1:$CD$9,5,FALSE)","v":{"$error":"#VALUE!"}},{"$f":"T45-HLOOKUP(X45,Feuil2!$C$1:$CD$9,6,FALSE)","v":{"$error":"#VALUE!"}},{"$f":"T45-HLOOKUP(X45,Feuil2!$C$1:$CD$9,7,FALSE)","v":{"$error":"#VALUE!"}},{"$f":"T45-HLOOKUP(X45,Feuil2!$C$1:$CD$9,8,FALSE)","v":{"$error":"#VALUE!"}},{"$f":"T45-HLOOKUP(X45,Feuil2!$C$1:$CD$9,9,FALSE)","v":{"$error":"#VALUE!"}},null,null,null,null,null,null,null,{"$error":"#VALUE!"},114,null,{"$f":"IF(AP45,VLOOKUP(AP45,HOM!$AR$551:$AS$606,2))","v":3.5710000000000002}]
["H",null,null,null,null,false,null,null,null,null,null,null,null,null,{"$f":"IF(K46=\"\",\"\",IF(MAXA(L46:N46)<=0,0,MAXA(L46:N46)))","v":""},null,null,null,"","","","","",{"$f":"IF(AND(J46>=40,J46<45),VLOOKUP(K46,Feuil2!$F$10:$P$28,9),IF(AND(J46>=45,J46<50),VLOOKUP(K46,Feuil2!$F$10:$P$28,8),IF(AND(J46>=50,J46<55),VLOOKUP(K46,Feuil2!$F$10:$P$28,7),IF(AND(J46>=55,J46<60),VLOOKUP(K46,Feuil2!$F$10:$P$28,6),IF(AND(J46>=60,J46<65),VLOOKUP(K46,Feuil2!$F$10:$P$28,5),IF(AND(J46>=65,J46<70),VLOOKUP(K46,Feuil2!$F$10:$P$28,4),IF(AND(J46>=70,J46<75),VLOOKUP(K46,Feuil2!$F$10:$P$28,3),IF(AND(J46>=75,J46<80),VLOOKUP(K46,Feuil2!$F$10:$P$28,2),VLOOKUP(K46,Feuil2!$F$10:$P$28,2)))))))))","v":{"$error":"#N/A"}},null,{"$f":"T46-HLOOKUP(X46,Feuil2!$C$1:$CD$9,2,FALSE)","v":{"$error":"#VALUE!"}},{"$f":"T46-HLOOKUP(X46,Feuil2!$C$1:$CD$9,3,FALSE)","v":{"$error":"#VALUE!"}},{"$f":"T46-HLOOKUP(X46,Feuil2!$C$1:$CD$9,4,FALSE)","v":{"$error":"#VALUE!"}},{"$f":"T46-HLOOKUP(X46,Feuil2!$C$1:$CD$9,5,FALSE)","v":{"$error":"#VALUE!"}},{"$f":"T46-HLOOKUP(X46,Feuil2!$C$1:$CD$9,6,FALSE)","v":{"$error":"#VALUE!"}},{"$f":"T46-HLOOKUP(X46,Feuil2!$C$1:$CD$9,7,FALSE)","v":{"$error":"#VALUE!"}},{"$f":"T46-HLOOKUP(X46,Feuil2!$C$1:$CD$9,8,FALSE)","v":{"$error":"#VALUE!"}},{"$f":"T46-HLOOKUP(X46,Feuil2!$C$1:$CD$9,9,FALSE)","v":{"$error":"#VALUE!"}},null,null,null,null,null,null,null,{"$error":"#VALUE!"},114,null,{"$f":"IF(AP46,VLOOKUP(AP46,HOM!$AR$551:$AS$606,2))","v":3.5710000000000002}]
["H",null,null,null,null,false,null,null,null,null,null,null,null,null,"",null,null,null,"","","","","",{"$f":"IF(AND(J47>=40,J47<45),VLOOKUP(K47,Feuil2!$F$10:$P$28,9),IF(AND(J47>=45,J47<50),VLOOKUP(K47,Feuil2!$F$10:$P$28,8),IF(AND(J47>=50,J47<55),VLOOKUP(K47,Feuil2!$F$10:$P$28,7),IF(AND(J47>=55,J47<60),VLOOKUP(K47,Feuil2!$F$10:$P$28,6),IF(AND(J47>=60,J47<65),VLOOKUP(K47,Feuil2!$F$10:$P$28,5),IF(AND(J47>=65,J47<70),VLOOKUP(K47,Feuil2!$F$10:$P$28,4),IF(AND(J47>=70,J47<75),VLOOKUP(K47,Feuil2!$F$10:$P$28,3),IF(AND(J47>=75,J47<80),VLOOKUP(K47,Feuil2!$F$10:$P$28,2),VLOOKUP(K47,Feuil2!$F$10:$P$28,2)))))))))","v":{"$error":"#N/A"}},null,{"$f":"T47-HLOOKUP(X47,Feuil2!$C$1:$CD$9,2,FALSE)","v":{"$error":"#VALUE!"}},{"$f":"T47-HLOOKUP(X47,Feuil2!$C$1:$CD$9,3,FALSE)","v":{"$error":"#VALUE!"}},{"$f":"T47-HLOOKUP(X47,Feuil2!$C$1:$CD$9,4,FALSE)","v":{"$error":"#VALUE!"}},{"$f":"T47-HLOOKUP(X47,Feuil2!$C$1:$CD$9,5,FALSE)","v":{"$error":"#VALUE!"}},{"$f":"T47-HLOOKUP(X47,Feuil2!$C$1:$CD$9,6,FALSE)","v":{"$error":"#VALUE!"}},{"$f":"T47-HLOOKUP(X47,Feuil2!$C$1:$CD$9,7,FALSE)","v":{"$error":"#VALUE!"}},{"$f":"T47-HLOOKUP(X47,Feuil2!$C$1:$CD$9,8,FALSE)","v":{"$error":"#VALUE!"}},{"$f":"T47-HLOOKUP(X47,Feuil2!$C$1:$CD$9,9,FALSE)","v":{"$error":"#VALUE!"}},null,null,null,null,null,null,null,{"$error":"#VALUE!"},114,null,{"$f":"IF(AP47,VLOOKUP(AP47,HOM!$AR$551:$AS$606,2))","v":3.5710000000000002}]
["H",null,null,null,null,false,null,null,null,null,null,null,null,null,"",null,null,null,{"$f":"IF(K48=\"\",\"\",IF(MAXA(P48:R48)<=0,0,MAXA(P48:R48)))","v":""},"","","","",{"$f":"IF(AND(J48>=40,J48<45),VLOOKUP(K48,Feuil2!$F$10:$P$28,9),IF(AND(J48>=45,J48<50),VLOOKUP(K48,Feuil2!$F$10:$P$28,8),IF(AND(J48>=50,J48<55),VLOOKUP(K48,Feuil2!$F$10:$P$28,7),IF(AND(J48>=55,J48<60),VLOOKUP(K48,Feuil2!$F$10:$P$28,6),IF(AND(J48>=60,J48<65),VLOOKUP(K48,Feuil2!$F$10:$P$28,5),IF(AND(J48>=65,J48<70),VLOOKUP(K48,Feuil2!$F$10:$P$28,4),IF(AND(J48>=70,J48<75),VLOOKUP(K48,Feuil2!$F$10:$P$28,3),IF(AND(J48>=75,J48<80),VLOOKUP(K48,Feuil2!$F$10:$P$28,2),VLOOKUP(K48,Feuil2!$F$10:$P$28,2)))))))))","v":{"$error":"#N/A"}},null,{"$f":"T48-HLOOKUP(X48,Feuil2!$C$1:$CD$9,2,FALSE)","v":{"$error":"#VALUE!"}},{"$f":"T48-HLOOKUP(X48,Feuil2!$C$1:$CD$9,3,FALSE)","v":{"$error":"#VALUE!"}},{"$f":"T48-HLOOKUP(X48,Feuil2!$C$1:$CD$9,4,FALSE)","v":{"$error":"#VALUE!"}},{"$f":"T48-HLOOKUP(X48,Feuil2!$C$1:$CD$9,5,FALSE)","v":{"$error":"#VALUE!"}},{"$f":"T48-HLOOKUP(X48,Feuil2!$C$1:$CD$9,6,FALSE)","v":{"$error":"#VALUE!"}},{"$f":"T48-HLOOKUP(X48,Feuil2!$C$1:$CD$9,7,FALSE)","v":{"$error":"#VALUE!"}},{"$f":"T48-HLOOKUP(X48,Feuil2!$C$1:$CD$9,8,FALSE)","v":{"$error":"#VALUE!"}},{"$f":"T48-HLOOKUP(X48,Feuil2!$C$1:$CD$9,9,FALSE)","v":{"$error":"#VALUE!"}},null,null,null,null,null,null,null,{"$error":"#VALUE!"},114,null,{"$f":"IF(AP48,VLOOKUP(AP48,HOM!$AR$551:$AS$606,2))","v":3.5710000000000002}]
["H",null,null,null,null,false,null,null,null,null,null,null,null,null,"",null,null,null,"",{"$f":"IF(K49=\"\",\"\",IF(OR(O49=0,S49=0),0,O49+S49))","v":""},"","","",{"$f":"IF(AND(J49>=40,J49<45),VLOOKUP(K49,Feuil2!$F$10:$P$28,9),IF(AND(J49>=45,J49<50),VLOOKUP(K49,Feuil2!$F$10:$P$28,8),IF(AND(J49>=50,J49<55),VLOOKUP(K49,Feuil2!$F$10:$P$28,7),IF(AND(J49>=55,J49<60),VLOOKUP(K49,Feuil2!$F$10:$P$28,6),IF(AND(J49>=60,J49<65),VLOOKUP(K49,Feuil2!$F$10:$P$28,5),IF(AND(J49>=65,J49<70),VLOOKUP(K49,Feuil2!$F$10:$P$28,4),IF(AND(J49>=70,J49<75),VLOOKUP(K49,Feuil2!$F$10:$P$28,3),IF(AND(J49>=75,J49<80),VLOOKUP(K49,Feuil2!$F$10:$P$28,2),VLOOKUP(K49,Feuil2!$F$10:$P$28,2)))))))))","v":{"$error":"#N/A"}},null,{"$f":"T49-HLOOKUP(X49,Feuil2!$C$1:$CD$9,2,FALSE)","v":{"$error":"#VALUE!"}},{"$f":"T49-HLOOKUP(X49,Feuil2!$C$1:$CD$9,3,FALSE)","v":{"$error":"#VALUE!"}},{"$f":"T49-HLOOKUP(X49,Feuil2!$C$1:$CD$9,4,FALSE)","v":{"$error":"#VALUE!"}},{"$f":"T49-HLOOKUP(X49,Feuil2!$C$1:$CD$9,5,FALSE)","v":{"$error":"#VALUE!"}},{"$f":"T49-HLOOKUP(X49,Feuil2!$C$1:$CD$9,6,FALSE)","v":{"$error":"#VALUE!"}},{"$f":"T49-HLOOKUP(X49,Feuil2!$C$1:$CD$9,7,FALSE)","v":{"$error":"#VALUE!"}},{"$f":"T49-HLOOKUP(X49,Feuil2!$C$1:$CD$9,8,FALSE)","v":{"$error":"#VALUE!"}},{"$f":"T49-HLOOKUP(X49,Feuil2!$C$1:$CD$9,9,FALSE)","v":{"$error":"#VALUE!"}},null,null,null,null,null,null,null,{"$error":"#VALUE!"},114,null,{"$f":"IF(AP49,VLOOKUP(AP49,HOM!$AR$551:$AS$606,2))","v":3.5710000000000002}]
["H",null,null,null,null,false,null,null,null,null,null,null,null,null,"",null,null,null,"","","","","",{"$f":"IF(AND(J50>=40,J50<45),VLOOKUP(K50,Feuil2!$F$10:$P$28,9),IF(AND(J50>=45,J50<50),VLOOKUP(K50,Feuil2!$F$10:$P$28,8),IF(AND(J50>=50,J50<55),VLOOKUP(K50,Feuil2!$F$10:$P$28,7),IF(AND(J50>=55,J50<60),VLOOKUP(K50,Feuil2!$F$10:$P$28,6),IF(AND(J50>=60,J50<65),VLOOKUP(K50,Feuil2!$F$10:$P$28,5),IF(AND(J50>=65,J50<70),VLOOKUP(K50,Feuil2!$F$10:$P$28,4),IF(AND(J50>=70,J50<75),VLOOKUP(K50,Feuil2!$F$10:$P$28,3),IF(AND(J50>=75,J50<80),VLOOKUP(K50,Feuil2!$F$10:$P$28,2),VLOOKUP(K50,Feuil2!$F$10:$P$28,2)))))))))","v":{"$error":"#N/A"}},null,{"$f":"T50-HLOOKUP(X50,Feuil2!$C$1:$CD$9,2,FALSE)","v":{"$error":"#VALUE!"}},{"$f":"T50-HLOOKUP(X50,Feuil2!$C$1:$CD$9,3,FALSE)","v":{"$error":"#VALUE!"}},{"$f":"T50-HLOOKUP(X50,Feuil2!$C$1:$CD$9,4,FALSE)","v":{"$error":"#VALUE!"}},{"$f":"T50-HLOOKUP(X50,Feuil2!$C$1:$CD$9,5,FALSE)","v":{"$error":"#VALUE!"}},{"$f":"T50-HLOOKUP(X50,Feuil2!$C$1:$CD$9,6,FALSE)","v":{"$error":"#VALUE!"}},{"$f":"T50-HLOOKUP(X50,Feuil2!$C$1:$CD$9,7,FALSE)","v":{"$error":"#VALUE!"}},{"$f":"T50-HLOOKUP(X50,Feuil2!$C$1:$CD$9,8,FALSE)","v":{"$error":"#VALUE!"}},{"$f":"T50-HLOOKUP(X50,Feuil2!$C$1:$CD$9,9,FALSE)","v":{"$error":"#VALUE!"}},null,null,null,null,null,null,null,{"$error":"#VALUE!"},114,null,{"$f":"IF(AP50,VLOOKUP(AP50,HOM!$AR$551:$AS$606,2))","v":3.5710000000000002}]
["H",null,null,null,null,false,null,null,null,null,null,null,null,null,"",null,null,null,"","","","","",{"$f":"IF(AND(J51>=40,J51<45),VLOOKUP(K51,Feuil2!$F$10:$P$28,9),IF(AND(J51>=45,J51<50),VLOOKUP(K51,Feuil2!$F$10:$P$28,8),IF(AND(J51>=50,J51<55),VLOOKUP(K51,Feuil2!$F$10:$P$28,7),IF(AND(J51>=55,J51<60),VLOOKUP(K51,Feuil2!$F$10:$P$28,6),IF(AND(J51>=60,J51<65),VLOOKUP(K51,Feuil2!$F$10:$P$28,5),IF(AND(J51>=65,J51<70),VLOOKUP(K51,Feuil2!$F$10:$P$28,4),IF(AND(J51>=70,J51<75),VLOOKUP(K51,Feuil2!$F$10:$P$28,3),IF(AND(J51>=75,J51<80),VLOOKUP(K51,Feuil2!$F$10:$P$28,2),VLOOKUP(K51,Feuil2!$F$10:$P$28,2)))))))))","v":{"$error":"#N/A"}},null,{"$f":"T51-HLOOKUP(X51,Feuil2!$C$1:$CD$9,2,FALSE)","v":{"$error":"#VALUE!"}},{"$f":"T51-HLOOKUP(X51,Feuil2!$C$1:$CD$9,3,FALSE)","v":{"$error":"#VALUE!"}},{"$f":"T51-HLOOKUP(X51,Feuil2!$C$1:$CD$9,4,FALSE)","v":{"$error":"#VALUE!"}},{"$f":"T51-HLOOKUP(X51,Feuil2!$C$1:$CD$9,5,FALSE)","v":{"$error":"#VALUE!"}},{"$f":"T51-HLOOKUP(X51,Feuil2!$C$1:$CD$9,6,FALSE)","v":{"$error":"#VALUE!"}},{"$f":"T51-HLOOKUP(X51,Feuil2!$C$1:$CD$9,7,FALSE)","v":{"$error":"#VALUE!"}},{"$f":"T51-HLOOKUP(X51,Feuil2!$C$1:$CD$9,8,FALSE)","v":{"$error":"#VALUE!"}},{"$f":"T51-HLOOKUP(X51,Feuil2!$C$1:$CD$9,9,FALSE)","v":{"$error":"#VALUE!"}},null,null,null,null,null,null,null,{"$error":"#VALUE!"},114,null,{"$f":"IF(AP51,VLOOKUP(AP51,HOM!$AR$551:$AS$606,2))","v":3.5710000000000002}]
["H",null,null,null,null,false,null,null,null,null,null,null,null,null,"",null,null,null,"","","","","",{"$f":"IF(AND(J52>=40,J52<45),VLOOKUP(K52,Feuil2!$F$10:$P$28,9),IF(AND(J52>=45,J52<50),VLOOKUP(K52,Feuil2!$F$10:$P$28,8),IF(AND(J52>=50,J52<55),VLOOKUP(K52,Feuil2!$F$10:$P$28,7),IF(AND(J52>=55,J52<60),VLOOKUP(K52,Feuil2!$F$10:$P$28,6),IF(AND(J52>=60,J52<65),VLOOKUP(K52,Feuil2!$F$10:$P$28,5),IF(AND(J52>=65,J52<70),VLOOKUP(K52,Feuil2!$F$10:$P$28,4),IF(AND(J52>=70,J52<75),VLOOKUP(K52,Feuil2!$F$10:$P$28,3),IF(AND(J52>=75,J52<80),VLOOKUP(K52,Feuil2!$F$10:$P$28,2),VLOOKUP(K52,Feuil2!$F$10:$P$28,2)))))))))","v":{"$error":"#N/A"}},null,{"$f":"T52-HLOOKUP(X52,Feuil2!$C$1:$CD$9,2,FALSE)","v":{"$error":"#VALUE!"}},{"$f":"T52-HLOOKUP(X52,Feuil2!$C$1:$CD$9,3,FALSE)","v":{"$error":"#VALUE!"}},{"$f":"T52-HLOOKUP(X52,Feuil2!$C$1:$CD$9,4,FALSE)","v":{"$error":"#VALUE!"}},{"$f":"T52-HLOOKUP(X52,Feuil2!$C$1:$CD$9,5,FALSE)","v":{"$error":"#VALUE!"}},{"$f":"T52-HLOOKUP(X52,Feuil2!$C$1:$CD$9,6,FALSE)","v":{"$error":"#VALUE!"}},{"$f":"T52-HLOOKUP(X52,Feuil2!$C$1:$CD$9,7,FALSE)","v":{"$error":"#VALUE!"}},{"$f":"T52-HLOOKUP(X52,Feuil2!$C$1:$CD$9,8,FALSE)","v":{"$error":"#VALUE!"}},{"$f":"T52-HLOOKUP(X52,Feuil2!$C$1:$CD$9,9,FALSE)","v":{"$error":"#VALUE!"}},null,null,null,null,null,null,null,{"$error":"#VALUE!"},114,null,{"$f":"IF(AP52,VLOOKUP(AP52,HOM!$AR$551:$AS$606,2))","v":3.5710000000000002}]
["H",null,null,null,null,false,null,null,null,null,null,null,null,null,{"$f":"IF(K53=\"\",\"\",IF(MAXA(L53:N53)<=0,0,MAXA(L53:N53)))","v":""},null,null,null,"","","","","",{"$f":"IF(AND(J53>=40,J53<45),VLOOKUP(K53,Feuil2!$F$10:$P$28,9),IF(AND(J53>=45,J53<50),VLOOKUP(K53,Feuil2!$F$10:$P$28,8),IF(AND(J53>=50,J53<55),VLOOKUP(K53,Feuil2!$F$10:$P$28,7),IF(AND(J53>=55,J53<60),VLOOKUP(K53,Feuil2!$F$10:$P$28,6),IF(AND(J53>=60,J53<65),VLOOKUP(K53,Feuil2!$F$10:$P$28,5),IF(AND(J53>=65,J53<70),VLOOKUP(K53,Feuil2!$F$10:$P$28,4),IF(AND(J53>=70,J53<75),VLOOKUP(K53,Feuil2!$F$10:$P$28,3),IF(AND(J53>=75,J53<80),VLOOKUP(K53,Feuil2!$F$10:$P$28,2),VLOOKUP(K53,Feuil2!$F$10:$P$28,2)))))))))","v":{"$error":"#N/A"}},null,{"$f":"T53-HLOOKUP(X53,Feuil2!$C$1:$CD$9,2,FALSE)","v":{"$error":"#VALUE!"}},{"$f":"T53-HLOOKUP(X53,Feuil2!$C$1:$CD$9,3,FALSE)","v":{"$error":"#VALUE!"}},{"$f":"T53-HLOOKUP(X53,Feuil2!$C$1:$CD$9,4,FALSE)","v":{"$error":"#VALUE!"}},{"$f":"T53-HLOOKUP(X53,Feuil2!$C$1:$CD$9,5,FALSE)","v":{"$error":"#VALUE!"}},{"$f":"T53-HLOOKUP(X53,Feuil2!$C$1:$CD$9,6,FALSE)","v":{"$error":"#VALUE!"}},{"$f":"T53-HLOOKUP(X53,Feuil2!$C$1:$CD$9,7,FALSE)","v":{"$error":"#VALUE!"}},{"$f":"T53-HLOOKUP(X53,Feuil2!$C$1:$CD$9,8,FALSE)","v":{"$error":"#VALUE!"}},{"$f":"T53-HLOOKUP(X53,Feuil2!$C$1:$CD$9,9,FALSE)","v":{"$error":"#VALUE!"}},null,null,null,null,null,null,null,{"$error":"#VALUE!"},114,null,{"$f":"IF(AP53,VLOOKUP(AP53,HOM!$AR$551:$AS$606,2))","v":3.5710000000000002}]
["H",null,null,null,null,false,null,null,null,null,null,null,null,null,"",null,null,null,"","","","","",{"$f":"IF(AND(J54>=40,J54<45),VLOOKUP(K54,Feuil2!$F$10:$P$28,9),IF(AND(J54>=45,J54<50),VLOOKUP(K54,Feuil2!$F$10:$P$28,8),IF(AND(J54>=50,J54<55),VLOOKUP(K54,Feuil2!$F$10:$P$28,7),IF(AND(J54>=55,J54<60),VLOOKUP(K54,Feuil2!$F$10:$P$28,6),IF(AND(J54>=60,J54<65),VLOOKUP(K54,Feuil2!$F$10:$P$28,5),IF(AND(J54>=65,J54<70),VLOOKUP(K54,Feuil2!$F$10:$P$28,4),IF(AND(J54>=70,J54<75),VLOOKUP(K54,Feuil2!$F$10:$P$28,3),IF(AND(J54>=75,J54<80),VLOOKUP(K54,Feuil2!$F$10:$P$28,2),VLOOKUP(K54,Feuil2!$F$10:$P$28,2)))))))))","v":{"$error":"#N/A"}},null,{"$f":"T54-HLOOKUP(X54,Feuil2!$C$1:$CD$9,2,FALSE)","v":{"$error":"#VALUE!"}},{"$f":"T54-HLOOKUP(X54,Feuil2!$C$1:$CD$9,3,FALSE)","v":{"$error":"#VALUE!"}},{"$f":"T54-HLOOKUP(X54,Feuil2!$C$1:$CD$9,4,FALSE)","v":{"$error":"#VALUE!"}},{"$f":"T54-HLOOKUP(X54,Feuil2!$C$1:$CD$9,5,FALSE)","v":{"$error":"#VALUE!"}},{"$f":"T54-HLOOKUP(X54,Feuil2!$C$1:$CD$9,6,FALSE)","v":{"$error":"#VALUE!"}},{"$f":"T54-HLOOKUP(X54,Feuil2!$C$1:$CD$9,7,FALSE)","v":{"$error":"#VALUE!"}},{"$f":"T54-HLOOKUP(X54,Feuil2!$C$1:$CD$9,8,FALSE)","v":{"$error":"#VALUE!"}},{"$f":"T54-HLOOKUP(X54,Feuil2!$C$1:$CD$9,9,FALSE)","v":{"$error":"#VALUE!"}},null,null,null,null,null,null,null,{"$error":"#VALUE!"},114,null,{"$f":"IF(AP54,VLOOKUP(AP54,HOM!$AR$551:$AS$606,2))","v":3.5710000000000002}]
["H",null,null,null,null,false,null,null,null,null,null,null,null,null,"",null,null,null,"","","","","",{"$f":"IF(AND(J55>=40,J55<45),VLOOKUP(K55,Feuil2!$F$10:$P$28,9),IF(AND(J55>=45,J55<50),VLOOKUP(K55,Feuil2!$F$10:$P$28,8),IF(AND(J55>=50,J55<55),VLOOKUP(K55,Feuil2!$F$10:$P$28,7),IF(AND(J55>=55,J55<60),VLOOKUP(K55,Feuil2!$F$10:$P$28,6),IF(AND(J55>=60,J55<65),VLOOKUP(K55,Feuil2!$F$10:$P$28,5),IF(AND(J55>=65,J55<70),VLOOKUP(K55,Feuil2!$F$10:$P$28,4),IF(AND(J55>=70,J55<75),VLOOKUP(K55,Feuil2!$F$10:$P$28,3),IF(AND(J55>=75,J55<80),VLOOKUP(K55,Feuil2!$F$10:$P$28,2),VLOOKUP(K55,Feuil2!$F$10:$P$28,2)))))))))","v":{"$error":"#N/A"}},null,{"$f":"T55-HLOOKUP(X55,Feuil2!$C$1:$CD$9,2,FALSE)","v":{"$error":"#VALUE!"}},{"$f":"T55-HLOOKUP(X55,Feuil2!$C$1:$CD$9,3,FALSE)","v":{"$error":"#VALUE!"}},{"$f":"T55-HLOOKUP(X55,Feuil2!$C$1:$CD$9,4,FALSE)","v":{"$error":"#VALUE!"}},{"$f":"T55-HLOOKUP(X55,Feuil2!$C$1:$CD$9,5,FALSE)","v":{"$error":"#VALUE!"}},{"$f":"T55-HLOOKUP(X55,Feuil2!$C$1:$CD$9,6,FALSE)","v":{"$error":"#VALUE!"}},{"$f":"T55-HLOOKUP(X55,Feuil2!$C$1:$CD$9,7,FALSE)","v":{"$error":"#VALUE!"}},{"$f":"T55-HLOOKUP(X55,Feuil2!$C$1:$CD$9,8,FALSE)","v":{"$error":"#VALUE!"}},{"$f":"T55-HLOOKUP(X55,Feuil2!$C$1:$CD$9,9,FALSE)","v":{"$error":"#VALUE!"}},null,null,null,null,null,null,null,{"$error":"#VALUE!"},114,null,{"$f":"IF(AP55,VLOOKUP(AP55,HOM!$AR$551:$AS$606,2))","v":3.5710000000000002}]
["H",null,null,null,null,false,null,null,null,null,null,null,null,null,"",null,null,null,"","","","","",{"$f":"IF(AND(J56>=40,J56<45),VLOOKUP(K56,Feuil2!$F$10:$P$28,9),IF(AND(J56>=45,J56<50),VLOOKUP(K56,Feuil2!$F$10:$P$28,8),IF(AND(J56>=50,J56<55),VLOOKUP(K56,Feuil2!$F$10:$P$28,7),IF(AND(J56>=55,J56<60),VLOOKUP(K56,Feuil2!$F$10:$P$28,6),IF(AND(J56>=60,J56<65),VLOOKUP(K56,Feuil2!$F$10:$P$28,5),IF(AND(J56>=65,J56<70),VLOOKUP(K56,Feuil2!$F$10:$P$28,4),IF(AND(J56>=70,J56<75),VLOOKUP(K56,Feuil2!$F$10:$P$28,3),IF(AND(J56>=75,J56<80),VLOOKUP(K56,Feuil2!$F$10:$P$28,2),VLOOKUP(K56,Feuil2!$F$10:$P$28,2)))))))))","v":{"$error":"#N/A"}},null,{"$f":"T56-HLOOKUP(X56,Feuil2!$C$1:$CD$9,2,FALSE)","v":{"$error":"#VALUE!"}},{"$f":"T56-HLOOKUP(X56,Feuil2!$C$1:$CD$9,3,FALSE)","v":{"$error":"#VALUE!"}},{"$f":"T56-HLOOKUP(X56,Feuil2!$C$1:$CD$9,4,FALSE)","v":{"$error":"#VALUE!"}},{"$f":"T56-HLOOKUP(X56,Feuil2!$C$1:$CD$9,5,FALSE)","v":{"$error":"#VALUE!"}},{"$f":"T56-HLOOKUP(X56,Feuil2!$C$1:$CD$9,6,FALSE)","v":{"$error":"#VALUE!"}},{"$f":"T56-HLOOKUP(X56,Feuil2!$C$1:$CD$9,7,FALSE)","v":{"$error":"#VALUE!"}},{"$f":"T56-HLOOKUP(X56,Feuil2!$C$1:$CD$9,8,FALSE)","v":{"$error":"#VALUE!"}},{"$f":"T56-HLOOKUP(X56,Feuil2!$C$1:$CD$9,9,FALSE)","v":{"$error":"#VALUE!"}},null,null,null,null,null,null,null,{"$error":"#VALUE!"},114,null,{"$f":"IF(AP56,VLOOKUP(AP56,HOM!$AR$551:$AS$606,2))","v":3.5710000000000002}]
["H",null,null,null,null,false,null,null,null,null,null,null,null,null,"",null,null,null,"","","","","",{"$f":"IF(AND(J57>=40,J57<45),VLOOKUP(K57,Feuil2!$F$10:$P$28,9),IF(AND(J57>=45,J57<50),VLOOKUP(K57,Feuil2!$F$10:$P$28,8),IF(AND(J57>=50,J57<55),VLOOKUP(K57,Feuil2!$F$10:$P$28,7),IF(AND(J57>=55,J57<60),VLOOKUP(K57,Feuil2!$F$10:$P$28,6),IF(AND(J57>=60,J57<65),VLOOKUP(K57,Feuil2!$F$10:$P$28,5),IF(AND(J57>=65,J57<70),VLOOKUP(K57,Feuil2!$F$10:$P$28,4),IF(AND(J57>=70,J57<75),VLOOKUP(K57,Feuil2!$F$10:$P$28,3),IF(AND(J57>=75,J57<80),VLOOKUP(K57,Feuil2!$F$10:$P$28,2),VLOOKUP(K57,Feuil2!$F$10:$P$28,2)))))))))","v":{"$error":"#N/A"}},null,{"$f":"T57-HLOOKUP(X57,Feuil2!$C$1:$CD$9,2,FALSE)","v":{"$error":"#VALUE!"}},{"$f":"T57-HLOOKUP(X57,Feuil2!$C$1:$CD$9,3,FALSE)","v":{"$error":"#VALUE!"}},{"$f":"T57-HLOOKUP(X57,Feuil2!$C$1:$CD$9,4,FALSE)","v":{"$error":"#VALUE!"}},{"$f":"T57-HLOOKUP(X57,Feuil2!$C$1:$CD$9,5,FALSE)","v":{"$error":"#VALUE!"}},{"$f":"T57-HLOOKUP(X57,Feuil2!$C$1:$CD$9,6,FALSE)","v":{"$error":"#VALUE!"}},{"$f":"T57-HLOOKUP(X57,Feuil2!$C$1:$CD$9,7,FALSE)","v":{"$error":"#VALUE!"}},{"$f":"T57-HLOOKUP(X57,Feuil2!$C$1:$CD$9,8,FALSE)","v":{"$error":"#VALUE!"}},{"$f":"T57-HLOOKUP(X57,Feuil2!$C$1:$CD$9,9,FALSE)","v":{"$error":"#VALUE!"}},null,null,null,null,null,null,null,{"$error":"#VALUE!"},114,null,{"$f":"IF(AP57,VLOOKUP(AP57,HOM!$AR$551:$AS$606,2))","v":3.5710000000000002}]
["H",null,null,null,null,false,null,null,null,null,null,null,null,null,"",null,null,null,"","","","","",{"$f":"IF(AND(J58>=40,J58<45),VLOOKUP(K58,Feuil2!$F$10:$P$28,9),IF(AND(J58>=45,J58<50),VLOOKUP(K58,Feuil2!$F$10:$P$28,8),IF(AND(J58>=50,J58<55),VLOOKUP(K58,Feuil2!$F$10:$P$28,7),IF(AND(J58>=55,J58<60),VLOOKUP(K58,Feuil2!$F$10:$P$28,6),IF(AND(J58>=60,J58<65),VLOOKUP(K58,Feuil2!$F$10:$P$28,5),IF(AND(J58>=65,J58<70),VLOOKUP(K58,Feuil2!$F$10:$P$28,4),IF(AND(J58>=70,J58<75),VLOOKUP(K58,Feuil2!$F$10:$P$28,3),IF(AND(J58>=75,J58<80),VLOOKUP(K58,Feuil2!$F$10:$P$28,2),VLOOKUP(K58,Feuil2!$F$10:$P$28,2)))))))))","v":{"$error":"#N/A"}},null,{"$f":"T58-HLOOKUP(X58,Feuil2!$C$1:$CD$9,2,FALSE)","v":{"$error":"#VALUE!"}},{"$f":"T58-HLOOKUP(X58,Feuil2!$C$1:$CD$9,3,FALSE)","v":{"$error":"#VALUE!"}},{"$f":"T58-HLOOKUP(X58,Feuil2!$C$1:$CD$9,4,FALSE)","v":{"$error":"#VALUE!"}},{"$f":"T58-HLOOKUP(X58,Feuil2!$C$1:$CD$9,5,FALSE)","v":{"$error":"#VALUE!"}},{"$f":"T58-HLOOKUP(X58,Feuil2!$C$1:$CD$9,6,FALSE)","v":{"$error":"#VALUE!"}},{"$f":"T58-HLOOKUP(X58,Feuil2!$C$1:$CD$9,7,FALSE)","v":{"$error":"#VALUE!"}},{"$f":"T58-HLOOKUP(X58,Feuil2!$C$1:$CD$9,8,FALSE)","v":{"$error":"#VALUE!"}},{"$f":"T58-HLOOKUP(X58,Feuil2!$C$1:$CD$9,9,FALSE)","v":{"$error":"#VALUE!"}},null,null,null,null,null,null,null,{"$error":"#VALUE!"},114,null,{"$f":"IF(AP58,VLOOKUP(AP58,HOM!$AR$551:$AS$606,2))","v":3.5710000000000002}]
["H",null,null,null,null,false,null,null,null,null,null,null,null,null,"",null,null,null,"","","","","",{"$f":"IF(AND(J59>=40,J59<45),VLOOKUP(K59,Feuil2!$F$10:$P$28,9),IF(AND(J59>=45,J59<50),VLOOKUP(K59,Feuil2!$F$10:$P$28,8),IF(AND(J59>=50,J59<55),VLOOKUP(K59,Feuil2!$F$10:$P$28,7),IF(AND(J59>=55,J59<60),VLOOKUP(K59,Feuil2!$F$10:$P$28,6),IF(AND(J59>=60,J59<65),VLOOKUP(K59,Feuil2!$F$10:$P$28,5),IF(AND(J59>=65,J59<70),VLOOKUP(K59,Feuil2!$F$10:$P$28,4),IF(AND(J59>=70,J59<75),VLOOKUP(K59,Feuil2!$F$10:$P$28,3),IF(AND(J59>=75,J59<80),VLOOKUP(K59,Feuil2!$F$10:$P$28,2),VLOOKUP(K59,Feuil2!$F$10:$P$28,2)))))))))","v":{"$error":"#N/A"}},null,{"$f":"T59-HLOOKUP(X59,Feuil2!$C$1:$CD$9,2,FALSE)","v":{"$error":"#VALUE!"}},{"$f":"T59-HLOOKUP(X59,Feuil2!$C$1:$CD$9,3,FALSE)","v":{"$error":"#VALUE!"}},{"$f":"T59-HLOOKUP(X59,Feuil2!$C$1:$CD$9,4,FALSE)","v":{"$error":"#VALUE!"}},{"$f":"T59-HLOOKUP(X59,Feuil2!$C$1:$CD$9,5,FALSE)","v":{"$error":"#VALUE!"}},{"$f":"T59-HLOOKUP(X59,Feuil2!$C$1:$CD$9,6,FALSE)","v":{"$error":"#VALUE!"}},{"$f":"T59-HLOOKUP(X59,Feuil2!$C$1:$CD$9,7,FALSE)","v":{"$error":"#VALUE!"}},{"$f":"T59-HLOOKUP(X59,Feuil2!$C$1:$CD$9,8,FALSE)","v":{"$error":"#VALUE!"}},{"$f":"T59-HLOOKUP(X59,Feuil2!$C$1:$CD$9,9,FALSE)","v":{"$error":"#VALUE!"}},null,null,null,null,null,null,null,{"$error":"#VALUE!"},114,null,{"$f":"IF(AP59,VLOOKUP(AP59,HOM!$AR$551:$AS$606,2))","v":3.5710000000000002}]
["H",null,null,null,null,false,null,null,null,null,null,null,null,null,"",null,null,null,"","","","","",{"$f":"IF(AND(J60>=40,J60<45),VLOOKUP(K60,Feuil2!$F$10:$P$28,9),IF(AND(J60>=45,J60<50),VLOOKUP(K60,Feuil2!$F$10:$P$28,8),IF(AND(J60>=50,J60<55),VLOOKUP(K60,Feuil2!$F$10:$P$28,7),IF(AND(J60>=55,J60<60),VLOOKUP(K60,Feuil2!$F$10:$P$28,6),IF(AND(J60>=60,J60<65),VLOOKUP(K60,Feuil2!$F$10:$P$28,5),IF(AND(J60>=65,J60<70),VLOOKUP(K60,Feuil2!$F$10:$P$28,4),IF(AND(J60>=70,J60<75),VLOOKUP(K60,Feuil2!$F$10:$P$28,3),IF(AND(J60>=75,J60<80),VLOOKUP(K60,Feuil2!$F$10:$P$28,2),VLOOKUP(K60,Feuil2!$F$10:$P$28,2)))))))))","v":{"$error":"#N/A"}},null,{"$f":"T60-HLOOKUP(X60,Feuil2!$C$1:$CD$9,2,FALSE)","v":{"$error":"#VALUE!"}},{"$f":"T60-HLOOKUP(X60,Feuil2!$C$1:$CD$9,3,FALSE)","v":{"$error":"#VALUE!"}},{"$f":"T60-HLOOKUP(X60,Feuil2!$C$1:$CD$9,4,FALSE)","v":{"$error":"#VALUE!"}},{"$f":"T60-HLOOKUP(X60,Feuil2!$C$1:$CD$9,5,FALSE)","v":{"$error":"#VALUE!"}},{"$f":"T60-HLOOKUP(X60,Feuil2!$C$1:$CD$9,6,FALSE)","v":{"$error":"#VALUE!"}},{"$f":"T60-HLOOKUP(X60,Feuil2!$C$1:$CD$9,7,FALSE)","v":{"$error":"#VALUE!"}},{"$f":"T60-HLOOKUP(X60,Feuil2!$C$1:$CD$9,8,FALSE)","v":{"$error":"#VALUE!"}},{"$f":"T60-HLOOKUP(X60,Feuil2!$C$1:$CD$9,9,FALSE)","v":{"$error":"#VALUE!"}},null,null,null,null,null,null,null,{"$error":"#VALUE!"},114,null,{"$f":"IF(AP60,VLOOKUP(AP60,HOM!$AR$551:$AS$606,2))","v":3.5710000000000002}]
["H",null,null,null,null,false,null,null,null,null,null,null,null,null,"",null,null,null,"","","","","",{"$f":"IF(AND(J61>=40,J61<45),VLOOKUP(K61,Feuil2!$F$10:$P$28,9),IF(AND(J61>=45,J61<50),VLOOKUP(K61,Feuil2!$F$10:$P$28,8),IF(AND(J61>=50,J61<55),VLOOKUP(K61,Feuil2!$F$10:$P$28,7),IF(AND(J61>=55,J61<60),VLOOKUP(K61,Feuil2!$F$10:$P$28,6),IF(AND(J61>=60,J61<65),VLOOKUP(K61,Feuil2!$F$10:$P$28,5),IF(AND(J61>=65,J61<70),VLOOKUP(K61,Feuil2!$F$10:$P$28,4),IF(AND(J61>=70,J61<75),VLOOKUP(K61,Feuil2!$F$10:$P$28,3),IF(AND(J61>=75,J61<80),VLOOKUP(K61,Feuil2!$F$10:$P$28,2),VLOOKUP(K61,Feuil2!$F$10:$P$28,2)))))))))","v":{"$error":"#N/A"}},null,{"$f":"T61-HLOOKUP(X61,Feuil2!$C$1:$CD$9,2,FALSE)","v":{"$error":"#VALUE!"}},{"$f":"T61-HLOOKUP(X61,Feuil2!$C$1:$CD$9,3,FALSE)","v":{"$error":"#VALUE!"}},{"$f":"T61-HLOOKUP(X61,Feuil2!$C$1:$CD$9,4,FALSE)","v":{"$error":"#VALUE!"}},{"$f":"T61-HLOOKUP(X61,Feuil2!$C$1:$CD$9,5,FALSE)","v":{"$error":"#VALUE!"}},{"$f":"T61-HLOOKUP(X61,Feuil2!$C$1:$CD$9,6,FALSE)","v":{"$error":"#VALUE!"}},{"$f":"T61-HLOOKUP(X61,Feuil2!$C$1:$CD$9,7,FALSE)","v":{"$error":"#VALUE!"}},{"$f":"T61-HLOOKUP(X61,Feuil2!$C$1:$CD$9,8,FALSE)","v":{"$error":"#VALUE!"}},{"$f":"T61-HLOOKUP(X61,Feuil2!$C$1:$CD$9,9,FALSE)","v":{"$error":"#VALUE!"}},null,null,null,null,null,null,null,{"$error":"#VALUE!"},114,null,{"$f":"IF(AP61,VLOOKUP(AP61,HOM!$AR$551:$AS$606,2))","v":3.5710000000000002}]
["H",null,null,null,null,false,null,null,null,null,null,null,null,null,"",null,null,null,"","","","","",{"$f":"IF(AND(J62>=40,J62<45),VLOOKUP(K62,Feuil2!$F$10:$P$28,9),IF(AND(J62>=45,J62<50),VLOOKUP(K62,Feuil2!$F$10:$P$28,8),IF(AND(J62>=50,J62<55),VLOOKUP(K62,Feuil2!$F$10:$P$28,7),IF(AND(J62>=55,J62<60),VLOOKUP(K62,Feuil2!$F$10:$P$28,6),IF(AND(J62>=60,J62<65),VLOOKUP(K62,Feuil2!$F$10:$P$28,5),IF(AND(J62>=65,J62<70),VLOOKUP(K62,Feuil2!$F$10:$P$28,4),IF(AND(J62>=70,J62<75),VLOOKUP(K62,Feuil2!$F$10:$P$28,3),IF(AND(J62>=75,J62<80),VLOOKUP(K62,Feuil2!$F$10:$P$28,2),VLOOKUP(K62,Feuil2!$F$10:$P$28,2)))))))))","v":{"$error":"#N/A"}},null,{"$f":"T62-HLOOKUP(X62,Feuil2!$C$1:$CD$9,2,FALSE)","v":{"$error":"#VALUE!"}},{"$f":"T62-HLOOKUP(X62,Feuil2!$C$1:$CD$9,3,FALSE)","v":{"$error":"#VALUE!"}},{"$f":"T62-HLOOKUP(X62,Feuil2!$C$1:$CD$9,4,FALSE)","v":{"$error":"#VALUE!"}},{"$f":"T62-HLOOKUP(X62,Feuil2!$C$1:$CD$9,5,FALSE)","v":{"$error":"#VALUE!"}},{"$f":"T62-HLOOKUP(X62,Feuil2!$C$1:$CD$9,6,FALSE)","v":{"$error":"#VALUE!"}},{"$f":"T62-HLOOKUP(X62,Feuil2!$C$1:$CD$9,7,FALSE)","v":{"$error":"#VALUE!"}},{"$f":"T62-HLOOKUP(X62,Feuil2!$C$1:$CD$9,8,FALSE)","v":{"$error":"#VALUE!"}},{"$f":"T62-HLOOKUP(X62,Feuil2!$C$1:$CD$9,9,FALSE)","v":{"$error":"#VALUE!"}},null,null,null,null,null,null,null,{"$error":"#VALUE!"},114,null,{"$f":"IF(AP62,VLOOKUP(AP62,HOM!$AR$551:$AS$606,2))","v":3.5710000000000002}]
["H",null,null,null,null,false,null,null,null,null,null,null,null,null,"",null,null,null,"","","","","",{"$f":"IF(AND(J63>=40,J63<45),VLOOKUP(K63,Feuil2!$F$10:$P$28,9),IF(AND(J63>=45,J63<50),VLOOKUP(K63,Feuil2!$F$10:$P$28,8),IF(AND(J63>=50,J63<55),VLOOKUP(K63,Feuil2!$F$10:$P$28,7),IF(AND(J63>=55,J63<60),VLOOKUP(K63,Feuil2!$F$10:$P$28,6),IF(AND(J63>=60,J63<65),VLOOKUP(K63,Feuil2!$F$10:$P$28,5),IF(AND(J63>=65,J63<70),VLOOKUP(K63,Feuil2!$F$10:$P$28,4),IF(AND(J63>=70,J63<75),VLOOKUP(K63,Feuil2!$F$10:$P$28,3),IF(AND(J63>=75,J63<80),VLOOKUP(K63,Feuil2!$F$10:$P$28,2),VLOOKUP(K63,Feuil2!$F$10:$P$28,2)))))))))","v":{"$error":"#N/A"}},null,{"$f":"T63-HLOOKUP(X63,Feuil2!$C$1:$CD$9,2,FALSE)","v":{"$error":"#VALUE!"}},{"$f":"T63-HLOOKUP(X63,Feuil2!$C$1:$CD$9,3,FALSE)","v":{"$error":"#VALUE!"}},{"$f":"T63-HLOOKUP(X63,Feuil2!$C$1:$CD$9,4,FALSE)","v":{"$error":"#VALUE!"}},{"$f":"T63-HLOOKUP(X63,Feuil2!$C$1:$CD$9,5,FALSE)","v":{"$error":"#VALUE!"}},{"$f":"T63-HLOOKUP(X63,Feuil2!$C$1:$CD$9,6,FALSE)","v":{"$error":"#VALUE!"}},{"$f":"T63-HLOOKUP(X63,Feuil2!$C$1:$CD$9,7,FALSE)","v":{"$error":"#VALUE!"}},{"$f":"T63-HLOOKUP(X63,Feuil2!$C$1:$CD$9,8,FALSE)","v":{"$error":"#VALUE!"}},{"$f":"T63-HLOOKUP(X63,Feuil2!$C$1:$CD$9,9,FALSE)","v":{"$error":"#VALUE!"}},null,null,null,null,null,null,null,{"$error":"#VALUE!"},114,null,{"$f":"IF(AP63,VLOOKUP(AP63,HOM!$AR$551:$AS$606,2))","v":3.5710000000000002}]
["H",null,null,null,null,false,null,null,null,null,null,null,null,null,"",null,null,null,"","","","","",{"$f":"IF(AND(J64>=40,J64<45),VLOOKUP(K64,Feuil2!$F$10:$P$28,9),IF(AND(J64>=45,J64<50),VLOOKUP(K64,Feuil2!$F$10:$P$28,8),IF(AND(J64>=50,J64<55),VLOOKUP(K64,Feuil2!$F$10:$P$28,7),IF(AND(J64>=55,J64<60),VLOOKUP(K64,Feuil2!$F$10:$P$28,6),IF(AND(J64>=60,J64<65),VLOOKUP(K64,Feuil2!$F$10:$P$28,5),IF(AND(J64>=65,J64<70),VLOOKUP(K64,Feuil2!$F$10:$P$28,4),IF(AND(J64>=70,J64<75),VLOOKUP(K64,Feuil2!$F$10:$P$28,3),IF(AND(J64>=75,J64<80),VLOOKUP(K64,Feuil2!$F$10:$P$28,2),VLOOKUP(K64,Feuil2!$F$10:$P$28,2)))))))))","v":{"$error":"#N/A"}},null,{"$f":"T64-HLOOKUP(X64,Feuil2!$C$1:$CD$9,2,FALSE)","v":{"$error":"#VALUE!"}},{"$f":"T64-HLOOKUP(X64,Feuil2!$C$1:$CD$9,3,FALSE)","v":{"$error":"#VALUE!"}},{"$f":"T64-HLOOKUP(X64,Feuil2!$C$1:$CD$9,4,FALSE)","v":{"$error":"#VALUE!"}},{"$f":"T64-HLOOKUP(X64,Feuil2!$C$1:$CD$9,5,FALSE)","v":{"$error":"#VALUE!"}},{"$f":"T64-HLOOKUP(X64,Feuil2!$C$1:$CD$9,6,FALSE)","v":{"$error":"#VALUE!"}},{"$f":"T64-HLOOKUP(X64,Feuil2!$C$1:$CD$9,7,FALSE)","v":{"$error":"#VALUE!"}},{"$f":"T64-HLOOKUP(X64,Feuil2!$C$1:$CD$9,8,FALSE)","v":{"$error":"#VALUE!"}},{"$f":"T64-HLOOKUP(X64,Feuil2!$C$1:$CD$9,9,FALSE)","v":{"$error":"#VALUE!"}},null,null,null,null,null,null,null,{"$error":"#VALUE!"},114,null,{"$f":"IF(AP64,VLOOKUP(AP64,HOM!$AR$551:$AS$606,2))","v":3.5710000000000002}]
["H",null,null,null,null,false,null,null,null,null,null,null,null,null,"",null,null,null,"","","","","",{"$f":"IF(AND(J65>=40,J65<45),VLOOKUP(K65,Feuil2!$F$10:$P$28,9),IF(AND(J65>=45,J65<50),VLOOKUP(K65,Feuil2!$F$10:$P$28,8),IF(AND(J65>=50,J65<55),VLOOKUP(K65,Feuil2!$F$10:$P$28,7),IF(AND(J65>=55,J65<60),VLOOKUP(K65,Feuil2!$F$10:$P$28,6),IF(AND(J65>=60,J65<65),VLOOKUP(K65,Feuil2!$F$10:$P$28,5),IF(AND(J65>=65,J65<70),VLOOKUP(K65,Feuil2!$F$10:$P$28,4),IF(AND(J65>=70,J65<75),VLOOKUP(K65,Feuil2!$F$10:$P$28,3),IF(AND(J65>=75,J65<80),VLOOKUP(K65,Feuil2!$F$10:$P$28,2),VLOOKUP(K65,Feuil2!$F$10:$P$28,2)))))))))","v":{"$error":"#N/A"}},null,{"$f":"T65-HLOOKUP(X65,Feuil2!$C$1:$CD$9,2,FALSE)","v":{"$error":"#VALUE!"}},{"$f":"T65-HLOOKUP(X65,Feuil2!$C$1:$CD$9,3,FALSE)","v":{"$error":"#VALUE!"}},{"$f":"T65-HLOOKUP(X65,Feuil2!$C$1:$CD$9,4,FALSE)","v":{"$error":"#VALUE!"}},{"$f":"T65-HLOOKUP(X65,Feuil2!$C$1:$CD$9,5,FALSE)","v":{"$error":"#VALUE!"}},{"$f":"T65-HLOOKUP(X65,Feuil2!$C$1:$CD$9,6,FALSE)","v":{"$error":"#VALUE!"}},{"$f":"T65-HLOOKUP(X65,Feuil2!$C$1:$CD$9,7,FALSE)","v":{"$error":"#VALUE!"}},{"$f":"T65-HLOOKUP(X65,Feuil2!$C$1:$CD$9,8,FALSE)","v":{"$error":"#VALUE!"}},{"$f":"T65-HLOOKUP(X65,Feuil2!$C$1:$CD$9,9,FALSE)","v":{"$error":"#VALUE!"}},null,null,null,null,null,null,null,{"$error":"#VALUE!"},114,null,{"$f":"IF(AP65,VLOOKUP(AP65,HOM!$AR$551:$AS$606,2))","v":3.5710000000000002}]
["H",null,null,null,null,false,null,null,null,null,null,null,null,null,"",null,null,null,"","","","","",{"$f":"IF(AND(J66>=40,J66<45),VLOOKUP(K66,Feuil2!$F$10:$P$28,9),IF(AND(J66>=45,J66<50),VLOOKUP(K66,Feuil2!$F$10:$P$28,8),IF(AND(J66>=50,J66<55),VLOOKUP(K66,Feuil2!$F$10:$P$28,7),IF(AND(J66>=55,J66<60),VLOOKUP(K66,Feuil2!$F$10:$P$28,6),IF(AND(J66>=60,J66<65),VLOOKUP(K66,Feuil2!$F$10:$P$28,5),IF(AND(J66>=65,J66<70),VLOOKUP(K66,Feuil2!$F$10:$P$28,4),IF(AND(J66>=70,J66<75),VLOOKUP(K66,Feuil2!$F$10:$P$28,3),IF(AND(J66>=75,J66<80),VLOOKUP(K66,Feuil2!$F$10:$P$28,2),VLOOKUP(K66,Feuil2!$F$10:$P$28,2)))))))))","v":{"$error":"#N/A"}},null,{"$f":"T66-HLOOKUP(X66,Feuil2!$C$1:$CD$9,2,FALSE)","v":{"$error":"#VALUE!"}},{"$f":"T66-HLOOKUP(X66,Feuil2!$C$1:$CD$9,3,FALSE)","v":{"$error":"#VALUE!"}},{"$f":"T66-HLOOKUP(X66,Feuil2!$C$1:$CD$9,4,FALSE)","v":{"$error":"#VALUE!"}},{"$f":"T66-HLOOKUP(X66,Feuil2!$C$1:$CD$9,5,FALSE)","v":{"$error":"#VALUE!"}},{"$f":"T66-HLOOKUP(X66,Feuil2!$C$1:$CD$9,6,FALSE)","v":{"$error":"#VALUE!"}},{"$f":"T66-HLOOKUP(X66,Feuil2!$C$1:$CD$9,7,FALSE)","v":{"$error":"#VALUE!"}},{"$f":"T66-HLOOKUP(X66,Feuil2!$C$1:$CD$9,8,FALSE)","v":{"$error":"#VALUE!"}},{"$f":"T66-HLOOKUP(X66,Feuil2!$C$1:$CD$9,9,FALSE)","v":{"$error":"#VALUE!"}},null,null,null,null,null,null,null,{"$error":"#VALUE!"},{"$f":"114-J66","v":114},null,{"$f":"IF(AP66,VLOOKUP(AP66,HOM!$AR$551:$AS$606,2))","v":3.5710000000000002}]
["H",null,null,null,null,false,null,null,null,null,null,null,null,null,"",null,null,null,"","","","","",{"$f":"IF(AND(J67>=40,J67<45),VLOOKUP(K67,Feuil2!$F$10:$P$28,9),IF(AND(J67>=45,J67<50),VLOOKUP(K67,Feuil2!$F$10:$P$28,8),IF(AND(J67>=50,J67<55),VLOOKUP(K67,Feuil2!$F$10:$P$28,7),IF(AND(J67>=55,J67<60),VLOOKUP(K67,Feuil2!$F$10:$P$28,6),IF(AND(J67>=60,J67<65),VLOOKUP(K67,Feuil2!$F$10:$P$28,5),IF(AND(J67>=65,J67<70),VLOOKUP(K67,Feuil2!$F$10:$P$28,4),IF(AND(J67>=70,J67<75),VLOOKUP(K67,Feuil2!$F$10:$P$28,3),IF(AND(J67>=75,J67<80),VLOOKUP(K67,Feuil2!$F$10:$P$28,2),VLOOKUP(K67,Feuil2!$F$10:$P$28,2)))))))))","v":{"$error":"#N/A"}},null,{"$f":"T67-HLOOKUP(X67,Feuil2!$C$1:$CD$9,2,FALSE)","v":{"$error":"#VALUE!"}},{"$f":"T67-HLOOKUP(X67,Feuil2!$C$1:$CD$9,3,FALSE)","v":{"$error":"#VALUE!"}},{"$f":"T67-HLOOKUP(X67,Feuil2!$C$1:$CD$9,4,FALSE)","v":{"$error":"#VALUE!"}},{"$f":"T67-HLOOKUP(X67,Feuil2!$C$1:$CD$9,5,FALSE)","v":{"$error":"#VALUE!"}},{"$f":"T67-HLOOKUP(X67,Feuil2!$C$1:$CD$9,6,FALSE)","v":{"$error":"#VALUE!"}},{"$f":"T67-HLOOKUP(X67,Feuil2!$C$1:$CD$9,7,FALSE)","v":{"$error":"#VALUE!"}},{"$f":"T67-HLOOKUP(X67,Feuil2!$C$1:$CD$9,8,FALSE)","v":{"$error":"#VALUE!"}},{"$f":"T67-HLOOKUP(X67,Feuil2!$C$1:$CD$9,9,FALSE)","v":{"$error":"#VALUE!"}},null,null,null,null,null,null,null,{"$error":"#VALUE!"},114,null,{"$f":"IF(AP67,VLOOKUP(AP67,HOM!$AR$551:$AS$606,2))","v":3.5710000000000002}]
["H",null,null,null,null,false,null,null,null,null,null,null,null,null,"",null,null,null,"","","","","",{"$f":"IF(AND(J68>=40,J68<45),VLOOKUP(K68,Feuil2!$F$10:$P$28,9),IF(AND(J68>=45,J68<50),VLOOKUP(K68,Feuil2!$F$10:$P$28,8),IF(AND(J68>=50,J68<55),VLOOKUP(K68,Feuil2!$F$10:$P$28,7),IF(AND(J68>=55,J68<60),VLOOKUP(K68,Feuil2!$F$10:$P$28,6),IF(AND(J68>=60,J68<65),VLOOKUP(K68,Feuil2!$F$10:$P$28,5),IF(AND(J68>=65,J68<70),VLOOKUP(K68,Feuil2!$F$10:$P$28,4),IF(AND(J68>=70,J68<75),VLOOKUP(K68,Feuil2!$F$10:$P$28,3),IF(AND(J68>=75,J68<80),VLOOKUP(K68,Feuil2!$F$10:$P$28,2),VLOOKUP(K68,Feuil2!$F$10:$P$28,2)))))))))","v":{"$error":"#N/A"}},null,{"$f":"T68-HLOOKUP(X68,Feuil2!$C$1:$CD$9,2,FALSE)","v":{"$error":"#VALUE!"}},{"$f":"T68-HLOOKUP(X68,Feuil2!$C$1:$CD$9,3,FALSE)","v":{"$error":"#VALUE!"}},{"$f":"T68-HLOOKUP(X68,Feuil2!$C$1:$CD$9,4,FALSE)","v":{"$error":"#VALUE!"}},{"$f":"T68-HLOOKUP(X68,Feuil2!$C$1:$CD$9,5,FALSE)","v":{"$error":"#VALUE!"}},{"$f":"T68-HLOOKUP(X68,Feuil2!$C$1:$CD$9,6,FALSE)","v":{"$error":"#VALUE!"}},{"$f":"T68-HLOOKUP(X68,Feuil2!$C$1:$CD$9,7,FALSE)","v":{"$error":"#VALUE!"}},{"$f":"T68-HLOOKUP(X68,Feuil2!$C$1:$CD$9,8,FALSE)","v":{"$error":"#VALUE!"}},{"$f":"T68-HLOOKUP(X68,Feuil2!$C$1:$CD$9,9,FALSE)","v":{"$error":"#VALUE!"}},null,null,null,null,null,null,null,{"$error":"#VALUE!"},114,null,{"$f":"IF(AP68,VLOOKUP(AP68,HOM!$AR$551:$AS$606,2))","v":3.5710000000000002}]
["H",null,null,null,null,{"$f":"IF(AP69<95,IF(AP69<=90,VLOOKUP(AP69,$AP$550:$AQ$605,2)))","v":false},null,null,null,null,null,null,null,null,"",null,null,null,"","","","","",{"$f":"IF(AND(J69>=40,J69<45),VLOOKUP(K69,Feuil2!$F$10:$P$28,9),IF(AND(J69>=45,J69<50),VLOOKUP(K69,Feuil2!$F$10:$P$28,8),IF(AND(J69>=50,J69<55),VLOOKUP(K69,Feuil2!$F$10:$P$28,7),IF(AND(J69>=55,J69<60),VLOOKUP(K69,Feuil2!$F$10:$P$28,6),IF(AND(J69>=60,J69<65),VLOOKUP(K69,Feuil2!$F$10:$P$28,5),IF(AND(J69>=65,J69<70),VLOOKUP(K69,Feuil2!$F$10:$P$28,4),IF(AND(J69>=70,J69<75),VLOOKUP(K69,Feuil2!$F$10:$P$28,3),IF(AND(J69>=75,J69<80),VLOOKUP(K69,Feuil2!$F$10:$P$28,2),VLOOKUP(K69,Feuil2!$F$10:$P$28,2)))))))))","v":{"$error":"#N/A"}},null,{"$f":"T69-HLOOKUP(X69,Feuil2!$C$1:$CD$9,2,FALSE)","v":{"$error":"#VALUE!"}},{"$f":"T69-HLOOKUP(X69,Feuil2!$C$1:$CD$9,3,FALSE)","v":{"$error":"#VALUE!"}},{"$f":"T69-HLOOKUP(X69,Feuil2!$C$1:$CD$9,4,FALSE)","v":{"$error":"#VALUE!"}},{"$f":"T69-HLOOKUP(X69,Feuil2!$C$1:$CD$9,5,FALSE)","v":{"$error":"#VALUE!"}},{"$f":"T69-HLOOKUP(X69,Feuil2!$C$1:$CD$9,6,FALSE)","v":{"$error":"#VALUE!"}},{"$f":"T69-HLOOKUP(X69,Feuil2!$C$1:$CD$9,7,FALSE)","v":{"$error":"#VALUE!"}},{"$f":"T69-HLOOKUP(X69,Feuil2!$C$1:$CD$9,8,FALSE)","v":{"$error":"#VALUE!"}},{"$f":"T69-HLOOKUP(X69,Feuil2!$C$1:$CD$9,9,FALSE)","v":{"$error":"#VALUE!"}},null,null,null,null,null,null,null,{"$error":"#VALUE!"},114,null,{"$f":"IF(AP69,VLOOKUP(AP69,HOM!$AR$551:$AS$606,2))","v":3.5710000000000002}]
["H",null,null,null,null,false,null,null,null,null,null,null,null,null,"",null,null,null,"","",{"$f":"IF(K70=\"\",\"\",IF(A70=\"H\",10^(0.794358141*LOG(K70/174.393)^2)*T70*AR70,IF(A70=\"F\",10^(0.89726074 * LOG(K70/148.026)^2)*T70*AR70,\"\")))","v":""},{"$f":"IF(K70=\"\",\"\",AO70)","v":""},{"$f":"IF(K70=\"\",\"\",IF(AG70>=0,AG70,IF(AF70>=0,AF70,IF(AE70>=0,AE70,IF(AD70>=0,AD70,IF(AC70>=0,AC70,IF(AB70>=0,AB70,IF(AA70>=0,AA70,Z70))))))))","v":""},{"$f":"IF(AND(J70>=40,J70<45),VLOOKUP(K70,Feuil2!$F$10:$P$28,9),IF(AND(J70>=45,J70<50),VLOOKUP(K70,Feuil2!$F$10:$P$28,8),IF(AND(J70>=50,J70<55),VLOOKUP(K70,Feuil2!$F$10:$P$28,7),IF(AND(J70>=55,J70<60),VLOOKUP(K70,Feuil2!$F$10:$P$28,6),IF(AND(J70>=60,J70<65),VLOOKUP(K70,Feuil2!$F$10:$P$28,5),IF(AND(J70>=65,J70<70),VLOOKUP(K70,Feuil2!$F$10:$P$28,4),IF(AND(J70>=70,J70<75),VLOOKUP(K70,Feuil2!$F$10:$P$28,3),IF(AND(J70>=75,J70<80),VLOOKUP(K70,Feuil2!$F$10:$P$28,2),VLOOKUP(K70,Feuil2!$F$10:$P$28,2)))))))))","v":{"$error":"#N/A"}},null,{"$f":"T70-HLOOKUP(X70,Feuil2!$C$1:$CD$9,2,FALSE)","v":{"$error":"#VALUE!"}},{"$f":"T70-HLOOKUP(X70,Feuil2!$C$1:$CD$9,3,FALSE)","v":{"$error":"#VALUE!"}},{"$f":"T70-HLOOKUP(X70,Feuil2!$C$1:$CD$9,4,FALSE)","v":{"$error":"#VALUE!"}},{"$f":"T70-HLOOKUP(X70,Feuil2!$C$1:$CD$9,5,FALSE)","v":{"$error":"#VALUE!"}},{"$f":"T70-HLOOKUP(X70,Feuil2!$C$1:$CD$9,6,FALSE)","v":{"$error":"#VALUE!"}},{"$f":"T70-HLOOKUP(X70,Feuil2!$C$1:$CD$9,7,FALSE)","v":{"$error":"#VALUE!"}},{"$f":"T70-HLOOKUP(X70,Feuil2!$C$1:$CD$9,8,FALSE)","v":{"$error":"#VALUE!"}},{"$f":"T70-HLOOKUP(X70,Feuil2!$C$1:$CD$9,9,FALSE)","v":{"$error":"#VALUE!"}},null,null,null,null,null,null,null,{"$f":"IF(AG70>=0,$AG$4,IF(AF70>=0,$AF$4,IF(AE70>=0,$AE$4,IF(AD70>=0,$AD$4,IF(AC70>=0,$AC$4,IF(AB70>=0,$AB$4,IF(AA70>=0,$AA$4,IF(Z70>=0,$Z$4,$AH$4))))))))","v":{"$error":"#VALUE!"}},114,null,{"$f":"IF(AP70,VLOOKUP(AP70,HOM!$AR$551:$AS$606,2))","v":3.5710000000000002}]
["H",null,null,null,null,false,null,null,null,null,null,null,null,null,"",null,null,null,"","","","","",{"$f":"IF(AND(J71>=40,J71<45),VLOOKUP(K71,Feuil2!$F$10:$P$28,9),IF(AND(J71>=45,J71<50),VLOOKUP(K71,Feuil2!$F$10:$P$28,8),IF(AND(J71>=50,J71<55),VLOOKUP(K71,Feuil2!$F$10:$P$28,7),IF(AND(J71>=55,J71<60),VLOOKUP(K71,Feuil2!$F$10:$P$28,6),IF(AND(J71>=60,J71<65),VLOOKUP(K71,Feuil2!$F$10:$P$28,5),IF(AND(J71>=65,J71<70),VLOOKUP(K71,Feuil2!$F$10:$P$28,4),IF(AND(J71>=70,J71<75),VLOOKUP(K71,Feuil2!$F$10:$P$28,3),IF(AND(J71>=75,J71<80),VLOOKUP(K71,Feuil2!$F$10:$P$28,2),VLOOKUP(K71,Feuil2!$F$10:$P$28,2)))))))))","v":{"$error":"#N/A"}},null,{"$f":"T71-HLOOKUP(X71,Feuil2!$C$1:$CD$9,2,FALSE)","v":{"$error":"#VALUE!"}},{"$f":"T71-HLOOKUP(X71,Feuil2!$C$1:$CD$9,3,FALSE)","v":{"$error":"#VALUE!"}},{"$f":"T71-HLOOKUP(X71,Feuil2!$C$1:$CD$9,4,FALSE)","v":{"$error":"#VALUE!"}},{"$f":"T71-HLOOKUP(X71,Feuil2!$C$1:$CD$9,5,FALSE)","v":{"$error":"#VALUE!"}},{"$f":"T71-HLOOKUP(X71,Feuil2!$C$1:$CD$9,6,FALSE)","v":{"$error":"#VALUE!"}},{"$f":"T71-HLOOKUP(X71,Feuil2!$C$1:$CD$9,7,FALSE)","v":{"$error":"#VALUE!"}},{"$f":"T71-HLOOKUP(X71,Feuil2!$C$1:$CD$9,8,FALSE)","v":{"$error":"#VALUE!"}},{"$f":"T71-HLOOKUP(X71,Feuil2!$C$1:$CD$9,9,FALSE)","v":{"$error":"#VALUE!"}},null,null,null,null,null,null,null,{"$error":"#VALUE!"},114,null,{"$f":"IF(AP71,VLOOKUP(AP71,HOM!$AR$551:$AS$606,2))","v":3.5710000000000002}]
["H",null,null,null,null,false,null,null,null,null,null,null,null,null,"",null,null,null,"","","","","",{"$f":"IF(AND(J72>=40,J72<45),VLOOKUP(K72,Feuil2!$F$10:$P$28,9),IF(AND(J72>=45,J72<50),VLOOKUP(K72,Feuil2!$F$10:$P$28,8),IF(AND(J72>=50,J72<55),VLOOKUP(K72,Feuil2!$F$10:$P$28,7),IF(AND(J72>=55,J72<60),VLOOKUP(K72,Feuil2!$F$10:$P$28,6),IF(AND(J72>=60,J72<65),VLOOKUP(K72,Feuil2!$F$10:$P$28,5),IF(AND(J72>=65,J72<70),VLOOKUP(K72,Feuil2!$F$10:$P$28,4),IF(AND(J72>=70,J72<75),VLOOKUP(K72,Feuil2!$F$10:$P$28,3),IF(AND(J72>=75,J72<80),VLOOKUP(K72,Feuil2!$F$10:$P$28,2),VLOOKUP(K72,Feuil2!$F$10:$P$28,2)))))))))","v":{"$error":"#N/A"}},null,{"$f":"T72-HLOOKUP(X72,Feuil2!$C$1:$CD$9,2,FALSE)","v":{"$error":"#VALUE!"}},{"$f":"T72-HLOOKUP(X72,Feuil2!$C$1:$CD$9,3,FALSE)","v":{"$error":"#VALUE!"}},{"$f":"T72-HLOOKUP(X72,Feuil2!$C$1:$CD$9,4,FALSE)","v":{"$error":"#VALUE!"}},{"$f":"T72-HLOOKUP(X72,Feuil2!$C$1:$CD$9,5,FALSE)","v":{"$error":"#VALUE!"}},{"$f":"T72-HLOOKUP(X72,Feuil2!$C$1:$CD$9,6,FALSE)","v":{"$error":"#VALUE!"}},{"$f":"T72-HLOOKUP(X72,Feuil2!$C$1:$CD$9,7,FALSE)","v":{"$error":"#VALUE!"}},{"$f":"T72-HLOOKUP(X72,Feuil2!$C$1:$CD$9,8,FALSE)","v":{"$error":"#VALUE!"}},{"$f":"T72-HLOOKUP(X72,Feuil2!$C$1:$CD$9,9,FALSE)","v":{"$error":"#VALUE!"}},null,null,null,null,null,null,null,{"$error":"#VALUE!"},114,null,{"$f":"IF(AP72,VLOOKUP(AP72,HOM!$AR$551:$AS$606,2))","v":3.5710000000000002}]
["H",null,null,null,null,false,null,null,null,null,null,null,null,null,"",null,null,null,{"$f":"IF(K73=\"\",\"\",IF(MAXA(P73:R73)<=0,0,MAXA(P73:R73)))","v":""},{"$f":"IF(K73=\"\",\"\",IF(OR(O73=0,S73=0),0,O73+S73))","v":""},"","","",{"$f":"IF(AND(J73>=40,J73<45),VLOOKUP(K73,Feuil2!$F$10:$P$28,9),IF(AND(J73>=45,J73<50),VLOOKUP(K73,Feuil2!$F$10:$P$28,8),IF(AND(J73>=50,J73<55),VLOOKUP(K73,Feuil2!$F$10:$P$28,7),IF(AND(J73>=55,J73<60),VLOOKUP(K73,Feuil2!$F$10:$P$28,6),IF(AND(J73>=60,J73<65),VLOOKUP(K73,Feuil2!$F$10:$P$28,5),IF(AND(J73>=65,J73<70),VLOOKUP(K73,Feuil2!$F$10:$P$28,4),IF(AND(J73>=70,J73<75),VLOOKUP(K73,Feuil2!$F$10:$P$28,3),IF(AND(J73>=75,J73<80),VLOOKUP(K73,Feuil2!$F$10:$P$28,2),VLOOKUP(K73,Feuil2!$F$10:$P$28,2)))))))))","v":{"$error":"#N/A"}},null,{"$f":"T73-HLOOKUP(X73,Feuil2!$C$1:$CD$9,2,FALSE)","v":{"$error":"#VALUE!"}},{"$f":"T73-HLOOKUP(X73,Feuil2!$C$1:$CD$9,3,FALSE)","v":{"$error":"#VALUE!"}},{"$f":"T73-HLOOKUP(X73,Feuil2!$C$1:$CD$9,4,FALSE)","v":{"$error":"#VALUE!"}},{"$f":"T73-HLOOKUP(X73,Feuil2!$C$1:$CD$9,5,FALSE)","v":{"$error":"#VALUE!"}},{"$f":"T73-HLOOKUP(X73,Feuil2!$C$1:$CD$9,6,FALSE)","v":{"$error":"#VALUE!"}},{"$f":"T73-HLOOKUP(X73,Feuil2!$C$1:$CD$9,7,FALSE)","v":{"$error":"#VALUE!"}},{"$f":"T73-HLOOKUP(X73,Feuil2!$C$1:$CD$9,8,FALSE)","v":{"$error":"#VALUE!"}},{"$f":"T73-HLOOKUP(X73,Feuil2!$C$1:$CD$9,9,FALSE)","v":{"$error":"#VALUE!"}},null,null,null,null,null,null,null,{"$error":"#VALUE!"},114,null,{"$f":"IF(AP73,VLOOKUP(AP73,HOM!$AR$551:$AS$606,2))","v":3.5710000000000002}]
["H",null,null,null,null,false,null,null,null,null,null,null,null,null,"",null,null,null,"","","","","",{"$f":"IF(AND(J74>=40,J74<45),VLOOKUP(K74,Feuil2!$F$10:$P$28,9),IF(AND(J74>=45,J74<50),VLOOKUP(K74,Feuil2!$F$10:$P$28,8),IF(AND(J74>=50,J74<55),VLOOKUP(K74,Feuil2!$F$10:$P$28,7),IF(AND(J74>=55,J74<60),VLOOKUP(K74,Feuil2!$F$10:$P$28,6),IF(AND(J74>=60,J74<65),VLOOKUP(K74,Feuil2!$F$10:$P$28,5),IF(AND(J74>=65,J74<70),VLOOKUP(K74,Feuil2!$F$10:$P$28,4),IF(AND(J74>=70,J74<75),VLOOKUP(K74,Feuil2!$F$10:$P$28,3),IF(AND(J74>=75,J74<80),VLOOKUP(K74,Feuil2!$F$10:$P$28,2),VLOOKUP(K74,Feuil2!$F$10:$P$28,2)))))))))","v":{"$error":"#N/A"}},null,{"$f":"T74-HLOOKUP(X74,Feuil2!$C$1:$CD$9,2,FALSE)","v":{"$error":"#VALUE!"}},{"$f":"T74-HLOOKUP(X74,Feuil2!$C$1:$CD$9,3,FALSE)","v":{"$error":"#VALUE!"}},{"$f":"T74-HLOOKUP(X74,Feuil2!$C$1:$CD$9,4,FALSE)","v":{"$error":"#VALUE!"}},{"$f":"T74-HLOOKUP(X74,Feuil2!$C$1:$CD$9,5,FALSE)","v":{"$error":"#VALUE!"}},{"$f":"T74-HLOOKUP(X74,Feuil2!$C$1:$CD$9,6,FALSE)","v":{"$error":"#VALUE!"}},{"$f":"T74-HLOOKUP(X74,Feuil2!$C$1:$CD$9,7,FALSE)","v":{"$error":"#VALUE!"}},{"$f":"T74-HLOOKUP(X74,Feuil2!$C$1:$CD$9,8,FALSE)","v":{"$error":"#VALUE!"}},{"$f":"T74-HLOOKUP(X74,Feuil2!$C$1:$CD$9,9,FALSE)","v":{"$error":"#VALUE!"}},null,null,null,null,null,null,null,{"$error":"#VALUE!"},114,null,{"$f":"IF(AP74,VLOOKUP(AP74,HOM!$AR$551:$AS$606,2))","v":3.5710000000000002}]
["H",null,null,null,null,false,null,null,null,null,null,null,null,null,"",null,null,null,"","","","","",{"$f":"IF(AND(J75>=40,J75<45),VLOOKUP(K75,Feuil2!$F$10:$P$28,9),IF(AND(J75>=45,J75<50),VLOOKUP(K75,Feuil2!$F$10:$P$28,8),IF(AND(J75>=50,J75<55),VLOOKUP(K75,Feuil2!$F$10:$P$28,7),IF(AND(J75>=55,J75<60),VLOOKUP(K75,Feuil2!$F$10:$P$28,6),IF(AND(J75>=60,J75<65),VLOOKUP(K75,Feuil2!$F$10:$P$28,5),IF(AND(J75>=65,J75<70),VLOOKUP(K75,Feuil2!$F$10:$P$28,4),IF(AND(J75>=70,J75<75),VLOOKUP(K75,Feuil2!$F$10:$P$28,3),IF(AND(J75>=75,J75<80),VLOOKUP(K75,Feuil2!$F$10:$P$28,2),VLOOKUP(K75,Feuil2!$F$10:$P$28,2)))))))))","v":{"$error":"#N/A"}},null,{"$f":"T75-HLOOKUP(X75,Feuil2!$C$1:$CD$9,2,FALSE)","v":{"$error":"#VALUE!"}},{"$f":"T75-HLOOKUP(X75,Feuil2!$C$1:$CD$9,3,FALSE)","v":{"$error":"#VALUE!"}},{"$f":"T75-HLOOKUP(X75,Feuil2!$C$1:$CD$9,4,FALSE)","v":{"$error":"#VALUE!"}},{"$f":"T75-HLOOKUP(X75,Feuil2!$C$1:$CD$9,5,FALSE)","v":{"$error":"#VALUE!"}},{"$f":"T75-HLOOKUP(X75,Feuil2!$C$1:$CD$9,6,FALSE)","v":{"$error":"#VALUE!"}},{"$f":"T75-HLOOKUP(X75,Feuil2!$C$1:$CD$9,7,FALSE)","v":{"$error":"#VALUE!"}},{"$f":"T75-HLOOKUP(X75,Feuil2!$C$1:$CD$9,8,FALSE)","v":{"$error":"#VALUE!"}},{"$f":"T75-HLOOKUP(X75,Feuil2!$C$1:$CD$9,9,FALSE)","v":{"$error":"#VALUE!"}},null,null,null,null,null,null,null,{"$error":"#VALUE!"},114,null,{"$f":"IF(AP75,VLOOKUP(AP75,HOM!$AR$551:$AS$606,2))","v":3.5710000000000002}]
["H",null,null,null,null,false,null,null,null,null,null,null,null,null,"",null,null,null,"","","","","",{"$f":"IF(AND(J76>=40,J76<45),VLOOKUP(K76,Feuil2!$F$10:$P$28,9),IF(AND(J76>=45,J76<50),VLOOKUP(K76,Feuil2!$F$10:$P$28,8),IF(AND(J76>=50,J76<55),VLOOKUP(K76,Feuil2!$F$10:$P$28,7),IF(AND(J76>=55,J76<60),VLOOKUP(K76,Feuil2!$F$10:$P$28,6),IF(AND(J76>=60,J76<65),VLOOKUP(K76,Feuil2!$F$10:$P$28,5),IF(AND(J76>=65,J76<70),VLOOKUP(K76,Feuil2!$F$10:$P$28,4),IF(AND(J76>=70,J76<75),VLOOKUP(K76,Feuil2!$F$10:$P$28,3),IF(AND(J76>=75,J76<80),VLOOKUP(K76,Feuil2!$F$10:$P$28,2),VLOOKUP(K76,Feuil2!$F$10:$P$28,2)))))))))","v":{"$error":"#N/A"}},null,{"$f":"T76-HLOOKUP(X76,Feuil2!$C$1:$CD$9,2,FALSE)","v":{"$error":"#VALUE!"}},{"$f":"T76-HLOOKUP(X76,Feuil2!$C$1:$CD$9,3,FALSE)","v":{"$error":"#VALUE!"}},{"$f":"T76-HLOOKUP(X76,Feuil2!$C$1:$CD$9,4,FALSE)","v":{"$error":"#VALUE!"}},{"$f":"T76-HLOOKUP(X76,Feuil2!$C$1:$CD$9,5,FALSE)","v":{"$error":"#VALUE!"}},{"$f":"T76-HLOOKUP(X76,Feuil2!$C$1:$CD$9,6,FALSE)","v":{"$error":"#VALUE!"}},{"$f":"T76-HLOOKUP(X76,Feuil2!$C$1:$CD$9,7,FALSE)","v":{"$error":"#VALUE!"}},{"$f":"T76-HLOOKUP(X76,Feuil2!$C$1:$CD$9,8,FALSE)","v":{"$error":"#VALUE!"}},{"$f":"T76-HLOOKUP(X76,Feuil2!$C$1:$CD$9,9,FALSE)","v":{"$error":"#VALUE!"}},null,null,null,null,null,null,null,{"$error":"#VALUE!"},114,null,{"$f":"IF(AP76,VLOOKUP(AP76,HOM!$AR$551:$AS$606,2))","v":3.5710000000000002}]
["H",null,null,null,null,false,null,null,null,null,null,null,null,null,"",null,null,null,"","","","","",{"$f":"IF(AND(J77>=40,J77<45),VLOOKUP(K77,Feuil2!$F$10:$P$28,9),IF(AND(J77>=45,J77<50),VLOOKUP(K77,Feuil2!$F$10:$P$28,8),IF(AND(J77>=50,J77<55),VLOOKUP(K77,Feuil2!$F$10:$P$28,7),IF(AND(J77>=55,J77<60),VLOOKUP(K77,Feuil2!$F$10:$P$28,6),IF(AND(J77>=60,J77<65),VLOOKUP(K77,Feuil2!$F$10:$P$28,5),IF(AND(J77>=65,J77<70),VLOOKUP(K77,Feuil2!$F$10:$P$28,4),IF(AND(J77>=70,J77<75),VLOOKUP(K77,Feuil2!$F$10:$P$28,3),IF(AND(J77>=75,J77<80),VLOOKUP(K77,Feuil2!$F$10:$P$28,2),VLOOKUP(K77,Feuil2!$F$10:$P$28,2)))))))))","v":{"$error":"#N/A"}},null,{"$f":"T77-HLOOKUP(X77,Feuil2!$C$1:$CD$9,2,FALSE)","v":{"$error":"#VALUE!"}},{"$f":"T77-HLOOKUP(X77,Feuil2!$C$1:$CD$9,3,FALSE)","v":{"$error":"#VALUE!"}},{"$f":"T77-HLOOKUP(X77,Feuil2!$C$1:$CD$9,4,FALSE)","v":{"$error":"#VALUE!"}},{"$f":"T77-HLOOKUP(X77,Feuil2!$C$1:$CD$9,5,FALSE)","v":{"$error":"#VALUE!"}},{"$f":"T77-HLOOKUP(X77,Feuil2!$C$1:$CD$9,6,FALSE)","v":{"$error":"#VALUE!"}},{"$f":"T77-HLOOKUP(X77,Feuil2!$C$1:$CD$9,7,FALSE)","v":{"$error":"#VALUE!"}},{"$f":"T77-HLOOKUP(X77,Feuil2!$C$1:$CD$9,8,FALSE)","v":{"$error":"#VALUE!"}},{"$f":"T77-HLOOKUP(X77,Feuil2!$C$1:$CD$9,9,FALSE)","v":{"$error":"#VALUE!"}},null,null,null,null,null,null,null,{"$error":"#VALUE!"},114,null,{"$f":"IF(AP77,VLOOKUP(AP77,HOM!$AR$551:$AS$606,2))","v":3.5710000000000002}]
["H",null,null,null,null,false,null,null,null,null,null,null,null,null,"",null,null,null,"","","","","",{"$f":"IF(AND(J78>=40,J78<45),VLOOKUP(K78,Feuil2!$F$10:$P$28,9),IF(AND(J78>=45,J78<50),VLOOKUP(K78,Feuil2!$F$10:$P$28,8),IF(AND(J78>=50,J78<55),VLOOKUP(K78,Feuil2!$F$10:$P$28,7),IF(AND(J78>=55,J78<60),VLOOKUP(K78,Feuil2!$F$10:$P$28,6),IF(AND(J78>=60,J78<65),VLOOKUP(K78,Feuil2!$F$10:$P$28,5),IF(AND(J78>=65,J78<70),VLOOKUP(K78,Feuil2!$F$10:$P$28,4),IF(AND(J78>=70,J78<75),VLOOKUP(K78,Feuil2!$F$10:$P$28,3),IF(AND(J78>=75,J78<80),VLOOKUP(K78,Feuil2!$F$10:$P$28,2),VLOOKUP(K78,Feuil2!$F$10:$P$28,2)))))))))","v":{"$error":"#N/A"}},null,{"$f":"T78-HLOOKUP(X78,Feuil2!$C$1:$CD$9,2,FALSE)","v":{"$error":"#VALUE!"}},{"$f":"T78-HLOOKUP(X78,Feuil2!$C$1:$CD$9,3,FALSE)","v":{"$error":"#VALUE!"}},{"$f":"T78-HLOOKUP(X78,Feuil2!$C$1:$CD$9,4,FALSE)","v":{"$error":"#VALUE!"}},{"$f":"T78-HLOOKUP(X78,Feuil2!$C$1:$CD$9,5,FALSE)","v":{"$error":"#VALUE!"}},{"$f":"T78-HLOOKUP(X78,Feuil2!$C$1:$CD$9,6,FALSE)","v":{"$error":"#VALUE!"}},{"$f":"T78-HLOOKUP(X78,Feuil2!$C$1:$CD$9,7,FALSE)","v":{"$error":"#VALUE!"}},{"$f":"T78-HLOOKUP(X78,Feuil2!$C$1:$CD$9,8,FALSE)","v":{"$error":"#VALUE!"}},{"$f":"T78-HLOOKUP(X78,Feuil2!$C$1:$CD$9,9,FALSE)","v":{"$error":"#VALUE!"}},null,null,null,null,null,null,null,{"$error":"#VALUE!"},114,null,{"$f":"IF(AP78,VLOOKUP(AP78,HOM!$AR$551:$AS$606,2))","v":3.5710000000000002}]
["H",null,null,null,null,false,null,null,null,null,null,null,null,null,"",null,null,null,"","","","","",{"$f":"IF(AND(J79>=40,J79<45),VLOOKUP(K79,Feuil2!$F$10:$P$28,9),IF(AND(J79>=45,J79<50),VLOOKUP(K79,Feuil2!$F$10:$P$28,8),IF(AND(J79>=50,J79<55),VLOOKUP(K79,Feuil2!$F$10:$P$28,7),IF(AND(J79>=55,J79<60),VLOOKUP(K79,Feuil2!$F$10:$P$28,6),IF(AND(J79>=60,J79<65),VLOOKUP(K79,Feuil2!$F$10:$P$28,5),IF(AND(J79>=65,J79<70),VLOOKUP(K79,Feuil2!$F$10:$P$28,4),IF(AND(J79>=70,J79<75),VLOOKUP(K79,Feuil2!$F$10:$P$28,3),IF(AND(J79>=75,J79<80),VLOOKUP(K79,Feuil2!$F$10:$P$28,2),VLOOKUP(K79,Feuil2!$F$10:$P$28,2)))))))))","v":{"$error":"#N/A"}},null,{"$f":"T79-HLOOKUP(X79,Feuil2!$C$1:$CD$9,2,FALSE)","v":{"$error":"#VALUE!"}},{"$f":"T79-HLOOKUP(X79,Feuil2!$C$1:$CD$9,3,FALSE)","v":{"$error":"#VALUE!"}},{"$f":"T79-HLOOKUP(X79,Feuil2!$C$1:$CD$9,4,FALSE)","v":{"$error":"#VALUE!"}},{"$f":"T79-HLOOKUP(X79,Feuil2!$C$1:$CD$9,5,FALSE)","v":{"$error":"#VALUE!"}},{"$f":"T79-HLOOKUP(X79,Feuil2!$C$1:$CD$9,6,FALSE)","v":{"$error":"#VALUE!"}},{"$f":"T79-HLOOKUP(X79,Feuil2!$C$1:$CD$9,7,FALSE)","v":{"$error":"#VALUE!"}},{"$f":"T79-HLOOKUP(X79,Feuil2!$C$1:$CD$9,8,FALSE)","v":{"$error":"#VALUE!"}},{"$f":"T79-HLOOKUP(X79,Feuil2!$C$1:$CD$9,9,FALSE)","v":{"$error":"#VALUE!"}},null,null,null,null,null,null,null,{"$error":"#VALUE!"},114,null,{"$f":"IF(AP79,VLOOKUP(AP79,HOM!$AR$551:$AS$606,2))","v":3.5710000000000002}]
["H",null,null,null,null,false,null,null,null,null,null,null,null,null,"",null,null,null,"","","","","",{"$f":"IF(AND(J80>=40,J80<45),VLOOKUP(K80,Feuil2!$F$10:$P$28,9),IF(AND(J80>=45,J80<50),VLOOKUP(K80,Feuil2!$F$10:$P$28,8),IF(AND(J80>=50,J80<55),VLOOKUP(K80,Feuil2!$F$10:$P$28,7),IF(AND(J80>=55,J80<60),VLOOKUP(K80,Feuil2!$F$10:$P$28,6),IF(AND(J80>=60,J80<65),VLOOKUP(K80,Feuil2!$F$10:$P$28,5),IF(AND(J80>=65,J80<70),VLOOKUP(K80,Feuil2!$F$10:$P$28,4),IF(AND(J80>=70,J80<75),VLOOKUP(K80,Feuil2!$F$10:$P$28,3),IF(AND(J80>=75,J80<80),VLOOKUP(K80,Feuil2!$F$10:$P$28,2),VLOOKUP(K80,Feuil2!$F$10:$P$28,2)))))))))","v":{"$error":"#N/A"}},null,{"$f":"T80-HLOOKUP(X80,Feuil2!$C$1:$CD$9,2,FALSE)","v":{"$error":"#VALUE!"}},{"$f":"T80-HLOOKUP(X80,Feuil2!$C$1:$CD$9,3,FALSE)","v":{"$error":"#VALUE!"}},{"$f":"T80-HLOOKUP(X80,Feuil2!$C$1:$CD$9,4,FALSE)","v":{"$error":"#VALUE!"}},{"$f":"T80-HLOOKUP(X80,Feuil2!$C$1:$CD$9,5,FALSE)","v":{"$error":"#VALUE!"}},{"$f":"T80-HLOOKUP(X80,Feuil2!$C$1:$CD$9,6,FALSE)","v":{"$error":"#VALUE!"}},{"$f":"T80-HLOOKUP(X80,Feuil2!$C$1:$CD$9,7,FALSE)","v":{"$error":"#VALUE!"}},{"$f":"T80-HLOOKUP(X80,Feuil2!$C$1:$CD$9,8,FALSE)","v":{"$error":"#VALUE!"}},{"$f":"T80-HLOOKUP(X80,Feuil2!$C$1:$CD$9,9,FALSE)","v":{"$error":"#VALUE!"}},null,null,null,null,null,null,null,{"$error":"#VALUE!"},114,null,{"$f":"IF(AP80,VLOOKUP(AP80,HOM!$AR$551:$AS$606,2))","v":3.5710000000000002}]
["H",null,null,null,null,false,null,null,null,null,null,null,null,null,{"$f":"IF(K81=\"\",\"\",IF(MAXA(L81:N81)<=0,0,MAXA(L81:N81)))","v":""},null,null,null,"","","","","",{"$f":"IF(AND(J81>=40,J81<45),VLOOKUP(K81,Feuil2!$F$10:$P$28,9),IF(AND(J81>=45,J81<50),VLOOKUP(K81,Feuil2!$F$10:$P$28,8),IF(AND(J81>=50,J81<55),VLOOKUP(K81,Feuil2!$F$10:$P$28,7),IF(AND(J81>=55,J81<60),VLOOKUP(K81,Feuil2!$F$10:$P$28,6),IF(AND(J81>=60,J81<65),VLOOKUP(K81,Feuil2!$F$10:$P$28,5),IF(AND(J81>=65,J81<70),VLOOKUP(K81,Feuil2!$F$10:$P$28,4),IF(AND(J81>=70,J81<75),VLOOKUP(K81,Feuil2!$F$10:$P$28,3),IF(AND(J81>=75,J81<80),VLOOKUP(K81,Feuil2!$F$10:$P$28,2),VLOOKUP(K81,Feuil2!$F$10:$P$28,2)))))))))","v":{"$error":"#N/A"}},null,{"$f":"T81-HLOOKUP(X81,Feuil2!$C$1:$CD$9,2,FALSE)","v":{"$error":"#VALUE!"}},{"$f":"T81-HLOOKUP(X81,Feuil2!$C$1:$CD$9,3,FALSE)","v":{"$error":"#VALUE!"}},{"$f":"T81-HLOOKUP(X81,Feuil2!$C$1:$CD$9,4,FALSE)","v":{"$error":"#VALUE!"}},{"$f":"T81-HLOOKUP(X81,Feuil2!$C$1:$CD$9,5,FALSE)","v":{"$error":"#VALUE!"}},{"$f":"T81-HLOOKUP(X81,Feuil2!$C$1:$CD$9,6,FALSE)","v":{"$error":"#VALUE!"}},{"$f":"T81-HLOOKUP(X81,Feuil2!$C$1:$CD$9,7,FALSE)","v":{"$error":"#VALUE!"}},{"$f":"T81-HLOOKUP(X81,Feuil2!$C$1:$CD$9,8,FALSE)","v":{"$error":"#VALUE!"}},{"$f":"T81-HLOOKUP(X81,Feuil2!$C$1:$CD$9,9,FALSE)","v":{"$error":"#VALUE!"}},null,null,null,null,null,null,null,{"$error":"#VALUE!"},114,null,{"$f":"IF(AP81,VLOOKUP(AP81,HOM!$AR$551:$AS$606,2))","v":3.5710000000000002}]
["H",null,null,null,null,false,null,null,null,null,null,null,null,null,"",null,null,null,"","","","","",{"$f":"IF(AND(J82>=40,J82<45),VLOOKUP(K82,Feuil2!$F$10:$P$28,9),IF(AND(J82>=45,J82<50),VLOOKUP(K82,Feuil2!$F$10:$P$28,8),IF(AND(J82>=50,J82<55),VLOOKUP(K82,Feuil2!$F$10:$P$28,7),IF(AND(J82>=55,J82<60),VLOOKUP(K82,Feuil2!$F$10:$P$28,6),IF(AND(J82>=60,J82<65),VLOOKUP(K82,Feuil2!$F$10:$P$28,5),IF(AND(J82>=65,J82<70),VLOOKUP(K82,Feuil2!$F$10:$P$28,4),IF(AND(J82>=70,J82<75),VLOOKUP(K82,Feuil2!$F$10:$P$28,3),IF(AND(J82>=75,J82<80),VLOOKUP(K82,Feuil2!$F$10:$P$28,2),VLOOKUP(K82,Feuil2!$F$10:$P$28,2)))))))))","v":{"$error":"#N/A"}},null,{"$f":"T82-HLOOKUP(X82,Feuil2!$C$1:$CD$9,2,FALSE)","v":{"$error":"#VALUE!"}},{"$f":"T82-HLOOKUP(X82,Feuil2!$C$1:$CD$9,3,FALSE)","v":{"$error":"#VALUE!"}},{"$f":"T82-HLOOKUP(X82,Feuil2!$C$1:$CD$9,4,FALSE)","v":{"$error":"#VALUE!"}},{"$f":"T82-HLOOKUP(X82,Feuil2!$C$1:$CD$9,5,FALSE)","v":{"$error":"#VALUE!"}},{"$f":"T82-HLOOKUP(X82,Feuil2!$C$1:$CD$9,6,FALSE)","v":{"$error":"#VALUE!"}},{"$f":"T82-HLOOKUP(X82,Feuil2!$C$1:$CD$9,7,FALSE)","v":{"$error":"#VALUE!"}},{"$f":"T82-HLOOKUP(X82,Feuil2!$C$1:$CD$9,8,FALSE)","v":{"$error":"#VALUE!"}},{"$f":"T82-HLOOKUP(X82,Feuil2!$C$1:$CD$9,9,FALSE)","v":{"$error":"#VALUE!"}},null,null,null,null,null,null,null,{"$error":"#VALUE!"},114,null,{"$f":"IF(AP82,VLOOKUP(AP82,HOM!$AR$551:$AS$606,2))","v":3.5710000000000002}]
["H",null,null,null,null,false,null,null,null,null,null,null,null,null,"",null,null,null,"","","","","",{"$f":"IF(AND(J83>=40,J83<45),VLOOKUP(K83,Feuil2!$F$10:$P$28,9),IF(AND(J83>=45,J83<50),VLOOKUP(K83,Feuil2!$F$10:$P$28,8),IF(AND(J83>=50,J83<55),VLOOKUP(K83,Feuil2!$F$10:$P$28,7),IF(AND(J83>=55,J83<60),VLOOKUP(K83,Feuil2!$F$10:$P$28,6),IF(AND(J83>=60,J83<65),VLOOKUP(K83,Feuil2!$F$10:$P$28,5),IF(AND(J83>=65,J83<70),VLOOKUP(K83,Feuil2!$F$10:$P$28,4),IF(AND(J83>=70,J83<75),VLOOKUP(K83,Feuil2!$F$10:$P$28,3),IF(AND(J83>=75,J83<80),VLOOKUP(K83,Feuil2!$F$10:$P$28,2),VLOOKUP(K83,Feuil2!$F$10:$P$28,2)))))))))","v":{"$error":"#N/A"}},null,{"$f":"T83-HLOOKUP(X83,Feuil2!$C$1:$CD$9,2,FALSE)","v":{"$error":"#VALUE!"}},{"$f":"T83-HLOOKUP(X83,Feuil2!$C$1:$CD$9,3,FALSE)","v":{"$error":"#VALUE!"}},{"$f":"T83-HLOOKUP(X83,Feuil2!$C$1:$CD$9,4,FALSE)","v":{"$error":"#VALUE!"}},{"$f":"T83-HLOOKUP(X83,Feuil2!$C$1:$CD$9,5,FALSE)","v":{"$error":"#VALUE!"}},{"$f":"T83-HLOOKUP(X83,Feuil2!$C$1:$CD$9,6,FALSE)","v":{"$error":"#VALUE!"}},{"$f":"T83-HLOOKUP(X83,Feuil2!$C$1:$CD$9,7,FALSE)","v":{"$error":"#VALUE!"}},{"$f":"T83-HLOOKUP(X83,Feuil2!$C$1:$CD$9,8,FALSE)","v":{"$error":"#VALUE!"}},{"$f":"T83-HLOOKUP(X83,Feuil2!$C$1:$CD$9,9,FALSE)","v":{"$error":"#VALUE!"}},null,null,null,null,null,null,null,{"$error":"#VALUE!"},114,null,{"$f":"IF(AP83,VLOOKUP(AP83,HOM!$AR$551:$AS$606,2))","v":3.5710000000000002}]
["H",null,null,null,null,false,null,null,null,null,null,null,null,null,"",null,null,null,"","","","","",{"$f":"IF(AND(J84>=40,J84<45),VLOOKUP(K84,Feuil2!$F$10:$P$28,9),IF(AND(J84>=45,J84<50),VLOOKUP(K84,Feuil2!$F$10:$P$28,8),IF(AND(J84>=50,J84<55),VLOOKUP(K84,Feuil2!$F$10:$P$28,7),IF(AND(J84>=55,J84<60),VLOOKUP(K84,Feuil2!$F$10:$P$28,6),IF(AND(J84>=60,J84<65),VLOOKUP(K84,Feuil2!$F$10:$P$28,5),IF(AND(J84>=65,J84<70),VLOOKUP(K84,Feuil2!$F$10:$P$28,4),IF(AND(J84>=70,J84<75),VLOOKUP(K84,Feuil2!$F$10:$P$28,3),IF(AND(J84>=75,J84<80),VLOOKUP(K84,Feuil2!$F$10:$P$28,2),VLOOKUP(K84,Feuil2!$F$10:$P$28,2)))))))))","v":{"$error":"#N/A"}},null,{"$f":"T84-HLOOKUP(X84,Feuil2!$C$1:$CD$9,2,FALSE)","v":{"$error":"#VALUE!"}},{"$f":"T84-HLOOKUP(X84,Feuil2!$C$1:$CD$9,3,FALSE)","v":{"$error":"#VALUE!"}},{"$f":"T84-HLOOKUP(X84,Feuil2!$C$1:$CD$9,4,FALSE)","v":{"$error":"#VALUE!"}},{"$f":"T84-HLOOKUP(X84,Feuil2!$C$1:$CD$9,5,FALSE)","v":{"$error":"#VALUE!"}},{"$f":"T84-HLOOKUP(X84,Feuil2!$C$1:$CD$9,6,FALSE)","v":{"$error":"#VALUE!"}},{"$f":"T84-HLOOKUP(X84,Feuil2!$C$1:$CD$9,7,FALSE)","v":{"$error":"#VALUE!"}},{"$f":"T84-HLOOKUP(X84,Feuil2!$C$1:$CD$9,8,FALSE)","v":{"$error":"#VALUE!"}},{"$f":"T84-HLOOKUP(X84,Feuil2!$C$1:$CD$9,9,FALSE)","v":{"$error":"#VALUE!"}},null,null,null,null,null,null,null,{"$error":"#VALUE!"},114,null,{"$f":"IF(AP84,VLOOKUP(AP84,HOM!$AR$551:$AS$606,2))","v":3.5710000000000002}]
["H",null,null,null,null,false,null,null,null,null,null,null,null,null,"",null,null,null,"","","","","",{"$f":"IF(AND(J85>=40,J85<45),VLOOKUP(K85,Feuil2!$F$10:$P$28,9),IF(AND(J85>=45,J85<50),VLOOKUP(K85,Feuil2!$F$10:$P$28,8),IF(AND(J85>=50,J85<55),VLOOKUP(K85,Feuil2!$F$10:$P$28,7),IF(AND(J85>=55,J85<60),VLOOKUP(K85,Feuil2!$F$10:$P$28,6),IF(AND(J85>=60,J85<65),VLOOKUP(K85,Feuil2!$F$10:$P$28,5),IF(AND(J85>=65,J85<70),VLOOKUP(K85,Feuil2!$F$10:$P$28,4),IF(AND(J85>=70,J85<75),VLOOKUP(K85,Feuil2!$F$10:$P$28,3),IF(AND(J85>=75,J85<80),VLOOKUP(K85,Feuil2!$F$10:$P$28,2),VLOOKUP(K85,Feuil2!$F$10:$P$28,2)))))))))","v":{"$error":"#N/A"}},null,{"$f":"T85-HLOOKUP(X85,Feuil2!$C$1:$CD$9,2,FALSE)","v":{"$error":"#VALUE!"}},{"$f":"T85-HLOOKUP(X85,Feuil2!$C$1:$CD$9,3,FALSE)","v":{"$error":"#VALUE!"}},{"$f":"T85-HLOOKUP(X85,Feuil2!$C$1:$CD$9,4,FALSE)","v":{"$error":"#VALUE!"}},{"$f":"T85-HLOOKUP(X85,Feuil2!$C$1:$CD$9,5,FALSE)","v":{"$error":"#VALUE!"}},{"$f":"T85-HLOOKUP(X85,Feuil2!$C$1:$CD$9,6,FALSE)","v":{"$error":"#VALUE!"}},{"$f":"T85-HLOOKUP(X85,Feuil2!$C$1:$CD$9,7,FALSE)","v":{"$error":"#VALUE!"}},{"$f":"T85-HLOOKUP(X85,Feuil2!$C$1:$CD$9,8,FALSE)","v":{"$error":"#VALUE!"}},{"$f":"T85-HLOOKUP(X85,Feuil2!$C$1:$CD$9,9,FALSE)","v":{"$error":"#VALUE!"}},null,null,null,null,null,null,null,{"$error":"#VALUE!"},114,null,{"$f":"IF(AP85,VLOOKUP(AP85,HOM!$AR$551:$AS$606,2))","v":3.5710000000000002}]
["H",null,null,null,null,false,null,null,null,null,null,null,null,null,"",null,null,null,"","","","","",{"$f":"IF(AND(J86>=40,J86<45),VLOOKUP(K86,Feuil2!$F$10:$P$28,9),IF(AND(J86>=45,J86<50),VLOOKUP(K86,Feuil2!$F$10:$P$28,8),IF(AND(J86>=50,J86<55),VLOOKUP(K86,Feuil2!$F$10:$P$28,7),IF(AND(J86>=55,J86<60),VLOOKUP(K86,Feuil2!$F$10:$P$28,6),IF(AND(J86>=60,J86<65),VLOOKUP(K86,Feuil2!$F$10:$P$28,5),IF(AND(J86>=65,J86<70),VLOOKUP(K86,Feuil2!$F$10:$P$28,4),IF(AND(J86>=70,J86<75),VLOOKUP(K86,Feuil2!$F$10:$P$28,3),IF(AND(J86>=75,J86<80),VLOOKUP(K86,Feuil2!$F$10:$P$28,2),VLOOKUP(K86,Feuil2!$F$10:$P$28,2)))))))))","v":{"$error":"#N/A"}},null,{"$f":"T86-HLOOKUP(X86,Feuil2!$C$1:$CD$9,2,FALSE)","v":{"$error":"#VALUE!"}},{"$f":"T86-HLOOKUP(X86,Feuil2!$C$1:$CD$9,3,FALSE)","v":{"$error":"#VALUE!"}},{"$f":"T86-HLOOKUP(X86,Feuil2!$C$1:$CD$9,4,FALSE)","v":{"$error":"#VALUE!"}},{"$f":"T86-HLOOKUP(X86,Feuil2!$C$1:$CD$9,5,FALSE)","v":{"$error":"#VALUE!"}},{"$f":"T86-HLOOKUP(X86,Feuil2!$C$1:$CD$9,6,FALSE)","v":{"$error":"#VALUE!"}},{"$f":"T86-HLOOKUP(X86,Feuil2!$C$1:$CD$9,7,FALSE)","v":{"$error":"#VALUE!"}},{"$f":"T86-HLOOKUP(X86,Feuil2!$C$1:$CD$9,8,FALSE)","v":{"$error":"#VALUE!"}},{"$f":"T86-HLOOKUP(X86,Feuil2!$C$1:$CD$9,9,FALSE)","v":{"$error":"#VALUE!"}},null,null,null,null,null,null,null,{"$error":"#VALUE!"},114,null,{"$f":"IF(AP86,VLOOKUP(AP86,HOM!$AR$551:$AS$606,2))","v":3.5710000000000002}]
["H",null,null,null,null,false,null,null,null,null,null,null,null,null,"",null,null,null,"","","","","",{"$f":"IF(AND(J87>=40,J87<45),VLOOKUP(K87,Feuil2!$F$10:$P$28,9),IF(AND(J87>=45,J87<50),VLOOKUP(K87,Feuil2!$F$10:$P$28,8),IF(AND(J87>=50,J87<55),VLOOKUP(K87,Feuil2!$F$10:$P$28,7),IF(AND(J87>=55,J87<60),VLOOKUP(K87,Feuil2!$F$10:$P$28,6),IF(AND(J87>=60,J87<65),VLOOKUP(K87,Feuil2!$F$10:$P$28,5),IF(AND(J87>=65,J87<70),VLOOKUP(K87,Feuil2!$F$10:$P$28,4),IF(AND(J87>=70,J87<75),VLOOKUP(K87,Feuil2!$F$10:$P$28,3),IF(AND(J87>=75,J87<80),VLOOKUP(K87,Feuil2!$F$10:$P$28,2),VLOOKUP(K87,Feuil2!$F$10:$P$28,2)))))))))","v":{"$error":"#N/A"}},null,{"$f":"T87-HLOOKUP(X87,Feuil2!$C$1:$CD$9,2,FALSE)","v":{"$error":"#VALUE!"}},{"$f":"T87-HLOOKUP(X87,Feuil2!$C$1:$CD$9,3,FALSE)","v":{"$error":"#VALUE!"}},{"$f":"T87-HLOOKUP(X87,Feuil2!$C$1:$CD$9,4,FALSE)","v":{"$error":"#VALUE!"}},{"$f":"T87-HLOOKUP(X87,Feuil2!$C$1:$CD$9,5,FALSE)","v":{"$error":"#VALUE!"}},{"$f":"T87-HLOOKUP(X87,Feuil2!$C$1:$CD$9,6,FALSE)","v":{"$error":"#VALUE!"}},{"$f":"T87-HLOOKUP(X87,Feuil2!$C$1:$CD$9,7,FALSE)","v":{"$error":"#VALUE!"}},{"$f":"T87-HLOOKUP(X87,Feuil2!$C$1:$CD$9,8,FALSE)","v":{"$error":"#VALUE!"}},{"$f":"T87-HLOOKUP(X87,Feuil2!$C$1:$CD$9,9,FALSE)","v":{"$error":"#VALUE!"}},null,null,null,null,null,null,null,{"$error":"#VALUE!"},114,null,{"$f":"IF(AP87,VLOOKUP(AP87,HOM!$AR$551:$AS$606,2))","v":3.5710000000000002}]
["H",null,null,null,null,false,null,null,null,null,null,null,null,null,"",null,null,null,"","","","","",{"$f":"IF(AND(J88>=40,J88<45),VLOOKUP(K88,Feuil2!$F$10:$P$28,9),IF(AND(J88>=45,J88<50),VLOOKUP(K88,Feuil2!$F$10:$P$28,8),IF(AND(J88>=50,J88<55),VLOOKUP(K88,Feuil2!$F$10:$P$28,7),IF(AND(J88>=55,J88<60),VLOOKUP(K88,Feuil2!$F$10:$P$28,6),IF(AND(J88>=60,J88<65),VLOOKUP(K88,Feuil2!$F$10:$P$28,5),IF(AND(J88>=65,J88<70),VLOOKUP(K88,Feuil2!$F$10:$P$28,4),IF(AND(J88>=70,J88<75),VLOOKUP(K88,Feuil2!$F$10:$P$28,3),IF(AND(J88>=75,J88<80),VLOOKUP(K88,Feuil2!$F$10:$P$28,2),VLOOKUP(K88,Feuil2!$F$10:$P$28,2)))))))))","v":{"$error":"#N/A"}},null,{"$f":"T88-HLOOKUP(X88,Feuil2!$C$1:$CD$9,2,FALSE)","v":{"$error":"#VALUE!"}},{"$f":"T88-HLOOKUP(X88,Feuil2!$C$1:$CD$9,3,FALSE)","v":{"$error":"#VALUE!"}},{"$f":"T88-HLOOKUP(X88,Feuil2!$C$1:$CD$9,4,FALSE)","v":{"$error":"#VALUE!"}},{"$f":"T88-HLOOKUP(X88,Feuil2!$C$1:$CD$9,5,FALSE)","v":{"$error":"#VALUE!"}},{"$f":"T88-HLOOKUP(X88,Feuil2!$C$1:$CD$9,6,FALSE)","v":{"$error":"#VALUE!"}},{"$f":"T88-HLOOKUP(X88,Feuil2!$C$1:$CD$9,7,FALSE)","v":{"$error":"#VALUE!"}},{"$f":"T88-HLOOKUP(X88,Feuil2!$C$1:$CD$9,8,FALSE)","v":{"$error":"#VALUE!"}},{"$f":"T88-HLOOKUP(X88,Feuil2!$C$1:$CD$9,9,FALSE)","v":{"$error":"#VALUE!"}},null,null,null,null,null,null,null,{"$error":"#VALUE!"},114,null,{"$f":"IF(AP88,VLOOKUP(AP88,HOM!$AR$551:$AS$606,2))","v":3.5710000000000002}]
["H",null,null,null,null,false,null,null,null,null,null,null,null,null,"",null,null,null,"","","","","",{"$f":"IF(AND(J89>=40,J89<45),VLOOKUP(K89,Feuil2!$F$10:$P$28,9),IF(AND(J89>=45,J89<50),VLOOKUP(K89,Feuil2!$F$10:$P$28,8),IF(AND(J89>=50,J89<55),VLOOKUP(K89,Feuil2!$F$10:$P$28,7),IF(AND(J89>=55,J89<60),VLOOKUP(K89,Feuil2!$F$10:$P$28,6),IF(AND(J89>=60,J89<65),VLOOKUP(K89,Feuil2!$F$10:$P$28,5),IF(AND(J89>=65,J89<70),VLOOKUP(K89,Feuil2!$F$10:$P$28,4),IF(AND(J89>=70,J89<75),VLOOKUP(K89,Feuil2!$F$10:$P$28,3),IF(AND(J89>=75,J89<80),VLOOKUP(K89,Feuil2!$F$10:$P$28,2),VLOOKUP(K89,Feuil2!$F$10:$P$28,2)))))))))","v":{"$error":"#N/A"}},null,{"$f":"T89-HLOOKUP(X89,Feuil2!$C$1:$CD$9,2,FALSE)","v":{"$error":"#VALUE!"}},{"$f":"T89-HLOOKUP(X89,Feuil2!$C$1:$CD$9,3,FALSE)","v":{"$error":"#VALUE!"}},{"$f":"T89-HLOOKUP(X89,Feuil2!$C$1:$CD$9,4,FALSE)","v":{"$error":"#VALUE!"}},{"$f":"T89-HLOOKUP(X89,Feuil2!$C$1:$CD$9,5,FALSE)","v":{"$error":"#VALUE!"}},{"$f":"T89-HLOOKUP(X89,Feuil2!$C$1:$CD$9,6,FALSE)","v":{"$error":"#VALUE!"}},{"$f":"T89-HLOOKUP(X89,Feuil2!$C$1:$CD$9,7,FALSE)","v":{"$error":"#VALUE!"}},{"$f":"T89-HLOOKUP(X89,Feuil2!$C$1:$CD$9,8,FALSE)","v":{"$error":"#VALUE!"}},{"$f":"T89-HLOOKUP(X89,Feuil2!$C$1:$CD$9,9,FALSE)","v":{"$error":"#VALUE!"}},null,null,null,null,null,null,null,{"$error":"#VALUE!"},114,null,{"$f":"IF(AP89,VLOOKUP(AP89,HOM!$AR$551:$AS$606,2))","v":3.5710000000000002}]
["H",null,null,null,null,false,null,null,null,null,null,null,null,null,"",null,null,null,"","","","","",{"$f":"IF(AND(J90>=40,J90<45),VLOOKUP(K90,Feuil2!$F$10:$P$28,9),IF(AND(J90>=45,J90<50),VLOOKUP(K90,Feuil2!$F$10:$P$28,8),IF(AND(J90>=50,J90<55),VLOOKUP(K90,Feuil2!$F$10:$P$28,7),IF(AND(J90>=55,J90<60),VLOOKUP(K90,Feuil2!$F$10:$P$28,6),IF(AND(J90>=60,J90<65),VLOOKUP(K90,Feuil2!$F$10:$P$28,5),IF(AND(J90>=65,J90<70),VLOOKUP(K90,Feuil2!$F$10:$P$28,4),IF(AND(J90>=70,J90<75),VLOOKUP(K90,Feuil2!$F$10:$P$28,3),IF(AND(J90>=75,J90<80),VLOOKUP(K90,Feuil2!$F$10:$P$28,2),VLOOKUP(K90,Feuil2!$F$10:$P$28,2)))))))))","v":{"$error":"#N/A"}},null,{"$f":"T90-HLOOKUP(X90,Feuil2!$C$1:$CD$9,2,FALSE)","v":{"$error":"#VALUE!"}},{"$f":"T90-HLOOKUP(X90,Feuil2!$C$1:$CD$9,3,FALSE)","v":{"$error":"#VALUE!"}},{"$f":"T90-HLOOKUP(X90,Feuil2!$C$1:$CD$9,4,FALSE)","v":{"$error":"#VALUE!"}},{"$f":"T90-HLOOKUP(X90,Feuil2!$C$1:$CD$9,5,FALSE)","v":{"$error":"#VALUE!"}},{"$f":"T90-HLOOKUP(X90,Feuil2!$C$1:$CD$9,6,FALSE)","v":{"$error":"#VALUE!"}},{"$f":"T90-HLOOKUP(X90,Feuil2!$C$1:$CD$9,7,FALSE)","v":{"$error":"#VALUE!"}},{"$f":"T90-HLOOKUP(X90,Feuil2!$C$1:$CD$9,8,FALSE)","v":{"$error":"#VALUE!"}},{"$f":"T90-HLOOKUP(X90,Feuil2!$C$1:$CD$9,9,FALSE)","v":{"$error":"#VALUE!"}},null,null,null,null,null,null,null,{"$error":"#VALUE!"},114,null,{"$f":"IF(AP90,VLOOKUP(AP90,HOM!$AR$551:$AS$606,2))","v":3.5710000000000002}]
["H",null,null,null,null,false,null,null,null,null,null,null,null,null,"",null,null,null,"","","","","",{"$f":"IF(AND(J91>=40,J91<45),VLOOKUP(K91,Feuil2!$F$10:$P$28,9),IF(AND(J91>=45,J91<50),VLOOKUP(K91,Feuil2!$F$10:$P$28,8),IF(AND(J91>=50,J91<55),VLOOKUP(K91,Feuil2!$F$10:$P$28,7),IF(AND(J91>=55,J91<60),VLOOKUP(K91,Feuil2!$F$10:$P$28,6),IF(AND(J91>=60,J91<65),VLOOKUP(K91,Feuil2!$F$10:$P$28,5),IF(AND(J91>=65,J91<70),VLOOKUP(K91,Feuil2!$F$10:$P$28,4),IF(AND(J91>=70,J91<75),VLOOKUP(K91,Feuil2!$F$10:$P$28,3),IF(AND(J91>=75,J91<80),VLOOKUP(K91,Feuil2!$F$10:$P$28,2),VLOOKUP(K91,Feuil2!$F$10:$P$28,2)))))))))","v":{"$error":"#N/A"}},null,{"$f":"T91-HLOOKUP(X91,Feuil2!$C$1:$CD$9,2,FALSE)","v":{"$error":"#VALUE!"}},{"$f":"T91-HLOOKUP(X91,Feuil2!$C$1:$CD$9,3,FALSE)","v":{"$error":"#VALUE!"}},{"$f":"T91-HLOOKUP(X91,Feuil2!$C$1:$CD$9,4,FALSE)","v":{"$error":"#VALUE!"}},{"$f":"T91-HLOOKUP(X91,Feuil2!$C$1:$CD$9,5,FALSE)","v":{"$error":"#VALUE!"}},{"$f":"T91-HLOOKUP(X91,Feuil2!$C$1:$CD$9,6,FALSE)","v":{"$error":"#VALUE!"}},{"$f":"T91-HLOOKUP(X91,Feuil2!$C$1:$CD$9,7,FALSE)","v":{"$error":"#VALUE!"}},{"$f":"T91-HLOOKUP(X91,Feuil2!$C$1:$CD$9,8,FALSE)","v":{"$error":"#VALUE!"}},{"$f":"T91-HLOOKUP(X91,Feuil2!$C$1:$CD$9,9,FALSE)","v":{"$error":"#VALUE!"}},null,null,null,null,null,null,null,{"$error":"#VALUE!"},114,null,{"$f":"IF(AP91,VLOOKUP(AP91,HOM!$AR$551:$AS$606,2))","v":3.5710000000000002}]
["H",null,null,null,null,false,null,null,null,null,null,null,null,null,"",null,null,null,"","","","","",{"$f":"IF(AND(J92>=40,J92<45),VLOOKUP(K92,Feuil2!$F$10:$P$28,9),IF(AND(J92>=45,J92<50),VLOOKUP(K92,Feuil2!$F$10:$P$28,8),IF(AND(J92>=50,J92<55),VLOOKUP(K92,Feuil2!$F$10:$P$28,7),IF(AND(J92>=55,J92<60),VLOOKUP(K92,Feuil2!$F$10:$P$28,6),IF(AND(J92>=60,J92<65),VLOOKUP(K92,Feuil2!$F$10:$P$28,5),IF(AND(J92>=65,J92<70),VLOOKUP(K92,Feuil2!$F$10:$P$28,4),IF(AND(J92>=70,J92<75),VLOOKUP(K92,Feuil2!$F$10:$P$28,3),IF(AND(J92>=75,J92<80),VLOOKUP(K92,Feuil2!$F$10:$P$28,2),VLOOKUP(K92,Feuil2!$F$10:$P$28,2)))))))))","v":{"$error":"#N/A"}},null,{"$f":"T92-HLOOKUP(X92,Feuil2!$C$1:$CD$9,2,FALSE)","v":{"$error":"#VALUE!"}},{"$f":"T92-HLOOKUP(X92,Feuil2!$C$1:$CD$9,3,FALSE)","v":{"$error":"#VALUE!"}},{"$f":"T92-HLOOKUP(X92,Feuil2!$C$1:$CD$9,4,FALSE)","v":{"$error":"#VALUE!"}},{"$f":"T92-HLOOKUP(X92,Feuil2!$C$1:$CD$9,5,FALSE)","v":{"$error":"#VALUE!"}},{"$f":"T92-HLOOKUP(X92,Feuil2!$C$1:$CD$9,6,FALSE)","v":{"$error":"#VALUE!"}},{"$f":"T92-HLOOKUP(X92,Feuil2!$C$1:$CD$9,7,FALSE)","v":{"$error":"#VALUE!"}},{"$f":"T92-HLOOKUP(X92,Feuil2!$C$1:$CD$9,8,FALSE)","v":{"$error":"#VALUE!"}},{"$f":"T92-HLOOKUP(X92,Feuil2!$C$1:$CD$9,9,FALSE)","v":{"$error":"#VALUE!"}},null,null,null,null,null,null,null,{"$error":"#VALUE!"},114,null,{"$f":"IF(AP92,VLOOKUP(AP92,HOM!$AR$551:$AS$606,2))","v":3.5710000000000002}]
["H",null,null,null,null,false,null,null,null,null,null,null,null,null,"",null,null,null,"","","","","",{"$f":"IF(AND(J93>=40,J93<45),VLOOKUP(K93,Feuil2!$F$10:$P$28,9),IF(AND(J93>=45,J93<50),VLOOKUP(K93,Feuil2!$F$10:$P$28,8),IF(AND(J93>=50,J93<55),VLOOKUP(K93,Feuil2!$F$10:$P$28,7),IF(AND(J93>=55,J93<60),VLOOKUP(K93,Feuil2!$F$10:$P$28,6),IF(AND(J93>=60,J93<65),VLOOKUP(K93,Feuil2!$F$10:$P$28,5),IF(AND(J93>=65,J93<70),VLOOKUP(K93,Feuil2!$F$10:$P$28,4),IF(AND(J93>=70,J93<75),VLOOKUP(K93,Feuil2!$F$10:$P$28,3),IF(AND(J93>=75,J93<80),VLOOKUP(K93,Feuil2!$F$10:$P$28,2),VLOOKUP(K93,Feuil2!$F$10:$P$28,2)))))))))","v":{"$error":"#N/A"}},null,{"$f":"T93-HLOOKUP(X93,Feuil2!$C$1:$CD$9,2,FALSE)","v":{"$error":"#VALUE!"}},{"$f":"T93-HLOOKUP(X93,Feuil2!$C$1:$CD$9,3,FALSE)","v":{"$error":"#VALUE!"}},{"$f":"T93-HLOOKUP(X93,Feuil2!$C$1:$CD$9,4,FALSE)","v":{"$error":"#VALUE!"}},{"$f":"T93-HLOOKUP(X93,Feuil2!$C$1:$CD$9,5,FALSE)","v":{"$error":"#VALUE!"}},{"$f":"T93-HLOOKUP(X93,Feuil2!$C$1:$CD$9,6,FALSE)","v":{"$error":"#VALUE!"}},{"$f":"T93-HLOOKUP(X93,Feuil2!$C$1:$CD$9,7,FALSE)","v":{"$error":"#VALUE!"}},{"$f":"T93-HLOOKUP(X93,Feuil2!$C$1:$CD$9,8,FALSE)","v":{"$error":"#VALUE!"}},{"$f":"T93-HLOOKUP(X93,Feuil2!$C$1:$CD$9,9,FALSE)","v":{"$error":"#VALUE!"}},null,null,null,null,null,null,null,{"$error":"#VALUE!"},114,null,{"$f":"IF(AP93,VLOOKUP(AP93,HOM!$AR$551:$AS$606,2))","v":3.5710000000000002}]
["H",null,null,null,null,false,null,null,null,null,null,null,null,null,"",null,null,null,"","","","","",{"$f":"IF(AND(J94>=40,J94<45),VLOOKUP(K94,Feuil2!$F$10:$P$28,9),IF(AND(J94>=45,J94<50),VLOOKUP(K94,Feuil2!$F$10:$P$28,8),IF(AND(J94>=50,J94<55),VLOOKUP(K94,Feuil2!$F$10:$P$28,7),IF(AND(J94>=55,J94<60),VLOOKUP(K94,Feuil2!$F$10:$P$28,6),IF(AND(J94>=60,J94<65),VLOOKUP(K94,Feuil2!$F$10:$P$28,5),IF(AND(J94>=65,J94<70),VLOOKUP(K94,Feuil2!$F$10:$P$28,4),IF(AND(J94>=70,J94<75),VLOOKUP(K94,Feuil2!$F$10:$P$28,3),IF(AND(J94>=75,J94<80),VLOOKUP(K94,Feuil2!$F$10:$P$28,2),VLOOKUP(K94,Feuil2!$F$10:$P$28,2)))))))))","v":{"$error":"#N/A"}},null,{"$f":"T94-HLOOKUP(X94,Feuil2!$C$1:$CD$9,2,FALSE)","v":{"$error":"#VALUE!"}},{"$f":"T94-HLOOKUP(X94,Feuil2!$C$1:$CD$9,3,FALSE)","v":{"$error":"#VALUE!"}},{"$f":"T94-HLOOKUP(X94,Feuil2!$C$1:$CD$9,4,FALSE)","v":{"$error":"#VALUE!"}},{"$f":"T94-HLOOKUP(X94,Feuil2!$C$1:$CD$9,5,FALSE)","v":{"$error":"#VALUE!"}},{"$f":"T94-HLOOKUP(X94,Feuil2!$C$1:$CD$9,6,FALSE)","v":{"$error":"#VALUE!"}},{"$f":"T94-HLOOKUP(X94,Feuil2!$C$1:$CD$9,7,FALSE)","v":{"$error":"#VALUE!"}},{"$f":"T94-HLOOKUP(X94,Feuil2!$C$1:$CD$9,8,FALSE)","v":{"$error":"#VALUE!"}},{"$f":"T94-HLOOKUP(X94,Feuil2!$C$1:$CD$9,9,FALSE)","v":{"$error":"#VALUE!"}},null,null,null,null,null,null,null,{"$error":"#VALUE!"},114,null,{"$f":"IF(AP94,VLOOKUP(AP94,HOM!$AR$551:$AS$606,2))","v":3.5710000000000002}]
["H",null,null,null,null,false,null,null,null,null,null,null,null,null,"",null,null,null,"","","","","",{"$f":"IF(AND(J95>=40,J95<45),VLOOKUP(K95,Feuil2!$F$10:$P$28,9),IF(AND(J95>=45,J95<50),VLOOKUP(K95,Feuil2!$F$10:$P$28,8),IF(AND(J95>=50,J95<55),VLOOKUP(K95,Feuil2!$F$10:$P$28,7),IF(AND(J95>=55,J95<60),VLOOKUP(K95,Feuil2!$F$10:$P$28,6),IF(AND(J95>=60,J95<65),VLOOKUP(K95,Feuil2!$F$10:$P$28,5),IF(AND(J95>=65,J95<70),VLOOKUP(K95,Feuil2!$F$10:$P$28,4),IF(AND(J95>=70,J95<75),VLOOKUP(K95,Feuil2!$F$10:$P$28,3),IF(AND(J95>=75,J95<80),VLOOKUP(K95,Feuil2!$F$10:$P$28,2),VLOOKUP(K95,Feuil2!$F$10:$P$28,2)))))))))","v":{"$error":"#N/A"}},null,{"$f":"T95-HLOOKUP(X95,Feuil2!$C$1:$CD$9,2,FALSE)","v":{"$error":"#VALUE!"}},{"$f":"T95-HLOOKUP(X95,Feuil2!$C$1:$CD$9,3,FALSE)","v":{"$error":"#VALUE!"}},{"$f":"T95-HLOOKUP(X95,Feuil2!$C$1:$CD$9,4,FALSE)","v":{"$error":"#VALUE!"}},{"$f":"T95-HLOOKUP(X95,Feuil2!$C$1:$CD$9,5,FALSE)","v":{"$error":"#VALUE!"}},{"$f":"T95-HLOOKUP(X95,Feuil2!$C$1:$CD$9,6,FALSE)","v":{"$error":"#VALUE!"}},{"$f":"T95-HLOOKUP(X95,Feuil2!$C$1:$CD$9,7,FALSE)","v":{"$error":"#VALUE!"}},{"$f":"T95-HLOOKUP(X95,Feuil2!$C$1:$CD$9,8,FALSE)","v":{"$error":"#VALUE!"}},{"$f":"T95-HLOOKUP(X95,Feuil2!$C$1:$CD$9,9,FALSE)","v":{"$error":"#VALUE!"}},null,null,null,null,null,null,null,{"$error":"#VALUE!"},114,null,{"$f":"IF(AP95,VLOOKUP(AP95,HOM!$AR$551:$AS$606,2))","v":3.5710000000000002}]
["H",null,null,null,null,false,null,null,null,null,null,null,null,null,"",null,null,null,"","","","","",{"$f":"IF(AND(J96>=40,J96<45),VLOOKUP(K96,Feuil2!$F$10:$P$28,9),IF(AND(J96>=45,J96<50),VLOOKUP(K96,Feuil2!$F$10:$P$28,8),IF(AND(J96>=50,J96<55),VLOOKUP(K96,Feuil2!$F$10:$P$28,7),IF(AND(J96>=55,J96<60),VLOOKUP(K96,Feuil2!$F$10:$P$28,6),IF(AND(J96>=60,J96<65),VLOOKUP(K96,Feuil2!$F$10:$P$28,5),IF(AND(J96>=65,J96<70),VLOOKUP(K96,Feuil2!$F$10:$P$28,4),IF(AND(J96>=70,J96<75),VLOOKUP(K96,Feuil2!$F$10:$P$28,3),IF(AND(J96>=75,J96<80),VLOOKUP(K96,Feuil2!$F$10:$P$28,2),VLOOKUP(K96,Feuil2!$F$10:$P$28,2)))))))))","v":{"$error":"#N/A"}},null,{"$f":"T96-HLOOKUP(X96,Feuil2!$C$1:$CD$9,2,FALSE)","v":{"$error":"#VALUE!"}},{"$f":"T96-HLOOKUP(X96,Feuil2!$C$1:$CD$9,3,FALSE)","v":{"$error":"#VALUE!"}},{"$f":"T96-HLOOKUP(X96,Feuil2!$C$1:$CD$9,4,FALSE)","v":{"$error":"#VALUE!"}},{"$f":"T96-HLOOKUP(X96,Feuil2!$C$1:$CD$9,5,FALSE)","v":{"$error":"#VALUE!"}},{"$f":"T96-HLOOKUP(X96,Feuil2!$C$1:$CD$9,6,FALSE)","v":{"$error":"#VALUE!"}},{"$f":"T96-HLOOKUP(X96,Feuil2!$C$1:$CD$9,7,FALSE)","v":{"$error":"#VALUE!"}},{"$f":"T96-HLOOKUP(X96,Feuil2!$C$1:$CD$9,8,FALSE)","v":{"$error":"#VALUE!"}},{"$f":"T96-HLOOKUP(X96,Feuil2!$C$1:$CD$9,9,FALSE)","v":{"$error":"#VALUE!"}},null,null,null,null,null,null,null,{"$error":"#VALUE!"},114,null,{"$f":"IF(AP96,VLOOKUP(AP96,HOM!$AR$551:$AS$606,2))","v":3.5710000000000002}]
["H",null,null,null,null,false,null,null,null,null,null,null,null,null,"",null,null,null,"","","","","",{"$f":"IF(AND(J97>=40,J97<45),VLOOKUP(K97,Feuil2!$F$10:$P$28,9),IF(AND(J97>=45,J97<50),VLOOKUP(K97,Feuil2!$F$10:$P$28,8),IF(AND(J97>=50,J97<55),VLOOKUP(K97,Feuil2!$F$10:$P$28,7),IF(AND(J97>=55,J97<60),VLOOKUP(K97,Feuil2!$F$10:$P$28,6),IF(AND(J97>=60,J97<65),VLOOKUP(K97,Feuil2!$F$10:$P$28,5),IF(AND(J97>=65,J97<70),VLOOKUP(K97,Feuil2!$F$10:$P$28,4),IF(AND(J97>=70,J97<75),VLOOKUP(K97,Feuil2!$F$10:$P$28,3),IF(AND(J97>=75,J97<80),VLOOKUP(K97,Feuil2!$F$10:$P$28,2),VLOOKUP(K97,Feuil2!$F$10:$P$28,2)))))))))","v":{"$error":"#N/A"}},null,{"$f":"T97-HLOOKUP(X97,Feuil2!$C$1:$CD$9,2,FALSE)","v":{"$error":"#VALUE!"}},{"$f":"T97-HLOOKUP(X97,Feuil2!$C$1:$CD$9,3,FALSE)","v":{"$error":"#VALUE!"}},{"$f":"T97-HLOOKUP(X97,Feuil2!$C$1:$CD$9,4,FALSE)","v":{"$error":"#VALUE!"}},{"$f":"T97-HLOOKUP(X97,Feuil2!$C$1:$CD$9,5,FALSE)","v":{"$error":"#VALUE!"}},{"$f":"T97-HLOOKUP(X97,Feuil2!$C$1:$CD$9,6,FALSE)","v":{"$error":"#VALUE!"}},{"$f":"T97-HLOOKUP(X97,Feuil2!$C$1:$CD$9,7,FALSE)","v":{"$error":"#VALUE!"}},{"$f":"T97-HLOOKUP(X97,Feuil2!$C$1:$CD$9,8,FALSE)","v":{"$error":"#VALUE!"}},{"$f":"T97-HLOOKUP(X97,Feuil2!$C$1:$CD$9,9,FALSE)","v":{"$error":"#VALUE!"}},null,null,null,null,null,null,null,{"$error":"#VALUE!"},114,null,{"$f":"IF(AP97,VLOOKUP(AP97,HOM!$AR$551:$AS$606,2))","v":3.5710000000000002}]
["H",null,null,null,null,false,null,null,null,null,null,null,null,null,"",null,null,null,"","","","","",{"$f":"IF(AND(J98>=40,J98<45),VLOOKUP(K98,Feuil2!$F$10:$P$28,9),IF(AND(J98>=45,J98<50),VLOOKUP(K98,Feuil2!$F$10:$P$28,8),IF(AND(J98>=50,J98<55),VLOOKUP(K98,Feuil2!$F$10:$P$28,7),IF(AND(J98>=55,J98<60),VLOOKUP(K98,Feuil2!$F$10:$P$28,6),IF(AND(J98>=60,J98<65),VLOOKUP(K98,Feuil2!$F$10:$P$28,5),IF(AND(J98>=65,J98<70),VLOOKUP(K98,Feuil2!$F$10:$P$28,4),IF(AND(J98>=70,J98<75),VLOOKUP(K98,Feuil2!$F$10:$P$28,3),IF(AND(J98>=75,J98<80),VLOOKUP(K98,Feuil2!$F$10:$P$28,2),VLOOKUP(K98,Feuil2!$F$10:$P$28,2)))))))))","v":{"$error":"#N/A"}},null,{"$f":"T98-HLOOKUP(X98,Feuil2!$C$1:$CD$9,2,FALSE)","v":{"$error":"#VALUE!"}},{"$f":"T98-HLOOKUP(X98,Feuil2!$C$1:$CD$9,3,FALSE)","v":{"$error":"#VALUE!"}},{"$f":"T98-HLOOKUP(X98,Feuil2!$C$1:$CD$9,4,FALSE)","v":{"$error":"#VALUE!"}},{"$f":"T98-HLOOKUP(X98,Feuil2!$C$1:$CD$9,5,FALSE)","v":{"$error":"#VALUE!"}},{"$f":"T98-HLOOKUP(X98,Feuil2!$C$1:$CD$9,6,FALSE)","v":{"$error":"#VALUE!"}},{"$f":"T98-HLOOKUP(X98,Feuil2!$C$1:$CD$9,7,FALSE)","v":{"$error":"#VALUE!"}},{"$f":"T98-HLOOKUP(X98,Feuil2!$C$1:$CD$9,8,FALSE)","v":{"$error":"#VALUE!"}},{"$f":"T98-HLOOKUP(X98,Feuil2!$C$1:$CD$9,9,FALSE)","v":{"$error":"#VALUE!"}},null,null,null,null,null,null,null,{"$error":"#VALUE!"},114,null,{"$f":"IF(AP98,VLOOKUP(AP98,HOM!$AR$551:$AS$606,2))","v":3.5710000000000002}]
["H",null,null,null,null,false,null,null,null,null,null,null,null,null,"",null,null,null,"","","","","",{"$f":"IF(AND(J99>=40,J99<45),VLOOKUP(K99,Feuil2!$F$10:$P$28,9),IF(AND(J99>=45,J99<50),VLOOKUP(K99,Feuil2!$F$10:$P$28,8),IF(AND(J99>=50,J99<55),VLOOKUP(K99,Feuil2!$F$10:$P$28,7),IF(AND(J99>=55,J99<60),VLOOKUP(K99,Feuil2!$F$10:$P$28,6),IF(AND(J99>=60,J99<65),VLOOKUP(K99,Feuil2!$F$10:$P$28,5),IF(AND(J99>=65,J99<70),VLOOKUP(K99,Feuil2!$F$10:$P$28,4),IF(AND(J99>=70,J99<75),VLOOKUP(K99,Feuil2!$F$10:$P$28,3),IF(AND(J99>=75,J99<80),VLOOKUP(K99,Feuil2!$F$10:$P$28,2),VLOOKUP(K99,Feuil2!$F$10:$P$28,2)))))))))","v":{"$error":"#N/A"}},null,{"$f":"T99-HLOOKUP(X99,Feuil2!$C$1:$CD$9,2,FALSE)","v":{"$error":"#VALUE!"}},{"$f":"T99-HLOOKUP(X99,Feuil2!$C$1:$CD$9,3,FALSE)","v":{"$error":"#VALUE!"}},{"$f":"T99-HLOOKUP(X99,Feuil2!$C$1:$CD$9,4,FALSE)","v":{"$error":"#VALUE!"}},{"$f":"T99-HLOOKUP(X99,Feuil2!$C$1:$CD$9,5,FALSE)","v":{"$error":"#VALUE!"}},{"$f":"T99-HLOOKUP(X99,Feuil2!$C$1:$CD$9,6,FALSE)","v":{"$error":"#VALUE!"}},{"$f":"T99-HLOOKUP(X99,Feuil2!$C$1:$CD$9,7,FALSE)","v":{"$error":"#VALUE!"}},{"$f":"T99-HLOOKUP(X99,Feuil2!$C$1:$CD$9,8,FALSE)","v":{"$error":"#VALUE!"}},{"$f":"T99-HLOOKUP(X99,Feuil2!$C$1:$CD$9,9,FALSE)","v":{"$error":"#VALUE!"}},null,null,null,null,null,null,null,{"$error":"#VALUE!"},114,null,{"$f":"IF(AP99,VLOOKUP(AP99,HOM!$AR$551:$AS$606,2))","v":3.5710000000000002}]
["H",null,null,null,null,false,null,null,null,null,null,null,null,null,"",null,null,null,"","","","","",{"$f":"IF(AND(J100>=40,J100<45),VLOOKUP(K100,Feuil2!$F$10:$P$28,9),IF(AND(J100>=45,J100<50),VLOOKUP(K100,Feuil2!$F$10:$P$28,8),IF(AND(J100>=50,J100<55),VLOOKUP(K100,Feuil2!$F$10:$P$28,7),IF(AND(J100>=55,J100<60),VLOOKUP(K100,Feuil2!$F$10:$P$28,6),IF(AND(J100>=60,J100<65),VLOOKUP(K100,Feuil2!$F$10:$P$28,5),IF(AND(J100>=65,J100<70),VLOOKUP(K100,Feuil2!$F$10:$P$28,4),IF(AND(J100>=70,J100<75),VLOOKUP(K100,Feuil2!$F$10:$P$28,3),IF(AND(J100>=75,J100<80),VLOOKUP(K100,Feuil2!$F$10:$P$28,2),VLOOKUP(K100,Feuil2!$F$10:$P$28,2)))))))))","v":{"$error":"#N/A"}},null,{"$f":"T100-HLOOKUP(X100,Feuil2!$C$1:$CD$9,2,FALSE)","v":{"$error":"#VALUE!"}},{"$f":"T100-HLOOKUP(X100,Feuil2!$C$1:$CD$9,3,FALSE)","v":{"$error":"#VALUE!"}},{"$f":"T100-HLOOKUP(X100,Feuil2!$C$1:$CD$9,4,FALSE)","v":{"$error":"#VALUE!"}},{"$f":"T100-HLOOKUP(X100,Feuil2!$C$1:$CD$9,5,FALSE)","v":{"$error":"#VALUE!"}},{"$f":"T100-HLOOKUP(X100,Feuil2!$C$1:$CD$9,6,FALSE)","v":{"$error":"#VALUE!"}},{"$f":"T100-HLOOKUP(X100,Feuil2!$C$1:$CD$9,7,FALSE)","v":{"$error":"#VALUE!"}},{"$f":"T100-HLOOKUP(X100,Feuil2!$C$1:$CD$9,8,FALSE)","v":{"$error":"#VALUE!"}},{"$f":"T100-HLOOKUP(X100,Feuil2!$C$1:$CD$9,9,FALSE)","v":{"$error":"#VALUE!"}},null,null,null,null,null,null,null,{"$error":"#VALUE!"},114,null,{"$f":"IF(AP100,VLOOKUP(AP100,HOM!$AR$551:$AS$606,2))","v":3.5710000000000002}]
["H",null,null,null,null,{"$f":"IF(AP101<95,IF(AP101<=90,VLOOKUP(AP101,$AP$550:$AQ$605,2)))","v":false},null,null,null,null,null,null,null,null,"",null,null,null,"","","","","",{"$f":"IF(AND(J101>=40,J101<45),VLOOKUP(K101,Feuil2!$F$10:$P$28,9),IF(AND(J101>=45,J101<50),VLOOKUP(K101,Feuil2!$F$10:$P$28,8),IF(AND(J101>=50,J101<55),VLOOKUP(K101,Feuil2!$F$10:$P$28,7),IF(AND(J101>=55,J101<60),VLOOKUP(K101,Feuil2!$F$10:$P$28,6),IF(AND(J101>=60,J101<65),VLOOKUP(K101,Feuil2!$F$10:$P$28,5),IF(AND(J101>=65,J101<70),VLOOKUP(K101,Feuil2!$F$10:$P$28,4),IF(AND(J101>=70,J101<75),VLOOKUP(K101,Feuil2!$F$10:$P$28,3),IF(AND(J101>=75,J101<80),VLOOKUP(K101,Feuil2!$F$10:$P$28,2),VLOOKUP(K101,Feuil2!$F$10:$P$28,2)))))))))","v":{"$error":"#N/A"}},null,{"$f":"T101-HLOOKUP(X101,Feuil2!$C$1:$CD$9,2,FALSE)","v":{"$error":"#VALUE!"}},{"$f":"T101-HLOOKUP(X101,Feuil2!$C$1:$CD$9,3,FALSE)","v":{"$error":"#VALUE!"}},{"$f":"T101-HLOOKUP(X101,Feuil2!$C$1:$CD$9,4,FALSE)","v":{"$error":"#VALUE!"}},{"$f":"T101-HLOOKUP(X101,Feuil2!$C$1:$CD$9,5,FALSE)","v":{"$error":"#VALUE!"}},{"$f":"T101-HLOOKUP(X101,Feuil2!$C$1:$CD$9,6,FALSE)","v":{"$error":"#VALUE!"}},{"$f":"T101-HLOOKUP(X101,Feuil2!$C$1:$CD$9,7,FALSE)","v":{"$error":"#VALUE!"}},{"$f":"T101-HLOOKUP(X101,Feuil2!$C$1:$CD$9,8,FALSE)","v":{"$error":"#VALUE!"}},{"$f":"T101-HLOOKUP(X101,Feuil2!$C$1:$CD$9,9,FALSE)","v":{"$error":"#VALUE!"}},null,null,null,null,null,null,null,{"$error":"#VALUE!"},114,null,{"$f":"IF(AP101,VLOOKUP(AP101,HOM!$AR$551:$AS$606,2))","v":3.5710000000000002}]
["H",null,null,null,null,false,null,null,null,null,null,null,null,null,"",null,null,null,{"$f":"IF(K102=\"\",\"\",IF(MAXA(P102:R102)<=0,0,MAXA(P102:R102)))","v":""},{"$f":"IF(K102=\"\",\"\",IF(OR(O102=0,S102=0),0,O102+S102))","v":""},"","","",{"$f":"IF(AND(J102>=40,J102<45),VLOOKUP(K102,Feuil2!$F$10:$P$28,9),IF(AND(J102>=45,J102<50),VLOOKUP(K102,Feuil2!$F$10:$P$28,8),IF(AND(J102>=50,J102<55),VLOOKUP(K102,Feuil2!$F$10:$P$28,7),IF(AND(J102>=55,J102<60),VLOOKUP(K102,Feuil2!$F$10:$P$28,6),IF(AND(J102>=60,J102<65),VLOOKUP(K102,Feuil2!$F$10:$P$28,5),IF(AND(J102>=65,J102<70),VLOOKUP(K102,Feuil2!$F$10:$P$28,4),IF(AND(J102>=70,J102<75),VLOOKUP(K102,Feuil2!$F$10:$P$28,3),IF(AND(J102>=75,J102<80),VLOOKUP(K102,Feuil2!$F$10:$P$28,2),VLOOKUP(K102,Feuil2!$F$10:$P$28,2)))))))))","v":{"$error":"#N/A"}},null,{"$f":"T102-HLOOKUP(X102,Feuil2!$C$1:$CD$9,2,FALSE)","v":{"$error":"#VALUE!"}},{"$f":"T102-HLOOKUP(X102,Feuil2!$C$1:$CD$9,3,FALSE)","v":{"$error":"#VALUE!"}},{"$f":"T102-HLOOKUP(X102,Feuil2!$C$1:$CD$9,4,FALSE)","v":{"$error":"#VALUE!"}},{"$f":"T102-HLOOKUP(X102,Feuil2!$C$1:$CD$9,5,FALSE)","v":{"$error":"#VALUE!"}},{"$f":"T102-HLOOKUP(X102,Feuil2!$C$1:$CD$9,6,FALSE)","v":{"$error":"#VALUE!"}},{"$f":"T102-HLOOKUP(X102,Feuil2!$C$1:$CD$9,7,FALSE)","v":{"$error":"#VALUE!"}},{"$f":"T102-HLOOKUP(X102,Feuil2!$C$1:$CD$9,8,FALSE)","v":{"$error":"#VALUE!"}},{"$f":"T102-HLOOKUP(X102,Feuil2!$C$1:$CD$9,9,FALSE)","v":{"$error":"#VALUE!"}},null,null,null,null,null,null,null,{"$error":"#VALUE!"},114,null,{"$f":"IF(AP102,VLOOKUP(AP102,HOM!$AR$551:$AS$606,2))","v":3.5710000000000002}]
["H",null,null,null,null,false,null,null,null,null,null,null,null,null,"",null,null,null,"","","","","",{"$f":"IF(AND(J103>=40,J103<45),VLOOKUP(K103,Feuil2!$F$10:$P$28,9),IF(AND(J103>=45,J103<50),VLOOKUP(K103,Feuil2!$F$10:$P$28,8),IF(AND(J103>=50,J103<55),VLOOKUP(K103,Feuil2!$F$10:$P$28,7),IF(AND(J103>=55,J103<60),VLOOKUP(K103,Feuil2!$F$10:$P$28,6),IF(AND(J103>=60,J103<65),VLOOKUP(K103,Feuil2!$F$10:$P$28,5),IF(AND(J103>=65,J103<70),VLOOKUP(K103,Feuil2!$F$10:$P$28,4),IF(AND(J103>=70,J103<75),VLOOKUP(K103,Feuil2!$F$10:$P$28,3),IF(AND(J103>=75,J103<80),VLOOKUP(K103,Feuil2!$F$10:$P$28,2),VLOOKUP(K103,Feuil2!$F$10:$P$28,2)))))))))","v":{"$error":"#N/A"}},null,{"$f":"T103-HLOOKUP(X103,Feuil2!$C$1:$CD$9,2,FALSE)","v":{"$error":"#VALUE!"}},{"$f":"T103-HLOOKUP(X103,Feuil2!$C$1:$CD$9,3,FALSE)","v":{"$error":"#VALUE!"}},{"$f":"T103-HLOOKUP(X103,Feuil2!$C$1:$CD$9,4,FALSE)","v":{"$error":"#VALUE!"}},{"$f":"T103-HLOOKUP(X103,Feuil2!$C$1:$CD$9,5,FALSE)","v":{"$error":"#VALUE!"}},{"$f":"T103-HLOOKUP(X103,Feuil2!$C$1:$CD$9,6,FALSE)","v":{"$error":"#VALUE!"}},{"$f":"T103-HLOOKUP(X103,Feuil2!$C$1:$CD$9,7,FALSE)","v":{"$error":"#VALUE!"}},{"$f":"T103-HLOOKUP(X103,Feuil2!$C$1:$CD$9,8,FALSE)","v":{"$error":"#VALUE!"}},{"$f":"T103-HLOOKUP(X103,Feuil2!$C$1:$CD$9,9,FALSE)","v":{"$error":"#VALUE!"}},null,null,null,null,null,null,null,{"$error":"#VALUE!"},114,null,{"$f":"IF(AP103,VLOOKUP(AP103,HOM!$AR$551:$AS$606,2))","v":3.5710000000000002}]
["H",null,null,null,null,false,null,null,null,null,null,null,null,null,"",null,null,null,"","","","","",{"$f":"IF(AND(J104>=40,J104<45),VLOOKUP(K104,Feuil2!$F$10:$P$28,9),IF(AND(J104>=45,J104<50),VLOOKUP(K104,Feuil2!$F$10:$P$28,8),IF(AND(J104>=50,J104<55),VLOOKUP(K104,Feuil2!$F$10:$P$28,7),IF(AND(J104>=55,J104<60),VLOOKUP(K104,Feuil2!$F$10:$P$28,6),IF(AND(J104>=60,J104<65),VLOOKUP(K104,Feuil2!$F$10:$P$28,5),IF(AND(J104>=65,J104<70),VLOOKUP(K104,Feuil2!$F$10:$P$28,4),IF(AND(J104>=70,J104<75),VLOOKUP(K104,Feuil2!$F$10:$P$28,3),IF(AND(J104>=75,J104<80),VLOOKUP(K104,Feuil2!$F$10:$P$28,2),VLOOKUP(K104,Feuil2!$F$10:$P$28,2)))))))))","v":{"$error":"#N/A"}},null,{"$f":"T104-HLOOKUP(X104,Feuil2!$C$1:$CD$9,2,FALSE)","v":{"$error":"#VALUE!"}},{"$f":"T104-HLOOKUP(X104,Feuil2!$C$1:$CD$9,3,FALSE)","v":{"$error":"#VALUE!"}},{"$f":"T104-HLOOKUP(X104,Feuil2!$C$1:$CD$9,4,FALSE)","v":{"$error":"#VALUE!"}},{"$f":"T104-HLOOKUP(X104,Feuil2!$C$1:$CD$9,5,FALSE)","v":{"$error":"#VALUE!"}},{"$f":"T104-HLOOKUP(X104,Feuil2!$C$1:$CD$9,6,FALSE)","v":{"$error":"#VALUE!"}},{"$f":"T104-HLOOKUP(X104,Feuil2!$C$1:$CD$9,7,FALSE)","v":{"$error":"#VALUE!"}},{"$f":"T104-HLOOKUP(X104,Feuil2!$C$1:$CD$9,8,FALSE)","v":{"$error":"#VALUE!"}},{"$f":"T104-HLOOKUP(X104,Feuil2!$C$1:$CD$9,9,FALSE)","v":{"$error":"#VALUE!"}},null,null,null,null,null,null,null,{"$error":"#VALUE!"},114,null,{"$f":"IF(AP104,VLOOKUP(AP104,HOM!$AR$551:$AS$606,2))","v":3.5710000000000002}]
["H",null,null,null,null,false,null,null,null,null,null,null,null,null,"",null,null,null,"","","","","",{"$f":"IF(AND(J105>=40,J105<45),VLOOKUP(K105,Feuil2!$F$10:$P$28,9),IF(AND(J105>=45,J105<50),VLOOKUP(K105,Feuil2!$F$10:$P$28,8),IF(AND(J105>=50,J105<55),VLOOKUP(K105,Feuil2!$F$10:$P$28,7),IF(AND(J105>=55,J105<60),VLOOKUP(K105,Feuil2!$F$10:$P$28,6),IF(AND(J105>=60,J105<65),VLOOKUP(K105,Feuil2!$F$10:$P$28,5),IF(AND(J105>=65,J105<70),VLOOKUP(K105,Feuil2!$F$10:$P$28,4),IF(AND(J105>=70,J105<75),VLOOKUP(K105,Feuil2!$F$10:$P$28,3),IF(AND(J105>=75,J105<80),VLOOKUP(K105,Feuil2!$F$10:$P$28,2),VLOOKUP(K105,Feuil2!$F$10:$P$28,2)))))))))","v":{"$error":"#N/A"}},null,{"$f":"T105-HLOOKUP(X105,Feuil2!$C$1:$CD$9,2,FALSE)","v":{"$error":"#VALUE!"}},{"$f":"T105-HLOOKUP(X105,Feuil2!$C$1:$CD$9,3,FALSE)","v":{"$error":"#VALUE!"}},{"$f":"T105-HLOOKUP(X105,Feuil2!$C$1:$CD$9,4,FALSE)","v":{"$error":"#VALUE!"}},{"$f":"T105-HLOOKUP(X105,Feuil2!$C$1:$CD$9,5,FALSE)","v":{"$error":"#VALUE!"}},{"$f":"T105-HLOOKUP(X105,Feuil2!$C$1:$CD$9,6,FALSE)","v":{"$error":"#VALUE!"}},{"$f":"T105-HLOOKUP(X105,Feuil2!$C$1:$CD$9,7,FALSE)","v":{"$error":"#VALUE!"}},{"$f":"T105-HLOOKUP(X105,Feuil2!$C$1:$CD$9,8,FALSE)","v":{"$error":"#VALUE!"}},{"$f":"T105-HLOOKUP(X105,Feuil2!$C$1:$CD$9,9,FALSE)","v":{"$error":"#VALUE!"}},null,null,null,null,null,null,null,{"$error":"#VALUE!"},114,null,{"$f":"IF(AP105,VLOOKUP(AP105,HOM!$AR$551:$AS$606,2))","v":3.5710000000000002}]
["H",null,null,null,null,false,null,null,null,null,null,null,null,null,"",null,null,null,"","","","","",{"$f":"IF(AND(J106>=40,J106<45),VLOOKUP(K106,Feuil2!$F$10:$P$28,9),IF(AND(J106>=45,J106<50),VLOOKUP(K106,Feuil2!$F$10:$P$28,8),IF(AND(J106>=50,J106<55),VLOOKUP(K106,Feuil2!$F$10:$P$28,7),IF(AND(J106>=55,J106<60),VLOOKUP(K106,Feuil2!$F$10:$P$28,6),IF(AND(J106>=60,J106<65),VLOOKUP(K106,Feuil2!$F$10:$P$28,5),IF(AND(J106>=65,J106<70),VLOOKUP(K106,Feuil2!$F$10:$P$28,4),IF(AND(J106>=70,J106<75),VLOOKUP(K106,Feuil2!$F$10:$P$28,3),IF(AND(J106>=75,J106<80),VLOOKUP(K106,Feuil2!$F$10:$P$28,2),VLOOKUP(K106,Feuil2!$F$10:$P$28,2)))))))))","v":{"$error":"#N/A"}},null,{"$f":"T106-HLOOKUP(X106,Feuil2!$C$1:$CD$9,2,FALSE)","v":{"$error":"#VALUE!"}},{"$f":"T106-HLOOKUP(X106,Feuil2!$C$1:$CD$9,3,FALSE)","v":{"$error":"#VALUE!"}},{"$f":"T106-HLOOKUP(X106,Feuil2!$C$1:$CD$9,4,FALSE)","v":{"$error":"#VALUE!"}},{"$f":"T106-HLOOKUP(X106,Feuil2!$C$1:$CD$9,5,FALSE)","v":{"$error":"#VALUE!"}},{"$f":"T106-HLOOKUP(X106,Feuil2!$C$1:$CD$9,6,FALSE)","v":{"$error":"#VALUE!"}},{"$f":"T106-HLOOKUP(X106,Feuil2!$C$1:$CD$9,7,FALSE)","v":{"$error":"#VALUE!"}},{"$f":"T106-HLOOKUP(X106,Feuil2!$C$1:$CD$9,8,FALSE)","v":{"$error":"#VALUE!"}},{"$f":"T106-HLOOKUP(X106,Feuil2!$C$1:$CD$9,9,FALSE)","v":{"$error":"#VALUE!"}},null,null,null,null,null,null,null,{"$error":"#VALUE!"},114,null,{"$f":"IF(AP106,VLOOKUP(AP106,HOM!$AR$551:$AS$606,2))","v":3.5710000000000002}]
["H",null,null,null,null,false,null,null,null,null,null,null,null,null,"",null,null,null,"","","","","",{"$f":"IF(AND(J107>=40,J107<45),VLOOKUP(K107,Feuil2!$F$10:$P$28,9),IF(AND(J107>=45,J107<50),VLOOKUP(K107,Feuil2!$F$10:$P$28,8),IF(AND(J107>=50,J107<55),VLOOKUP(K107,Feuil2!$F$10:$P$28,7),IF(AND(J107>=55,J107<60),VLOOKUP(K107,Feuil2!$F$10:$P$28,6),IF(AND(J107>=60,J107<65),VLOOKUP(K107,Feuil2!$F$10:$P$28,5),IF(AND(J107>=65,J107<70),VLOOKUP(K107,Feuil2!$F$10:$P$28,4),IF(AND(J107>=70,J107<75),VLOOKUP(K107,Feuil2!$F$10:$P$28,3),IF(AND(J107>=75,J107<80),VLOOKUP(K107,Feuil2!$F$10:$P$28,2),VLOOKUP(K107,Feuil2!$F$10:$P$28,2)))))))))","v":{"$error":"#N/A"}},null,{"$f":"T107-HLOOKUP(X107,Feuil2!$C$1:$CD$9,2,FALSE)","v":{"$error":"#VALUE!"}},{"$f":"T107-HLOOKUP(X107,Feuil2!$C$1:$CD$9,3,FALSE)","v":{"$error":"#VALUE!"}},{"$f":"T107-HLOOKUP(X107,Feuil2!$C$1:$CD$9,4,FALSE)","v":{"$error":"#VALUE!"}},{"$f":"T107-HLOOKUP(X107,Feuil2!$C$1:$CD$9,5,FALSE)","v":{"$error":"#VALUE!"}},{"$f":"T107-HLOOKUP(X107,Feuil2!$C$1:$CD$9,6,FALSE)","v":{"$error":"#VALUE!"}},{"$f":"T107-HLOOKUP(X107,Feuil2!$C$1:$CD$9,7,FALSE)","v":{"$error":"#VALUE!"}},{"$f":"T107-HLOOKUP(X107,Feuil2!$C$1:$CD$9,8,FALSE)","v":{"$error":"#VALUE!"}},{"$f":"T107-HLOOKUP(X107,Feuil2!$C$1:$CD$9,9,FALSE)","v":{"$error":"#VALUE!"}},null,null,null,null,null,null,null,{"$error":"#VALUE!"},114,null,{"$f":"IF(AP107,VLOOKUP(AP107,HOM!$AR$551:$AS$606,2))","v":3.5710000000000002}]
["H",null,null,null,null,false,null,null,null,null,null,null,null,null,{"$f":"IF(K108=\"\",\"\",IF(MAXA(L108:N108)<=0,0,MAXA(L108:N108)))","v":""},null,null,null,{"$f":"IF(K108=\"\",\"\",IF(MAXA(P108:R108)<=0,0,MAXA(P108:R108)))","v":""},{"$f":"IF(K108=\"\",\"\",IF(OR(O108=0,S108=0),0,O108+S108))","v":""},"","","",{"$f":"IF(AND(J108>=40,J108<45),VLOOKUP(K108,Feuil2!$F$10:$P$28,9),IF(AND(J108>=45,J108<50),VLOOKUP(K108,Feuil2!$F$10:$P$28,8),IF(AND(J108>=50,J108<55),VLOOKUP(K108,Feuil2!$F$10:$P$28,7),IF(AND(J108>=55,J108<60),VLOOKUP(K108,Feuil2!$F$10:$P$28,6),IF(AND(J108>=60,J108<65),VLOOKUP(K108,Feuil2!$F$10:$P$28,5),IF(AND(J108>=65,J108<70),VLOOKUP(K108,Feuil2!$F$10:$P$28,4),IF(AND(J108>=70,J108<75),VLOOKUP(K108,Feuil2!$F$10:$P$28,3),IF(AND(J108>=75,J108<80),VLOOKUP(K108,Feuil2!$F$10:$P$28,2),VLOOKUP(K108,Feuil2!$F$10:$P$28,2)))))))))","v":{"$error":"#N/A"}},null,{"$f":"T108-HLOOKUP(X108,Feuil2!$C$1:$CD$9,2,FALSE)","v":{"$error":"#VALUE!"}},{"$f":"T108-HLOOKUP(X108,Feuil2!$C$1:$CD$9,3,FALSE)","v":{"$error":"#VALUE!"}},{"$f":"T108-HLOOKUP(X108,Feuil2!$C$1:$CD$9,4,FALSE)","v":{"$error":"#VALUE!"}},{"$f":"T108-HLOOKUP(X108,Feuil2!$C$1:$CD$9,5,FALSE)","v":{"$error":"#VALUE!"}},{"$f":"T108-HLOOKUP(X108,Feuil2!$C$1:$CD$9,6,FALSE)","v":{"$error":"#VALUE!"}},{"$f":"T108-HLOOKUP(X108,Feuil2!$C$1:$CD$9,7,FALSE)","v":{"$error":"#VALUE!"}},{"$f":"T108-HLOOKUP(X108,Feuil2!$C$1:$CD$9,8,FALSE)","v":{"$error":"#VALUE!"}},{"$f":"T108-HLOOKUP(X108,Feuil2!$C$1:$CD$9,9,FALSE)","v":{"$error":"#VALUE!"}},null,null,null,null,null,null,null,{"$error":"#VALUE!"},114,null,{"$f":"IF(AP108,VLOOKUP(AP108,HOM!$AR$551:$AS$606,2))","v":3.5710000000000002}]
["F",null,null,null,null,false,null,null,null,null,null,null,null,null,{"$f":"IF(K109=\"\",\"\",IF(MAXA(L109:N109)<=0,0,MAXA(L109:N109)))","v":""},null,null,null,"","","","","",{"$f":"IF(AND(J109>=40,J109<45),VLOOKUP(K109,Feuil2!$F$10:$P$28,9),IF(AND(J109>=45,J109<50),VLOOKUP(K109,Feuil2!$F$10:$P$28,8),IF(AND(J109>=50,J109<55),VLOOKUP(K109,Feuil2!$F$10:$P$28,7),IF(AND(J109>=55,J109<60),VLOOKUP(K109,Feuil2!$F$10:$P$28,6),IF(AND(J109>=60,J109<65),VLOOKUP(K109,Feuil2!$F$10:$P$28,5),IF(AND(J109>=65,J109<70),VLOOKUP(K109,Feuil2!$F$10:$P$28,4),IF(AND(J109>=70,J109<75),VLOOKUP(K109,Feuil2!$F$10:$P$28,3),IF(AND(J109>=75,J109<80),VLOOKUP(K109,Feuil2!$F$10:$P$28,2),VLOOKUP(K109,Feuil2!$F$10:$P$28,2)))))))))","v":{"$error":"#N/A"}},null,{"$f":"T109-HLOOKUP(X109,Feuil2!$C$1:$CD$9,2,FALSE)","v":{"$error":"#VALUE!"}},{"$f":"T109-HLOOKUP(X109,Feuil2!$C$1:$CD$9,3,FALSE)","v":{"$error":"#VALUE!"}},{"$f":"T109-HLOOKUP(X109,Feuil2!$C$1:$CD$9,4,FALSE)","v":{"$error":"#VALUE!"}},{"$f":"T109-HLOOKUP(X109,Feuil2!$C$1:$CD$9,5,FALSE)","v":{"$error":"#VALUE!"}},{"$f":"T109-HLOOKUP(X109,Feuil2!$C$1:$CD$9,6,FALSE)","v":{"$error":"#VALUE!"}},{"$f":"T109-HLOOKUP(X109,Feuil2!$C$1:$CD$9,7,FALSE)","v":{"$error":"#VALUE!"}},{"$f":"T109-HLOOKUP(X109,Feuil2!$C$1:$CD$9,8,FALSE)","v":{"$error":"#VALUE!"}},{"$f":"T109-HLOOKUP(X109,Feuil2!$C$1:$CD$9,9,FALSE)","v":{"$error":"#VALUE!"}},null,null,null,null,null,null,null,{"$error":"#VALUE!"},114,null,{"$f":"IF(AP109,VLOOKUP(AP109,HOM!$AR$551:$AS$606,2))","v":3.5710000000000002}]
["H",null,null,null,null,false,null,null,null,null,null,null,null,null,{"$f":"IF(K110=\"\",\"\",IF(MAXA(L110:N110)<=0,0,MAXA(L110:N110)))","v":""},null,null,null,"","","","","",{"$f":"IF(AND(J110>=40,J110<45),VLOOKUP(K110,Feuil2!$F$10:$P$28,9),IF(AND(J110>=45,J110<50),VLOOKUP(K110,Feuil2!$F$10:$P$28,8),IF(AND(J110>=50,J110<55),VLOOKUP(K110,Feuil2!$F$10:$P$28,7),IF(AND(J110>=55,J110<60),VLOOKUP(K110,Feuil2!$F$10:$P$28,6),IF(AND(J110>=60,J110<65),VLOOKUP(K110,Feuil2!$F$10:$P$28,5),IF(AND(J110>=65,J110<70),VLOOKUP(K110,Feuil2!$F$10:$P$28,4),IF(AND(J110>=70,J110<75),VLOOKUP(K110,Feuil2!$F$10:$P$28,3),IF(AND(J110>=75,J110<80),VLOOKUP(K110,Feuil2!$F$10:$P$28,2),VLOOKUP(K110,Feuil2!$F$10:$P$28,2)))))))))","v":{"$error":"#N/A"}},null,{"$f":"T110-HLOOKUP(X110,Feuil2!$C$1:$CD$9,2,FALSE)","v":{"$error":"#VALUE!"}},{"$f":"T110-HLOOKUP(X110,Feuil2!$C$1:$CD$9,3,FALSE)","v":{"$error":"#VALUE!"}},{"$f":"T110-HLOOKUP(X110,Feuil2!$C$1:$CD$9,4,FALSE)","v":{"$error":"#VALUE!"}},{"$f":"T110-HLOOKUP(X110,Feuil2!$C$1:$CD$9,5,FALSE)","v":{"$error":"#VALUE!"}},{"$f":"T110-HLOOKUP(X110,Feuil2!$C$1:$CD$9,6,FALSE)","v":{"$error":"#VALUE!"}},{"$f":"T110-HLOOKUP(X110,Feuil2!$C$1:$CD$9,7,FALSE)","v":{"$error":"#VALUE!"}},{"$f":"T110-HLOOKUP(X110,Feuil2!$C$1:$CD$9,8,FALSE)","v":{"$error":"#VALUE!"}},{"$f":"T110-HLOOKUP(X110,Feuil2!$C$1:$CD$9,9,FALSE)","v":{"$error":"#VALUE!"}},null,null,null,null,null,null,null,{"$error":"#VALUE!"},114,null,{"$f":"IF(AP110,VLOOKUP(AP110,HOM!$AR$551:$AS$606,2))","v":3.5710000000000002}]
["H",null,null,null,null,false,null,null,null,null,null,null,null,null,"",null,null,null,"","","","","",{"$f":"IF(AND(J111>=40,J111<45),VLOOKUP(K111,Feuil2!$F$10:$P$28,9),IF(AND(J111>=45,J111<50),VLOOKUP(K111,Feuil2!$F$10:$P$28,8),IF(AND(J111>=50,J111<55),VLOOKUP(K111,Feuil2!$F$10:$P$28,7),IF(AND(J111>=55,J111<60),VLOOKUP(K111,Feuil2!$F$10:$P$28,6),IF(AND(J111>=60,J111<65),VLOOKUP(K111,Feuil2!$F$10:$P$28,5),IF(AND(J111>=65,J111<70),VLOOKUP(K111,Feuil2!$F$10:$P$28,4),IF(AND(J111>=70,J111<75),VLOOKUP(K111,Feuil2!$F$10:$P$28,3),IF(AND(J111>=75,J111<80),VLOOKUP(K111,Feuil2!$F$10:$P$28,2),VLOOKUP(K111,Feuil2!$F$10:$P$28,2)))))))))","v":{"$error":"#N/A"}},null,{"$f":"T111-HLOOKUP(X111,Feuil2!$C$1:$CD$9,2,FALSE)","v":{"$error":"#VALUE!"}},{"$f":"T111-HLOOKUP(X111,Feuil2!$C$1:$CD$9,3,FALSE)","v":{"$error":"#VALUE!"}},{"$f":"T111-HLOOKUP(X111,Feuil2!$C$1:$CD$9,4,FALSE)","v":{"$error":"#VALUE!"}},{"$f":"T111-HLOOKUP(X111,Feuil2!$C$1:$CD$9,5,FALSE)","v":{"$error":"#VALUE!"}},{"$f":"T111-HLOOKUP(X111,Feuil2!$C$1:$CD$9,6,FALSE)","v":{"$error":"#VALUE!"}},{"$f":"T111-HLOOKUP(X111,Feuil2!$C$1:$CD$9,7,FALSE)","v":{"$error":"#VALUE!"}},{"$f":"T111-HLOOKUP(X111,Feuil2!$C$1:$CD$9,8,FALSE)","v":{"$error":"#VALUE!"}},{"$f":"T111-HLOOKUP(X111,Feuil2!$C$1:$CD$9,9,FALSE)","v":{"$error":"#VALUE!"}},null,null,null,null,null,null,null,{"$error":"#VALUE!"},114,null,{"$f":"IF(AP111,VLOOKUP(AP111,HOM!$AR$551:$AS$606,2))","v":3.5710000000000002}]
["H",null,null,null,null,false,null,null,null,null,null,null,null,null,"",null,null,null,"","","","","",{"$f":"IF(AND(J112>=40,J112<45),VLOOKUP(K112,Feuil2!$F$10:$P$28,9),IF(AND(J112>=45,J112<50),VLOOKUP(K112,Feuil2!$F$10:$P$28,8),IF(AND(J112>=50,J112<55),VLOOKUP(K112,Feuil2!$F$10:$P$28,7),IF(AND(J112>=55,J112<60),VLOOKUP(K112,Feuil2!$F$10:$P$28,6),IF(AND(J112>=60,J112<65),VLOOKUP(K112,Feuil2!$F$10:$P$28,5),IF(AND(J112>=65,J112<70),VLOOKUP(K112,Feuil2!$F$10:$P$28,4),IF(AND(J112>=70,J112<75),VLOOKUP(K112,Feuil2!$F$10:$P$28,3),IF(AND(J112>=75,J112<80),VLOOKUP(K112,Feuil2!$F$10:$P$28,2),VLOOKUP(K112,Feuil2!$F$10:$P$28,2)))))))))","v":{"$error":"#N/A"}},null,{"$f":"T112-HLOOKUP(X112,Feuil2!$C$1:$CD$9,2,FALSE)","v":{"$error":"#VALUE!"}},{"$f":"T112-HLOOKUP(X112,Feuil2!$C$1:$CD$9,3,FALSE)","v":{"$error":"#VALUE!"}},{"$f":"T112-HLOOKUP(X112,Feuil2!$C$1:$CD$9,4,FALSE)","v":{"$error":"#VALUE!"}},{"$f":"T112-HLOOKUP(X112,Feuil2!$C$1:$CD$9,5,FALSE)","v":{"$error":"#VALUE!"}},{"$f":"T112-HLOOKUP(X112,Feuil2!$C$1:$CD$9,6,FALSE)","v":{"$error":"#VALUE!"}},{"$f":"T112-HLOOKUP(X112,Feuil2!$C$1:$CD$9,7,FALSE)","v":{"$error":"#VALUE!"}},{"$f":"T112-HLOOKUP(X112,Feuil2!$C$1:$CD$9,8,FALSE)","v":{"$error":"#VALUE!"}},{"$f":"T112-HLOOKUP(X112,Feuil2!$C$1:$CD$9,9,FALSE)","v":{"$error":"#VALUE!"}},null,null,null,null,null,null,null,{"$error":"#VALUE!"},114,null,{"$f":"IF(AP112,VLOOKUP(AP112,HOM!$AR$551:$AS$606,2))","v":3.5710000000000002}]
["H",null,null,null,null,false,null,null,null,null,null,null,null,null,"",null,null,null,"","","","","",{"$f":"IF(AND(J113>=40,J113<45),VLOOKUP(K113,Feuil2!$F$10:$P$28,9),IF(AND(J113>=45,J113<50),VLOOKUP(K113,Feuil2!$F$10:$P$28,8),IF(AND(J113>=50,J113<55),VLOOKUP(K113,Feuil2!$F$10:$P$28,7),IF(AND(J113>=55,J113<60),VLOOKUP(K113,Feuil2!$F$10:$P$28,6),IF(AND(J113>=60,J113<65),VLOOKUP(K113,Feuil2!$F$10:$P$28,5),IF(AND(J113>=65,J113<70),VLOOKUP(K113,Feuil2!$F$10:$P$28,4),IF(AND(J113>=70,J113<75),VLOOKUP(K113,Feuil2!$F$10:$P$28,3),IF(AND(J113>=75,J113<80),VLOOKUP(K113,Feuil2!$F$10:$P$28,2),VLOOKUP(K113,Feuil2!$F$10:$P$28,2)))))))))","v":{"$error":"#N/A"}},null,{"$f":"T113-HLOOKUP(X113,Feuil2!$C$1:$CD$9,2,FALSE)","v":{"$error":"#VALUE!"}},{"$f":"T113-HLOOKUP(X113,Feuil2!$C$1:$CD$9,3,FALSE)","v":{"$error":"#VALUE!"}},{"$f":"T113-HLOOKUP(X113,Feuil2!$C$1:$CD$9,4,FALSE)","v":{"$error":"#VALUE!"}},{"$f":"T113-HLOOKUP(X113,Feuil2!$C$1:$CD$9,5,FALSE)","v":{"$error":"#VALUE!"}},{"$f":"T113-HLOOKUP(X113,Feuil2!$C$1:$CD$9,6,FALSE)","v":{"$error":"#VALUE!"}},{"$f":"T113-HLOOKUP(X113,Feuil2!$C$1:$CD$9,7,FALSE)","v":{"$error":"#VALUE!"}},{"$f":"T113-HLOOKUP(X113,Feuil2!$C$1:$CD$9,8,FALSE)","v":{"$error":"#VALUE!"}},{"$f":"T113-HLOOKUP(X113,Feuil2!$C$1:$CD$9,9,FALSE)","v":{"$error":"#VALUE!"}},null,null,null,null,null,null,null,{"$error":"#VALUE!"},114,null,{"$f":"IF(AP113,VLOOKUP(AP113,HOM!$AR$551:$AS$606,2))","v":3.5710000000000002}]
["H",null,null,null,null,false,null,null,null,null,null,null,null,null,"",null,null,null,"","","","","",{"$f":"IF(AND(J114>=40,J114<45),VLOOKUP(K114,Feuil2!$F$10:$P$28,9),IF(AND(J114>=45,J114<50),VLOOKUP(K114,Feuil2!$F$10:$P$28,8),IF(AND(J114>=50,J114<55),VLOOKUP(K114,Feuil2!$F$10:$P$28,7),IF(AND(J114>=55,J114<60),VLOOKUP(K114,Feuil2!$F$10:$P$28,6),IF(AND(J114>=60,J114<65),VLOOKUP(K114,Feuil2!$F$10:$P$28,5),IF(AND(J114>=65,J114<70),VLOOKUP(K114,Feuil2!$F$10:$P$28,4),IF(AND(J114>=70,J114<75),VLOOKUP(K114,Feuil2!$F$10:$P$28,3),IF(AND(J114>=75,J114<80),VLOOKUP(K114,Feuil2!$F$10:$P$28,2),VLOOKUP(K114,Feuil2!$F$10:$P$28,2)))))))))","v":{"$error":"#N/A"}},null,{"$f":"T114-HLOOKUP(X114,Feuil2!$C$1:$CD$9,2,FALSE)","v":{"$error":"#VALUE!"}},{"$f":"T114-HLOOKUP(X114,Feuil2!$C$1:$CD$9,3,FALSE)","v":{"$error":"#VALUE!"}},{"$f":"T114-HLOOKUP(X114,Feuil2!$C$1:$CD$9,4,FALSE)","v":{"$error":"#VALUE!"}},{"$f":"T114-HLOOKUP(X114,Feuil2!$C$1:$CD$9,5,FALSE)","v":{"$error":"#VALUE!"}},{"$f":"T114-HLOOKUP(X114,Feuil2!$C$1:$CD$9,6,FALSE)","v":{"$error":"#VALUE!"}},{"$f":"T114-HLOOKUP(X114,Feuil2!$C$1:$CD$9,7,FALSE)","v":{"$error":"#VALUE!"}},{"$f":"T114-HLOOKUP(X114,Feuil2!$C$1:$CD$9,8,FALSE)","v":{"$error":"#VALUE!"}},{"$f":"T114-HLOOKUP(X114,Feuil2!$C$1:$CD$9,9,FALSE)","v":{"$error":"#VALUE!"}},null,null,null,null,null,null,null,{"$error":"#VALUE!"},114,null,{"$f":"IF(AP114,VLOOKUP(AP114,HOM!$AR$551:$AS$606,2))","v":3.5710000000000002}]
["H",null,null,null,null,false,null,null,null,null,null,null,null,null,"",null,null,null,"","","","","",{"$f":"IF(AND(J115>=40,J115<45),VLOOKUP(K115,Feuil2!$F$10:$P$28,9),IF(AND(J115>=45,J115<50),VLOOKUP(K115,Feuil2!$F$10:$P$28,8),IF(AND(J115>=50,J115<55),VLOOKUP(K115,Feuil2!$F$10:$P$28,7),IF(AND(J115>=55,J115<60),VLOOKUP(K115,Feuil2!$F$10:$P$28,6),IF(AND(J115>=60,J115<65),VLOOKUP(K115,Feuil2!$F$10:$P$28,5),IF(AND(J115>=65,J115<70),VLOOKUP(K115,Feuil2!$F$10:$P$28,4),IF(AND(J115>=70,J115<75),VLOOKUP(K115,Feuil2!$F$10:$P$28,3),IF(AND(J115>=75,J115<80),VLOOKUP(K115,Feuil2!$F$10:$P$28,2),VLOOKUP(K115,Feuil2!$F$10:$P$28,2)))))))))","v":{"$error":"#N/A"}},null,{"$f":"T115-HLOOKUP(X115,Feuil2!$C$1:$CD$9,2,FALSE)","v":{"$error":"#VALUE!"}},{"$f":"T115-HLOOKUP(X115,Feuil2!$C$1:$CD$9,3,FALSE)","v":{"$error":"#VALUE!"}},{"$f":"T115-HLOOKUP(X115,Feuil2!$C$1:$CD$9,4,FALSE)","v":{"$error":"#VALUE!"}},{"$f":"T115-HLOOKUP(X115,Feuil2!$C$1:$CD$9,5,FALSE)","v":{"$error":"#VALUE!"}},{"$f":"T115-HLOOKUP(X115,Feuil2!$C$1:$CD$9,6,FALSE)","v":{"$error":"#VALUE!"}},{"$f":"T115-HLOOKUP(X115,Feuil2!$C$1:$CD$9,7,FALSE)","v":{"$error":"#VALUE!"}},{"$f":"T115-HLOOKUP(X115,Feuil2!$C$1:$CD$9,8,FALSE)","v":{"$error":"#VALUE!"}},{"$f":"T115-HLOOKUP(X115,Feuil2!$C$1:$CD$9,9,FALSE)","v":{"$error":"#VALUE!"}},null,null,null,null,null,null,null,{"$error":"#VALUE!"},114,null,{"$f":"IF(AP115,VLOOKUP(AP115,HOM!$AR$551:$AS$606,2))","v":3.5710000000000002}]
["H",null,null,null,null,false,null,null,null,null,null,null,null,null,"",null,null,null,"","","","","",{"$f":"IF(AND(J116>=40,J116<45),VLOOKUP(K116,Feuil2!$F$10:$P$28,9),IF(AND(J116>=45,J116<50),VLOOKUP(K116,Feuil2!$F$10:$P$28,8),IF(AND(J116>=50,J116<55),VLOOKUP(K116,Feuil2!$F$10:$P$28,7),IF(AND(J116>=55,J116<60),VLOOKUP(K116,Feuil2!$F$10:$P$28,6),IF(AND(J116>=60,J116<65),VLOOKUP(K116,Feuil2!$F$10:$P$28,5),IF(AND(J116>=65,J116<70),VLOOKUP(K116,Feuil2!$F$10:$P$28,4),IF(AND(J116>=70,J116<75),VLOOKUP(K116,Feuil2!$F$10:$P$28,3),IF(AND(J116>=75,J116<80),VLOOKUP(K116,Feuil2!$F$10:$P$28,2),VLOOKUP(K116,Feuil2!$F$10:$P$28,2)))))))))","v":{"$error":"#N/A"}},null,{"$f":"T116-HLOOKUP(X116,Feuil2!$C$1:$CD$9,2,FALSE)","v":{"$error":"#VALUE!"}},{"$f":"T116-HLOOKUP(X116,Feuil2!$C$1:$CD$9,3,FALSE)","v":{"$error":"#VALUE!"}},{"$f":"T116-HLOOKUP(X116,Feuil2!$C$1:$CD$9,4,FALSE)","v":{"$error":"#VALUE!"}},{"$f":"T116-HLOOKUP(X116,Feuil2!$C$1:$CD$9,5,FALSE)","v":{"$error":"#VALUE!"}},{"$f":"T116-HLOOKUP(X116,Feuil2!$C$1:$CD$9,6,FALSE)","v":{"$error":"#VALUE!"}},{"$f":"T116-HLOOKUP(X116,Feuil2!$C$1:$CD$9,7,FALSE)","v":{"$error":"#VALUE!"}},{"$f":"T116-HLOOKUP(X116,Feuil2!$C$1:$CD$9,8,FALSE)","v":{"$error":"#VALUE!"}},{"$f":"T116-HLOOKUP(X116,Feuil2!$C$1:$CD$9,9,FALSE)","v":{"$error":"#VALUE!"}},null,null,null,null,null,null,null,{"$error":"#VALUE!"},114,null,{"$f":"IF(AP116,VLOOKUP(AP116,HOM!$AR$551:$AS$606,2))","v":3.5710000000000002}]
["H",null,null,null,null,false,null,null,null,null,null,null,null,null,"",null,null,null,"","","","","",{"$f":"IF(AND(J117>=40,J117<45),VLOOKUP(K117,Feuil2!$F$10:$P$28,9),IF(AND(J117>=45,J117<50),VLOOKUP(K117,Feuil2!$F$10:$P$28,8),IF(AND(J117>=50,J117<55),VLOOKUP(K117,Feuil2!$F$10:$P$28,7),IF(AND(J117>=55,J117<60),VLOOKUP(K117,Feuil2!$F$10:$P$28,6),IF(AND(J117>=60,J117<65),VLOOKUP(K117,Feuil2!$F$10:$P$28,5),IF(AND(J117>=65,J117<70),VLOOKUP(K117,Feuil2!$F$10:$P$28,4),IF(AND(J117>=70,J117<75),VLOOKUP(K117,Feuil2!$F$10:$P$28,3),IF(AND(J117>=75,J117<80),VLOOKUP(K117,Feuil2!$F$10:$P$28,2),VLOOKUP(K117,Feuil2!$F$10:$P$28,2)))))))))","v":{"$error":"#N/A"}},null,{"$f":"T117-HLOOKUP(X117,Feuil2!$C$1:$CD$9,2,FALSE)","v":{"$error":"#VALUE!"}},{"$f":"T117-HLOOKUP(X117,Feuil2!$C$1:$CD$9,3,FALSE)","v":{"$error":"#VALUE!"}},{"$f":"T117-HLOOKUP(X117,Feuil2!$C$1:$CD$9,4,FALSE)","v":{"$error":"#VALUE!"}},{"$f":"T117-HLOOKUP(X117,Feuil2!$C$1:$CD$9,5,FALSE)","v":{"$error":"#VALUE!"}},{"$f":"T117-HLOOKUP(X117,Feuil2!$C$1:$CD$9,6,FALSE)","v":{"$error":"#VALUE!"}},{"$f":"T117-HLOOKUP(X117,Feuil2!$C$1:$CD$9,7,FALSE)","v":{"$error":"#VALUE!"}},{"$f":"T117-HLOOKUP(X117,Feuil2!$C$1:$CD$9,8,FALSE)","v":{"$error":"#VALUE!"}},{"$f":"T117-HLOOKUP(X117,Feuil2!$C$1:$CD$9,9,FALSE)","v":{"$error":"#VALUE!"}},null,null,null,null,null,null,null,{"$error":"#VALUE!"},114,null,{"$f":"IF(AP117,VLOOKUP(AP117,HOM!$AR$551:$AS$606,2))","v":3.5710000000000002}]
["H",null,null,null,null,false,null,null,null,null,null,null,null,null,{"$f":"IF(K118=\"\",\"\",IF(MAXA(L118:N118)<=0,0,MAXA(L118:N118)))","v":""},null,null,null,"","","","","",{"$f":"IF(AND(J118>=40,J118<45),VLOOKUP(K118,Feuil2!$F$10:$P$28,9),IF(AND(J118>=45,J118<50),VLOOKUP(K118,Feuil2!$F$10:$P$28,8),IF(AND(J118>=50,J118<55),VLOOKUP(K118,Feuil2!$F$10:$P$28,7),IF(AND(J118>=55,J118<60),VLOOKUP(K118,Feuil2!$F$10:$P$28,6),IF(AND(J118>=60,J118<65),VLOOKUP(K118,Feuil2!$F$10:$P$28,5),IF(AND(J118>=65,J118<70),VLOOKUP(K118,Feuil2!$F$10:$P$28,4),IF(AND(J118>=70,J118<75),VLOOKUP(K118,Feuil2!$F$10:$P$28,3),IF(AND(J118>=75,J118<80),VLOOKUP(K118,Feuil2!$F$10:$P$28,2),VLOOKUP(K118,Feuil2!$F$10:$P$28,2)))))))))","v":{"$error":"#N/A"}},null,{"$f":"T118-HLOOKUP(X118,Feuil2!$C$1:$CD$9,2,FALSE)","v":{"$error":"#VALUE!"}},{"$f":"T118-HLOOKUP(X118,Feuil2!$C$1:$CD$9,3,FALSE)","v":{"$error":"#VALUE!"}},{"$f":"T118-HLOOKUP(X118,Feuil2!$C$1:$CD$9,4,FALSE)","v":{"$error":"#VALUE!"}},{"$f":"T118-HLOOKUP(X118,Feuil2!$C$1:$CD$9,5,FALSE)","v":{"$error":"#VALUE!"}},{"$f":"T118-HLOOKUP(X118,Feuil2!$C$1:$CD$9,6,FALSE)","v":{"$error":"#VALUE!"}},{"$f":"T118-HLOOKUP(X118,Feuil2!$C$1:$CD$9,7,FALSE)","v":{"$error":"#VALUE!"}},{"$f":"T118-HLOOKUP(X118,Feuil2!$C$1:$CD$9,8,FALSE)","v":{"$error":"#VALUE!"}},{"$f":"T118-HLOOKUP(X118,Feuil2!$C$1:$CD$9,9,FALSE)","v":{"$error":"#VALUE!"}},null,null,null,null,null,null,null,{"$error":"#VALUE!"},114,null,{"$f":"IF(AP118,VLOOKUP(AP118,HOM!$AR$551:$AS$606,2))","v":3.5710000000000002}]
["H",null,null,null,null,false,null,null,null,null,null,null,null,null,"",null,null,null,"","","","","",{"$f":"IF(AND(J119>=40,J119<45),VLOOKUP(K119,Feuil2!$F$10:$P$28,9),IF(AND(J119>=45,J119<50),VLOOKUP(K119,Feuil2!$F$10:$P$28,8),IF(AND(J119>=50,J119<55),VLOOKUP(K119,Feuil2!$F$10:$P$28,7),IF(AND(J119>=55,J119<60),VLOOKUP(K119,Feuil2!$F$10:$P$28,6),IF(AND(J119>=60,J119<65),VLOOKUP(K119,Feuil2!$F$10:$P$28,5),IF(AND(J119>=65,J119<70),VLOOKUP(K119,Feuil2!$F$10:$P$28,4),IF(AND(J119>=70,J119<75),VLOOKUP(K119,Feuil2!$F$10:$P$28,3),IF(AND(J119>=75,J119<80),VLOOKUP(K119,Feuil2!$F$10:$P$28,2),VLOOKUP(K119,Feuil2!$F$10:$P$28,2)))))))))","v":{"$error":"#N/A"}},null,{"$f":"T119-HLOOKUP(X119,Feuil2!$C$1:$CD$9,2,FALSE)","v":{"$error":"#VALUE!"}},{"$f":"T119-HLOOKUP(X119,Feuil2!$C$1:$CD$9,3,FALSE)","v":{"$error":"#VALUE!"}},{"$f":"T119-HLOOKUP(X119,Feuil2!$C$1:$CD$9,4,FALSE)","v":{"$error":"#VALUE!"}},{"$f":"T119-HLOOKUP(X119,Feuil2!$C$1:$CD$9,5,FALSE)","v":{"$error":"#VALUE!"}},{"$f":"T119-HLOOKUP(X119,Feuil2!$C$1:$CD$9,6,FALSE)","v":{"$error":"#VALUE!"}},{"$f":"T119-HLOOKUP(X119,Feuil2!$C$1:$CD$9,7,FALSE)","v":{"$error":"#VALUE!"}},{"$f":"T119-HLOOKUP(X119,Feuil2!$C$1:$CD$9,8,FALSE)","v":{"$error":"#VALUE!"}},{"$f":"T119-HLOOKUP(X119,Feuil2!$C$1:$CD$9,9,FALSE)","v":{"$error":"#VALUE!"}},null,null,null,null,null,null,null,{"$error":"#VALUE!"},114,null,{"$f":"IF(AP119,VLOOKUP(AP119,HOM!$AR$551:$AS$606,2))","v":3.5710000000000002}]
["H",null,null,null,null,false,null,null,null,null,null,null,null,null,"",null,null,null,"","","","","",{"$f":"IF(AND(J120>=40,J120<45),VLOOKUP(K120,Feuil2!$F$10:$P$28,9),IF(AND(J120>=45,J120<50),VLOOKUP(K120,Feuil2!$F$10:$P$28,8),IF(AND(J120>=50,J120<55),VLOOKUP(K120,Feuil2!$F$10:$P$28,7),IF(AND(J120>=55,J120<60),VLOOKUP(K120,Feuil2!$F$10:$P$28,6),IF(AND(J120>=60,J120<65),VLOOKUP(K120,Feuil2!$F$10:$P$28,5),IF(AND(J120>=65,J120<70),VLOOKUP(K120,Feuil2!$F$10:$P$28,4),IF(AND(J120>=70,J120<75),VLOOKUP(K120,Feuil2!$F$10:$P$28,3),IF(AND(J120>=75,J120<80),VLOOKUP(K120,Feuil2!$F$10:$P$28,2),VLOOKUP(K120,Feuil2!$F$10:$P$28,2)))))))))","v":{"$error":"#N/A"}},null,{"$f":"T120-HLOOKUP(X120,Feuil2!$C$1:$CD$9,2,FALSE)","v":{"$error":"#VALUE!"}},{"$f":"T120-HLOOKUP(X120,Feuil2!$C$1:$CD$9,3,FALSE)","v":{"$error":"#VALUE!"}},{"$f":"T120-HLOOKUP(X120,Feuil2!$C$1:$CD$9,4,FALSE)","v":{"$error":"#VALUE!"}},{"$f":"T120-HLOOKUP(X120,Feuil2!$C$1:$CD$9,5,FALSE)","v":{"$error":"#VALUE!"}},{"$f":"T120-HLOOKUP(X120,Feuil2!$C$1:$CD$9,6,FALSE)","v":{"$error":"#VALUE!"}},{"$f":"T120-HLOOKUP(X120,Feuil2!$C$1:$CD$9,7,FALSE)","v":{"$error":"#VALUE!"}},{"$f":"T120-HLOOKUP(X120,Feuil2!$C$1:$CD$9,8,FALSE)","v":{"$error":"#VALUE!"}},{"$f":"T120-HLOOKUP(X120,Feuil2!$C$1:$CD$9,9,FALSE)","v":{"$error":"#VALUE!"}},null,null,null,null,null,null,null,{"$error":"#VALUE!"},114,null,{"$f":"IF(AP120,VLOOKUP(AP120,HOM!$AR$551:$AS$606,2))","v":3.5710000000000002}]
["H",null,null,null,null,false,null,null,null,null,null,null,null,null,"",null,null,null,"","","","","",{"$f":"IF(AND(J121>=40,J121<45),VLOOKUP(K121,Feuil2!$F$10:$P$28,9),IF(AND(J121>=45,J121<50),VLOOKUP(K121,Feuil2!$F$10:$P$28,8),IF(AND(J121>=50,J121<55),VLOOKUP(K121,Feuil2!$F$10:$P$28,7),IF(AND(J121>=55,J121<60),VLOOKUP(K121,Feuil2!$F$10:$P$28,6),IF(AND(J121>=60,J121<65),VLOOKUP(K121,Feuil2!$F$10:$P$28,5),IF(AND(J121>=65,J121<70),VLOOKUP(K121,Feuil2!$F$10:$P$28,4),IF(AND(J121>=70,J121<75),VLOOKUP(K121,Feuil2!$F$10:$P$28,3),IF(AND(J121>=75,J121<80),VLOOKUP(K121,Feuil2!$F$10:$P$28,2),VLOOKUP(K121,Feuil2!$F$10:$P$28,2)))))))))","v":{"$error":"#N/A"}},null,{"$f":"T121-HLOOKUP(X121,Feuil2!$C$1:$CD$9,2,FALSE)","v":{"$error":"#VALUE!"}},{"$f":"T121-HLOOKUP(X121,Feuil2!$C$1:$CD$9,3,FALSE)","v":{"$error":"#VALUE!"}},{"$f":"T121-HLOOKUP(X121,Feuil2!$C$1:$CD$9,4,FALSE)","v":{"$error":"#VALUE!"}},{"$f":"T121-HLOOKUP(X121,Feuil2!$C$1:$CD$9,5,FALSE)","v":{"$error":"#VALUE!"}},{"$f":"T121-HLOOKUP(X121,Feuil2!$C$1:$CD$9,6,FALSE)","v":{"$error":"#VALUE!"}},{"$f":"T121-HLOOKUP(X121,Feuil2!$C$1:$CD$9,7,FALSE)","v":{"$error":"#VALUE!"}},{"$f":"T121-HLOOKUP(X121,Feuil2!$C$1:$CD$9,8,FALSE)","v":{"$error":"#VALUE!"}},{"$f":"T121-HLOOKUP(X121,Feuil2!$C$1:$CD$9,9,FALSE)","v":{"$error":"#VALUE!"}},null,null,null,null,null,null,null,{"$error":"#VALUE!"},{"$f":"114-J121","v":114},null,{"$f":"IF(AP121,VLOOKUP(AP121,HOM!$AR$551:$AS$606,2))","v":3.5710000000000002}]
["H",null,null,null,null,false,null,null,null,null,null,null,null,null,"",null,null,null,"","","","","",{"$f":"IF(AND(J122>=40,J122<45),VLOOKUP(K122,Feuil2!$F$10:$P$28,9),IF(AND(J122>=45,J122<50),VLOOKUP(K122,Feuil2!$F$10:$P$28,8),IF(AND(J122>=50,J122<55),VLOOKUP(K122,Feuil2!$F$10:$P$28,7),IF(AND(J122>=55,J122<60),VLOOKUP(K122,Feuil2!$F$10:$P$28,6),IF(AND(J122>=60,J122<65),VLOOKUP(K122,Feuil2!$F$10:$P$28,5),IF(AND(J122>=65,J122<70),VLOOKUP(K122,Feuil2!$F$10:$P$28,4),IF(AND(J122>=70,J122<75),VLOOKUP(K122,Feuil2!$F$10:$P$28,3),IF(AND(J122>=75,J122<80),VLOOKUP(K122,Feuil2!$F$10:$P$28,2),VLOOKUP(K122,Feuil2!$F$10:$P$28,2)))))))))","v":{"$error":"#N/A"}},null,{"$f":"T122-HLOOKUP(X122,Feuil2!$C$1:$CD$9,2,FALSE)","v":{"$error":"#VALUE!"}},{"$f":"T122-HLOOKUP(X122,Feuil2!$C$1:$CD$9,3,FALSE)","v":{"$error":"#VALUE!"}},{"$f":"T122-HLOOKUP(X122,Feuil2!$C$1:$CD$9,4,FALSE)","v":{"$error":"#VALUE!"}},{"$f":"T122-HLOOKUP(X122,Feuil2!$C$1:$CD$9,5,FALSE)","v":{"$error":"#VALUE!"}},{"$f":"T122-HLOOKUP(X122,Feuil2!$C$1:$CD$9,6,FALSE)","v":{"$error":"#VALUE!"}},{"$f":"T122-HLOOKUP(X122,Feuil2!$C$1:$CD$9,7,FALSE)","v":{"$error":"#VALUE!"}},{"$f":"T122-HLOOKUP(X122,Feuil2!$C$1:$CD$9,8,FALSE)","v":{"$error":"#VALUE!"}},{"$f":"T122-HLOOKUP(X122,Feuil2!$C$1:$CD$9,9,FALSE)","v":{"$error":"#VALUE!"}},null,null,null,null,null,null,null,{"$error":"#VALUE!"},114,null,{"$f":"IF(AP122,VLOOKUP(AP122,HOM!$AR$551:$AS$606,2))","v":3.5710000000000002}]
["H",null,null,null,null,false,null,null,null,null,null,null,null,null,"",null,null,null,"","","","","",{"$f":"IF(AND(J123>=40,J123<45),VLOOKUP(K123,Feuil2!$F$10:$P$28,9),IF(AND(J123>=45,J123<50),VLOOKUP(K123,Feuil2!$F$10:$P$28,8),IF(AND(J123>=50,J123<55),VLOOKUP(K123,Feuil2!$F$10:$P$28,7),IF(AND(J123>=55,J123<60),VLOOKUP(K123,Feuil2!$F$10:$P$28,6),IF(AND(J123>=60,J123<65),VLOOKUP(K123,Feuil2!$F$10:$P$28,5),IF(AND(J123>=65,J123<70),VLOOKUP(K123,Feuil2!$F$10:$P$28,4),IF(AND(J123>=70,J123<75),VLOOKUP(K123,Feuil2!$F$10:$P$28,3),IF(AND(J123>=75,J123<80),VLOOKUP(K123,Feuil2!$F$10:$P$28,2),VLOOKUP(K123,Feuil2!$F$10:$P$28,2)))))))))","v":{"$error":"#N/A"}},null,{"$f":"T123-HLOOKUP(X123,Feuil2!$C$1:$CD$9,2,FALSE)","v":{"$error":"#VALUE!"}},{"$f":"T123-HLOOKUP(X123,Feuil2!$C$1:$CD$9,3,FALSE)","v":{"$error":"#VALUE!"}},{"$f":"T123-HLOOKUP(X123,Feuil2!$C$1:$CD$9,4,FALSE)","v":{"$error":"#VALUE!"}},{"$f":"T123-HLOOKUP(X123,Feuil2!$C$1:$CD$9,5,FALSE)","v":{"$error":"#VALUE!"}},{"$f":"T123-HLOOKUP(X123,Feuil2!$C$1:$CD$9,6,FALSE)","v":{"$error":"#VALUE!"}},{"$f":"T123-HLOOKUP(X123,Feuil2!$C$1:$CD$9,7,FALSE)","v":{"$error":"#VALUE!"}},{"$f":"T123-HLOOKUP(X123,Feuil2!$C$1:$CD$9,8,FALSE)","v":{"$error":"#VALUE!"}},{"$f":"T123-HLOOKUP(X123,Feuil2!$C$1:$CD$9,9,FALSE)","v":{"$error":"#VALUE!"}},null,null,null,null,null,null,null,{"$error":"#VALUE!"},114,null,{"$f":"IF(AP123,VLOOKUP(AP123,HOM!$AR$551:$AS$606,2))","v":3.5710000000000002}]
["H",null,null,null,null,false,null,null,null,null,null,null,null,null,"",null,null,null,"","","","","",{"$f":"IF(AND(J124>=40,J124<45),VLOOKUP(K124,Feuil2!$F$10:$P$28,9),IF(AND(J124>=45,J124<50),VLOOKUP(K124,Feuil2!$F$10:$P$28,8),IF(AND(J124>=50,J124<55),VLOOKUP(K124,Feuil2!$F$10:$P$28,7),IF(AND(J124>=55,J124<60),VLOOKUP(K124,Feuil2!$F$10:$P$28,6),IF(AND(J124>=60,J124<65),VLOOKUP(K124,Feuil2!$F$10:$P$28,5),IF(AND(J124>=65,J124<70),VLOOKUP(K124,Feuil2!$F$10:$P$28,4),IF(AND(J124>=70,J124<75),VLOOKUP(K124,Feuil2!$F$10:$P$28,3),IF(AND(J124>=75,J124<80),VLOOKUP(K124,Feuil2!$F$10:$P$28,2),VLOOKUP(K124,Feuil2!$F$10:$P$28,2)))))))))","v":{"$error":"#N/A"}},null,{"$f":"T124-HLOOKUP(X124,Feuil2!$C$1:$CD$9,2,FALSE)","v":{"$error":"#VALUE!"}},{"$f":"T124-HLOOKUP(X124,Feuil2!$C$1:$CD$9,3,FALSE)","v":{"$error":"#VALUE!"}},{"$f":"T124-HLOOKUP(X124,Feuil2!$C$1:$CD$9,4,FALSE)","v":{"$error":"#VALUE!"}},{"$f":"T124-HLOOKUP(X124,Feuil2!$C$1:$CD$9,5,FALSE)","v":{"$error":"#VALUE!"}},{"$f":"T124-HLOOKUP(X124,Feuil2!$C$1:$CD$9,6,FALSE)","v":{"$error":"#VALUE!"}},{"$f":"T124-HLOOKUP(X124,Feuil2!$C$1:$CD$9,7,FALSE)","v":{"$error":"#VALUE!"}},{"$f":"T124-HLOOKUP(X124,Feuil2!$C$1:$CD$9,8,FALSE)","v":{"$error":"#VALUE!"}},{"$f":"T124-HLOOKUP(X124,Feuil2!$C$1:$CD$9,9,FALSE)","v":{"$error":"#VALUE!"}},null,null,null,null,null,null,null,{"$error":"#VALUE!"},114,null,{"$f":"IF(AP124,VLOOKUP(AP124,HOM!$AR$551:$AS$606,2))","v":3.5710000000000002}]
["H",null,null,null,null,false,null,null,null,null,null,null,null,null,"",null,null,null,"","","","","",{"$f":"IF(AND(J125>=40,J125<45),VLOOKUP(K125,Feuil2!$F$10:$P$28,9),IF(AND(J125>=45,J125<50),VLOOKUP(K125,Feuil2!$F$10:$P$28,8),IF(AND(J125>=50,J125<55),VLOOKUP(K125,Feuil2!$F$10:$P$28,7),IF(AND(J125>=55,J125<60),VLOOKUP(K125,Feuil2!$F$10:$P$28,6),IF(AND(J125>=60,J125<65),VLOOKUP(K125,Feuil2!$F$10:$P$28,5),IF(AND(J125>=65,J125<70),VLOOKUP(K125,Feuil2!$F$10:$P$28,4),IF(AND(J125>=70,J125<75),VLOOKUP(K125,Feuil2!$F$10:$P$28,3),IF(AND(J125>=75,J125<80),VLOOKUP(K125,Feuil2!$F$10:$P$28,2),VLOOKUP(K125,Feuil2!$F$10:$P$28,2)))))))))","v":{"$error":"#N/A"}},null,{"$f":"T125-HLOOKUP(X125,Feuil2!$C$1:$CD$9,2,FALSE)","v":{"$error":"#VALUE!"}},{"$f":"T125-HLOOKUP(X125,Feuil2!$C$1:$CD$9,3,FALSE)","v":{"$error":"#VALUE!"}},{"$f":"T125-HLOOKUP(X125,Feuil2!$C$1:$CD$9,4,FALSE)","v":{"$error":"#VALUE!"}},{"$f":"T125-HLOOKUP(X125,Feuil2!$C$1:$CD$9,5,FALSE)","v":{"$error":"#VALUE!"}},{"$f":"T125-HLOOKUP(X125,Feuil2!$C$1:$CD$9,6,FALSE)","v":{"$error":"#VALUE!"}},{"$f":"T125-HLOOKUP(X125,Feuil2!$C$1:$CD$9,7,FALSE)","v":{"$error":"#VALUE!"}},{"$f":"T125-HLOOKUP(X125,Feuil2!$C$1:$CD$9,8,FALSE)","v":{"$error":"#VALUE!"}},{"$f":"T125-HLOOKUP(X125,Feuil2!$C$1:$CD$9,9,FALSE)","v":{"$error":"#VALUE!"}},null,null,null,null,null,null,null,{"$error":"#VALUE!"},114,null,{"$f":"IF(AP125,VLOOKUP(AP125,HOM!$AR$551:$AS$606,2))","v":3.5710000000000002}]
["H",null,null,null,null,false,null,null,null,null,null,null,null,null,"",null,null,null,"","",{"$f":"IF(K126=\"\",\"\",IF(A126=\"H\",10^(0.794358141*LOG(K126/174.393)^2)*T126*AR126,IF(A126=\"F\",10^(0.89726074 * LOG(K126/148.026)^2)*T126*AR126,\"\")))","v":""},{"$f":"IF(K126=\"\",\"\",AO126)","v":""},{"$f":"IF(K126=\"\",\"\",IF(AG126>=0,AG126,IF(AF126>=0,AF126,IF(AE126>=0,AE126,IF(AD126>=0,AD126,IF(AC126>=0,AC126,IF(AB126>=0,AB126,IF(AA126>=0,AA126,Z126))))))))","v":""},{"$f":"IF(AND(J126>=40,J126<45),VLOOKUP(K126,Feuil2!$F$10:$P$28,9),IF(AND(J126>=45,J126<50),VLOOKUP(K126,Feuil2!$F$10:$P$28,8),IF(AND(J126>=50,J126<55),VLOOKUP(K126,Feuil2!$F$10:$P$28,7),IF(AND(J126>=55,J126<60),VLOOKUP(K126,Feuil2!$F$10:$P$28,6),IF(AND(J126>=60,J126<65),VLOOKUP(K126,Feuil2!$F$10:$P$28,5),IF(AND(J126>=65,J126<70),VLOOKUP(K126,Feuil2!$F$10:$P$28,4),IF(AND(J126>=70,J126<75),VLOOKUP(K126,Feuil2!$F$10:$P$28,3),IF(AND(J126>=75,J126<80),VLOOKUP(K126,Feuil2!$F$10:$P$28,2),VLOOKUP(K126,Feuil2!$F$10:$P$28,2)))))))))","v":{"$error":"#N/A"}},null,{"$f":"T126-HLOOKUP(X126,Feuil2!$C$1:$CD$9,2,FALSE)","v":{"$error":"#VALUE!"}},{"$f":"T126-HLOOKUP(X126,Feuil2!$C$1:$CD$9,3,FALSE)","v":{"$error":"#VALUE!"}},{"$f":"T126-HLOOKUP(X126,Feuil2!$C$1:$CD$9,4,FALSE)","v":{"$error":"#VALUE!"}},{"$f":"T126-HLOOKUP(X126,Feuil2!$C$1:$CD$9,5,FALSE)","v":{"$error":"#VALUE!"}},{"$f":"T126-HLOOKUP(X126,Feuil2!$C$1:$CD$9,6,FALSE)","v":{"$error":"#VALUE!"}},{"$f":"T126-HLOOKUP(X126,Feuil2!$C$1:$CD$9,7,FALSE)","v":{"$error":"#VALUE!"}},{"$f":"T126-HLOOKUP(X126,Feuil2!$C$1:$CD$9,8,FALSE)","v":{"$error":"#VALUE!"}},{"$f":"T126-HLOOKUP(X126,Feuil2!$C$1:$CD$9,9,FALSE)","v":{"$error":"#VALUE!"}},null,null,null,null,null,null,null,{"$f":"IF(AG126>=0,$AG$4,IF(AF126>=0,$AF$4,IF(AE126>=0,$AE$4,IF(AD126>=0,$AD$4,IF(AC126>=0,$AC$4,IF(AB126>=0,$AB$4,IF(AA126>=0,$AA$4,IF(Z126>=0,$Z$4,$AH$4))))))))","v":{"$error":"#VALUE!"}},114,null,{"$f":"IF(AP126,VLOOKUP(AP126,HOM!$AR$551:$AS$606,2))","v":3.5710000000000002}]
["H",null,null,null,null,false,null,null,null,null,null,null,null,null,"",null,null,null,"","","","","",{"$f":"IF(AND(J127>=40,J127<45),VLOOKUP(K127,Feuil2!$F$10:$P$28,9),IF(AND(J127>=45,J127<50),VLOOKUP(K127,Feuil2!$F$10:$P$28,8),IF(AND(J127>=50,J127<55),VLOOKUP(K127,Feuil2!$F$10:$P$28,7),IF(AND(J127>=55,J127<60),VLOOKUP(K127,Feuil2!$F$10:$P$28,6),IF(AND(J127>=60,J127<65),VLOOKUP(K127,Feuil2!$F$10:$P$28,5),IF(AND(J127>=65,J127<70),VLOOKUP(K127,Feuil2!$F$10:$P$28,4),IF(AND(J127>=70,J127<75),VLOOKUP(K127,Feuil2!$F$10:$P$28,3),IF(AND(J127>=75,J127<80),VLOOKUP(K127,Feuil2!$F$10:$P$28,2),VLOOKUP(K127,Feuil2!$F$10:$P$28,2)))))))))","v":{"$error":"#N/A"}},null,{"$f":"T127-HLOOKUP(X127,Feuil2!$C$1:$CD$9,2,FALSE)","v":{"$error":"#VALUE!"}},{"$f":"T127-HLOOKUP(X127,Feuil2!$C$1:$CD$9,3,FALSE)","v":{"$error":"#VALUE!"}},{"$f":"T127-HLOOKUP(X127,Feuil2!$C$1:$CD$9,4,FALSE)","v":{"$error":"#VALUE!"}},{"$f":"T127-HLOOKUP(X127,Feuil2!$C$1:$CD$9,5,FALSE)","v":{"$error":"#VALUE!"}},{"$f":"T127-HLOOKUP(X127,Feuil2!$C$1:$CD$9,6,FALSE)","v":{"$error":"#VALUE!"}},{"$f":"T127-HLOOKUP(X127,Feuil2!$C$1:$CD$9,7,FALSE)","v":{"$error":"#VALUE!"}},{"$f":"T127-HLOOKUP(X127,Feuil2!$C$1:$CD$9,8,FALSE)","v":{"$error":"#VALUE!"}},{"$f":"T127-HLOOKUP(X127,Feuil2!$C$1:$CD$9,9,FALSE)","v":{"$error":"#VALUE!"}},null,null,null,null,null,null,null,{"$error":"#VALUE!"},114,null,{"$f":"IF(AP127,VLOOKUP(AP127,HOM!$AR$551:$AS$606,2))","v":3.5710000000000002}]
["H",null,null,null,null,false,null,null,null,null,null,null,null,null,"",null,null,null,"","","","","",{"$f":"IF(AND(J128>=40,J128<45),VLOOKUP(K128,Feuil2!$F$10:$P$28,9),IF(AND(J128>=45,J128<50),VLOOKUP(K128,Feuil2!$F$10:$P$28,8),IF(AND(J128>=50,J128<55),VLOOKUP(K128,Feuil2!$F$10:$P$28,7),IF(AND(J128>=55,J128<60),VLOOKUP(K128,Feuil2!$F$10:$P$28,6),IF(AND(J128>=60,J128<65),VLOOKUP(K128,Feuil2!$F$10:$P$28,5),IF(AND(J128>=65,J128<70),VLOOKUP(K128,Feuil2!$F$10:$P$28,4),IF(AND(J128>=70,J128<75),VLOOKUP(K128,Feuil2!$F$10:$P$28,3),IF(AND(J128>=75,J128<80),VLOOKUP(K128,Feuil2!$F$10:$P$28,2),VLOOKUP(K128,Feuil2!$F$10:$P$28,2)))))))))","v":{"$error":"#N/A"}},null,{"$f":"T128-HLOOKUP(X128,Feuil2!$C$1:$CD$9,2,FALSE)","v":{"$error":"#VALUE!"}},{"$f":"T128-HLOOKUP(X128,Feuil2!$C$1:$CD$9,3,FALSE)","v":{"$error":"#VALUE!"}},{"$f":"T128-HLOOKUP(X128,Feuil2!$C$1:$CD$9,4,FALSE)","v":{"$error":"#VALUE!"}},{"$f":"T128-HLOOKUP(X128,Feuil2!$C$1:$CD$9,5,FALSE)","v":{"$error":"#VALUE!"}},{"$f":"T128-HLOOKUP(X128,Feuil2!$C$1:$CD$9,6,FALSE)","v":{"$error":"#VALUE!"}},{"$f":"T128-HLOOKUP(X128,Feuil2!$C$1:$CD$9,7,FALSE)","v":{"$error":"#VALUE!"}},{"$f":"T128-HLOOKUP(X128,Feuil2!$C$1:$CD$9,8,FALSE)","v":{"$error":"#VALUE!"}},{"$f":"T128-HLOOKUP(X128,Feuil2!$C$1:$CD$9,9,FALSE)","v":{"$error":"#VALUE!"}},null,null,null,null,null,null,null,{"$error":"#VALUE!"},114,null,{"$f":"IF(AP128,VLOOKUP(AP128,HOM!$AR$551:$AS$606,2))","v":3.5710000000000002}]
["H",null,null,null,null,false,null,null,null,null,null,null,null,null,"",null,null,null,"","","","","",{"$f":"IF(AND(J129>=40,J129<45),VLOOKUP(K129,Feuil2!$F$10:$P$28,9),IF(AND(J129>=45,J129<50),VLOOKUP(K129,Feuil2!$F$10:$P$28,8),IF(AND(J129>=50,J129<55),VLOOKUP(K129,Feuil2!$F$10:$P$28,7),IF(AND(J129>=55,J129<60),VLOOKUP(K129,Feuil2!$F$10:$P$28,6),IF(AND(J129>=60,J129<65),VLOOKUP(K129,Feuil2!$F$10:$P$28,5),IF(AND(J129>=65,J129<70),VLOOKUP(K129,Feuil2!$F$10:$P$28,4),IF(AND(J129>=70,J129<75),VLOOKUP(K129,Feuil2!$F$10:$P$28,3),IF(AND(J129>=75,J129<80),VLOOKUP(K129,Feuil2!$F$10:$P$28,2),VLOOKUP(K129,Feuil2!$F$10:$P$28,2)))))))))","v":{"$error":"#N/A"}},null,{"$f":"T129-HLOOKUP(X129,Feuil2!$C$1:$CD$9,2,FALSE)","v":{"$error":"#VALUE!"}},{"$f":"T129-HLOOKUP(X129,Feuil2!$C$1:$CD$9,3,FALSE)","v":{"$error":"#VALUE!"}},{"$f":"T129-HLOOKUP(X129,Feuil2!$C$1:$CD$9,4,FALSE)","v":{"$error":"#VALUE!"}},{"$f":"T129-HLOOKUP(X129,Feuil2!$C$1:$CD$9,5,FALSE)","v":{"$error":"#VALUE!"}},{"$f":"T129-HLOOKUP(X129,Feuil2!$C$1:$CD$9,6,FALSE)","v":{"$error":"#VALUE!"}},{"$f":"T129-HLOOKUP(X129,Feuil2!$C$1:$CD$9,7,FALSE)","v":{"$error":"#VALUE!"}},{"$f":"T129-HLOOKUP(X129,Feuil2!$C$1:$CD$9,8,FALSE)","v":{"$error":"#VALUE!"}},{"$f":"T129-HLOOKUP(X129,Feuil2!$C$1:$CD$9,9,FALSE)","v":{"$error":"#VALUE!"}},null,null,null,null,null,null,null,{"$error":"#VALUE!"},114,null,{"$f":"IF(AP129,VLOOKUP(AP129,HOM!$AR$551:$AS$606,2))","v":3.5710000000000002}]
["H",null,null,null,null,false,null,null,null,null,null,null,null,null,"",null,null,null,"","","","","",{"$f":"IF(AND(J130>=40,J130<45),VLOOKUP(K130,Feuil2!$F$10:$P$28,9),IF(AND(J130>=45,J130<50),VLOOKUP(K130,Feuil2!$F$10:$P$28,8),IF(AND(J130>=50,J130<55),VLOOKUP(K130,Feuil2!$F$10:$P$28,7),IF(AND(J130>=55,J130<60),VLOOKUP(K130,Feuil2!$F$10:$P$28,6),IF(AND(J130>=60,J130<65),VLOOKUP(K130,Feuil2!$F$10:$P$28,5),IF(AND(J130>=65,J130<70),VLOOKUP(K130,Feuil2!$F$10:$P$28,4),IF(AND(J130>=70,J130<75),VLOOKUP(K130,Feuil2!$F$10:$P$28,3),IF(AND(J130>=75,J130<80),VLOOKUP(K130,Feuil2!$F$10:$P$28,2),VLOOKUP(K130,Feuil2!$F$10:$P$28,2)))))))))","v":{"$error":"#N/A"}},null,{"$f":"T130-HLOOKUP(X130,Feuil2!$C$1:$CD$9,2,FALSE)","v":{"$error":"#VALUE!"}},{"$f":"T130-HLOOKUP(X130,Feuil2!$C$1:$CD$9,3,FALSE)","v":{"$error":"#VALUE!"}},{"$f":"T130-HLOOKUP(X130,Feuil2!$C$1:$CD$9,4,FALSE)","v":{"$error":"#VALUE!"}},{"$f":"T130-HLOOKUP(X130,Feuil2!$C$1:$CD$9,5,FALSE)","v":{"$error":"#VALUE!"}},{"$f":"T130-HLOOKUP(X130,Feuil2!$C$1:$CD$9,6,FALSE)","v":{"$error":"#VALUE!"}},{"$f":"T130-HLOOKUP(X130,Feuil2!$C$1:$CD$9,7,FALSE)","v":{"$error":"#VALUE!"}},{"$f":"T130-HLOOKUP(X130,Feuil2!$C$1:$CD$9,8,FALSE)","v":{"$error":"#VALUE!"}},{"$f":"T130-HLOOKUP(X130,Feuil2!$C$1:$CD$9,9,FALSE)","v":{"$error":"#VALUE!"}},null,null,null,null,null,null,null,{"$error":"#VALUE!"},114,null,{"$f":"IF(AP130,VLOOKUP(AP130,HOM!$AR$551:$AS$606,2))","v":3.5710000000000002}]
["H",null,null,null,null,false,null,null,null,null,null,null,null,null,"",null,null,null,"","","","","",{"$f":"IF(AND(J131>=40,J131<45),VLOOKUP(K131,Feuil2!$F$10:$P$28,9),IF(AND(J131>=45,J131<50),VLOOKUP(K131,Feuil2!$F$10:$P$28,8),IF(AND(J131>=50,J131<55),VLOOKUP(K131,Feuil2!$F$10:$P$28,7),IF(AND(J131>=55,J131<60),VLOOKUP(K131,Feuil2!$F$10:$P$28,6),IF(AND(J131>=60,J131<65),VLOOKUP(K131,Feuil2!$F$10:$P$28,5),IF(AND(J131>=65,J131<70),VLOOKUP(K131,Feuil2!$F$10:$P$28,4),IF(AND(J131>=70,J131<75),VLOOKUP(K131,Feuil2!$F$10:$P$28,3),IF(AND(J131>=75,J131<80),VLOOKUP(K131,Feuil2!$F$10:$P$28,2),VLOOKUP(K131,Feuil2!$F$10:$P$28,2)))))))))","v":{"$error":"#N/A"}},null,{"$f":"T131-HLOOKUP(X131,Feuil2!$C$1:$CD$9,2,FALSE)","v":{"$error":"#VALUE!"}},{"$f":"T131-HLOOKUP(X131,Feuil2!$C$1:$CD$9,3,FALSE)","v":{"$error":"#VALUE!"}},{"$f":"T131-HLOOKUP(X131,Feuil2!$C$1:$CD$9,4,FALSE)","v":{"$error":"#VALUE!"}},{"$f":"T131-HLOOKUP(X131,Feuil2!$C$1:$CD$9,5,FALSE)","v":{"$error":"#VALUE!"}},{"$f":"T131-HLOOKUP(X131,Feuil2!$C$1:$CD$9,6,FALSE)","v":{"$error":"#VALUE!"}},{"$f":"T131-HLOOKUP(X131,Feuil2!$C$1:$CD$9,7,FALSE)","v":{"$error":"#VALUE!"}},{"$f":"T131-HLOOKUP(X131,Feuil2!$C$1:$CD$9,8,FALSE)","v":{"$error":"#VALUE!"}},{"$f":"T131-HLOOKUP(X131,Feuil2!$C$1:$CD$9,9,FALSE)","v":{"$error":"#VALUE!"}},null,null,null,null,null,null,null,{"$error":"#VALUE!"},114,null,{"$f":"IF(AP131,VLOOKUP(AP131,HOM!$AR$551:$AS$606,2))","v":3.5710000000000002}]
["H",null,null,null,null,false,null,null,null,null,null,null,null,null,"",null,null,null,"","","","","",{"$f":"IF(AND(J132>=40,J132<45),VLOOKUP(K132,Feuil2!$F$10:$P$28,9),IF(AND(J132>=45,J132<50),VLOOKUP(K132,Feuil2!$F$10:$P$28,8),IF(AND(J132>=50,J132<55),VLOOKUP(K132,Feuil2!$F$10:$P$28,7),IF(AND(J132>=55,J132<60),VLOOKUP(K132,Feuil2!$F$10:$P$28,6),IF(AND(J132>=60,J132<65),VLOOKUP(K132,Feuil2!$F$10:$P$28,5),IF(AND(J132>=65,J132<70),VLOOKUP(K132,Feuil2!$F$10:$P$28,4),IF(AND(J132>=70,J132<75),VLOOKUP(K132,Feuil2!$F$10:$P$28,3),IF(AND(J132>=75,J132<80),VLOOKUP(K132,Feuil2!$F$10:$P$28,2),VLOOKUP(K132,Feuil2!$F$10:$P$28,2)))))))))","v":{"$error":"#N/A"}},null,{"$f":"T132-HLOOKUP(X132,Feuil2!$C$1:$CD$9,2,FALSE)","v":{"$error":"#VALUE!"}},{"$f":"T132-HLOOKUP(X132,Feuil2!$C$1:$CD$9,3,FALSE)","v":{"$error":"#VALUE!"}},{"$f":"T132-HLOOKUP(X132,Feuil2!$C$1:$CD$9,4,FALSE)","v":{"$error":"#VALUE!"}},{"$f":"T132-HLOOKUP(X132,Feuil2!$C$1:$CD$9,5,FALSE)","v":{"$error":"#VALUE!"}},{"$f":"T132-HLOOKUP(X132,Feuil2!$C$1:$CD$9,6,FALSE)","v":{"$error":"#VALUE!"}},{"$f":"T132-HLOOKUP(X132,Feuil2!$C$1:$CD$9,7,FALSE)","v":{"$error":"#VALUE!"}},{"$f":"T132-HLOOKUP(X132,Feuil2!$C$1:$CD$9,8,FALSE)","v":{"$error":"#VALUE!"}},{"$f":"T132-HLOOKUP(X132,Feuil2!$C$1:$CD$9,9,FALSE)","v":{"$error":"#VALUE!"}},null,null,null,null,null,null,null,{"$error":"#VALUE!"},114,null,{"$f":"IF(AP132,VLOOKUP(AP132,HOM!$AR$551:$AS$606,2))","v":3.5710000000000002}]
["H",null,null,null,null,{"$f":"IF(AP133<95,IF(AP133<=90,VLOOKUP(AP133,$AP$550:$AQ$605,2)))","v":false},null,null,null,null,null,null,null,null,"",null,null,null,"","","","","",{"$f":"IF(AND(J133>=40,J133<45),VLOOKUP(K133,Feuil2!$F$10:$P$28,9),IF(AND(J133>=45,J133<50),VLOOKUP(K133,Feuil2!$F$10:$P$28,8),IF(AND(J133>=50,J133<55),VLOOKUP(K133,Feuil2!$F$10:$P$28,7),IF(AND(J133>=55,J133<60),VLOOKUP(K133,Feuil2!$F$10:$P$28,6),IF(AND(J133>=60,J133<65),VLOOKUP(K133,Feuil2!$F$10:$P$28,5),IF(AND(J133>=65,J133<70),VLOOKUP(K133,Feuil2!$F$10:$P$28,4),IF(AND(J133>=70,J133<75),VLOOKUP(K133,Feuil2!$F$10:$P$28,3),IF(AND(J133>=75,J133<80),VLOOKUP(K133,Feuil2!$F$10:$P$28,2),VLOOKUP(K133,Feuil2!$F$10:$P$28,2)))))))))","v":{"$error":"#N/A"}},null,{"$f":"T133-HLOOKUP(X133,Feuil2!$C$1:$CD$9,2,FALSE)","v":{"$error":"#VALUE!"}},{"$f":"T133-HLOOKUP(X133,Feuil2!$C$1:$CD$9,3,FALSE)","v":{"$error":"#VALUE!"}},{"$f":"T133-HLOOKUP(X133,Feuil2!$C$1:$CD$9,4,FALSE)","v":{"$error":"#VALUE!"}},{"$f":"T133-HLOOKUP(X133,Feuil2!$C$1:$CD$9,5,FALSE)","v":{"$error":"#VALUE!"}},{"$f":"T133-HLOOKUP(X133,Feuil2!$C$1:$CD$9,6,FALSE)","v":{"$error":"#VALUE!"}},{"$f":"T133-HLOOKUP(X133,Feuil2!$C$1:$CD$9,7,FALSE)","v":{"$error":"#VALUE!"}},{"$f":"T133-HLOOKUP(X133,Feuil2!$C$1:$CD$9,8,FALSE)","v":{"$error":"#VALUE!"}},{"$f":"T133-HLOOKUP(X133,Feuil2!$C$1:$CD$9,9,FALSE)","v":{"$error":"#VALUE!"}},null,null,null,null,null,null,null,{"$error":"#VALUE!"},114,null,{"$f":"IF(AP133,VLOOKUP(AP133,HOM!$AR$551:$AS$606,2))","v":3.5710000000000002}]
["H",null,null,null,null,false,null,null,null,null,null,null,null,null,"",null,null,null,"","","","","",{"$f":"IF(AND(J134>=40,J134<45),VLOOKUP(K134,Feuil2!$F$10:$P$28,9),IF(AND(J134>=45,J134<50),VLOOKUP(K134,Feuil2!$F$10:$P$28,8),IF(AND(J134>=50,J134<55),VLOOKUP(K134,Feuil2!$F$10:$P$28,7),IF(AND(J134>=55,J134<60),VLOOKUP(K134,Feuil2!$F$10:$P$28,6),IF(AND(J134>=60,J134<65),VLOOKUP(K134,Feuil2!$F$10:$P$28,5),IF(AND(J134>=65,J134<70),VLOOKUP(K134,Feuil2!$F$10:$P$28,4),IF(AND(J134>=70,J134<75),VLOOKUP(K134,Feuil2!$F$10:$P$28,3),IF(AND(J134>=75,J134<80),VLOOKUP(K134,Feuil2!$F$10:$P$28,2),VLOOKUP(K134,Feuil2!$F$10:$P$28,2)))))))))","v":{"$error":"#N/A"}},null,{"$f":"T134-HLOOKUP(X134,Feuil2!$C$1:$CD$9,2,FALSE)","v":{"$error":"#VALUE!"}},{"$f":"T134-HLOOKUP(X134,Feuil2!$C$1:$CD$9,3,FALSE)","v":{"$error":"#VALUE!"}},{"$f":"T134-HLOOKUP(X134,Feuil2!$C$1:$CD$9,4,FALSE)","v":{"$error":"#VALUE!"}},{"$f":"T134-HLOOKUP(X134,Feuil2!$C$1:$CD$9,5,FALSE)","v":{"$error":"#VALUE!"}},{"$f":"T134-HLOOKUP(X134,Feuil2!$C$1:$CD$9,6,FALSE)","v":{"$error":"#VALUE!"}},{"$f":"T134-HLOOKUP(X134,Feuil2!$C$1:$CD$9,7,FALSE)","v":{"$error":"#VALUE!"}},{"$f":"T134-HLOOKUP(X134,Feuil2!$C$1:$CD$9,8,FALSE)","v":{"$error":"#VALUE!"}},{"$f":"T134-HLOOKUP(X134,Feuil2!$C$1:$CD$9,9,FALSE)","v":{"$error":"#VALUE!"}},null,null,null,null,null,null,null,{"$error":"#VALUE!"},114,null,{"$f":"IF(AP134,VLOOKUP(AP134,HOM!$AR$551:$AS$606,2))","v":3.5710000000000002}]
["H",null,null,null,null,false,null,null,null,null,null,null,null,null,"",null,null,null,"","","","","",{"$f":"IF(AND(J135>=40,J135<45),VLOOKUP(K135,Feuil2!$F$10:$P$28,9),IF(AND(J135>=45,J135<50),VLOOKUP(K135,Feuil2!$F$10:$P$28,8),IF(AND(J135>=50,J135<55),VLOOKUP(K135,Feuil2!$F$10:$P$28,7),IF(AND(J135>=55,J135<60),VLOOKUP(K135,Feuil2!$F$10:$P$28,6),IF(AND(J135>=60,J135<65),VLOOKUP(K135,Feuil2!$F$10:$P$28,5),IF(AND(J135>=65,J135<70),VLOOKUP(K135,Feuil2!$F$10:$P$28,4),IF(AND(J135>=70,J135<75),VLOOKUP(K135,Feuil2!$F$10:$P$28,3),IF(AND(J135>=75,J135<80),VLOOKUP(K135,Feuil2!$F$10:$P$28,2),VLOOKUP(K135,Feuil2!$F$10:$P$28,2)))))))))","v":{"$error":"#N/A"}},null,{"$f":"T135-HLOOKUP(X135,Feuil2!$C$1:$CD$9,2,FALSE)","v":{"$error":"#VALUE!"}},{"$f":"T135-HLOOKUP(X135,Feuil2!$C$1:$CD$9,3,FALSE)","v":{"$error":"#VALUE!"}},{"$f":"T135-HLOOKUP(X135,Feuil2!$C$1:$CD$9,4,FALSE)","v":{"$error":"#VALUE!"}},{"$f":"T135-HLOOKUP(X135,Feuil2!$C$1:$CD$9,5,FALSE)","v":{"$error":"#VALUE!"}},{"$f":"T135-HLOOKUP(X135,Feuil2!$C$1:$CD$9,6,FALSE)","v":{"$error":"#VALUE!"}},{"$f":"T135-HLOOKUP(X135,Feuil2!$C$1:$CD$9,7,FALSE)","v":{"$error":"#VALUE!"}},{"$f":"T135-HLOOKUP(X135,Feuil2!$C$1:$CD$9,8,FALSE)","v":{"$error":"#VALUE!"}},{"$f":"T135-HLOOKUP(X135,Feuil2!$C$1:$CD$9,9,FALSE)","v":{"$error":"#VALUE!"}},null,null,null,null,null,null,null,{"$error":"#VALUE!"},114,null,{"$f":"IF(AP135,VLOOKUP(AP135,HOM!$AR$551:$AS$606,2))","v":3.5710000000000002}]
["H",null,null,null,null,false,null,null,null,null,null,null,null,null,"",null,null,null,"","","","","",{"$f":"IF(AND(J136>=40,J136<45),VLOOKUP(K136,Feuil2!$F$10:$P$28,9),IF(AND(J136>=45,J136<50),VLOOKUP(K136,Feuil2!$F$10:$P$28,8),IF(AND(J136>=50,J136<55),VLOOKUP(K136,Feuil2!$F$10:$P$28,7),IF(AND(J136>=55,J136<60),VLOOKUP(K136,Feuil2!$F$10:$P$28,6),IF(AND(J136>=60,J136<65),VLOOKUP(K136,Feuil2!$F$10:$P$28,5),IF(AND(J136>=65,J136<70),VLOOKUP(K136,Feuil2!$F$10:$P$28,4),IF(AND(J136>=70,J136<75),VLOOKUP(K136,Feuil2!$F$10:$P$28,3),IF(AND(J136>=75,J136<80),VLOOKUP(K136,Feuil2!$F$10:$P$28,2),VLOOKUP(K136,Feuil2!$F$10:$P$28,2)))))))))","v":{"$error":"#N/A"}},null,{"$f":"T136-HLOOKUP(X136,Feuil2!$C$1:$CD$9,2,FALSE)","v":{"$error":"#VALUE!"}},{"$f":"T136-HLOOKUP(X136,Feuil2!$C$1:$CD$9,3,FALSE)","v":{"$error":"#VALUE!"}},{"$f":"T136-HLOOKUP(X136,Feuil2!$C$1:$CD$9,4,FALSE)","v":{"$error":"#VALUE!"}},{"$f":"T136-HLOOKUP(X136,Feuil2!$C$1:$CD$9,5,FALSE)","v":{"$error":"#VALUE!"}},{"$f":"T136-HLOOKUP(X136,Feuil2!$C$1:$CD$9,6,FALSE)","v":{"$error":"#VALUE!"}},{"$f":"T136-HLOOKUP(X136,Feuil2!$C$1:$CD$9,7,FALSE)","v":{"$error":"#VALUE!"}},{"$f":"T136-HLOOKUP(X136,Feuil2!$C$1:$CD$9,8,FALSE)","v":{"$error":"#VALUE!"}},{"$f":"T136-HLOOKUP(X136,Feuil2!$C$1:$CD$9,9,FALSE)","v":{"$error":"#VALUE!"}},null,null,null,null,null,null,null,{"$error":"#VALUE!"},114,null,{"$f":"IF(AP136,VLOOKUP(AP136,HOM!$AR$551:$AS$606,2))","v":3.5710000000000002}]
["H",null,null,null,null,false,null,null,null,null,null,null,null,null,"",null,null,null,"","","","","",{"$f":"IF(AND(J137>=40,J137<45),VLOOKUP(K137,Feuil2!$F$10:$P$28,9),IF(AND(J137>=45,J137<50),VLOOKUP(K137,Feuil2!$F$10:$P$28,8),IF(AND(J137>=50,J137<55),VLOOKUP(K137,Feuil2!$F$10:$P$28,7),IF(AND(J137>=55,J137<60),VLOOKUP(K137,Feuil2!$F$10:$P$28,6),IF(AND(J137>=60,J137<65),VLOOKUP(K137,Feuil2!$F$10:$P$28,5),IF(AND(J137>=65,J137<70),VLOOKUP(K137,Feuil2!$F$10:$P$28,4),IF(AND(J137>=70,J137<75),VLOOKUP(K137,Feuil2!$F$10:$P$28,3),IF(AND(J137>=75,J137<80),VLOOKUP(K137,Feuil2!$F$10:$P$28,2),VLOOKUP(K137,Feuil2!$F$10:$P$28,2)))))))))","v":{"$error":"#N/A"}},null,{"$f":"T137-HLOOKUP(X137,Feuil2!$C$1:$CD$9,2,FALSE)","v":{"$error":"#VALUE!"}},{"$f":"T137-HLOOKUP(X137,Feuil2!$C$1:$CD$9,3,FALSE)","v":{"$error":"#VALUE!"}},{"$f":"T137-HLOOKUP(X137,Feuil2!$C$1:$CD$9,4,FALSE)","v":{"$error":"#VALUE!"}},{"$f":"T137-HLOOKUP(X137,Feuil2!$C$1:$CD$9,5,FALSE)","v":{"$error":"#VALUE!"}},{"$f":"T137-HLOOKUP(X137,Feuil2!$C$1:$CD$9,6,FALSE)","v":{"$error":"#VALUE!"}},{"$f":"T137-HLOOKUP(X137,Feuil2!$C$1:$CD$9,7,FALSE)","v":{"$error":"#VALUE!"}},{"$f":"T137-HLOOKUP(X137,Feuil2!$C$1:$CD$9,8,FALSE)","v":{"$error":"#VALUE!"}},{"$f":"T137-HLOOKUP(X137,Feuil2!$C$1:$CD$9,9,FALSE)","v":{"$error":"#VALUE!"}},null,null,null,null,null,null,null,{"$error":"#VALUE!"},114,null,{"$f":"IF(AP137,VLOOKUP(AP137,HOM!$AR$551:$AS$606,2))","v":3.5710000000000002}]
["H",null,null,null,null,false,null,null,null,null,null,null,null,null,"",null,null,null,"","","","","",{"$f":"IF(AND(J138>=40,J138<45),VLOOKUP(K138,Feuil2!$F$10:$P$28,9),IF(AND(J138>=45,J138<50),VLOOKUP(K138,Feuil2!$F$10:$P$28,8),IF(AND(J138>=50,J138<55),VLOOKUP(K138,Feuil2!$F$10:$P$28,7),IF(AND(J138>=55,J138<60),VLOOKUP(K138,Feuil2!$F$10:$P$28,6),IF(AND(J138>=60,J138<65),VLOOKUP(K138,Feuil2!$F$10:$P$28,5),IF(AND(J138>=65,J138<70),VLOOKUP(K138,Feuil2!$F$10:$P$28,4),IF(AND(J138>=70,J138<75),VLOOKUP(K138,Feuil2!$F$10:$P$28,3),IF(AND(J138>=75,J138<80),VLOOKUP(K138,Feuil2!$F$10:$P$28,2),VLOOKUP(K138,Feuil2!$F$10:$P$28,2)))))))))","v":{"$error":"#N/A"}},null,{"$f":"T138-HLOOKUP(X138,Feuil2!$C$1:$CD$9,2,FALSE)","v":{"$error":"#VALUE!"}},{"$f":"T138-HLOOKUP(X138,Feuil2!$C$1:$CD$9,3,FALSE)","v":{"$error":"#VALUE!"}},{"$f":"T138-HLOOKUP(X138,Feuil2!$C$1:$CD$9,4,FALSE)","v":{"$error":"#VALUE!"}},{"$f":"T138-HLOOKUP(X138,Feuil2!$C$1:$CD$9,5,FALSE)","v":{"$error":"#VALUE!"}},{"$f":"T138-HLOOKUP(X138,Feuil2!$C$1:$CD$9,6,FALSE)","v":{"$error":"#VALUE!"}},{"$f":"T138-HLOOKUP(X138,Feuil2!$C$1:$CD$9,7,FALSE)","v":{"$error":"#VALUE!"}},{"$f":"T138-HLOOKUP(X138,Feuil2!$C$1:$CD$9,8,FALSE)","v":{"$error":"#VALUE!"}},{"$f":"T138-HLOOKUP(X138,Feuil2!$C$1:$CD$9,9,FALSE)","v":{"$error":"#VALUE!"}},null,null,null,null,null,null,null,{"$error":"#VALUE!"},114,null,{"$f":"IF(AP138,VLOOKUP(AP138,HOM!$AR$551:$AS$606,2))","v":3.5710000000000002}]
["H",null,null,null,null,false,null,null,null,null,null,null,null,null,{"$f":"IF(K139=\"\",\"\",IF(MAXA(L139:N139)<=0,0,MAXA(L139:N139)))","v":""},null,null,null,"","","","","",{"$f":"IF(AND(J139>=40,J139<45),VLOOKUP(K139,Feuil2!$F$10:$P$28,9),IF(AND(J139>=45,J139<50),VLOOKUP(K139,Feuil2!$F$10:$P$28,8),IF(AND(J139>=50,J139<55),VLOOKUP(K139,Feuil2!$F$10:$P$28,7),IF(AND(J139>=55,J139<60),VLOOKUP(K139,Feuil2!$F$10:$P$28,6),IF(AND(J139>=60,J139<65),VLOOKUP(K139,Feuil2!$F$10:$P$28,5),IF(AND(J139>=65,J139<70),VLOOKUP(K139,Feuil2!$F$10:$P$28,4),IF(AND(J139>=70,J139<75),VLOOKUP(K139,Feuil2!$F$10:$P$28,3),IF(AND(J139>=75,J139<80),VLOOKUP(K139,Feuil2!$F$10:$P$28,2),VLOOKUP(K139,Feuil2!$F$10:$P$28,2)))))))))","v":{"$error":"#N/A"}},null,{"$f":"T139-HLOOKUP(X139,Feuil2!$C$1:$CD$9,2,FALSE)","v":{"$error":"#VALUE!"}},{"$f":"T139-HLOOKUP(X139,Feuil2!$C$1:$CD$9,3,FALSE)","v":{"$error":"#VALUE!"}},{"$f":"T139-HLOOKUP(X139,Feuil2!$C$1:$CD$9,4,FALSE)","v":{"$error":"#VALUE!"}},{"$f":"T139-HLOOKUP(X139,Feuil2!$C$1:$CD$9,5,FALSE)","v":{"$error":"#VALUE!"}},{"$f":"T139-HLOOKUP(X139,Feuil2!$C$1:$CD$9,6,FALSE)","v":{"$error":"#VALUE!"}},{"$f":"T139-HLOOKUP(X139,Feuil2!$C$1:$CD$9,7,FALSE)","v":{"$error":"#VALUE!"}},{"$f":"T139-HLOOKUP(X139,Feuil2!$C$1:$CD$9,8,FALSE)","v":{"$error":"#VALUE!"}},{"$f":"T139-HLOOKUP(X139,Feuil2!$C$1:$CD$9,9,FALSE)","v":{"$error":"#VALUE!"}},null,null,null,null,null,null,null,{"$error":"#VALUE!"},114,null,{"$f":"IF(AP139,VLOOKUP(AP139,HOM!$AR$551:$AS$606,2))","v":3.5710000000000002}]
["H",null,null,null,null,false,null,null,null,null,null,null,null,null,{"$f":"IF(K140=\"\",\"\",IF(MAXA(L140:N140)<=0,0,MAXA(L140:N140)))","v":""},null,null,null,{"$f":"IF(K140=\"\",\"\",IF(MAXA(P140:R140)<=0,0,MAXA(P140:R140)))","v":""},{"$f":"IF(K140=\"\",\"\",IF(OR(O140=0,S140=0),0,O140+S140))","v":""},"","","",{"$f":"IF(AND(J140>=40,J140<45),VLOOKUP(K140,Feuil2!$F$10:$P$28,9),IF(AND(J140>=45,J140<50),VLOOKUP(K140,Feuil2!$F$10:$P$28,8),IF(AND(J140>=50,J140<55),VLOOKUP(K140,Feuil2!$F$10:$P$28,7),IF(AND(J140>=55,J140<60),VLOOKUP(K140,Feuil2!$F$10:$P$28,6),IF(AND(J140>=60,J140<65),VLOOKUP(K140,Feuil2!$F$10:$P$28,5),IF(AND(J140>=65,J140<70),VLOOKUP(K140,Feuil2!$F$10:$P$28,4),IF(AND(J140>=70,J140<75),VLOOKUP(K140,Feuil2!$F$10:$P$28,3),IF(AND(J140>=75,J140<80),VLOOKUP(K140,Feuil2!$F$10:$P$28,2),VLOOKUP(K140,Feuil2!$F$10:$P$28,2)))))))))","v":{"$error":"#N/A"}},null,{"$f":"T140-HLOOKUP(X140,Feuil2!$C$1:$CD$9,2,FALSE)","v":{"$error":"#VALUE!"}},{"$f":"T140-HLOOKUP(X140,Feuil2!$C$1:$CD$9,3,FALSE)","v":{"$error":"#VALUE!"}},{"$f":"T140-HLOOKUP(X140,Feuil2!$C$1:$CD$9,4,FALSE)","v":{"$error":"#VALUE!"}},{"$f":"T140-HLOOKUP(X140,Feuil2!$C$1:$CD$9,5,FALSE)","v":{"$error":"#VALUE!"}},{"$f":"T140-HLOOKUP(X140,Feuil2!$C$1:$CD$9,6,FALSE)","v":{"$error":"#VALUE!"}},{"$f":"T140-HLOOKUP(X140,Feuil2!$C$1:$CD$9,7,FALSE)","v":{"$error":"#VALUE!"}},{"$f":"T140-HLOOKUP(X140,Feuil2!$C$1:$CD$9,8,FALSE)","v":{"$error":"#VALUE!"}},{"$f":"T140-HLOOKUP(X140,Feuil2!$C$1:$CD$9,9,FALSE)","v":{"$error":"#VALUE!"}},null,null,null,null,null,null,null,{"$error":"#VALUE!"},114,null,{"$f":"IF(AP140,VLOOKUP(AP140,HOM!$AR$551:$AS$606,2))","v":3.5710000000000002}]
["H",null,null,null,null,false,null,null,null,null,null,null,null,null,"",null,null,null,"","","","","",{"$f":"IF(AND(J141>=40,J141<45),VLOOKUP(K141,Feuil2!$F$10:$P$28,9),IF(AND(J141>=45,J141<50),VLOOKUP(K141,Feuil2!$F$10:$P$28,8),IF(AND(J141>=50,J141<55),VLOOKUP(K141,Feuil2!$F$10:$P$28,7),IF(AND(J141>=55,J141<60),VLOOKUP(K141,Feuil2!$F$10:$P$28,6),IF(AND(J141>=60,J141<65),VLOOKUP(K141,Feuil2!$F$10:$P$28,5),IF(AND(J141>=65,J141<70),VLOOKUP(K141,Feuil2!$F$10:$P$28,4),IF(AND(J141>=70,J141<75),VLOOKUP(K141,Feuil2!$F$10:$P$28,3),IF(AND(J141>=75,J141<80),VLOOKUP(K141,Feuil2!$F$10:$P$28,2),VLOOKUP(K141,Feuil2!$F$10:$P$28,2)))))))))","v":{"$error":"#N/A"}},null,{"$f":"T141-HLOOKUP(X141,Feuil2!$C$1:$CD$9,2,FALSE)","v":{"$error":"#VALUE!"}},{"$f":"T141-HLOOKUP(X141,Feuil2!$C$1:$CD$9,3,FALSE)","v":{"$error":"#VALUE!"}},{"$f":"T141-HLOOKUP(X141,Feuil2!$C$1:$CD$9,4,FALSE)","v":{"$error":"#VALUE!"}},{"$f":"T141-HLOOKUP(X141,Feuil2!$C$1:$CD$9,5,FALSE)","v":{"$error":"#VALUE!"}},{"$f":"T141-HLOOKUP(X141,Feuil2!$C$1:$CD$9,6,FALSE)","v":{"$error":"#VALUE!"}},{"$f":"T141-HLOOKUP(X141,Feuil2!$C$1:$CD$9,7,FALSE)","v":{"$error":"#VALUE!"}},{"$f":"T141-HLOOKUP(X141,Feuil2!$C$1:$CD$9,8,FALSE)","v":{"$error":"#VALUE!"}},{"$f":"T141-HLOOKUP(X141,Feuil2!$C$1:$CD$9,9,FALSE)","v":{"$error":"#VALUE!"}},null,null,null,null,null,null,null,{"$error":"#VALUE!"},114,null,{"$f":"IF(AP141,VLOOKUP(AP141,HOM!$AR$551:$AS$606,2))","v":3.5710000000000002}]
["H",null,null,null,null,false,null,null,null,null,null,null,null,null,"",null,null,null,"","","","","",{"$f":"IF(AND(J142>=40,J142<45),VLOOKUP(K142,Feuil2!$F$10:$P$28,9),IF(AND(J142>=45,J142<50),VLOOKUP(K142,Feuil2!$F$10:$P$28,8),IF(AND(J142>=50,J142<55),VLOOKUP(K142,Feuil2!$F$10:$P$28,7),IF(AND(J142>=55,J142<60),VLOOKUP(K142,Feuil2!$F$10:$P$28,6),IF(AND(J142>=60,J142<65),VLOOKUP(K142,Feuil2!$F$10:$P$28,5),IF(AND(J142>=65,J142<70),VLOOKUP(K142,Feuil2!$F$10:$P$28,4),IF(AND(J142>=70,J142<75),VLOOKUP(K142,Feuil2!$F$10:$P$28,3),IF(AND(J142>=75,J142<80),VLOOKUP(K142,Feuil2!$F$10:$P$28,2),VLOOKUP(K142,Feuil2!$F$10:$P$28,2)))))))))","v":{"$error":"#N/A"}},null,{"$f":"T142-HLOOKUP(X142,Feuil2!$C$1:$CD$9,2,FALSE)","v":{"$error":"#VALUE!"}},{"$f":"T142-HLOOKUP(X142,Feuil2!$C$1:$CD$9,3,FALSE)","v":{"$error":"#VALUE!"}},{"$f":"T142-HLOOKUP(X142,Feuil2!$C$1:$CD$9,4,FALSE)","v":{"$error":"#VALUE!"}},{"$f":"T142-HLOOKUP(X142,Feuil2!$C$1:$CD$9,5,FALSE)","v":{"$error":"#VALUE!"}},{"$f":"T142-HLOOKUP(X142,Feuil2!$C$1:$CD$9,6,FALSE)","v":{"$error":"#VALUE!"}},{"$f":"T142-HLOOKUP(X142,Feuil2!$C$1:$CD$9,7,FALSE)","v":{"$error":"#VALUE!"}},{"$f":"T142-HLOOKUP(X142,Feuil2!$C$1:$CD$9,8,FALSE)","v":{"$error":"#VALUE!"}},{"$f":"T142-HLOOKUP(X142,Feuil2!$C$1:$CD$9,9,FALSE)","v":{"$error":"#VALUE!"}},null,null,null,null,null,null,null,{"$error":"#VALUE!"},114,null,{"$f":"IF(AP142,VLOOKUP(AP142,HOM!$AR$551:$AS$606,2))","v":3.5710000000000002}]
["H",null,null,null,null,false,null,null,null,null,null,null,null,null,"",null,null,null,"","","","","",{"$f":"IF(AND(J143>=40,J143<45),VLOOKUP(K143,Feuil2!$F$10:$P$28,9),IF(AND(J143>=45,J143<50),VLOOKUP(K143,Feuil2!$F$10:$P$28,8),IF(AND(J143>=50,J143<55),VLOOKUP(K143,Feuil2!$F$10:$P$28,7),IF(AND(J143>=55,J143<60),VLOOKUP(K143,Feuil2!$F$10:$P$28,6),IF(AND(J143>=60,J143<65),VLOOKUP(K143,Feuil2!$F$10:$P$28,5),IF(AND(J143>=65,J143<70),VLOOKUP(K143,Feuil2!$F$10:$P$28,4),IF(AND(J143>=70,J143<75),VLOOKUP(K143,Feuil2!$F$10:$P$28,3),IF(AND(J143>=75,J143<80),VLOOKUP(K143,Feuil2!$F$10:$P$28,2),VLOOKUP(K143,Feuil2!$F$10:$P$28,2)))))))))","v":{"$error":"#N/A"}},null,{"$f":"T143-HLOOKUP(X143,Feuil2!$C$1:$CD$9,2,FALSE)","v":{"$error":"#VALUE!"}},{"$f":"T143-HLOOKUP(X143,Feuil2!$C$1:$CD$9,3,FALSE)","v":{"$error":"#VALUE!"}},{"$f":"T143-HLOOKUP(X143,Feuil2!$C$1:$CD$9,4,FALSE)","v":{"$error":"#VALUE!"}},{"$f":"T143-HLOOKUP(X143,Feuil2!$C$1:$CD$9,5,FALSE)","v":{"$error":"#VALUE!"}},{"$f":"T143-HLOOKUP(X143,Feuil2!$C$1:$CD$9,6,FALSE)","v":{"$error":"#VALUE!"}},{"$f":"T143-HLOOKUP(X143,Feuil2!$C$1:$CD$9,7,FALSE)","v":{"$error":"#VALUE!"}},{"$f":"T143-HLOOKUP(X143,Feuil2!$C$1:$CD$9,8,FALSE)","v":{"$error":"#VALUE!"}},{"$f":"T143-HLOOKUP(X143,Feuil2!$C$1:$CD$9,9,FALSE)","v":{"$error":"#VALUE!"}},null,null,null,null,null,null,null,{"$error":"#VALUE!"},114,null,{"$f":"IF(AP143,VLOOKUP(AP143,HOM!$AR$551:$AS$606,2))","v":3.5710000000000002}]
["H",null,null,null,null,false,null,null,null,null,null,null,null,null,"",null,null,null,"","","","","",{"$f":"IF(AND(J144>=40,J144<45),VLOOKUP(K144,Feuil2!$F$10:$P$28,9),IF(AND(J144>=45,J144<50),VLOOKUP(K144,Feuil2!$F$10:$P$28,8),IF(AND(J144>=50,J144<55),VLOOKUP(K144,Feuil2!$F$10:$P$28,7),IF(AND(J144>=55,J144<60),VLOOKUP(K144,Feuil2!$F$10:$P$28,6),IF(AND(J144>=60,J144<65),VLOOKUP(K144,Feuil2!$F$10:$P$28,5),IF(AND(J144>=65,J144<70),VLOOKUP(K144,Feuil2!$F$10:$P$28,4),IF(AND(J144>=70,J144<75),VLOOKUP(K144,Feuil2!$F$10:$P$28,3),IF(AND(J144>=75,J144<80),VLOOKUP(K144,Feuil2!$F$10:$P$28,2),VLOOKUP(K144,Feuil2!$F$10:$P$28,2)))))))))","v":{"$error":"#N/A"}},null,{"$f":"T144-HLOOKUP(X144,Feuil2!$C$1:$CD$9,2,FALSE)","v":{"$error":"#VALUE!"}},{"$f":"T144-HLOOKUP(X144,Feuil2!$C$1:$CD$9,3,FALSE)","v":{"$error":"#VALUE!"}},{"$f":"T144-HLOOKUP(X144,Feuil2!$C$1:$CD$9,4,FALSE)","v":{"$error":"#VALUE!"}},{"$f":"T144-HLOOKUP(X144,Feuil2!$C$1:$CD$9,5,FALSE)","v":{"$error":"#VALUE!"}},{"$f":"T144-HLOOKUP(X144,Feuil2!$C$1:$CD$9,6,FALSE)","v":{"$error":"#VALUE!"}},{"$f":"T144-HLOOKUP(X144,Feuil2!$C$1:$CD$9,7,FALSE)","v":{"$error":"#VALUE!"}},{"$f":"T144-HLOOKUP(X144,Feuil2!$C$1:$CD$9,8,FALSE)","v":{"$error":"#VALUE!"}},{"$f":"T144-HLOOKUP(X144,Feuil2!$C$1:$CD$9,9,FALSE)","v":{"$error":"#VALUE!"}},null,null,null,null,null,null,null,{"$error":"#VALUE!"},114,null,{"$f":"IF(AP144,VLOOKUP(AP144,HOM!$AR$551:$AS$606,2))","v":3.5710000000000002}]
["H",null,null,null,null,false,null,null,null,null,null,null,null,null,"",null,null,null,"","","","","",{"$f":"IF(AND(J145>=40,J145<45),VLOOKUP(K145,Feuil2!$F$10:$P$28,9),IF(AND(J145>=45,J145<50),VLOOKUP(K145,Feuil2!$F$10:$P$28,8),IF(AND(J145>=50,J145<55),VLOOKUP(K145,Feuil2!$F$10:$P$28,7),IF(AND(J145>=55,J145<60),VLOOKUP(K145,Feuil2!$F$10:$P$28,6),IF(AND(J145>=60,J145<65),VLOOKUP(K145,Feuil2!$F$10:$P$28,5),IF(AND(J145>=65,J145<70),VLOOKUP(K145,Feuil2!$F$10:$P$28,4),IF(AND(J145>=70,J145<75),VLOOKUP(K145,Feuil2!$F$10:$P$28,3),IF(AND(J145>=75,J145<80),VLOOKUP(K145,Feuil2!$F$10:$P$28,2),VLOOKUP(K145,Feuil2!$F$10:$P$28,2)))))))))","v":{"$error":"#N/A"}},null,{"$f":"T145-HLOOKUP(X145,Feuil2!$C$1:$CD$9,2,FALSE)","v":{"$error":"#VALUE!"}},{"$f":"T145-HLOOKUP(X145,Feuil2!$C$1:$CD$9,3,FALSE)","v":{"$error":"#VALUE!"}},{"$f":"T145-HLOOKUP(X145,Feuil2!$C$1:$CD$9,4,FALSE)","v":{"$error":"#VALUE!"}},{"$f":"T145-HLOOKUP(X145,Feuil2!$C$1:$CD$9,5,FALSE)","v":{"$error":"#VALUE!"}},{"$f":"T145-HLOOKUP(X145,Feuil2!$C$1:$CD$9,6,FALSE)","v":{"$error":"#VALUE!"}},{"$f":"T145-HLOOKUP(X145,Feuil2!$C$1:$CD$9,7,FALSE)","v":{"$error":"#VALUE!"}},{"$f":"T145-HLOOKUP(X145,Feuil2!$C$1:$CD$9,8,FALSE)","v":{"$error":"#VALUE!"}},{"$f":"T145-HLOOKUP(X145,Feuil2!$C$1:$CD$9,9,FALSE)","v":{"$error":"#VALUE!"}},null,null,null,null,null,null,null,{"$error":"#VALUE!"},114,null,{"$f":"IF(AP145,VLOOKUP(AP145,HOM!$AR$551:$AS$606,2))","v":3.5710000000000002}]
["H",null,null,null,null,false,null,null,null,null,null,null,null,null,"",null,null,null,"","","","","",{"$f":"IF(AND(J146>=40,J146<45),VLOOKUP(K146,Feuil2!$F$10:$P$28,9),IF(AND(J146>=45,J146<50),VLOOKUP(K146,Feuil2!$F$10:$P$28,8),IF(AND(J146>=50,J146<55),VLOOKUP(K146,Feuil2!$F$10:$P$28,7),IF(AND(J146>=55,J146<60),VLOOKUP(K146,Feuil2!$F$10:$P$28,6),IF(AND(J146>=60,J146<65),VLOOKUP(K146,Feuil2!$F$10:$P$28,5),IF(AND(J146>=65,J146<70),VLOOKUP(K146,Feuil2!$F$10:$P$28,4),IF(AND(J146>=70,J146<75),VLOOKUP(K146,Feuil2!$F$10:$P$28,3),IF(AND(J146>=75,J146<80),VLOOKUP(K146,Feuil2!$F$10:$P$28,2),VLOOKUP(K146,Feuil2!$F$10:$P$28,2)))))))))","v":{"$error":"#N/A"}},null,{"$f":"T146-HLOOKUP(X146,Feuil2!$C$1:$CD$9,2,FALSE)","v":{"$error":"#VALUE!"}},{"$f":"T146-HLOOKUP(X146,Feuil2!$C$1:$CD$9,3,FALSE)","v":{"$error":"#VALUE!"}},{"$f":"T146-HLOOKUP(X146,Feuil2!$C$1:$CD$9,4,FALSE)","v":{"$error":"#VALUE!"}},{"$f":"T146-HLOOKUP(X146,Feuil2!$C$1:$CD$9,5,FALSE)","v":{"$error":"#VALUE!"}},{"$f":"T146-HLOOKUP(X146,Feuil2!$C$1:$CD$9,6,FALSE)","v":{"$error":"#VALUE!"}},{"$f":"T146-HLOOKUP(X146,Feuil2!$C$1:$CD$9,7,FALSE)","v":{"$error":"#VALUE!"}},{"$f":"T146-HLOOKUP(X146,Feuil2!$C$1:$CD$9,8,FALSE)","v":{"$error":"#VALUE!"}},{"$f":"T146-HLOOKUP(X146,Feuil2!$C$1:$CD$9,9,FALSE)","v":{"$error":"#VALUE!"}},null,null,null,null,null,null,null,{"$error":"#VALUE!"},114,null,{"$f":"IF(AP146,VLOOKUP(AP146,HOM!$AR$551:$AS$606,2))","v":3.5710000000000002}]
["H",null,null,null,null,false,null,null,null,null,null,null,null,null,"",null,null,null,"","","","","",{"$f":"IF(AND(J147>=40,J147<45),VLOOKUP(K147,Feuil2!$F$10:$P$28,9),IF(AND(J147>=45,J147<50),VLOOKUP(K147,Feuil2!$F$10:$P$28,8),IF(AND(J147>=50,J147<55),VLOOKUP(K147,Feuil2!$F$10:$P$28,7),IF(AND(J147>=55,J147<60),VLOOKUP(K147,Feuil2!$F$10:$P$28,6),IF(AND(J147>=60,J147<65),VLOOKUP(K147,Feuil2!$F$10:$P$28,5),IF(AND(J147>=65,J147<70),VLOOKUP(K147,Feuil2!$F$10:$P$28,4),IF(AND(J147>=70,J147<75),VLOOKUP(K147,Feuil2!$F$10:$P$28,3),IF(AND(J147>=75,J147<80),VLOOKUP(K147,Feuil2!$F$10:$P$28,2),VLOOKUP(K147,Feuil2!$F$10:$P$28,2)))))))))","v":{"$error":"#N/A"}},null,{"$f":"T147-HLOOKUP(X147,Feuil2!$C$1:$CD$9,2,FALSE)","v":{"$error":"#VALUE!"}},{"$f":"T147-HLOOKUP(X147,Feuil2!$C$1:$CD$9,3,FALSE)","v":{"$error":"#VALUE!"}},{"$f":"T147-HLOOKUP(X147,Feuil2!$C$1:$CD$9,4,FALSE)","v":{"$error":"#VALUE!"}},{"$f":"T147-HLOOKUP(X147,Feuil2!$C$1:$CD$9,5,FALSE)","v":{"$error":"#VALUE!"}},{"$f":"T147-HLOOKUP(X147,Feuil2!$C$1:$CD$9,6,FALSE)","v":{"$error":"#VALUE!"}},{"$f":"T147-HLOOKUP(X147,Feuil2!$C$1:$CD$9,7,FALSE)","v":{"$error":"#VALUE!"}},{"$f":"T147-HLOOKUP(X147,Feuil2!$C$1:$CD$9,8,FALSE)","v":{"$error":"#VALUE!"}},{"$f":"T147-HLOOKUP(X147,Feuil2!$C$1:$CD$9,9,FALSE)","v":{"$error":"#VALUE!"}},null,null,null,null,null,null,null,{"$error":"#VALUE!"},114,null,{"$f":"IF(AP147,VLOOKUP(AP147,HOM!$AR$551:$AS$606,2))","v":3.5710000000000002}]
["H",null,null,null,null,false,null,null,null,null,null,null,null,null,"",null,null,null,"","","","","",{"$f":"IF(AND(J148>=40,J148<45),VLOOKUP(K148,Feuil2!$F$10:$P$28,9),IF(AND(J148>=45,J148<50),VLOOKUP(K148,Feuil2!$F$10:$P$28,8),IF(AND(J148>=50,J148<55),VLOOKUP(K148,Feuil2!$F$10:$P$28,7),IF(AND(J148>=55,J148<60),VLOOKUP(K148,Feuil2!$F$10:$P$28,6),IF(AND(J148>=60,J148<65),VLOOKUP(K148,Feuil2!$F$10:$P$28,5),IF(AND(J148>=65,J148<70),VLOOKUP(K148,Feuil2!$F$10:$P$28,4),IF(AND(J148>=70,J148<75),VLOOKUP(K148,Feuil2!$F$10:$P$28,3),IF(AND(J148>=75,J148<80),VLOOKUP(K148,Feuil2!$F$10:$P$28,2),VLOOKUP(K148,Feuil2!$F$10:$P$28,2)))))))))","v":{"$error":"#N/A"}},null,{"$f":"T148-HLOOKUP(X148,Feuil2!$C$1:$CD$9,2,FALSE)","v":{"$error":"#VALUE!"}},{"$f":"T148-HLOOKUP(X148,Feuil2!$C$1:$CD$9,3,FALSE)","v":{"$error":"#VALUE!"}},{"$f":"T148-HLOOKUP(X148,Feuil2!$C$1:$CD$9,4,FALSE)","v":{"$error":"#VALUE!"}},{"$f":"T148-HLOOKUP(X148,Feuil2!$C$1:$CD$9,5,FALSE)","v":{"$error":"#VALUE!"}},{"$f":"T148-HLOOKUP(X148,Feuil2!$C$1:$CD$9,6,FALSE)","v":{"$error":"#VALUE!"}},{"$f":"T148-HLOOKUP(X148,Feuil2!$C$1:$CD$9,7,FALSE)","v":{"$error":"#VALUE!"}},{"$f":"T148-HLOOKUP(X148,Feuil2!$C$1:$CD$9,8,FALSE)","v":{"$error":"#VALUE!"}},{"$f":"T148-HLOOKUP(X148,Feuil2!$C$1:$CD$9,9,FALSE)","v":{"$error":"#VALUE!"}},null,null,null,null,null,null,null,{"$error":"#VALUE!"},114,null,{"$f":"IF(AP148,VLOOKUP(AP148,HOM!$AR$551:$AS$606,2))","v":3.5710000000000002}]
["H",null,null,null,null,false,null,null,null,null,null,null,null,null,"",null,null,null,"","","","","",{"$f":"IF(AND(J149>=40,J149<45),VLOOKUP(K149,Feuil2!$F$10:$P$28,9),IF(AND(J149>=45,J149<50),VLOOKUP(K149,Feuil2!$F$10:$P$28,8),IF(AND(J149>=50,J149<55),VLOOKUP(K149,Feuil2!$F$10:$P$28,7),IF(AND(J149>=55,J149<60),VLOOKUP(K149,Feuil2!$F$10:$P$28,6),IF(AND(J149>=60,J149<65),VLOOKUP(K149,Feuil2!$F$10:$P$28,5),IF(AND(J149>=65,J149<70),VLOOKUP(K149,Feuil2!$F$10:$P$28,4),IF(AND(J149>=70,J149<75),VLOOKUP(K149,Feuil2!$F$10:$P$28,3),IF(AND(J149>=75,J149<80),VLOOKUP(K149,Feuil2!$F$10:$P$28,2),VLOOKUP(K149,Feuil2!$F$10:$P$28,2)))))))))","v":{"$error":"#N/A"}},null,{"$f":"T149-HLOOKUP(X149,Feuil2!$C$1:$CD$9,2,FALSE)","v":{"$error":"#VALUE!"}},{"$f":"T149-HLOOKUP(X149,Feuil2!$C$1:$CD$9,3,FALSE)","v":{"$error":"#VALUE!"}},{"$f":"T149-HLOOKUP(X149,Feuil2!$C$1:$CD$9,4,FALSE)","v":{"$error":"#VALUE!"}},{"$f":"T149-HLOOKUP(X149,Feuil2!$C$1:$CD$9,5,FALSE)","v":{"$error":"#VALUE!"}},{"$f":"T149-HLOOKUP(X149,Feuil2!$C$1:$CD$9,6,FALSE)","v":{"$error":"#VALUE!"}},{"$f":"T149-HLOOKUP(X149,Feuil2!$C$1:$CD$9,7,FALSE)","v":{"$error":"#VALUE!"}},{"$f":"T149-HLOOKUP(X149,Feuil2!$C$1:$CD$9,8,FALSE)","v":{"$error":"#VALUE!"}},{"$f":"T149-HLOOKUP(X149,Feuil2!$C$1:$CD$9,9,FALSE)","v":{"$error":"#VALUE!"}},null,null,null,null,null,null,null,{"$error":"#VALUE!"},114,null,{"$f":"IF(AP149,VLOOKUP(AP149,HOM!$AR$551:$AS$606,2))","v":3.5710000000000002}]
["H",null,null,null,null,false,null,null,null,null,null,null,null,null,"",null,null,null,"","","","","",{"$f":"IF(AND(J150>=40,J150<45),VLOOKUP(K150,Feuil2!$F$10:$P$28,9),IF(AND(J150>=45,J150<50),VLOOKUP(K150,Feuil2!$F$10:$P$28,8),IF(AND(J150>=50,J150<55),VLOOKUP(K150,Feuil2!$F$10:$P$28,7),IF(AND(J150>=55,J150<60),VLOOKUP(K150,Feuil2!$F$10:$P$28,6),IF(AND(J150>=60,J150<65),VLOOKUP(K150,Feuil2!$F$10:$P$28,5),IF(AND(J150>=65,J150<70),VLOOKUP(K150,Feuil2!$F$10:$P$28,4),IF(AND(J150>=70,J150<75),VLOOKUP(K150,Feuil2!$F$10:$P$28,3),IF(AND(J150>=75,J150<80),VLOOKUP(K150,Feuil2!$F$10:$P$28,2),VLOOKUP(K150,Feuil2!$F$10:$P$28,2)))))))))","v":{"$error":"#N/A"}},null,{"$f":"T150-HLOOKUP(X150,Feuil2!$C$1:$CD$9,2,FALSE)","v":{"$error":"#VALUE!"}},{"$f":"T150-HLOOKUP(X150,Feuil2!$C$1:$CD$9,3,FALSE)","v":{"$error":"#VALUE!"}},{"$f":"T150-HLOOKUP(X150,Feuil2!$C$1:$CD$9,4,FALSE)","v":{"$error":"#VALUE!"}},{"$f":"T150-HLOOKUP(X150,Feuil2!$C$1:$CD$9,5,FALSE)","v":{"$error":"#VALUE!"}},{"$f":"T150-HLOOKUP(X150,Feuil2!$C$1:$CD$9,6,FALSE)","v":{"$error":"#VALUE!"}},{"$f":"T150-HLOOKUP(X150,Feuil2!$C$1:$CD$9,7,FALSE)","v":{"$error":"#VALUE!"}},{"$f":"T150-HLOOKUP(X150,Feuil2!$C$1:$CD$9,8,FALSE)","v":{"$error":"#VALUE!"}},{"$f":"T150-HLOOKUP(X150,Feuil2!$C$1:$CD$9,9,FALSE)","v":{"$error":"#VALUE!"}},null,null,null,null,null,null,null,{"$error":"#VALUE!"},114,null,{"$f":"IF(AP150,VLOOKUP(AP150,HOM!$AR$551:$AS$606,2))","v":3.5710000000000002}]
["H",null,null,null,null,false,null,null,null,null,null,null,null,null,"",null,null,null,"","","","","",{"$f":"IF(AND(J151>=40,J151<45),VLOOKUP(K151,Feuil2!$F$10:$P$28,9),IF(AND(J151>=45,J151<50),VLOOKUP(K151,Feuil2!$F$10:$P$28,8),IF(AND(J151>=50,J151<55),VLOOKUP(K151,Feuil2!$F$10:$P$28,7),IF(AND(J151>=55,J151<60),VLOOKUP(K151,Feuil2!$F$10:$P$28,6),IF(AND(J151>=60,J151<65),VLOOKUP(K151,Feuil2!$F$10:$P$28,5),IF(AND(J151>=65,J151<70),VLOOKUP(K151,Feuil2!$F$10:$P$28,4),IF(AND(J151>=70,J151<75),VLOOKUP(K151,Feuil2!$F$10:$P$28,3),IF(AND(J151>=75,J151<80),VLOOKUP(K151,Feuil2!$F$10:$P$28,2),VLOOKUP(K151,Feuil2!$F$10:$P$28,2)))))))))","v":{"$error":"#N/A"}},null,{"$f":"T151-HLOOKUP(X151,Feuil2!$C$1:$CD$9,2,FALSE)","v":{"$error":"#VALUE!"}},{"$f":"T151-HLOOKUP(X151,Feuil2!$C$1:$CD$9,3,FALSE)","v":{"$error":"#VALUE!"}},{"$f":"T151-HLOOKUP(X151,Feuil2!$C$1:$CD$9,4,FALSE)","v":{"$error":"#VALUE!"}},{"$f":"T151-HLOOKUP(X151,Feuil2!$C$1:$CD$9,5,FALSE)","v":{"$error":"#VALUE!"}},{"$f":"T151-HLOOKUP(X151,Feuil2!$C$1:$CD$9,6,FALSE)","v":{"$error":"#VALUE!"}},{"$f":"T151-HLOOKUP(X151,Feuil2!$C$1:$CD$9,7,FALSE)","v":{"$error":"#VALUE!"}},{"$f":"T151-HLOOKUP(X151,Feuil2!$C$1:$CD$9,8,FALSE)","v":{"$error":"#VALUE!"}},{"$f":"T151-HLOOKUP(X151,Feuil2!$C$1:$CD$9,9,FALSE)","v":{"$error":"#VALUE!"}},null,null,null,null,null,null,null,{"$error":"#VALUE!"},114,null,{"$f":"IF(AP151,VLOOKUP(AP151,HOM!$AR$551:$AS$606,2))","v":3.5710000000000002}]
["H",null,null,null,null,false,null,null,null,null,null,null,null,null,"",null,null,null,"","","","","",{"$f":"IF(AND(J152>=40,J152<45),VLOOKUP(K152,Feuil2!$F$10:$P$28,9),IF(AND(J152>=45,J152<50),VLOOKUP(K152,Feuil2!$F$10:$P$28,8),IF(AND(J152>=50,J152<55),VLOOKUP(K152,Feuil2!$F$10:$P$28,7),IF(AND(J152>=55,J152<60),VLOOKUP(K152,Feuil2!$F$10:$P$28,6),IF(AND(J152>=60,J152<65),VLOOKUP(K152,Feuil2!$F$10:$P$28,5),IF(AND(J152>=65,J152<70),VLOOKUP(K152,Feuil2!$F$10:$P$28,4),IF(AND(J152>=70,J152<75),VLOOKUP(K152,Feuil2!$F$10:$P$28,3),IF(AND(J152>=75,J152<80),VLOOKUP(K152,Feuil2!$F$10:$P$28,2),VLOOKUP(K152,Feuil2!$F$10:$P$28,2)))))))))","v":{"$error":"#N/A"}},null,{"$f":"T152-HLOOKUP(X152,Feuil2!$C$1:$CD$9,2,FALSE)","v":{"$error":"#VALUE!"}},{"$f":"T152-HLOOKUP(X152,Feuil2!$C$1:$CD$9,3,FALSE)","v":{"$error":"#VALUE!"}},{"$f":"T152-HLOOKUP(X152,Feuil2!$C$1:$CD$9,4,FALSE)","v":{"$error":"#VALUE!"}},{"$f":"T152-HLOOKUP(X152,Feuil2!$C$1:$CD$9,5,FALSE)","v":{"$error":"#VALUE!"}},{"$f":"T152-HLOOKUP(X152,Feuil2!$C$1:$CD$9,6,FALSE)","v":{"$error":"#VALUE!"}},{"$f":"T152-HLOOKUP(X152,Feuil2!$C$1:$CD$9,7,FALSE)","v":{"$error":"#VALUE!"}},{"$f":"T152-HLOOKUP(X152,Feuil2!$C$1:$CD$9,8,FALSE)","v":{"$error":"#VALUE!"}},{"$f":"T152-HLOOKUP(X152,Feuil2!$C$1:$CD$9,9,FALSE)","v":{"$error":"#VALUE!"}},null,null,null,null,null,null,null,{"$error":"#VALUE!"},114,null,{"$f":"IF(AP152,VLOOKUP(AP152,HOM!$AR$551:$AS$606,2))","v":3.5710000000000002}]
["H",null,null,null,null,false,null,null,null,null,null,null,null,null,"",null,null,null,"","","","","",{"$f":"IF(AND(J153>=40,J153<45),VLOOKUP(K153,Feuil2!$F$10:$P$28,9),IF(AND(J153>=45,J153<50),VLOOKUP(K153,Feuil2!$F$10:$P$28,8),IF(AND(J153>=50,J153<55),VLOOKUP(K153,Feuil2!$F$10:$P$28,7),IF(AND(J153>=55,J153<60),VLOOKUP(K153,Feuil2!$F$10:$P$28,6),IF(AND(J153>=60,J153<65),VLOOKUP(K153,Feuil2!$F$10:$P$28,5),IF(AND(J153>=65,J153<70),VLOOKUP(K153,Feuil2!$F$10:$P$28,4),IF(AND(J153>=70,J153<75),VLOOKUP(K153,Feuil2!$F$10:$P$28,3),IF(AND(J153>=75,J153<80),VLOOKUP(K153,Feuil2!$F$10:$P$28,2),VLOOKUP(K153,Feuil2!$F$10:$P$28,2)))))))))","v":{"$error":"#N/A"}},null,{"$f":"T153-HLOOKUP(X153,Feuil2!$C$1:$CD$9,2,FALSE)","v":{"$error":"#VALUE!"}},{"$f":"T153-HLOOKUP(X153,Feuil2!$C$1:$CD$9,3,FALSE)","v":{"$error":"#VALUE!"}},{"$f":"T153-HLOOKUP(X153,Feuil2!$C$1:$CD$9,4,FALSE)","v":{"$error":"#VALUE!"}},{"$f":"T153-HLOOKUP(X153,Feuil2!$C$1:$CD$9,5,FALSE)","v":{"$error":"#VALUE!"}},{"$f":"T153-HLOOKUP(X153,Feuil2!$C$1:$CD$9,6,FALSE)","v":{"$error":"#VALUE!"}},{"$f":"T153-HLOOKUP(X153,Feuil2!$C$1:$CD$9,7,FALSE)","v":{"$error":"#VALUE!"}},{"$f":"T153-HLOOKUP(X153,Feuil2!$C$1:$CD$9,8,FALSE)","v":{"$error":"#VALUE!"}},{"$f":"T153-HLOOKUP(X153,Feuil2!$C$1:$CD$9,9,FALSE)","v":{"$error":"#VALUE!"}},null,null,null,null,null,null,null,{"$error":"#VALUE!"},114,null,{"$f":"IF(AP153,VLOOKUP(AP153,HOM!$AR$551:$AS$606,2))","v":3.5710000000000002}]
["H",null,null,null,null,false,null,null,null,null,null,null,null,null,"",null,null,null,"","","","","",{"$f":"IF(AND(J154>=40,J154<45),VLOOKUP(K154,Feuil2!$F$10:$P$28,9),IF(AND(J154>=45,J154<50),VLOOKUP(K154,Feuil2!$F$10:$P$28,8),IF(AND(J154>=50,J154<55),VLOOKUP(K154,Feuil2!$F$10:$P$28,7),IF(AND(J154>=55,J154<60),VLOOKUP(K154,Feuil2!$F$10:$P$28,6),IF(AND(J154>=60,J154<65),VLOOKUP(K154,Feuil2!$F$10:$P$28,5),IF(AND(J154>=65,J154<70),VLOOKUP(K154,Feuil2!$F$10:$P$28,4),IF(AND(J154>=70,J154<75),VLOOKUP(K154,Feuil2!$F$10:$P$28,3),IF(AND(J154>=75,J154<80),VLOOKUP(K154,Feuil2!$F$10:$P$28,2),VLOOKUP(K154,Feuil2!$F$10:$P$28,2)))))))))","v":{"$error":"#N/A"}},null,{"$f":"T154-HLOOKUP(X154,Feuil2!$C$1:$CD$9,2,FALSE)","v":{"$error":"#VALUE!"}},{"$f":"T154-HLOOKUP(X154,Feuil2!$C$1:$CD$9,3,FALSE)","v":{"$error":"#VALUE!"}},{"$f":"T154-HLOOKUP(X154,Feuil2!$C$1:$CD$9,4,FALSE)","v":{"$error":"#VALUE!"}},{"$f":"T154-HLOOKUP(X154,Feuil2!$C$1:$CD$9,5,FALSE)","v":{"$error":"#VALUE!"}},{"$f":"T154-HLOOKUP(X154,Feuil2!$C$1:$CD$9,6,FALSE)","v":{"$error":"#VALUE!"}},{"$f":"T154-HLOOKUP(X154,Feuil2!$C$1:$CD$9,7,FALSE)","v":{"$error":"#VALUE!"}},{"$f":"T154-HLOOKUP(X154,Feuil2!$C$1:$CD$9,8,FALSE)","v":{"$error":"#VALUE!"}},{"$f":"T154-HLOOKUP(X154,Feuil2!$C$1:$CD$9,9,FALSE)","v":{"$error":"#VALUE!"}},null,null,null,null,null,null,null,{"$error":"#VALUE!"},114,null,{"$f":"IF(AP154,VLOOKUP(AP154,HOM!$AR$551:$AS$606,2))","v":3.5710000000000002}]
["H",null,null,null,null,false,null,null,null,null,null,null,null,null,"",null,null,null,"","","","","",{"$f":"IF(AND(J155>=40,J155<45),VLOOKUP(K155,Feuil2!$F$10:$P$28,9),IF(AND(J155>=45,J155<50),VLOOKUP(K155,Feuil2!$F$10:$P$28,8),IF(AND(J155>=50,J155<55),VLOOKUP(K155,Feuil2!$F$10:$P$28,7),IF(AND(J155>=55,J155<60),VLOOKUP(K155,Feuil2!$F$10:$P$28,6),IF(AND(J155>=60,J155<65),VLOOKUP(K155,Feuil2!$F$10:$P$28,5),IF(AND(J155>=65,J155<70),VLOOKUP(K155,Feuil2!$F$10:$P$28,4),IF(AND(J155>=70,J155<75),VLOOKUP(K155,Feuil2!$F$10:$P$28,3),IF(AND(J155>=75,J155<80),VLOOKUP(K155,Feuil2!$F$10:$P$28,2),VLOOKUP(K155,Feuil2!$F$10:$P$28,2)))))))))","v":{"$error":"#N/A"}},null,{"$f":"T155-HLOOKUP(X155,Feuil2!$C$1:$CD$9,2,FALSE)","v":{"$error":"#VALUE!"}},{"$f":"T155-HLOOKUP(X155,Feuil2!$C$1:$CD$9,3,FALSE)","v":{"$error":"#VALUE!"}},{"$f":"T155-HLOOKUP(X155,Feuil2!$C$1:$CD$9,4,FALSE)","v":{"$error":"#VALUE!"}},{"$f":"T155-HLOOKUP(X155,Feuil2!$C$1:$CD$9,5,FALSE)","v":{"$error":"#VALUE!"}},{"$f":"T155-HLOOKUP(X155,Feuil2!$C$1:$CD$9,6,FALSE)","v":{"$error":"#VALUE!"}},{"$f":"T155-HLOOKUP(X155,Feuil2!$C$1:$CD$9,7,FALSE)","v":{"$error":"#VALUE!"}},{"$f":"T155-HLOOKUP(X155,Feuil2!$C$1:$CD$9,8,FALSE)","v":{"$error":"#VALUE!"}},{"$f":"T155-HLOOKUP(X155,Feuil2!$C$1:$CD$9,9,FALSE)","v":{"$error":"#VALUE!"}},null,null,null,null,null,null,null,{"$error":"#VALUE!"},114,null,{"$f":"IF(AP155,VLOOKUP(AP155,HOM!$AR$551:$AS$606,2))","v":3.5710000000000002}]
["H",null,null,null,null,false,null,null,null,null,null,null,null,null,"",null,null,null,"","","","","",{"$f":"IF(AND(J156>=40,J156<45),VLOOKUP(K156,Feuil2!$F$10:$P$28,9),IF(AND(J156>=45,J156<50),VLOOKUP(K156,Feuil2!$F$10:$P$28,8),IF(AND(J156>=50,J156<55),VLOOKUP(K156,Feuil2!$F$10:$P$28,7),IF(AND(J156>=55,J156<60),VLOOKUP(K156,Feuil2!$F$10:$P$28,6),IF(AND(J156>=60,J156<65),VLOOKUP(K156,Feuil2!$F$10:$P$28,5),IF(AND(J156>=65,J156<70),VLOOKUP(K156,Feuil2!$F$10:$P$28,4),IF(AND(J156>=70,J156<75),VLOOKUP(K156,Feuil2!$F$10:$P$28,3),IF(AND(J156>=75,J156<80),VLOOKUP(K156,Feuil2!$F$10:$P$28,2),VLOOKUP(K156,Feuil2!$F$10:$P$28,2)))))))))","v":{"$error":"#N/A"}},null,{"$f":"T156-HLOOKUP(X156,Feuil2!$C$1:$CD$9,2,FALSE)","v":{"$error":"#VALUE!"}},{"$f":"T156-HLOOKUP(X156,Feuil2!$C$1:$CD$9,3,FALSE)","v":{"$error":"#VALUE!"}},{"$f":"T156-HLOOKUP(X156,Feuil2!$C$1:$CD$9,4,FALSE)","v":{"$error":"#VALUE!"}},{"$f":"T156-HLOOKUP(X156,Feuil2!$C$1:$CD$9,5,FALSE)","v":{"$error":"#VALUE!"}},{"$f":"T156-HLOOKUP(X156,Feuil2!$C$1:$CD$9,6,FALSE)","v":{"$error":"#VALUE!"}},{"$f":"T156-HLOOKUP(X156,Feuil2!$C$1:$CD$9,7,FALSE)","v":{"$error":"#VALUE!"}},{"$f":"T156-HLOOKUP(X156,Feuil2!$C$1:$CD$9,8,FALSE)","v":{"$error":"#VALUE!"}},{"$f":"T156-HLOOKUP(X156,Feuil2!$C$1:$CD$9,9,FALSE)","v":{"$error":"#VALUE!"}},null,null,null,null,null,null,null,{"$error":"#VALUE!"},114,null,{"$f":"IF(AP156,VLOOKUP(AP156,HOM!$AR$551:$AS$606,2))","v":3.5710000000000002}]
["H",null,null,null,null,false,null,null,null,null,null,null,null,null,"",null,null,null,"","","","","",{"$f":"IF(AND(J157>=40,J157<45),VLOOKUP(K157,Feuil2!$F$10:$P$28,9),IF(AND(J157>=45,J157<50),VLOOKUP(K157,Feuil2!$F$10:$P$28,8),IF(AND(J157>=50,J157<55),VLOOKUP(K157,Feuil2!$F$10:$P$28,7),IF(AND(J157>=55,J157<60),VLOOKUP(K157,Feuil2!$F$10:$P$28,6),IF(AND(J157>=60,J157<65),VLOOKUP(K157,Feuil2!$F$10:$P$28,5),IF(AND(J157>=65,J157<70),VLOOKUP(K157,Feuil2!$F$10:$P$28,4),IF(AND(J157>=70,J157<75),VLOOKUP(K157,Feuil2!$F$10:$P$28,3),IF(AND(J157>=75,J157<80),VLOOKUP(K157,Feuil2!$F$10:$P$28,2),VLOOKUP(K157,Feuil2!$F$10:$P$28,2)))))))))","v":{"$error":"#N/A"}},null,{"$f":"T157-HLOOKUP(X157,Feuil2!$C$1:$CD$9,2,FALSE)","v":{"$error":"#VALUE!"}},{"$f":"T157-HLOOKUP(X157,Feuil2!$C$1:$CD$9,3,FALSE)","v":{"$error":"#VALUE!"}},{"$f":"T157-HLOOKUP(X157,Feuil2!$C$1:$CD$9,4,FALSE)","v":{"$error":"#VALUE!"}},{"$f":"T157-HLOOKUP(X157,Feuil2!$C$1:$CD$9,5,FALSE)","v":{"$error":"#VALUE!"}},{"$f":"T157-HLOOKUP(X157,Feuil2!$C$1:$CD$9,6,FALSE)","v":{"$error":"#VALUE!"}},{"$f":"T157-HLOOKUP(X157,Feuil2!$C$1:$CD$9,7,FALSE)","v":{"$error":"#VALUE!"}},{"$f":"T157-HLOOKUP(X157,Feuil2!$C$1:$CD$9,8,FALSE)","v":{"$error":"#VALUE!"}},{"$f":"T157-HLOOKUP(X157,Feuil2!$C$1:$CD$9,9,FALSE)","v":{"$error":"#VALUE!"}},null,null,null,null,null,null,null,{"$error":"#VALUE!"},114,null,{"$f":"IF(AP157,VLOOKUP(AP157,HOM!$AR$551:$AS$606,2))","v":3.5710000000000002}]
["H",null,null,null,null,false,null,null,null,null,null,null,null,null,"",null,null,null,"","","","","",{"$f":"IF(AND(J158>=40,J158<45),VLOOKUP(K158,Feuil2!$F$10:$P$28,9),IF(AND(J158>=45,J158<50),VLOOKUP(K158,Feuil2!$F$10:$P$28,8),IF(AND(J158>=50,J158<55),VLOOKUP(K158,Feuil2!$F$10:$P$28,7),IF(AND(J158>=55,J158<60),VLOOKUP(K158,Feuil2!$F$10:$P$28,6),IF(AND(J158>=60,J158<65),VLOOKUP(K158,Feuil2!$F$10:$P$28,5),IF(AND(J158>=65,J158<70),VLOOKUP(K158,Feuil2!$F$10:$P$28,4),IF(AND(J158>=70,J158<75),VLOOKUP(K158,Feuil2!$F$10:$P$28,3),IF(AND(J158>=75,J158<80),VLOOKUP(K158,Feuil2!$F$10:$P$28,2),VLOOKUP(K158,Feuil2!$F$10:$P$28,2)))))))))","v":{"$error":"#N/A"}},null,{"$f":"T158-HLOOKUP(X158,Feuil2!$C$1:$CD$9,2,FALSE)","v":{"$error":"#VALUE!"}},{"$f":"T158-HLOOKUP(X158,Feuil2!$C$1:$CD$9,3,FALSE)","v":{"$error":"#VALUE!"}},{"$f":"T158-HLOOKUP(X158,Feuil2!$C$1:$CD$9,4,FALSE)","v":{"$error":"#VALUE!"}},{"$f":"T158-HLOOKUP(X158,Feuil2!$C$1:$CD$9,5,FALSE)","v":{"$error":"#VALUE!"}},{"$f":"T158-HLOOKUP(X158,Feuil2!$C$1:$CD$9,6,FALSE)","v":{"$error":"#VALUE!"}},{"$f":"T158-HLOOKUP(X158,Feuil2!$C$1:$CD$9,7,FALSE)","v":{"$error":"#VALUE!"}},{"$f":"T158-HLOOKUP(X158,Feuil2!$C$1:$CD$9,8,FALSE)","v":{"$error":"#VALUE!"}},{"$f":"T158-HLOOKUP(X158,Feuil2!$C$1:$CD$9,9,FALSE)","v":{"$error":"#VALUE!"}},null,null,null,null,null,null,null,{"$error":"#VALUE!"},114,null,{"$f":"IF(AP158,VLOOKUP(AP158,HOM!$AR$551:$AS$606,2))","v":3.5710000000000002}]
["H",null,null,null,null,false,null,null,null,null,null,null,null,null,{"$f":"IF(K159=\"\",\"\",IF(MAXA(L159:N159)<=0,0,MAXA(L159:N159)))","v":""},null,null,null,{"$f":"IF(K159=\"\",\"\",IF(MAXA(P159:R159)<=0,0,MAXA(P159:R159)))","v":""},{"$f":"IF(K159=\"\",\"\",IF(OR(O159=0,S159=0),0,O159+S159))","v":""},{"$f":"IF(K159=\"\",\"\",IF(A159=\"H\",10^(0.794358141*LOG(K159/174.393)^2)*T159*AR159,IF(A159=\"F\",10^(0.89726074 * LOG(K159/148.026)^2)*T159*AR159,\"\")))","v":""},{"$f":"IF(K159=\"\",\"\",AO159)","v":""},{"$f":"IF(K159=\"\",\"\",IF(AG159>=0,AG159,IF(AF159>=0,AF159,IF(AE159>=0,AE159,IF(AD159>=0,AD159,IF(AC159>=0,AC159,IF(AB159>=0,AB159,IF(AA159>=0,AA159,Z159))))))))","v":""},{"$f":"IF(AND(J159>=40,J159<45),VLOOKUP(K159,Feuil2!$F$10:$P$28,9),IF(AND(J159>=45,J159<50),VLOOKUP(K159,Feuil2!$F$10:$P$28,8),IF(AND(J159>=50,J159<55),VLOOKUP(K159,Feuil2!$F$10:$P$28,7),IF(AND(J159>=55,J159<60),VLOOKUP(K159,Feuil2!$F$10:$P$28,6),IF(AND(J159>=60,J159<65),VLOOKUP(K159,Feuil2!$F$10:$P$28,5),IF(AND(J159>=65,J159<70),VLOOKUP(K159,Feuil2!$F$10:$P$28,4),IF(AND(J159>=70,J159<75),VLOOKUP(K159,Feuil2!$F$10:$P$28,3),IF(AND(J159>=75,J159<80),VLOOKUP(K159,Feuil2!$F$10:$P$28,2),VLOOKUP(K159,Feuil2!$F$10:$P$28,2)))))))))","v":{"$error":"#N/A"}},null,{"$f":"T159-HLOOKUP(X159,Feuil2!$C$1:$CD$9,2,FALSE)","v":{"$error":"#VALUE!"}},{"$f":"T159-HLOOKUP(X159,Feuil2!$C$1:$CD$9,3,FALSE)","v":{"$error":"#VALUE!"}},{"$f":"T159-HLOOKUP(X159,Feuil2!$C$1:$CD$9,4,FALSE)","v":{"$error":"#VALUE!"}},{"$f":"T159-HLOOKUP(X159,Feuil2!$C$1:$CD$9,5,FALSE)","v":{"$error":"#VALUE!"}},{"$f":"T159-HLOOKUP(X159,Feuil2!$C$1:$CD$9,6,FALSE)","v":{"$error":"#VALUE!"}},{"$f":"T159-HLOOKUP(X159,Feuil2!$C$1:$CD$9,7,FALSE)","v":{"$error":"#VALUE!"}},{"$f":"T159-HLOOKUP(X159,Feuil2!$C$1:$CD$9,8,FALSE)","v":{"$error":"#VALUE!"}},{"$f":"T159-HLOOKUP(X159,Feuil2!$C$1:$CD$9,9,FALSE)","v":{"$error":"#VALUE!"}},null,null,null,null,null,null,null,{"$f":"IF(AG159>=0,$AG$4,IF(AF159>=0,$AF$4,IF(AE159>=0,$AE$4,IF(AD159>=0,$AD$4,IF(AC159>=0,$AC$4,IF(AB159>=0,$AB$4,IF(AA159>=0,$AA$4,IF(Z159>=0,$Z$4,$AH$4))))))))","v":{"$error":"#VALUE!"}},{"$f":"114-J159","v":114},null,{"$f":"IF(AP159,VLOOKUP(AP159,HOM!$AR$551:$AS$606,2))","v":3.5710000000000002}]
["H",null,null,null,null,false,null,null,null,null,null,null,null,null,"",null,null,null,"","","","","",{"$f":"IF(AND(J160>=40,J160<45),VLOOKUP(K160,Feuil2!$F$10:$P$28,9),IF(AND(J160>=45,J160<50),VLOOKUP(K160,Feuil2!$F$10:$P$28,8),IF(AND(J160>=50,J160<55),VLOOKUP(K160,Feuil2!$F$10:$P$28,7),IF(AND(J160>=55,J160<60),VLOOKUP(K160,Feuil2!$F$10:$P$28,6),IF(AND(J160>=60,J160<65),VLOOKUP(K160,Feuil2!$F$10:$P$28,5),IF(AND(J160>=65,J160<70),VLOOKUP(K160,Feuil2!$F$10:$P$28,4),IF(AND(J160>=70,J160<75),VLOOKUP(K160,Feuil2!$F$10:$P$28,3),IF(AND(J160>=75,J160<80),VLOOKUP(K160,Feuil2!$F$10:$P$28,2),VLOOKUP(K160,Feuil2!$F$10:$P$28,2)))))))))","v":{"$error":"#N/A"}},null,{"$f":"T160-HLOOKUP(X160,Feuil2!$C$1:$CD$9,2,FALSE)","v":{"$error":"#VALUE!"}},{"$f":"T160-HLOOKUP(X160,Feuil2!$C$1:$CD$9,3,FALSE)","v":{"$error":"#VALUE!"}},{"$f":"T160-HLOOKUP(X160,Feuil2!$C$1:$CD$9,4,FALSE)","v":{"$error":"#VALUE!"}},{"$f":"T160-HLOOKUP(X160,Feuil2!$C$1:$CD$9,5,FALSE)","v":{"$error":"#VALUE!"}},{"$f":"T160-HLOOKUP(X160,Feuil2!$C$1:$CD$9,6,FALSE)","v":{"$error":"#VALUE!"}},{"$f":"T160-HLOOKUP(X160,Feuil2!$C$1:$CD$9,7,FALSE)","v":{"$error":"#VALUE!"}},{"$f":"T160-HLOOKUP(X160,Feuil2!$C$1:$CD$9,8,FALSE)","v":{"$error":"#VALUE!"}},{"$f":"T160-HLOOKUP(X160,Feuil2!$C$1:$CD$9,9,FALSE)","v":{"$error":"#VALUE!"}},null,null,null,null,null,null,null,{"$error":"#VALUE!"},114,null,{"$f":"IF(AP160,VLOOKUP(AP160,HOM!$AR$551:$AS$606,2))","v":3.5710000000000002}]
["H",null,null,null,null,false,null,null,null,null,null,null,null,null,"",null,null,null,"","","","","",{"$f":"IF(AND(J161>=40,J161<45),VLOOKUP(K161,Feuil2!$F$10:$P$28,9),IF(AND(J161>=45,J161<50),VLOOKUP(K161,Feuil2!$F$10:$P$28,8),IF(AND(J161>=50,J161<55),VLOOKUP(K161,Feuil2!$F$10:$P$28,7),IF(AND(J161>=55,J161<60),VLOOKUP(K161,Feuil2!$F$10:$P$28,6),IF(AND(J161>=60,J161<65),VLOOKUP(K161,Feuil2!$F$10:$P$28,5),IF(AND(J161>=65,J161<70),VLOOKUP(K161,Feuil2!$F$10:$P$28,4),IF(AND(J161>=70,J161<75),VLOOKUP(K161,Feuil2!$F$10:$P$28,3),IF(AND(J161>=75,J161<80),VLOOKUP(K161,Feuil2!$F$10:$P$28,2),VLOOKUP(K161,Feuil2!$F$10:$P$28,2)))))))))","v":{"$error":"#N/A"}},null,{"$f":"T161-HLOOKUP(X161,Feuil2!$C$1:$CD$9,2,FALSE)","v":{"$error":"#VALUE!"}},{"$f":"T161-HLOOKUP(X161,Feuil2!$C$1:$CD$9,3,FALSE)","v":{"$error":"#VALUE!"}},{"$f":"T161-HLOOKUP(X161,Feuil2!$C$1:$CD$9,4,FALSE)","v":{"$error":"#VALUE!"}},{"$f":"T161-HLOOKUP(X161,Feuil2!$C$1:$CD$9,5,FALSE)","v":{"$error":"#VALUE!"}},{"$f":"T161-HLOOKUP(X161,Feuil2!$C$1:$CD$9,6,FALSE)","v":{"$error":"#VALUE!"}},{"$f":"T161-HLOOKUP(X161,Feuil2!$C$1:$CD$9,7,FALSE)","v":{"$error":"#VALUE!"}},{"$f":"T161-HLOOKUP(X161,Feuil2!$C$1:$CD$9,8,FALSE)","v":{"$error":"#VALUE!"}},{"$f":"T161-HLOOKUP(X161,Feuil2!$C$1:$CD$9,9,FALSE)","v":{"$error":"#VALUE!"}},null,null,null,null,null,null,null,{"$error":"#VALUE!"},114,null,{"$f":"IF(AP161,VLOOKUP(AP161,HOM!$AR$551:$AS$606,2))","v":3.5710000000000002}]
["H",null,null,null,null,false,null,null,null,null,null,null,null,null,"",null,null,null,"","","","","",{"$f":"IF(AND(J162>=40,J162<45),VLOOKUP(K162,Feuil2!$F$10:$P$28,9),IF(AND(J162>=45,J162<50),VLOOKUP(K162,Feuil2!$F$10:$P$28,8),IF(AND(J162>=50,J162<55),VLOOKUP(K162,Feuil2!$F$10:$P$28,7),IF(AND(J162>=55,J162<60),VLOOKUP(K162,Feuil2!$F$10:$P$28,6),IF(AND(J162>=60,J162<65),VLOOKUP(K162,Feuil2!$F$10:$P$28,5),IF(AND(J162>=65,J162<70),VLOOKUP(K162,Feuil2!$F$10:$P$28,4),IF(AND(J162>=70,J162<75),VLOOKUP(K162,Feuil2!$F$10:$P$28,3),IF(AND(J162>=75,J162<80),VLOOKUP(K162,Feuil2!$F$10:$P$28,2),VLOOKUP(K162,Feuil2!$F$10:$P$28,2)))))))))","v":{"$error":"#N/A"}},null,{"$f":"T162-HLOOKUP(X162,Feuil2!$C$1:$CD$9,2,FALSE)","v":{"$error":"#VALUE!"}},{"$f":"T162-HLOOKUP(X162,Feuil2!$C$1:$CD$9,3,FALSE)","v":{"$error":"#VALUE!"}},{"$f":"T162-HLOOKUP(X162,Feuil2!$C$1:$CD$9,4,FALSE)","v":{"$error":"#VALUE!"}},{"$f":"T162-HLOOKUP(X162,Feuil2!$C$1:$CD$9,5,FALSE)","v":{"$error":"#VALUE!"}},{"$f":"T162-HLOOKUP(X162,Feuil2!$C$1:$CD$9,6,FALSE)","v":{"$error":"#VALUE!"}},{"$f":"T162-HLOOKUP(X162,Feuil2!$C$1:$CD$9,7,FALSE)","v":{"$error":"#VALUE!"}},{"$f":"T162-HLOOKUP(X162,Feuil2!$C$1:$CD$9,8,FALSE)","v":{"$error":"#VALUE!"}},{"$f":"T162-HLOOKUP(X162,Feuil2!$C$1:$CD$9,9,FALSE)","v":{"$error":"#VALUE!"}},null,null,null,null,null,null,null,{"$error":"#VALUE!"},114,null,{"$f":"IF(AP162,VLOOKUP(AP162,HOM!$AR$551:$AS$606,2))","v":3.5710000000000002}]
["H",null,null,null,null,false,null,null,null,null,null,null,null,null,"",null,null,null,"","","","","",{"$f":"IF(AND(J163>=40,J163<45),VLOOKUP(K163,Feuil2!$F$10:$P$28,9),IF(AND(J163>=45,J163<50),VLOOKUP(K163,Feuil2!$F$10:$P$28,8),IF(AND(J163>=50,J163<55),VLOOKUP(K163,Feuil2!$F$10:$P$28,7),IF(AND(J163>=55,J163<60),VLOOKUP(K163,Feuil2!$F$10:$P$28,6),IF(AND(J163>=60,J163<65),VLOOKUP(K163,Feuil2!$F$10:$P$28,5),IF(AND(J163>=65,J163<70),VLOOKUP(K163,Feuil2!$F$10:$P$28,4),IF(AND(J163>=70,J163<75),VLOOKUP(K163,Feuil2!$F$10:$P$28,3),IF(AND(J163>=75,J163<80),VLOOKUP(K163,Feuil2!$F$10:$P$28,2),VLOOKUP(K163,Feuil2!$F$10:$P$28,2)))))))))","v":{"$error":"#N/A"}},null,{"$f":"T163-HLOOKUP(X163,Feuil2!$C$1:$CD$9,2,FALSE)","v":{"$error":"#VALUE!"}},{"$f":"T163-HLOOKUP(X163,Feuil2!$C$1:$CD$9,3,FALSE)","v":{"$error":"#VALUE!"}},{"$f":"T163-HLOOKUP(X163,Feuil2!$C$1:$CD$9,4,FALSE)","v":{"$error":"#VALUE!"}},{"$f":"T163-HLOOKUP(X163,Feuil2!$C$1:$CD$9,5,FALSE)","v":{"$error":"#VALUE!"}},{"$f":"T163-HLOOKUP(X163,Feuil2!$C$1:$CD$9,6,FALSE)","v":{"$error":"#VALUE!"}},{"$f":"T163-HLOOKUP(X163,Feuil2!$C$1:$CD$9,7,FALSE)","v":{"$error":"#VALUE!"}},{"$f":"T163-HLOOKUP(X163,Feuil2!$C$1:$CD$9,8,FALSE)","v":{"$error":"#VALUE!"}},{"$f":"T163-HLOOKUP(X163,Feuil2!$C$1:$CD$9,9,FALSE)","v":{"$error":"#VALUE!"}},null,null,null,null,null,null,null,{"$error":"#VALUE!"},114,null,{"$f":"IF(AP163,VLOOKUP(AP163,HOM!$AR$551:$AS$606,2))","v":3.5710000000000002}]
["H",null,null,null,null,false,null,null,null,null,null,null,null,null,"",null,null,null,"","","","","",{"$f":"IF(AND(J164>=40,J164<45),VLOOKUP(K164,Feuil2!$F$10:$P$28,9),IF(AND(J164>=45,J164<50),VLOOKUP(K164,Feuil2!$F$10:$P$28,8),IF(AND(J164>=50,J164<55),VLOOKUP(K164,Feuil2!$F$10:$P$28,7),IF(AND(J164>=55,J164<60),VLOOKUP(K164,Feuil2!$F$10:$P$28,6),IF(AND(J164>=60,J164<65),VLOOKUP(K164,Feuil2!$F$10:$P$28,5),IF(AND(J164>=65,J164<70),VLOOKUP(K164,Feuil2!$F$10:$P$28,4),IF(AND(J164>=70,J164<75),VLOOKUP(K164,Feuil2!$F$10:$P$28,3),IF(AND(J164>=75,J164<80),VLOOKUP(K164,Feuil2!$F$10:$P$28,2),VLOOKUP(K164,Feuil2!$F$10:$P$28,2)))))))))","v":{"$error":"#N/A"}},null,{"$f":"T164-HLOOKUP(X164,Feuil2!$C$1:$CD$9,2,FALSE)","v":{"$error":"#VALUE!"}},{"$f":"T164-HLOOKUP(X164,Feuil2!$C$1:$CD$9,3,FALSE)","v":{"$error":"#VALUE!"}},{"$f":"T164-HLOOKUP(X164,Feuil2!$C$1:$CD$9,4,FALSE)","v":{"$error":"#VALUE!"}},{"$f":"T164-HLOOKUP(X164,Feuil2!$C$1:$CD$9,5,FALSE)","v":{"$error":"#VALUE!"}},{"$f":"T164-HLOOKUP(X164,Feuil2!$C$1:$CD$9,6,FALSE)","v":{"$error":"#VALUE!"}},{"$f":"T164-HLOOKUP(X164,Feuil2!$C$1:$CD$9,7,FALSE)","v":{"$error":"#VALUE!"}},{"$f":"T164-HLOOKUP(X164,Feuil2!$C$1:$CD$9,8,FALSE)","v":{"$error":"#VALUE!"}},{"$f":"T164-HLOOKUP(X164,Feuil2!$C$1:$CD$9,9,FALSE)","v":{"$error":"#VALUE!"}},null,null,null,null,null,null,null,{"$error":"#VALUE!"},114,null,{"$f":"IF(AP164,VLOOKUP(AP164,HOM!$AR$551:$AS$606,2))","v":3.5710000000000002}]
["H",null,null,null,null,{"$f":"IF(AP165<95,IF(AP165<=90,VLOOKUP(AP165,$AP$550:$AQ$605,2)))","v":false},null,null,null,null,null,null,null,null,"",null,null,null,"","","","","",{"$f":"IF(AND(J165>=40,J165<45),VLOOKUP(K165,Feuil2!$F$10:$P$28,9),IF(AND(J165>=45,J165<50),VLOOKUP(K165,Feuil2!$F$10:$P$28,8),IF(AND(J165>=50,J165<55),VLOOKUP(K165,Feuil2!$F$10:$P$28,7),IF(AND(J165>=55,J165<60),VLOOKUP(K165,Feuil2!$F$10:$P$28,6),IF(AND(J165>=60,J165<65),VLOOKUP(K165,Feuil2!$F$10:$P$28,5),IF(AND(J165>=65,J165<70),VLOOKUP(K165,Feuil2!$F$10:$P$28,4),IF(AND(J165>=70,J165<75),VLOOKUP(K165,Feuil2!$F$10:$P$28,3),IF(AND(J165>=75,J165<80),VLOOKUP(K165,Feuil2!$F$10:$P$28,2),VLOOKUP(K165,Feuil2!$F$10:$P$28,2)))))))))","v":{"$error":"#N/A"}},null,{"$f":"T165-HLOOKUP(X165,Feuil2!$C$1:$CD$9,2,FALSE)","v":{"$error":"#VALUE!"}},{"$f":"T165-HLOOKUP(X165,Feuil2!$C$1:$CD$9,3,FALSE)","v":{"$error":"#VALUE!"}},{"$f":"T165-HLOOKUP(X165,Feuil2!$C$1:$CD$9,4,FALSE)","v":{"$error":"#VALUE!"}},{"$f":"T165-HLOOKUP(X165,Feuil2!$C$1:$CD$9,5,FALSE)","v":{"$error":"#VALUE!"}},{"$f":"T165-HLOOKUP(X165,Feuil2!$C$1:$CD$9,6,FALSE)","v":{"$error":"#VALUE!"}},{"$f":"T165-HLOOKUP(X165,Feuil2!$C$1:$CD$9,7,FALSE)","v":{"$error":"#VALUE!"}},{"$f":"T165-HLOOKUP(X165,Feuil2!$C$1:$CD$9,8,FALSE)","v":{"$error":"#VALUE!"}},{"$f":"T165-HLOOKUP(X165,Feuil2!$C$1:$CD$9,9,FALSE)","v":{"$error":"#VALUE!"}},null,null,null,null,null,null,null,{"$error":"#VALUE!"},114,null,{"$f":"IF(AP165,VLOOKUP(AP165,HOM!$AR$551:$AS$606,2))","v":3.5710000000000002}]
["H",null,null,null,null,false,null,null,null,null,null,null,null,null,"",null,null,null,"","","","","",{"$f":"IF(AND(J166>=40,J166<45),VLOOKUP(K166,Feuil2!$F$10:$P$28,9),IF(AND(J166>=45,J166<50),VLOOKUP(K166,Feuil2!$F$10:$P$28,8),IF(AND(J166>=50,J166<55),VLOOKUP(K166,Feuil2!$F$10:$P$28,7),IF(AND(J166>=55,J166<60),VLOOKUP(K166,Feuil2!$F$10:$P$28,6),IF(AND(J166>=60,J166<65),VLOOKUP(K166,Feuil2!$F$10:$P$28,5),IF(AND(J166>=65,J166<70),VLOOKUP(K166,Feuil2!$F$10:$P$28,4),IF(AND(J166>=70,J166<75),VLOOKUP(K166,Feuil2!$F$10:$P$28,3),IF(AND(J166>=75,J166<80),VLOOKUP(K166,Feuil2!$F$10:$P$28,2),VLOOKUP(K166,Feuil2!$F$10:$P$28,2)))))))))","v":{"$error":"#N/A"}},null,{"$f":"T166-HLOOKUP(X166,Feuil2!$C$1:$CD$9,2,FALSE)","v":{"$error":"#VALUE!"}},{"$f":"T166-HLOOKUP(X166,Feuil2!$C$1:$CD$9,3,FALSE)","v":{"$error":"#VALUE!"}},{"$f":"T166-HLOOKUP(X166,Feuil2!$C$1:$CD$9,4,FALSE)","v":{"$error":"#VALUE!"}},{"$f":"T166-HLOOKUP(X166,Feuil2!$C$1:$CD$9,5,FALSE)","v":{"$error":"#VALUE!"}},{"$f":"T166-HLOOKUP(X166,Feuil2!$C$1:$CD$9,6,FALSE)","v":{"$error":"#VALUE!"}},{"$f":"T166-HLOOKUP(X166,Feuil2!$C$1:$CD$9,7,FALSE)","v":{"$error":"#VALUE!"}},{"$f":"T166-HLOOKUP(X166,Feuil2!$C$1:$CD$9,8,FALSE)","v":{"$error":"#VALUE!"}},{"$f":"T166-HLOOKUP(X166,Feuil2!$C$1:$CD$9,9,FALSE)","v":{"$error":"#VALUE!"}},null,null,null,null,null,null,null,{"$error":"#VALUE!"},114,null,{"$f":"IF(AP166,VLOOKUP(AP166,HOM!$AR$551:$AS$606,2))","v":3.5710000000000002}]
["H",null,null,null,null,false,null,null,null,null,null,null,null,null,"",null,null,null,"","","","","",{"$f":"IF(AND(J167>=40,J167<45),VLOOKUP(K167,Feuil2!$F$10:$P$28,9),IF(AND(J167>=45,J167<50),VLOOKUP(K167,Feuil2!$F$10:$P$28,8),IF(AND(J167>=50,J167<55),VLOOKUP(K167,Feuil2!$F$10:$P$28,7),IF(AND(J167>=55,J167<60),VLOOKUP(K167,Feuil2!$F$10:$P$28,6),IF(AND(J167>=60,J167<65),VLOOKUP(K167,Feuil2!$F$10:$P$28,5),IF(AND(J167>=65,J167<70),VLOOKUP(K167,Feuil2!$F$10:$P$28,4),IF(AND(J167>=70,J167<75),VLOOKUP(K167,Feuil2!$F$10:$P$28,3),IF(AND(J167>=75,J167<80),VLOOKUP(K167,Feuil2!$F$10:$P$28,2),VLOOKUP(K167,Feuil2!$F$10:$P$28,2)))))))))","v":{"$error":"#N/A"}},null,{"$f":"T167-HLOOKUP(X167,Feuil2!$C$1:$CD$9,2,FALSE)","v":{"$error":"#VALUE!"}},{"$f":"T167-HLOOKUP(X167,Feuil2!$C$1:$CD$9,3,FALSE)","v":{"$error":"#VALUE!"}},{"$f":"T167-HLOOKUP(X167,Feuil2!$C$1:$CD$9,4,FALSE)","v":{"$error":"#VALUE!"}},{"$f":"T167-HLOOKUP(X167,Feuil2!$C$1:$CD$9,5,FALSE)","v":{"$error":"#VALUE!"}},{"$f":"T167-HLOOKUP(X167,Feuil2!$C$1:$CD$9,6,FALSE)","v":{"$error":"#VALUE!"}},{"$f":"T167-HLOOKUP(X167,Feuil2!$C$1:$CD$9,7,FALSE)","v":{"$error":"#VALUE!"}},{"$f":"T167-HLOOKUP(X167,Feuil2!$C$1:$CD$9,8,FALSE)","v":{"$error":"#VALUE!"}},{"$f":"T167-HLOOKUP(X167,Feuil2!$C$1:$CD$9,9,FALSE)","v":{"$error":"#VALUE!"}},null,null,null,null,null,null,null,{"$error":"#VALUE!"},114,null,{"$f":"IF(AP167,VLOOKUP(AP167,HOM!$AR$551:$AS$606,2))","v":3.5710000000000002}]
["H",null,null,null,null,false,null,null,null,null,null,null,null,null,"",null,null,null,"","","","","",{"$f":"IF(AND(J168>=40,J168<45),VLOOKUP(K168,Feuil2!$F$10:$P$28,9),IF(AND(J168>=45,J168<50),VLOOKUP(K168,Feuil2!$F$10:$P$28,8),IF(AND(J168>=50,J168<55),VLOOKUP(K168,Feuil2!$F$10:$P$28,7),IF(AND(J168>=55,J168<60),VLOOKUP(K168,Feuil2!$F$10:$P$28,6),IF(AND(J168>=60,J168<65),VLOOKUP(K168,Feuil2!$F$10:$P$28,5),IF(AND(J168>=65,J168<70),VLOOKUP(K168,Feuil2!$F$10:$P$28,4),IF(AND(J168>=70,J168<75),VLOOKUP(K168,Feuil2!$F$10:$P$28,3),IF(AND(J168>=75,J168<80),VLOOKUP(K168,Feuil2!$F$10:$P$28,2),VLOOKUP(K168,Feuil2!$F$10:$P$28,2)))))))))","v":{"$error":"#N/A"}},null,{"$f":"T168-HLOOKUP(X168,Feuil2!$C$1:$CD$9,2,FALSE)","v":{"$error":"#VALUE!"}},{"$f":"T168-HLOOKUP(X168,Feuil2!$C$1:$CD$9,3,FALSE)","v":{"$error":"#VALUE!"}},{"$f":"T168-HLOOKUP(X168,Feuil2!$C$1:$CD$9,4,FALSE)","v":{"$error":"#VALUE!"}},{"$f":"T168-HLOOKUP(X168,Feuil2!$C$1:$CD$9,5,FALSE)","v":{"$error":"#VALUE!"}},{"$f":"T168-HLOOKUP(X168,Feuil2!$C$1:$CD$9,6,FALSE)","v":{"$error":"#VALUE!"}},{"$f":"T168-HLOOKUP(X168,Feuil2!$C$1:$CD$9,7,FALSE)","v":{"$error":"#VALUE!"}},{"$f":"T168-HLOOKUP(X168,Feuil2!$C$1:$CD$9,8,FALSE)","v":{"$error":"#VALUE!"}},{"$f":"T168-HLOOKUP(X168,Feuil2!$C$1:$CD$9,9,FALSE)","v":{"$error":"#VALUE!"}},null,null,null,null,null,null,null,{"$error":"#VALUE!"},114,null,{"$f":"IF(AP168,VLOOKUP(AP168,HOM!$AR$551:$AS$606,2))","v":3.5710000000000002}]
["H",null,null,null,null,false,null,null,null,null,null,null,null,null,"",null,null,null,"","","","","",{"$f":"IF(AND(J169>=40,J169<45),VLOOKUP(K169,Feuil2!$F$10:$P$28,9),IF(AND(J169>=45,J169<50),VLOOKUP(K169,Feuil2!$F$10:$P$28,8),IF(AND(J169>=50,J169<55),VLOOKUP(K169,Feuil2!$F$10:$P$28,7),IF(AND(J169>=55,J169<60),VLOOKUP(K169,Feuil2!$F$10:$P$28,6),IF(AND(J169>=60,J169<65),VLOOKUP(K169,Feuil2!$F$10:$P$28,5),IF(AND(J169>=65,J169<70),VLOOKUP(K169,Feuil2!$F$10:$P$28,4),IF(AND(J169>=70,J169<75),VLOOKUP(K169,Feuil2!$F$10:$P$28,3),IF(AND(J169>=75,J169<80),VLOOKUP(K169,Feuil2!$F$10:$P$28,2),VLOOKUP(K169,Feuil2!$F$10:$P$28,2)))))))))","v":{"$error":"#N/A"}},null,{"$f":"T169-HLOOKUP(X169,Feuil2!$C$1:$CD$9,2,FALSE)","v":{"$error":"#VALUE!"}},{"$f":"T169-HLOOKUP(X169,Feuil2!$C$1:$CD$9,3,FALSE)","v":{"$error":"#VALUE!"}},{"$f":"T169-HLOOKUP(X169,Feuil2!$C$1:$CD$9,4,FALSE)","v":{"$error":"#VALUE!"}},{"$f":"T169-HLOOKUP(X169,Feuil2!$C$1:$CD$9,5,FALSE)","v":{"$error":"#VALUE!"}},{"$f":"T169-HLOOKUP(X169,Feuil2!$C$1:$CD$9,6,FALSE)","v":{"$error":"#VALUE!"}},{"$f":"T169-HLOOKUP(X169,Feuil2!$C$1:$CD$9,7,FALSE)","v":{"$error":"#VALUE!"}},{"$f":"T169-HLOOKUP(X169,Feuil2!$C$1:$CD$9,8,FALSE)","v":{"$error":"#VALUE!"}},{"$f":"T169-HLOOKUP(X169,Feuil2!$C$1:$CD$9,9,FALSE)","v":{"$error":"#VALUE!"}},null,null,null,null,null,null,null,{"$error":"#VALUE!"},114,null,{"$f":"IF(AP169,VLOOKUP(AP169,HOM!$AR$551:$AS$606,2))","v":3.5710000000000002}]
["H",null,null,null,null,false,null,null,null,null,null,null,null,null,"",null,null,null,"","","","","",{"$f":"IF(AND(J170>=40,J170<45),VLOOKUP(K170,Feuil2!$F$10:$P$28,9),IF(AND(J170>=45,J170<50),VLOOKUP(K170,Feuil2!$F$10:$P$28,8),IF(AND(J170>=50,J170<55),VLOOKUP(K170,Feuil2!$F$10:$P$28,7),IF(AND(J170>=55,J170<60),VLOOKUP(K170,Feuil2!$F$10:$P$28,6),IF(AND(J170>=60,J170<65),VLOOKUP(K170,Feuil2!$F$10:$P$28,5),IF(AND(J170>=65,J170<70),VLOOKUP(K170,Feuil2!$F$10:$P$28,4),IF(AND(J170>=70,J170<75),VLOOKUP(K170,Feuil2!$F$10:$P$28,3),IF(AND(J170>=75,J170<80),VLOOKUP(K170,Feuil2!$F$10:$P$28,2),VLOOKUP(K170,Feuil2!$F$10:$P$28,2)))))))))","v":{"$error":"#N/A"}},null,{"$f":"T170-HLOOKUP(X170,Feuil2!$C$1:$CD$9,2,FALSE)","v":{"$error":"#VALUE!"}},{"$f":"T170-HLOOKUP(X170,Feuil2!$C$1:$CD$9,3,FALSE)","v":{"$error":"#VALUE!"}},{"$f":"T170-HLOOKUP(X170,Feuil2!$C$1:$CD$9,4,FALSE)","v":{"$error":"#VALUE!"}},{"$f":"T170-HLOOKUP(X170,Feuil2!$C$1:$CD$9,5,FALSE)","v":{"$error":"#VALUE!"}},{"$f":"T170-HLOOKUP(X170,Feuil2!$C$1:$CD$9,6,FALSE)","v":{"$error":"#VALUE!"}},{"$f":"T170-HLOOKUP(X170,Feuil2!$C$1:$CD$9,7,FALSE)","v":{"$error":"#VALUE!"}},{"$f":"T170-HLOOKUP(X170,Feuil2!$C$1:$CD$9,8,FALSE)","v":{"$error":"#VALUE!"}},{"$f":"T170-HLOOKUP(X170,Feuil2!$C$1:$CD$9,9,FALSE)","v":{"$error":"#VALUE!"}},null,null,null,null,null,null,null,{"$error":"#VALUE!"},114,null,{"$f":"IF(AP170,VLOOKUP(AP170,HOM!$AR$551:$AS$606,2))","v":3.5710000000000002}]
["H",null,null,null,null,false,null,null,null,null,null,null,null,null,"",null,null,null,"","","","","",{"$f":"IF(AND(J171>=40,J171<45),VLOOKUP(K171,Feuil2!$F$10:$P$28,9),IF(AND(J171>=45,J171<50),VLOOKUP(K171,Feuil2!$F$10:$P$28,8),IF(AND(J171>=50,J171<55),VLOOKUP(K171,Feuil2!$F$10:$P$28,7),IF(AND(J171>=55,J171<60),VLOOKUP(K171,Feuil2!$F$10:$P$28,6),IF(AND(J171>=60,J171<65),VLOOKUP(K171,Feuil2!$F$10:$P$28,5),IF(AND(J171>=65,J171<70),VLOOKUP(K171,Feuil2!$F$10:$P$28,4),IF(AND(J171>=70,J171<75),VLOOKUP(K171,Feuil2!$F$10:$P$28,3),IF(AND(J171>=75,J171<80),VLOOKUP(K171,Feuil2!$F$10:$P$28,2),VLOOKUP(K171,Feuil2!$F$10:$P$28,2)))))))))","v":{"$error":"#N/A"}},null,{"$f":"T171-HLOOKUP(X171,Feuil2!$C$1:$CD$9,2,FALSE)","v":{"$error":"#VALUE!"}},{"$f":"T171-HLOOKUP(X171,Feuil2!$C$1:$CD$9,3,FALSE)","v":{"$error":"#VALUE!"}},{"$f":"T171-HLOOKUP(X171,Feuil2!$C$1:$CD$9,4,FALSE)","v":{"$error":"#VALUE!"}},{"$f":"T171-HLOOKUP(X171,Feuil2!$C$1:$CD$9,5,FALSE)","v":{"$error":"#VALUE!"}},{"$f":"T171-HLOOKUP(X171,Feuil2!$C$1:$CD$9,6,FALSE)","v":{"$error":"#VALUE!"}},{"$f":"T171-HLOOKUP(X171,Feuil2!$C$1:$CD$9,7,FALSE)","v":{"$error":"#VALUE!"}},{"$f":"T171-HLOOKUP(X171,Feuil2!$C$1:$CD$9,8,FALSE)","v":{"$error":"#VALUE!"}},{"$f":"T171-HLOOKUP(X171,Feuil2!$C$1:$CD$9,9,FALSE)","v":{"$error":"#VALUE!"}},null,null,null,null,null,null,null,{"$error":"#VALUE!"},114,null,{"$f":"IF(AP171,VLOOKUP(AP171,HOM!$AR$551:$AS$606,2))","v":3.5710000000000002}]
["H",null,null,null,null,false,null,null,null,null,null,null,null,null,"",null,null,null,"","","","","",{"$f":"IF(AND(J172>=40,J172<45),VLOOKUP(K172,Feuil2!$F$10:$P$28,9),IF(AND(J172>=45,J172<50),VLOOKUP(K172,Feuil2!$F$10:$P$28,8),IF(AND(J172>=50,J172<55),VLOOKUP(K172,Feuil2!$F$10:$P$28,7),IF(AND(J172>=55,J172<60),VLOOKUP(K172,Feuil2!$F$10:$P$28,6),IF(AND(J172>=60,J172<65),VLOOKUP(K172,Feuil2!$F$10:$P$28,5),IF(AND(J172>=65,J172<70),VLOOKUP(K172,Feuil2!$F$10:$P$28,4),IF(AND(J172>=70,J172<75),VLOOKUP(K172,Feuil2!$F$10:$P$28,3),IF(AND(J172>=75,J172<80),VLOOKUP(K172,Feuil2!$F$10:$P$28,2),VLOOKUP(K172,Feuil2!$F$10:$P$28,2)))))))))","v":{"$error":"#N/A"}},null,{"$f":"T172-HLOOKUP(X172,Feuil2!$C$1:$CD$9,2,FALSE)","v":{"$error":"#VALUE!"}},{"$f":"T172-HLOOKUP(X172,Feuil2!$C$1:$CD$9,3,FALSE)","v":{"$error":"#VALUE!"}},{"$f":"T172-HLOOKUP(X172,Feuil2!$C$1:$CD$9,4,FALSE)","v":{"$error":"#VALUE!"}},{"$f":"T172-HLOOKUP(X172,Feuil2!$C$1:$CD$9,5,FALSE)","v":{"$error":"#VALUE!"}},{"$f":"T172-HLOOKUP(X172,Feuil2!$C$1:$CD$9,6,FALSE)","v":{"$error":"#VALUE!"}},{"$f":"T172-HLOOKUP(X172,Feuil2!$C$1:$CD$9,7,FALSE)","v":{"$error":"#VALUE!"}},{"$f":"T172-HLOOKUP(X172,Feuil2!$C$1:$CD$9,8,FALSE)","v":{"$error":"#VALUE!"}},{"$f":"T172-HLOOKUP(X172,Feuil2!$C$1:$CD$9,9,FALSE)","v":{"$error":"#VALUE!"}},null,null,null,null,null,null,null,{"$error":"#VALUE!"},114,null,{"$f":"IF(AP172,VLOOKUP(AP172,HOM!$AR$551:$AS$606,2))","v":3.5710000000000002}]
["H",null,null,null,null,false,null,null,null,null,null,null,null,null,"",null,null,null,"","","","","",{"$f":"IF(AND(J173>=40,J173<45),VLOOKUP(K173,Feuil2!$F$10:$P$28,9),IF(AND(J173>=45,J173<50),VLOOKUP(K173,Feuil2!$F$10:$P$28,8),IF(AND(J173>=50,J173<55),VLOOKUP(K173,Feuil2!$F$10:$P$28,7),IF(AND(J173>=55,J173<60),VLOOKUP(K173,Feuil2!$F$10:$P$28,6),IF(AND(J173>=60,J173<65),VLOOKUP(K173,Feuil2!$F$10:$P$28,5),IF(AND(J173>=65,J173<70),VLOOKUP(K173,Feuil2!$F$10:$P$28,4),IF(AND(J173>=70,J173<75),VLOOKUP(K173,Feuil2!$F$10:$P$28,3),IF(AND(J173>=75,J173<80),VLOOKUP(K173,Feuil2!$F$10:$P$28,2),VLOOKUP(K173,Feuil2!$F$10:$P$28,2)))))))))","v":{"$error":"#N/A"}},null,{"$f":"T173-HLOOKUP(X173,Feuil2!$C$1:$CD$9,2,FALSE)","v":{"$error":"#VALUE!"}},{"$f":"T173-HLOOKUP(X173,Feuil2!$C$1:$CD$9,3,FALSE)","v":{"$error":"#VALUE!"}},{"$f":"T173-HLOOKUP(X173,Feuil2!$C$1:$CD$9,4,FALSE)","v":{"$error":"#VALUE!"}},{"$f":"T173-HLOOKUP(X173,Feuil2!$C$1:$CD$9,5,FALSE)","v":{"$error":"#VALUE!"}},{"$f":"T173-HLOOKUP(X173,Feuil2!$C$1:$CD$9,6,FALSE)","v":{"$error":"#VALUE!"}},{"$f":"T173-HLOOKUP(X173,Feuil2!$C$1:$CD$9,7,FALSE)","v":{"$error":"#VALUE!"}},{"$f":"T173-HLOOKUP(X173,Feuil2!$C$1:$CD$9,8,FALSE)","v":{"$error":"#VALUE!"}},{"$f":"T173-HLOOKUP(X173,Feuil2!$C$1:$CD$9,9,FALSE)","v":{"$error":"#VALUE!"}},null,null,null,null,null,null,null,{"$error":"#VALUE!"},114,null,{"$f":"IF(AP173,VLOOKUP(AP173,HOM!$AR$551:$AS$606,2))","v":3.5710000000000002}]
["H",null,null,null,null,false,null,null,null,null,null,null,null,null,"",null,null,null,"","","","","",{"$f":"IF(AND(J174>=40,J174<45),VLOOKUP(K174,Feuil2!$F$10:$P$28,9),IF(AND(J174>=45,J174<50),VLOOKUP(K174,Feuil2!$F$10:$P$28,8),IF(AND(J174>=50,J174<55),VLOOKUP(K174,Feuil2!$F$10:$P$28,7),IF(AND(J174>=55,J174<60),VLOOKUP(K174,Feuil2!$F$10:$P$28,6),IF(AND(J174>=60,J174<65),VLOOKUP(K174,Feuil2!$F$10:$P$28,5),IF(AND(J174>=65,J174<70),VLOOKUP(K174,Feuil2!$F$10:$P$28,4),IF(AND(J174>=70,J174<75),VLOOKUP(K174,Feuil2!$F$10:$P$28,3),IF(AND(J174>=75,J174<80),VLOOKUP(K174,Feuil2!$F$10:$P$28,2),VLOOKUP(K174,Feuil2!$F$10:$P$28,2)))))))))","v":{"$error":"#N/A"}},null,{"$f":"T174-HLOOKUP(X174,Feuil2!$C$1:$CD$9,2,FALSE)","v":{"$error":"#VALUE!"}},{"$f":"T174-HLOOKUP(X174,Feuil2!$C$1:$CD$9,3,FALSE)","v":{"$error":"#VALUE!"}},{"$f":"T174-HLOOKUP(X174,Feuil2!$C$1:$CD$9,4,FALSE)","v":{"$error":"#VALUE!"}},{"$f":"T174-HLOOKUP(X174,Feuil2!$C$1:$CD$9,5,FALSE)","v":{"$error":"#VALUE!"}},{"$f":"T174-HLOOKUP(X174,Feuil2!$C$1:$CD$9,6,FALSE)","v":{"$error":"#VALUE!"}},{"$f":"T174-HLOOKUP(X174,Feuil2!$C$1:$CD$9,7,FALSE)","v":{"$error":"#VALUE!"}},{"$f":"T174-HLOOKUP(X174,Feuil2!$C$1:$CD$9,8,FALSE)","v":{"$error":"#VALUE!"}},{"$f":"T174-HLOOKUP(X174,Feuil2!$C$1:$CD$9,9,FALSE)","v":{"$error":"#VALUE!"}},null,null,null,null,null,null,null,{"$error":"#VALUE!"},114,null,{"$f":"IF(AP174,VLOOKUP(AP174,HOM!$AR$551:$AS$606,2))","v":3.5710000000000002}]
["H",null,null,null,null,false,null,null,null,null,null,null,null,null,"",null,null,null,"","","","","",{"$f":"IF(AND(J175>=40,J175<45),VLOOKUP(K175,Feuil2!$F$10:$P$28,9),IF(AND(J175>=45,J175<50),VLOOKUP(K175,Feuil2!$F$10:$P$28,8),IF(AND(J175>=50,J175<55),VLOOKUP(K175,Feuil2!$F$10:$P$28,7),IF(AND(J175>=55,J175<60),VLOOKUP(K175,Feuil2!$F$10:$P$28,6),IF(AND(J175>=60,J175<65),VLOOKUP(K175,Feuil2!$F$10:$P$28,5),IF(AND(J175>=65,J175<70),VLOOKUP(K175,Feuil2!$F$10:$P$28,4),IF(AND(J175>=70,J175<75),VLOOKUP(K175,Feuil2!$F$10:$P$28,3),IF(AND(J175>=75,J175<80),VLOOKUP(K175,Feuil2!$F$10:$P$28,2),VLOOKUP(K175,Feuil2!$F$10:$P$28,2)))))))))","v":{"$error":"#N/A"}},null,{"$f":"T175-HLOOKUP(X175,Feuil2!$C$1:$CD$9,2,FALSE)","v":{"$error":"#VALUE!"}},{"$f":"T175-HLOOKUP(X175,Feuil2!$C$1:$CD$9,3,FALSE)","v":{"$error":"#VALUE!"}},{"$f":"T175-HLOOKUP(X175,Feuil2!$C$1:$CD$9,4,FALSE)","v":{"$error":"#VALUE!"}},{"$f":"T175-HLOOKUP(X175,Feuil2!$C$1:$CD$9,5,FALSE)","v":{"$error":"#VALUE!"}},{"$f":"T175-HLOOKUP(X175,Feuil2!$C$1:$CD$9,6,FALSE)","v":{"$error":"#VALUE!"}},{"$f":"T175-HLOOKUP(X175,Feuil2!$C$1:$CD$9,7,FALSE)","v":{"$error":"#VALUE!"}},{"$f":"T175-HLOOKUP(X175,Feuil2!$C$1:$CD$9,8,FALSE)","v":{"$error":"#VALUE!"}},{"$f":"T175-HLOOKUP(X175,Feuil2!$C$1:$CD$9,9,FALSE)","v":{"$error":"#VALUE!"}},null,null,null,null,null,null,null,{"$error":"#VALUE!"},114,null,{"$f":"IF(AP175,VLOOKUP(AP175,HOM!$AR$551:$AS$606,2))","v":3.5710000000000002}]
["H",null,null,null,null,false,null,null,null,null,null,null,null,null,"",null,null,null,"","","","","",{"$f":"IF(AND(J176>=40,J176<45),VLOOKUP(K176,Feuil2!$F$10:$P$28,9),IF(AND(J176>=45,J176<50),VLOOKUP(K176,Feuil2!$F$10:$P$28,8),IF(AND(J176>=50,J176<55),VLOOKUP(K176,Feuil2!$F$10:$P$28,7),IF(AND(J176>=55,J176<60),VLOOKUP(K176,Feuil2!$F$10:$P$28,6),IF(AND(J176>=60,J176<65),VLOOKUP(K176,Feuil2!$F$10:$P$28,5),IF(AND(J176>=65,J176<70),VLOOKUP(K176,Feuil2!$F$10:$P$28,4),IF(AND(J176>=70,J176<75),VLOOKUP(K176,Feuil2!$F$10:$P$28,3),IF(AND(J176>=75,J176<80),VLOOKUP(K176,Feuil2!$F$10:$P$28,2),VLOOKUP(K176,Feuil2!$F$10:$P$28,2)))))))))","v":{"$error":"#N/A"}},null,{"$f":"T176-HLOOKUP(X176,Feuil2!$C$1:$CD$9,2,FALSE)","v":{"$error":"#VALUE!"}},{"$f":"T176-HLOOKUP(X176,Feuil2!$C$1:$CD$9,3,FALSE)","v":{"$error":"#VALUE!"}},{"$f":"T176-HLOOKUP(X176,Feuil2!$C$1:$CD$9,4,FALSE)","v":{"$error":"#VALUE!"}},{"$f":"T176-HLOOKUP(X176,Feuil2!$C$1:$CD$9,5,FALSE)","v":{"$error":"#VALUE!"}},{"$f":"T176-HLOOKUP(X176,Feuil2!$C$1:$CD$9,6,FALSE)","v":{"$error":"#VALUE!"}},{"$f":"T176-HLOOKUP(X176,Feuil2!$C$1:$CD$9,7,FALSE)","v":{"$error":"#VALUE!"}},{"$f":"T176-HLOOKUP(X176,Feuil2!$C$1:$CD$9,8,FALSE)","v":{"$error":"#VALUE!"}},{"$f":"T176-HLOOKUP(X176,Feuil2!$C$1:$CD$9,9,FALSE)","v":{"$error":"#VALUE!"}},null,null,null,null,null,null,null,{"$error":"#VALUE!"},114,null,{"$f":"IF(AP176,VLOOKUP(AP176,HOM!$AR$551:$AS$606,2))","v":3.5710000000000002}]
["H",null,null,null,null,false,null,null,null,null,null,null,null,null,{"$f":"IF(K177=\"\",\"\",IF(MAXA(L177:N177)<=0,0,MAXA(L177:N177)))","v":""},null,null,null,{"$f":"IF(K177=\"\",\"\",IF(MAXA(P177:R177)<=0,0,MAXA(P177:R177)))","v":""},{"$f":"IF(K177=\"\",\"\",IF(OR(O177=0,S177=0),0,O177+S177))","v":""},"","","",{"$f":"IF(AND(J177>=40,J177<45),VLOOKUP(K177,Feuil2!$F$10:$P$28,9),IF(AND(J177>=45,J177<50),VLOOKUP(K177,Feuil2!$F$10:$P$28,8),IF(AND(J177>=50,J177<55),VLOOKUP(K177,Feuil2!$F$10:$P$28,7),IF(AND(J177>=55,J177<60),VLOOKUP(K177,Feuil2!$F$10:$P$28,6),IF(AND(J177>=60,J177<65),VLOOKUP(K177,Feuil2!$F$10:$P$28,5),IF(AND(J177>=65,J177<70),VLOOKUP(K177,Feuil2!$F$10:$P$28,4),IF(AND(J177>=70,J177<75),VLOOKUP(K177,Feuil2!$F$10:$P$28,3),IF(AND(J177>=75,J177<80),VLOOKUP(K177,Feuil2!$F$10:$P$28,2),VLOOKUP(K177,Feuil2!$F$10:$P$28,2)))))))))","v":{"$error":"#N/A"}},null,{"$f":"T177-HLOOKUP(X177,Feuil2!$C$1:$CD$9,2,FALSE)","v":{"$error":"#VALUE!"}},{"$f":"T177-HLOOKUP(X177,Feuil2!$C$1:$CD$9,3,FALSE)","v":{"$error":"#VALUE!"}},{"$f":"T177-HLOOKUP(X177,Feuil2!$C$1:$CD$9,4,FALSE)","v":{"$error":"#VALUE!"}},{"$f":"T177-HLOOKUP(X177,Feuil2!$C$1:$CD$9,5,FALSE)","v":{"$error":"#VALUE!"}},{"$f":"T177-HLOOKUP(X177,Feuil2!$C$1:$CD$9,6,FALSE)","v":{"$error":"#VALUE!"}},{"$f":"T177-HLOOKUP(X177,Feuil2!$C$1:$CD$9,7,FALSE)","v":{"$error":"#VALUE!"}},{"$f":"T177-HLOOKUP(X177,Feuil2!$C$1:$CD$9,8,FALSE)","v":{"$error":"#VALUE!"}},{"$f":"T177-HLOOKUP(X177,Feuil2!$C$1:$CD$9,9,FALSE)","v":{"$error":"#VALUE!"}},null,null,null,null,null,null,null,{"$error":"#VALUE!"},{"$f":"114-J177","v":114},null,{"$f":"IF(AP177,VLOOKUP(AP177,HOM!$AR$551:$AS$606,2))","v":3.5710000000000002}]
["H",null,null,null,null,false,null,null,null,null,null,null,null,null,"",null,null,null,"","","","","",{"$f":"IF(AND(J178>=40,J178<45),VLOOKUP(K178,Feuil2!$F$10:$P$28,9),IF(AND(J178>=45,J178<50),VLOOKUP(K178,Feuil2!$F$10:$P$28,8),IF(AND(J178>=50,J178<55),VLOOKUP(K178,Feuil2!$F$10:$P$28,7),IF(AND(J178>=55,J178<60),VLOOKUP(K178,Feuil2!$F$10:$P$28,6),IF(AND(J178>=60,J178<65),VLOOKUP(K178,Feuil2!$F$10:$P$28,5),IF(AND(J178>=65,J178<70),VLOOKUP(K178,Feuil2!$F$10:$P$28,4),IF(AND(J178>=70,J178<75),VLOOKUP(K178,Feuil2!$F$10:$P$28,3),IF(AND(J178>=75,J178<80),VLOOKUP(K178,Feuil2!$F$10:$P$28,2),VLOOKUP(K178,Feuil2!$F$10:$P$28,2)))))))))","v":{"$error":"#N/A"}},null,{"$f":"T178-HLOOKUP(X178,Feuil2!$C$1:$CD$9,2,FALSE)","v":{"$error":"#VALUE!"}},{"$f":"T178-HLOOKUP(X178,Feuil2!$C$1:$CD$9,3,FALSE)","v":{"$error":"#VALUE!"}},{"$f":"T178-HLOOKUP(X178,Feuil2!$C$1:$CD$9,4,FALSE)","v":{"$error":"#VALUE!"}},{"$f":"T178-HLOOKUP(X178,Feuil2!$C$1:$CD$9,5,FALSE)","v":{"$error":"#VALUE!"}},{"$f":"T178-HLOOKUP(X178,Feuil2!$C$1:$CD$9,6,FALSE)","v":{"$error":"#VALUE!"}},{"$f":"T178-HLOOKUP(X178,Feuil2!$C$1:$CD$9,7,FALSE)","v":{"$error":"#VALUE!"}},{"$f":"T178-HLOOKUP(X178,Feuil2!$C$1:$CD$9,8,FALSE)","v":{"$error":"#VALUE!"}},{"$f":"T178-HLOOKUP(X178,Feuil2!$C$1:$CD$9,9,FALSE)","v":{"$error":"#VALUE!"}},null,null,null,null,null,null,null,{"$error":"#VALUE!"},114,null,{"$f":"IF(AP178,VLOOKUP(AP178,HOM!$AR$551:$AS$606,2))","v":3.5710000000000002}]
["H",null,null,null,null,false,null,null,null,null,null,null,null,null,"",null,null,null,"","","","","",{"$f":"IF(AND(J179>=40,J179<45),VLOOKUP(K179,Feuil2!$F$10:$P$28,9),IF(AND(J179>=45,J179<50),VLOOKUP(K179,Feuil2!$F$10:$P$28,8),IF(AND(J179>=50,J179<55),VLOOKUP(K179,Feuil2!$F$10:$P$28,7),IF(AND(J179>=55,J179<60),VLOOKUP(K179,Feuil2!$F$10:$P$28,6),IF(AND(J179>=60,J179<65),VLOOKUP(K179,Feuil2!$F$10:$P$28,5),IF(AND(J179>=65,J179<70),VLOOKUP(K179,Feuil2!$F$10:$P$28,4),IF(AND(J179>=70,J179<75),VLOOKUP(K179,Feuil2!$F$10:$P$28,3),IF(AND(J179>=75,J179<80),VLOOKUP(K179,Feuil2!$F$10:$P$28,2),VLOOKUP(K179,Feuil2!$F$10:$P$28,2)))))))))","v":{"$error":"#N/A"}},null,{"$f":"T179-HLOOKUP(X179,Feuil2!$C$1:$CD$9,2,FALSE)","v":{"$error":"#VALUE!"}},{"$f":"T179-HLOOKUP(X179,Feuil2!$C$1:$CD$9,3,FALSE)","v":{"$error":"#VALUE!"}},{"$f":"T179-HLOOKUP(X179,Feuil2!$C$1:$CD$9,4,FALSE)","v":{"$error":"#VALUE!"}},{"$f":"T179-HLOOKUP(X179,Feuil2!$C$1:$CD$9,5,FALSE)","v":{"$error":"#VALUE!"}},{"$f":"T179-HLOOKUP(X179,Feuil2!$C$1:$CD$9,6,FALSE)","v":{"$error":"#VALUE!"}},{"$f":"T179-HLOOKUP(X179,Feuil2!$C$1:$CD$9,7,FALSE)","v":{"$error":"#VALUE!"}},{"$f":"T179-HLOOKUP(X179,Feuil2!$C$1:$CD$9,8,FALSE)","v":{"$error":"#VALUE!"}},{"$f":"T179-HLOOKUP(X179,Feuil2!$C$1:$CD$9,9,FALSE)","v":{"$error":"#VALUE!"}},null,null,null,null,null,null,null,{"$error":"#VALUE!"},114,null,{"$f":"IF(AP179,VLOOKUP(AP179,HOM!$AR$551:$AS$606,2))","v":3.5710000000000002}]
["H",null,null,null,null,false,null,null,null,null,null,null,null,null,"",null,null,null,"","","","","",{"$f":"IF(AND(J180>=40,J180<45),VLOOKUP(K180,Feuil2!$F$10:$P$28,9),IF(AND(J180>=45,J180<50),VLOOKUP(K180,Feuil2!$F$10:$P$28,8),IF(AND(J180>=50,J180<55),VLOOKUP(K180,Feuil2!$F$10:$P$28,7),IF(AND(J180>=55,J180<60),VLOOKUP(K180,Feuil2!$F$10:$P$28,6),IF(AND(J180>=60,J180<65),VLOOKUP(K180,Feuil2!$F$10:$P$28,5),IF(AND(J180>=65,J180<70),VLOOKUP(K180,Feuil2!$F$10:$P$28,4),IF(AND(J180>=70,J180<75),VLOOKUP(K180,Feuil2!$F$10:$P$28,3),IF(AND(J180>=75,J180<80),VLOOKUP(K180,Feuil2!$F$10:$P$28,2),VLOOKUP(K180,Feuil2!$F$10:$P$28,2)))))))))","v":{"$error":"#N/A"}},null,{"$f":"T180-HLOOKUP(X180,Feuil2!$C$1:$CD$9,2,FALSE)","v":{"$error":"#VALUE!"}},{"$f":"T180-HLOOKUP(X180,Feuil2!$C$1:$CD$9,3,FALSE)","v":{"$error":"#VALUE!"}},{"$f":"T180-HLOOKUP(X180,Feuil2!$C$1:$CD$9,4,FALSE)","v":{"$error":"#VALUE!"}},{"$f":"T180-HLOOKUP(X180,Feuil2!$C$1:$CD$9,5,FALSE)","v":{"$error":"#VALUE!"}},{"$f":"T180-HLOOKUP(X180,Feuil2!$C$1:$CD$9,6,FALSE)","v":{"$error":"#VALUE!"}},{"$f":"T180-HLOOKUP(X180,Feuil2!$C$1:$CD$9,7,FALSE)","v":{"$error":"#VALUE!"}},{"$f":"T180-HLOOKUP(X180,Feuil2!$C$1:$CD$9,8,FALSE)","v":{"$error":"#VALUE!"}},{"$f":"T180-HLOOKUP(X180,Feuil2!$C$1:$CD$9,9,FALSE)","v":{"$error":"#VALUE!"}},null,null,null,null,null,null,null,{"$error":"#VALUE!"},114,null,{"$f":"IF(AP180,VLOOKUP(AP180,HOM!$AR$551:$AS$606,2))","v":3.5710000000000002}]
["H",null,null,null,null,false,null,null,null,null,null,null,null,null,"",null,null,null,"","","","","",{"$f":"IF(AND(J181>=40,J181<45),VLOOKUP(K181,Feuil2!$F$10:$P$28,9),IF(AND(J181>=45,J181<50),VLOOKUP(K181,Feuil2!$F$10:$P$28,8),IF(AND(J181>=50,J181<55),VLOOKUP(K181,Feuil2!$F$10:$P$28,7),IF(AND(J181>=55,J181<60),VLOOKUP(K181,Feuil2!$F$10:$P$28,6),IF(AND(J181>=60,J181<65),VLOOKUP(K181,Feuil2!$F$10:$P$28,5),IF(AND(J181>=65,J181<70),VLOOKUP(K181,Feuil2!$F$10:$P$28,4),IF(AND(J181>=70,J181<75),VLOOKUP(K181,Feuil2!$F$10:$P$28,3),IF(AND(J181>=75,J181<80),VLOOKUP(K181,Feuil2!$F$10:$P$28,2),VLOOKUP(K181,Feuil2!$F$10:$P$28,2)))))))))","v":{"$error":"#N/A"}},null,{"$f":"T181-HLOOKUP(X181,Feuil2!$C$1:$CD$9,2,FALSE)","v":{"$error":"#VALUE!"}},{"$f":"T181-HLOOKUP(X181,Feuil2!$C$1:$CD$9,3,FALSE)","v":{"$error":"#VALUE!"}},{"$f":"T181-HLOOKUP(X181,Feuil2!$C$1:$CD$9,4,FALSE)","v":{"$error":"#VALUE!"}},{"$f":"T181-HLOOKUP(X181,Feuil2!$C$1:$CD$9,5,FALSE)","v":{"$error":"#VALUE!"}},{"$f":"T181-HLOOKUP(X181,Feuil2!$C$1:$CD$9,6,FALSE)","v":{"$error":"#VALUE!"}},{"$f":"T181-HLOOKUP(X181,Feuil2!$C$1:$CD$9,7,FALSE)","v":{"$error":"#VALUE!"}},{"$f":"T181-HLOOKUP(X181,Feuil2!$C$1:$CD$9,8,FALSE)","v":{"$error":"#VALUE!"}},{"$f":"T181-HLOOKUP(X181,Feuil2!$C$1:$CD$9,9,FALSE)","v":{"$error":"#VALUE!"}},null,null,null,null,null,null,null,{"$error":"#VALUE!"},114,null,{"$f":"IF(AP181,VLOOKUP(AP181,HOM!$AR$551:$AS$606,2))","v":3.5710000000000002}]
["H",null,null,null,null,false,null,null,null,null,null,null,null,null,"",null,null,null,"","",{"$f":"IF(K182=\"\",\"\",IF(A182=\"H\",10^(0.794358141*LOG(K182/174.393)^2)*T182*AR182,IF(A182=\"F\",10^(0.89726074 * LOG(K182/148.026)^2)*T182*AR182,\"\")))","v":""},{"$f":"IF(K182=\"\",\"\",AO182)","v":""},{"$f":"IF(K182=\"\",\"\",IF(AG182>=0,AG182,IF(AF182>=0,AF182,IF(AE182>=0,AE182,IF(AD182>=0,AD182,IF(AC182>=0,AC182,IF(AB182>=0,AB182,IF(AA182>=0,AA182,Z182))))))))","v":""},{"$f":"IF(AND(J182>=40,J182<45),VLOOKUP(K182,Feuil2!$F$10:$P$28,9),IF(AND(J182>=45,J182<50),VLOOKUP(K182,Feuil2!$F$10:$P$28,8),IF(AND(J182>=50,J182<55),VLOOKUP(K182,Feuil2!$F$10:$P$28,7),IF(AND(J182>=55,J182<60),VLOOKUP(K182,Feuil2!$F$10:$P$28,6),IF(AND(J182>=60,J182<65),VLOOKUP(K182,Feuil2!$F$10:$P$28,5),IF(AND(J182>=65,J182<70),VLOOKUP(K182,Feuil2!$F$10:$P$28,4),IF(AND(J182>=70,J182<75),VLOOKUP(K182,Feuil2!$F$10:$P$28,3),IF(AND(J182>=75,J182<80),VLOOKUP(K182,Feuil2!$F$10:$P$28,2),VLOOKUP(K182,Feuil2!$F$10:$P$28,2)))))))))","v":{"$error":"#N/A"}},null,{"$f":"T182-HLOOKUP(X182,Feuil2!$C$1:$CD$9,2,FALSE)","v":{"$error":"#VALUE!"}},{"$f":"T182-HLOOKUP(X182,Feuil2!$C$1:$CD$9,3,FALSE)","v":{"$error":"#VALUE!"}},{"$f":"T182-HLOOKUP(X182,Feuil2!$C$1:$CD$9,4,FALSE)","v":{"$error":"#VALUE!"}},{"$f":"T182-HLOOKUP(X182,Feuil2!$C$1:$CD$9,5,FALSE)","v":{"$error":"#VALUE!"}},{"$f":"T182-HLOOKUP(X182,Feuil2!$C$1:$CD$9,6,FALSE)","v":{"$error":"#VALUE!"}},{"$f":"T182-HLOOKUP(X182,Feuil2!$C$1:$CD$9,7,FALSE)","v":{"$error":"#VALUE!"}},{"$f":"T182-HLOOKUP(X182,Feuil2!$C$1:$CD$9,8,FALSE)","v":{"$error":"#VALUE!"}},{"$f":"T182-HLOOKUP(X182,Feuil2!$C$1:$CD$9,9,FALSE)","v":{"$error":"#VALUE!"}},null,null,null,null,null,null,null,{"$f":"IF(AG182>=0,$AG$4,IF(AF182>=0,$AF$4,IF(AE182>=0,$AE$4,IF(AD182>=0,$AD$4,IF(AC182>=0,$AC$4,IF(AB182>=0,$AB$4,IF(AA182>=0,$AA$4,IF(Z182>=0,$Z$4,$AH$4))))))))","v":{"$error":"#VALUE!"}},114,null,{"$f":"IF(AP182,VLOOKUP(AP182,HOM!$AR$551:$AS$606,2))","v":3.5710000000000002}]
["H",null,null,null,null,false,null,null,null,null,null,null,null,null,"",null,null,null,"","","","","",{"$f":"IF(AND(J183>=40,J183<45),VLOOKUP(K183,Feuil2!$F$10:$P$28,9),IF(AND(J183>=45,J183<50),VLOOKUP(K183,Feuil2!$F$10:$P$28,8),IF(AND(J183>=50,J183<55),VLOOKUP(K183,Feuil2!$F$10:$P$28,7),IF(AND(J183>=55,J183<60),VLOOKUP(K183,Feuil2!$F$10:$P$28,6),IF(AND(J183>=60,J183<65),VLOOKUP(K183,Feuil2!$F$10:$P$28,5),IF(AND(J183>=65,J183<70),VLOOKUP(K183,Feuil2!$F$10:$P$28,4),IF(AND(J183>=70,J183<75),VLOOKUP(K183,Feuil2!$F$10:$P$28,3),IF(AND(J183>=75,J183<80),VLOOKUP(K183,Feuil2!$F$10:$P$28,2),VLOOKUP(K183,Feuil2!$F$10:$P$28,2)))))))))","v":{"$error":"#N/A"}},null,{"$f":"T183-HLOOKUP(X183,Feuil2!$C$1:$CD$9,2,FALSE)","v":{"$error":"#VALUE!"}},{"$f":"T183-HLOOKUP(X183,Feuil2!$C$1:$CD$9,3,FALSE)","v":{"$error":"#VALUE!"}},{"$f":"T183-HLOOKUP(X183,Feuil2!$C$1:$CD$9,4,FALSE)","v":{"$error":"#VALUE!"}},{"$f":"T183-HLOOKUP(X183,Feuil2!$C$1:$CD$9,5,FALSE)","v":{"$error":"#VALUE!"}},{"$f":"T183-HLOOKUP(X183,Feuil2!$C$1:$CD$9,6,FALSE)","v":{"$error":"#VALUE!"}},{"$f":"T183-HLOOKUP(X183,Feuil2!$C$1:$CD$9,7,FALSE)","v":{"$error":"#VALUE!"}},{"$f":"T183-HLOOKUP(X183,Feuil2!$C$1:$CD$9,8,FALSE)","v":{"$error":"#VALUE!"}},{"$f":"T183-HLOOKUP(X183,Feuil2!$C$1:$CD$9,9,FALSE)","v":{"$error":"#VALUE!"}},null,null,null,null,null,null,null,{"$error":"#VALUE!"},114,null,{"$f":"IF(AP183,VLOOKUP(AP183,HOM!$AR$551:$AS$606,2))","v":3.5710000000000002}]
["H",null,null,null,null,false,null,null,null,null,null,null,null,null,"",null,null,null,"","","","","",{"$f":"IF(AND(J184>=40,J184<45),VLOOKUP(K184,Feuil2!$F$10:$P$28,9),IF(AND(J184>=45,J184<50),VLOOKUP(K184,Feuil2!$F$10:$P$28,8),IF(AND(J184>=50,J184<55),VLOOKUP(K184,Feuil2!$F$10:$P$28,7),IF(AND(J184>=55,J184<60),VLOOKUP(K184,Feuil2!$F$10:$P$28,6),IF(AND(J184>=60,J184<65),VLOOKUP(K184,Feuil2!$F$10:$P$28,5),IF(AND(J184>=65,J184<70),VLOOKUP(K184,Feuil2!$F$10:$P$28,4),IF(AND(J184>=70,J184<75),VLOOKUP(K184,Feuil2!$F$10:$P$28,3),IF(AND(J184>=75,J184<80),VLOOKUP(K184,Feuil2!$F$10:$P$28,2),VLOOKUP(K184,Feuil2!$F$10:$P$28,2)))))))))","v":{"$error":"#N/A"}},null,{"$f":"T184-HLOOKUP(X184,Feuil2!$C$1:$CD$9,2,FALSE)","v":{"$error":"#VALUE!"}},{"$f":"T184-HLOOKUP(X184,Feuil2!$C$1:$CD$9,3,FALSE)","v":{"$error":"#VALUE!"}},{"$f":"T184-HLOOKUP(X184,Feuil2!$C$1:$CD$9,4,FALSE)","v":{"$error":"#VALUE!"}},{"$f":"T184-HLOOKUP(X184,Feuil2!$C$1:$CD$9,5,FALSE)","v":{"$error":"#VALUE!"}},{"$f":"T184-HLOOKUP(X184,Feuil2!$C$1:$CD$9,6,FALSE)","v":{"$error":"#VALUE!"}},{"$f":"T184-HLOOKUP(X184,Feuil2!$C$1:$CD$9,7,FALSE)","v":{"$error":"#VALUE!"}},{"$f":"T184-HLOOKUP(X184,Feuil2!$C$1:$CD$9,8,FALSE)","v":{"$error":"#VALUE!"}},{"$f":"T184-HLOOKUP(X184,Feuil2!$C$1:$CD$9,9,FALSE)","v":{"$error":"#VALUE!"}},null,null,null,null,null,null,null,{"$error":"#VALUE!"},114,null,{"$f":"IF(AP184,VLOOKUP(AP184,HOM!$AR$551:$AS$606,2))","v":3.5710000000000002}]
["H",null,null,null,null,{"$f":"IF(AP185<95,IF(AP185<=90,VLOOKUP(AP185,$AP$544:$AQ$599,2)))","v":false},null,null,null,null,null,null,null,null,{"$f":"IF(K185=\"\",\"\",IF(MAXA(L185:N185)<=0,0,MAXA(L185:N185)))","v":""},null,null,null,{"$f":"IF(K185=\"\",\"\",IF(MAXA(P185:R185)<=0,0,MAXA(P185:R185)))","v":""},{"$f":"IF(K185=\"\",\"\",IF(OR(O185=0,S185=0),0,O185+S185))","v":""},"","","",{"$f":"IF(AND(J185>=40,J185<45),VLOOKUP(K185,Feuil2!$F$10:$P$28,9),IF(AND(J185>=45,J185<50),VLOOKUP(K185,Feuil2!$F$10:$P$28,8),IF(AND(J185>=50,J185<55),VLOOKUP(K185,Feuil2!$F$10:$P$28,7),IF(AND(J185>=55,J185<60),VLOOKUP(K185,Feuil2!$F$10:$P$28,6),IF(AND(J185>=60,J185<65),VLOOKUP(K185,Feuil2!$F$10:$P$28,5),IF(AND(J185>=65,J185<70),VLOOKUP(K185,Feuil2!$F$10:$P$28,4),IF(AND(J185>=70,J185<75),VLOOKUP(K185,Feuil2!$F$10:$P$28,3),IF(AND(J185>=75,J185<80),VLOOKUP(K185,Feuil2!$F$10:$P$28,2),VLOOKUP(K185,Feuil2!$F$10:$P$28,2)))))))))","v":{"$error":"#N/A"}},null,{"$f":"T185-HLOOKUP(X185,Feuil2!$C$1:$CD$9,2,FALSE)","v":{"$error":"#VALUE!"}},{"$f":"T185-HLOOKUP(X185,Feuil2!$C$1:$CD$9,3,FALSE)","v":{"$error":"#VALUE!"}},{"$f":"T185-HLOOKUP(X185,Feuil2!$C$1:$CD$9,4,FALSE)","v":{"$error":"#VALUE!"}},{"$f":"T185-HLOOKUP(X185,Feuil2!$C$1:$CD$9,5,FALSE)","v":{"$error":"#VALUE!"}},{"$f":"T185-HLOOKUP(X185,Feuil2!$C$1:$CD$9,6,FALSE)","v":{"$error":"#VALUE!"}},{"$f":"T185-HLOOKUP(X185,Feuil2!$C$1:$CD$9,7,FALSE)","v":{"$error":"#VALUE!"}},{"$f":"T185-HLOOKUP(X185,Feuil2!$C$1:$CD$9,8,FALSE)","v":{"$error":"#VALUE!"}},{"$f":"T185-HLOOKUP(X185,Feuil2!$C$1:$CD$9,9,FALSE)","v":{"$error":"#VALUE!"}},null,null,null,null,null,null,null,{"$error":"#VALUE!"},114,null,{"$f":"IF(AP185,VLOOKUP(AP185,HOM!$AR$551:$AS$606,2))","v":3.5710000000000002}]
["H",null,null,null,null,false,null,null,null,null,null,null,null,null,"",null,null,null,"","","","","",{"$f":"IF(AND(J186>=40,J186<45),VLOOKUP(K186,Feuil2!$F$10:$P$28,9),IF(AND(J186>=45,J186<50),VLOOKUP(K186,Feuil2!$F$10:$P$28,8),IF(AND(J186>=50,J186<55),VLOOKUP(K186,Feuil2!$F$10:$P$28,7),IF(AND(J186>=55,J186<60),VLOOKUP(K186,Feuil2!$F$10:$P$28,6),IF(AND(J186>=60,J186<65),VLOOKUP(K186,Feuil2!$F$10:$P$28,5),IF(AND(J186>=65,J186<70),VLOOKUP(K186,Feuil2!$F$10:$P$28,4),IF(AND(J186>=70,J186<75),VLOOKUP(K186,Feuil2!$F$10:$P$28,3),IF(AND(J186>=75,J186<80),VLOOKUP(K186,Feuil2!$F$10:$P$28,2),VLOOKUP(K186,Feuil2!$F$10:$P$28,2)))))))))","v":{"$error":"#N/A"}},null,{"$f":"T186-HLOOKUP(X186,Feuil2!$C$1:$CD$9,2,FALSE)","v":{"$error":"#VALUE!"}},{"$f":"T186-HLOOKUP(X186,Feuil2!$C$1:$CD$9,3,FALSE)","v":{"$error":"#VALUE!"}},{"$f":"T186-HLOOKUP(X186,Feuil2!$C$1:$CD$9,4,FALSE)","v":{"$error":"#VALUE!"}},{"$f":"T186-HLOOKUP(X186,Feuil2!$C$1:$CD$9,5,FALSE)","v":{"$error":"#VALUE!"}},{"$f":"T186-HLOOKUP(X186,Feuil2!$C$1:$CD$9,6,FALSE)","v":{"$error":"#VALUE!"}},{"$f":"T186-HLOOKUP(X186,Feuil2!$C$1:$CD$9,7,FALSE)","v":{"$error":"#VALUE!"}},{"$f":"T186-HLOOKUP(X186,Feuil2!$C$1:$CD$9,8,FALSE)","v":{"$error":"#VALUE!"}},{"$f":"T186-HLOOKUP(X186,Feuil2!$C$1:$CD$9,9,FALSE)","v":{"$error":"#VALUE!"}},null,null,null,null,null,null,null,{"$error":"#VALUE!"},114,null,{"$f":"IF(AP186,VLOOKUP(AP186,HOM!$AR$551:$AS$606,2))","v":3.5710000000000002}]
["H",null,null,null,null,false,null,null,null,null,null,null,null,null,"",null,null,null,"","","","","",{"$f":"IF(AND(J187>=40,J187<45),VLOOKUP(K187,Feuil2!$F$10:$P$28,9),IF(AND(J187>=45,J187<50),VLOOKUP(K187,Feuil2!$F$10:$P$28,8),IF(AND(J187>=50,J187<55),VLOOKUP(K187,Feuil2!$F$10:$P$28,7),IF(AND(J187>=55,J187<60),VLOOKUP(K187,Feuil2!$F$10:$P$28,6),IF(AND(J187>=60,J187<65),VLOOKUP(K187,Feuil2!$F$10:$P$28,5),IF(AND(J187>=65,J187<70),VLOOKUP(K187,Feuil2!$F$10:$P$28,4),IF(AND(J187>=70,J187<75),VLOOKUP(K187,Feuil2!$F$10:$P$28,3),IF(AND(J187>=75,J187<80),VLOOKUP(K187,Feuil2!$F$10:$P$28,2),VLOOKUP(K187,Feuil2!$F$10:$P$28,2)))))))))","v":{"$error":"#N/A"}},null,{"$f":"T187-HLOOKUP(X187,Feuil2!$C$1:$CD$9,2,FALSE)","v":{"$error":"#VALUE!"}},{"$f":"T187-HLOOKUP(X187,Feuil2!$C$1:$CD$9,3,FALSE)","v":{"$error":"#VALUE!"}},{"$f":"T187-HLOOKUP(X187,Feuil2!$C$1:$CD$9,4,FALSE)","v":{"$error":"#VALUE!"}},{"$f":"T187-HLOOKUP(X187,Feuil2!$C$1:$CD$9,5,FALSE)","v":{"$error":"#VALUE!"}},{"$f":"T187-HLOOKUP(X187,Feuil2!$C$1:$CD$9,6,FALSE)","v":{"$error":"#VALUE!"}},{"$f":"T187-HLOOKUP(X187,Feuil2!$C$1:$CD$9,7,FALSE)","v":{"$error":"#VALUE!"}},{"$f":"T187-HLOOKUP(X187,Feuil2!$C$1:$CD$9,8,FALSE)","v":{"$error":"#VALUE!"}},{"$f":"T187-HLOOKUP(X187,Feuil2!$C$1:$CD$9,9,FALSE)","v":{"$error":"#VALUE!"}},null,null,null,null,null,null,null,{"$error":"#VALUE!"},114,null,{"$f":"IF(AP187,VLOOKUP(AP187,HOM!$AR$551:$AS$606,2))","v":3.5710000000000002}]
["H",null,null,null,null,false,null,null,null,null,null,null,null,null,"",null,null,null,"","","","","",{"$f":"IF(AND(J188>=40,J188<45),VLOOKUP(K188,Feuil2!$F$10:$P$28,9),IF(AND(J188>=45,J188<50),VLOOKUP(K188,Feuil2!$F$10:$P$28,8),IF(AND(J188>=50,J188<55),VLOOKUP(K188,Feuil2!$F$10:$P$28,7),IF(AND(J188>=55,J188<60),VLOOKUP(K188,Feuil2!$F$10:$P$28,6),IF(AND(J188>=60,J188<65),VLOOKUP(K188,Feuil2!$F$10:$P$28,5),IF(AND(J188>=65,J188<70),VLOOKUP(K188,Feuil2!$F$10:$P$28,4),IF(AND(J188>=70,J188<75),VLOOKUP(K188,Feuil2!$F$10:$P$28,3),IF(AND(J188>=75,J188<80),VLOOKUP(K188,Feuil2!$F$10:$P$28,2),VLOOKUP(K188,Feuil2!$F$10:$P$28,2)))))))))","v":{"$error":"#N/A"}},null,{"$f":"T188-HLOOKUP(X188,Feuil2!$C$1:$CD$9,2,FALSE)","v":{"$error":"#VALUE!"}},{"$f":"T188-HLOOKUP(X188,Feuil2!$C$1:$CD$9,3,FALSE)","v":{"$error":"#VALUE!"}},{"$f":"T188-HLOOKUP(X188,Feuil2!$C$1:$CD$9,4,FALSE)","v":{"$error":"#VALUE!"}},{"$f":"T188-HLOOKUP(X188,Feuil2!$C$1:$CD$9,5,FALSE)","v":{"$error":"#VALUE!"}},{"$f":"T188-HLOOKUP(X188,Feuil2!$C$1:$CD$9,6,FALSE)","v":{"$error":"#VALUE!"}},{"$f":"T188-HLOOKUP(X188,Feuil2!$C$1:$CD$9,7,FALSE)","v":{"$error":"#VALUE!"}},{"$f":"T188-HLOOKUP(X188,Feuil2!$C$1:$CD$9,8,FALSE)","v":{"$error":"#VALUE!"}},{"$f":"T188-HLOOKUP(X188,Feuil2!$C$1:$CD$9,9,FALSE)","v":{"$error":"#VALUE!"}},null,null,null,null,null,null,null,{"$error":"#VALUE!"},114,null,{"$f":"IF(AP188,VLOOKUP(AP188,HOM!$AR$551:$AS$606,2))","v":3.5710000000000002}]
["H",null,null,null,null,false,null,null,null,null,null,null,null,null,"",null,null,null,"","","","","",{"$f":"IF(AND(J189>=40,J189<45),VLOOKUP(K189,Feuil2!$F$10:$P$28,9),IF(AND(J189>=45,J189<50),VLOOKUP(K189,Feuil2!$F$10:$P$28,8),IF(AND(J189>=50,J189<55),VLOOKUP(K189,Feuil2!$F$10:$P$28,7),IF(AND(J189>=55,J189<60),VLOOKUP(K189,Feuil2!$F$10:$P$28,6),IF(AND(J189>=60,J189<65),VLOOKUP(K189,Feuil2!$F$10:$P$28,5),IF(AND(J189>=65,J189<70),VLOOKUP(K189,Feuil2!$F$10:$P$28,4),IF(AND(J189>=70,J189<75),VLOOKUP(K189,Feuil2!$F$10:$P$28,3),IF(AND(J189>=75,J189<80),VLOOKUP(K189,Feuil2!$F$10:$P$28,2),VLOOKUP(K189,Feuil2!$F$10:$P$28,2)))))))))","v":{"$error":"#N/A"}},null,{"$f":"T189-HLOOKUP(X189,Feuil2!$C$1:$CD$9,2,FALSE)","v":{"$error":"#VALUE!"}},{"$f":"T189-HLOOKUP(X189,Feuil2!$C$1:$CD$9,3,FALSE)","v":{"$error":"#VALUE!"}},{"$f":"T189-HLOOKUP(X189,Feuil2!$C$1:$CD$9,4,FALSE)","v":{"$error":"#VALUE!"}},{"$f":"T189-HLOOKUP(X189,Feuil2!$C$1:$CD$9,5,FALSE)","v":{"$error":"#VALUE!"}},{"$f":"T189-HLOOKUP(X189,Feuil2!$C$1:$CD$9,6,FALSE)","v":{"$error":"#VALUE!"}},{"$f":"T189-HLOOKUP(X189,Feuil2!$C$1:$CD$9,7,FALSE)","v":{"$error":"#VALUE!"}},{"$f":"T189-HLOOKUP(X189,Feuil2!$C$1:$CD$9,8,FALSE)","v":{"$error":"#VALUE!"}},{"$f":"T189-HLOOKUP(X189,Feuil2!$C$1:$CD$9,9,FALSE)","v":{"$error":"#VALUE!"}},null,null,null,null,null,null,null,{"$error":"#VALUE!"},114,null,{"$f":"IF(AP189,VLOOKUP(AP189,HOM!$AR$551:$AS$606,2))","v":3.5710000000000002}]
["H",null,null,null,null,false,null,null,null,null,null,null,null,null,"",null,null,null,"","","","","",{"$f":"IF(AND(J190>=40,J190<45),VLOOKUP(K190,Feuil2!$F$10:$P$28,9),IF(AND(J190>=45,J190<50),VLOOKUP(K190,Feuil2!$F$10:$P$28,8),IF(AND(J190>=50,J190<55),VLOOKUP(K190,Feuil2!$F$10:$P$28,7),IF(AND(J190>=55,J190<60),VLOOKUP(K190,Feuil2!$F$10:$P$28,6),IF(AND(J190>=60,J190<65),VLOOKUP(K190,Feuil2!$F$10:$P$28,5),IF(AND(J190>=65,J190<70),VLOOKUP(K190,Feuil2!$F$10:$P$28,4),IF(AND(J190>=70,J190<75),VLOOKUP(K190,Feuil2!$F$10:$P$28,3),IF(AND(J190>=75,J190<80),VLOOKUP(K190,Feuil2!$F$10:$P$28,2),VLOOKUP(K190,Feuil2!$F$10:$P$28,2)))))))))","v":{"$error":"#N/A"}},null,{"$f":"T190-HLOOKUP(X190,Feuil2!$C$1:$CD$9,2,FALSE)","v":{"$error":"#VALUE!"}},{"$f":"T190-HLOOKUP(X190,Feuil2!$C$1:$CD$9,3,FALSE)","v":{"$error":"#VALUE!"}},{"$f":"T190-HLOOKUP(X190,Feuil2!$C$1:$CD$9,4,FALSE)","v":{"$error":"#VALUE!"}},{"$f":"T190-HLOOKUP(X190,Feuil2!$C$1:$CD$9,5,FALSE)","v":{"$error":"#VALUE!"}},{"$f":"T190-HLOOKUP(X190,Feuil2!$C$1:$CD$9,6,FALSE)","v":{"$error":"#VALUE!"}},{"$f":"T190-HLOOKUP(X190,Feuil2!$C$1:$CD$9,7,FALSE)","v":{"$error":"#VALUE!"}},{"$f":"T190-HLOOKUP(X190,Feuil2!$C$1:$CD$9,8,FALSE)","v":{"$error":"#VALUE!"}},{"$f":"T190-HLOOKUP(X190,Feuil2!$C$1:$CD$9,9,FALSE)","v":{"$error":"#VALUE!"}},null,null,null,null,null,null,null,{"$error":"#VALUE!"},114,null,{"$f":"IF(AP190,VLOOKUP(AP190,HOM!$AR$551:$AS$606,2))","v":3.5710000000000002}]
["H",null,null,null,null,false,null,null,null,null,null,null,null,null,"",null,null,null,"","","","","",{"$f":"IF(AND(J191>=40,J191<45),VLOOKUP(K191,Feuil2!$F$10:$P$28,9),IF(AND(J191>=45,J191<50),VLOOKUP(K191,Feuil2!$F$10:$P$28,8),IF(AND(J191>=50,J191<55),VLOOKUP(K191,Feuil2!$F$10:$P$28,7),IF(AND(J191>=55,J191<60),VLOOKUP(K191,Feuil2!$F$10:$P$28,6),IF(AND(J191>=60,J191<65),VLOOKUP(K191,Feuil2!$F$10:$P$28,5),IF(AND(J191>=65,J191<70),VLOOKUP(K191,Feuil2!$F$10:$P$28,4),IF(AND(J191>=70,J191<75),VLOOKUP(K191,Feuil2!$F$10:$P$28,3),IF(AND(J191>=75,J191<80),VLOOKUP(K191,Feuil2!$F$10:$P$28,2),VLOOKUP(K191,Feuil2!$F$10:$P$28,2)))))))))","v":{"$error":"#N/A"}},null,{"$f":"T191-HLOOKUP(X191,Feuil2!$C$1:$CD$9,2,FALSE)","v":{"$error":"#VALUE!"}},{"$f":"T191-HLOOKUP(X191,Feuil2!$C$1:$CD$9,3,FALSE)","v":{"$error":"#VALUE!"}},{"$f":"T191-HLOOKUP(X191,Feuil2!$C$1:$CD$9,4,FALSE)","v":{"$error":"#VALUE!"}},{"$f":"T191-HLOOKUP(X191,Feuil2!$C$1:$CD$9,5,FALSE)","v":{"$error":"#VALUE!"}},{"$f":"T191-HLOOKUP(X191,Feuil2!$C$1:$CD$9,6,FALSE)","v":{"$error":"#VALUE!"}},{"$f":"T191-HLOOKUP(X191,Feuil2!$C$1:$CD$9,7,FALSE)","v":{"$error":"#VALUE!"}},{"$f":"T191-HLOOKUP(X191,Feuil2!$C$1:$CD$9,8,FALSE)","v":{"$error":"#VALUE!"}},{"$f":"T191-HLOOKUP(X191,Feuil2!$C$1:$CD$9,9,FALSE)","v":{"$error":"#VALUE!"}},null,null,null,null,null,null,null,{"$error":"#VALUE!"},114,null,{"$f":"IF(AP191,VLOOKUP(AP191,HOM!$AR$551:$AS$606,2))","v":3.5710000000000002}]
["H",null,null,null,null,false,null,null,null,null,null,null,null,null,"",null,null,null,"","","","","",{"$f":"IF(AND(J192>=40,J192<45),VLOOKUP(K192,Feuil2!$F$10:$P$28,9),IF(AND(J192>=45,J192<50),VLOOKUP(K192,Feuil2!$F$10:$P$28,8),IF(AND(J192>=50,J192<55),VLOOKUP(K192,Feuil2!$F$10:$P$28,7),IF(AND(J192>=55,J192<60),VLOOKUP(K192,Feuil2!$F$10:$P$28,6),IF(AND(J192>=60,J192<65),VLOOKUP(K192,Feuil2!$F$10:$P$28,5),IF(AND(J192>=65,J192<70),VLOOKUP(K192,Feuil2!$F$10:$P$28,4),IF(AND(J192>=70,J192<75),VLOOKUP(K192,Feuil2!$F$10:$P$28,3),IF(AND(J192>=75,J192<80),VLOOKUP(K192,Feuil2!$F$10:$P$28,2),VLOOKUP(K192,Feuil2!$F$10:$P$28,2)))))))))","v":{"$error":"#N/A"}},null,{"$f":"T192-HLOOKUP(X192,Feuil2!$C$1:$CD$9,2,FALSE)","v":{"$error":"#VALUE!"}},{"$f":"T192-HLOOKUP(X192,Feuil2!$C$1:$CD$9,3,FALSE)","v":{"$error":"#VALUE!"}},{"$f":"T192-HLOOKUP(X192,Feuil2!$C$1:$CD$9,4,FALSE)","v":{"$error":"#VALUE!"}},{"$f":"T192-HLOOKUP(X192,Feuil2!$C$1:$CD$9,5,FALSE)","v":{"$error":"#VALUE!"}},{"$f":"T192-HLOOKUP(X192,Feuil2!$C$1:$CD$9,6,FALSE)","v":{"$error":"#VALUE!"}},{"$f":"T192-HLOOKUP(X192,Feuil2!$C$1:$CD$9,7,FALSE)","v":{"$error":"#VALUE!"}},{"$f":"T192-HLOOKUP(X192,Feuil2!$C$1:$CD$9,8,FALSE)","v":{"$error":"#VALUE!"}},{"$f":"T192-HLOOKUP(X192,Feuil2!$C$1:$CD$9,9,FALSE)","v":{"$error":"#VALUE!"}},null,null,null,null,null,null,null,{"$error":"#VALUE!"},114,null,{"$f":"IF(AP192,VLOOKUP(AP192,HOM!$AR$551:$AS$606,2))","v":3.5710000000000002}]
["H",null,null,null,null,false,null,null,null,null,null,null,null,null,"",null,null,null,"","","","","",{"$f":"IF(AND(J193>=40,J193<45),VLOOKUP(K193,Feuil2!$F$10:$P$28,9),IF(AND(J193>=45,J193<50),VLOOKUP(K193,Feuil2!$F$10:$P$28,8),IF(AND(J193>=50,J193<55),VLOOKUP(K193,Feuil2!$F$10:$P$28,7),IF(AND(J193>=55,J193<60),VLOOKUP(K193,Feuil2!$F$10:$P$28,6),IF(AND(J193>=60,J193<65),VLOOKUP(K193,Feuil2!$F$10:$P$28,5),IF(AND(J193>=65,J193<70),VLOOKUP(K193,Feuil2!$F$10:$P$28,4),IF(AND(J193>=70,J193<75),VLOOKUP(K193,Feuil2!$F$10:$P$28,3),IF(AND(J193>=75,J193<80),VLOOKUP(K193,Feuil2!$F$10:$P$28,2),VLOOKUP(K193,Feuil2!$F$10:$P$28,2)))))))))","v":{"$error":"#N/A"}},null,{"$f":"T193-HLOOKUP(X193,Feuil2!$C$1:$CD$9,2,FALSE)","v":{"$error":"#VALUE!"}},{"$f":"T193-HLOOKUP(X193,Feuil2!$C$1:$CD$9,3,FALSE)","v":{"$error":"#VALUE!"}},{"$f":"T193-HLOOKUP(X193,Feuil2!$C$1:$CD$9,4,FALSE)","v":{"$error":"#VALUE!"}},{"$f":"T193-HLOOKUP(X193,Feuil2!$C$1:$CD$9,5,FALSE)","v":{"$error":"#VALUE!"}},{"$f":"T193-HLOOKUP(X193,Feuil2!$C$1:$CD$9,6,FALSE)","v":{"$error":"#VALUE!"}},{"$f":"T193-HLOOKUP(X193,Feuil2!$C$1:$CD$9,7,FALSE)","v":{"$error":"#VALUE!"}},{"$f":"T193-HLOOKUP(X193,Feuil2!$C$1:$CD$9,8,FALSE)","v":{"$error":"#VALUE!"}},{"$f":"T193-HLOOKUP(X193,Feuil2!$C$1:$CD$9,9,FALSE)","v":{"$error":"#VALUE!"}},null,null,null,null,null,null,null,{"$error":"#VALUE!"},114,null,{"$f":"IF(AP193,VLOOKUP(AP193,HOM!$AR$551:$AS$606,2))","v":3.5710000000000002}]
["H",null,null,null,null,false,null,null,null,null,null,null,null,null,"",null,null,null,"","","","","",{"$f":"IF(AND(J194>=40,J194<45),VLOOKUP(K194,Feuil2!$F$10:$P$28,9),IF(AND(J194>=45,J194<50),VLOOKUP(K194,Feuil2!$F$10:$P$28,8),IF(AND(J194>=50,J194<55),VLOOKUP(K194,Feuil2!$F$10:$P$28,7),IF(AND(J194>=55,J194<60),VLOOKUP(K194,Feuil2!$F$10:$P$28,6),IF(AND(J194>=60,J194<65),VLOOKUP(K194,Feuil2!$F$10:$P$28,5),IF(AND(J194>=65,J194<70),VLOOKUP(K194,Feuil2!$F$10:$P$28,4),IF(AND(J194>=70,J194<75),VLOOKUP(K194,Feuil2!$F$10:$P$28,3),IF(AND(J194>=75,J194<80),VLOOKUP(K194,Feuil2!$F$10:$P$28,2),VLOOKUP(K194,Feuil2!$F$10:$P$28,2)))))))))","v":{"$error":"#N/A"}},null,{"$f":"T194-HLOOKUP(X194,Feuil2!$C$1:$CD$9,2,FALSE)","v":{"$error":"#VALUE!"}},{"$f":"T194-HLOOKUP(X194,Feuil2!$C$1:$CD$9,3,FALSE)","v":{"$error":"#VALUE!"}},{"$f":"T194-HLOOKUP(X194,Feuil2!$C$1:$CD$9,4,FALSE)","v":{"$error":"#VALUE!"}},{"$f":"T194-HLOOKUP(X194,Feuil2!$C$1:$CD$9,5,FALSE)","v":{"$error":"#VALUE!"}},{"$f":"T194-HLOOKUP(X194,Feuil2!$C$1:$CD$9,6,FALSE)","v":{"$error":"#VALUE!"}},{"$f":"T194-HLOOKUP(X194,Feuil2!$C$1:$CD$9,7,FALSE)","v":{"$error":"#VALUE!"}},{"$f":"T194-HLOOKUP(X194,Feuil2!$C$1:$CD$9,8,FALSE)","v":{"$error":"#VALUE!"}},{"$f":"T194-HLOOKUP(X194,Feuil2!$C$1:$CD$9,9,FALSE)","v":{"$error":"#VALUE!"}},null,null,null,null,null,null,null,{"$error":"#VALUE!"},114,null,{"$f":"IF(AP194,VLOOKUP(AP194,HOM!$AR$551:$AS$606,2))","v":3.5710000000000002}]
["H",null,null,null,null,false,null,null,null,null,null,null,null,null,"",null,null,null,"","","","","",{"$f":"IF(AND(J195>=40,J195<45),VLOOKUP(K195,Feuil2!$F$10:$P$28,9),IF(AND(J195>=45,J195<50),VLOOKUP(K195,Feuil2!$F$10:$P$28,8),IF(AND(J195>=50,J195<55),VLOOKUP(K195,Feuil2!$F$10:$P$28,7),IF(AND(J195>=55,J195<60),VLOOKUP(K195,Feuil2!$F$10:$P$28,6),IF(AND(J195>=60,J195<65),VLOOKUP(K195,Feuil2!$F$10:$P$28,5),IF(AND(J195>=65,J195<70),VLOOKUP(K195,Feuil2!$F$10:$P$28,4),IF(AND(J195>=70,J195<75),VLOOKUP(K195,Feuil2!$F$10:$P$28,3),IF(AND(J195>=75,J195<80),VLOOKUP(K195,Feuil2!$F$10:$P$28,2),VLOOKUP(K195,Feuil2!$F$10:$P$28,2)))))))))","v":{"$error":"#N/A"}},null,{"$f":"T195-HLOOKUP(X195,Feuil2!$C$1:$CD$9,2,FALSE)","v":{"$error":"#VALUE!"}},{"$f":"T195-HLOOKUP(X195,Feuil2!$C$1:$CD$9,3,FALSE)","v":{"$error":"#VALUE!"}},{"$f":"T195-HLOOKUP(X195,Feuil2!$C$1:$CD$9,4,FALSE)","v":{"$error":"#VALUE!"}},{"$f":"T195-HLOOKUP(X195,Feuil2!$C$1:$CD$9,5,FALSE)","v":{"$error":"#VALUE!"}},{"$f":"T195-HLOOKUP(X195,Feuil2!$C$1:$CD$9,6,FALSE)","v":{"$error":"#VALUE!"}},{"$f":"T195-HLOOKUP(X195,Feuil2!$C$1:$CD$9,7,FALSE)","v":{"$error":"#VALUE!"}},{"$f":"T195-HLOOKUP(X195,Feuil2!$C$1:$CD$9,8,FALSE)","v":{"$error":"#VALUE!"}},{"$f":"T195-HLOOKUP(X195,Feuil2!$C$1:$CD$9,9,FALSE)","v":{"$error":"#VALUE!"}},null,null,null,null,null,null,null,{"$error":"#VALUE!"},114,null,{"$f":"IF(AP195,VLOOKUP(AP195,HOM!$AR$551:$AS$606,2))","v":3.5710000000000002}]
["H",null,null,null,null,false,null,null,null,null,null,null,null,null,"",null,null,null,"","","","","",{"$f":"IF(AND(J196>=40,J196<45),VLOOKUP(K196,Feuil2!$F$10:$P$28,9),IF(AND(J196>=45,J196<50),VLOOKUP(K196,Feuil2!$F$10:$P$28,8),IF(AND(J196>=50,J196<55),VLOOKUP(K196,Feuil2!$F$10:$P$28,7),IF(AND(J196>=55,J196<60),VLOOKUP(K196,Feuil2!$F$10:$P$28,6),IF(AND(J196>=60,J196<65),VLOOKUP(K196,Feuil2!$F$10:$P$28,5),IF(AND(J196>=65,J196<70),VLOOKUP(K196,Feuil2!$F$10:$P$28,4),IF(AND(J196>=70,J196<75),VLOOKUP(K196,Feuil2!$F$10:$P$28,3),IF(AND(J196>=75,J196<80),VLOOKUP(K196,Feuil2!$F$10:$P$28,2),VLOOKUP(K196,Feuil2!$F$10:$P$28,2)))))))))","v":{"$error":"#N/A"}},null,{"$f":"T196-HLOOKUP(X196,Feuil2!$C$1:$CD$9,2,FALSE)","v":{"$error":"#VALUE!"}},{"$f":"T196-HLOOKUP(X196,Feuil2!$C$1:$CD$9,3,FALSE)","v":{"$error":"#VALUE!"}},{"$f":"T196-HLOOKUP(X196,Feuil2!$C$1:$CD$9,4,FALSE)","v":{"$error":"#VALUE!"}},{"$f":"T196-HLOOKUP(X196,Feuil2!$C$1:$CD$9,5,FALSE)","v":{"$error":"#VALUE!"}},{"$f":"T196-HLOOKUP(X196,Feuil2!$C$1:$CD$9,6,FALSE)","v":{"$error":"#VALUE!"}},{"$f":"T196-HLOOKUP(X196,Feuil2!$C$1:$CD$9,7,FALSE)","v":{"$error":"#VALUE!"}},{"$f":"T196-HLOOKUP(X196,Feuil2!$C$1:$CD$9,8,FALSE)","v":{"$error":"#VALUE!"}},{"$f":"T196-HLOOKUP(X196,Feuil2!$C$1:$CD$9,9,FALSE)","v":{"$error":"#VALUE!"}},null,null,null,null,null,null,null,{"$error":"#VALUE!"},114,null,{"$f":"IF(AP196,VLOOKUP(AP196,HOM!$AR$551:$AS$606,2))","v":3.5710000000000002}]
["H",null,null,null,null,false,null,null,null,null,null,null,null,null,"",null,null,null,"","","","","",{"$f":"IF(AND(J197>=40,J197<45),VLOOKUP(K197,Feuil2!$F$10:$P$28,9),IF(AND(J197>=45,J197<50),VLOOKUP(K197,Feuil2!$F$10:$P$28,8),IF(AND(J197>=50,J197<55),VLOOKUP(K197,Feuil2!$F$10:$P$28,7),IF(AND(J197>=55,J197<60),VLOOKUP(K197,Feuil2!$F$10:$P$28,6),IF(AND(J197>=60,J197<65),VLOOKUP(K197,Feuil2!$F$10:$P$28,5),IF(AND(J197>=65,J197<70),VLOOKUP(K197,Feuil2!$F$10:$P$28,4),IF(AND(J197>=70,J197<75),VLOOKUP(K197,Feuil2!$F$10:$P$28,3),IF(AND(J197>=75,J197<80),VLOOKUP(K197,Feuil2!$F$10:$P$28,2),VLOOKUP(K197,Feuil2!$F$10:$P$28,2)))))))))","v":{"$error":"#N/A"}},null,{"$f":"T197-HLOOKUP(X197,Feuil2!$C$1:$CD$9,2,FALSE)","v":{"$error":"#VALUE!"}},{"$f":"T197-HLOOKUP(X197,Feuil2!$C$1:$CD$9,3,FALSE)","v":{"$error":"#VALUE!"}},{"$f":"T197-HLOOKUP(X197,Feuil2!$C$1:$CD$9,4,FALSE)","v":{"$error":"#VALUE!"}},{"$f":"T197-HLOOKUP(X197,Feuil2!$C$1:$CD$9,5,FALSE)","v":{"$error":"#VALUE!"}},{"$f":"T197-HLOOKUP(X197,Feuil2!$C$1:$CD$9,6,FALSE)","v":{"$error":"#VALUE!"}},{"$f":"T197-HLOOKUP(X197,Feuil2!$C$1:$CD$9,7,FALSE)","v":{"$error":"#VALUE!"}},{"$f":"T197-HLOOKUP(X197,Feuil2!$C$1:$CD$9,8,FALSE)","v":{"$error":"#VALUE!"}},{"$f":"T197-HLOOKUP(X197,Feuil2!$C$1:$CD$9,9,FALSE)","v":{"$error":"#VALUE!"}},null,null,null,null,null,null,null,{"$error":"#VALUE!"},114,null,{"$f":"IF(AP197,VLOOKUP(AP197,HOM!$AR$551:$AS$606,2))","v":3.5710000000000002}]
["H",null,null,null,null,false,null,null,null,null,null,null,null,null,"",null,null,null,"","","","","",{"$f":"IF(AND(J198>=40,J198<45),VLOOKUP(K198,Feuil2!$F$10:$P$28,9),IF(AND(J198>=45,J198<50),VLOOKUP(K198,Feuil2!$F$10:$P$28,8),IF(AND(J198>=50,J198<55),VLOOKUP(K198,Feuil2!$F$10:$P$28,7),IF(AND(J198>=55,J198<60),VLOOKUP(K198,Feuil2!$F$10:$P$28,6),IF(AND(J198>=60,J198<65),VLOOKUP(K198,Feuil2!$F$10:$P$28,5),IF(AND(J198>=65,J198<70),VLOOKUP(K198,Feuil2!$F$10:$P$28,4),IF(AND(J198>=70,J198<75),VLOOKUP(K198,Feuil2!$F$10:$P$28,3),IF(AND(J198>=75,J198<80),VLOOKUP(K198,Feuil2!$F$10:$P$28,2),VLOOKUP(K198,Feuil2!$F$10:$P$28,2)))))))))","v":{"$error":"#N/A"}},null,{"$f":"T198-HLOOKUP(X198,Feuil2!$C$1:$CD$9,2,FALSE)","v":{"$error":"#VALUE!"}},{"$f":"T198-HLOOKUP(X198,Feuil2!$C$1:$CD$9,3,FALSE)","v":{"$error":"#VALUE!"}},{"$f":"T198-HLOOKUP(X198,Feuil2!$C$1:$CD$9,4,FALSE)","v":{"$error":"#VALUE!"}},{"$f":"T198-HLOOKUP(X198,Feuil2!$C$1:$CD$9,5,FALSE)","v":{"$error":"#VALUE!"}},{"$f":"T198-HLOOKUP(X198,Feuil2!$C$1:$CD$9,6,FALSE)","v":{"$error":"#VALUE!"}},{"$f":"T198-HLOOKUP(X198,Feuil2!$C$1:$CD$9,7,FALSE)","v":{"$error":"#VALUE!"}},{"$f":"T198-HLOOKUP(X198,Feuil2!$C$1:$CD$9,8,FALSE)","v":{"$error":"#VALUE!"}},{"$f":"T198-HLOOKUP(X198,Feuil2!$C$1:$CD$9,9,FALSE)","v":{"$error":"#VALUE!"}},null,null,null,null,null,null,null,{"$error":"#VALUE!"},114,null,{"$f":"IF(AP198,VLOOKUP(AP198,HOM!$AR$551:$AS$606,2))","v":3.5710000000000002}]
["H",null,null,null,null,false,null,null,null,null,null,null,null,null,"",null,null,null,"","","","","",{"$f":"IF(AND(J199>=40,J199<45),VLOOKUP(K199,Feuil2!$F$10:$P$28,9),IF(AND(J199>=45,J199<50),VLOOKUP(K199,Feuil2!$F$10:$P$28,8),IF(AND(J199>=50,J199<55),VLOOKUP(K199,Feuil2!$F$10:$P$28,7),IF(AND(J199>=55,J199<60),VLOOKUP(K199,Feuil2!$F$10:$P$28,6),IF(AND(J199>=60,J199<65),VLOOKUP(K199,Feuil2!$F$10:$P$28,5),IF(AND(J199>=65,J199<70),VLOOKUP(K199,Feuil2!$F$10:$P$28,4),IF(AND(J199>=70,J199<75),VLOOKUP(K199,Feuil2!$F$10:$P$28,3),IF(AND(J199>=75,J199<80),VLOOKUP(K199,Feuil2!$F$10:$P$28,2),VLOOKUP(K199,Feuil2!$F$10:$P$28,2)))))))))","v":{"$error":"#N/A"}},null,{"$f":"T199-HLOOKUP(X199,Feuil2!$C$1:$CD$9,2,FALSE)","v":{"$error":"#VALUE!"}},{"$f":"T199-HLOOKUP(X199,Feuil2!$C$1:$CD$9,3,FALSE)","v":{"$error":"#VALUE!"}},{"$f":"T199-HLOOKUP(X199,Feuil2!$C$1:$CD$9,4,FALSE)","v":{"$error":"#VALUE!"}},{"$f":"T199-HLOOKUP(X199,Feuil2!$C$1:$CD$9,5,FALSE)","v":{"$error":"#VALUE!"}},{"$f":"T199-HLOOKUP(X199,Feuil2!$C$1:$CD$9,6,FALSE)","v":{"$error":"#VALUE!"}},{"$f":"T199-HLOOKUP(X199,Feuil2!$C$1:$CD$9,7,FALSE)","v":{"$error":"#VALUE!"}},{"$f":"T199-HLOOKUP(X199,Feuil2!$C$1:$CD$9,8,FALSE)","v":{"$error":"#VALUE!"}},{"$f":"T199-HLOOKUP(X199,Feuil2!$C$1:$CD$9,9,FALSE)","v":{"$error":"#VALUE!"}},null,null,null,null,null,null,null,{"$error":"#VALUE!"},114,null,{"$f":"IF(AP199,VLOOKUP(AP199,HOM!$AR$551:$AS$606,2))","v":3.5710000000000002}]
["H",null,null,null,null,false,null,null,null,null,null,null,null,null,"",null,null,null,"","","","","",{"$f":"IF(AND(J200>=40,J200<45),VLOOKUP(K200,Feuil2!$F$10:$P$28,9),IF(AND(J200>=45,J200<50),VLOOKUP(K200,Feuil2!$F$10:$P$28,8),IF(AND(J200>=50,J200<55),VLOOKUP(K200,Feuil2!$F$10:$P$28,7),IF(AND(J200>=55,J200<60),VLOOKUP(K200,Feuil2!$F$10:$P$28,6),IF(AND(J200>=60,J200<65),VLOOKUP(K200,Feuil2!$F$10:$P$28,5),IF(AND(J200>=65,J200<70),VLOOKUP(K200,Feuil2!$F$10:$P$28,4),IF(AND(J200>=70,J200<75),VLOOKUP(K200,Feuil2!$F$10:$P$28,3),IF(AND(J200>=75,J200<80),VLOOKUP(K200,Feuil2!$F$10:$P$28,2),VLOOKUP(K200,Feuil2!$F$10:$P$28,2)))))))))","v":{"$error":"#N/A"}},null,{"$f":"T200-HLOOKUP(X200,Feuil2!$C$1:$CD$9,2,FALSE)","v":{"$error":"#VALUE!"}},{"$f":"T200-HLOOKUP(X200,Feuil2!$C$1:$CD$9,3,FALSE)","v":{"$error":"#VALUE!"}},{"$f":"T200-HLOOKUP(X200,Feuil2!$C$1:$CD$9,4,FALSE)","v":{"$error":"#VALUE!"}},{"$f":"T200-HLOOKUP(X200,Feuil2!$C$1:$CD$9,5,FALSE)","v":{"$error":"#VALUE!"}},{"$f":"T200-HLOOKUP(X200,Feuil2!$C$1:$CD$9,6,FALSE)","v":{"$error":"#VALUE!"}},{"$f":"T200-HLOOKUP(X200,Feuil2!$C$1:$CD$9,7,FALSE)","v":{"$error":"#VALUE!"}},{"$f":"T200-HLOOKUP(X200,Feuil2!$C$1:$CD$9,8,FALSE)","v":{"$error":"#VALUE!"}},{"$f":"T200-HLOOKUP(X200,Feuil2!$C$1:$CD$9,9,FALSE)","v":{"$error":"#VALUE!"}},null,null,null,null,null,null,null,{"$error":"#VALUE!"},114,null,{"$f":"IF(AP200,VLOOKUP(AP200,HOM!$AR$551:$AS$606,2))","v":3.5710000000000002}]
["H",null,null,null,null,false,null,null,null,null,null,null,null,null,"",null,null,null,"","","","","",{"$f":"IF(AND(J201>=40,J201<45),VLOOKUP(K201,Feuil2!$F$10:$P$28,9),IF(AND(J201>=45,J201<50),VLOOKUP(K201,Feuil2!$F$10:$P$28,8),IF(AND(J201>=50,J201<55),VLOOKUP(K201,Feuil2!$F$10:$P$28,7),IF(AND(J201>=55,J201<60),VLOOKUP(K201,Feuil2!$F$10:$P$28,6),IF(AND(J201>=60,J201<65),VLOOKUP(K201,Feuil2!$F$10:$P$28,5),IF(AND(J201>=65,J201<70),VLOOKUP(K201,Feuil2!$F$10:$P$28,4),IF(AND(J201>=70,J201<75),VLOOKUP(K201,Feuil2!$F$10:$P$28,3),IF(AND(J201>=75,J201<80),VLOOKUP(K201,Feuil2!$F$10:$P$28,2),VLOOKUP(K201,Feuil2!$F$10:$P$28,2)))))))))","v":{"$error":"#N/A"}},null,{"$f":"T201-HLOOKUP(X201,Feuil2!$C$1:$CD$9,2,FALSE)","v":{"$error":"#VALUE!"}},{"$f":"T201-HLOOKUP(X201,Feuil2!$C$1:$CD$9,3,FALSE)","v":{"$error":"#VALUE!"}},{"$f":"T201-HLOOKUP(X201,Feuil2!$C$1:$CD$9,4,FALSE)","v":{"$error":"#VALUE!"}},{"$f":"T201-HLOOKUP(X201,Feuil2!$C$1:$CD$9,5,FALSE)","v":{"$error":"#VALUE!"}},{"$f":"T201-HLOOKUP(X201,Feuil2!$C$1:$CD$9,6,FALSE)","v":{"$error":"#VALUE!"}},{"$f":"T201-HLOOKUP(X201,Feuil2!$C$1:$CD$9,7,FALSE)","v":{"$error":"#VALUE!"}},{"$f":"T201-HLOOKUP(X201,Feuil2!$C$1:$CD$9,8,FALSE)","v":{"$error":"#VALUE!"}},{"$f":"T201-HLOOKUP(X201,Feuil2!$C$1:$CD$9,9,FALSE)","v":{"$error":"#VALUE!"}},null,null,null,null,null,null,null,{"$error":"#VALUE!"},114,null,{"$f":"IF(AP201,VLOOKUP(AP201,HOM!$AR$551:$AS$606,2))","v":3.5710000000000002}]
["H",null,null,null,null,false,null,null,null,null,null,null,null,null,"",null,null,null,"","","","","",{"$f":"IF(AND(J202>=40,J202<45),VLOOKUP(K202,Feuil2!$F$10:$P$28,9),IF(AND(J202>=45,J202<50),VLOOKUP(K202,Feuil2!$F$10:$P$28,8),IF(AND(J202>=50,J202<55),VLOOKUP(K202,Feuil2!$F$10:$P$28,7),IF(AND(J202>=55,J202<60),VLOOKUP(K202,Feuil2!$F$10:$P$28,6),IF(AND(J202>=60,J202<65),VLOOKUP(K202,Feuil2!$F$10:$P$28,5),IF(AND(J202>=65,J202<70),VLOOKUP(K202,Feuil2!$F$10:$P$28,4),IF(AND(J202>=70,J202<75),VLOOKUP(K202,Feuil2!$F$10:$P$28,3),IF(AND(J202>=75,J202<80),VLOOKUP(K202,Feuil2!$F$10:$P$28,2),VLOOKUP(K202,Feuil2!$F$10:$P$28,2)))))))))","v":{"$error":"#N/A"}},null,{"$f":"T202-HLOOKUP(X202,Feuil2!$C$1:$CD$9,2,FALSE)","v":{"$error":"#VALUE!"}},{"$f":"T202-HLOOKUP(X202,Feuil2!$C$1:$CD$9,3,FALSE)","v":{"$error":"#VALUE!"}},{"$f":"T202-HLOOKUP(X202,Feuil2!$C$1:$CD$9,4,FALSE)","v":{"$error":"#VALUE!"}},{"$f":"T202-HLOOKUP(X202,Feuil2!$C$1:$CD$9,5,FALSE)","v":{"$error":"#VALUE!"}},{"$f":"T202-HLOOKUP(X202,Feuil2!$C$1:$CD$9,6,FALSE)","v":{"$error":"#VALUE!"}},{"$f":"T202-HLOOKUP(X202,Feuil2!$C$1:$CD$9,7,FALSE)","v":{"$error":"#VALUE!"}},{"$f":"T202-HLOOKUP(X202,Feuil2!$C$1:$CD$9,8,FALSE)","v":{"$error":"#VALUE!"}},{"$f":"T202-HLOOKUP(X202,Feuil2!$C$1:$CD$9,9,FALSE)","v":{"$error":"#VALUE!"}},null,null,null,null,null,null,null,{"$error":"#VALUE!"},114,null,{"$f":"IF(AP202,VLOOKUP(AP202,HOM!$AR$551:$AS$606,2))","v":3.5710000000000002}]
["H",null,null,null,null,false,null,null,null,null,null,null,null,null,"",null,null,null,"","","","","",{"$f":"IF(AND(J203>=40,J203<45),VLOOKUP(K203,Feuil2!$F$10:$P$28,9),IF(AND(J203>=45,J203<50),VLOOKUP(K203,Feuil2!$F$10:$P$28,8),IF(AND(J203>=50,J203<55),VLOOKUP(K203,Feuil2!$F$10:$P$28,7),IF(AND(J203>=55,J203<60),VLOOKUP(K203,Feuil2!$F$10:$P$28,6),IF(AND(J203>=60,J203<65),VLOOKUP(K203,Feuil2!$F$10:$P$28,5),IF(AND(J203>=65,J203<70),VLOOKUP(K203,Feuil2!$F$10:$P$28,4),IF(AND(J203>=70,J203<75),VLOOKUP(K203,Feuil2!$F$10:$P$28,3),IF(AND(J203>=75,J203<80),VLOOKUP(K203,Feuil2!$F$10:$P$28,2),VLOOKUP(K203,Feuil2!$F$10:$P$28,2)))))))))","v":{"$error":"#N/A"}},null,{"$f":"T203-HLOOKUP(X203,Feuil2!$C$1:$CD$9,2,FALSE)","v":{"$error":"#VALUE!"}},{"$f":"T203-HLOOKUP(X203,Feuil2!$C$1:$CD$9,3,FALSE)","v":{"$error":"#VALUE!"}},{"$f":"T203-HLOOKUP(X203,Feuil2!$C$1:$CD$9,4,FALSE)","v":{"$error":"#VALUE!"}},{"$f":"T203-HLOOKUP(X203,Feuil2!$C$1:$CD$9,5,FALSE)","v":{"$error":"#VALUE!"}},{"$f":"T203-HLOOKUP(X203,Feuil2!$C$1:$CD$9,6,FALSE)","v":{"$error":"#VALUE!"}},{"$f":"T203-HLOOKUP(X203,Feuil2!$C$1:$CD$9,7,FALSE)","v":{"$error":"#VALUE!"}},{"$f":"T203-HLOOKUP(X203,Feuil2!$C$1:$CD$9,8,FALSE)","v":{"$error":"#VALUE!"}},{"$f":"T203-HLOOKUP(X203,Feuil2!$C$1:$CD$9,9,FALSE)","v":{"$error":"#VALUE!"}},null,null,null,null,null,null,null,{"$error":"#VALUE!"},114,null,{"$f":"IF(AP203,VLOOKUP(AP203,HOM!$AR$551:$AS$606,2))","v":3.5710000000000002}]
["H",null,null,null,null,false,null,null,null,null,null,null,null,null,"",null,null,null,"","","","","",{"$f":"IF(AND(J204>=40,J204<45),VLOOKUP(K204,Feuil2!$F$10:$P$28,9),IF(AND(J204>=45,J204<50),VLOOKUP(K204,Feuil2!$F$10:$P$28,8),IF(AND(J204>=50,J204<55),VLOOKUP(K204,Feuil2!$F$10:$P$28,7),IF(AND(J204>=55,J204<60),VLOOKUP(K204,Feuil2!$F$10:$P$28,6),IF(AND(J204>=60,J204<65),VLOOKUP(K204,Feuil2!$F$10:$P$28,5),IF(AND(J204>=65,J204<70),VLOOKUP(K204,Feuil2!$F$10:$P$28,4),IF(AND(J204>=70,J204<75),VLOOKUP(K204,Feuil2!$F$10:$P$28,3),IF(AND(J204>=75,J204<80),VLOOKUP(K204,Feuil2!$F$10:$P$28,2),VLOOKUP(K204,Feuil2!$F$10:$P$28,2)))))))))","v":{"$error":"#N/A"}},null,{"$f":"T204-HLOOKUP(X204,Feuil2!$C$1:$CD$9,2,FALSE)","v":{"$error":"#VALUE!"}},{"$f":"T204-HLOOKUP(X204,Feuil2!$C$1:$CD$9,3,FALSE)","v":{"$error":"#VALUE!"}},{"$f":"T204-HLOOKUP(X204,Feuil2!$C$1:$CD$9,4,FALSE)","v":{"$error":"#VALUE!"}},{"$f":"T204-HLOOKUP(X204,Feuil2!$C$1:$CD$9,5,FALSE)","v":{"$error":"#VALUE!"}},{"$f":"T204-HLOOKUP(X204,Feuil2!$C$1:$CD$9,6,FALSE)","v":{"$error":"#VALUE!"}},{"$f":"T204-HLOOKUP(X204,Feuil2!$C$1:$CD$9,7,FALSE)","v":{"$error":"#VALUE!"}},{"$f":"T204-HLOOKUP(X204,Feuil2!$C$1:$CD$9,8,FALSE)","v":{"$error":"#VALUE!"}},{"$f":"T204-HLOOKUP(X204,Feuil2!$C$1:$CD$9,9,FALSE)","v":{"$error":"#VALUE!"}},null,null,null,null,null,null,null,{"$error":"#VALUE!"},114,null,{"$f":"IF(AP204,VLOOKUP(AP204,HOM!$AR$551:$AS$606,2))","v":3.5710000000000002}]
["H",null,null,null,null,false,null,null,null,null,null,null,null,null,"",null,null,null,"","","","","",{"$f":"IF(AND(J205>=40,J205<45),VLOOKUP(K205,Feuil2!$F$10:$P$28,9),IF(AND(J205>=45,J205<50),VLOOKUP(K205,Feuil2!$F$10:$P$28,8),IF(AND(J205>=50,J205<55),VLOOKUP(K205,Feuil2!$F$10:$P$28,7),IF(AND(J205>=55,J205<60),VLOOKUP(K205,Feuil2!$F$10:$P$28,6),IF(AND(J205>=60,J205<65),VLOOKUP(K205,Feuil2!$F$10:$P$28,5),IF(AND(J205>=65,J205<70),VLOOKUP(K205,Feuil2!$F$10:$P$28,4),IF(AND(J205>=70,J205<75),VLOOKUP(K205,Feuil2!$F$10:$P$28,3),IF(AND(J205>=75,J205<80),VLOOKUP(K205,Feuil2!$F$10:$P$28,2),VLOOKUP(K205,Feuil2!$F$10:$P$28,2)))))))))","v":{"$error":"#N/A"}},null,{"$f":"T205-HLOOKUP(X205,Feuil2!$C$1:$CD$9,2,FALSE)","v":{"$error":"#VALUE!"}},{"$f":"T205-HLOOKUP(X205,Feuil2!$C$1:$CD$9,3,FALSE)","v":{"$error":"#VALUE!"}},{"$f":"T205-HLOOKUP(X205,Feuil2!$C$1:$CD$9,4,FALSE)","v":{"$error":"#VALUE!"}},{"$f":"T205-HLOOKUP(X205,Feuil2!$C$1:$CD$9,5,FALSE)","v":{"$error":"#VALUE!"}},{"$f":"T205-HLOOKUP(X205,Feuil2!$C$1:$CD$9,6,FALSE)","v":{"$error":"#VALUE!"}},{"$f":"T205-HLOOKUP(X205,Feuil2!$C$1:$CD$9,7,FALSE)","v":{"$error":"#VALUE!"}},{"$f":"T205-HLOOKUP(X205,Feuil2!$C$1:$CD$9,8,FALSE)","v":{"$error":"#VALUE!"}},{"$f":"T205-HLOOKUP(X205,Feuil2!$C$1:$CD$9,9,FALSE)","v":{"$error":"#VALUE!"}},null,null,null,null,null,null,null,{"$error":"#VALUE!"},114,null,{"$f":"IF(AP205,VLOOKUP(AP205,HOM!$AR$551:$AS$606,2))","v":3.5710000000000002}]
["H",null,null,null,null,false,null,null,null,null,null,null,null,null,"",null,null,null,"","","","","",{"$f":"IF(AND(J206>=40,J206<45),VLOOKUP(K206,Feuil2!$F$10:$P$28,9),IF(AND(J206>=45,J206<50),VLOOKUP(K206,Feuil2!$F$10:$P$28,8),IF(AND(J206>=50,J206<55),VLOOKUP(K206,Feuil2!$F$10:$P$28,7),IF(AND(J206>=55,J206<60),VLOOKUP(K206,Feuil2!$F$10:$P$28,6),IF(AND(J206>=60,J206<65),VLOOKUP(K206,Feuil2!$F$10:$P$28,5),IF(AND(J206>=65,J206<70),VLOOKUP(K206,Feuil2!$F$10:$P$28,4),IF(AND(J206>=70,J206<75),VLOOKUP(K206,Feuil2!$F$10:$P$28,3),IF(AND(J206>=75,J206<80),VLOOKUP(K206,Feuil2!$F$10:$P$28,2),VLOOKUP(K206,Feuil2!$F$10:$P$28,2)))))))))","v":{"$error":"#N/A"}},null,{"$f":"T206-HLOOKUP(X206,Feuil2!$C$1:$CD$9,2,FALSE)","v":{"$error":"#VALUE!"}},{"$f":"T206-HLOOKUP(X206,Feuil2!$C$1:$CD$9,3,FALSE)","v":{"$error":"#VALUE!"}},{"$f":"T206-HLOOKUP(X206,Feuil2!$C$1:$CD$9,4,FALSE)","v":{"$error":"#VALUE!"}},{"$f":"T206-HLOOKUP(X206,Feuil2!$C$1:$CD$9,5,FALSE)","v":{"$error":"#VALUE!"}},{"$f":"T206-HLOOKUP(X206,Feuil2!$C$1:$CD$9,6,FALSE)","v":{"$error":"#VALUE!"}},{"$f":"T206-HLOOKUP(X206,Feuil2!$C$1:$CD$9,7,FALSE)","v":{"$error":"#VALUE!"}},{"$f":"T206-HLOOKUP(X206,Feuil2!$C$1:$CD$9,8,FALSE)","v":{"$error":"#VALUE!"}},{"$f":"T206-HLOOKUP(X206,Feuil2!$C$1:$CD$9,9,FALSE)","v":{"$error":"#VALUE!"}},null,null,null,null,null,null,null,{"$error":"#VALUE!"},114,null,{"$f":"IF(AP206,VLOOKUP(AP206,HOM!$AR$551:$AS$606,2))","v":3.5710000000000002}]
["H",null,null,null,null,false,null,null,null,null,null,null,null,null,"",null,null,null,"","","","","",{"$f":"IF(AND(J207>=40,J207<45),VLOOKUP(K207,Feuil2!$F$10:$P$28,9),IF(AND(J207>=45,J207<50),VLOOKUP(K207,Feuil2!$F$10:$P$28,8),IF(AND(J207>=50,J207<55),VLOOKUP(K207,Feuil2!$F$10:$P$28,7),IF(AND(J207>=55,J207<60),VLOOKUP(K207,Feuil2!$F$10:$P$28,6),IF(AND(J207>=60,J207<65),VLOOKUP(K207,Feuil2!$F$10:$P$28,5),IF(AND(J207>=65,J207<70),VLOOKUP(K207,Feuil2!$F$10:$P$28,4),IF(AND(J207>=70,J207<75),VLOOKUP(K207,Feuil2!$F$10:$P$28,3),IF(AND(J207>=75,J207<80),VLOOKUP(K207,Feuil2!$F$10:$P$28,2),VLOOKUP(K207,Feuil2!$F$10:$P$28,2)))))))))","v":{"$error":"#N/A"}},null,{"$f":"T207-HLOOKUP(X207,Feuil2!$C$1:$CD$9,2,FALSE)","v":{"$error":"#VALUE!"}},{"$f":"T207-HLOOKUP(X207,Feuil2!$C$1:$CD$9,3,FALSE)","v":{"$error":"#VALUE!"}},{"$f":"T207-HLOOKUP(X207,Feuil2!$C$1:$CD$9,4,FALSE)","v":{"$error":"#VALUE!"}},{"$f":"T207-HLOOKUP(X207,Feuil2!$C$1:$CD$9,5,FALSE)","v":{"$error":"#VALUE!"}},{"$f":"T207-HLOOKUP(X207,Feuil2!$C$1:$CD$9,6,FALSE)","v":{"$error":"#VALUE!"}},{"$f":"T207-HLOOKUP(X207,Feuil2!$C$1:$CD$9,7,FALSE)","v":{"$error":"#VALUE!"}},{"$f":"T207-HLOOKUP(X207,Feuil2!$C$1:$CD$9,8,FALSE)","v":{"$error":"#VALUE!"}},{"$f":"T207-HLOOKUP(X207,Feuil2!$C$1:$CD$9,9,FALSE)","v":{"$error":"#VALUE!"}},null,null,null,null,null,null,null,{"$error":"#VALUE!"},114,null,{"$f":"IF(AP207,VLOOKUP(AP207,HOM!$AR$551:$AS$606,2))","v":3.5710000000000002}]
["H",null,null,null,null,false,null,null,null,null,null,null,null,null,"",null,null,null,"","","","","",{"$f":"IF(AND(J208>=40,J208<45),VLOOKUP(K208,Feuil2!$F$10:$P$28,9),IF(AND(J208>=45,J208<50),VLOOKUP(K208,Feuil2!$F$10:$P$28,8),IF(AND(J208>=50,J208<55),VLOOKUP(K208,Feuil2!$F$10:$P$28,7),IF(AND(J208>=55,J208<60),VLOOKUP(K208,Feuil2!$F$10:$P$28,6),IF(AND(J208>=60,J208<65),VLOOKUP(K208,Feuil2!$F$10:$P$28,5),IF(AND(J208>=65,J208<70),VLOOKUP(K208,Feuil2!$F$10:$P$28,4),IF(AND(J208>=70,J208<75),VLOOKUP(K208,Feuil2!$F$10:$P$28,3),IF(AND(J208>=75,J208<80),VLOOKUP(K208,Feuil2!$F$10:$P$28,2),VLOOKUP(K208,Feuil2!$F$10:$P$28,2)))))))))","v":{"$error":"#N/A"}},null,{"$f":"T208-HLOOKUP(X208,Feuil2!$C$1:$CD$9,2,FALSE)","v":{"$error":"#VALUE!"}},{"$f":"T208-HLOOKUP(X208,Feuil2!$C$1:$CD$9,3,FALSE)","v":{"$error":"#VALUE!"}},{"$f":"T208-HLOOKUP(X208,Feuil2!$C$1:$CD$9,4,FALSE)","v":{"$error":"#VALUE!"}},{"$f":"T208-HLOOKUP(X208,Feuil2!$C$1:$CD$9,5,FALSE)","v":{"$error":"#VALUE!"}},{"$f":"T208-HLOOKUP(X208,Feuil2!$C$1:$CD$9,6,FALSE)","v":{"$error":"#VALUE!"}},{"$f":"T208-HLOOKUP(X208,Feuil2!$C$1:$CD$9,7,FALSE)","v":{"$error":"#VALUE!"}},{"$f":"T208-HLOOKUP(X208,Feuil2!$C$1:$CD$9,8,FALSE)","v":{"$error":"#VALUE!"}},{"$f":"T208-HLOOKUP(X208,Feuil2!$C$1:$CD$9,9,FALSE)","v":{"$error":"#VALUE!"}},null,null,null,null,null,null,null,{"$error":"#VALUE!"},114,null,{"$f":"IF(AP208,VLOOKUP(AP208,HOM!$AR$551:$AS$606,2))","v":3.5710000000000002}]
["H",null,null,null,null,false,null,null,null,null,null,null,null,null,"",null,null,null,"","","","","",{"$f":"IF(AND(J209>=40,J209<45),VLOOKUP(K209,Feuil2!$F$10:$P$28,9),IF(AND(J209>=45,J209<50),VLOOKUP(K209,Feuil2!$F$10:$P$28,8),IF(AND(J209>=50,J209<55),VLOOKUP(K209,Feuil2!$F$10:$P$28,7),IF(AND(J209>=55,J209<60),VLOOKUP(K209,Feuil2!$F$10:$P$28,6),IF(AND(J209>=60,J209<65),VLOOKUP(K209,Feuil2!$F$10:$P$28,5),IF(AND(J209>=65,J209<70),VLOOKUP(K209,Feuil2!$F$10:$P$28,4),IF(AND(J209>=70,J209<75),VLOOKUP(K209,Feuil2!$F$10:$P$28,3),IF(AND(J209>=75,J209<80),VLOOKUP(K209,Feuil2!$F$10:$P$28,2),VLOOKUP(K209,Feuil2!$F$10:$P$28,2)))))))))","v":{"$error":"#N/A"}},null,{"$f":"T209-HLOOKUP(X209,Feuil2!$C$1:$CD$9,2,FALSE)","v":{"$error":"#VALUE!"}},{"$f":"T209-HLOOKUP(X209,Feuil2!$C$1:$CD$9,3,FALSE)","v":{"$error":"#VALUE!"}},{"$f":"T209-HLOOKUP(X209,Feuil2!$C$1:$CD$9,4,FALSE)","v":{"$error":"#VALUE!"}},{"$f":"T209-HLOOKUP(X209,Feuil2!$C$1:$CD$9,5,FALSE)","v":{"$error":"#VALUE!"}},{"$f":"T209-HLOOKUP(X209,Feuil2!$C$1:$CD$9,6,FALSE)","v":{"$error":"#VALUE!"}},{"$f":"T209-HLOOKUP(X209,Feuil2!$C$1:$CD$9,7,FALSE)","v":{"$error":"#VALUE!"}},{"$f":"T209-HLOOKUP(X209,Feuil2!$C$1:$CD$9,8,FALSE)","v":{"$error":"#VALUE!"}},{"$f":"T209-HLOOKUP(X209,Feuil2!$C$1:$CD$9,9,FALSE)","v":{"$error":"#VALUE!"}},null,null,null,null,null,null,null,{"$error":"#VALUE!"},114,null,{"$f":"IF(AP209,VLOOKUP(AP209,HOM!$AR$551:$AS$606,2))","v":3.5710000000000002}]
["H",null,null,null,null,false,null,null,null,null,null,null,null,null,"",null,null,null,"","","","","",{"$f":"IF(AND(J210>=40,J210<45),VLOOKUP(K210,Feuil2!$F$10:$P$28,9),IF(AND(J210>=45,J210<50),VLOOKUP(K210,Feuil2!$F$10:$P$28,8),IF(AND(J210>=50,J210<55),VLOOKUP(K210,Feuil2!$F$10:$P$28,7),IF(AND(J210>=55,J210<60),VLOOKUP(K210,Feuil2!$F$10:$P$28,6),IF(AND(J210>=60,J210<65),VLOOKUP(K210,Feuil2!$F$10:$P$28,5),IF(AND(J210>=65,J210<70),VLOOKUP(K210,Feuil2!$F$10:$P$28,4),IF(AND(J210>=70,J210<75),VLOOKUP(K210,Feuil2!$F$10:$P$28,3),IF(AND(J210>=75,J210<80),VLOOKUP(K210,Feuil2!$F$10:$P$28,2),VLOOKUP(K210,Feuil2!$F$10:$P$28,2)))))))))","v":{"$error":"#N/A"}},null,{"$f":"T210-HLOOKUP(X210,Feuil2!$C$1:$CD$9,2,FALSE)","v":{"$error":"#VALUE!"}},{"$f":"T210-HLOOKUP(X210,Feuil2!$C$1:$CD$9,3,FALSE)","v":{"$error":"#VALUE!"}},{"$f":"T210-HLOOKUP(X210,Feuil2!$C$1:$CD$9,4,FALSE)","v":{"$error":"#VALUE!"}},{"$f":"T210-HLOOKUP(X210,Feuil2!$C$1:$CD$9,5,FALSE)","v":{"$error":"#VALUE!"}},{"$f":"T210-HLOOKUP(X210,Feuil2!$C$1:$CD$9,6,FALSE)","v":{"$error":"#VALUE!"}},{"$f":"T210-HLOOKUP(X210,Feuil2!$C$1:$CD$9,7,FALSE)","v":{"$error":"#VALUE!"}},{"$f":"T210-HLOOKUP(X210,Feuil2!$C$1:$CD$9,8,FALSE)","v":{"$error":"#VALUE!"}},{"$f":"T210-HLOOKUP(X210,Feuil2!$C$1:$CD$9,9,FALSE)","v":{"$error":"#VALUE!"}},null,null,null,null,null,null,null,{"$error":"#VALUE!"},114,null,{"$f":"IF(AP210,VLOOKUP(AP210,HOM!$AR$551:$AS$606,2))","v":3.5710000000000002}]
["H",null,null,null,null,false,null,null,null,null,null,null,null,null,"",null,null,null,"","","","","",{"$f":"IF(AND(J211>=40,J211<45),VLOOKUP(K211,Feuil2!$F$10:$P$28,9),IF(AND(J211>=45,J211<50),VLOOKUP(K211,Feuil2!$F$10:$P$28,8),IF(AND(J211>=50,J211<55),VLOOKUP(K211,Feuil2!$F$10:$P$28,7),IF(AND(J211>=55,J211<60),VLOOKUP(K211,Feuil2!$F$10:$P$28,6),IF(AND(J211>=60,J211<65),VLOOKUP(K211,Feuil2!$F$10:$P$28,5),IF(AND(J211>=65,J211<70),VLOOKUP(K211,Feuil2!$F$10:$P$28,4),IF(AND(J211>=70,J211<75),VLOOKUP(K211,Feuil2!$F$10:$P$28,3),IF(AND(J211>=75,J211<80),VLOOKUP(K211,Feuil2!$F$10:$P$28,2),VLOOKUP(K211,Feuil2!$F$10:$P$28,2)))))))))","v":{"$error":"#N/A"}},null,{"$f":"T211-HLOOKUP(X211,Feuil2!$C$1:$CD$9,2,FALSE)","v":{"$error":"#VALUE!"}},{"$f":"T211-HLOOKUP(X211,Feuil2!$C$1:$CD$9,3,FALSE)","v":{"$error":"#VALUE!"}},{"$f":"T211-HLOOKUP(X211,Feuil2!$C$1:$CD$9,4,FALSE)","v":{"$error":"#VALUE!"}},{"$f":"T211-HLOOKUP(X211,Feuil2!$C$1:$CD$9,5,FALSE)","v":{"$error":"#VALUE!"}},{"$f":"T211-HLOOKUP(X211,Feuil2!$C$1:$CD$9,6,FALSE)","v":{"$error":"#VALUE!"}},{"$f":"T211-HLOOKUP(X211,Feuil2!$C$1:$CD$9,7,FALSE)","v":{"$error":"#VALUE!"}},{"$f":"T211-HLOOKUP(X211,Feuil2!$C$1:$CD$9,8,FALSE)","v":{"$error":"#VALUE!"}},{"$f":"T211-HLOOKUP(X211,Feuil2!$C$1:$CD$9,9,FALSE)","v":{"$error":"#VALUE!"}},null,null,null,null,null,null,null,{"$error":"#VALUE!"},114,null,{"$f":"IF(AP211,VLOOKUP(AP211,HOM!$AR$551:$AS$606,2))","v":3.5710000000000002}]
["H",null,null,null,null,false,null,null,null,null,null,null,null,null,"",null,null,null,"","","","","",{"$f":"IF(AND(J212>=40,J212<45),VLOOKUP(K212,Feuil2!$F$10:$P$28,9),IF(AND(J212>=45,J212<50),VLOOKUP(K212,Feuil2!$F$10:$P$28,8),IF(AND(J212>=50,J212<55),VLOOKUP(K212,Feuil2!$F$10:$P$28,7),IF(AND(J212>=55,J212<60),VLOOKUP(K212,Feuil2!$F$10:$P$28,6),IF(AND(J212>=60,J212<65),VLOOKUP(K212,Feuil2!$F$10:$P$28,5),IF(AND(J212>=65,J212<70),VLOOKUP(K212,Feuil2!$F$10:$P$28,4),IF(AND(J212>=70,J212<75),VLOOKUP(K212,Feuil2!$F$10:$P$28,3),IF(AND(J212>=75,J212<80),VLOOKUP(K212,Feuil2!$F$10:$P$28,2),VLOOKUP(K212,Feuil2!$F$10:$P$28,2)))))))))","v":{"$error":"#N/A"}},null,{"$f":"T212-HLOOKUP(X212,Feuil2!$C$1:$CD$9,2,FALSE)","v":{"$error":"#VALUE!"}},{"$f":"T212-HLOOKUP(X212,Feuil2!$C$1:$CD$9,3,FALSE)","v":{"$error":"#VALUE!"}},{"$f":"T212-HLOOKUP(X212,Feuil2!$C$1:$CD$9,4,FALSE)","v":{"$error":"#VALUE!"}},{"$f":"T212-HLOOKUP(X212,Feuil2!$C$1:$CD$9,5,FALSE)","v":{"$error":"#VALUE!"}},{"$f":"T212-HLOOKUP(X212,Feuil2!$C$1:$CD$9,6,FALSE)","v":{"$error":"#VALUE!"}},{"$f":"T212-HLOOKUP(X212,Feuil2!$C$1:$CD$9,7,FALSE)","v":{"$error":"#VALUE!"}},{"$f":"T212-HLOOKUP(X212,Feuil2!$C$1:$CD$9,8,FALSE)","v":{"$error":"#VALUE!"}},{"$f":"T212-HLOOKUP(X212,Feuil2!$C$1:$CD$9,9,FALSE)","v":{"$error":"#VALUE!"}},null,null,null,null,null,null,null,{"$error":"#VALUE!"},114,null,{"$f":"IF(AP212,VLOOKUP(AP212,HOM!$AR$551:$AS$606,2))","v":3.5710000000000002}]
["H",null,null,null,null,false,null,null,null,null,null,null,null,null,"",null,null,null,"","","","","",{"$f":"IF(AND(J213>=40,J213<45),VLOOKUP(K213,Feuil2!$F$10:$P$28,9),IF(AND(J213>=45,J213<50),VLOOKUP(K213,Feuil2!$F$10:$P$28,8),IF(AND(J213>=50,J213<55),VLOOKUP(K213,Feuil2!$F$10:$P$28,7),IF(AND(J213>=55,J213<60),VLOOKUP(K213,Feuil2!$F$10:$P$28,6),IF(AND(J213>=60,J213<65),VLOOKUP(K213,Feuil2!$F$10:$P$28,5),IF(AND(J213>=65,J213<70),VLOOKUP(K213,Feuil2!$F$10:$P$28,4),IF(AND(J213>=70,J213<75),VLOOKUP(K213,Feuil2!$F$10:$P$28,3),IF(AND(J213>=75,J213<80),VLOOKUP(K213,Feuil2!$F$10:$P$28,2),VLOOKUP(K213,Feuil2!$F$10:$P$28,2)))))))))","v":{"$error":"#N/A"}},null,{"$f":"T213-HLOOKUP(X213,Feuil2!$C$1:$CD$9,2,FALSE)","v":{"$error":"#VALUE!"}},{"$f":"T213-HLOOKUP(X213,Feuil2!$C$1:$CD$9,3,FALSE)","v":{"$error":"#VALUE!"}},{"$f":"T213-HLOOKUP(X213,Feuil2!$C$1:$CD$9,4,FALSE)","v":{"$error":"#VALUE!"}},{"$f":"T213-HLOOKUP(X213,Feuil2!$C$1:$CD$9,5,FALSE)","v":{"$error":"#VALUE!"}},{"$f":"T213-HLOOKUP(X213,Feuil2!$C$1:$CD$9,6,FALSE)","v":{"$error":"#VALUE!"}},{"$f":"T213-HLOOKUP(X213,Feuil2!$C$1:$CD$9,7,FALSE)","v":{"$error":"#VALUE!"}},{"$f":"T213-HLOOKUP(X213,Feuil2!$C$1:$CD$9,8,FALSE)","v":{"$error":"#VALUE!"}},{"$f":"T213-HLOOKUP(X213,Feuil2!$C$1:$CD$9,9,FALSE)","v":{"$error":"#VALUE!"}},null,null,null,null,null,null,null,{"$error":"#VALUE!"},114,null,{"$f":"IF(AP213,VLOOKUP(AP213,HOM!$AR$551:$AS$606,2))","v":3.5710000000000002}]
["H",null,null,null,null,false,null,null,null,null,null,null,null,null,"",null,null,null,"","","","","",{"$f":"IF(AND(J214>=40,J214<45),VLOOKUP(K214,Feuil2!$F$10:$P$28,9),IF(AND(J214>=45,J214<50),VLOOKUP(K214,Feuil2!$F$10:$P$28,8),IF(AND(J214>=50,J214<55),VLOOKUP(K214,Feuil2!$F$10:$P$28,7),IF(AND(J214>=55,J214<60),VLOOKUP(K214,Feuil2!$F$10:$P$28,6),IF(AND(J214>=60,J214<65),VLOOKUP(K214,Feuil2!$F$10:$P$28,5),IF(AND(J214>=65,J214<70),VLOOKUP(K214,Feuil2!$F$10:$P$28,4),IF(AND(J214>=70,J214<75),VLOOKUP(K214,Feuil2!$F$10:$P$28,3),IF(AND(J214>=75,J214<80),VLOOKUP(K214,Feuil2!$F$10:$P$28,2),VLOOKUP(K214,Feuil2!$F$10:$P$28,2)))))))))","v":{"$error":"#N/A"}},null,{"$f":"T214-HLOOKUP(X214,Feuil2!$C$1:$CD$9,2,FALSE)","v":{"$error":"#VALUE!"}},{"$f":"T214-HLOOKUP(X214,Feuil2!$C$1:$CD$9,3,FALSE)","v":{"$error":"#VALUE!"}},{"$f":"T214-HLOOKUP(X214,Feuil2!$C$1:$CD$9,4,FALSE)","v":{"$error":"#VALUE!"}},{"$f":"T214-HLOOKUP(X214,Feuil2!$C$1:$CD$9,5,FALSE)","v":{"$error":"#VALUE!"}},{"$f":"T214-HLOOKUP(X214,Feuil2!$C$1:$CD$9,6,FALSE)","v":{"$error":"#VALUE!"}},{"$f":"T214-HLOOKUP(X214,Feuil2!$C$1:$CD$9,7,FALSE)","v":{"$error":"#VALUE!"}},{"$f":"T214-HLOOKUP(X214,Feuil2!$C$1:$CD$9,8,FALSE)","v":{"$error":"#VALUE!"}},{"$f":"T214-HLOOKUP(X214,Feuil2!$C$1:$CD$9,9,FALSE)","v":{"$error":"#VALUE!"}},null,null,null,null,null,null,null,{"$error":"#VALUE!"},114,null,{"$f":"IF(AP214,VLOOKUP(AP214,HOM!$AR$551:$AS$606,2))","v":3.5710000000000002}]
["H",null,null,null,null,false,null,null,null,null,null,null,null,null,"",null,null,null,{"$f":"IF(K215=\"\",\"\",IF(MAXA(P215:R215)<=0,0,MAXA(P215:R215)))","v":""},{"$f":"IF(K215=\"\",\"\",IF(OR(O215=0,S215=0),0,O215+S215))","v":""},"","","",{"$f":"IF(AND(J215>=40,J215<45),VLOOKUP(K215,Feuil2!$F$10:$P$28,9),IF(AND(J215>=45,J215<50),VLOOKUP(K215,Feuil2!$F$10:$P$28,8),IF(AND(J215>=50,J215<55),VLOOKUP(K215,Feuil2!$F$10:$P$28,7),IF(AND(J215>=55,J215<60),VLOOKUP(K215,Feuil2!$F$10:$P$28,6),IF(AND(J215>=60,J215<65),VLOOKUP(K215,Feuil2!$F$10:$P$28,5),IF(AND(J215>=65,J215<70),VLOOKUP(K215,Feuil2!$F$10:$P$28,4),IF(AND(J215>=70,J215<75),VLOOKUP(K215,Feuil2!$F$10:$P$28,3),IF(AND(J215>=75,J215<80),VLOOKUP(K215,Feuil2!$F$10:$P$28,2),VLOOKUP(K215,Feuil2!$F$10:$P$28,2)))))))))","v":{"$error":"#N/A"}},null,{"$f":"T215-HLOOKUP(X215,Feuil2!$C$1:$CD$9,2,FALSE)","v":{"$error":"#VALUE!"}},{"$f":"T215-HLOOKUP(X215,Feuil2!$C$1:$CD$9,3,FALSE)","v":{"$error":"#VALUE!"}},{"$f":"T215-HLOOKUP(X215,Feuil2!$C$1:$CD$9,4,FALSE)","v":{"$error":"#VALUE!"}},{"$f":"T215-HLOOKUP(X215,Feuil2!$C$1:$CD$9,5,FALSE)","v":{"$error":"#VALUE!"}},{"$f":"T215-HLOOKUP(X215,Feuil2!$C$1:$CD$9,6,FALSE)","v":{"$error":"#VALUE!"}},{"$f":"T215-HLOOKUP(X215,Feuil2!$C$1:$CD$9,7,FALSE)","v":{"$error":"#VALUE!"}},{"$f":"T215-HLOOKUP(X215,Feuil2!$C$1:$CD$9,8,FALSE)","v":{"$error":"#VALUE!"}},{"$f":"T215-HLOOKUP(X215,Feuil2!$C$1:$CD$9,9,FALSE)","v":{"$error":"#VALUE!"}},null,null,null,null,null,null,null,{"$error":"#VALUE!"},114,null,{"$f":"IF(AP215,VLOOKUP(AP215,HOM!$AR$551:$AS$606,2))","v":3.5710000000000002}]
["H",null,null,null,null,{"$f":"IF(AP216<95,IF(AP216<=90,VLOOKUP(AP216,$AP$550:$AQ$605,2)))","v":false},null,null,null,null,null,null,null,null,{"$f":"IF(K216=\"\",\"\",IF(MAXA(L216:N216)<=0,0,MAXA(L216:N216)))","v":""},null,null,null,{"$f":"IF(K216=\"\",\"\",IF(MAXA(P216:R216)<=0,0,MAXA(P216:R216)))","v":""},{"$f":"IF(K216=\"\",\"\",IF(OR(O216=0,S216=0),0,O216+S216))","v":""},"","","",{"$f":"IF(AND(J216>=40,J216<45),VLOOKUP(K216,Feuil2!$F$10:$P$28,9),IF(AND(J216>=45,J216<50),VLOOKUP(K216,Feuil2!$F$10:$P$28,8),IF(AND(J216>=50,J216<55),VLOOKUP(K216,Feuil2!$F$10:$P$28,7),IF(AND(J216>=55,J216<60),VLOOKUP(K216,Feuil2!$F$10:$P$28,6),IF(AND(J216>=60,J216<65),VLOOKUP(K216,Feuil2!$F$10:$P$28,5),IF(AND(J216>=65,J216<70),VLOOKUP(K216,Feuil2!$F$10:$P$28,4),IF(AND(J216>=70,J216<75),VLOOKUP(K216,Feuil2!$F$10:$P$28,3),IF(AND(J216>=75,J216<80),VLOOKUP(K216,Feuil2!$F$10:$P$28,2),VLOOKUP(K216,Feuil2!$F$10:$P$28,2)))))))))","v":{"$error":"#N/A"}},null,{"$f":"T216-HLOOKUP(X216,Feuil2!$C$1:$CD$9,2,FALSE)","v":{"$error":"#VALUE!"}},{"$f":"T216-HLOOKUP(X216,Feuil2!$C$1:$CD$9,3,FALSE)","v":{"$error":"#VALUE!"}},{"$f":"T216-HLOOKUP(X216,Feuil2!$C$1:$CD$9,4,FALSE)","v":{"$error":"#VALUE!"}},{"$f":"T216-HLOOKUP(X216,Feuil2!$C$1:$CD$9,5,FALSE)","v":{"$error":"#VALUE!"}},{"$f":"T216-HLOOKUP(X216,Feuil2!$C$1:$CD$9,6,FALSE)","v":{"$error":"#VALUE!"}},{"$f":"T216-HLOOKUP(X216,Feuil2!$C$1:$CD$9,7,FALSE)","v":{"$error":"#VALUE!"}},{"$f":"T216-HLOOKUP(X216,Feuil2!$C$1:$CD$9,8,FALSE)","v":{"$error":"#VALUE!"}},{"$f":"T216-HLOOKUP(X216,Feuil2!$C$1:$CD$9,9,FALSE)","v":{"$error":"#VALUE!"}},null,null,null,null,null,null,null,{"$error":"#VALUE!"},114,null,{"$f":"IF(AP216,VLOOKUP(AP216,HOM!$AR$551:$AS$606,2))","v":3.5710000000000002}]
["H",null,null,null,null,false,null,null,null,null,null,null,null,null,"",null,null,null,"","","","","",{"$f":"IF(AND(J217>=40,J217<45),VLOOKUP(K217,Feuil2!$F$10:$P$28,9),IF(AND(J217>=45,J217<50),VLOOKUP(K217,Feuil2!$F$10:$P$28,8),IF(AND(J217>=50,J217<55),VLOOKUP(K217,Feuil2!$F$10:$P$28,7),IF(AND(J217>=55,J217<60),VLOOKUP(K217,Feuil2!$F$10:$P$28,6),IF(AND(J217>=60,J217<65),VLOOKUP(K217,Feuil2!$F$10:$P$28,5),IF(AND(J217>=65,J217<70),VLOOKUP(K217,Feuil2!$F$10:$P$28,4),IF(AND(J217>=70,J217<75),VLOOKUP(K217,Feuil2!$F$10:$P$28,3),IF(AND(J217>=75,J217<80),VLOOKUP(K217,Feuil2!$F$10:$P$28,2),VLOOKUP(K217,Feuil2!$F$10:$P$28,2)))))))))","v":{"$error":"#N/A"}},null,{"$f":"T217-HLOOKUP(X217,Feuil2!$C$1:$CD$9,2,FALSE)","v":{"$error":"#VALUE!"}},{"$f":"T217-HLOOKUP(X217,Feuil2!$C$1:$CD$9,3,FALSE)","v":{"$error":"#VALUE!"}},{"$f":"T217-HLOOKUP(X217,Feuil2!$C$1:$CD$9,4,FALSE)","v":{"$error":"#VALUE!"}},{"$f":"T217-HLOOKUP(X217,Feuil2!$C$1:$CD$9,5,FALSE)","v":{"$error":"#VALUE!"}},{"$f":"T217-HLOOKUP(X217,Feuil2!$C$1:$CD$9,6,FALSE)","v":{"$error":"#VALUE!"}},{"$f":"T217-HLOOKUP(X217,Feuil2!$C$1:$CD$9,7,FALSE)","v":{"$error":"#VALUE!"}},{"$f":"T217-HLOOKUP(X217,Feuil2!$C$1:$CD$9,8,FALSE)","v":{"$error":"#VALUE!"}},{"$f":"T217-HLOOKUP(X217,Feuil2!$C$1:$CD$9,9,FALSE)","v":{"$error":"#VALUE!"}},null,null,null,null,null,null,null,{"$error":"#VALUE!"},114,null,{"$f":"IF(AP217,VLOOKUP(AP217,HOM!$AR$551:$AS$606,2))","v":3.5710000000000002}]
["H",null,null,null,null,false,null,null,null,null,null,null,null,null,"",null,null,null,"","","","","",{"$f":"IF(AND(J218>=40,J218<45),VLOOKUP(K218,Feuil2!$F$10:$P$28,9),IF(AND(J218>=45,J218<50),VLOOKUP(K218,Feuil2!$F$10:$P$28,8),IF(AND(J218>=50,J218<55),VLOOKUP(K218,Feuil2!$F$10:$P$28,7),IF(AND(J218>=55,J218<60),VLOOKUP(K218,Feuil2!$F$10:$P$28,6),IF(AND(J218>=60,J218<65),VLOOKUP(K218,Feuil2!$F$10:$P$28,5),IF(AND(J218>=65,J218<70),VLOOKUP(K218,Feuil2!$F$10:$P$28,4),IF(AND(J218>=70,J218<75),VLOOKUP(K218,Feuil2!$F$10:$P$28,3),IF(AND(J218>=75,J218<80),VLOOKUP(K218,Feuil2!$F$10:$P$28,2),VLOOKUP(K218,Feuil2!$F$10:$P$28,2)))))))))","v":{"$error":"#N/A"}},null,{"$f":"T218-HLOOKUP(X218,Feuil2!$C$1:$CD$9,2,FALSE)","v":{"$error":"#VALUE!"}},{"$f":"T218-HLOOKUP(X218,Feuil2!$C$1:$CD$9,3,FALSE)","v":{"$error":"#VALUE!"}},{"$f":"T218-HLOOKUP(X218,Feuil2!$C$1:$CD$9,4,FALSE)","v":{"$error":"#VALUE!"}},{"$f":"T218-HLOOKUP(X218,Feuil2!$C$1:$CD$9,5,FALSE)","v":{"$error":"#VALUE!"}},{"$f":"T218-HLOOKUP(X218,Feuil2!$C$1:$CD$9,6,FALSE)","v":{"$error":"#VALUE!"}},{"$f":"T218-HLOOKUP(X218,Feuil2!$C$1:$CD$9,7,FALSE)","v":{"$error":"#VALUE!"}},{"$f":"T218-HLOOKUP(X218,Feuil2!$C$1:$CD$9,8,FALSE)","v":{"$error":"#VALUE!"}},{"$f":"T218-HLOOKUP(X218,Feuil2!$C$1:$CD$9,9,FALSE)","v":{"$error":"#VALUE!"}},null,null,null,null,null,null,null,{"$error":"#VALUE!"},114,null,{"$f":"IF(AP218,VLOOKUP(AP218,HOM!$AR$551:$AS$606,2))","v":3.5710000000000002}]
["H",null,null,null,null,false,null,null,null,null,null,null,null,null,"",null,null,null,"","","","","",{"$f":"IF(AND(J219>=40,J219<45),VLOOKUP(K219,Feuil2!$F$10:$P$28,9),IF(AND(J219>=45,J219<50),VLOOKUP(K219,Feuil2!$F$10:$P$28,8),IF(AND(J219>=50,J219<55),VLOOKUP(K219,Feuil2!$F$10:$P$28,7),IF(AND(J219>=55,J219<60),VLOOKUP(K219,Feuil2!$F$10:$P$28,6),IF(AND(J219>=60,J219<65),VLOOKUP(K219,Feuil2!$F$10:$P$28,5),IF(AND(J219>=65,J219<70),VLOOKUP(K219,Feuil2!$F$10:$P$28,4),IF(AND(J219>=70,J219<75),VLOOKUP(K219,Feuil2!$F$10:$P$28,3),IF(AND(J219>=75,J219<80),VLOOKUP(K219,Feuil2!$F$10:$P$28,2),VLOOKUP(K219,Feuil2!$F$10:$P$28,2)))))))))","v":{"$error":"#N/A"}},null,{"$f":"T219-HLOOKUP(X219,Feuil2!$C$1:$CD$9,2,FALSE)","v":{"$error":"#VALUE!"}},{"$f":"T219-HLOOKUP(X219,Feuil2!$C$1:$CD$9,3,FALSE)","v":{"$error":"#VALUE!"}},{"$f":"T219-HLOOKUP(X219,Feuil2!$C$1:$CD$9,4,FALSE)","v":{"$error":"#VALUE!"}},{"$f":"T219-HLOOKUP(X219,Feuil2!$C$1:$CD$9,5,FALSE)","v":{"$error":"#VALUE!"}},{"$f":"T219-HLOOKUP(X219,Feuil2!$C$1:$CD$9,6,FALSE)","v":{"$error":"#VALUE!"}},{"$f":"T219-HLOOKUP(X219,Feuil2!$C$1:$CD$9,7,FALSE)","v":{"$error":"#VALUE!"}},{"$f":"T219-HLOOKUP(X219,Feuil2!$C$1:$CD$9,8,FALSE)","v":{"$error":"#VALUE!"}},{"$f":"T219-HLOOKUP(X219,Feuil2!$C$1:$CD$9,9,FALSE)","v":{"$error":"#VALUE!"}},null,null,null,null,null,null,null,{"$error":"#VALUE!"},114,null,{"$f":"IF(AP219,VLOOKUP(AP219,HOM!$AR$551:$AS$606,2))","v":3.5710000000000002}]
["H",null,null,null,null,false,null,null,null,null,null,null,null,null,"",null,null,null,"","","","","",{"$f":"IF(AND(J220>=40,J220<45),VLOOKUP(K220,Feuil2!$F$10:$P$28,9),IF(AND(J220>=45,J220<50),VLOOKUP(K220,Feuil2!$F$10:$P$28,8),IF(AND(J220>=50,J220<55),VLOOKUP(K220,Feuil2!$F$10:$P$28,7),IF(AND(J220>=55,J220<60),VLOOKUP(K220,Feuil2!$F$10:$P$28,6),IF(AND(J220>=60,J220<65),VLOOKUP(K220,Feuil2!$F$10:$P$28,5),IF(AND(J220>=65,J220<70),VLOOKUP(K220,Feuil2!$F$10:$P$28,4),IF(AND(J220>=70,J220<75),VLOOKUP(K220,Feuil2!$F$10:$P$28,3),IF(AND(J220>=75,J220<80),VLOOKUP(K220,Feuil2!$F$10:$P$28,2),VLOOKUP(K220,Feuil2!$F$10:$P$28,2)))))))))","v":{"$error":"#N/A"}},null,{"$f":"T220-HLOOKUP(X220,Feuil2!$C$1:$CD$9,2,FALSE)","v":{"$error":"#VALUE!"}},{"$f":"T220-HLOOKUP(X220,Feuil2!$C$1:$CD$9,3,FALSE)","v":{"$error":"#VALUE!"}},{"$f":"T220-HLOOKUP(X220,Feuil2!$C$1:$CD$9,4,FALSE)","v":{"$error":"#VALUE!"}},{"$f":"T220-HLOOKUP(X220,Feuil2!$C$1:$CD$9,5,FALSE)","v":{"$error":"#VALUE!"}},{"$f":"T220-HLOOKUP(X220,Feuil2!$C$1:$CD$9,6,FALSE)","v":{"$error":"#VALUE!"}},{"$f":"T220-HLOOKUP(X220,Feuil2!$C$1:$CD$9,7,FALSE)","v":{"$error":"#VALUE!"}},{"$f":"T220-HLOOKUP(X220,Feuil2!$C$1:$CD$9,8,FALSE)","v":{"$error":"#VALUE!"}},{"$f":"T220-HLOOKUP(X220,Feuil2!$C$1:$CD$9,9,FALSE)","v":{"$error":"#VALUE!"}},null,null,null,null,null,null,null,{"$error":"#VALUE!"},114,null,{"$f":"IF(AP220,VLOOKUP(AP220,HOM!$AR$551:$AS$606,2))","v":3.5710000000000002}]
["H",null,null,null,null,false,null,null,null,null,null,null,null,null,"",null,null,null,"","","","","",{"$f":"IF(AND(J221>=40,J221<45),VLOOKUP(K221,Feuil2!$F$10:$P$28,9),IF(AND(J221>=45,J221<50),VLOOKUP(K221,Feuil2!$F$10:$P$28,8),IF(AND(J221>=50,J221<55),VLOOKUP(K221,Feuil2!$F$10:$P$28,7),IF(AND(J221>=55,J221<60),VLOOKUP(K221,Feuil2!$F$10:$P$28,6),IF(AND(J221>=60,J221<65),VLOOKUP(K221,Feuil2!$F$10:$P$28,5),IF(AND(J221>=65,J221<70),VLOOKUP(K221,Feuil2!$F$10:$P$28,4),IF(AND(J221>=70,J221<75),VLOOKUP(K221,Feuil2!$F$10:$P$28,3),IF(AND(J221>=75,J221<80),VLOOKUP(K221,Feuil2!$F$10:$P$28,2),VLOOKUP(K221,Feuil2!$F$10:$P$28,2)))))))))","v":{"$error":"#N/A"}},null,{"$f":"T221-HLOOKUP(X221,Feuil2!$C$1:$CD$9,2,FALSE)","v":{"$error":"#VALUE!"}},{"$f":"T221-HLOOKUP(X221,Feuil2!$C$1:$CD$9,3,FALSE)","v":{"$error":"#VALUE!"}},{"$f":"T221-HLOOKUP(X221,Feuil2!$C$1:$CD$9,4,FALSE)","v":{"$error":"#VALUE!"}},{"$f":"T221-HLOOKUP(X221,Feuil2!$C$1:$CD$9,5,FALSE)","v":{"$error":"#VALUE!"}},{"$f":"T221-HLOOKUP(X221,Feuil2!$C$1:$CD$9,6,FALSE)","v":{"$error":"#VALUE!"}},{"$f":"T221-HLOOKUP(X221,Feuil2!$C$1:$CD$9,7,FALSE)","v":{"$error":"#VALUE!"}},{"$f":"T221-HLOOKUP(X221,Feuil2!$C$1:$CD$9,8,FALSE)","v":{"$error":"#VALUE!"}},{"$f":"T221-HLOOKUP(X221,Feuil2!$C$1:$CD$9,9,FALSE)","v":{"$error":"#VALUE!"}},null,null,null,null,null,null,null,{"$error":"#VALUE!"},114,null,{"$f":"IF(AP221,VLOOKUP(AP221,HOM!$AR$551:$AS$606,2))","v":3.5710000000000002}]
["H",null,null,null,null,false,null,null,null,null,null,null,null,null,"",null,null,null,"","","","","",{"$f":"IF(AND(J222>=40,J222<45),VLOOKUP(K222,Feuil2!$F$10:$P$28,9),IF(AND(J222>=45,J222<50),VLOOKUP(K222,Feuil2!$F$10:$P$28,8),IF(AND(J222>=50,J222<55),VLOOKUP(K222,Feuil2!$F$10:$P$28,7),IF(AND(J222>=55,J222<60),VLOOKUP(K222,Feuil2!$F$10:$P$28,6),IF(AND(J222>=60,J222<65),VLOOKUP(K222,Feuil2!$F$10:$P$28,5),IF(AND(J222>=65,J222<70),VLOOKUP(K222,Feuil2!$F$10:$P$28,4),IF(AND(J222>=70,J222<75),VLOOKUP(K222,Feuil2!$F$10:$P$28,3),IF(AND(J222>=75,J222<80),VLOOKUP(K222,Feuil2!$F$10:$P$28,2),VLOOKUP(K222,Feuil2!$F$10:$P$28,2)))))))))","v":{"$error":"#N/A"}},null,{"$f":"T222-HLOOKUP(X222,Feuil2!$C$1:$CD$9,2,FALSE)","v":{"$error":"#VALUE!"}},{"$f":"T222-HLOOKUP(X222,Feuil2!$C$1:$CD$9,3,FALSE)","v":{"$error":"#VALUE!"}},{"$f":"T222-HLOOKUP(X222,Feuil2!$C$1:$CD$9,4,FALSE)","v":{"$error":"#VALUE!"}},{"$f":"T222-HLOOKUP(X222,Feuil2!$C$1:$CD$9,5,FALSE)","v":{"$error":"#VALUE!"}},{"$f":"T222-HLOOKUP(X222,Feuil2!$C$1:$CD$9,6,FALSE)","v":{"$error":"#VALUE!"}},{"$f":"T222-HLOOKUP(X222,Feuil2!$C$1:$CD$9,7,FALSE)","v":{"$error":"#VALUE!"}},{"$f":"T222-HLOOKUP(X222,Feuil2!$C$1:$CD$9,8,FALSE)","v":{"$error":"#VALUE!"}},{"$f":"T222-HLOOKUP(X222,Feuil2!$C$1:$CD$9,9,FALSE)","v":{"$error":"#VALUE!"}},null,null,null,null,null,null,null,{"$error":"#VALUE!"},114,null,{"$f":"IF(AP222,VLOOKUP(AP222,HOM!$AR$551:$AS$606,2))","v":3.5710000000000002}]
["H",null,null,null,null,false,null,null,null,null,null,null,null,null,"",null,null,null,"","","","","",{"$f":"IF(AND(J223>=40,J223<45),VLOOKUP(K223,Feuil2!$F$10:$P$28,9),IF(AND(J223>=45,J223<50),VLOOKUP(K223,Feuil2!$F$10:$P$28,8),IF(AND(J223>=50,J223<55),VLOOKUP(K223,Feuil2!$F$10:$P$28,7),IF(AND(J223>=55,J223<60),VLOOKUP(K223,Feuil2!$F$10:$P$28,6),IF(AND(J223>=60,J223<65),VLOOKUP(K223,Feuil2!$F$10:$P$28,5),IF(AND(J223>=65,J223<70),VLOOKUP(K223,Feuil2!$F$10:$P$28,4),IF(AND(J223>=70,J223<75),VLOOKUP(K223,Feuil2!$F$10:$P$28,3),IF(AND(J223>=75,J223<80),VLOOKUP(K223,Feuil2!$F$10:$P$28,2),VLOOKUP(K223,Feuil2!$F$10:$P$28,2)))))))))","v":{"$error":"#N/A"}},null,{"$f":"T223-HLOOKUP(X223,Feuil2!$C$1:$CD$9,2,FALSE)","v":{"$error":"#VALUE!"}},{"$f":"T223-HLOOKUP(X223,Feuil2!$C$1:$CD$9,3,FALSE)","v":{"$error":"#VALUE!"}},{"$f":"T223-HLOOKUP(X223,Feuil2!$C$1:$CD$9,4,FALSE)","v":{"$error":"#VALUE!"}},{"$f":"T223-HLOOKUP(X223,Feuil2!$C$1:$CD$9,5,FALSE)","v":{"$error":"#VALUE!"}},{"$f":"T223-HLOOKUP(X223,Feuil2!$C$1:$CD$9,6,FALSE)","v":{"$error":"#VALUE!"}},{"$f":"T223-HLOOKUP(X223,Feuil2!$C$1:$CD$9,7,FALSE)","v":{"$error":"#VALUE!"}},{"$f":"T223-HLOOKUP(X223,Feuil2!$C$1:$CD$9,8,FALSE)","v":{"$error":"#VALUE!"}},{"$f":"T223-HLOOKUP(X223,Feuil2!$C$1:$CD$9,9,FALSE)","v":{"$error":"#VALUE!"}},null,null,null,null,null,null,null,{"$error":"#VALUE!"},114,null,{"$f":"IF(AP223,VLOOKUP(AP223,HOM!$AR$551:$AS$606,2))","v":3.5710000000000002}]
["H",null,null,null,null,false,null,null,null,null,null,null,null,null,"",null,null,null,"","","","","",{"$f":"IF(AND(J224>=40,J224<45),VLOOKUP(K224,Feuil2!$F$10:$P$28,9),IF(AND(J224>=45,J224<50),VLOOKUP(K224,Feuil2!$F$10:$P$28,8),IF(AND(J224>=50,J224<55),VLOOKUP(K224,Feuil2!$F$10:$P$28,7),IF(AND(J224>=55,J224<60),VLOOKUP(K224,Feuil2!$F$10:$P$28,6),IF(AND(J224>=60,J224<65),VLOOKUP(K224,Feuil2!$F$10:$P$28,5),IF(AND(J224>=65,J224<70),VLOOKUP(K224,Feuil2!$F$10:$P$28,4),IF(AND(J224>=70,J224<75),VLOOKUP(K224,Feuil2!$F$10:$P$28,3),IF(AND(J224>=75,J224<80),VLOOKUP(K224,Feuil2!$F$10:$P$28,2),VLOOKUP(K224,Feuil2!$F$10:$P$28,2)))))))))","v":{"$error":"#N/A"}},null,{"$f":"T224-HLOOKUP(X224,Feuil2!$C$1:$CD$9,2,FALSE)","v":{"$error":"#VALUE!"}},{"$f":"T224-HLOOKUP(X224,Feuil2!$C$1:$CD$9,3,FALSE)","v":{"$error":"#VALUE!"}},{"$f":"T224-HLOOKUP(X224,Feuil2!$C$1:$CD$9,4,FALSE)","v":{"$error":"#VALUE!"}},{"$f":"T224-HLOOKUP(X224,Feuil2!$C$1:$CD$9,5,FALSE)","v":{"$error":"#VALUE!"}},{"$f":"T224-HLOOKUP(X224,Feuil2!$C$1:$CD$9,6,FALSE)","v":{"$error":"#VALUE!"}},{"$f":"T224-HLOOKUP(X224,Feuil2!$C$1:$CD$9,7,FALSE)","v":{"$error":"#VALUE!"}},{"$f":"T224-HLOOKUP(X224,Feuil2!$C$1:$CD$9,8,FALSE)","v":{"$error":"#VALUE!"}},{"$f":"T224-HLOOKUP(X224,Feuil2!$C$1:$CD$9,9,FALSE)","v":{"$error":"#VALUE!"}},null,null,null,null,null,null,null,{"$error":"#VALUE!"},114,null,{"$f":"IF(AP224,VLOOKUP(AP224,HOM!$AR$551:$AS$606,2))","v":3.5710000000000002}]
["H",null,null,null,null,false,null,null,null,null,null,null,null,null,"",null,null,null,"","","","","",{"$f":"IF(AND(J225>=40,J225<45),VLOOKUP(K225,Feuil2!$F$10:$P$28,9),IF(AND(J225>=45,J225<50),VLOOKUP(K225,Feuil2!$F$10:$P$28,8),IF(AND(J225>=50,J225<55),VLOOKUP(K225,Feuil2!$F$10:$P$28,7),IF(AND(J225>=55,J225<60),VLOOKUP(K225,Feuil2!$F$10:$P$28,6),IF(AND(J225>=60,J225<65),VLOOKUP(K225,Feuil2!$F$10:$P$28,5),IF(AND(J225>=65,J225<70),VLOOKUP(K225,Feuil2!$F$10:$P$28,4),IF(AND(J225>=70,J225<75),VLOOKUP(K225,Feuil2!$F$10:$P$28,3),IF(AND(J225>=75,J225<80),VLOOKUP(K225,Feuil2!$F$10:$P$28,2),VLOOKUP(K225,Feuil2!$F$10:$P$28,2)))))))))","v":{"$error":"#N/A"}},null,{"$f":"T225-HLOOKUP(X225,Feuil2!$C$1:$CD$9,2,FALSE)","v":{"$error":"#VALUE!"}},{"$f":"T225-HLOOKUP(X225,Feuil2!$C$1:$CD$9,3,FALSE)","v":{"$error":"#VALUE!"}},{"$f":"T225-HLOOKUP(X225,Feuil2!$C$1:$CD$9,4,FALSE)","v":{"$error":"#VALUE!"}},{"$f":"T225-HLOOKUP(X225,Feuil2!$C$1:$CD$9,5,FALSE)","v":{"$error":"#VALUE!"}},{"$f":"T225-HLOOKUP(X225,Feuil2!$C$1:$CD$9,6,FALSE)","v":{"$error":"#VALUE!"}},{"$f":"T225-HLOOKUP(X225,Feuil2!$C$1:$CD$9,7,FALSE)","v":{"$error":"#VALUE!"}},{"$f":"T225-HLOOKUP(X225,Feuil2!$C$1:$CD$9,8,FALSE)","v":{"$error":"#VALUE!"}},{"$f":"T225-HLOOKUP(X225,Feuil2!$C$1:$CD$9,9,FALSE)","v":{"$error":"#VALUE!"}},null,null,null,null,null,null,null,{"$error":"#VALUE!"},114,null,{"$f":"IF(AP225,VLOOKUP(AP225,HOM!$AR$551:$AS$606,2))","v":3.5710000000000002}]
["H",null,null,null,null,false,null,null,null,null,null,null,null,null,"",null,null,null,"","","","","",{"$f":"IF(AND(J226>=40,J226<45),VLOOKUP(K226,Feuil2!$F$10:$P$28,9),IF(AND(J226>=45,J226<50),VLOOKUP(K226,Feuil2!$F$10:$P$28,8),IF(AND(J226>=50,J226<55),VLOOKUP(K226,Feuil2!$F$10:$P$28,7),IF(AND(J226>=55,J226<60),VLOOKUP(K226,Feuil2!$F$10:$P$28,6),IF(AND(J226>=60,J226<65),VLOOKUP(K226,Feuil2!$F$10:$P$28,5),IF(AND(J226>=65,J226<70),VLOOKUP(K226,Feuil2!$F$10:$P$28,4),IF(AND(J226>=70,J226<75),VLOOKUP(K226,Feuil2!$F$10:$P$28,3),IF(AND(J226>=75,J226<80),VLOOKUP(K226,Feuil2!$F$10:$P$28,2),VLOOKUP(K226,Feuil2!$F$10:$P$28,2)))))))))","v":{"$error":"#N/A"}},null,{"$f":"T226-HLOOKUP(X226,Feuil2!$C$1:$CD$9,2,FALSE)","v":{"$error":"#VALUE!"}},{"$f":"T226-HLOOKUP(X226,Feuil2!$C$1:$CD$9,3,FALSE)","v":{"$error":"#VALUE!"}},{"$f":"T226-HLOOKUP(X226,Feuil2!$C$1:$CD$9,4,FALSE)","v":{"$error":"#VALUE!"}},{"$f":"T226-HLOOKUP(X226,Feuil2!$C$1:$CD$9,5,FALSE)","v":{"$error":"#VALUE!"}},{"$f":"T226-HLOOKUP(X226,Feuil2!$C$1:$CD$9,6,FALSE)","v":{"$error":"#VALUE!"}},{"$f":"T226-HLOOKUP(X226,Feuil2!$C$1:$CD$9,7,FALSE)","v":{"$error":"#VALUE!"}},{"$f":"T226-HLOOKUP(X226,Feuil2!$C$1:$CD$9,8,FALSE)","v":{"$error":"#VALUE!"}},{"$f":"T226-HLOOKUP(X226,Feuil2!$C$1:$CD$9,9,FALSE)","v":{"$error":"#VALUE!"}},null,null,null,null,null,null,null,{"$error":"#VALUE!"},114,null,{"$f":"IF(AP226,VLOOKUP(AP226,HOM!$AR$551:$AS$606,2))","v":3.5710000000000002}]
["H",null,null,null,null,false,null,null,null,null,null,null,null,null,{"$f":"IF(K227=\"\",\"\",IF(MAXA(L227:N227)<=0,0,MAXA(L227:N227)))","v":""},null,null,null,{"$f":"IF(K227=\"\",\"\",IF(MAXA(P227:R227)<=0,0,MAXA(P227:R227)))","v":""},{"$f":"IF(K227=\"\",\"\",IF(OR(O227=0,S227=0),0,O227+S227))","v":""},"","","",{"$f":"IF(AND(J227>=40,J227<45),VLOOKUP(K227,Feuil2!$F$10:$P$28,9),IF(AND(J227>=45,J227<50),VLOOKUP(K227,Feuil2!$F$10:$P$28,8),IF(AND(J227>=50,J227<55),VLOOKUP(K227,Feuil2!$F$10:$P$28,7),IF(AND(J227>=55,J227<60),VLOOKUP(K227,Feuil2!$F$10:$P$28,6),IF(AND(J227>=60,J227<65),VLOOKUP(K227,Feuil2!$F$10:$P$28,5),IF(AND(J227>=65,J227<70),VLOOKUP(K227,Feuil2!$F$10:$P$28,4),IF(AND(J227>=70,J227<75),VLOOKUP(K227,Feuil2!$F$10:$P$28,3),IF(AND(J227>=75,J227<80),VLOOKUP(K227,Feuil2!$F$10:$P$28,2),VLOOKUP(K227,Feuil2!$F$10:$P$28,2)))))))))","v":{"$error":"#N/A"}},null,{"$f":"T227-HLOOKUP(X227,Feuil2!$C$1:$CD$9,2,FALSE)","v":{"$error":"#VALUE!"}},{"$f":"T227-HLOOKUP(X227,Feuil2!$C$1:$CD$9,3,FALSE)","v":{"$error":"#VALUE!"}},{"$f":"T227-HLOOKUP(X227,Feuil2!$C$1:$CD$9,4,FALSE)","v":{"$error":"#VALUE!"}},{"$f":"T227-HLOOKUP(X227,Feuil2!$C$1:$CD$9,5,FALSE)","v":{"$error":"#VALUE!"}},{"$f":"T227-HLOOKUP(X227,Feuil2!$C$1:$CD$9,6,FALSE)","v":{"$error":"#VALUE!"}},{"$f":"T227-HLOOKUP(X227,Feuil2!$C$1:$CD$9,7,FALSE)","v":{"$error":"#VALUE!"}},{"$f":"T227-HLOOKUP(X227,Feuil2!$C$1:$CD$9,8,FALSE)","v":{"$error":"#VALUE!"}},{"$f":"T227-HLOOKUP(X227,Feuil2!$C$1:$CD$9,9,FALSE)","v":{"$error":"#VALUE!"}},null,null,null,null,null,null,null,{"$error":"#VALUE!"},114,null,{"$f":"IF(AP227,VLOOKUP(AP227,HOM!$AR$551:$AS$606,2))","v":3.5710000000000002}]
["H",null,null,null,null,false,null,null,null,null,null,null,null,null,"",null,null,null,"","","","","",{"$f":"IF(AND(J228>=40,J228<45),VLOOKUP(K228,Feuil2!$F$10:$P$28,9),IF(AND(J228>=45,J228<50),VLOOKUP(K228,Feuil2!$F$10:$P$28,8),IF(AND(J228>=50,J228<55),VLOOKUP(K228,Feuil2!$F$10:$P$28,7),IF(AND(J228>=55,J228<60),VLOOKUP(K228,Feuil2!$F$10:$P$28,6),IF(AND(J228>=60,J228<65),VLOOKUP(K228,Feuil2!$F$10:$P$28,5),IF(AND(J228>=65,J228<70),VLOOKUP(K228,Feuil2!$F$10:$P$28,4),IF(AND(J228>=70,J228<75),VLOOKUP(K228,Feuil2!$F$10:$P$28,3),IF(AND(J228>=75,J228<80),VLOOKUP(K228,Feuil2!$F$10:$P$28,2),VLOOKUP(K228,Feuil2!$F$10:$P$28,2)))))))))","v":{"$error":"#N/A"}},null,{"$f":"T228-HLOOKUP(X228,Feuil2!$C$1:$CD$9,2,FALSE)","v":{"$error":"#VALUE!"}},{"$f":"T228-HLOOKUP(X228,Feuil2!$C$1:$CD$9,3,FALSE)","v":{"$error":"#VALUE!"}},{"$f":"T228-HLOOKUP(X228,Feuil2!$C$1:$CD$9,4,FALSE)","v":{"$error":"#VALUE!"}},{"$f":"T228-HLOOKUP(X228,Feuil2!$C$1:$CD$9,5,FALSE)","v":{"$error":"#VALUE!"}},{"$f":"T228-HLOOKUP(X228,Feuil2!$C$1:$CD$9,6,FALSE)","v":{"$error":"#VALUE!"}},{"$f":"T228-HLOOKUP(X228,Feuil2!$C$1:$CD$9,7,FALSE)","v":{"$error":"#VALUE!"}},{"$f":"T228-HLOOKUP(X228,Feuil2!$C$1:$CD$9,8,FALSE)","v":{"$error":"#VALUE!"}},{"$f":"T228-HLOOKUP(X228,Feuil2!$C$1:$CD$9,9,FALSE)","v":{"$error":"#VALUE!"}},null,null,null,null,null,null,null,{"$error":"#VALUE!"},114,null,{"$f":"IF(AP228,VLOOKUP(AP228,HOM!$AR$551:$AS$606,2))","v":3.5710000000000002}]
["H",null,null,null,null,false,null,null,null,null,null,null,null,null,"",null,null,null,"","","","","",{"$f":"IF(AND(J229>=40,J229<45),VLOOKUP(K229,Feuil2!$F$10:$P$28,9),IF(AND(J229>=45,J229<50),VLOOKUP(K229,Feuil2!$F$10:$P$28,8),IF(AND(J229>=50,J229<55),VLOOKUP(K229,Feuil2!$F$10:$P$28,7),IF(AND(J229>=55,J229<60),VLOOKUP(K229,Feuil2!$F$10:$P$28,6),IF(AND(J229>=60,J229<65),VLOOKUP(K229,Feuil2!$F$10:$P$28,5),IF(AND(J229>=65,J229<70),VLOOKUP(K229,Feuil2!$F$10:$P$28,4),IF(AND(J229>=70,J229<75),VLOOKUP(K229,Feuil2!$F$10:$P$28,3),IF(AND(J229>=75,J229<80),VLOOKUP(K229,Feuil2!$F$10:$P$28,2),VLOOKUP(K229,Feuil2!$F$10:$P$28,2)))))))))","v":{"$error":"#N/A"}},null,{"$f":"T229-HLOOKUP(X229,Feuil2!$C$1:$CD$9,2,FALSE)","v":{"$error":"#VALUE!"}},{"$f":"T229-HLOOKUP(X229,Feuil2!$C$1:$CD$9,3,FALSE)","v":{"$error":"#VALUE!"}},{"$f":"T229-HLOOKUP(X229,Feuil2!$C$1:$CD$9,4,FALSE)","v":{"$error":"#VALUE!"}},{"$f":"T229-HLOOKUP(X229,Feuil2!$C$1:$CD$9,5,FALSE)","v":{"$error":"#VALUE!"}},{"$f":"T229-HLOOKUP(X229,Feuil2!$C$1:$CD$9,6,FALSE)","v":{"$error":"#VALUE!"}},{"$f":"T229-HLOOKUP(X229,Feuil2!$C$1:$CD$9,7,FALSE)","v":{"$error":"#VALUE!"}},{"$f":"T229-HLOOKUP(X229,Feuil2!$C$1:$CD$9,8,FALSE)","v":{"$error":"#VALUE!"}},{"$f":"T229-HLOOKUP(X229,Feuil2!$C$1:$CD$9,9,FALSE)","v":{"$error":"#VALUE!"}},null,null,null,null,null,null,null,{"$error":"#VALUE!"},114,null,{"$f":"IF(AP229,VLOOKUP(AP229,HOM!$AR$551:$AS$606,2))","v":3.5710000000000002}]
["H",null,null,null,null,false,null,null,null,null,null,null,null,null,"",null,null,null,"","","","","",{"$f":"IF(AND(J230>=40,J230<45),VLOOKUP(K230,Feuil2!$F$10:$P$28,9),IF(AND(J230>=45,J230<50),VLOOKUP(K230,Feuil2!$F$10:$P$28,8),IF(AND(J230>=50,J230<55),VLOOKUP(K230,Feuil2!$F$10:$P$28,7),IF(AND(J230>=55,J230<60),VLOOKUP(K230,Feuil2!$F$10:$P$28,6),IF(AND(J230>=60,J230<65),VLOOKUP(K230,Feuil2!$F$10:$P$28,5),IF(AND(J230>=65,J230<70),VLOOKUP(K230,Feuil2!$F$10:$P$28,4),IF(AND(J230>=70,J230<75),VLOOKUP(K230,Feuil2!$F$10:$P$28,3),IF(AND(J230>=75,J230<80),VLOOKUP(K230,Feuil2!$F$10:$P$28,2),VLOOKUP(K230,Feuil2!$F$10:$P$28,2)))))))))","v":{"$error":"#N/A"}},null,{"$f":"T230-HLOOKUP(X230,Feuil2!$C$1:$CD$9,2,FALSE)","v":{"$error":"#VALUE!"}},{"$f":"T230-HLOOKUP(X230,Feuil2!$C$1:$CD$9,3,FALSE)","v":{"$error":"#VALUE!"}},{"$f":"T230-HLOOKUP(X230,Feuil2!$C$1:$CD$9,4,FALSE)","v":{"$error":"#VALUE!"}},{"$f":"T230-HLOOKUP(X230,Feuil2!$C$1:$CD$9,5,FALSE)","v":{"$error":"#VALUE!"}},{"$f":"T230-HLOOKUP(X230,Feuil2!$C$1:$CD$9,6,FALSE)","v":{"$error":"#VALUE!"}},{"$f":"T230-HLOOKUP(X230,Feuil2!$C$1:$CD$9,7,FALSE)","v":{"$error":"#VALUE!"}},{"$f":"T230-HLOOKUP(X230,Feuil2!$C$1:$CD$9,8,FALSE)","v":{"$error":"#VALUE!"}},{"$f":"T230-HLOOKUP(X230,Feuil2!$C$1:$CD$9,9,FALSE)","v":{"$error":"#VALUE!"}},null,null,null,null,null,null,null,{"$error":"#VALUE!"},114,null,{"$f":"IF(AP230,VLOOKUP(AP230,HOM!$AR$551:$AS$606,2))","v":3.5710000000000002}]
["H",null,null,null,null,false,null,null,null,null,null,null,null,null,"",null,null,null,"","","","","",{"$f":"IF(AND(J231>=40,J231<45),VLOOKUP(K231,Feuil2!$F$10:$P$28,9),IF(AND(J231>=45,J231<50),VLOOKUP(K231,Feuil2!$F$10:$P$28,8),IF(AND(J231>=50,J231<55),VLOOKUP(K231,Feuil2!$F$10:$P$28,7),IF(AND(J231>=55,J231<60),VLOOKUP(K231,Feuil2!$F$10:$P$28,6),IF(AND(J231>=60,J231<65),VLOOKUP(K231,Feuil2!$F$10:$P$28,5),IF(AND(J231>=65,J231<70),VLOOKUP(K231,Feuil2!$F$10:$P$28,4),IF(AND(J231>=70,J231<75),VLOOKUP(K231,Feuil2!$F$10:$P$28,3),IF(AND(J231>=75,J231<80),VLOOKUP(K231,Feuil2!$F$10:$P$28,2),VLOOKUP(K231,Feuil2!$F$10:$P$28,2)))))))))","v":{"$error":"#N/A"}},null,{"$f":"T231-HLOOKUP(X231,Feuil2!$C$1:$CD$9,2,FALSE)","v":{"$error":"#VALUE!"}},{"$f":"T231-HLOOKUP(X231,Feuil2!$C$1:$CD$9,3,FALSE)","v":{"$error":"#VALUE!"}},{"$f":"T231-HLOOKUP(X231,Feuil2!$C$1:$CD$9,4,FALSE)","v":{"$error":"#VALUE!"}},{"$f":"T231-HLOOKUP(X231,Feuil2!$C$1:$CD$9,5,FALSE)","v":{"$error":"#VALUE!"}},{"$f":"T231-HLOOKUP(X231,Feuil2!$C$1:$CD$9,6,FALSE)","v":{"$error":"#VALUE!"}},{"$f":"T231-HLOOKUP(X231,Feuil2!$C$1:$CD$9,7,FALSE)","v":{"$error":"#VALUE!"}},{"$f":"T231-HLOOKUP(X231,Feuil2!$C$1:$CD$9,8,FALSE)","v":{"$error":"#VALUE!"}},{"$f":"T231-HLOOKUP(X231,Feuil2!$C$1:$CD$9,9,FALSE)","v":{"$error":"#VALUE!"}},null,null,null,null,null,null,null,{"$error":"#VALUE!"},114,null,{"$f":"IF(AP231,VLOOKUP(AP231,HOM!$AR$551:$AS$606,2))","v":3.5710000000000002}]
["H",null,null,null,null,false,null,null,null,null,null,null,null,null,"",null,null,null,"","","","","",{"$f":"IF(AND(J232>=40,J232<45),VLOOKUP(K232,Feuil2!$F$10:$P$28,9),IF(AND(J232>=45,J232<50),VLOOKUP(K232,Feuil2!$F$10:$P$28,8),IF(AND(J232>=50,J232<55),VLOOKUP(K232,Feuil2!$F$10:$P$28,7),IF(AND(J232>=55,J232<60),VLOOKUP(K232,Feuil2!$F$10:$P$28,6),IF(AND(J232>=60,J232<65),VLOOKUP(K232,Feuil2!$F$10:$P$28,5),IF(AND(J232>=65,J232<70),VLOOKUP(K232,Feuil2!$F$10:$P$28,4),IF(AND(J232>=70,J232<75),VLOOKUP(K232,Feuil2!$F$10:$P$28,3),IF(AND(J232>=75,J232<80),VLOOKUP(K232,Feuil2!$F$10:$P$28,2),VLOOKUP(K232,Feuil2!$F$10:$P$28,2)))))))))","v":{"$error":"#N/A"}},null,{"$f":"T232-HLOOKUP(X232,Feuil2!$C$1:$CD$9,2,FALSE)","v":{"$error":"#VALUE!"}},{"$f":"T232-HLOOKUP(X232,Feuil2!$C$1:$CD$9,3,FALSE)","v":{"$error":"#VALUE!"}},{"$f":"T232-HLOOKUP(X232,Feuil2!$C$1:$CD$9,4,FALSE)","v":{"$error":"#VALUE!"}},{"$f":"T232-HLOOKUP(X232,Feuil2!$C$1:$CD$9,5,FALSE)","v":{"$error":"#VALUE!"}},{"$f":"T232-HLOOKUP(X232,Feuil2!$C$1:$CD$9,6,FALSE)","v":{"$error":"#VALUE!"}},{"$f":"T232-HLOOKUP(X232,Feuil2!$C$1:$CD$9,7,FALSE)","v":{"$error":"#VALUE!"}},{"$f":"T232-HLOOKUP(X232,Feuil2!$C$1:$CD$9,8,FALSE)","v":{"$error":"#VALUE!"}},{"$f":"T232-HLOOKUP(X232,Feuil2!$C$1:$CD$9,9,FALSE)","v":{"$error":"#VALUE!"}},null,null,null,null,null,null,null,{"$error":"#VALUE!"},114,null,{"$f":"IF(AP232,VLOOKUP(AP232,HOM!$AR$551:$AS$606,2))","v":3.5710000000000002}]
["H",null,null,null,null,false,null,null,null,null,null,null,null,null,"",null,null,null,"","","","","",{"$f":"IF(AND(J233>=40,J233<45),VLOOKUP(K233,Feuil2!$F$10:$P$28,9),IF(AND(J233>=45,J233<50),VLOOKUP(K233,Feuil2!$F$10:$P$28,8),IF(AND(J233>=50,J233<55),VLOOKUP(K233,Feuil2!$F$10:$P$28,7),IF(AND(J233>=55,J233<60),VLOOKUP(K233,Feuil2!$F$10:$P$28,6),IF(AND(J233>=60,J233<65),VLOOKUP(K233,Feuil2!$F$10:$P$28,5),IF(AND(J233>=65,J233<70),VLOOKUP(K233,Feuil2!$F$10:$P$28,4),IF(AND(J233>=70,J233<75),VLOOKUP(K233,Feuil2!$F$10:$P$28,3),IF(AND(J233>=75,J233<80),VLOOKUP(K233,Feuil2!$F$10:$P$28,2),VLOOKUP(K233,Feuil2!$F$10:$P$28,2)))))))))","v":{"$error":"#N/A"}},null,{"$f":"T233-HLOOKUP(X233,Feuil2!$C$1:$CD$9,2,FALSE)","v":{"$error":"#VALUE!"}},{"$f":"T233-HLOOKUP(X233,Feuil2!$C$1:$CD$9,3,FALSE)","v":{"$error":"#VALUE!"}},{"$f":"T233-HLOOKUP(X233,Feuil2!$C$1:$CD$9,4,FALSE)","v":{"$error":"#VALUE!"}},{"$f":"T233-HLOOKUP(X233,Feuil2!$C$1:$CD$9,5,FALSE)","v":{"$error":"#VALUE!"}},{"$f":"T233-HLOOKUP(X233,Feuil2!$C$1:$CD$9,6,FALSE)","v":{"$error":"#VALUE!"}},{"$f":"T233-HLOOKUP(X233,Feuil2!$C$1:$CD$9,7,FALSE)","v":{"$error":"#VALUE!"}},{"$f":"T233-HLOOKUP(X233,Feuil2!$C$1:$CD$9,8,FALSE)","v":{"$error":"#VALUE!"}},{"$f":"T233-HLOOKUP(X233,Feuil2!$C$1:$CD$9,9,FALSE)","v":{"$error":"#VALUE!"}},null,null,null,null,null,null,null,{"$error":"#VALUE!"},114,null,{"$f":"IF(AP233,VLOOKUP(AP233,HOM!$AR$551:$AS$606,2))","v":3.5710000000000002}]
["H",null,null,null,null,false,null,null,null,null,null,null,null,null,"",null,null,null,"","","","","",{"$f":"IF(AND(J234>=40,J234<45),VLOOKUP(K234,Feuil2!$F$10:$P$28,9),IF(AND(J234>=45,J234<50),VLOOKUP(K234,Feuil2!$F$10:$P$28,8),IF(AND(J234>=50,J234<55),VLOOKUP(K234,Feuil2!$F$10:$P$28,7),IF(AND(J234>=55,J234<60),VLOOKUP(K234,Feuil2!$F$10:$P$28,6),IF(AND(J234>=60,J234<65),VLOOKUP(K234,Feuil2!$F$10:$P$28,5),IF(AND(J234>=65,J234<70),VLOOKUP(K234,Feuil2!$F$10:$P$28,4),IF(AND(J234>=70,J234<75),VLOOKUP(K234,Feuil2!$F$10:$P$28,3),IF(AND(J234>=75,J234<80),VLOOKUP(K234,Feuil2!$F$10:$P$28,2),VLOOKUP(K234,Feuil2!$F$10:$P$28,2)))))))))","v":{"$error":"#N/A"}},null,{"$f":"T234-HLOOKUP(X234,Feuil2!$C$1:$CD$9,2,FALSE)","v":{"$error":"#VALUE!"}},{"$f":"T234-HLOOKUP(X234,Feuil2!$C$1:$CD$9,3,FALSE)","v":{"$error":"#VALUE!"}},{"$f":"T234-HLOOKUP(X234,Feuil2!$C$1:$CD$9,4,FALSE)","v":{"$error":"#VALUE!"}},{"$f":"T234-HLOOKUP(X234,Feuil2!$C$1:$CD$9,5,FALSE)","v":{"$error":"#VALUE!"}},{"$f":"T234-HLOOKUP(X234,Feuil2!$C$1:$CD$9,6,FALSE)","v":{"$error":"#VALUE!"}},{"$f":"T234-HLOOKUP(X234,Feuil2!$C$1:$CD$9,7,FALSE)","v":{"$error":"#VALUE!"}},{"$f":"T234-HLOOKUP(X234,Feuil2!$C$1:$CD$9,8,FALSE)","v":{"$error":"#VALUE!"}},{"$f":"T234-HLOOKUP(X234,Feuil2!$C$1:$CD$9,9,FALSE)","v":{"$error":"#VALUE!"}},null,null,null,null,null,null,null,{"$error":"#VALUE!"},{"$f":"114-J234","v":114},null,{"$f":"IF(AP234,VLOOKUP(AP234,HOM!$AR$551:$AS$606,2))","v":3.5710000000000002}]
["H",null,null,null,null,false,null,null,null,null,null,null,null,null,"",null,null,null,"","","","","",{"$f":"IF(AND(J235>=40,J235<45),VLOOKUP(K235,Feuil2!$F$10:$P$28,9),IF(AND(J235>=45,J235<50),VLOOKUP(K235,Feuil2!$F$10:$P$28,8),IF(AND(J235>=50,J235<55),VLOOKUP(K235,Feuil2!$F$10:$P$28,7),IF(AND(J235>=55,J235<60),VLOOKUP(K235,Feuil2!$F$10:$P$28,6),IF(AND(J235>=60,J235<65),VLOOKUP(K235,Feuil2!$F$10:$P$28,5),IF(AND(J235>=65,J235<70),VLOOKUP(K235,Feuil2!$F$10:$P$28,4),IF(AND(J235>=70,J235<75),VLOOKUP(K235,Feuil2!$F$10:$P$28,3),IF(AND(J235>=75,J235<80),VLOOKUP(K235,Feuil2!$F$10:$P$28,2),VLOOKUP(K235,Feuil2!$F$10:$P$28,2)))))))))","v":{"$error":"#N/A"}},null,{"$f":"T235-HLOOKUP(X235,Feuil2!$C$1:$CD$9,2,FALSE)","v":{"$error":"#VALUE!"}},{"$f":"T235-HLOOKUP(X235,Feuil2!$C$1:$CD$9,3,FALSE)","v":{"$error":"#VALUE!"}},{"$f":"T235-HLOOKUP(X235,Feuil2!$C$1:$CD$9,4,FALSE)","v":{"$error":"#VALUE!"}},{"$f":"T235-HLOOKUP(X235,Feuil2!$C$1:$CD$9,5,FALSE)","v":{"$error":"#VALUE!"}},{"$f":"T235-HLOOKUP(X235,Feuil2!$C$1:$CD$9,6,FALSE)","v":{"$error":"#VALUE!"}},{"$f":"T235-HLOOKUP(X235,Feuil2!$C$1:$CD$9,7,FALSE)","v":{"$error":"#VALUE!"}},{"$f":"T235-HLOOKUP(X235,Feuil2!$C$1:$CD$9,8,FALSE)","v":{"$error":"#VALUE!"}},{"$f":"T235-HLOOKUP(X235,Feuil2!$C$1:$CD$9,9,FALSE)","v":{"$error":"#VALUE!"}},null,null,null,null,null,null,null,{"$error":"#VALUE!"},114,null,{"$f":"IF(AP235,VLOOKUP(AP235,HOM!$AR$551:$AS$606,2))","v":3.5710000000000002}]
["H",null,null,null,null,false,null,null,null,null,null,null,null,null,"",null,null,null,"","","","","",{"$f":"IF(AND(J236>=40,J236<45),VLOOKUP(K236,Feuil2!$F$10:$P$28,9),IF(AND(J236>=45,J236<50),VLOOKUP(K236,Feuil2!$F$10:$P$28,8),IF(AND(J236>=50,J236<55),VLOOKUP(K236,Feuil2!$F$10:$P$28,7),IF(AND(J236>=55,J236<60),VLOOKUP(K236,Feuil2!$F$10:$P$28,6),IF(AND(J236>=60,J236<65),VLOOKUP(K236,Feuil2!$F$10:$P$28,5),IF(AND(J236>=65,J236<70),VLOOKUP(K236,Feuil2!$F$10:$P$28,4),IF(AND(J236>=70,J236<75),VLOOKUP(K236,Feuil2!$F$10:$P$28,3),IF(AND(J236>=75,J236<80),VLOOKUP(K236,Feuil2!$F$10:$P$28,2),VLOOKUP(K236,Feuil2!$F$10:$P$28,2)))))))))","v":{"$error":"#N/A"}},null,{"$f":"T236-HLOOKUP(X236,Feuil2!$C$1:$CD$9,2,FALSE)","v":{"$error":"#VALUE!"}},{"$f":"T236-HLOOKUP(X236,Feuil2!$C$1:$CD$9,3,FALSE)","v":{"$error":"#VALUE!"}},{"$f":"T236-HLOOKUP(X236,Feuil2!$C$1:$CD$9,4,FALSE)","v":{"$error":"#VALUE!"}},{"$f":"T236-HLOOKUP(X236,Feuil2!$C$1:$CD$9,5,FALSE)","v":{"$error":"#VALUE!"}},{"$f":"T236-HLOOKUP(X236,Feuil2!$C$1:$CD$9,6,FALSE)","v":{"$error":"#VALUE!"}},{"$f":"T236-HLOOKUP(X236,Feuil2!$C$1:$CD$9,7,FALSE)","v":{"$error":"#VALUE!"}},{"$f":"T236-HLOOKUP(X236,Feuil2!$C$1:$CD$9,8,FALSE)","v":{"$error":"#VALUE!"}},{"$f":"T236-HLOOKUP(X236,Feuil2!$C$1:$CD$9,9,FALSE)","v":{"$error":"#VALUE!"}},null,null,null,null,null,null,null,{"$error":"#VALUE!"},114,null,{"$f":"IF(AP236,VLOOKUP(AP236,HOM!$AR$551:$AS$606,2))","v":3.5710000000000002}]
["H",null,null,null,null,false,null,null,null,null,null,null,null,null,"",null,null,null,"","","","","",{"$f":"IF(AND(J237>=40,J237<45),VLOOKUP(K237,Feuil2!$F$10:$P$28,9),IF(AND(J237>=45,J237<50),VLOOKUP(K237,Feuil2!$F$10:$P$28,8),IF(AND(J237>=50,J237<55),VLOOKUP(K237,Feuil2!$F$10:$P$28,7),IF(AND(J237>=55,J237<60),VLOOKUP(K237,Feuil2!$F$10:$P$28,6),IF(AND(J237>=60,J237<65),VLOOKUP(K237,Feuil2!$F$10:$P$28,5),IF(AND(J237>=65,J237<70),VLOOKUP(K237,Feuil2!$F$10:$P$28,4),IF(AND(J237>=70,J237<75),VLOOKUP(K237,Feuil2!$F$10:$P$28,3),IF(AND(J237>=75,J237<80),VLOOKUP(K237,Feuil2!$F$10:$P$28,2),VLOOKUP(K237,Feuil2!$F$10:$P$28,2)))))))))","v":{"$error":"#N/A"}},null,{"$f":"T237-HLOOKUP(X237,Feuil2!$C$1:$CD$9,2,FALSE)","v":{"$error":"#VALUE!"}},{"$f":"T237-HLOOKUP(X237,Feuil2!$C$1:$CD$9,3,FALSE)","v":{"$error":"#VALUE!"}},{"$f":"T237-HLOOKUP(X237,Feuil2!$C$1:$CD$9,4,FALSE)","v":{"$error":"#VALUE!"}},{"$f":"T237-HLOOKUP(X237,Feuil2!$C$1:$CD$9,5,FALSE)","v":{"$error":"#VALUE!"}},{"$f":"T237-HLOOKUP(X237,Feuil2!$C$1:$CD$9,6,FALSE)","v":{"$error":"#VALUE!"}},{"$f":"T237-HLOOKUP(X237,Feuil2!$C$1:$CD$9,7,FALSE)","v":{"$error":"#VALUE!"}},{"$f":"T237-HLOOKUP(X237,Feuil2!$C$1:$CD$9,8,FALSE)","v":{"$error":"#VALUE!"}},{"$f":"T237-HLOOKUP(X237,Feuil2!$C$1:$CD$9,9,FALSE)","v":{"$error":"#VALUE!"}},null,null,null,null,null,null,null,{"$error":"#VALUE!"},114,null,{"$f":"IF(AP237,VLOOKUP(AP237,HOM!$AR$551:$AS$606,2))","v":3.5710000000000002}]
["H",null,null,null,null,false,null,null,null,null,null,null,null,null,"",null,null,null,"","","","","",{"$f":"IF(AND(J238>=40,J238<45),VLOOKUP(K238,Feuil2!$F$10:$P$28,9),IF(AND(J238>=45,J238<50),VLOOKUP(K238,Feuil2!$F$10:$P$28,8),IF(AND(J238>=50,J238<55),VLOOKUP(K238,Feuil2!$F$10:$P$28,7),IF(AND(J238>=55,J238<60),VLOOKUP(K238,Feuil2!$F$10:$P$28,6),IF(AND(J238>=60,J238<65),VLOOKUP(K238,Feuil2!$F$10:$P$28,5),IF(AND(J238>=65,J238<70),VLOOKUP(K238,Feuil2!$F$10:$P$28,4),IF(AND(J238>=70,J238<75),VLOOKUP(K238,Feuil2!$F$10:$P$28,3),IF(AND(J238>=75,J238<80),VLOOKUP(K238,Feuil2!$F$10:$P$28,2),VLOOKUP(K238,Feuil2!$F$10:$P$28,2)))))))))","v":{"$error":"#N/A"}},null,{"$f":"T238-HLOOKUP(X238,Feuil2!$C$1:$CD$9,2,FALSE)","v":{"$error":"#VALUE!"}},{"$f":"T238-HLOOKUP(X238,Feuil2!$C$1:$CD$9,3,FALSE)","v":{"$error":"#VALUE!"}},{"$f":"T238-HLOOKUP(X238,Feuil2!$C$1:$CD$9,4,FALSE)","v":{"$error":"#VALUE!"}},{"$f":"T238-HLOOKUP(X238,Feuil2!$C$1:$CD$9,5,FALSE)","v":{"$error":"#VALUE!"}},{"$f":"T238-HLOOKUP(X238,Feuil2!$C$1:$CD$9,6,FALSE)","v":{"$error":"#VALUE!"}},{"$f":"T238-HLOOKUP(X238,Feuil2!$C$1:$CD$9,7,FALSE)","v":{"$error":"#VALUE!"}},{"$f":"T238-HLOOKUP(X238,Feuil2!$C$1:$CD$9,8,FALSE)","v":{"$error":"#VALUE!"}},{"$f":"T238-HLOOKUP(X238,Feuil2!$C$1:$CD$9,9,FALSE)","v":{"$error":"#VALUE!"}},null,null,null,null,null,null,null,{"$error":"#VALUE!"},114,null,{"$f":"IF(AP238,VLOOKUP(AP238,HOM!$AR$551:$AS$606,2))","v":3.5710000000000002}]
["H",null,null,null,null,false,null,null,null,null,null,null,null,null,"",null,null,null,"","","",{"$f":"IF(K239=\"\",\"\",AO239)","v":""},{"$f":"IF(K239=\"\",\"\",IF(AG239>=0,AG239,IF(AF239>=0,AF239,IF(AE239>=0,AE239,IF(AD239>=0,AD239,IF(AC239>=0,AC239,IF(AB239>=0,AB239,IF(AA239>=0,AA239,Z239))))))))","v":""},{"$f":"IF(AND(J239>=40,J239<45),VLOOKUP(K239,Feuil2!$F$10:$P$28,9),IF(AND(J239>=45,J239<50),VLOOKUP(K239,Feuil2!$F$10:$P$28,8),IF(AND(J239>=50,J239<55),VLOOKUP(K239,Feuil2!$F$10:$P$28,7),IF(AND(J239>=55,J239<60),VLOOKUP(K239,Feuil2!$F$10:$P$28,6),IF(AND(J239>=60,J239<65),VLOOKUP(K239,Feuil2!$F$10:$P$28,5),IF(AND(J239>=65,J239<70),VLOOKUP(K239,Feuil2!$F$10:$P$28,4),IF(AND(J239>=70,J239<75),VLOOKUP(K239,Feuil2!$F$10:$P$28,3),IF(AND(J239>=75,J239<80),VLOOKUP(K239,Feuil2!$F$10:$P$28,2),VLOOKUP(K239,Feuil2!$F$10:$P$28,2)))))))))","v":{"$error":"#N/A"}},null,{"$f":"T239-HLOOKUP(X239,Feuil2!$C$1:$CD$9,2,FALSE)","v":{"$error":"#VALUE!"}},{"$f":"T239-HLOOKUP(X239,Feuil2!$C$1:$CD$9,3,FALSE)","v":{"$error":"#VALUE!"}},{"$f":"T239-HLOOKUP(X239,Feuil2!$C$1:$CD$9,4,FALSE)","v":{"$error":"#VALUE!"}},{"$f":"T239-HLOOKUP(X239,Feuil2!$C$1:$CD$9,5,FALSE)","v":{"$error":"#VALUE!"}},{"$f":"T239-HLOOKUP(X239,Feuil2!$C$1:$CD$9,6,FALSE)","v":{"$error":"#VALUE!"}},{"$f":"T239-HLOOKUP(X239,Feuil2!$C$1:$CD$9,7,FALSE)","v":{"$error":"#VALUE!"}},{"$f":"T239-HLOOKUP(X239,Feuil2!$C$1:$CD$9,8,FALSE)","v":{"$error":"#VALUE!"}},{"$f":"T239-HLOOKUP(X239,Feuil2!$C$1:$CD$9,9,FALSE)","v":{"$error":"#VALUE!"}},null,null,null,null,null,null,null,{"$f":"IF(AG239>=0,$AG$4,IF(AF239>=0,$AF$4,IF(AE239>=0,$AE$4,IF(AD239>=0,$AD$4,IF(AC239>=0,$AC$4,IF(AB239>=0,$AB$4,IF(AA239>=0,$AA$4,IF(Z239>=0,$Z$4,$AH$4))))))))","v":{"$error":"#VALUE!"}},114,null,{"$f":"IF(AP239,VLOOKUP(AP239,HOM!$AR$551:$AS$606,2))","v":3.5710000000000002}]
["H",null,null,null,null,false,null,null,null,null,null,null,null,null,{"$f":"IF(K240=\"\",\"\",IF(MAXA(L240:N240)<=0,0,MAXA(L240:N240)))","v":""},null,null,null,{"$f":"IF(K240=\"\",\"\",IF(MAXA(P240:R240)<=0,0,MAXA(P240:R240)))","v":""},{"$f":"IF(K240=\"\",\"\",IF(OR(O240=0,S240=0),0,O240+S240))","v":""},{"$f":"IF(K240=\"\",\"\",IF(A240=\"H\",10^(0.794358141*LOG(K240/174.393)^2)*T240*AR240,IF(A240=\"F\",10^(0.89726074 * LOG(K240/148.026)^2)*T240*AR240,\"\")))","v":""},"","",{"$f":"IF(AND(J240>=40,J240<45),VLOOKUP(K240,Feuil2!$F$10:$P$28,9),IF(AND(J240>=45,J240<50),VLOOKUP(K240,Feuil2!$F$10:$P$28,8),IF(AND(J240>=50,J240<55),VLOOKUP(K240,Feuil2!$F$10:$P$28,7),IF(AND(J240>=55,J240<60),VLOOKUP(K240,Feuil2!$F$10:$P$28,6),IF(AND(J240>=60,J240<65),VLOOKUP(K240,Feuil2!$F$10:$P$28,5),IF(AND(J240>=65,J240<70),VLOOKUP(K240,Feuil2!$F$10:$P$28,4),IF(AND(J240>=70,J240<75),VLOOKUP(K240,Feuil2!$F$10:$P$28,3),IF(AND(J240>=75,J240<80),VLOOKUP(K240,Feuil2!$F$10:$P$28,2),VLOOKUP(K240,Feuil2!$F$10:$P$28,2)))))))))","v":{"$error":"#N/A"}},null,{"$f":"T240-HLOOKUP(X240,Feuil2!$C$1:$CD$9,2,FALSE)","v":{"$error":"#VALUE!"}},{"$f":"T240-HLOOKUP(X240,Feuil2!$C$1:$CD$9,3,FALSE)","v":{"$error":"#VALUE!"}},{"$f":"T240-HLOOKUP(X240,Feuil2!$C$1:$CD$9,4,FALSE)","v":{"$error":"#VALUE!"}},{"$f":"T240-HLOOKUP(X240,Feuil2!$C$1:$CD$9,5,FALSE)","v":{"$error":"#VALUE!"}},{"$f":"T240-HLOOKUP(X240,Feuil2!$C$1:$CD$9,6,FALSE)","v":{"$error":"#VALUE!"}},{"$f":"T240-HLOOKUP(X240,Feuil2!$C$1:$CD$9,7,FALSE)","v":{"$error":"#VALUE!"}},{"$f":"T240-HLOOKUP(X240,Feuil2!$C$1:$CD$9,8,FALSE)","v":{"$error":"#VALUE!"}},{"$f":"T240-HLOOKUP(X240,Feuil2!$C$1:$CD$9,9,FALSE)","v":{"$error":"#VALUE!"}},null,null,null,null,null,null,null,{"$error":"#VALUE!"},114,null,{"$f":"IF(AP240,VLOOKUP(AP240,HOM!$AR$551:$AS$606,2))","v":3.5710000000000002}]
["H",null,null,null,null,false,null,null,null,null,null,null,null,null,"",null,null,null,"","","","","",{"$f":"IF(AND(J241>=40,J241<45),VLOOKUP(K241,Feuil2!$F$10:$P$28,9),IF(AND(J241>=45,J241<50),VLOOKUP(K241,Feuil2!$F$10:$P$28,8),IF(AND(J241>=50,J241<55),VLOOKUP(K241,Feuil2!$F$10:$P$28,7),IF(AND(J241>=55,J241<60),VLOOKUP(K241,Feuil2!$F$10:$P$28,6),IF(AND(J241>=60,J241<65),VLOOKUP(K241,Feuil2!$F$10:$P$28,5),IF(AND(J241>=65,J241<70),VLOOKUP(K241,Feuil2!$F$10:$P$28,4),IF(AND(J241>=70,J241<75),VLOOKUP(K241,Feuil2!$F$10:$P$28,3),IF(AND(J241>=75,J241<80),VLOOKUP(K241,Feuil2!$F$10:$P$28,2),VLOOKUP(K241,Feuil2!$F$10:$P$28,2)))))))))","v":{"$error":"#N/A"}},null,{"$f":"T241-HLOOKUP(X241,Feuil2!$C$1:$CD$9,2,FALSE)","v":{"$error":"#VALUE!"}},{"$f":"T241-HLOOKUP(X241,Feuil2!$C$1:$CD$9,3,FALSE)","v":{"$error":"#VALUE!"}},{"$f":"T241-HLOOKUP(X241,Feuil2!$C$1:$CD$9,4,FALSE)","v":{"$error":"#VALUE!"}},{"$f":"T241-HLOOKUP(X241,Feuil2!$C$1:$CD$9,5,FALSE)","v":{"$error":"#VALUE!"}},{"$f":"T241-HLOOKUP(X241,Feuil2!$C$1:$CD$9,6,FALSE)","v":{"$error":"#VALUE!"}},{"$f":"T241-HLOOKUP(X241,Feuil2!$C$1:$CD$9,7,FALSE)","v":{"$error":"#VALUE!"}},{"$f":"T241-HLOOKUP(X241,Feuil2!$C$1:$CD$9,8,FALSE)","v":{"$error":"#VALUE!"}},{"$f":"T241-HLOOKUP(X241,Feuil2!$C$1:$CD$9,9,FALSE)","v":{"$error":"#VALUE!"}},null,null,null,null,null,null,null,{"$error":"#VALUE!"},114,null,{"$f":"IF(AP241,VLOOKUP(AP241,HOM!$AR$551:$AS$606,2))","v":3.5710000000000002}]
["H",null,null,null,null,false,null,null,null,null,null,null,null,null,"",null,null,null,"","","","","",{"$f":"IF(AND(J242>=40,J242<45),VLOOKUP(K242,Feuil2!$F$10:$P$28,9),IF(AND(J242>=45,J242<50),VLOOKUP(K242,Feuil2!$F$10:$P$28,8),IF(AND(J242>=50,J242<55),VLOOKUP(K242,Feuil2!$F$10:$P$28,7),IF(AND(J242>=55,J242<60),VLOOKUP(K242,Feuil2!$F$10:$P$28,6),IF(AND(J242>=60,J242<65),VLOOKUP(K242,Feuil2!$F$10:$P$28,5),IF(AND(J242>=65,J242<70),VLOOKUP(K242,Feuil2!$F$10:$P$28,4),IF(AND(J242>=70,J242<75),VLOOKUP(K242,Feuil2!$F$10:$P$28,3),IF(AND(J242>=75,J242<80),VLOOKUP(K242,Feuil2!$F$10:$P$28,2),VLOOKUP(K242,Feuil2!$F$10:$P$28,2)))))))))","v":{"$error":"#N/A"}},null,{"$f":"T242-HLOOKUP(X242,Feuil2!$C$1:$CD$9,2,FALSE)","v":{"$error":"#VALUE!"}},{"$f":"T242-HLOOKUP(X242,Feuil2!$C$1:$CD$9,3,FALSE)","v":{"$error":"#VALUE!"}},{"$f":"T242-HLOOKUP(X242,Feuil2!$C$1:$CD$9,4,FALSE)","v":{"$error":"#VALUE!"}},{"$f":"T242-HLOOKUP(X242,Feuil2!$C$1:$CD$9,5,FALSE)","v":{"$error":"#VALUE!"}},{"$f":"T242-HLOOKUP(X242,Feuil2!$C$1:$CD$9,6,FALSE)","v":{"$error":"#VALUE!"}},{"$f":"T242-HLOOKUP(X242,Feuil2!$C$1:$CD$9,7,FALSE)","v":{"$error":"#VALUE!"}},{"$f":"T242-HLOOKUP(X242,Feuil2!$C$1:$CD$9,8,FALSE)","v":{"$error":"#VALUE!"}},{"$f":"T242-HLOOKUP(X242,Feuil2!$C$1:$CD$9,9,FALSE)","v":{"$error":"#VALUE!"}},null,null,null,null,null,null,null,{"$error":"#VALUE!"},114,null,{"$f":"IF(AP242,VLOOKUP(AP242,HOM!$AR$551:$AS$606,2))","v":3.5710000000000002}]
["H",null,null,null,null,false,null,null,null,null,null,null,null,null,"",null,null,null,"","","","","",{"$f":"IF(AND(J243>=40,J243<45),VLOOKUP(K243,Feuil2!$F$10:$P$28,9),IF(AND(J243>=45,J243<50),VLOOKUP(K243,Feuil2!$F$10:$P$28,8),IF(AND(J243>=50,J243<55),VLOOKUP(K243,Feuil2!$F$10:$P$28,7),IF(AND(J243>=55,J243<60),VLOOKUP(K243,Feuil2!$F$10:$P$28,6),IF(AND(J243>=60,J243<65),VLOOKUP(K243,Feuil2!$F$10:$P$28,5),IF(AND(J243>=65,J243<70),VLOOKUP(K243,Feuil2!$F$10:$P$28,4),IF(AND(J243>=70,J243<75),VLOOKUP(K243,Feuil2!$F$10:$P$28,3),IF(AND(J243>=75,J243<80),VLOOKUP(K243,Feuil2!$F$10:$P$28,2),VLOOKUP(K243,Feuil2!$F$10:$P$28,2)))))))))","v":{"$error":"#N/A"}},null,{"$f":"T243-HLOOKUP(X243,Feuil2!$C$1:$CD$9,2,FALSE)","v":{"$error":"#VALUE!"}},{"$f":"T243-HLOOKUP(X243,Feuil2!$C$1:$CD$9,3,FALSE)","v":{"$error":"#VALUE!"}},{"$f":"T243-HLOOKUP(X243,Feuil2!$C$1:$CD$9,4,FALSE)","v":{"$error":"#VALUE!"}},{"$f":"T243-HLOOKUP(X243,Feuil2!$C$1:$CD$9,5,FALSE)","v":{"$error":"#VALUE!"}},{"$f":"T243-HLOOKUP(X243,Feuil2!$C$1:$CD$9,6,FALSE)","v":{"$error":"#VALUE!"}},{"$f":"T243-HLOOKUP(X243,Feuil2!$C$1:$CD$9,7,FALSE)","v":{"$error":"#VALUE!"}},{"$f":"T243-HLOOKUP(X243,Feuil2!$C$1:$CD$9,8,FALSE)","v":{"$error":"#VALUE!"}},{"$f":"T243-HLOOKUP(X243,Feuil2!$C$1:$CD$9,9,FALSE)","v":{"$error":"#VALUE!"}},null,null,null,null,null,null,null,{"$error":"#VALUE!"},114,null,{"$f":"IF(AP243,VLOOKUP(AP243,HOM!$AR$551:$AS$606,2))","v":3.5710000000000002}]
["H",null,null,null,null,false,null,null,null,null,null,null,null,null,"",null,null,null,"","","","","",{"$f":"IF(AND(J244>=40,J244<45),VLOOKUP(K244,Feuil2!$F$10:$P$28,9),IF(AND(J244>=45,J244<50),VLOOKUP(K244,Feuil2!$F$10:$P$28,8),IF(AND(J244>=50,J244<55),VLOOKUP(K244,Feuil2!$F$10:$P$28,7),IF(AND(J244>=55,J244<60),VLOOKUP(K244,Feuil2!$F$10:$P$28,6),IF(AND(J244>=60,J244<65),VLOOKUP(K244,Feuil2!$F$10:$P$28,5),IF(AND(J244>=65,J244<70),VLOOKUP(K244,Feuil2!$F$10:$P$28,4),IF(AND(J244>=70,J244<75),VLOOKUP(K244,Feuil2!$F$10:$P$28,3),IF(AND(J244>=75,J244<80),VLOOKUP(K244,Feuil2!$F$10:$P$28,2),VLOOKUP(K244,Feuil2!$F$10:$P$28,2)))))))))","v":{"$error":"#N/A"}},null,{"$f":"T244-HLOOKUP(X244,Feuil2!$C$1:$CD$9,2,FALSE)","v":{"$error":"#VALUE!"}},{"$f":"T244-HLOOKUP(X244,Feuil2!$C$1:$CD$9,3,FALSE)","v":{"$error":"#VALUE!"}},{"$f":"T244-HLOOKUP(X244,Feuil2!$C$1:$CD$9,4,FALSE)","v":{"$error":"#VALUE!"}},{"$f":"T244-HLOOKUP(X244,Feuil2!$C$1:$CD$9,5,FALSE)","v":{"$error":"#VALUE!"}},{"$f":"T244-HLOOKUP(X244,Feuil2!$C$1:$CD$9,6,FALSE)","v":{"$error":"#VALUE!"}},{"$f":"T244-HLOOKUP(X244,Feuil2!$C$1:$CD$9,7,FALSE)","v":{"$error":"#VALUE!"}},{"$f":"T244-HLOOKUP(X244,Feuil2!$C$1:$CD$9,8,FALSE)","v":{"$error":"#VALUE!"}},{"$f":"T244-HLOOKUP(X244,Feuil2!$C$1:$CD$9,9,FALSE)","v":{"$error":"#VALUE!"}},null,null,null,null,null,null,null,{"$error":"#VALUE!"},114,null,{"$f":"IF(AP244,VLOOKUP(AP244,HOM!$AR$551:$AS$606,2))","v":3.5710000000000002}]
["H",null,null,null,null,false,null,null,null,null,null,null,null,null,"",null,null,null,"","","","","",{"$f":"IF(AND(J245>=40,J245<45),VLOOKUP(K245,Feuil2!$F$10:$P$28,9),IF(AND(J245>=45,J245<50),VLOOKUP(K245,Feuil2!$F$10:$P$28,8),IF(AND(J245>=50,J245<55),VLOOKUP(K245,Feuil2!$F$10:$P$28,7),IF(AND(J245>=55,J245<60),VLOOKUP(K245,Feuil2!$F$10:$P$28,6),IF(AND(J245>=60,J245<65),VLOOKUP(K245,Feuil2!$F$10:$P$28,5),IF(AND(J245>=65,J245<70),VLOOKUP(K245,Feuil2!$F$10:$P$28,4),IF(AND(J245>=70,J245<75),VLOOKUP(K245,Feuil2!$F$10:$P$28,3),IF(AND(J245>=75,J245<80),VLOOKUP(K245,Feuil2!$F$10:$P$28,2),VLOOKUP(K245,Feuil2!$F$10:$P$28,2)))))))))","v":{"$error":"#N/A"}},null,{"$f":"T245-HLOOKUP(X245,Feuil2!$C$1:$CD$9,2,FALSE)","v":{"$error":"#VALUE!"}},{"$f":"T245-HLOOKUP(X245,Feuil2!$C$1:$CD$9,3,FALSE)","v":{"$error":"#VALUE!"}},{"$f":"T245-HLOOKUP(X245,Feuil2!$C$1:$CD$9,4,FALSE)","v":{"$error":"#VALUE!"}},{"$f":"T245-HLOOKUP(X245,Feuil2!$C$1:$CD$9,5,FALSE)","v":{"$error":"#VALUE!"}},{"$f":"T245-HLOOKUP(X245,Feuil2!$C$1:$CD$9,6,FALSE)","v":{"$error":"#VALUE!"}},{"$f":"T245-HLOOKUP(X245,Feuil2!$C$1:$CD$9,7,FALSE)","v":{"$error":"#VALUE!"}},{"$f":"T245-HLOOKUP(X245,Feuil2!$C$1:$CD$9,8,FALSE)","v":{"$error":"#VALUE!"}},{"$f":"T245-HLOOKUP(X245,Feuil2!$C$1:$CD$9,9,FALSE)","v":{"$error":"#VALUE!"}},null,null,null,null,null,null,null,{"$error":"#VALUE!"},114,null,{"$f":"IF(AP245,VLOOKUP(AP245,HOM!$AR$551:$AS$606,2))","v":3.5710000000000002}]
["H",null,null,null,null,false,null,null,null,null,null,null,null,null,"",null,null,null,"","","","","",{"$f":"IF(AND(J246>=40,J246<45),VLOOKUP(K246,Feuil2!$F$10:$P$28,9),IF(AND(J246>=45,J246<50),VLOOKUP(K246,Feuil2!$F$10:$P$28,8),IF(AND(J246>=50,J246<55),VLOOKUP(K246,Feuil2!$F$10:$P$28,7),IF(AND(J246>=55,J246<60),VLOOKUP(K246,Feuil2!$F$10:$P$28,6),IF(AND(J246>=60,J246<65),VLOOKUP(K246,Feuil2!$F$10:$P$28,5),IF(AND(J246>=65,J246<70),VLOOKUP(K246,Feuil2!$F$10:$P$28,4),IF(AND(J246>=70,J246<75),VLOOKUP(K246,Feuil2!$F$10:$P$28,3),IF(AND(J246>=75,J246<80),VLOOKUP(K246,Feuil2!$F$10:$P$28,2),VLOOKUP(K246,Feuil2!$F$10:$P$28,2)))))))))","v":{"$error":"#N/A"}},null,{"$f":"T246-HLOOKUP(X246,Feuil2!$C$1:$CD$9,2,FALSE)","v":{"$error":"#VALUE!"}},{"$f":"T246-HLOOKUP(X246,Feuil2!$C$1:$CD$9,3,FALSE)","v":{"$error":"#VALUE!"}},{"$f":"T246-HLOOKUP(X246,Feuil2!$C$1:$CD$9,4,FALSE)","v":{"$error":"#VALUE!"}},{"$f":"T246-HLOOKUP(X246,Feuil2!$C$1:$CD$9,5,FALSE)","v":{"$error":"#VALUE!"}},{"$f":"T246-HLOOKUP(X246,Feuil2!$C$1:$CD$9,6,FALSE)","v":{"$error":"#VALUE!"}},{"$f":"T246-HLOOKUP(X246,Feuil2!$C$1:$CD$9,7,FALSE)","v":{"$error":"#VALUE!"}},{"$f":"T246-HLOOKUP(X246,Feuil2!$C$1:$CD$9,8,FALSE)","v":{"$error":"#VALUE!"}},{"$f":"T246-HLOOKUP(X246,Feuil2!$C$1:$CD$9,9,FALSE)","v":{"$error":"#VALUE!"}},null,null,null,null,null,null,null,{"$error":"#VALUE!"},114,null,{"$f":"IF(AP246,VLOOKUP(AP246,HOM!$AR$551:$AS$606,2))","v":3.5710000000000002}]
["H",null,null,null,null,false,null,null,null,null,null,null,null,null,"",null,null,null,"","","","","",{"$f":"IF(AND(J247>=40,J247<45),VLOOKUP(K247,Feuil2!$F$10:$P$28,9),IF(AND(J247>=45,J247<50),VLOOKUP(K247,Feuil2!$F$10:$P$28,8),IF(AND(J247>=50,J247<55),VLOOKUP(K247,Feuil2!$F$10:$P$28,7),IF(AND(J247>=55,J247<60),VLOOKUP(K247,Feuil2!$F$10:$P$28,6),IF(AND(J247>=60,J247<65),VLOOKUP(K247,Feuil2!$F$10:$P$28,5),IF(AND(J247>=65,J247<70),VLOOKUP(K247,Feuil2!$F$10:$P$28,4),IF(AND(J247>=70,J247<75),VLOOKUP(K247,Feuil2!$F$10:$P$28,3),IF(AND(J247>=75,J247<80),VLOOKUP(K247,Feuil2!$F$10:$P$28,2),VLOOKUP(K247,Feuil2!$F$10:$P$28,2)))))))))","v":{"$error":"#N/A"}},null,{"$f":"T247-HLOOKUP(X247,Feuil2!$C$1:$CD$9,2,FALSE)","v":{"$error":"#VALUE!"}},{"$f":"T247-HLOOKUP(X247,Feuil2!$C$1:$CD$9,3,FALSE)","v":{"$error":"#VALUE!"}},{"$f":"T247-HLOOKUP(X247,Feuil2!$C$1:$CD$9,4,FALSE)","v":{"$error":"#VALUE!"}},{"$f":"T247-HLOOKUP(X247,Feuil2!$C$1:$CD$9,5,FALSE)","v":{"$error":"#VALUE!"}},{"$f":"T247-HLOOKUP(X247,Feuil2!$C$1:$CD$9,6,FALSE)","v":{"$error":"#VALUE!"}},{"$f":"T247-HLOOKUP(X247,Feuil2!$C$1:$CD$9,7,FALSE)","v":{"$error":"#VALUE!"}},{"$f":"T247-HLOOKUP(X247,Feuil2!$C$1:$CD$9,8,FALSE)","v":{"$error":"#VALUE!"}},{"$f":"T247-HLOOKUP(X247,Feuil2!$C$1:$CD$9,9,FALSE)","v":{"$error":"#VALUE!"}},null,null,null,null,null,null,null,{"$error":"#VALUE!"},114,null,{"$f":"IF(AP247,VLOOKUP(AP247,HOM!$AR$551:$AS$606,2))","v":3.5710000000000002}]
["H",null,null,null,null,false,null,null,null,null,null,null,null,null,"",null,null,null,"","","","","",{"$f":"IF(AND(J248>=40,J248<45),VLOOKUP(K248,Feuil2!$F$10:$P$28,9),IF(AND(J248>=45,J248<50),VLOOKUP(K248,Feuil2!$F$10:$P$28,8),IF(AND(J248>=50,J248<55),VLOOKUP(K248,Feuil2!$F$10:$P$28,7),IF(AND(J248>=55,J248<60),VLOOKUP(K248,Feuil2!$F$10:$P$28,6),IF(AND(J248>=60,J248<65),VLOOKUP(K248,Feuil2!$F$10:$P$28,5),IF(AND(J248>=65,J248<70),VLOOKUP(K248,Feuil2!$F$10:$P$28,4),IF(AND(J248>=70,J248<75),VLOOKUP(K248,Feuil2!$F$10:$P$28,3),IF(AND(J248>=75,J248<80),VLOOKUP(K248,Feuil2!$F$10:$P$28,2),VLOOKUP(K248,Feuil2!$F$10:$P$28,2)))))))))","v":{"$error":"#N/A"}},null,{"$f":"T248-HLOOKUP(X248,Feuil2!$C$1:$CD$9,2,FALSE)","v":{"$error":"#VALUE!"}},{"$f":"T248-HLOOKUP(X248,Feuil2!$C$1:$CD$9,3,FALSE)","v":{"$error":"#VALUE!"}},{"$f":"T248-HLOOKUP(X248,Feuil2!$C$1:$CD$9,4,FALSE)","v":{"$error":"#VALUE!"}},{"$f":"T248-HLOOKUP(X248,Feuil2!$C$1:$CD$9,5,FALSE)","v":{"$error":"#VALUE!"}},{"$f":"T248-HLOOKUP(X248,Feuil2!$C$1:$CD$9,6,FALSE)","v":{"$error":"#VALUE!"}},{"$f":"T248-HLOOKUP(X248,Feuil2!$C$1:$CD$9,7,FALSE)","v":{"$error":"#VALUE!"}},{"$f":"T248-HLOOKUP(X248,Feuil2!$C$1:$CD$9,8,FALSE)","v":{"$error":"#VALUE!"}},{"$f":"T248-HLOOKUP(X248,Feuil2!$C$1:$CD$9,9,FALSE)","v":{"$error":"#VALUE!"}},null,null,null,null,null,null,null,{"$error":"#VALUE!"},114,null,{"$f":"IF(AP248,VLOOKUP(AP248,HOM!$AR$551:$AS$606,2))","v":3.5710000000000002}]
["H",null,null,null,null,false,null,null,null,null,null,null,null,null,"",null,null,null,"","","","","",{"$f":"IF(AND(J249>=40,J249<45),VLOOKUP(K249,Feuil2!$F$10:$P$28,9),IF(AND(J249>=45,J249<50),VLOOKUP(K249,Feuil2!$F$10:$P$28,8),IF(AND(J249>=50,J249<55),VLOOKUP(K249,Feuil2!$F$10:$P$28,7),IF(AND(J249>=55,J249<60),VLOOKUP(K249,Feuil2!$F$10:$P$28,6),IF(AND(J249>=60,J249<65),VLOOKUP(K249,Feuil2!$F$10:$P$28,5),IF(AND(J249>=65,J249<70),VLOOKUP(K249,Feuil2!$F$10:$P$28,4),IF(AND(J249>=70,J249<75),VLOOKUP(K249,Feuil2!$F$10:$P$28,3),IF(AND(J249>=75,J249<80),VLOOKUP(K249,Feuil2!$F$10:$P$28,2),VLOOKUP(K249,Feuil2!$F$10:$P$28,2)))))))))","v":{"$error":"#N/A"}},null,{"$f":"T249-HLOOKUP(X249,Feuil2!$C$1:$CD$9,2,FALSE)","v":{"$error":"#VALUE!"}},{"$f":"T249-HLOOKUP(X249,Feuil2!$C$1:$CD$9,3,FALSE)","v":{"$error":"#VALUE!"}},{"$f":"T249-HLOOKUP(X249,Feuil2!$C$1:$CD$9,4,FALSE)","v":{"$error":"#VALUE!"}},{"$f":"T249-HLOOKUP(X249,Feuil2!$C$1:$CD$9,5,FALSE)","v":{"$error":"#VALUE!"}},{"$f":"T249-HLOOKUP(X249,Feuil2!$C$1:$CD$9,6,FALSE)","v":{"$error":"#VALUE!"}},{"$f":"T249-HLOOKUP(X249,Feuil2!$C$1:$CD$9,7,FALSE)","v":{"$error":"#VALUE!"}},{"$f":"T249-HLOOKUP(X249,Feuil2!$C$1:$CD$9,8,FALSE)","v":{"$error":"#VALUE!"}},{"$f":"T249-HLOOKUP(X249,Feuil2!$C$1:$CD$9,9,FALSE)","v":{"$error":"#VALUE!"}},null,null,null,null,null,null,null,{"$error":"#VALUE!"},114,null,{"$f":"IF(AP249,VLOOKUP(AP249,HOM!$AR$551:$AS$606,2))","v":3.5710000000000002}]
["H",null,null,null,null,false,null,null,null,null,null,null,null,null,"",null,null,null,"","","","","",{"$f":"IF(AND(J250>=40,J250<45),VLOOKUP(K250,Feuil2!$F$10:$P$28,9),IF(AND(J250>=45,J250<50),VLOOKUP(K250,Feuil2!$F$10:$P$28,8),IF(AND(J250>=50,J250<55),VLOOKUP(K250,Feuil2!$F$10:$P$28,7),IF(AND(J250>=55,J250<60),VLOOKUP(K250,Feuil2!$F$10:$P$28,6),IF(AND(J250>=60,J250<65),VLOOKUP(K250,Feuil2!$F$10:$P$28,5),IF(AND(J250>=65,J250<70),VLOOKUP(K250,Feuil2!$F$10:$P$28,4),IF(AND(J250>=70,J250<75),VLOOKUP(K250,Feuil2!$F$10:$P$28,3),IF(AND(J250>=75,J250<80),VLOOKUP(K250,Feuil2!$F$10:$P$28,2),VLOOKUP(K250,Feuil2!$F$10:$P$28,2)))))))))","v":{"$error":"#N/A"}},null,{"$f":"T250-HLOOKUP(X250,Feuil2!$C$1:$CD$9,2,FALSE)","v":{"$error":"#VALUE!"}},{"$f":"T250-HLOOKUP(X250,Feuil2!$C$1:$CD$9,3,FALSE)","v":{"$error":"#VALUE!"}},{"$f":"T250-HLOOKUP(X250,Feuil2!$C$1:$CD$9,4,FALSE)","v":{"$error":"#VALUE!"}},{"$f":"T250-HLOOKUP(X250,Feuil2!$C$1:$CD$9,5,FALSE)","v":{"$error":"#VALUE!"}},{"$f":"T250-HLOOKUP(X250,Feuil2!$C$1:$CD$9,6,FALSE)","v":{"$error":"#VALUE!"}},{"$f":"T250-HLOOKUP(X250,Feuil2!$C$1:$CD$9,7,FALSE)","v":{"$error":"#VALUE!"}},{"$f":"T250-HLOOKUP(X250,Feuil2!$C$1:$CD$9,8,FALSE)","v":{"$error":"#VALUE!"}},{"$f":"T250-HLOOKUP(X250,Feuil2!$C$1:$CD$9,9,FALSE)","v":{"$error":"#VALUE!"}},null,null,null,null,null,null,null,{"$error":"#VALUE!"},114,null,{"$f":"IF(AP250,VLOOKUP(AP250,HOM!$AR$551:$AS$606,2))","v":3.5710000000000002}]
["H",null,null,null,null,false,null,null,null,null,null,null,null,null,"",null,null,null,"","","","","",{"$f":"IF(AND(J251>=40,J251<45),VLOOKUP(K251,Feuil2!$F$10:$P$28,9),IF(AND(J251>=45,J251<50),VLOOKUP(K251,Feuil2!$F$10:$P$28,8),IF(AND(J251>=50,J251<55),VLOOKUP(K251,Feuil2!$F$10:$P$28,7),IF(AND(J251>=55,J251<60),VLOOKUP(K251,Feuil2!$F$10:$P$28,6),IF(AND(J251>=60,J251<65),VLOOKUP(K251,Feuil2!$F$10:$P$28,5),IF(AND(J251>=65,J251<70),VLOOKUP(K251,Feuil2!$F$10:$P$28,4),IF(AND(J251>=70,J251<75),VLOOKUP(K251,Feuil2!$F$10:$P$28,3),IF(AND(J251>=75,J251<80),VLOOKUP(K251,Feuil2!$F$10:$P$28,2),VLOOKUP(K251,Feuil2!$F$10:$P$28,2)))))))))","v":{"$error":"#N/A"}},null,{"$f":"T251-HLOOKUP(X251,Feuil2!$C$1:$CD$9,2,FALSE)","v":{"$error":"#VALUE!"}},{"$f":"T251-HLOOKUP(X251,Feuil2!$C$1:$CD$9,3,FALSE)","v":{"$error":"#VALUE!"}},{"$f":"T251-HLOOKUP(X251,Feuil2!$C$1:$CD$9,4,FALSE)","v":{"$error":"#VALUE!"}},{"$f":"T251-HLOOKUP(X251,Feuil2!$C$1:$CD$9,5,FALSE)","v":{"$error":"#VALUE!"}},{"$f":"T251-HLOOKUP(X251,Feuil2!$C$1:$CD$9,6,FALSE)","v":{"$error":"#VALUE!"}},{"$f":"T251-HLOOKUP(X251,Feuil2!$C$1:$CD$9,7,FALSE)","v":{"$error":"#VALUE!"}},{"$f":"T251-HLOOKUP(X251,Feuil2!$C$1:$CD$9,8,FALSE)","v":{"$error":"#VALUE!"}},{"$f":"T251-HLOOKUP(X251,Feuil2!$C$1:$CD$9,9,FALSE)","v":{"$error":"#VALUE!"}},null,null,null,null,null,null,null,{"$error":"#VALUE!"},114,null,{"$f":"IF(AP251,VLOOKUP(AP251,HOM!$AR$551:$AS$606,2))","v":3.5710000000000002}]
["H",null,null,null,null,false,null,null,null,null,null,null,null,null,"",null,null,null,"","","","","",{"$f":"IF(AND(J252>=40,J252<45),VLOOKUP(K252,Feuil2!$F$10:$P$28,9),IF(AND(J252>=45,J252<50),VLOOKUP(K252,Feuil2!$F$10:$P$28,8),IF(AND(J252>=50,J252<55),VLOOKUP(K252,Feuil2!$F$10:$P$28,7),IF(AND(J252>=55,J252<60),VLOOKUP(K252,Feuil2!$F$10:$P$28,6),IF(AND(J252>=60,J252<65),VLOOKUP(K252,Feuil2!$F$10:$P$28,5),IF(AND(J252>=65,J252<70),VLOOKUP(K252,Feuil2!$F$10:$P$28,4),IF(AND(J252>=70,J252<75),VLOOKUP(K252,Feuil2!$F$10:$P$28,3),IF(AND(J252>=75,J252<80),VLOOKUP(K252,Feuil2!$F$10:$P$28,2),VLOOKUP(K252,Feuil2!$F$10:$P$28,2)))))))))","v":{"$error":"#N/A"}},null,{"$f":"T252-HLOOKUP(X252,Feuil2!$C$1:$CD$9,2,FALSE)","v":{"$error":"#VALUE!"}},{"$f":"T252-HLOOKUP(X252,Feuil2!$C$1:$CD$9,3,FALSE)","v":{"$error":"#VALUE!"}},{"$f":"T252-HLOOKUP(X252,Feuil2!$C$1:$CD$9,4,FALSE)","v":{"$error":"#VALUE!"}},{"$f":"T252-HLOOKUP(X252,Feuil2!$C$1:$CD$9,5,FALSE)","v":{"$error":"#VALUE!"}},{"$f":"T252-HLOOKUP(X252,Feuil2!$C$1:$CD$9,6,FALSE)","v":{"$error":"#VALUE!"}},{"$f":"T252-HLOOKUP(X252,Feuil2!$C$1:$CD$9,7,FALSE)","v":{"$error":"#VALUE!"}},{"$f":"T252-HLOOKUP(X252,Feuil2!$C$1:$CD$9,8,FALSE)","v":{"$error":"#VALUE!"}},{"$f":"T252-HLOOKUP(X252,Feuil2!$C$1:$CD$9,9,FALSE)","v":{"$error":"#VALUE!"}},null,null,null,null,null,null,null,{"$error":"#VALUE!"},114,null,{"$f":"IF(AP252,VLOOKUP(AP252,HOM!$AR$551:$AS$606,2))","v":3.5710000000000002}]
["H",null,null,null,null,false,null,null,null,null,null,null,null,null,"",null,null,null,"","","","","",{"$f":"IF(AND(J253>=40,J253<45),VLOOKUP(K253,Feuil2!$F$10:$P$28,9),IF(AND(J253>=45,J253<50),VLOOKUP(K253,Feuil2!$F$10:$P$28,8),IF(AND(J253>=50,J253<55),VLOOKUP(K253,Feuil2!$F$10:$P$28,7),IF(AND(J253>=55,J253<60),VLOOKUP(K253,Feuil2!$F$10:$P$28,6),IF(AND(J253>=60,J253<65),VLOOKUP(K253,Feuil2!$F$10:$P$28,5),IF(AND(J253>=65,J253<70),VLOOKUP(K253,Feuil2!$F$10:$P$28,4),IF(AND(J253>=70,J253<75),VLOOKUP(K253,Feuil2!$F$10:$P$28,3),IF(AND(J253>=75,J253<80),VLOOKUP(K253,Feuil2!$F$10:$P$28,2),VLOOKUP(K253,Feuil2!$F$10:$P$28,2)))))))))","v":{"$error":"#N/A"}},null,{"$f":"T253-HLOOKUP(X253,Feuil2!$C$1:$CD$9,2,FALSE)","v":{"$error":"#VALUE!"}},{"$f":"T253-HLOOKUP(X253,Feuil2!$C$1:$CD$9,3,FALSE)","v":{"$error":"#VALUE!"}},{"$f":"T253-HLOOKUP(X253,Feuil2!$C$1:$CD$9,4,FALSE)","v":{"$error":"#VALUE!"}},{"$f":"T253-HLOOKUP(X253,Feuil2!$C$1:$CD$9,5,FALSE)","v":{"$error":"#VALUE!"}},{"$f":"T253-HLOOKUP(X253,Feuil2!$C$1:$CD$9,6,FALSE)","v":{"$error":"#VALUE!"}},{"$f":"T253-HLOOKUP(X253,Feuil2!$C$1:$CD$9,7,FALSE)","v":{"$error":"#VALUE!"}},{"$f":"T253-HLOOKUP(X253,Feuil2!$C$1:$CD$9,8,FALSE)","v":{"$error":"#VALUE!"}},{"$f":"T253-HLOOKUP(X253,Feuil2!$C$1:$CD$9,9,FALSE)","v":{"$error":"#VALUE!"}},null,null,null,null,null,null,null,{"$error":"#VALUE!"},114,null,{"$f":"IF(AP253,VLOOKUP(AP253,HOM!$AR$551:$AS$606,2))","v":3.5710000000000002}]
["H",null,null,null,null,false,null,null,null,null,null,null,null,null,"",null,null,null,"","","","","",{"$f":"IF(AND(J254>=40,J254<45),VLOOKUP(K254,Feuil2!$F$10:$P$28,9),IF(AND(J254>=45,J254<50),VLOOKUP(K254,Feuil2!$F$10:$P$28,8),IF(AND(J254>=50,J254<55),VLOOKUP(K254,Feuil2!$F$10:$P$28,7),IF(AND(J254>=55,J254<60),VLOOKUP(K254,Feuil2!$F$10:$P$28,6),IF(AND(J254>=60,J254<65),VLOOKUP(K254,Feuil2!$F$10:$P$28,5),IF(AND(J254>=65,J254<70),VLOOKUP(K254,Feuil2!$F$10:$P$28,4),IF(AND(J254>=70,J254<75),VLOOKUP(K254,Feuil2!$F$10:$P$28,3),IF(AND(J254>=75,J254<80),VLOOKUP(K254,Feuil2!$F$10:$P$28,2),VLOOKUP(K254,Feuil2!$F$10:$P$28,2)))))))))","v":{"$error":"#N/A"}},null,{"$f":"T254-HLOOKUP(X254,Feuil2!$C$1:$CD$9,2,FALSE)","v":{"$error":"#VALUE!"}},{"$f":"T254-HLOOKUP(X254,Feuil2!$C$1:$CD$9,3,FALSE)","v":{"$error":"#VALUE!"}},{"$f":"T254-HLOOKUP(X254,Feuil2!$C$1:$CD$9,4,FALSE)","v":{"$error":"#VALUE!"}},{"$f":"T254-HLOOKUP(X254,Feuil2!$C$1:$CD$9,5,FALSE)","v":{"$error":"#VALUE!"}},{"$f":"T254-HLOOKUP(X254,Feuil2!$C$1:$CD$9,6,FALSE)","v":{"$error":"#VALUE!"}},{"$f":"T254-HLOOKUP(X254,Feuil2!$C$1:$CD$9,7,FALSE)","v":{"$error":"#VALUE!"}},{"$f":"T254-HLOOKUP(X254,Feuil2!$C$1:$CD$9,8,FALSE)","v":{"$error":"#VALUE!"}},{"$f":"T254-HLOOKUP(X254,Feuil2!$C$1:$CD$9,9,FALSE)","v":{"$error":"#VALUE!"}},null,null,null,null,null,null,null,{"$error":"#VALUE!"},114,null,{"$f":"IF(AP254,VLOOKUP(AP254,HOM!$AR$551:$AS$606,2))","v":3.5710000000000002}]
["H",null,null,null,null,false,null,null,null,null,null,null,null,null,"",null,null,null,"","","","","",{"$f":"IF(AND(J255>=40,J255<45),VLOOKUP(K255,Feuil2!$F$10:$P$28,9),IF(AND(J255>=45,J255<50),VLOOKUP(K255,Feuil2!$F$10:$P$28,8),IF(AND(J255>=50,J255<55),VLOOKUP(K255,Feuil2!$F$10:$P$28,7),IF(AND(J255>=55,J255<60),VLOOKUP(K255,Feuil2!$F$10:$P$28,6),IF(AND(J255>=60,J255<65),VLOOKUP(K255,Feuil2!$F$10:$P$28,5),IF(AND(J255>=65,J255<70),VLOOKUP(K255,Feuil2!$F$10:$P$28,4),IF(AND(J255>=70,J255<75),VLOOKUP(K255,Feuil2!$F$10:$P$28,3),IF(AND(J255>=75,J255<80),VLOOKUP(K255,Feuil2!$F$10:$P$28,2),VLOOKUP(K255,Feuil2!$F$10:$P$28,2)))))))))","v":{"$error":"#N/A"}},null,{"$f":"T255-HLOOKUP(X255,Feuil2!$C$1:$CD$9,2,FALSE)","v":{"$error":"#VALUE!"}},{"$f":"T255-HLOOKUP(X255,Feuil2!$C$1:$CD$9,3,FALSE)","v":{"$error":"#VALUE!"}},{"$f":"T255-HLOOKUP(X255,Feuil2!$C$1:$CD$9,4,FALSE)","v":{"$error":"#VALUE!"}},{"$f":"T255-HLOOKUP(X255,Feuil2!$C$1:$CD$9,5,FALSE)","v":{"$error":"#VALUE!"}},{"$f":"T255-HLOOKUP(X255,Feuil2!$C$1:$CD$9,6,FALSE)","v":{"$error":"#VALUE!"}},{"$f":"T255-HLOOKUP(X255,Feuil2!$C$1:$CD$9,7,FALSE)","v":{"$error":"#VALUE!"}},{"$f":"T255-HLOOKUP(X255,Feuil2!$C$1:$CD$9,8,FALSE)","v":{"$error":"#VALUE!"}},{"$f":"T255-HLOOKUP(X255,Feuil2!$C$1:$CD$9,9,FALSE)","v":{"$error":"#VALUE!"}},null,null,null,null,null,null,null,{"$error":"#VALUE!"},114,null,{"$f":"IF(AP255,VLOOKUP(AP255,HOM!$AR$551:$AS$606,2))","v":3.5710000000000002}]
["H",null,null,null,null,false,null,null,null,null,null,null,null,null,"",null,null,null,"","","","","",{"$f":"IF(AND(J256>=40,J256<45),VLOOKUP(K256,Feuil2!$F$10:$P$28,9),IF(AND(J256>=45,J256<50),VLOOKUP(K256,Feuil2!$F$10:$P$28,8),IF(AND(J256>=50,J256<55),VLOOKUP(K256,Feuil2!$F$10:$P$28,7),IF(AND(J256>=55,J256<60),VLOOKUP(K256,Feuil2!$F$10:$P$28,6),IF(AND(J256>=60,J256<65),VLOOKUP(K256,Feuil2!$F$10:$P$28,5),IF(AND(J256>=65,J256<70),VLOOKUP(K256,Feuil2!$F$10:$P$28,4),IF(AND(J256>=70,J256<75),VLOOKUP(K256,Feuil2!$F$10:$P$28,3),IF(AND(J256>=75,J256<80),VLOOKUP(K256,Feuil2!$F$10:$P$28,2),VLOOKUP(K256,Feuil2!$F$10:$P$28,2)))))))))","v":{"$error":"#N/A"}},null,{"$f":"T256-HLOOKUP(X256,Feuil2!$C$1:$CD$9,2,FALSE)","v":{"$error":"#VALUE!"}},{"$f":"T256-HLOOKUP(X256,Feuil2!$C$1:$CD$9,3,FALSE)","v":{"$error":"#VALUE!"}},{"$f":"T256-HLOOKUP(X256,Feuil2!$C$1:$CD$9,4,FALSE)","v":{"$error":"#VALUE!"}},{"$f":"T256-HLOOKUP(X256,Feuil2!$C$1:$CD$9,5,FALSE)","v":{"$error":"#VALUE!"}},{"$f":"T256-HLOOKUP(X256,Feuil2!$C$1:$CD$9,6,FALSE)","v":{"$error":"#VALUE!"}},{"$f":"T256-HLOOKUP(X256,Feuil2!$C$1:$CD$9,7,FALSE)","v":{"$error":"#VALUE!"}},{"$f":"T256-HLOOKUP(X256,Feuil2!$C$1:$CD$9,8,FALSE)","v":{"$error":"#VALUE!"}},{"$f":"T256-HLOOKUP(X256,Feuil2!$C$1:$CD$9,9,FALSE)","v":{"$error":"#VALUE!"}},null,null,null,null,null,null,null,{"$error":"#VALUE!"},114,null,{"$f":"IF(AP256,VLOOKUP(AP256,HOM!$AR$551:$AS$606,2))","v":3.5710000000000002}]
["H",null,null,null,null,false,null,null,null,null,null,null,null,null,"",null,null,null,"","","","","",{"$f":"IF(AND(J257>=40,J257<45),VLOOKUP(K257,Feuil2!$F$10:$P$28,9),IF(AND(J257>=45,J257<50),VLOOKUP(K257,Feuil2!$F$10:$P$28,8),IF(AND(J257>=50,J257<55),VLOOKUP(K257,Feuil2!$F$10:$P$28,7),IF(AND(J257>=55,J257<60),VLOOKUP(K257,Feuil2!$F$10:$P$28,6),IF(AND(J257>=60,J257<65),VLOOKUP(K257,Feuil2!$F$10:$P$28,5),IF(AND(J257>=65,J257<70),VLOOKUP(K257,Feuil2!$F$10:$P$28,4),IF(AND(J257>=70,J257<75),VLOOKUP(K257,Feuil2!$F$10:$P$28,3),IF(AND(J257>=75,J257<80),VLOOKUP(K257,Feuil2!$F$10:$P$28,2),VLOOKUP(K257,Feuil2!$F$10:$P$28,2)))))))))","v":{"$error":"#N/A"}},null,{"$f":"T257-HLOOKUP(X257,Feuil2!$C$1:$CD$9,2,FALSE)","v":{"$error":"#VALUE!"}},{"$f":"T257-HLOOKUP(X257,Feuil2!$C$1:$CD$9,3,FALSE)","v":{"$error":"#VALUE!"}},{"$f":"T257-HLOOKUP(X257,Feuil2!$C$1:$CD$9,4,FALSE)","v":{"$error":"#VALUE!"}},{"$f":"T257-HLOOKUP(X257,Feuil2!$C$1:$CD$9,5,FALSE)","v":{"$error":"#VALUE!"}},{"$f":"T257-HLOOKUP(X257,Feuil2!$C$1:$CD$9,6,FALSE)","v":{"$error":"#VALUE!"}},{"$f":"T257-HLOOKUP(X257,Feuil2!$C$1:$CD$9,7,FALSE)","v":{"$error":"#VALUE!"}},{"$f":"T257-HLOOKUP(X257,Feuil2!$C$1:$CD$9,8,FALSE)","v":{"$error":"#VALUE!"}},{"$f":"T257-HLOOKUP(X257,Feuil2!$C$1:$CD$9,9,FALSE)","v":{"$error":"#VALUE!"}},null,null,null,null,null,null,null,{"$error":"#VALUE!"},114,null,{"$f":"IF(AP257,VLOOKUP(AP257,HOM!$AR$551:$AS$606,2))","v":3.5710000000000002}]
["H",null,null,null,null,false,null,null,null,null,null,null,null,null,null,null,null,null,"","","","","",{"$f":"IF(AND(J258>=40,J258<45),VLOOKUP(K258,Feuil2!$F$10:$P$28,9),IF(AND(J258>=45,J258<50),VLOOKUP(K258,Feuil2!$F$10:$P$28,8),IF(AND(J258>=50,J258<55),VLOOKUP(K258,Feuil2!$F$10:$P$28,7),IF(AND(J258>=55,J258<60),VLOOKUP(K258,Feuil2!$F$10:$P$28,6),IF(AND(J258>=60,J258<65),VLOOKUP(K258,Feuil2!$F$10:$P$28,5),IF(AND(J258>=65,J258<70),VLOOKUP(K258,Feuil2!$F$10:$P$28,4),IF(AND(J258>=70,J258<75),VLOOKUP(K258,Feuil2!$F$10:$P$28,3),IF(AND(J258>=75,J258<80),VLOOKUP(K258,Feuil2!$F$10:$P$28,2),VLOOKUP(K258,Feuil2!$F$10:$P$28,2)))))))))","v":{"$error":"#N/A"}},null,{"$f":"T258-HLOOKUP(X258,Feuil2!$C$1:$CD$9,2,FALSE)","v":{"$error":"#VALUE!"}},{"$f":"T258-HLOOKUP(X258,Feuil2!$C$1:$CD$9,3,FALSE)","v":{"$error":"#VALUE!"}},{"$f":"T258-HLOOKUP(X258,Feuil2!$C$1:$CD$9,4,FALSE)","v":{"$error":"#VALUE!"}},{"$f":"T258-HLOOKUP(X258,Feuil2!$C$1:$CD$9,5,FALSE)","v":{"$error":"#VALUE!"}},{"$f":"T258-HLOOKUP(X258,Feuil2!$C$1:$CD$9,6,FALSE)","v":{"$error":"#VALUE!"}},{"$f":"T258-HLOOKUP(X258,Feuil2!$C$1:$CD$9,7,FALSE)","v":{"$error":"#VALUE!"}},{"$f":"T258-HLOOKUP(X258,Feuil2!$C$1:$CD$9,8,FALSE)","v":{"$error":"#VALUE!"}},{"$f":"T258-HLOOKUP(X258,Feuil2!$C$1:$CD$9,9,FALSE)","v":{"$error":"#VALUE!"}},null,null,null,null,null,null,null,{"$error":"#VALUE!"},114,null,{"$f":"IF(AP258,VLOOKUP(AP258,HOM!$AR$551:$AS$606,2))","v":3.5710000000000002}]
["H",null,null,null,null,false,null,null,null,null,null,null,null,null,{"$f":"IF(K259=\"\",\"\",IF(MAXA(L259:N259)<=0,0,MAXA(L259:N259)))","v":""},null,null,null,"","","","","",{"$f":"IF(AND(J259>=40,J259<45),VLOOKUP(K259,Feuil2!$F$10:$P$28,9),IF(AND(J259>=45,J259<50),VLOOKUP(K259,Feuil2!$F$10:$P$28,8),IF(AND(J259>=50,J259<55),VLOOKUP(K259,Feuil2!$F$10:$P$28,7),IF(AND(J259>=55,J259<60),VLOOKUP(K259,Feuil2!$F$10:$P$28,6),IF(AND(J259>=60,J259<65),VLOOKUP(K259,Feuil2!$F$10:$P$28,5),IF(AND(J259>=65,J259<70),VLOOKUP(K259,Feuil2!$F$10:$P$28,4),IF(AND(J259>=70,J259<75),VLOOKUP(K259,Feuil2!$F$10:$P$28,3),IF(AND(J259>=75,J259<80),VLOOKUP(K259,Feuil2!$F$10:$P$28,2),VLOOKUP(K259,Feuil2!$F$10:$P$28,2)))))))))","v":{"$error":"#N/A"}},null,{"$f":"T259-HLOOKUP(X259,Feuil2!$C$1:$CD$9,2,FALSE)","v":{"$error":"#VALUE!"}},{"$f":"T259-HLOOKUP(X259,Feuil2!$C$1:$CD$9,3,FALSE)","v":{"$error":"#VALUE!"}},{"$f":"T259-HLOOKUP(X259,Feuil2!$C$1:$CD$9,4,FALSE)","v":{"$error":"#VALUE!"}},{"$f":"T259-HLOOKUP(X259,Feuil2!$C$1:$CD$9,5,FALSE)","v":{"$error":"#VALUE!"}},{"$f":"T259-HLOOKUP(X259,Feuil2!$C$1:$CD$9,6,FALSE)","v":{"$error":"#VALUE!"}},{"$f":"T259-HLOOKUP(X259,Feuil2!$C$1:$CD$9,7,FALSE)","v":{"$error":"#VALUE!"}},{"$f":"T259-HLOOKUP(X259,Feuil2!$C$1:$CD$9,8,FALSE)","v":{"$error":"#VALUE!"}},{"$f":"T259-HLOOKUP(X259,Feuil2!$C$1:$CD$9,9,FALSE)","v":{"$error":"#VALUE!"}},null,null,null,null,null,null,null,{"$error":"#VALUE!"},114,null,{"$f":"IF(AP259,VLOOKUP(AP259,HOM!$AR$551:$AS$606,2))","v":3.5710000000000002}]
["H",null,null,null,null,false,null,null,null,null,null,null,null,null,"",null,null,null,"","","","","",{"$f":"IF(AND(J260>=40,J260<45),VLOOKUP(K260,Feuil2!$F$10:$P$28,9),IF(AND(J260>=45,J260<50),VLOOKUP(K260,Feuil2!$F$10:$P$28,8),IF(AND(J260>=50,J260<55),VLOOKUP(K260,Feuil2!$F$10:$P$28,7),IF(AND(J260>=55,J260<60),VLOOKUP(K260,Feuil2!$F$10:$P$28,6),IF(AND(J260>=60,J260<65),VLOOKUP(K260,Feuil2!$F$10:$P$28,5),IF(AND(J260>=65,J260<70),VLOOKUP(K260,Feuil2!$F$10:$P$28,4),IF(AND(J260>=70,J260<75),VLOOKUP(K260,Feuil2!$F$10:$P$28,3),IF(AND(J260>=75,J260<80),VLOOKUP(K260,Feuil2!$F$10:$P$28,2),VLOOKUP(K260,Feuil2!$F$10:$P$28,2)))))))))","v":{"$error":"#N/A"}},null,{"$f":"T260-HLOOKUP(X260,Feuil2!$C$1:$CD$9,2,FALSE)","v":{"$error":"#VALUE!"}},{"$f":"T260-HLOOKUP(X260,Feuil2!$C$1:$CD$9,3,FALSE)","v":{"$error":"#VALUE!"}},{"$f":"T260-HLOOKUP(X260,Feuil2!$C$1:$CD$9,4,FALSE)","v":{"$error":"#VALUE!"}},{"$f":"T260-HLOOKUP(X260,Feuil2!$C$1:$CD$9,5,FALSE)","v":{"$error":"#VALUE!"}},{"$f":"T260-HLOOKUP(X260,Feuil2!$C$1:$CD$9,6,FALSE)","v":{"$error":"#VALUE!"}},{"$f":"T260-HLOOKUP(X260,Feuil2!$C$1:$CD$9,7,FALSE)","v":{"$error":"#VALUE!"}},{"$f":"T260-HLOOKUP(X260,Feuil2!$C$1:$CD$9,8,FALSE)","v":{"$error":"#VALUE!"}},{"$f":"T260-HLOOKUP(X260,Feuil2!$C$1:$CD$9,9,FALSE)","v":{"$error":"#VALUE!"}},null,null,null,null,null,null,null,{"$error":"#VALUE!"},114,null,{"$f":"IF(AP260,VLOOKUP(AP260,HOM!$AR$551:$AS$606,2))","v":3.5710000000000002}]
["H",null,null,null,null,false,null,null,null,null,null,null,null,null,"",null,null,null,"","","","","",{"$f":"IF(AND(J261>=40,J261<45),VLOOKUP(K261,Feuil2!$F$10:$P$28,9),IF(AND(J261>=45,J261<50),VLOOKUP(K261,Feuil2!$F$10:$P$28,8),IF(AND(J261>=50,J261<55),VLOOKUP(K261,Feuil2!$F$10:$P$28,7),IF(AND(J261>=55,J261<60),VLOOKUP(K261,Feuil2!$F$10:$P$28,6),IF(AND(J261>=60,J261<65),VLOOKUP(K261,Feuil2!$F$10:$P$28,5),IF(AND(J261>=65,J261<70),VLOOKUP(K261,Feuil2!$F$10:$P$28,4),IF(AND(J261>=70,J261<75),VLOOKUP(K261,Feuil2!$F$10:$P$28,3),IF(AND(J261>=75,J261<80),VLOOKUP(K261,Feuil2!$F$10:$P$28,2),VLOOKUP(K261,Feuil2!$F$10:$P$28,2)))))))))","v":{"$error":"#N/A"}},null,{"$f":"T261-HLOOKUP(X261,Feuil2!$C$1:$CD$9,2,FALSE)","v":{"$error":"#VALUE!"}},{"$f":"T261-HLOOKUP(X261,Feuil2!$C$1:$CD$9,3,FALSE)","v":{"$error":"#VALUE!"}},{"$f":"T261-HLOOKUP(X261,Feuil2!$C$1:$CD$9,4,FALSE)","v":{"$error":"#VALUE!"}},{"$f":"T261-HLOOKUP(X261,Feuil2!$C$1:$CD$9,5,FALSE)","v":{"$error":"#VALUE!"}},{"$f":"T261-HLOOKUP(X261,Feuil2!$C$1:$CD$9,6,FALSE)","v":{"$error":"#VALUE!"}},{"$f":"T261-HLOOKUP(X261,Feuil2!$C$1:$CD$9,7,FALSE)","v":{"$error":"#VALUE!"}},{"$f":"T261-HLOOKUP(X261,Feuil2!$C$1:$CD$9,8,FALSE)","v":{"$error":"#VALUE!"}},{"$f":"T261-HLOOKUP(X261,Feuil2!$C$1:$CD$9,9,FALSE)","v":{"$error":"#VALUE!"}},null,null,null,null,null,null,null,{"$error":"#VALUE!"},114,null,{"$f":"IF(AP261,VLOOKUP(AP261,HOM!$AR$551:$AS$606,2))","v":3.5710000000000002}]
["H",null,null,null,null,false,null,null,null,null,null,null,null,null,"",null,null,null,"","","","","",{"$f":"IF(AND(J262>=40,J262<45),VLOOKUP(K262,Feuil2!$F$10:$P$28,9),IF(AND(J262>=45,J262<50),VLOOKUP(K262,Feuil2!$F$10:$P$28,8),IF(AND(J262>=50,J262<55),VLOOKUP(K262,Feuil2!$F$10:$P$28,7),IF(AND(J262>=55,J262<60),VLOOKUP(K262,Feuil2!$F$10:$P$28,6),IF(AND(J262>=60,J262<65),VLOOKUP(K262,Feuil2!$F$10:$P$28,5),IF(AND(J262>=65,J262<70),VLOOKUP(K262,Feuil2!$F$10:$P$28,4),IF(AND(J262>=70,J262<75),VLOOKUP(K262,Feuil2!$F$10:$P$28,3),IF(AND(J262>=75,J262<80),VLOOKUP(K262,Feuil2!$F$10:$P$28,2),VLOOKUP(K262,Feuil2!$F$10:$P$28,2)))))))))","v":{"$error":"#N/A"}},null,{"$f":"T262-HLOOKUP(X262,Feuil2!$C$1:$CD$9,2,FALSE)","v":{"$error":"#VALUE!"}},{"$f":"T262-HLOOKUP(X262,Feuil2!$C$1:$CD$9,3,FALSE)","v":{"$error":"#VALUE!"}},{"$f":"T262-HLOOKUP(X262,Feuil2!$C$1:$CD$9,4,FALSE)","v":{"$error":"#VALUE!"}},{"$f":"T262-HLOOKUP(X262,Feuil2!$C$1:$CD$9,5,FALSE)","v":{"$error":"#VALUE!"}},{"$f":"T262-HLOOKUP(X262,Feuil2!$C$1:$CD$9,6,FALSE)","v":{"$error":"#VALUE!"}},{"$f":"T262-HLOOKUP(X262,Feuil2!$C$1:$CD$9,7,FALSE)","v":{"$error":"#VALUE!"}},{"$f":"T262-HLOOKUP(X262,Feuil2!$C$1:$CD$9,8,FALSE)","v":{"$error":"#VALUE!"}},{"$f":"T262-HLOOKUP(X262,Feuil2!$C$1:$CD$9,9,FALSE)","v":{"$error":"#VALUE!"}},null,null,null,null,null,null,null,{"$error":"#VALUE!"},114,null,{"$f":"IF(AP262,VLOOKUP(AP262,HOM!$AR$551:$AS$606,2))","v":3.5710000000000002}]
["H",null,null,null,null,false,null,null,null,null,null,null,null,null,"",null,null,null,"","","","","",{"$f":"IF(AND(J263>=40,J263<45),VLOOKUP(K263,Feuil2!$F$10:$P$28,9),IF(AND(J263>=45,J263<50),VLOOKUP(K263,Feuil2!$F$10:$P$28,8),IF(AND(J263>=50,J263<55),VLOOKUP(K263,Feuil2!$F$10:$P$28,7),IF(AND(J263>=55,J263<60),VLOOKUP(K263,Feuil2!$F$10:$P$28,6),IF(AND(J263>=60,J263<65),VLOOKUP(K263,Feuil2!$F$10:$P$28,5),IF(AND(J263>=65,J263<70),VLOOKUP(K263,Feuil2!$F$10:$P$28,4),IF(AND(J263>=70,J263<75),VLOOKUP(K263,Feuil2!$F$10:$P$28,3),IF(AND(J263>=75,J263<80),VLOOKUP(K263,Feuil2!$F$10:$P$28,2),VLOOKUP(K263,Feuil2!$F$10:$P$28,2)))))))))","v":{"$error":"#N/A"}},null,{"$f":"T263-HLOOKUP(X263,Feuil2!$C$1:$CD$9,2,FALSE)","v":{"$error":"#VALUE!"}},{"$f":"T263-HLOOKUP(X263,Feuil2!$C$1:$CD$9,3,FALSE)","v":{"$error":"#VALUE!"}},{"$f":"T263-HLOOKUP(X263,Feuil2!$C$1:$CD$9,4,FALSE)","v":{"$error":"#VALUE!"}},{"$f":"T263-HLOOKUP(X263,Feuil2!$C$1:$CD$9,5,FALSE)","v":{"$error":"#VALUE!"}},{"$f":"T263-HLOOKUP(X263,Feuil2!$C$1:$CD$9,6,FALSE)","v":{"$error":"#VALUE!"}},{"$f":"T263-HLOOKUP(X263,Feuil2!$C$1:$CD$9,7,FALSE)","v":{"$error":"#VALUE!"}},{"$f":"T263-HLOOKUP(X263,Feuil2!$C$1:$CD$9,8,FALSE)","v":{"$error":"#VALUE!"}},{"$f":"T263-HLOOKUP(X263,Feuil2!$C$1:$CD$9,9,FALSE)","v":{"$error":"#VALUE!"}},null,null,null,null,null,null,null,{"$error":"#VALUE!"},114,null,{"$f":"IF(AP263,VLOOKUP(AP263,HOM!$AR$551:$AS$606,2))","v":3.5710000000000002}]
["H",null,null,null,null,{"$f":"IF(AP264<95,IF(AP264<=90,VLOOKUP(AP264,$AP$554:$AQ$609,2)))","v":false},null,null,null,null,null,null,null,null,"",null,null,null,"","","","","",{"$f":"IF(AND(J264>=40,J264<45),VLOOKUP(K264,Feuil2!$F$10:$P$28,9),IF(AND(J264>=45,J264<50),VLOOKUP(K264,Feuil2!$F$10:$P$28,8),IF(AND(J264>=50,J264<55),VLOOKUP(K264,Feuil2!$F$10:$P$28,7),IF(AND(J264>=55,J264<60),VLOOKUP(K264,Feuil2!$F$10:$P$28,6),IF(AND(J264>=60,J264<65),VLOOKUP(K264,Feuil2!$F$10:$P$28,5),IF(AND(J264>=65,J264<70),VLOOKUP(K264,Feuil2!$F$10:$P$28,4),IF(AND(J264>=70,J264<75),VLOOKUP(K264,Feuil2!$F$10:$P$28,3),IF(AND(J264>=75,J264<80),VLOOKUP(K264,Feuil2!$F$10:$P$28,2),VLOOKUP(K264,Feuil2!$F$10:$P$28,2)))))))))","v":{"$error":"#N/A"}},null,{"$f":"T264-HLOOKUP(X264,Feuil2!$C$1:$CD$9,2,FALSE)","v":{"$error":"#VALUE!"}},{"$f":"T264-HLOOKUP(X264,Feuil2!$C$1:$CD$9,3,FALSE)","v":{"$error":"#VALUE!"}},{"$f":"T264-HLOOKUP(X264,Feuil2!$C$1:$CD$9,4,FALSE)","v":{"$error":"#VALUE!"}},{"$f":"T264-HLOOKUP(X264,Feuil2!$C$1:$CD$9,5,FALSE)","v":{"$error":"#VALUE!"}},{"$f":"T264-HLOOKUP(X264,Feuil2!$C$1:$CD$9,6,FALSE)","v":{"$error":"#VALUE!"}},{"$f":"T264-HLOOKUP(X264,Feuil2!$C$1:$CD$9,7,FALSE)","v":{"$error":"#VALUE!"}},{"$f":"T264-HLOOKUP(X264,Feuil2!$C$1:$CD$9,8,FALSE)","v":{"$error":"#VALUE!"}},{"$f":"T264-HLOOKUP(X264,Feuil2!$C$1:$CD$9,9,FALSE)","v":{"$error":"#VALUE!"}},null,null,null,null,null,null,null,{"$error":"#VALUE!"},114,null,{"$f":"IF(AP264,VLOOKUP(AP264,HOM!$AR$551:$AS$606,2))","v":3.5710000000000002}]
["H",null,null,null,null,false,null,null,null,null,null,null,null,null,"",null,null,null,"","","","","",{"$f":"IF(AND(J265>=40,J265<45),VLOOKUP(K265,Feuil2!$F$10:$P$28,9),IF(AND(J265>=45,J265<50),VLOOKUP(K265,Feuil2!$F$10:$P$28,8),IF(AND(J265>=50,J265<55),VLOOKUP(K265,Feuil2!$F$10:$P$28,7),IF(AND(J265>=55,J265<60),VLOOKUP(K265,Feuil2!$F$10:$P$28,6),IF(AND(J265>=60,J265<65),VLOOKUP(K265,Feuil2!$F$10:$P$28,5),IF(AND(J265>=65,J265<70),VLOOKUP(K265,Feuil2!$F$10:$P$28,4),IF(AND(J265>=70,J265<75),VLOOKUP(K265,Feuil2!$F$10:$P$28,3),IF(AND(J265>=75,J265<80),VLOOKUP(K265,Feuil2!$F$10:$P$28,2),VLOOKUP(K265,Feuil2!$F$10:$P$28,2)))))))))","v":{"$error":"#N/A"}},null,{"$f":"T265-HLOOKUP(X265,Feuil2!$C$1:$CD$9,2,FALSE)","v":{"$error":"#VALUE!"}},{"$f":"T265-HLOOKUP(X265,Feuil2!$C$1:$CD$9,3,FALSE)","v":{"$error":"#VALUE!"}},{"$f":"T265-HLOOKUP(X265,Feuil2!$C$1:$CD$9,4,FALSE)","v":{"$error":"#VALUE!"}},{"$f":"T265-HLOOKUP(X265,Feuil2!$C$1:$CD$9,5,FALSE)","v":{"$error":"#VALUE!"}},{"$f":"T265-HLOOKUP(X265,Feuil2!$C$1:$CD$9,6,FALSE)","v":{"$error":"#VALUE!"}},{"$f":"T265-HLOOKUP(X265,Feuil2!$C$1:$CD$9,7,FALSE)","v":{"$error":"#VALUE!"}},{"$f":"T265-HLOOKUP(X265,Feuil2!$C$1:$CD$9,8,FALSE)","v":{"$error":"#VALUE!"}},{"$f":"T265-HLOOKUP(X265,Feuil2!$C$1:$CD$9,9,FALSE)","v":{"$error":"#VALUE!"}},null,null,null,null,null,null,null,{"$error":"#VALUE!"},114,null,{"$f":"IF(AP265,VLOOKUP(AP265,HOM!$AR$551:$AS$606,2))","v":3.5710000000000002}]
["H",null,null,null,null,false,null,null,null,null,null,null,null,null,"",null,null,null,"","","","","",{"$f":"IF(AND(J266>=40,J266<45),VLOOKUP(K266,Feuil2!$F$10:$P$28,9),IF(AND(J266>=45,J266<50),VLOOKUP(K266,Feuil2!$F$10:$P$28,8),IF(AND(J266>=50,J266<55),VLOOKUP(K266,Feuil2!$F$10:$P$28,7),IF(AND(J266>=55,J266<60),VLOOKUP(K266,Feuil2!$F$10:$P$28,6),IF(AND(J266>=60,J266<65),VLOOKUP(K266,Feuil2!$F$10:$P$28,5),IF(AND(J266>=65,J266<70),VLOOKUP(K266,Feuil2!$F$10:$P$28,4),IF(AND(J266>=70,J266<75),VLOOKUP(K266,Feuil2!$F$10:$P$28,3),IF(AND(J266>=75,J266<80),VLOOKUP(K266,Feuil2!$F$10:$P$28,2),VLOOKUP(K266,Feuil2!$F$10:$P$28,2)))))))))","v":{"$error":"#N/A"}},null,{"$f":"T266-HLOOKUP(X266,Feuil2!$C$1:$CD$9,2,FALSE)","v":{"$error":"#VALUE!"}},{"$f":"T266-HLOOKUP(X266,Feuil2!$C$1:$CD$9,3,FALSE)","v":{"$error":"#VALUE!"}},{"$f":"T266-HLOOKUP(X266,Feuil2!$C$1:$CD$9,4,FALSE)","v":{"$error":"#VALUE!"}},{"$f":"T266-HLOOKUP(X266,Feuil2!$C$1:$CD$9,5,FALSE)","v":{"$error":"#VALUE!"}},{"$f":"T266-HLOOKUP(X266,Feuil2!$C$1:$CD$9,6,FALSE)","v":{"$error":"#VALUE!"}},{"$f":"T266-HLOOKUP(X266,Feuil2!$C$1:$CD$9,7,FALSE)","v":{"$error":"#VALUE!"}},{"$f":"T266-HLOOKUP(X266,Feuil2!$C$1:$CD$9,8,FALSE)","v":{"$error":"#VALUE!"}},{"$f":"T266-HLOOKUP(X266,Feuil2!$C$1:$CD$9,9,FALSE)","v":{"$error":"#VALUE!"}},null,null,null,null,null,null,null,{"$error":"#VALUE!"},114,null,{"$f":"IF(AP266,VLOOKUP(AP266,HOM!$AR$551:$AS$606,2))","v":3.5710000000000002}]
["H",null,null,null,null,false,null,null,null,null,null,null,null,null,"",null,null,null,"","","","","",{"$f":"IF(AND(J267>=40,J267<45),VLOOKUP(K267,Feuil2!$F$10:$P$28,9),IF(AND(J267>=45,J267<50),VLOOKUP(K267,Feuil2!$F$10:$P$28,8),IF(AND(J267>=50,J267<55),VLOOKUP(K267,Feuil2!$F$10:$P$28,7),IF(AND(J267>=55,J267<60),VLOOKUP(K267,Feuil2!$F$10:$P$28,6),IF(AND(J267>=60,J267<65),VLOOKUP(K267,Feuil2!$F$10:$P$28,5),IF(AND(J267>=65,J267<70),VLOOKUP(K267,Feuil2!$F$10:$P$28,4),IF(AND(J267>=70,J267<75),VLOOKUP(K267,Feuil2!$F$10:$P$28,3),IF(AND(J267>=75,J267<80),VLOOKUP(K267,Feuil2!$F$10:$P$28,2),VLOOKUP(K267,Feuil2!$F$10:$P$28,2)))))))))","v":{"$error":"#N/A"}},null,{"$f":"T267-HLOOKUP(X267,Feuil2!$C$1:$CD$9,2,FALSE)","v":{"$error":"#VALUE!"}},{"$f":"T267-HLOOKUP(X267,Feuil2!$C$1:$CD$9,3,FALSE)","v":{"$error":"#VALUE!"}},{"$f":"T267-HLOOKUP(X267,Feuil2!$C$1:$CD$9,4,FALSE)","v":{"$error":"#VALUE!"}},{"$f":"T267-HLOOKUP(X267,Feuil2!$C$1:$CD$9,5,FALSE)","v":{"$error":"#VALUE!"}},{"$f":"T267-HLOOKUP(X267,Feuil2!$C$1:$CD$9,6,FALSE)","v":{"$error":"#VALUE!"}},{"$f":"T267-HLOOKUP(X267,Feuil2!$C$1:$CD$9,7,FALSE)","v":{"$error":"#VALUE!"}},{"$f":"T267-HLOOKUP(X267,Feuil2!$C$1:$CD$9,8,FALSE)","v":{"$error":"#VALUE!"}},{"$f":"T267-HLOOKUP(X267,Feuil2!$C$1:$CD$9,9,FALSE)","v":{"$error":"#VALUE!"}},null,null,null,null,null,null,null,{"$error":"#VALUE!"},114,null,{"$f":"IF(AP267,VLOOKUP(AP267,HOM!$AR$551:$AS$606,2))","v":3.5710000000000002}]
["H",null,null,null,null,false,null,null,null,null,null,null,null,null,"",null,null,null,"","","","","",{"$f":"IF(AND(J268>=40,J268<45),VLOOKUP(K268,Feuil2!$F$10:$P$28,9),IF(AND(J268>=45,J268<50),VLOOKUP(K268,Feuil2!$F$10:$P$28,8),IF(AND(J268>=50,J268<55),VLOOKUP(K268,Feuil2!$F$10:$P$28,7),IF(AND(J268>=55,J268<60),VLOOKUP(K268,Feuil2!$F$10:$P$28,6),IF(AND(J268>=60,J268<65),VLOOKUP(K268,Feuil2!$F$10:$P$28,5),IF(AND(J268>=65,J268<70),VLOOKUP(K268,Feuil2!$F$10:$P$28,4),IF(AND(J268>=70,J268<75),VLOOKUP(K268,Feuil2!$F$10:$P$28,3),IF(AND(J268>=75,J268<80),VLOOKUP(K268,Feuil2!$F$10:$P$28,2),VLOOKUP(K268,Feuil2!$F$10:$P$28,2)))))))))","v":{"$error":"#N/A"}},null,{"$f":"T268-HLOOKUP(X268,Feuil2!$C$1:$CD$9,2,FALSE)","v":{"$error":"#VALUE!"}},{"$f":"T268-HLOOKUP(X268,Feuil2!$C$1:$CD$9,3,FALSE)","v":{"$error":"#VALUE!"}},{"$f":"T268-HLOOKUP(X268,Feuil2!$C$1:$CD$9,4,FALSE)","v":{"$error":"#VALUE!"}},{"$f":"T268-HLOOKUP(X268,Feuil2!$C$1:$CD$9,5,FALSE)","v":{"$error":"#VALUE!"}},{"$f":"T268-HLOOKUP(X268,Feuil2!$C$1:$CD$9,6,FALSE)","v":{"$error":"#VALUE!"}},{"$f":"T268-HLOOKUP(X268,Feuil2!$C$1:$CD$9,7,FALSE)","v":{"$error":"#VALUE!"}},{"$f":"T268-HLOOKUP(X268,Feuil2!$C$1:$CD$9,8,FALSE)","v":{"$error":"#VALUE!"}},{"$f":"T268-HLOOKUP(X268,Feuil2!$C$1:$CD$9,9,FALSE)","v":{"$error":"#VALUE!"}},null,null,null,null,null,null,null,{"$error":"#VALUE!"},114,null,{"$f":"IF(AP268,VLOOKUP(AP268,HOM!$AR$551:$AS$606,2))","v":3.5710000000000002}]
["H",null,null,null,null,false,null,null,null,null,null,null,null,null,"",null,null,null,"","","","","",{"$f":"IF(AND(J269>=40,J269<45),VLOOKUP(K269,Feuil2!$F$10:$P$28,9),IF(AND(J269>=45,J269<50),VLOOKUP(K269,Feuil2!$F$10:$P$28,8),IF(AND(J269>=50,J269<55),VLOOKUP(K269,Feuil2!$F$10:$P$28,7),IF(AND(J269>=55,J269<60),VLOOKUP(K269,Feuil2!$F$10:$P$28,6),IF(AND(J269>=60,J269<65),VLOOKUP(K269,Feuil2!$F$10:$P$28,5),IF(AND(J269>=65,J269<70),VLOOKUP(K269,Feuil2!$F$10:$P$28,4),IF(AND(J269>=70,J269<75),VLOOKUP(K269,Feuil2!$F$10:$P$28,3),IF(AND(J269>=75,J269<80),VLOOKUP(K269,Feuil2!$F$10:$P$28,2),VLOOKUP(K269,Feuil2!$F$10:$P$28,2)))))))))","v":{"$error":"#N/A"}},null,{"$f":"T269-HLOOKUP(X269,Feuil2!$C$1:$CD$9,2,FALSE)","v":{"$error":"#VALUE!"}},{"$f":"T269-HLOOKUP(X269,Feuil2!$C$1:$CD$9,3,FALSE)","v":{"$error":"#VALUE!"}},{"$f":"T269-HLOOKUP(X269,Feuil2!$C$1:$CD$9,4,FALSE)","v":{"$error":"#VALUE!"}},{"$f":"T269-HLOOKUP(X269,Feuil2!$C$1:$CD$9,5,FALSE)","v":{"$error":"#VALUE!"}},{"$f":"T269-HLOOKUP(X269,Feuil2!$C$1:$CD$9,6,FALSE)","v":{"$error":"#VALUE!"}},{"$f":"T269-HLOOKUP(X269,Feuil2!$C$1:$CD$9,7,FALSE)","v":{"$error":"#VALUE!"}},{"$f":"T269-HLOOKUP(X269,Feuil2!$C$1:$CD$9,8,FALSE)","v":{"$error":"#VALUE!"}},{"$f":"T269-HLOOKUP(X269,Feuil2!$C$1:$CD$9,9,FALSE)","v":{"$error":"#VALUE!"}},null,null,null,null,null,null,null,{"$error":"#VALUE!"},114,null,{"$f":"IF(AP269,VLOOKUP(AP269,HOM!$AR$551:$AS$606,2))","v":3.5710000000000002}]
["H",null,null,null,null,{"$f":"IF(AP270<95,IF(AP270<=90,VLOOKUP(AP270,$AP$550:$AQ$605,2)))","v":false},null,null,null,null,null,null,null,null,"",null,null,null,{"$f":"IF(K270=\"\",\"\",IF(MAXA(P270:R270)<=0,0,MAXA(P270:R270)))","v":""},{"$f":"IF(K270=\"\",\"\",IF(OR(O270=0,S270=0),0,O270+S270))","v":""},"","","",{"$f":"IF(AND(J270>=40,J270<45),VLOOKUP(K270,Feuil2!$F$10:$P$28,9),IF(AND(J270>=45,J270<50),VLOOKUP(K270,Feuil2!$F$10:$P$28,8),IF(AND(J270>=50,J270<55),VLOOKUP(K270,Feuil2!$F$10:$P$28,7),IF(AND(J270>=55,J270<60),VLOOKUP(K270,Feuil2!$F$10:$P$28,6),IF(AND(J270>=60,J270<65),VLOOKUP(K270,Feuil2!$F$10:$P$28,5),IF(AND(J270>=65,J270<70),VLOOKUP(K270,Feuil2!$F$10:$P$28,4),IF(AND(J270>=70,J270<75),VLOOKUP(K270,Feuil2!$F$10:$P$28,3),IF(AND(J270>=75,J270<80),VLOOKUP(K270,Feuil2!$F$10:$P$28,2),VLOOKUP(K270,Feuil2!$F$10:$P$28,2)))))))))","v":{"$error":"#N/A"}},null,{"$f":"T270-HLOOKUP(X270,Feuil2!$C$1:$CD$9,2,FALSE)","v":{"$error":"#VALUE!"}},{"$f":"T270-HLOOKUP(X270,Feuil2!$C$1:$CD$9,3,FALSE)","v":{"$error":"#VALUE!"}},{"$f":"T270-HLOOKUP(X270,Feuil2!$C$1:$CD$9,4,FALSE)","v":{"$error":"#VALUE!"}},{"$f":"T270-HLOOKUP(X270,Feuil2!$C$1:$CD$9,5,FALSE)","v":{"$error":"#VALUE!"}},{"$f":"T270-HLOOKUP(X270,Feuil2!$C$1:$CD$9,6,FALSE)","v":{"$error":"#VALUE!"}},{"$f":"T270-HLOOKUP(X270,Feuil2!$C$1:$CD$9,7,FALSE)","v":{"$error":"#VALUE!"}},{"$f":"T270-HLOOKUP(X270,Feuil2!$C$1:$CD$9,8,FALSE)","v":{"$error":"#VALUE!"}},{"$f":"T270-HLOOKUP(X270,Feuil2!$C$1:$CD$9,9,FALSE)","v":{"$error":"#VALUE!"}},null,null,null,null,null,null,null,{"$error":"#VALUE!"},114,null,{"$f":"IF(AP270,VLOOKUP(AP270,HOM!$AR$551:$AS$606,2))","v":3.5710000000000002}]
["H",null,null,null,null,{"$f":"IF(AP271<95,IF(AP271<=90,VLOOKUP(AP271,$AP$554:$AQ$609,2)))","v":false},null,null,null,null,null,null,null,null,"",null,null,null,"","","","","",{"$f":"IF(AND(J271>=40,J271<45),VLOOKUP(K271,Feuil2!$F$10:$P$28,9),IF(AND(J271>=45,J271<50),VLOOKUP(K271,Feuil2!$F$10:$P$28,8),IF(AND(J271>=50,J271<55),VLOOKUP(K271,Feuil2!$F$10:$P$28,7),IF(AND(J271>=55,J271<60),VLOOKUP(K271,Feuil2!$F$10:$P$28,6),IF(AND(J271>=60,J271<65),VLOOKUP(K271,Feuil2!$F$10:$P$28,5),IF(AND(J271>=65,J271<70),VLOOKUP(K271,Feuil2!$F$10:$P$28,4),IF(AND(J271>=70,J271<75),VLOOKUP(K271,Feuil2!$F$10:$P$28,3),IF(AND(J271>=75,J271<80),VLOOKUP(K271,Feuil2!$F$10:$P$28,2),VLOOKUP(K271,Feuil2!$F$10:$P$28,2)))))))))","v":{"$error":"#N/A"}},null,{"$f":"T271-HLOOKUP(X271,Feuil2!$C$1:$CD$9,2,FALSE)","v":{"$error":"#VALUE!"}},{"$f":"T271-HLOOKUP(X271,Feuil2!$C$1:$CD$9,3,FALSE)","v":{"$error":"#VALUE!"}},{"$f":"T271-HLOOKUP(X271,Feuil2!$C$1:$CD$9,4,FALSE)","v":{"$error":"#VALUE!"}},{"$f":"T271-HLOOKUP(X271,Feuil2!$C$1:$CD$9,5,FALSE)","v":{"$error":"#VALUE!"}},{"$f":"T271-HLOOKUP(X271,Feuil2!$C$1:$CD$9,6,FALSE)","v":{"$error":"#VALUE!"}},{"$f":"T271-HLOOKUP(X271,Feuil2!$C$1:$CD$9,7,FALSE)","v":{"$error":"#VALUE!"}},{"$f":"T271-HLOOKUP(X271,Feuil2!$C$1:$CD$9,8,FALSE)","v":{"$error":"#VALUE!"}},{"$f":"T271-HLOOKUP(X271,Feuil2!$C$1:$CD$9,9,FALSE)","v":{"$error":"#VALUE!"}},null,null,null,null,null,null,null,{"$error":"#VALUE!"},114,null,{"$f":"IF(AP271,VLOOKUP(AP271,HOM!$AR$551:$AS$606,2))","v":3.5710000000000002}]
["H",null,null,null,null,{"$f":"IF(AP272<95,IF(AP272<=90,VLOOKUP(AP272,$AP$554:$AQ$609,2)))","v":false},null,null,null,null,null,null,null,null,"",null,null,null,"","","","","",{"$f":"IF(AND(J272>=40,J272<45),VLOOKUP(K272,Feuil2!$F$10:$P$28,9),IF(AND(J272>=45,J272<50),VLOOKUP(K272,Feuil2!$F$10:$P$28,8),IF(AND(J272>=50,J272<55),VLOOKUP(K272,Feuil2!$F$10:$P$28,7),IF(AND(J272>=55,J272<60),VLOOKUP(K272,Feuil2!$F$10:$P$28,6),IF(AND(J272>=60,J272<65),VLOOKUP(K272,Feuil2!$F$10:$P$28,5),IF(AND(J272>=65,J272<70),VLOOKUP(K272,Feuil2!$F$10:$P$28,4),IF(AND(J272>=70,J272<75),VLOOKUP(K272,Feuil2!$F$10:$P$28,3),IF(AND(J272>=75,J272<80),VLOOKUP(K272,Feuil2!$F$10:$P$28,2),VLOOKUP(K272,Feuil2!$F$10:$P$28,2)))))))))","v":{"$error":"#N/A"}},null,{"$f":"T272-HLOOKUP(X272,Feuil2!$C$1:$CD$9,2,FALSE)","v":{"$error":"#VALUE!"}},{"$f":"T272-HLOOKUP(X272,Feuil2!$C$1:$CD$9,3,FALSE)","v":{"$error":"#VALUE!"}},{"$f":"T272-HLOOKUP(X272,Feuil2!$C$1:$CD$9,4,FALSE)","v":{"$error":"#VALUE!"}},{"$f":"T272-HLOOKUP(X272,Feuil2!$C$1:$CD$9,5,FALSE)","v":{"$error":"#VALUE!"}},{"$f":"T272-HLOOKUP(X272,Feuil2!$C$1:$CD$9,6,FALSE)","v":{"$error":"#VALUE!"}},{"$f":"T272-HLOOKUP(X272,Feuil2!$C$1:$CD$9,7,FALSE)","v":{"$error":"#VALUE!"}},{"$f":"T272-HLOOKUP(X272,Feuil2!$C$1:$CD$9,8,FALSE)","v":{"$error":"#VALUE!"}},{"$f":"T272-HLOOKUP(X272,Feuil2!$C$1:$CD$9,9,FALSE)","v":{"$error":"#VALUE!"}},null,null,null,null,null,null,null,{"$error":"#VALUE!"},114,null,{"$f":"IF(AP272,VLOOKUP(AP272,HOM!$AR$551:$AS$606,2))","v":3.5710000000000002}]
["H",null,null,null,null,{"$f":"IF(AP273<95,IF(AP273<=90,VLOOKUP(AP273,$AP$554:$AQ$609,2)))","v":false},null,null,null,null,null,null,null,null,"",null,null,null,"","","","","",{"$f":"IF(AND(J273>=40,J273<45),VLOOKUP(K273,Feuil2!$F$10:$P$28,9),IF(AND(J273>=45,J273<50),VLOOKUP(K273,Feuil2!$F$10:$P$28,8),IF(AND(J273>=50,J273<55),VLOOKUP(K273,Feuil2!$F$10:$P$28,7),IF(AND(J273>=55,J273<60),VLOOKUP(K273,Feuil2!$F$10:$P$28,6),IF(AND(J273>=60,J273<65),VLOOKUP(K273,Feuil2!$F$10:$P$28,5),IF(AND(J273>=65,J273<70),VLOOKUP(K273,Feuil2!$F$10:$P$28,4),IF(AND(J273>=70,J273<75),VLOOKUP(K273,Feuil2!$F$10:$P$28,3),IF(AND(J273>=75,J273<80),VLOOKUP(K273,Feuil2!$F$10:$P$28,2),VLOOKUP(K273,Feuil2!$F$10:$P$28,2)))))))))","v":{"$error":"#N/A"}},null,{"$f":"T273-HLOOKUP(X273,Feuil2!$C$1:$CD$9,2,FALSE)","v":{"$error":"#VALUE!"}},{"$f":"T273-HLOOKUP(X273,Feuil2!$C$1:$CD$9,3,FALSE)","v":{"$error":"#VALUE!"}},{"$f":"T273-HLOOKUP(X273,Feuil2!$C$1:$CD$9,4,FALSE)","v":{"$error":"#VALUE!"}},{"$f":"T273-HLOOKUP(X273,Feuil2!$C$1:$CD$9,5,FALSE)","v":{"$error":"#VALUE!"}},{"$f":"T273-HLOOKUP(X273,Feuil2!$C$1:$CD$9,6,FALSE)","v":{"$error":"#VALUE!"}},{"$f":"T273-HLOOKUP(X273,Feuil2!$C$1:$CD$9,7,FALSE)","v":{"$error":"#VALUE!"}},{"$f":"T273-HLOOKUP(X273,Feuil2!$C$1:$CD$9,8,FALSE)","v":{"$error":"#VALUE!"}},{"$f":"T273-HLOOKUP(X273,Feuil2!$C$1:$CD$9,9,FALSE)","v":{"$error":"#VALUE!"}},null,null,null,null,null,null,null,{"$error":"#VALUE!"},114,null,{"$f":"IF(AP273,VLOOKUP(AP273,HOM!$AR$551:$AS$606,2))","v":3.5710000000000002}]
["H",null,null,null,null,{"$f":"IF(AP274<95,IF(AP274<=90,VLOOKUP(AP274,$AP$550:$AQ$605,2)))","v":false},null,null,null,null,null,null,null,null,"",null,null,null,"","","","","",{"$f":"IF(AND(J274>=40,J274<45),VLOOKUP(K274,Feuil2!$F$10:$P$28,9),IF(AND(J274>=45,J274<50),VLOOKUP(K274,Feuil2!$F$10:$P$28,8),IF(AND(J274>=50,J274<55),VLOOKUP(K274,Feuil2!$F$10:$P$28,7),IF(AND(J274>=55,J274<60),VLOOKUP(K274,Feuil2!$F$10:$P$28,6),IF(AND(J274>=60,J274<65),VLOOKUP(K274,Feuil2!$F$10:$P$28,5),IF(AND(J274>=65,J274<70),VLOOKUP(K274,Feuil2!$F$10:$P$28,4),IF(AND(J274>=70,J274<75),VLOOKUP(K274,Feuil2!$F$10:$P$28,3),IF(AND(J274>=75,J274<80),VLOOKUP(K274,Feuil2!$F$10:$P$28,2),VLOOKUP(K274,Feuil2!$F$10:$P$28,2)))))))))","v":{"$error":"#N/A"}},null,{"$f":"T274-HLOOKUP(X274,Feuil2!$C$1:$CD$9,2,FALSE)","v":{"$error":"#VALUE!"}},{"$f":"T274-HLOOKUP(X274,Feuil2!$C$1:$CD$9,3,FALSE)","v":{"$error":"#VALUE!"}},{"$f":"T274-HLOOKUP(X274,Feuil2!$C$1:$CD$9,4,FALSE)","v":{"$error":"#VALUE!"}},{"$f":"T274-HLOOKUP(X274,Feuil2!$C$1:$CD$9,5,FALSE)","v":{"$error":"#VALUE!"}},{"$f":"T274-HLOOKUP(X274,Feuil2!$C$1:$CD$9,6,FALSE)","v":{"$error":"#VALUE!"}},{"$f":"T274-HLOOKUP(X274,Feuil2!$C$1:$CD$9,7,FALSE)","v":{"$error":"#VALUE!"}},{"$f":"T274-HLOOKUP(X274,Feuil2!$C$1:$CD$9,8,FALSE)","v":{"$error":"#VALUE!"}},{"$f":"T274-HLOOKUP(X274,Feuil2!$C$1:$CD$9,9,FALSE)","v":{"$error":"#VALUE!"}},null,null,null,null,null,null,null,{"$error":"#VALUE!"},114,null,{"$f":"IF(AP274,VLOOKUP(AP274,HOM!$AR$551:$AS$606,2))","v":3.5710000000000002}]
["H",null,null,null,null,{"$f":"IF(AP275<95,IF(AP275<=90,VLOOKUP(AP275,$AP$554:$AQ$609,2)))","v":false},null,null,null,null,null,null,null,null,"",null,null,null,"","","","","",{"$f":"IF(AND(J275>=40,J275<45),VLOOKUP(K275,Feuil2!$F$10:$P$28,9),IF(AND(J275>=45,J275<50),VLOOKUP(K275,Feuil2!$F$10:$P$28,8),IF(AND(J275>=50,J275<55),VLOOKUP(K275,Feuil2!$F$10:$P$28,7),IF(AND(J275>=55,J275<60),VLOOKUP(K275,Feuil2!$F$10:$P$28,6),IF(AND(J275>=60,J275<65),VLOOKUP(K275,Feuil2!$F$10:$P$28,5),IF(AND(J275>=65,J275<70),VLOOKUP(K275,Feuil2!$F$10:$P$28,4),IF(AND(J275>=70,J275<75),VLOOKUP(K275,Feuil2!$F$10:$P$28,3),IF(AND(J275>=75,J275<80),VLOOKUP(K275,Feuil2!$F$10:$P$28,2),VLOOKUP(K275,Feuil2!$F$10:$P$28,2)))))))))","v":{"$error":"#N/A"}},null,{"$f":"T275-HLOOKUP(X275,Feuil2!$C$1:$CD$9,2,FALSE)","v":{"$error":"#VALUE!"}},{"$f":"T275-HLOOKUP(X275,Feuil2!$C$1:$CD$9,3,FALSE)","v":{"$error":"#VALUE!"}},{"$f":"T275-HLOOKUP(X275,Feuil2!$C$1:$CD$9,4,FALSE)","v":{"$error":"#VALUE!"}},{"$f":"T275-HLOOKUP(X275,Feuil2!$C$1:$CD$9,5,FALSE)","v":{"$error":"#VALUE!"}},{"$f":"T275-HLOOKUP(X275,Feuil2!$C$1:$CD$9,6,FALSE)","v":{"$error":"#VALUE!"}},{"$f":"T275-HLOOKUP(X275,Feuil2!$C$1:$CD$9,7,FALSE)","v":{"$error":"#VALUE!"}},{"$f":"T275-HLOOKUP(X275,Feuil2!$C$1:$CD$9,8,FALSE)","v":{"$error":"#VALUE!"}},{"$f":"T275-HLOOKUP(X275,Feuil2!$C$1:$CD$9,9,FALSE)","v":{"$error":"#VALUE!"}},null,null,null,null,null,null,null,{"$error":"#VALUE!"},114,null,{"$f":"IF(AP275,VLOOKUP(AP275,HOM!$AR$551:$AS$606,2))","v":3.5710000000000002}]
["H",null,null,null,null,{"$f":"IF(AP276<95,IF(AP276<=90,VLOOKUP(AP276,$AP$554:$AQ$609,2)))","v":false},null,null,null,null,null,null,null,null,"",null,null,null,"","","","","",{"$f":"IF(AND(J276>=40,J276<45),VLOOKUP(K276,Feuil2!$F$10:$P$28,9),IF(AND(J276>=45,J276<50),VLOOKUP(K276,Feuil2!$F$10:$P$28,8),IF(AND(J276>=50,J276<55),VLOOKUP(K276,Feuil2!$F$10:$P$28,7),IF(AND(J276>=55,J276<60),VLOOKUP(K276,Feuil2!$F$10:$P$28,6),IF(AND(J276>=60,J276<65),VLOOKUP(K276,Feuil2!$F$10:$P$28,5),IF(AND(J276>=65,J276<70),VLOOKUP(K276,Feuil2!$F$10:$P$28,4),IF(AND(J276>=70,J276<75),VLOOKUP(K276,Feuil2!$F$10:$P$28,3),IF(AND(J276>=75,J276<80),VLOOKUP(K276,Feuil2!$F$10:$P$28,2),VLOOKUP(K276,Feuil2!$F$10:$P$28,2)))))))))","v":{"$error":"#N/A"}},null,{"$f":"T276-HLOOKUP(X276,Feuil2!$C$1:$CD$9,2,FALSE)","v":{"$error":"#VALUE!"}},{"$f":"T276-HLOOKUP(X276,Feuil2!$C$1:$CD$9,3,FALSE)","v":{"$error":"#VALUE!"}},{"$f":"T276-HLOOKUP(X276,Feuil2!$C$1:$CD$9,4,FALSE)","v":{"$error":"#VALUE!"}},{"$f":"T276-HLOOKUP(X276,Feuil2!$C$1:$CD$9,5,FALSE)","v":{"$error":"#VALUE!"}},{"$f":"T276-HLOOKUP(X276,Feuil2!$C$1:$CD$9,6,FALSE)","v":{"$error":"#VALUE!"}},{"$f":"T276-HLOOKUP(X276,Feuil2!$C$1:$CD$9,7,FALSE)","v":{"$error":"#VALUE!"}},{"$f":"T276-HLOOKUP(X276,Feuil2!$C$1:$CD$9,8,FALSE)","v":{"$error":"#VALUE!"}},{"$f":"T276-HLOOKUP(X276,Feuil2!$C$1:$CD$9,9,FALSE)","v":{"$error":"#VALUE!"}},null,null,null,null,null,null,null,{"$error":"#VALUE!"},114,null,{"$f":"IF(AP276,VLOOKUP(AP276,HOM!$AR$551:$AS$606,2))","v":3.5710000000000002}]
["H",null,null,null,null,{"$f":"IF(AP277<95,IF(AP277<=90,VLOOKUP(AP277,$AP$554:$AQ$609,2)))","v":false},null,null,null,null,null,null,null,null,"",null,null,null,"","","","","",{"$f":"IF(AND(J277>=40,J277<45),VLOOKUP(K277,Feuil2!$F$10:$P$28,9),IF(AND(J277>=45,J277<50),VLOOKUP(K277,Feuil2!$F$10:$P$28,8),IF(AND(J277>=50,J277<55),VLOOKUP(K277,Feuil2!$F$10:$P$28,7),IF(AND(J277>=55,J277<60),VLOOKUP(K277,Feuil2!$F$10:$P$28,6),IF(AND(J277>=60,J277<65),VLOOKUP(K277,Feuil2!$F$10:$P$28,5),IF(AND(J277>=65,J277<70),VLOOKUP(K277,Feuil2!$F$10:$P$28,4),IF(AND(J277>=70,J277<75),VLOOKUP(K277,Feuil2!$F$10:$P$28,3),IF(AND(J277>=75,J277<80),VLOOKUP(K277,Feuil2!$F$10:$P$28,2),VLOOKUP(K277,Feuil2!$F$10:$P$28,2)))))))))","v":{"$error":"#N/A"}},null,{"$f":"T277-HLOOKUP(X277,Feuil2!$C$1:$CD$9,2,FALSE)","v":{"$error":"#VALUE!"}},{"$f":"T277-HLOOKUP(X277,Feuil2!$C$1:$CD$9,3,FALSE)","v":{"$error":"#VALUE!"}},{"$f":"T277-HLOOKUP(X277,Feuil2!$C$1:$CD$9,4,FALSE)","v":{"$error":"#VALUE!"}},{"$f":"T277-HLOOKUP(X277,Feuil2!$C$1:$CD$9,5,FALSE)","v":{"$error":"#VALUE!"}},{"$f":"T277-HLOOKUP(X277,Feuil2!$C$1:$CD$9,6,FALSE)","v":{"$error":"#VALUE!"}},{"$f":"T277-HLOOKUP(X277,Feuil2!$C$1:$CD$9,7,FALSE)","v":{"$error":"#VALUE!"}},{"$f":"T277-HLOOKUP(X277,Feuil2!$C$1:$CD$9,8,FALSE)","v":{"$error":"#VALUE!"}},{"$f":"T277-HLOOKUP(X277,Feuil2!$C$1:$CD$9,9,FALSE)","v":{"$error":"#VALUE!"}},null,null,null,null,null,null,null,{"$error":"#VALUE!"},114,null,{"$f":"IF(AP277,VLOOKUP(AP277,HOM!$AR$551:$AS$606,2))","v":3.5710000000000002}]
["H",null,null,null,null,{"$f":"IF(AP278<95,IF(AP278<=90,VLOOKUP(AP278,$AP$554:$AQ$609,2)))","v":false},null,null,null,null,null,null,null,null,"",null,null,null,"","","","","",{"$f":"IF(AND(J278>=40,J278<45),VLOOKUP(K278,Feuil2!$F$10:$P$28,9),IF(AND(J278>=45,J278<50),VLOOKUP(K278,Feuil2!$F$10:$P$28,8),IF(AND(J278>=50,J278<55),VLOOKUP(K278,Feuil2!$F$10:$P$28,7),IF(AND(J278>=55,J278<60),VLOOKUP(K278,Feuil2!$F$10:$P$28,6),IF(AND(J278>=60,J278<65),VLOOKUP(K278,Feuil2!$F$10:$P$28,5),IF(AND(J278>=65,J278<70),VLOOKUP(K278,Feuil2!$F$10:$P$28,4),IF(AND(J278>=70,J278<75),VLOOKUP(K278,Feuil2!$F$10:$P$28,3),IF(AND(J278>=75,J278<80),VLOOKUP(K278,Feuil2!$F$10:$P$28,2),VLOOKUP(K278,Feuil2!$F$10:$P$28,2)))))))))","v":{"$error":"#N/A"}},null,{"$f":"T278-HLOOKUP(X278,Feuil2!$C$1:$CD$9,2,FALSE)","v":{"$error":"#VALUE!"}},{"$f":"T278-HLOOKUP(X278,Feuil2!$C$1:$CD$9,3,FALSE)","v":{"$error":"#VALUE!"}},{"$f":"T278-HLOOKUP(X278,Feuil2!$C$1:$CD$9,4,FALSE)","v":{"$error":"#VALUE!"}},{"$f":"T278-HLOOKUP(X278,Feuil2!$C$1:$CD$9,5,FALSE)","v":{"$error":"#VALUE!"}},{"$f":"T278-HLOOKUP(X278,Feuil2!$C$1:$CD$9,6,FALSE)","v":{"$error":"#VALUE!"}},{"$f":"T278-HLOOKUP(X278,Feuil2!$C$1:$CD$9,7,FALSE)","v":{"$error":"#VALUE!"}},{"$f":"T278-HLOOKUP(X278,Feuil2!$C$1:$CD$9,8,FALSE)","v":{"$error":"#VALUE!"}},{"$f":"T278-HLOOKUP(X278,Feuil2!$C$1:$CD$9,9,FALSE)","v":{"$error":"#VALUE!"}},null,null,null,null,null,null,null,{"$error":"#VALUE!"},114,null,{"$f":"IF(AP278,VLOOKUP(AP278,HOM!$AR$551:$AS$606,2))","v":3.5710000000000002}]
["H",null,null,null,null,{"$f":"IF(AP279<95,IF(AP279<=90,VLOOKUP(AP279,$AP$554:$AQ$609,2)))","v":false},null,null,null,null,null,null,null,null,"",null,null,null,"","","","","",{"$f":"IF(AND(J279>=40,J279<45),VLOOKUP(K279,Feuil2!$F$10:$P$28,9),IF(AND(J279>=45,J279<50),VLOOKUP(K279,Feuil2!$F$10:$P$28,8),IF(AND(J279>=50,J279<55),VLOOKUP(K279,Feuil2!$F$10:$P$28,7),IF(AND(J279>=55,J279<60),VLOOKUP(K279,Feuil2!$F$10:$P$28,6),IF(AND(J279>=60,J279<65),VLOOKUP(K279,Feuil2!$F$10:$P$28,5),IF(AND(J279>=65,J279<70),VLOOKUP(K279,Feuil2!$F$10:$P$28,4),IF(AND(J279>=70,J279<75),VLOOKUP(K279,Feuil2!$F$10:$P$28,3),IF(AND(J279>=75,J279<80),VLOOKUP(K279,Feuil2!$F$10:$P$28,2),VLOOKUP(K279,Feuil2!$F$10:$P$28,2)))))))))","v":{"$error":"#N/A"}},null,{"$f":"T279-HLOOKUP(X279,Feuil2!$C$1:$CD$9,2,FALSE)","v":{"$error":"#VALUE!"}},{"$f":"T279-HLOOKUP(X279,Feuil2!$C$1:$CD$9,3,FALSE)","v":{"$error":"#VALUE!"}},{"$f":"T279-HLOOKUP(X279,Feuil2!$C$1:$CD$9,4,FALSE)","v":{"$error":"#VALUE!"}},{"$f":"T279-HLOOKUP(X279,Feuil2!$C$1:$CD$9,5,FALSE)","v":{"$error":"#VALUE!"}},{"$f":"T279-HLOOKUP(X279,Feuil2!$C$1:$CD$9,6,FALSE)","v":{"$error":"#VALUE!"}},{"$f":"T279-HLOOKUP(X279,Feuil2!$C$1:$CD$9,7,FALSE)","v":{"$error":"#VALUE!"}},{"$f":"T279-HLOOKUP(X279,Feuil2!$C$1:$CD$9,8,FALSE)","v":{"$error":"#VALUE!"}},{"$f":"T279-HLOOKUP(X279,Feuil2!$C$1:$CD$9,9,FALSE)","v":{"$error":"#VALUE!"}},null,null,null,null,null,null,null,{"$error":"#VALUE!"},114,null,{"$f":"IF(AP279,VLOOKUP(AP279,HOM!$AR$551:$AS$606,2))","v":3.5710000000000002}]
["H",null,null,null,null,{"$f":"IF(AP280<95,IF(AP280<=90,VLOOKUP(AP280,$AP$550:$AQ$605,2)))","v":false},null,null,null,null,null,null,null,null,"",null,null,null,"","","","","",{"$f":"IF(AND(J280>=40,J280<45),VLOOKUP(K280,Feuil2!$F$10:$P$28,9),IF(AND(J280>=45,J280<50),VLOOKUP(K280,Feuil2!$F$10:$P$28,8),IF(AND(J280>=50,J280<55),VLOOKUP(K280,Feuil2!$F$10:$P$28,7),IF(AND(J280>=55,J280<60),VLOOKUP(K280,Feuil2!$F$10:$P$28,6),IF(AND(J280>=60,J280<65),VLOOKUP(K280,Feuil2!$F$10:$P$28,5),IF(AND(J280>=65,J280<70),VLOOKUP(K280,Feuil2!$F$10:$P$28,4),IF(AND(J280>=70,J280<75),VLOOKUP(K280,Feuil2!$F$10:$P$28,3),IF(AND(J280>=75,J280<80),VLOOKUP(K280,Feuil2!$F$10:$P$28,2),VLOOKUP(K280,Feuil2!$F$10:$P$28,2)))))))))","v":{"$error":"#N/A"}},null,{"$f":"T280-HLOOKUP(X280,Feuil2!$C$1:$CD$9,2,FALSE)","v":{"$error":"#VALUE!"}},{"$f":"T280-HLOOKUP(X280,Feuil2!$C$1:$CD$9,3,FALSE)","v":{"$error":"#VALUE!"}},{"$f":"T280-HLOOKUP(X280,Feuil2!$C$1:$CD$9,4,FALSE)","v":{"$error":"#VALUE!"}},{"$f":"T280-HLOOKUP(X280,Feuil2!$C$1:$CD$9,5,FALSE)","v":{"$error":"#VALUE!"}},{"$f":"T280-HLOOKUP(X280,Feuil2!$C$1:$CD$9,6,FALSE)","v":{"$error":"#VALUE!"}},{"$f":"T280-HLOOKUP(X280,Feuil2!$C$1:$CD$9,7,FALSE)","v":{"$error":"#VALUE!"}},{"$f":"T280-HLOOKUP(X280,Feuil2!$C$1:$CD$9,8,FALSE)","v":{"$error":"#VALUE!"}},{"$f":"T280-HLOOKUP(X280,Feuil2!$C$1:$CD$9,9,FALSE)","v":{"$error":"#VALUE!"}},null,null,null,null,null,null,null,{"$error":"#VALUE!"},114,null,{"$f":"IF(AP280,VLOOKUP(AP280,HOM!$AR$551:$AS$606,2))","v":3.5710000000000002}]
["H",null,null,null,null,{"$f":"IF(AP281<95,IF(AP281<=90,VLOOKUP(AP281,$AP$550:$AQ$605,2)))","v":false},null,null,null,null,null,null,null,null,"",null,null,null,"","","","","",{"$f":"IF(AND(J281>=40,J281<45),VLOOKUP(K281,Feuil2!$F$10:$P$28,9),IF(AND(J281>=45,J281<50),VLOOKUP(K281,Feuil2!$F$10:$P$28,8),IF(AND(J281>=50,J281<55),VLOOKUP(K281,Feuil2!$F$10:$P$28,7),IF(AND(J281>=55,J281<60),VLOOKUP(K281,Feuil2!$F$10:$P$28,6),IF(AND(J281>=60,J281<65),VLOOKUP(K281,Feuil2!$F$10:$P$28,5),IF(AND(J281>=65,J281<70),VLOOKUP(K281,Feuil2!$F$10:$P$28,4),IF(AND(J281>=70,J281<75),VLOOKUP(K281,Feuil2!$F$10:$P$28,3),IF(AND(J281>=75,J281<80),VLOOKUP(K281,Feuil2!$F$10:$P$28,2),VLOOKUP(K281,Feuil2!$F$10:$P$28,2)))))))))","v":{"$error":"#N/A"}},null,{"$f":"T281-HLOOKUP(X281,Feuil2!$C$1:$CD$9,2,FALSE)","v":{"$error":"#VALUE!"}},{"$f":"T281-HLOOKUP(X281,Feuil2!$C$1:$CD$9,3,FALSE)","v":{"$error":"#VALUE!"}},{"$f":"T281-HLOOKUP(X281,Feuil2!$C$1:$CD$9,4,FALSE)","v":{"$error":"#VALUE!"}},{"$f":"T281-HLOOKUP(X281,Feuil2!$C$1:$CD$9,5,FALSE)","v":{"$error":"#VALUE!"}},{"$f":"T281-HLOOKUP(X281,Feuil2!$C$1:$CD$9,6,FALSE)","v":{"$error":"#VALUE!"}},{"$f":"T281-HLOOKUP(X281,Feuil2!$C$1:$CD$9,7,FALSE)","v":{"$error":"#VALUE!"}},{"$f":"T281-HLOOKUP(X281,Feuil2!$C$1:$CD$9,8,FALSE)","v":{"$error":"#VALUE!"}},{"$f":"T281-HLOOKUP(X281,Feuil2!$C$1:$CD$9,9,FALSE)","v":{"$error":"#VALUE!"}},null,null,null,null,null,null,null,{"$error":"#VALUE!"},114,null,{"$f":"IF(AP281,VLOOKUP(AP281,HOM!$AR$551:$AS$606,2))","v":3.5710000000000002}]
["H",null,null,null,null,{"$f":"IF(AP282<95,IF(AP282<=90,VLOOKUP(AP282,$AP$554:$AQ$609,2)))","v":false},null,null,null,null,null,null,null,null,"",null,null,null,"","","","","",{"$f":"IF(AND(J282>=40,J282<45),VLOOKUP(K282,Feuil2!$F$10:$P$28,9),IF(AND(J282>=45,J282<50),VLOOKUP(K282,Feuil2!$F$10:$P$28,8),IF(AND(J282>=50,J282<55),VLOOKUP(K282,Feuil2!$F$10:$P$28,7),IF(AND(J282>=55,J282<60),VLOOKUP(K282,Feuil2!$F$10:$P$28,6),IF(AND(J282>=60,J282<65),VLOOKUP(K282,Feuil2!$F$10:$P$28,5),IF(AND(J282>=65,J282<70),VLOOKUP(K282,Feuil2!$F$10:$P$28,4),IF(AND(J282>=70,J282<75),VLOOKUP(K282,Feuil2!$F$10:$P$28,3),IF(AND(J282>=75,J282<80),VLOOKUP(K282,Feuil2!$F$10:$P$28,2),VLOOKUP(K282,Feuil2!$F$10:$P$28,2)))))))))","v":{"$error":"#N/A"}},null,{"$f":"T282-HLOOKUP(X282,Feuil2!$C$1:$CD$9,2,FALSE)","v":{"$error":"#VALUE!"}},{"$f":"T282-HLOOKUP(X282,Feuil2!$C$1:$CD$9,3,FALSE)","v":{"$error":"#VALUE!"}},{"$f":"T282-HLOOKUP(X282,Feuil2!$C$1:$CD$9,4,FALSE)","v":{"$error":"#VALUE!"}},{"$f":"T282-HLOOKUP(X282,Feuil2!$C$1:$CD$9,5,FALSE)","v":{"$error":"#VALUE!"}},{"$f":"T282-HLOOKUP(X282,Feuil2!$C$1:$CD$9,6,FALSE)","v":{"$error":"#VALUE!"}},{"$f":"T282-HLOOKUP(X282,Feuil2!$C$1:$CD$9,7,FALSE)","v":{"$error":"#VALUE!"}},{"$f":"T282-HLOOKUP(X282,Feuil2!$C$1:$CD$9,8,FALSE)","v":{"$error":"#VALUE!"}},{"$f":"T282-HLOOKUP(X282,Feuil2!$C$1:$CD$9,9,FALSE)","v":{"$error":"#VALUE!"}},null,null,null,null,null,null,null,{"$error":"#VALUE!"},114,null,{"$f":"IF(AP282,VLOOKUP(AP282,HOM!$AR$551:$AS$606,2))","v":3.5710000000000002}]
["H",null,null,null,null,{"$f":"IF(AP283<95,IF(AP283<=90,VLOOKUP(AP283,$AP$554:$AQ$609,2)))","v":false},null,null,null,null,null,null,null,null,"",null,null,null,"","","","","",{"$f":"IF(AND(J283>=40,J283<45),VLOOKUP(K283,Feuil2!$F$10:$P$28,9),IF(AND(J283>=45,J283<50),VLOOKUP(K283,Feuil2!$F$10:$P$28,8),IF(AND(J283>=50,J283<55),VLOOKUP(K283,Feuil2!$F$10:$P$28,7),IF(AND(J283>=55,J283<60),VLOOKUP(K283,Feuil2!$F$10:$P$28,6),IF(AND(J283>=60,J283<65),VLOOKUP(K283,Feuil2!$F$10:$P$28,5),IF(AND(J283>=65,J283<70),VLOOKUP(K283,Feuil2!$F$10:$P$28,4),IF(AND(J283>=70,J283<75),VLOOKUP(K283,Feuil2!$F$10:$P$28,3),IF(AND(J283>=75,J283<80),VLOOKUP(K283,Feuil2!$F$10:$P$28,2),VLOOKUP(K283,Feuil2!$F$10:$P$28,2)))))))))","v":{"$error":"#N/A"}},null,{"$f":"T283-HLOOKUP(X283,Feuil2!$C$1:$CD$9,2,FALSE)","v":{"$error":"#VALUE!"}},{"$f":"T283-HLOOKUP(X283,Feuil2!$C$1:$CD$9,3,FALSE)","v":{"$error":"#VALUE!"}},{"$f":"T283-HLOOKUP(X283,Feuil2!$C$1:$CD$9,4,FALSE)","v":{"$error":"#VALUE!"}},{"$f":"T283-HLOOKUP(X283,Feuil2!$C$1:$CD$9,5,FALSE)","v":{"$error":"#VALUE!"}},{"$f":"T283-HLOOKUP(X283,Feuil2!$C$1:$CD$9,6,FALSE)","v":{"$error":"#VALUE!"}},{"$f":"T283-HLOOKUP(X283,Feuil2!$C$1:$CD$9,7,FALSE)","v":{"$error":"#VALUE!"}},{"$f":"T283-HLOOKUP(X283,Feuil2!$C$1:$CD$9,8,FALSE)","v":{"$error":"#VALUE!"}},{"$f":"T283-HLOOKUP(X283,Feuil2!$C$1:$CD$9,9,FALSE)","v":{"$error":"#VALUE!"}},null,null,null,null,null,null,null,{"$error":"#VALUE!"},114,null,{"$f":"IF(AP283,VLOOKUP(AP283,HOM!$AR$551:$AS$606,2))","v":3.5710000000000002}]
["H",null,null,null,null,{"$f":"IF(AP284<95,IF(AP284<=90,VLOOKUP(AP284,$AP$550:$AQ$605,2)))","v":false},null,null,null,null,null,null,null,null,"",null,null,null,"","","","","",{"$f":"IF(AND(J284>=40,J284<45),VLOOKUP(K284,Feuil2!$F$10:$P$28,9),IF(AND(J284>=45,J284<50),VLOOKUP(K284,Feuil2!$F$10:$P$28,8),IF(AND(J284>=50,J284<55),VLOOKUP(K284,Feuil2!$F$10:$P$28,7),IF(AND(J284>=55,J284<60),VLOOKUP(K284,Feuil2!$F$10:$P$28,6),IF(AND(J284>=60,J284<65),VLOOKUP(K284,Feuil2!$F$10:$P$28,5),IF(AND(J284>=65,J284<70),VLOOKUP(K284,Feuil2!$F$10:$P$28,4),IF(AND(J284>=70,J284<75),VLOOKUP(K284,Feuil2!$F$10:$P$28,3),IF(AND(J284>=75,J284<80),VLOOKUP(K284,Feuil2!$F$10:$P$28,2),VLOOKUP(K284,Feuil2!$F$10:$P$28,2)))))))))","v":{"$error":"#N/A"}},null,{"$f":"T284-HLOOKUP(X284,Feuil2!$C$1:$CD$9,2,FALSE)","v":{"$error":"#VALUE!"}},{"$f":"T284-HLOOKUP(X284,Feuil2!$C$1:$CD$9,3,FALSE)","v":{"$error":"#VALUE!"}},{"$f":"T284-HLOOKUP(X284,Feuil2!$C$1:$CD$9,4,FALSE)","v":{"$error":"#VALUE!"}},{"$f":"T284-HLOOKUP(X284,Feuil2!$C$1:$CD$9,5,FALSE)","v":{"$error":"#VALUE!"}},{"$f":"T284-HLOOKUP(X284,Feuil2!$C$1:$CD$9,6,FALSE)","v":{"$error":"#VALUE!"}},{"$f":"T284-HLOOKUP(X284,Feuil2!$C$1:$CD$9,7,FALSE)","v":{"$error":"#VALUE!"}},{"$f":"T284-HLOOKUP(X284,Feuil2!$C$1:$CD$9,8,FALSE)","v":{"$error":"#VALUE!"}},{"$f":"T284-HLOOKUP(X284,Feuil2!$C$1:$CD$9,9,FALSE)","v":{"$error":"#VALUE!"}},null,null,null,null,null,null,null,{"$error":"#VALUE!"},114,null,{"$f":"IF(AP284,VLOOKUP(AP284,HOM!$AR$551:$AS$606,2))","v":3.5710000000000002}]
["H",null,null,null,null,{"$f":"IF(AP285<95,IF(AP285<=90,VLOOKUP(AP285,$AP$554:$AQ$609,2)))","v":false},null,null,null,null,null,null,null,null,"",null,null,null,"","","","","",{"$f":"IF(AND(J285>=40,J285<45),VLOOKUP(K285,Feuil2!$F$10:$P$28,9),IF(AND(J285>=45,J285<50),VLOOKUP(K285,Feuil2!$F$10:$P$28,8),IF(AND(J285>=50,J285<55),VLOOKUP(K285,Feuil2!$F$10:$P$28,7),IF(AND(J285>=55,J285<60),VLOOKUP(K285,Feuil2!$F$10:$P$28,6),IF(AND(J285>=60,J285<65),VLOOKUP(K285,Feuil2!$F$10:$P$28,5),IF(AND(J285>=65,J285<70),VLOOKUP(K285,Feuil2!$F$10:$P$28,4),IF(AND(J285>=70,J285<75),VLOOKUP(K285,Feuil2!$F$10:$P$28,3),IF(AND(J285>=75,J285<80),VLOOKUP(K285,Feuil2!$F$10:$P$28,2),VLOOKUP(K285,Feuil2!$F$10:$P$28,2)))))))))","v":{"$error":"#N/A"}},null,{"$f":"T285-HLOOKUP(X285,Feuil2!$C$1:$CD$9,2,FALSE)","v":{"$error":"#VALUE!"}},{"$f":"T285-HLOOKUP(X285,Feuil2!$C$1:$CD$9,3,FALSE)","v":{"$error":"#VALUE!"}},{"$f":"T285-HLOOKUP(X285,Feuil2!$C$1:$CD$9,4,FALSE)","v":{"$error":"#VALUE!"}},{"$f":"T285-HLOOKUP(X285,Feuil2!$C$1:$CD$9,5,FALSE)","v":{"$error":"#VALUE!"}},{"$f":"T285-HLOOKUP(X285,Feuil2!$C$1:$CD$9,6,FALSE)","v":{"$error":"#VALUE!"}},{"$f":"T285-HLOOKUP(X285,Feuil2!$C$1:$CD$9,7,FALSE)","v":{"$error":"#VALUE!"}},{"$f":"T285-HLOOKUP(X285,Feuil2!$C$1:$CD$9,8,FALSE)","v":{"$error":"#VALUE!"}},{"$f":"T285-HLOOKUP(X285,Feuil2!$C$1:$CD$9,9,FALSE)","v":{"$error":"#VALUE!"}},null,null,null,null,null,null,null,{"$error":"#VALUE!"},114,null,{"$f":"IF(AP285,VLOOKUP(AP285,HOM!$AR$551:$AS$606,2))","v":3.5710000000000002}]
["H",null,null,null,null,false,null,null,null,null,null,null,null,null,{"$f":"IF(K286=\"\",\"\",IF(MAXA(L286:N286)<=0,0,MAXA(L286:N286)))","v":""},null,null,null,"","","","","",{"$f":"IF(AND(J286>=40,J286<45),VLOOKUP(K286,Feuil2!$F$10:$P$28,9),IF(AND(J286>=45,J286<50),VLOOKUP(K286,Feuil2!$F$10:$P$28,8),IF(AND(J286>=50,J286<55),VLOOKUP(K286,Feuil2!$F$10:$P$28,7),IF(AND(J286>=55,J286<60),VLOOKUP(K286,Feuil2!$F$10:$P$28,6),IF(AND(J286>=60,J286<65),VLOOKUP(K286,Feuil2!$F$10:$P$28,5),IF(AND(J286>=65,J286<70),VLOOKUP(K286,Feuil2!$F$10:$P$28,4),IF(AND(J286>=70,J286<75),VLOOKUP(K286,Feuil2!$F$10:$P$28,3),IF(AND(J286>=75,J286<80),VLOOKUP(K286,Feuil2!$F$10:$P$28,2),VLOOKUP(K286,Feuil2!$F$10:$P$28,2)))))))))","v":{"$error":"#N/A"}},null,{"$f":"T286-HLOOKUP(X286,Feuil2!$C$1:$CD$9,2,FALSE)","v":{"$error":"#VALUE!"}},{"$f":"T286-HLOOKUP(X286,Feuil2!$C$1:$CD$9,3,FALSE)","v":{"$error":"#VALUE!"}},{"$f":"T286-HLOOKUP(X286,Feuil2!$C$1:$CD$9,4,FALSE)","v":{"$error":"#VALUE!"}},{"$f":"T286-HLOOKUP(X286,Feuil2!$C$1:$CD$9,5,FALSE)","v":{"$error":"#VALUE!"}},{"$f":"T286-HLOOKUP(X286,Feuil2!$C$1:$CD$9,6,FALSE)","v":{"$error":"#VALUE!"}},{"$f":"T286-HLOOKUP(X286,Feuil2!$C$1:$CD$9,7,FALSE)","v":{"$error":"#VALUE!"}},{"$f":"T286-HLOOKUP(X286,Feuil2!$C$1:$CD$9,8,FALSE)","v":{"$error":"#VALUE!"}},{"$f":"T286-HLOOKUP(X286,Feuil2!$C$1:$CD$9,9,FALSE)","v":{"$error":"#VALUE!"}},null,null,null,null,null,null,null,{"$error":"#VALUE!"},114,null,{"$f":"IF(AP286,VLOOKUP(AP286,HOM!$AR$551:$AS$606,2))","v":3.5710000000000002}]
["H",null,null,null,null,false,null,null,null,null,null,null,null,null,null,null,null,null,"","","","","",{"$f":"IF(AND(J287>=40,J287<45),VLOOKUP(K287,Feuil2!$F$10:$P$28,9),IF(AND(J287>=45,J287<50),VLOOKUP(K287,Feuil2!$F$10:$P$28,8),IF(AND(J287>=50,J287<55),VLOOKUP(K287,Feuil2!$F$10:$P$28,7),IF(AND(J287>=55,J287<60),VLOOKUP(K287,Feuil2!$F$10:$P$28,6),IF(AND(J287>=60,J287<65),VLOOKUP(K287,Feuil2!$F$10:$P$28,5),IF(AND(J287>=65,J287<70),VLOOKUP(K287,Feuil2!$F$10:$P$28,4),IF(AND(J287>=70,J287<75),VLOOKUP(K287,Feuil2!$F$10:$P$28,3),IF(AND(J287>=75,J287<80),VLOOKUP(K287,Feuil2!$F$10:$P$28,2),VLOOKUP(K287,Feuil2!$F$10:$P$28,2)))))))))","v":{"$error":"#N/A"}},null,{"$f":"T287-HLOOKUP(X287,Feuil2!$C$1:$CD$9,2,FALSE)","v":{"$error":"#VALUE!"}},{"$f":"T287-HLOOKUP(X287,Feuil2!$C$1:$CD$9,3,FALSE)","v":{"$error":"#VALUE!"}},{"$f":"T287-HLOOKUP(X287,Feuil2!$C$1:$CD$9,4,FALSE)","v":{"$error":"#VALUE!"}},{"$f":"T287-HLOOKUP(X287,Feuil2!$C$1:$CD$9,5,FALSE)","v":{"$error":"#VALUE!"}},{"$f":"T287-HLOOKUP(X287,Feuil2!$C$1:$CD$9,6,FALSE)","v":{"$error":"#VALUE!"}},{"$f":"T287-HLOOKUP(X287,Feuil2!$C$1:$CD$9,7,FALSE)","v":{"$error":"#VALUE!"}},{"$f":"T287-HLOOKUP(X287,Feuil2!$C$1:$CD$9,8,FALSE)","v":{"$error":"#VALUE!"}},{"$f":"T287-HLOOKUP(X287,Feuil2!$C$1:$CD$9,9,FALSE)","v":{"$error":"#VALUE!"}},null,null,null,null,null,null,null,{"$error":"#VALUE!"},114,null,{"$f":"IF(AP287,VLOOKUP(AP287,HOM!$AR$551:$AS$606,2))","v":3.5710000000000002}]
["H",null,null,null,null,false,null,null,null,null,null,null,null,null,null,null,null,null,"","","","","",{"$f":"IF(AND(J288>=40,J288<45),VLOOKUP(K288,Feuil2!$F$10:$P$28,9),IF(AND(J288>=45,J288<50),VLOOKUP(K288,Feuil2!$F$10:$P$28,8),IF(AND(J288>=50,J288<55),VLOOKUP(K288,Feuil2!$F$10:$P$28,7),IF(AND(J288>=55,J288<60),VLOOKUP(K288,Feuil2!$F$10:$P$28,6),IF(AND(J288>=60,J288<65),VLOOKUP(K288,Feuil2!$F$10:$P$28,5),IF(AND(J288>=65,J288<70),VLOOKUP(K288,Feuil2!$F$10:$P$28,4),IF(AND(J288>=70,J288<75),VLOOKUP(K288,Feuil2!$F$10:$P$28,3),IF(AND(J288>=75,J288<80),VLOOKUP(K288,Feuil2!$F$10:$P$28,2),VLOOKUP(K288,Feuil2!$F$10:$P$28,2)))))))))","v":{"$error":"#N/A"}},null,{"$f":"T288-HLOOKUP(X288,Feuil2!$C$1:$CD$9,2,FALSE)","v":{"$error":"#VALUE!"}},{"$f":"T288-HLOOKUP(X288,Feuil2!$C$1:$CD$9,3,FALSE)","v":{"$error":"#VALUE!"}},{"$f":"T288-HLOOKUP(X288,Feuil2!$C$1:$CD$9,4,FALSE)","v":{"$error":"#VALUE!"}},{"$f":"T288-HLOOKUP(X288,Feuil2!$C$1:$CD$9,5,FALSE)","v":{"$error":"#VALUE!"}},{"$f":"T288-HLOOKUP(X288,Feuil2!$C$1:$CD$9,6,FALSE)","v":{"$error":"#VALUE!"}},{"$f":"T288-HLOOKUP(X288,Feuil2!$C$1:$CD$9,7,FALSE)","v":{"$error":"#VALUE!"}},{"$f":"T288-HLOOKUP(X288,Feuil2!$C$1:$CD$9,8,FALSE)","v":{"$error":"#VALUE!"}},{"$f":"T288-HLOOKUP(X288,Feuil2!$C$1:$CD$9,9,FALSE)","v":{"$error":"#VALUE!"}},null,null,null,null,null,null,null,{"$error":"#VALUE!"},114,null,{"$f":"IF(AP288,VLOOKUP(AP288,HOM!$AR$551:$AS$606,2))","v":3.5710000000000002}]
["H",null,null,null,null,false,null,null,null,null,null,null,null,null,null,null,null,null,"","","","","",{"$f":"IF(AND(J289>=40,J289<45),VLOOKUP(K289,Feuil2!$F$10:$P$28,9),IF(AND(J289>=45,J289<50),VLOOKUP(K289,Feuil2!$F$10:$P$28,8),IF(AND(J289>=50,J289<55),VLOOKUP(K289,Feuil2!$F$10:$P$28,7),IF(AND(J289>=55,J289<60),VLOOKUP(K289,Feuil2!$F$10:$P$28,6),IF(AND(J289>=60,J289<65),VLOOKUP(K289,Feuil2!$F$10:$P$28,5),IF(AND(J289>=65,J289<70),VLOOKUP(K289,Feuil2!$F$10:$P$28,4),IF(AND(J289>=70,J289<75),VLOOKUP(K289,Feuil2!$F$10:$P$28,3),IF(AND(J289>=75,J289<80),VLOOKUP(K289,Feuil2!$F$10:$P$28,2),VLOOKUP(K289,Feuil2!$F$10:$P$28,2)))))))))","v":{"$error":"#N/A"}},null,{"$f":"T289-HLOOKUP(X289,Feuil2!$C$1:$CD$9,2,FALSE)","v":{"$error":"#VALUE!"}},{"$f":"T289-HLOOKUP(X289,Feuil2!$C$1:$CD$9,3,FALSE)","v":{"$error":"#VALUE!"}},{"$f":"T289-HLOOKUP(X289,Feuil2!$C$1:$CD$9,4,FALSE)","v":{"$error":"#VALUE!"}},{"$f":"T289-HLOOKUP(X289,Feuil2!$C$1:$CD$9,5,FALSE)","v":{"$error":"#VALUE!"}},{"$f":"T289-HLOOKUP(X289,Feuil2!$C$1:$CD$9,6,FALSE)","v":{"$error":"#VALUE!"}},{"$f":"T289-HLOOKUP(X289,Feuil2!$C$1:$CD$9,7,FALSE)","v":{"$error":"#VALUE!"}},{"$f":"T289-HLOOKUP(X289,Feuil2!$C$1:$CD$9,8,FALSE)","v":{"$error":"#VALUE!"}},{"$f":"T289-HLOOKUP(X289,Feuil2!$C$1:$CD$9,9,FALSE)","v":{"$error":"#VALUE!"}},null,null,null,null,null,null,null,{"$error":"#VALUE!"},114,null,{"$f":"IF(AP289,VLOOKUP(AP289,HOM!$AR$551:$AS$606,2))","v":3.5710000000000002}]
["H",null,null,null,null,false,null,null,null,null,null,null,null,null,null,null,null,null,"","","","","",{"$f":"IF(AND(J290>=40,J290<45),VLOOKUP(K290,Feuil2!$F$10:$P$28,9),IF(AND(J290>=45,J290<50),VLOOKUP(K290,Feuil2!$F$10:$P$28,8),IF(AND(J290>=50,J290<55),VLOOKUP(K290,Feuil2!$F$10:$P$28,7),IF(AND(J290>=55,J290<60),VLOOKUP(K290,Feuil2!$F$10:$P$28,6),IF(AND(J290>=60,J290<65),VLOOKUP(K290,Feuil2!$F$10:$P$28,5),IF(AND(J290>=65,J290<70),VLOOKUP(K290,Feuil2!$F$10:$P$28,4),IF(AND(J290>=70,J290<75),VLOOKUP(K290,Feuil2!$F$10:$P$28,3),IF(AND(J290>=75,J290<80),VLOOKUP(K290,Feuil2!$F$10:$P$28,2),VLOOKUP(K290,Feuil2!$F$10:$P$28,2)))))))))","v":{"$error":"#N/A"}},null,{"$f":"T290-HLOOKUP(X290,Feuil2!$C$1:$CD$9,2,FALSE)","v":{"$error":"#VALUE!"}},{"$f":"T290-HLOOKUP(X290,Feuil2!$C$1:$CD$9,3,FALSE)","v":{"$error":"#VALUE!"}},{"$f":"T290-HLOOKUP(X290,Feuil2!$C$1:$CD$9,4,FALSE)","v":{"$error":"#VALUE!"}},{"$f":"T290-HLOOKUP(X290,Feuil2!$C$1:$CD$9,5,FALSE)","v":{"$error":"#VALUE!"}},{"$f":"T290-HLOOKUP(X290,Feuil2!$C$1:$CD$9,6,FALSE)","v":{"$error":"#VALUE!"}},{"$f":"T290-HLOOKUP(X290,Feuil2!$C$1:$CD$9,7,FALSE)","v":{"$error":"#VALUE!"}},{"$f":"T290-HLOOKUP(X290,Feuil2!$C$1:$CD$9,8,FALSE)","v":{"$error":"#VALUE!"}},{"$f":"T290-HLOOKUP(X290,Feuil2!$C$1:$CD$9,9,FALSE)","v":{"$error":"#VALUE!"}},null,null,null,null,null,null,null,{"$error":"#VALUE!"},114,null,{"$f":"IF(AP290,VLOOKUP(AP290,HOM!$AR$551:$AS$606,2))","v":3.5710000000000002}]
["H",null,null,null,null,false,null,null,null,null,null,null,null,null,null,null,null,null,"","","","","",{"$f":"IF(AND(J291>=40,J291<45),VLOOKUP(K291,Feuil2!$F$10:$P$28,9),IF(AND(J291>=45,J291<50),VLOOKUP(K291,Feuil2!$F$10:$P$28,8),IF(AND(J291>=50,J291<55),VLOOKUP(K291,Feuil2!$F$10:$P$28,7),IF(AND(J291>=55,J291<60),VLOOKUP(K291,Feuil2!$F$10:$P$28,6),IF(AND(J291>=60,J291<65),VLOOKUP(K291,Feuil2!$F$10:$P$28,5),IF(AND(J291>=65,J291<70),VLOOKUP(K291,Feuil2!$F$10:$P$28,4),IF(AND(J291>=70,J291<75),VLOOKUP(K291,Feuil2!$F$10:$P$28,3),IF(AND(J291>=75,J291<80),VLOOKUP(K291,Feuil2!$F$10:$P$28,2),VLOOKUP(K291,Feuil2!$F$10:$P$28,2)))))))))","v":{"$error":"#N/A"}},null,{"$f":"T291-HLOOKUP(X291,Feuil2!$C$1:$CD$9,2,FALSE)","v":{"$error":"#VALUE!"}},{"$f":"T291-HLOOKUP(X291,Feuil2!$C$1:$CD$9,3,FALSE)","v":{"$error":"#VALUE!"}},{"$f":"T291-HLOOKUP(X291,Feuil2!$C$1:$CD$9,4,FALSE)","v":{"$error":"#VALUE!"}},{"$f":"T291-HLOOKUP(X291,Feuil2!$C$1:$CD$9,5,FALSE)","v":{"$error":"#VALUE!"}},{"$f":"T291-HLOOKUP(X291,Feuil2!$C$1:$CD$9,6,FALSE)","v":{"$error":"#VALUE!"}},{"$f":"T291-HLOOKUP(X291,Feuil2!$C$1:$CD$9,7,FALSE)","v":{"$error":"#VALUE!"}},{"$f":"T291-HLOOKUP(X291,Feuil2!$C$1:$CD$9,8,FALSE)","v":{"$error":"#VALUE!"}},{"$f":"T291-HLOOKUP(X291,Feuil2!$C$1:$CD$9,9,FALSE)","v":{"$error":"#VALUE!"}},null,null,null,null,null,null,null,{"$error":"#VALUE!"},114,null,{"$f":"IF(AP291,VLOOKUP(AP291,HOM!$AR$551:$AS$606,2))","v":3.5710000000000002}]
["H",null,null,null,null,false,null,null,null,null,null,null,null,null,null,null,null,null,"","","","","",{"$f":"IF(AND(J292>=40,J292<45),VLOOKUP(K292,Feuil2!$F$10:$P$28,9),IF(AND(J292>=45,J292<50),VLOOKUP(K292,Feuil2!$F$10:$P$28,8),IF(AND(J292>=50,J292<55),VLOOKUP(K292,Feuil2!$F$10:$P$28,7),IF(AND(J292>=55,J292<60),VLOOKUP(K292,Feuil2!$F$10:$P$28,6),IF(AND(J292>=60,J292<65),VLOOKUP(K292,Feuil2!$F$10:$P$28,5),IF(AND(J292>=65,J292<70),VLOOKUP(K292,Feuil2!$F$10:$P$28,4),IF(AND(J292>=70,J292<75),VLOOKUP(K292,Feuil2!$F$10:$P$28,3),IF(AND(J292>=75,J292<80),VLOOKUP(K292,Feuil2!$F$10:$P$28,2),VLOOKUP(K292,Feuil2!$F$10:$P$28,2)))))))))","v":{"$error":"#N/A"}},null,{"$f":"T292-HLOOKUP(X292,Feuil2!$C$1:$CD$9,2,FALSE)","v":{"$error":"#VALUE!"}},{"$f":"T292-HLOOKUP(X292,Feuil2!$C$1:$CD$9,3,FALSE)","v":{"$error":"#VALUE!"}},{"$f":"T292-HLOOKUP(X292,Feuil2!$C$1:$CD$9,4,FALSE)","v":{"$error":"#VALUE!"}},{"$f":"T292-HLOOKUP(X292,Feuil2!$C$1:$CD$9,5,FALSE)","v":{"$error":"#VALUE!"}},{"$f":"T292-HLOOKUP(X292,Feuil2!$C$1:$CD$9,6,FALSE)","v":{"$error":"#VALUE!"}},{"$f":"T292-HLOOKUP(X292,Feuil2!$C$1:$CD$9,7,FALSE)","v":{"$error":"#VALUE!"}},{"$f":"T292-HLOOKUP(X292,Feuil2!$C$1:$CD$9,8,FALSE)","v":{"$error":"#VALUE!"}},{"$f":"T292-HLOOKUP(X292,Feuil2!$C$1:$CD$9,9,FALSE)","v":{"$error":"#VALUE!"}},null,null,null,null,null,null,null,{"$error":"#VALUE!"},114,null,{"$f":"IF(AP292,VLOOKUP(AP292,HOM!$AR$551:$AS$606,2))","v":3.5710000000000002}]
["H",null,null,null,null,{"$f":"IF(AP293<95,IF(AP293<=90,VLOOKUP(AP293,$AP$550:$AQ$605,2)))","v":false},null,null,null,null,null,null,null,null,{"$f":"IF(K293=\"\",\"\",IF(MAXA(L293:N293)<=0,0,MAXA(L293:N293)))","v":""},null,null,null,"","","","","",{"$f":"IF(AND(J293>=40,J293<45),VLOOKUP(K293,Feuil2!$F$10:$P$28,9),IF(AND(J293>=45,J293<50),VLOOKUP(K293,Feuil2!$F$10:$P$28,8),IF(AND(J293>=50,J293<55),VLOOKUP(K293,Feuil2!$F$10:$P$28,7),IF(AND(J293>=55,J293<60),VLOOKUP(K293,Feuil2!$F$10:$P$28,6),IF(AND(J293>=60,J293<65),VLOOKUP(K293,Feuil2!$F$10:$P$28,5),IF(AND(J293>=65,J293<70),VLOOKUP(K293,Feuil2!$F$10:$P$28,4),IF(AND(J293>=70,J293<75),VLOOKUP(K293,Feuil2!$F$10:$P$28,3),IF(AND(J293>=75,J293<80),VLOOKUP(K293,Feuil2!$F$10:$P$28,2),VLOOKUP(K293,Feuil2!$F$10:$P$28,2)))))))))","v":{"$error":"#N/A"}},null,{"$f":"T293-HLOOKUP(X293,Feuil2!$C$1:$CD$9,2,FALSE)","v":{"$error":"#VALUE!"}},{"$f":"T293-HLOOKUP(X293,Feuil2!$C$1:$CD$9,3,FALSE)","v":{"$error":"#VALUE!"}},{"$f":"T293-HLOOKUP(X293,Feuil2!$C$1:$CD$9,4,FALSE)","v":{"$error":"#VALUE!"}},{"$f":"T293-HLOOKUP(X293,Feuil2!$C$1:$CD$9,5,FALSE)","v":{"$error":"#VALUE!"}},{"$f":"T293-HLOOKUP(X293,Feuil2!$C$1:$CD$9,6,FALSE)","v":{"$error":"#VALUE!"}},{"$f":"T293-HLOOKUP(X293,Feuil2!$C$1:$CD$9,7,FALSE)","v":{"$error":"#VALUE!"}},{"$f":"T293-HLOOKUP(X293,Feuil2!$C$1:$CD$9,8,FALSE)","v":{"$error":"#VALUE!"}},{"$f":"T293-HLOOKUP(X293,Feuil2!$C$1:$CD$9,9,FALSE)","v":{"$error":"#VALUE!"}},null,null,null,null,null,null,null,{"$error":"#VALUE!"},114,null,{"$f":"IF(AP293,VLOOKUP(AP293,HOM!$AR$551:$AS$606,2))","v":3.5710000000000002}]
["H",null,null,null,null,{"$f":"IF(AP294<95,IF(AP294<=90,VLOOKUP(AP294,$AP$550:$AQ$605,2)))","v":false},null,null,null,null,null,null,null,null,"",null,null,null,"","","","","",{"$f":"IF(AND(J294>=40,J294<45),VLOOKUP(K294,Feuil2!$F$10:$P$28,9),IF(AND(J294>=45,J294<50),VLOOKUP(K294,Feuil2!$F$10:$P$28,8),IF(AND(J294>=50,J294<55),VLOOKUP(K294,Feuil2!$F$10:$P$28,7),IF(AND(J294>=55,J294<60),VLOOKUP(K294,Feuil2!$F$10:$P$28,6),IF(AND(J294>=60,J294<65),VLOOKUP(K294,Feuil2!$F$10:$P$28,5),IF(AND(J294>=65,J294<70),VLOOKUP(K294,Feuil2!$F$10:$P$28,4),IF(AND(J294>=70,J294<75),VLOOKUP(K294,Feuil2!$F$10:$P$28,3),IF(AND(J294>=75,J294<80),VLOOKUP(K294,Feuil2!$F$10:$P$28,2),VLOOKUP(K294,Feuil2!$F$10:$P$28,2)))))))))","v":{"$error":"#N/A"}},null,{"$f":"T294-HLOOKUP(X294,Feuil2!$C$1:$CD$9,2,FALSE)","v":{"$error":"#VALUE!"}},{"$f":"T294-HLOOKUP(X294,Feuil2!$C$1:$CD$9,3,FALSE)","v":{"$error":"#VALUE!"}},{"$f":"T294-HLOOKUP(X294,Feuil2!$C$1:$CD$9,4,FALSE)","v":{"$error":"#VALUE!"}},{"$f":"T294-HLOOKUP(X294,Feuil2!$C$1:$CD$9,5,FALSE)","v":{"$error":"#VALUE!"}},{"$f":"T294-HLOOKUP(X294,Feuil2!$C$1:$CD$9,6,FALSE)","v":{"$error":"#VALUE!"}},{"$f":"T294-HLOOKUP(X294,Feuil2!$C$1:$CD$9,7,FALSE)","v":{"$error":"#VALUE!"}},{"$f":"T294-HLOOKUP(X294,Feuil2!$C$1:$CD$9,8,FALSE)","v":{"$error":"#VALUE!"}},{"$f":"T294-HLOOKUP(X294,Feuil2!$C$1:$CD$9,9,FALSE)","v":{"$error":"#VALUE!"}},null,null,null,null,null,null,null,{"$error":"#VALUE!"},114,null,{"$f":"IF(AP294,VLOOKUP(AP294,HOM!$AR$551:$AS$606,2))","v":3.5710000000000002}]
["H",null,null,null,null,{"$f":"IF(AP295<95,IF(AP295<=90,VLOOKUP(AP295,$AP$554:$AQ$609,2)))","v":false},null,null,null,null,null,null,null,null,"",null,null,null,"","","","","",{"$f":"IF(AND(J295>=40,J295<45),VLOOKUP(K295,Feuil2!$F$10:$P$28,9),IF(AND(J295>=45,J295<50),VLOOKUP(K295,Feuil2!$F$10:$P$28,8),IF(AND(J295>=50,J295<55),VLOOKUP(K295,Feuil2!$F$10:$P$28,7),IF(AND(J295>=55,J295<60),VLOOKUP(K295,Feuil2!$F$10:$P$28,6),IF(AND(J295>=60,J295<65),VLOOKUP(K295,Feuil2!$F$10:$P$28,5),IF(AND(J295>=65,J295<70),VLOOKUP(K295,Feuil2!$F$10:$P$28,4),IF(AND(J295>=70,J295<75),VLOOKUP(K295,Feuil2!$F$10:$P$28,3),IF(AND(J295>=75,J295<80),VLOOKUP(K295,Feuil2!$F$10:$P$28,2),VLOOKUP(K295,Feuil2!$F$10:$P$28,2)))))))))","v":{"$error":"#N/A"}},null,{"$f":"T295-HLOOKUP(X295,Feuil2!$C$1:$CD$9,2,FALSE)","v":{"$error":"#VALUE!"}},{"$f":"T295-HLOOKUP(X295,Feuil2!$C$1:$CD$9,3,FALSE)","v":{"$error":"#VALUE!"}},{"$f":"T295-HLOOKUP(X295,Feuil2!$C$1:$CD$9,4,FALSE)","v":{"$error":"#VALUE!"}},{"$f":"T295-HLOOKUP(X295,Feuil2!$C$1:$CD$9,5,FALSE)","v":{"$error":"#VALUE!"}},{"$f":"T295-HLOOKUP(X295,Feuil2!$C$1:$CD$9,6,FALSE)","v":{"$error":"#VALUE!"}},{"$f":"T295-HLOOKUP(X295,Feuil2!$C$1:$CD$9,7,FALSE)","v":{"$error":"#VALUE!"}},{"$f":"T295-HLOOKUP(X295,Feuil2!$C$1:$CD$9,8,FALSE)","v":{"$error":"#VALUE!"}},{"$f":"T295-HLOOKUP(X295,Feuil2!$C$1:$CD$9,9,FALSE)","v":{"$error":"#VALUE!"}},null,null,null,null,null,null,null,{"$error":"#VALUE!"},114,null,{"$f":"IF(AP295,VLOOKUP(AP295,HOM!$AR$551:$AS$606,2))","v":3.5710000000000002}]
["H",null,null,null,null,{"$f":"IF(AP296<95,IF(AP296<=90,VLOOKUP(AP296,$AP$550:$AQ$605,2)))","v":false},null,null,null,null,null,null,null,null,"",null,null,null,"","","","","",{"$f":"IF(AND(J296>=40,J296<45),VLOOKUP(K296,Feuil2!$F$10:$P$28,9),IF(AND(J296>=45,J296<50),VLOOKUP(K296,Feuil2!$F$10:$P$28,8),IF(AND(J296>=50,J296<55),VLOOKUP(K296,Feuil2!$F$10:$P$28,7),IF(AND(J296>=55,J296<60),VLOOKUP(K296,Feuil2!$F$10:$P$28,6),IF(AND(J296>=60,J296<65),VLOOKUP(K296,Feuil2!$F$10:$P$28,5),IF(AND(J296>=65,J296<70),VLOOKUP(K296,Feuil2!$F$10:$P$28,4),IF(AND(J296>=70,J296<75),VLOOKUP(K296,Feuil2!$F$10:$P$28,3),IF(AND(J296>=75,J296<80),VLOOKUP(K296,Feuil2!$F$10:$P$28,2),VLOOKUP(K296,Feuil2!$F$10:$P$28,2)))))))))","v":{"$error":"#N/A"}},null,{"$f":"T296-HLOOKUP(X296,Feuil2!$C$1:$CD$9,2,FALSE)","v":{"$error":"#VALUE!"}},{"$f":"T296-HLOOKUP(X296,Feuil2!$C$1:$CD$9,3,FALSE)","v":{"$error":"#VALUE!"}},{"$f":"T296-HLOOKUP(X296,Feuil2!$C$1:$CD$9,4,FALSE)","v":{"$error":"#VALUE!"}},{"$f":"T296-HLOOKUP(X296,Feuil2!$C$1:$CD$9,5,FALSE)","v":{"$error":"#VALUE!"}},{"$f":"T296-HLOOKUP(X296,Feuil2!$C$1:$CD$9,6,FALSE)","v":{"$error":"#VALUE!"}},{"$f":"T296-HLOOKUP(X296,Feuil2!$C$1:$CD$9,7,FALSE)","v":{"$error":"#VALUE!"}},{"$f":"T296-HLOOKUP(X296,Feuil2!$C$1:$CD$9,8,FALSE)","v":{"$error":"#VALUE!"}},{"$f":"T296-HLOOKUP(X296,Feuil2!$C$1:$CD$9,9,FALSE)","v":{"$error":"#VALUE!"}},null,null,null,null,null,null,null,{"$error":"#VALUE!"},{"$f":"114-J296","v":114},null,{"$f":"IF(AP296,VLOOKUP(AP296,HOM!$AR$551:$AS$606,2))","v":3.5710000000000002}]
["H",null,null,null,null,{"$f":"IF(AP297<95,IF(AP297<=90,VLOOKUP(AP297,$AP$554:$AQ$609,2)))","v":false},null,null,null,null,null,null,null,null,"",null,null,null,"","","","","",{"$f":"IF(AND(J297>=40,J297<45),VLOOKUP(K297,Feuil2!$F$10:$P$28,9),IF(AND(J297>=45,J297<50),VLOOKUP(K297,Feuil2!$F$10:$P$28,8),IF(AND(J297>=50,J297<55),VLOOKUP(K297,Feuil2!$F$10:$P$28,7),IF(AND(J297>=55,J297<60),VLOOKUP(K297,Feuil2!$F$10:$P$28,6),IF(AND(J297>=60,J297<65),VLOOKUP(K297,Feuil2!$F$10:$P$28,5),IF(AND(J297>=65,J297<70),VLOOKUP(K297,Feuil2!$F$10:$P$28,4),IF(AND(J297>=70,J297<75),VLOOKUP(K297,Feuil2!$F$10:$P$28,3),IF(AND(J297>=75,J297<80),VLOOKUP(K297,Feuil2!$F$10:$P$28,2),VLOOKUP(K297,Feuil2!$F$10:$P$28,2)))))))))","v":{"$error":"#N/A"}},null,{"$f":"T297-HLOOKUP(X297,Feuil2!$C$1:$CD$9,2,FALSE)","v":{"$error":"#VALUE!"}},{"$f":"T297-HLOOKUP(X297,Feuil2!$C$1:$CD$9,3,FALSE)","v":{"$error":"#VALUE!"}},{"$f":"T297-HLOOKUP(X297,Feuil2!$C$1:$CD$9,4,FALSE)","v":{"$error":"#VALUE!"}},{"$f":"T297-HLOOKUP(X297,Feuil2!$C$1:$CD$9,5,FALSE)","v":{"$error":"#VALUE!"}},{"$f":"T297-HLOOKUP(X297,Feuil2!$C$1:$CD$9,6,FALSE)","v":{"$error":"#VALUE!"}},{"$f":"T297-HLOOKUP(X297,Feuil2!$C$1:$CD$9,7,FALSE)","v":{"$error":"#VALUE!"}},{"$f":"T297-HLOOKUP(X297,Feuil2!$C$1:$CD$9,8,FALSE)","v":{"$error":"#VALUE!"}},{"$f":"T297-HLOOKUP(X297,Feuil2!$C$1:$CD$9,9,FALSE)","v":{"$error":"#VALUE!"}},null,null,null,null,null,null,null,{"$error":"#VALUE!"},114,null,{"$f":"IF(AP297,VLOOKUP(AP297,HOM!$AR$551:$AS$606,2))","v":3.5710000000000002}]
["H",null,null,null,null,{"$f":"IF(AP298<95,IF(AP298<=90,VLOOKUP(AP298,$AP$550:$AQ$605,2)))","v":false},null,null,null,null,null,null,null,null,"",null,null,null,"","","","","",{"$f":"IF(AND(J298>=40,J298<45),VLOOKUP(K298,Feuil2!$F$10:$P$28,9),IF(AND(J298>=45,J298<50),VLOOKUP(K298,Feuil2!$F$10:$P$28,8),IF(AND(J298>=50,J298<55),VLOOKUP(K298,Feuil2!$F$10:$P$28,7),IF(AND(J298>=55,J298<60),VLOOKUP(K298,Feuil2!$F$10:$P$28,6),IF(AND(J298>=60,J298<65),VLOOKUP(K298,Feuil2!$F$10:$P$28,5),IF(AND(J298>=65,J298<70),VLOOKUP(K298,Feuil2!$F$10:$P$28,4),IF(AND(J298>=70,J298<75),VLOOKUP(K298,Feuil2!$F$10:$P$28,3),IF(AND(J298>=75,J298<80),VLOOKUP(K298,Feuil2!$F$10:$P$28,2),VLOOKUP(K298,Feuil2!$F$10:$P$28,2)))))))))","v":{"$error":"#N/A"}},null,{"$f":"T298-HLOOKUP(X298,Feuil2!$C$1:$CD$9,2,FALSE)","v":{"$error":"#VALUE!"}},{"$f":"T298-HLOOKUP(X298,Feuil2!$C$1:$CD$9,3,FALSE)","v":{"$error":"#VALUE!"}},{"$f":"T298-HLOOKUP(X298,Feuil2!$C$1:$CD$9,4,FALSE)","v":{"$error":"#VALUE!"}},{"$f":"T298-HLOOKUP(X298,Feuil2!$C$1:$CD$9,5,FALSE)","v":{"$error":"#VALUE!"}},{"$f":"T298-HLOOKUP(X298,Feuil2!$C$1:$CD$9,6,FALSE)","v":{"$error":"#VALUE!"}},{"$f":"T298-HLOOKUP(X298,Feuil2!$C$1:$CD$9,7,FALSE)","v":{"$error":"#VALUE!"}},{"$f":"T298-HLOOKUP(X298,Feuil2!$C$1:$CD$9,8,FALSE)","v":{"$error":"#VALUE!"}},{"$f":"T298-HLOOKUP(X298,Feuil2!$C$1:$CD$9,9,FALSE)","v":{"$error":"#VALUE!"}},null,null,null,null,null,null,null,{"$error":"#VALUE!"},114,null,{"$f":"IF(AP298,VLOOKUP(AP298,HOM!$AR$551:$AS$606,2))","v":3.5710000000000002}]
["H",null,null,null,null,{"$f":"IF(AP299<95,IF(AP299<=90,VLOOKUP(AP299,$AP$554:$AQ$609,2)))","v":false},null,null,null,null,null,null,null,null,"",null,null,null,"","","","","",{"$f":"IF(AND(J299>=40,J299<45),VLOOKUP(K299,Feuil2!$F$10:$P$28,9),IF(AND(J299>=45,J299<50),VLOOKUP(K299,Feuil2!$F$10:$P$28,8),IF(AND(J299>=50,J299<55),VLOOKUP(K299,Feuil2!$F$10:$P$28,7),IF(AND(J299>=55,J299<60),VLOOKUP(K299,Feuil2!$F$10:$P$28,6),IF(AND(J299>=60,J299<65),VLOOKUP(K299,Feuil2!$F$10:$P$28,5),IF(AND(J299>=65,J299<70),VLOOKUP(K299,Feuil2!$F$10:$P$28,4),IF(AND(J299>=70,J299<75),VLOOKUP(K299,Feuil2!$F$10:$P$28,3),IF(AND(J299>=75,J299<80),VLOOKUP(K299,Feuil2!$F$10:$P$28,2),VLOOKUP(K299,Feuil2!$F$10:$P$28,2)))))))))","v":{"$error":"#N/A"}},null,{"$f":"T299-HLOOKUP(X299,Feuil2!$C$1:$CD$9,2,FALSE)","v":{"$error":"#VALUE!"}},{"$f":"T299-HLOOKUP(X299,Feuil2!$C$1:$CD$9,3,FALSE)","v":{"$error":"#VALUE!"}},{"$f":"T299-HLOOKUP(X299,Feuil2!$C$1:$CD$9,4,FALSE)","v":{"$error":"#VALUE!"}},{"$f":"T299-HLOOKUP(X299,Feuil2!$C$1:$CD$9,5,FALSE)","v":{"$error":"#VALUE!"}},{"$f":"T299-HLOOKUP(X299,Feuil2!$C$1:$CD$9,6,FALSE)","v":{"$error":"#VALUE!"}},{"$f":"T299-HLOOKUP(X299,Feuil2!$C$1:$CD$9,7,FALSE)","v":{"$error":"#VALUE!"}},{"$f":"T299-HLOOKUP(X299,Feuil2!$C$1:$CD$9,8,FALSE)","v":{"$error":"#VALUE!"}},{"$f":"T299-HLOOKUP(X299,Feuil2!$C$1:$CD$9,9,FALSE)","v":{"$error":"#VALUE!"}},null,null,null,null,null,null,null,{"$error":"#VALUE!"},114,null,{"$f":"IF(AP299,VLOOKUP(AP299,HOM!$AR$551:$AS$606,2))","v":3.5710000000000002}]
["H",null,null,null,null,{"$f":"IF(AP300<95,IF(AP300<=90,VLOOKUP(AP300,$AP$550:$AQ$605,2)))","v":false},null,null,null,null,null,null,null,null,"",null,null,null,"","","","","",{"$f":"IF(AND(J300>=40,J300<45),VLOOKUP(K300,Feuil2!$F$10:$P$28,9),IF(AND(J300>=45,J300<50),VLOOKUP(K300,Feuil2!$F$10:$P$28,8),IF(AND(J300>=50,J300<55),VLOOKUP(K300,Feuil2!$F$10:$P$28,7),IF(AND(J300>=55,J300<60),VLOOKUP(K300,Feuil2!$F$10:$P$28,6),IF(AND(J300>=60,J300<65),VLOOKUP(K300,Feuil2!$F$10:$P$28,5),IF(AND(J300>=65,J300<70),VLOOKUP(K300,Feuil2!$F$10:$P$28,4),IF(AND(J300>=70,J300<75),VLOOKUP(K300,Feuil2!$F$10:$P$28,3),IF(AND(J300>=75,J300<80),VLOOKUP(K300,Feuil2!$F$10:$P$28,2),VLOOKUP(K300,Feuil2!$F$10:$P$28,2)))))))))","v":{"$error":"#N/A"}},null,{"$f":"T300-HLOOKUP(X300,Feuil2!$C$1:$CD$9,2,FALSE)","v":{"$error":"#VALUE!"}},{"$f":"T300-HLOOKUP(X300,Feuil2!$C$1:$CD$9,3,FALSE)","v":{"$error":"#VALUE!"}},{"$f":"T300-HLOOKUP(X300,Feuil2!$C$1:$CD$9,4,FALSE)","v":{"$error":"#VALUE!"}},{"$f":"T300-HLOOKUP(X300,Feuil2!$C$1:$CD$9,5,FALSE)","v":{"$error":"#VALUE!"}},{"$f":"T300-HLOOKUP(X300,Feuil2!$C$1:$CD$9,6,FALSE)","v":{"$error":"#VALUE!"}},{"$f":"T300-HLOOKUP(X300,Feuil2!$C$1:$CD$9,7,FALSE)","v":{"$error":"#VALUE!"}},{"$f":"T300-HLOOKUP(X300,Feuil2!$C$1:$CD$9,8,FALSE)","v":{"$error":"#VALUE!"}},{"$f":"T300-HLOOKUP(X300,Feuil2!$C$1:$CD$9,9,FALSE)","v":{"$error":"#VALUE!"}},null,null,null,null,null,null,null,{"$error":"#VALUE!"},114,null,{"$f":"IF(AP300,VLOOKUP(AP300,HOM!$AR$551:$AS$606,2))","v":3.5710000000000002}]
["H",null,null,null,null,{"$f":"IF(AP301<95,IF(AP301<=90,VLOOKUP(AP301,$AP$550:$AQ$605,2)))","v":false},null,null,null,null,null,null,null,null,"",null,null,null,"","","",{"$f":"IF(K301=\"\",\"\",AO301)","v":""},{"$f":"IF(K301=\"\",\"\",IF(AG301>=0,AG301,IF(AF301>=0,AF301,IF(AE301>=0,AE301,IF(AD301>=0,AD301,IF(AC301>=0,AC301,IF(AB301>=0,AB301,IF(AA301>=0,AA301,Z301))))))))","v":""},{"$f":"IF(AND(J301>=40,J301<45),VLOOKUP(K301,Feuil2!$F$10:$P$28,9),IF(AND(J301>=45,J301<50),VLOOKUP(K301,Feuil2!$F$10:$P$28,8),IF(AND(J301>=50,J301<55),VLOOKUP(K301,Feuil2!$F$10:$P$28,7),IF(AND(J301>=55,J301<60),VLOOKUP(K301,Feuil2!$F$10:$P$28,6),IF(AND(J301>=60,J301<65),VLOOKUP(K301,Feuil2!$F$10:$P$28,5),IF(AND(J301>=65,J301<70),VLOOKUP(K301,Feuil2!$F$10:$P$28,4),IF(AND(J301>=70,J301<75),VLOOKUP(K301,Feuil2!$F$10:$P$28,3),IF(AND(J301>=75,J301<80),VLOOKUP(K301,Feuil2!$F$10:$P$28,2),VLOOKUP(K301,Feuil2!$F$10:$P$28,2)))))))))","v":{"$error":"#N/A"}},null,{"$f":"T301-HLOOKUP(X301,Feuil2!$C$1:$CD$9,2,FALSE)","v":{"$error":"#VALUE!"}},{"$f":"T301-HLOOKUP(X301,Feuil2!$C$1:$CD$9,3,FALSE)","v":{"$error":"#VALUE!"}},{"$f":"T301-HLOOKUP(X301,Feuil2!$C$1:$CD$9,4,FALSE)","v":{"$error":"#VALUE!"}},{"$f":"T301-HLOOKUP(X301,Feuil2!$C$1:$CD$9,5,FALSE)","v":{"$error":"#VALUE!"}},{"$f":"T301-HLOOKUP(X301,Feuil2!$C$1:$CD$9,6,FALSE)","v":{"$error":"#VALUE!"}},{"$f":"T301-HLOOKUP(X301,Feuil2!$C$1:$CD$9,7,FALSE)","v":{"$error":"#VALUE!"}},{"$f":"T301-HLOOKUP(X301,Feuil2!$C$1:$CD$9,8,FALSE)","v":{"$error":"#VALUE!"}},{"$f":"T301-HLOOKUP(X301,Feuil2!$C$1:$CD$9,9,FALSE)","v":{"$error":"#VALUE!"}},null,null,null,null,null,null,null,{"$f":"IF(AG301>=0,$AG$4,IF(AF301>=0,$AF$4,IF(AE301>=0,$AE$4,IF(AD301>=0,$AD$4,IF(AC301>=0,$AC$4,IF(AB301>=0,$AB$4,IF(AA301>=0,$AA$4,IF(Z301>=0,$Z$4,$AH$4))))))))","v":{"$error":"#VALUE!"}},114,null,{"$f":"IF(AP301,VLOOKUP(AP301,HOM!$AR$551:$AS$606,2))","v":3.5710000000000002}]
["H",null,null,null,null,{"$f":"IF(AP302<95,IF(AP302<=90,VLOOKUP(AP302,$AP$554:$AQ$609,2)))","v":false},null,null,null,null,null,null,null,null,"",null,null,null,"","",{"$f":"IF(K302=\"\",\"\",IF(A302=\"H\",10^(0.794358141*LOG(K302/174.393)^2)*T302*AR302,IF(A302=\"F\",10^(0.89726074 * LOG(K302/148.026)^2)*T302*AR302,\"\")))","v":""},"","",{"$f":"IF(AND(J302>=40,J302<45),VLOOKUP(K302,Feuil2!$F$10:$P$28,9),IF(AND(J302>=45,J302<50),VLOOKUP(K302,Feuil2!$F$10:$P$28,8),IF(AND(J302>=50,J302<55),VLOOKUP(K302,Feuil2!$F$10:$P$28,7),IF(AND(J302>=55,J302<60),VLOOKUP(K302,Feuil2!$F$10:$P$28,6),IF(AND(J302>=60,J302<65),VLOOKUP(K302,Feuil2!$F$10:$P$28,5),IF(AND(J302>=65,J302<70),VLOOKUP(K302,Feuil2!$F$10:$P$28,4),IF(AND(J302>=70,J302<75),VLOOKUP(K302,Feuil2!$F$10:$P$28,3),IF(AND(J302>=75,J302<80),VLOOKUP(K302,Feuil2!$F$10:$P$28,2),VLOOKUP(K302,Feuil2!$F$10:$P$28,2)))))))))","v":{"$error":"#N/A"}},null,{"$f":"T302-HLOOKUP(X302,Feuil2!$C$1:$CD$9,2,FALSE)","v":{"$error":"#VALUE!"}},{"$f":"T302-HLOOKUP(X302,Feuil2!$C$1:$CD$9,3,FALSE)","v":{"$error":"#VALUE!"}},{"$f":"T302-HLOOKUP(X302,Feuil2!$C$1:$CD$9,4,FALSE)","v":{"$error":"#VALUE!"}},{"$f":"T302-HLOOKUP(X302,Feuil2!$C$1:$CD$9,5,FALSE)","v":{"$error":"#VALUE!"}},{"$f":"T302-HLOOKUP(X302,Feuil2!$C$1:$CD$9,6,FALSE)","v":{"$error":"#VALUE!"}},{"$f":"T302-HLOOKUP(X302,Feuil2!$C$1:$CD$9,7,FALSE)","v":{"$error":"#VALUE!"}},{"$f":"T302-HLOOKUP(X302,Feuil2!$C$1:$CD$9,8,FALSE)","v":{"$error":"#VALUE!"}},{"$f":"T302-HLOOKUP(X302,Feuil2!$C$1:$CD$9,9,FALSE)","v":{"$error":"#VALUE!"}},null,null,null,null,null,null,null,{"$error":"#VALUE!"},114,null,{"$f":"IF(AP302,VLOOKUP(AP302,HOM!$AR$551:$AS$606,2))","v":3.5710000000000002}]
["H",null,null,null,null,false,null,null,null,null,null,null,null,null,{"$f":"IF(K303=\"\",\"\",IF(MAXA(L303:N303)<=0,0,MAXA(L303:N303)))","v":""},null,null,null,{"$f":"IF(K303=\"\",\"\",IF(MAXA(P303:R303)<=0,0,MAXA(P303:R303)))","v":""},{"$f":"IF(K303=\"\",\"\",IF(OR(O303=0,S303=0),0,O303+S303))","v":""},"","","",{"$f":"IF(AND(J303>=40,J303<45),VLOOKUP(K303,Feuil2!$F$10:$P$28,9),IF(AND(J303>=45,J303<50),VLOOKUP(K303,Feuil2!$F$10:$P$28,8),IF(AND(J303>=50,J303<55),VLOOKUP(K303,Feuil2!$F$10:$P$28,7),IF(AND(J303>=55,J303<60),VLOOKUP(K303,Feuil2!$F$10:$P$28,6),IF(AND(J303>=60,J303<65),VLOOKUP(K303,Feuil2!$F$10:$P$28,5),IF(AND(J303>=65,J303<70),VLOOKUP(K303,Feuil2!$F$10:$P$28,4),IF(AND(J303>=70,J303<75),VLOOKUP(K303,Feuil2!$F$10:$P$28,3),IF(AND(J303>=75,J303<80),VLOOKUP(K303,Feuil2!$F$10:$P$28,2),VLOOKUP(K303,Feuil2!$F$10:$P$28,2)))))))))","v":{"$error":"#N/A"}},null,{"$f":"T303-HLOOKUP(X303,Feuil2!$C$1:$CD$9,2,FALSE)","v":{"$error":"#VALUE!"}},{"$f":"T303-HLOOKUP(X303,Feuil2!$C$1:$CD$9,3,FALSE)","v":{"$error":"#VALUE!"}},{"$f":"T303-HLOOKUP(X303,Feuil2!$C$1:$CD$9,4,FALSE)","v":{"$error":"#VALUE!"}},{"$f":"T303-HLOOKUP(X303,Feuil2!$C$1:$CD$9,5,FALSE)","v":{"$error":"#VALUE!"}},{"$f":"T303-HLOOKUP(X303,Feuil2!$C$1:$CD$9,6,FALSE)","v":{"$error":"#VALUE!"}},{"$f":"T303-HLOOKUP(X303,Feuil2!$C$1:$CD$9,7,FALSE)","v":{"$error":"#VALUE!"}},{"$f":"T303-HLOOKUP(X303,Feuil2!$C$1:$CD$9,8,FALSE)","v":{"$error":"#VALUE!"}},{"$f":"T303-HLOOKUP(X303,Feuil2!$C$1:$CD$9,9,FALSE)","v":{"$error":"#VALUE!"}},null,null,null,null,null,null,null,{"$error":"#VALUE!"},114,null,{"$f":"IF(AP303,VLOOKUP(AP303,HOM!$AR$551:$AS$606,2))","v":3.5710000000000002}]
["H",null,null,null,null,false,null,null,null,null,null,null,null,null,"",null,null,null,"","","","","",{"$f":"IF(AND(J304>=40,J304<45),VLOOKUP(K304,Feuil2!$F$10:$P$28,9),IF(AND(J304>=45,J304<50),VLOOKUP(K304,Feuil2!$F$10:$P$28,8),IF(AND(J304>=50,J304<55),VLOOKUP(K304,Feuil2!$F$10:$P$28,7),IF(AND(J304>=55,J304<60),VLOOKUP(K304,Feuil2!$F$10:$P$28,6),IF(AND(J304>=60,J304<65),VLOOKUP(K304,Feuil2!$F$10:$P$28,5),IF(AND(J304>=65,J304<70),VLOOKUP(K304,Feuil2!$F$10:$P$28,4),IF(AND(J304>=70,J304<75),VLOOKUP(K304,Feuil2!$F$10:$P$28,3),IF(AND(J304>=75,J304<80),VLOOKUP(K304,Feuil2!$F$10:$P$28,2),VLOOKUP(K304,Feuil2!$F$10:$P$28,2)))))))))","v":{"$error":"#N/A"}},null,{"$f":"T304-HLOOKUP(X304,Feuil2!$C$1:$CD$9,2,FALSE)","v":{"$error":"#VALUE!"}},{"$f":"T304-HLOOKUP(X304,Feuil2!$C$1:$CD$9,3,FALSE)","v":{"$error":"#VALUE!"}},{"$f":"T304-HLOOKUP(X304,Feuil2!$C$1:$CD$9,4,FALSE)","v":{"$error":"#VALUE!"}},{"$f":"T304-HLOOKUP(X304,Feuil2!$C$1:$CD$9,5,FALSE)","v":{"$error":"#VALUE!"}},{"$f":"T304-HLOOKUP(X304,Feuil2!$C$1:$CD$9,6,FALSE)","v":{"$error":"#VALUE!"}},{"$f":"T304-HLOOKUP(X304,Feuil2!$C$1:$CD$9,7,FALSE)","v":{"$error":"#VALUE!"}},{"$f":"T304-HLOOKUP(X304,Feuil2!$C$1:$CD$9,8,FALSE)","v":{"$error":"#VALUE!"}},{"$f":"T304-HLOOKUP(X304,Feuil2!$C$1:$CD$9,9,FALSE)","v":{"$error":"#VALUE!"}},null,null,null,null,null,null,null,{"$error":"#VALUE!"},114,null,{"$f":"IF(AP304,VLOOKUP(AP304,HOM!$AR$551:$AS$606,2))","v":3.5710000000000002}]
["H",null,null,null,null,false,null,null,null,null,null,null,null,null,"",null,null,null,"","","","","",{"$f":"IF(AND(J305>=40,J305<45),VLOOKUP(K305,Feuil2!$F$10:$P$28,9),IF(AND(J305>=45,J305<50),VLOOKUP(K305,Feuil2!$F$10:$P$28,8),IF(AND(J305>=50,J305<55),VLOOKUP(K305,Feuil2!$F$10:$P$28,7),IF(AND(J305>=55,J305<60),VLOOKUP(K305,Feuil2!$F$10:$P$28,6),IF(AND(J305>=60,J305<65),VLOOKUP(K305,Feuil2!$F$10:$P$28,5),IF(AND(J305>=65,J305<70),VLOOKUP(K305,Feuil2!$F$10:$P$28,4),IF(AND(J305>=70,J305<75),VLOOKUP(K305,Feuil2!$F$10:$P$28,3),IF(AND(J305>=75,J305<80),VLOOKUP(K305,Feuil2!$F$10:$P$28,2),VLOOKUP(K305,Feuil2!$F$10:$P$28,2)))))))))","v":{"$error":"#N/A"}},null,{"$f":"T305-HLOOKUP(X305,Feuil2!$C$1:$CD$9,2,FALSE)","v":{"$error":"#VALUE!"}},{"$f":"T305-HLOOKUP(X305,Feuil2!$C$1:$CD$9,3,FALSE)","v":{"$error":"#VALUE!"}},{"$f":"T305-HLOOKUP(X305,Feuil2!$C$1:$CD$9,4,FALSE)","v":{"$error":"#VALUE!"}},{"$f":"T305-HLOOKUP(X305,Feuil2!$C$1:$CD$9,5,FALSE)","v":{"$error":"#VALUE!"}},{"$f":"T305-HLOOKUP(X305,Feuil2!$C$1:$CD$9,6,FALSE)","v":{"$error":"#VALUE!"}},{"$f":"T305-HLOOKUP(X305,Feuil2!$C$1:$CD$9,7,FALSE)","v":{"$error":"#VALUE!"}},{"$f":"T305-HLOOKUP(X305,Feuil2!$C$1:$CD$9,8,FALSE)","v":{"$error":"#VALUE!"}},{"$f":"T305-HLOOKUP(X305,Feuil2!$C$1:$CD$9,9,FALSE)","v":{"$error":"#VALUE!"}},null,null,null,null,null,null,null,{"$error":"#VALUE!"},114,null,{"$f":"IF(AP305,VLOOKUP(AP305,HOM!$AR$551:$AS$606,2))","v":3.5710000000000002}]
["H",null,null,null,null,false,null,null,null,null,null,null,null,null,"",null,null,null,"","","","","",{"$f":"IF(AND(J306>=40,J306<45),VLOOKUP(K306,Feuil2!$F$10:$P$28,9),IF(AND(J306>=45,J306<50),VLOOKUP(K306,Feuil2!$F$10:$P$28,8),IF(AND(J306>=50,J306<55),VLOOKUP(K306,Feuil2!$F$10:$P$28,7),IF(AND(J306>=55,J306<60),VLOOKUP(K306,Feuil2!$F$10:$P$28,6),IF(AND(J306>=60,J306<65),VLOOKUP(K306,Feuil2!$F$10:$P$28,5),IF(AND(J306>=65,J306<70),VLOOKUP(K306,Feuil2!$F$10:$P$28,4),IF(AND(J306>=70,J306<75),VLOOKUP(K306,Feuil2!$F$10:$P$28,3),IF(AND(J306>=75,J306<80),VLOOKUP(K306,Feuil2!$F$10:$P$28,2),VLOOKUP(K306,Feuil2!$F$10:$P$28,2)))))))))","v":{"$error":"#N/A"}},null,{"$f":"T306-HLOOKUP(X306,Feuil2!$C$1:$CD$9,2,FALSE)","v":{"$error":"#VALUE!"}},{"$f":"T306-HLOOKUP(X306,Feuil2!$C$1:$CD$9,3,FALSE)","v":{"$error":"#VALUE!"}},{"$f":"T306-HLOOKUP(X306,Feuil2!$C$1:$CD$9,4,FALSE)","v":{"$error":"#VALUE!"}},{"$f":"T306-HLOOKUP(X306,Feuil2!$C$1:$CD$9,5,FALSE)","v":{"$error":"#VALUE!"}},{"$f":"T306-HLOOKUP(X306,Feuil2!$C$1:$CD$9,6,FALSE)","v":{"$error":"#VALUE!"}},{"$f":"T306-HLOOKUP(X306,Feuil2!$C$1:$CD$9,7,FALSE)","v":{"$error":"#VALUE!"}},{"$f":"T306-HLOOKUP(X306,Feuil2!$C$1:$CD$9,8,FALSE)","v":{"$error":"#VALUE!"}},{"$f":"T306-HLOOKUP(X306,Feuil2!$C$1:$CD$9,9,FALSE)","v":{"$error":"#VALUE!"}},null,null,null,null,null,null,null,{"$error":"#VALUE!"},114,null,{"$f":"IF(AP306,VLOOKUP(AP306,HOM!$AR$551:$AS$606,2))","v":3.5710000000000002}]
["H",null,null,null,null,false,null,null,null,null,null,null,null,null,"",null,null,null,"","","","","",{"$f":"IF(AND(J307>=40,J307<45),VLOOKUP(K307,Feuil2!$F$10:$P$28,9),IF(AND(J307>=45,J307<50),VLOOKUP(K307,Feuil2!$F$10:$P$28,8),IF(AND(J307>=50,J307<55),VLOOKUP(K307,Feuil2!$F$10:$P$28,7),IF(AND(J307>=55,J307<60),VLOOKUP(K307,Feuil2!$F$10:$P$28,6),IF(AND(J307>=60,J307<65),VLOOKUP(K307,Feuil2!$F$10:$P$28,5),IF(AND(J307>=65,J307<70),VLOOKUP(K307,Feuil2!$F$10:$P$28,4),IF(AND(J307>=70,J307<75),VLOOKUP(K307,Feuil2!$F$10:$P$28,3),IF(AND(J307>=75,J307<80),VLOOKUP(K307,Feuil2!$F$10:$P$28,2),VLOOKUP(K307,Feuil2!$F$10:$P$28,2)))))))))","v":{"$error":"#N/A"}},null,{"$f":"T307-HLOOKUP(X307,Feuil2!$C$1:$CD$9,2,FALSE)","v":{"$error":"#VALUE!"}},{"$f":"T307-HLOOKUP(X307,Feuil2!$C$1:$CD$9,3,FALSE)","v":{"$error":"#VALUE!"}},{"$f":"T307-HLOOKUP(X307,Feuil2!$C$1:$CD$9,4,FALSE)","v":{"$error":"#VALUE!"}},{"$f":"T307-HLOOKUP(X307,Feuil2!$C$1:$CD$9,5,FALSE)","v":{"$error":"#VALUE!"}},{"$f":"T307-HLOOKUP(X307,Feuil2!$C$1:$CD$9,6,FALSE)","v":{"$error":"#VALUE!"}},{"$f":"T307-HLOOKUP(X307,Feuil2!$C$1:$CD$9,7,FALSE)","v":{"$error":"#VALUE!"}},{"$f":"T307-HLOOKUP(X307,Feuil2!$C$1:$CD$9,8,FALSE)","v":{"$error":"#VALUE!"}},{"$f":"T307-HLOOKUP(X307,Feuil2!$C$1:$CD$9,9,FALSE)","v":{"$error":"#VALUE!"}},null,null,null,null,null,null,null,{"$error":"#VALUE!"},114,null,{"$f":"IF(AP307,VLOOKUP(AP307,HOM!$AR$551:$AS$606,2))","v":3.5710000000000002}]
["H",null,null,null,null,false,null,null,null,null,null,null,null,null,"",null,null,null,"","","","","",{"$f":"IF(AND(J308>=40,J308<45),VLOOKUP(K308,Feuil2!$F$10:$P$28,9),IF(AND(J308>=45,J308<50),VLOOKUP(K308,Feuil2!$F$10:$P$28,8),IF(AND(J308>=50,J308<55),VLOOKUP(K308,Feuil2!$F$10:$P$28,7),IF(AND(J308>=55,J308<60),VLOOKUP(K308,Feuil2!$F$10:$P$28,6),IF(AND(J308>=60,J308<65),VLOOKUP(K308,Feuil2!$F$10:$P$28,5),IF(AND(J308>=65,J308<70),VLOOKUP(K308,Feuil2!$F$10:$P$28,4),IF(AND(J308>=70,J308<75),VLOOKUP(K308,Feuil2!$F$10:$P$28,3),IF(AND(J308>=75,J308<80),VLOOKUP(K308,Feuil2!$F$10:$P$28,2),VLOOKUP(K308,Feuil2!$F$10:$P$28,2)))))))))","v":{"$error":"#N/A"}},null,{"$f":"T308-HLOOKUP(X308,Feuil2!$C$1:$CD$9,2,FALSE)","v":{"$error":"#VALUE!"}},{"$f":"T308-HLOOKUP(X308,Feuil2!$C$1:$CD$9,3,FALSE)","v":{"$error":"#VALUE!"}},{"$f":"T308-HLOOKUP(X308,Feuil2!$C$1:$CD$9,4,FALSE)","v":{"$error":"#VALUE!"}},{"$f":"T308-HLOOKUP(X308,Feuil2!$C$1:$CD$9,5,FALSE)","v":{"$error":"#VALUE!"}},{"$f":"T308-HLOOKUP(X308,Feuil2!$C$1:$CD$9,6,FALSE)","v":{"$error":"#VALUE!"}},{"$f":"T308-HLOOKUP(X308,Feuil2!$C$1:$CD$9,7,FALSE)","v":{"$error":"#VALUE!"}},{"$f":"T308-HLOOKUP(X308,Feuil2!$C$1:$CD$9,8,FALSE)","v":{"$error":"#VALUE!"}},{"$f":"T308-HLOOKUP(X308,Feuil2!$C$1:$CD$9,9,FALSE)","v":{"$error":"#VALUE!"}},null,null,null,null,null,null,null,{"$error":"#VALUE!"},114,null,{"$f":"IF(AP308,VLOOKUP(AP308,HOM!$AR$551:$AS$606,2))","v":3.5710000000000002}]
["H",null,null,null,null,false,null,null,null,null,null,null,null,null,"",null,null,null,"","","","","",{"$f":"IF(AND(J309>=40,J309<45),VLOOKUP(K309,Feuil2!$F$10:$P$28,9),IF(AND(J309>=45,J309<50),VLOOKUP(K309,Feuil2!$F$10:$P$28,8),IF(AND(J309>=50,J309<55),VLOOKUP(K309,Feuil2!$F$10:$P$28,7),IF(AND(J309>=55,J309<60),VLOOKUP(K309,Feuil2!$F$10:$P$28,6),IF(AND(J309>=60,J309<65),VLOOKUP(K309,Feuil2!$F$10:$P$28,5),IF(AND(J309>=65,J309<70),VLOOKUP(K309,Feuil2!$F$10:$P$28,4),IF(AND(J309>=70,J309<75),VLOOKUP(K309,Feuil2!$F$10:$P$28,3),IF(AND(J309>=75,J309<80),VLOOKUP(K309,Feuil2!$F$10:$P$28,2),VLOOKUP(K309,Feuil2!$F$10:$P$28,2)))))))))","v":{"$error":"#N/A"}},null,{"$f":"T309-HLOOKUP(X309,Feuil2!$C$1:$CD$9,2,FALSE)","v":{"$error":"#VALUE!"}},{"$f":"T309-HLOOKUP(X309,Feuil2!$C$1:$CD$9,3,FALSE)","v":{"$error":"#VALUE!"}},{"$f":"T309-HLOOKUP(X309,Feuil2!$C$1:$CD$9,4,FALSE)","v":{"$error":"#VALUE!"}},{"$f":"T309-HLOOKUP(X309,Feuil2!$C$1:$CD$9,5,FALSE)","v":{"$error":"#VALUE!"}},{"$f":"T309-HLOOKUP(X309,Feuil2!$C$1:$CD$9,6,FALSE)","v":{"$error":"#VALUE!"}},{"$f":"T309-HLOOKUP(X309,Feuil2!$C$1:$CD$9,7,FALSE)","v":{"$error":"#VALUE!"}},{"$f":"T309-HLOOKUP(X309,Feuil2!$C$1:$CD$9,8,FALSE)","v":{"$error":"#VALUE!"}},{"$f":"T309-HLOOKUP(X309,Feuil2!$C$1:$CD$9,9,FALSE)","v":{"$error":"#VALUE!"}},null,null,null,null,null,null,null,{"$error":"#VALUE!"},114,null,{"$f":"IF(AP309,VLOOKUP(AP309,HOM!$AR$551:$AS$606,2))","v":3.5710000000000002}]
["H",null,null,null,null,{"$f":"IF(AP310<95,IF(AP310<=90,VLOOKUP(AP310,$AP$554:$AQ$609,2)))","v":false},null,null,null,null,null,null,null,null,{"$f":"IF(K310=\"\",\"\",IF(MAXA(L310:N310)<=0,0,MAXA(L310:N310)))","v":""},null,null,null,{"$f":"IF(K310=\"\",\"\",IF(MAXA(P310:R310)<=0,0,MAXA(P310:R310)))","v":""},{"$f":"IF(K310=\"\",\"\",IF(OR(O310=0,S310=0),0,O310+S310))","v":""},{"$f":"IF(K310=\"\",\"\",IF(A310=\"H\",10^(0.794358141*LOG(K310/174.393)^2)*T310*AR310,IF(A310=\"F\",10^(0.89726074 * LOG(K310/148.026)^2)*T310*AR310,\"\")))","v":""},"","",{"$f":"IF(AND(J310>=40,J310<45),VLOOKUP(K310,Feuil2!$F$10:$P$28,9),IF(AND(J310>=45,J310<50),VLOOKUP(K310,Feuil2!$F$10:$P$28,8),IF(AND(J310>=50,J310<55),VLOOKUP(K310,Feuil2!$F$10:$P$28,7),IF(AND(J310>=55,J310<60),VLOOKUP(K310,Feuil2!$F$10:$P$28,6),IF(AND(J310>=60,J310<65),VLOOKUP(K310,Feuil2!$F$10:$P$28,5),IF(AND(J310>=65,J310<70),VLOOKUP(K310,Feuil2!$F$10:$P$28,4),IF(AND(J310>=70,J310<75),VLOOKUP(K310,Feuil2!$F$10:$P$28,3),IF(AND(J310>=75,J310<80),VLOOKUP(K310,Feuil2!$F$10:$P$28,2),VLOOKUP(K310,Feuil2!$F$10:$P$28,2)))))))))","v":{"$error":"#N/A"}},null,{"$f":"T310-HLOOKUP(X310,Feuil2!$C$1:$CD$9,2,FALSE)","v":{"$error":"#VALUE!"}},{"$f":"T310-HLOOKUP(X310,Feuil2!$C$1:$CD$9,3,FALSE)","v":{"$error":"#VALUE!"}},{"$f":"T310-HLOOKUP(X310,Feuil2!$C$1:$CD$9,4,FALSE)","v":{"$error":"#VALUE!"}},{"$f":"T310-HLOOKUP(X310,Feuil2!$C$1:$CD$9,5,FALSE)","v":{"$error":"#VALUE!"}},{"$f":"T310-HLOOKUP(X310,Feuil2!$C$1:$CD$9,6,FALSE)","v":{"$error":"#VALUE!"}},{"$f":"T310-HLOOKUP(X310,Feuil2!$C$1:$CD$9,7,FALSE)","v":{"$error":"#VALUE!"}},{"$f":"T310-HLOOKUP(X310,Feuil2!$C$1:$CD$9,8,FALSE)","v":{"$error":"#VALUE!"}},{"$f":"T310-HLOOKUP(X310,Feuil2!$C$1:$CD$9,9,FALSE)","v":{"$error":"#VALUE!"}},null,null,null,null,null,null,null,{"$error":"#VALUE!"},114,null,{"$f":"IF(AP310,VLOOKUP(AP310,HOM!$AR$551:$AS$606,2))","v":3.5710000000000002}]
["H",null,null,null,null,false,null,null,null,null,null,null,null,null,"",null,null,null,"","","","","",{"$f":"IF(AND(J311>=40,J311<45),VLOOKUP(K311,Feuil2!$F$10:$P$28,9),IF(AND(J311>=45,J311<50),VLOOKUP(K311,Feuil2!$F$10:$P$28,8),IF(AND(J311>=50,J311<55),VLOOKUP(K311,Feuil2!$F$10:$P$28,7),IF(AND(J311>=55,J311<60),VLOOKUP(K311,Feuil2!$F$10:$P$28,6),IF(AND(J311>=60,J311<65),VLOOKUP(K311,Feuil2!$F$10:$P$28,5),IF(AND(J311>=65,J311<70),VLOOKUP(K311,Feuil2!$F$10:$P$28,4),IF(AND(J311>=70,J311<75),VLOOKUP(K311,Feuil2!$F$10:$P$28,3),IF(AND(J311>=75,J311<80),VLOOKUP(K311,Feuil2!$F$10:$P$28,2),VLOOKUP(K311,Feuil2!$F$10:$P$28,2)))))))))","v":{"$error":"#N/A"}},null,{"$f":"T311-HLOOKUP(X311,Feuil2!$C$1:$CD$9,2,FALSE)","v":{"$error":"#VALUE!"}},{"$f":"T311-HLOOKUP(X311,Feuil2!$C$1:$CD$9,3,FALSE)","v":{"$error":"#VALUE!"}},{"$f":"T311-HLOOKUP(X311,Feuil2!$C$1:$CD$9,4,FALSE)","v":{"$error":"#VALUE!"}},{"$f":"T311-HLOOKUP(X311,Feuil2!$C$1:$CD$9,5,FALSE)","v":{"$error":"#VALUE!"}},{"$f":"T311-HLOOKUP(X311,Feuil2!$C$1:$CD$9,6,FALSE)","v":{"$error":"#VALUE!"}},{"$f":"T311-HLOOKUP(X311,Feuil2!$C$1:$CD$9,7,FALSE)","v":{"$error":"#VALUE!"}},{"$f":"T311-HLOOKUP(X311,Feuil2!$C$1:$CD$9,8,FALSE)","v":{"$error":"#VALUE!"}},{"$f":"T311-HLOOKUP(X311,Feuil2!$C$1:$CD$9,9,FALSE)","v":{"$error":"#VALUE!"}},null,null,null,null,null,null,null,{"$error":"#VALUE!"},114,null,{"$f":"IF(AP311,VLOOKUP(AP311,HOM!$AR$551:$AS$606,2))","v":3.5710000000000002}]
["H",null,null,null,null,false,null,null,null,null,null,null,null,null,"",null,null,null,"","","","","",{"$f":"IF(AND(J312>=40,J312<45),VLOOKUP(K312,Feuil2!$F$10:$P$28,9),IF(AND(J312>=45,J312<50),VLOOKUP(K312,Feuil2!$F$10:$P$28,8),IF(AND(J312>=50,J312<55),VLOOKUP(K312,Feuil2!$F$10:$P$28,7),IF(AND(J312>=55,J312<60),VLOOKUP(K312,Feuil2!$F$10:$P$28,6),IF(AND(J312>=60,J312<65),VLOOKUP(K312,Feuil2!$F$10:$P$28,5),IF(AND(J312>=65,J312<70),VLOOKUP(K312,Feuil2!$F$10:$P$28,4),IF(AND(J312>=70,J312<75),VLOOKUP(K312,Feuil2!$F$10:$P$28,3),IF(AND(J312>=75,J312<80),VLOOKUP(K312,Feuil2!$F$10:$P$28,2),VLOOKUP(K312,Feuil2!$F$10:$P$28,2)))))))))","v":{"$error":"#N/A"}},null,{"$f":"T312-HLOOKUP(X312,Feuil2!$C$1:$CD$9,2,FALSE)","v":{"$error":"#VALUE!"}},{"$f":"T312-HLOOKUP(X312,Feuil2!$C$1:$CD$9,3,FALSE)","v":{"$error":"#VALUE!"}},{"$f":"T312-HLOOKUP(X312,Feuil2!$C$1:$CD$9,4,FALSE)","v":{"$error":"#VALUE!"}},{"$f":"T312-HLOOKUP(X312,Feuil2!$C$1:$CD$9,5,FALSE)","v":{"$error":"#VALUE!"}},{"$f":"T312-HLOOKUP(X312,Feuil2!$C$1:$CD$9,6,FALSE)","v":{"$error":"#VALUE!"}},{"$f":"T312-HLOOKUP(X312,Feuil2!$C$1:$CD$9,7,FALSE)","v":{"$error":"#VALUE!"}},{"$f":"T312-HLOOKUP(X312,Feuil2!$C$1:$CD$9,8,FALSE)","v":{"$error":"#VALUE!"}},{"$f":"T312-HLOOKUP(X312,Feuil2!$C$1:$CD$9,9,FALSE)","v":{"$error":"#VALUE!"}},null,null,null,null,null,null,null,{"$error":"#VALUE!"},114,null,{"$f":"IF(AP312,VLOOKUP(AP312,HOM!$AR$551:$AS$606,2))","v":3.5710000000000002}]
["H",null,null,null,null,false,null,null,null,null,null,null,null,null,"",null,null,null,"","","","","",{"$f":"IF(AND(J313>=40,J313<45),VLOOKUP(K313,Feuil2!$F$10:$P$28,9),IF(AND(J313>=45,J313<50),VLOOKUP(K313,Feuil2!$F$10:$P$28,8),IF(AND(J313>=50,J313<55),VLOOKUP(K313,Feuil2!$F$10:$P$28,7),IF(AND(J313>=55,J313<60),VLOOKUP(K313,Feuil2!$F$10:$P$28,6),IF(AND(J313>=60,J313<65),VLOOKUP(K313,Feuil2!$F$10:$P$28,5),IF(AND(J313>=65,J313<70),VLOOKUP(K313,Feuil2!$F$10:$P$28,4),IF(AND(J313>=70,J313<75),VLOOKUP(K313,Feuil2!$F$10:$P$28,3),IF(AND(J313>=75,J313<80),VLOOKUP(K313,Feuil2!$F$10:$P$28,2),VLOOKUP(K313,Feuil2!$F$10:$P$28,2)))))))))","v":{"$error":"#N/A"}},null,{"$f":"T313-HLOOKUP(X313,Feuil2!$C$1:$CD$9,2,FALSE)","v":{"$error":"#VALUE!"}},{"$f":"T313-HLOOKUP(X313,Feuil2!$C$1:$CD$9,3,FALSE)","v":{"$error":"#VALUE!"}},{"$f":"T313-HLOOKUP(X313,Feuil2!$C$1:$CD$9,4,FALSE)","v":{"$error":"#VALUE!"}},{"$f":"T313-HLOOKUP(X313,Feuil2!$C$1:$CD$9,5,FALSE)","v":{"$error":"#VALUE!"}},{"$f":"T313-HLOOKUP(X313,Feuil2!$C$1:$CD$9,6,FALSE)","v":{"$error":"#VALUE!"}},{"$f":"T313-HLOOKUP(X313,Feuil2!$C$1:$CD$9,7,FALSE)","v":{"$error":"#VALUE!"}},{"$f":"T313-HLOOKUP(X313,Feuil2!$C$1:$CD$9,8,FALSE)","v":{"$error":"#VALUE!"}},{"$f":"T313-HLOOKUP(X313,Feuil2!$C$1:$CD$9,9,FALSE)","v":{"$error":"#VALUE!"}},null,null,null,null,null,null,null,{"$error":"#VALUE!"},114,null,{"$f":"IF(AP313,VLOOKUP(AP313,HOM!$AR$551:$AS$606,2))","v":3.5710000000000002}]
["H",null,null,null,null,false,null,null,null,null,null,null,null,null,"",null,null,null,"","","","","",{"$f":"IF(AND(J314>=40,J314<45),VLOOKUP(K314,Feuil2!$F$10:$P$28,9),IF(AND(J314>=45,J314<50),VLOOKUP(K314,Feuil2!$F$10:$P$28,8),IF(AND(J314>=50,J314<55),VLOOKUP(K314,Feuil2!$F$10:$P$28,7),IF(AND(J314>=55,J314<60),VLOOKUP(K314,Feuil2!$F$10:$P$28,6),IF(AND(J314>=60,J314<65),VLOOKUP(K314,Feuil2!$F$10:$P$28,5),IF(AND(J314>=65,J314<70),VLOOKUP(K314,Feuil2!$F$10:$P$28,4),IF(AND(J314>=70,J314<75),VLOOKUP(K314,Feuil2!$F$10:$P$28,3),IF(AND(J314>=75,J314<80),VLOOKUP(K314,Feuil2!$F$10:$P$28,2),VLOOKUP(K314,Feuil2!$F$10:$P$28,2)))))))))","v":{"$error":"#N/A"}},null,{"$f":"T314-HLOOKUP(X314,Feuil2!$C$1:$CD$9,2,FALSE)","v":{"$error":"#VALUE!"}},{"$f":"T314-HLOOKUP(X314,Feuil2!$C$1:$CD$9,3,FALSE)","v":{"$error":"#VALUE!"}},{"$f":"T314-HLOOKUP(X314,Feuil2!$C$1:$CD$9,4,FALSE)","v":{"$error":"#VALUE!"}},{"$f":"T314-HLOOKUP(X314,Feuil2!$C$1:$CD$9,5,FALSE)","v":{"$error":"#VALUE!"}},{"$f":"T314-HLOOKUP(X314,Feuil2!$C$1:$CD$9,6,FALSE)","v":{"$error":"#VALUE!"}},{"$f":"T314-HLOOKUP(X314,Feuil2!$C$1:$CD$9,7,FALSE)","v":{"$error":"#VALUE!"}},{"$f":"T314-HLOOKUP(X314,Feuil2!$C$1:$CD$9,8,FALSE)","v":{"$error":"#VALUE!"}},{"$f":"T314-HLOOKUP(X314,Feuil2!$C$1:$CD$9,9,FALSE)","v":{"$error":"#VALUE!"}},null,null,null,null,null,null,null,{"$error":"#VALUE!"},114,null,{"$f":"IF(AP314,VLOOKUP(AP314,HOM!$AR$551:$AS$606,2))","v":3.5710000000000002}]
["H",null,null,null,null,false,null,null,null,null,null,null,null,null,"",null,null,null,"","","","","",{"$f":"IF(AND(J315>=40,J315<45),VLOOKUP(K315,Feuil2!$F$10:$P$28,9),IF(AND(J315>=45,J315<50),VLOOKUP(K315,Feuil2!$F$10:$P$28,8),IF(AND(J315>=50,J315<55),VLOOKUP(K315,Feuil2!$F$10:$P$28,7),IF(AND(J315>=55,J315<60),VLOOKUP(K315,Feuil2!$F$10:$P$28,6),IF(AND(J315>=60,J315<65),VLOOKUP(K315,Feuil2!$F$10:$P$28,5),IF(AND(J315>=65,J315<70),VLOOKUP(K315,Feuil2!$F$10:$P$28,4),IF(AND(J315>=70,J315<75),VLOOKUP(K315,Feuil2!$F$10:$P$28,3),IF(AND(J315>=75,J315<80),VLOOKUP(K315,Feuil2!$F$10:$P$28,2),VLOOKUP(K315,Feuil2!$F$10:$P$28,2)))))))))","v":{"$error":"#N/A"}},null,{"$f":"T315-HLOOKUP(X315,Feuil2!$C$1:$CD$9,2,FALSE)","v":{"$error":"#VALUE!"}},{"$f":"T315-HLOOKUP(X315,Feuil2!$C$1:$CD$9,3,FALSE)","v":{"$error":"#VALUE!"}},{"$f":"T315-HLOOKUP(X315,Feuil2!$C$1:$CD$9,4,FALSE)","v":{"$error":"#VALUE!"}},{"$f":"T315-HLOOKUP(X315,Feuil2!$C$1:$CD$9,5,FALSE)","v":{"$error":"#VALUE!"}},{"$f":"T315-HLOOKUP(X315,Feuil2!$C$1:$CD$9,6,FALSE)","v":{"$error":"#VALUE!"}},{"$f":"T315-HLOOKUP(X315,Feuil2!$C$1:$CD$9,7,FALSE)","v":{"$error":"#VALUE!"}},{"$f":"T315-HLOOKUP(X315,Feuil2!$C$1:$CD$9,8,FALSE)","v":{"$error":"#VALUE!"}},{"$f":"T315-HLOOKUP(X315,Feuil2!$C$1:$CD$9,9,FALSE)","v":{"$error":"#VALUE!"}},null,null,null,null,null,null,null,{"$error":"#VALUE!"},114,null,{"$f":"IF(AP315,VLOOKUP(AP315,HOM!$AR$551:$AS$606,2))","v":3.5710000000000002}]
["H",null,null,null,null,false,null,null,null,null,null,null,null,null,"",null,null,null,"","","","","",{"$f":"IF(AND(J316>=40,J316<45),VLOOKUP(K316,Feuil2!$F$10:$P$28,9),IF(AND(J316>=45,J316<50),VLOOKUP(K316,Feuil2!$F$10:$P$28,8),IF(AND(J316>=50,J316<55),VLOOKUP(K316,Feuil2!$F$10:$P$28,7),IF(AND(J316>=55,J316<60),VLOOKUP(K316,Feuil2!$F$10:$P$28,6),IF(AND(J316>=60,J316<65),VLOOKUP(K316,Feuil2!$F$10:$P$28,5),IF(AND(J316>=65,J316<70),VLOOKUP(K316,Feuil2!$F$10:$P$28,4),IF(AND(J316>=70,J316<75),VLOOKUP(K316,Feuil2!$F$10:$P$28,3),IF(AND(J316>=75,J316<80),VLOOKUP(K316,Feuil2!$F$10:$P$28,2),VLOOKUP(K316,Feuil2!$F$10:$P$28,2)))))))))","v":{"$error":"#N/A"}},null,{"$f":"T316-HLOOKUP(X316,Feuil2!$C$1:$CD$9,2,FALSE)","v":{"$error":"#VALUE!"}},{"$f":"T316-HLOOKUP(X316,Feuil2!$C$1:$CD$9,3,FALSE)","v":{"$error":"#VALUE!"}},{"$f":"T316-HLOOKUP(X316,Feuil2!$C$1:$CD$9,4,FALSE)","v":{"$error":"#VALUE!"}},{"$f":"T316-HLOOKUP(X316,Feuil2!$C$1:$CD$9,5,FALSE)","v":{"$error":"#VALUE!"}},{"$f":"T316-HLOOKUP(X316,Feuil2!$C$1:$CD$9,6,FALSE)","v":{"$error":"#VALUE!"}},{"$f":"T316-HLOOKUP(X316,Feuil2!$C$1:$CD$9,7,FALSE)","v":{"$error":"#VALUE!"}},{"$f":"T316-HLOOKUP(X316,Feuil2!$C$1:$CD$9,8,FALSE)","v":{"$error":"#VALUE!"}},{"$f":"T316-HLOOKUP(X316,Feuil2!$C$1:$CD$9,9,FALSE)","v":{"$error":"#VALUE!"}},null,null,null,null,null,null,null,{"$error":"#VALUE!"},114,null,{"$f":"IF(AP316,VLOOKUP(AP316,HOM!$AR$551:$AS$606,2))","v":3.5710000000000002}]
["H",null,null,null,null,{"$f":"IF(AP317<95,IF(AP317<=90,VLOOKUP(AP317,$AP$554:$AQ$609,2)))","v":false},null,null,null,null,null,null,null,null,"",null,null,null,"","","","","",{"$f":"IF(AND(J317>=40,J317<45),VLOOKUP(K317,Feuil2!$F$10:$P$28,9),IF(AND(J317>=45,J317<50),VLOOKUP(K317,Feuil2!$F$10:$P$28,8),IF(AND(J317>=50,J317<55),VLOOKUP(K317,Feuil2!$F$10:$P$28,7),IF(AND(J317>=55,J317<60),VLOOKUP(K317,Feuil2!$F$10:$P$28,6),IF(AND(J317>=60,J317<65),VLOOKUP(K317,Feuil2!$F$10:$P$28,5),IF(AND(J317>=65,J317<70),VLOOKUP(K317,Feuil2!$F$10:$P$28,4),IF(AND(J317>=70,J317<75),VLOOKUP(K317,Feuil2!$F$10:$P$28,3),IF(AND(J317>=75,J317<80),VLOOKUP(K317,Feuil2!$F$10:$P$28,2),VLOOKUP(K317,Feuil2!$F$10:$P$28,2)))))))))","v":{"$error":"#N/A"}},null,{"$f":"T317-HLOOKUP(X317,Feuil2!$C$1:$CD$9,2,FALSE)","v":{"$error":"#VALUE!"}},{"$f":"T317-HLOOKUP(X317,Feuil2!$C$1:$CD$9,3,FALSE)","v":{"$error":"#VALUE!"}},{"$f":"T317-HLOOKUP(X317,Feuil2!$C$1:$CD$9,4,FALSE)","v":{"$error":"#VALUE!"}},{"$f":"T317-HLOOKUP(X317,Feuil2!$C$1:$CD$9,5,FALSE)","v":{"$error":"#VALUE!"}},{"$f":"T317-HLOOKUP(X317,Feuil2!$C$1:$CD$9,6,FALSE)","v":{"$error":"#VALUE!"}},{"$f":"T317-HLOOKUP(X317,Feuil2!$C$1:$CD$9,7,FALSE)","v":{"$error":"#VALUE!"}},{"$f":"T317-HLOOKUP(X317,Feuil2!$C$1:$CD$9,8,FALSE)","v":{"$error":"#VALUE!"}},{"$f":"T317-HLOOKUP(X317,Feuil2!$C$1:$CD$9,9,FALSE)","v":{"$error":"#VALUE!"}},null,null,null,null,null,null,null,{"$error":"#VALUE!"},114,null,{"$f":"IF(AP317,VLOOKUP(AP317,HOM!$AR$551:$AS$606,2))","v":3.5710000000000002}]
["H",null,null,null,null,{"$f":"IF(AP318<95,IF(AP318<=90,VLOOKUP(AP318,$AP$554:$AQ$609,2)))","v":false},null,null,null,null,null,null,null,null,"",null,null,null,"","","","","",{"$f":"IF(AND(J318>=40,J318<45),VLOOKUP(K318,Feuil2!$F$10:$P$28,9),IF(AND(J318>=45,J318<50),VLOOKUP(K318,Feuil2!$F$10:$P$28,8),IF(AND(J318>=50,J318<55),VLOOKUP(K318,Feuil2!$F$10:$P$28,7),IF(AND(J318>=55,J318<60),VLOOKUP(K318,Feuil2!$F$10:$P$28,6),IF(AND(J318>=60,J318<65),VLOOKUP(K318,Feuil2!$F$10:$P$28,5),IF(AND(J318>=65,J318<70),VLOOKUP(K318,Feuil2!$F$10:$P$28,4),IF(AND(J318>=70,J318<75),VLOOKUP(K318,Feuil2!$F$10:$P$28,3),IF(AND(J318>=75,J318<80),VLOOKUP(K318,Feuil2!$F$10:$P$28,2),VLOOKUP(K318,Feuil2!$F$10:$P$28,2)))))))))","v":{"$error":"#N/A"}},null,{"$f":"T318-HLOOKUP(X318,Feuil2!$C$1:$CD$9,2,FALSE)","v":{"$error":"#VALUE!"}},{"$f":"T318-HLOOKUP(X318,Feuil2!$C$1:$CD$9,3,FALSE)","v":{"$error":"#VALUE!"}},{"$f":"T318-HLOOKUP(X318,Feuil2!$C$1:$CD$9,4,FALSE)","v":{"$error":"#VALUE!"}},{"$f":"T318-HLOOKUP(X318,Feuil2!$C$1:$CD$9,5,FALSE)","v":{"$error":"#VALUE!"}},{"$f":"T318-HLOOKUP(X318,Feuil2!$C$1:$CD$9,6,FALSE)","v":{"$error":"#VALUE!"}},{"$f":"T318-HLOOKUP(X318,Feuil2!$C$1:$CD$9,7,FALSE)","v":{"$error":"#VALUE!"}},{"$f":"T318-HLOOKUP(X318,Feuil2!$C$1:$CD$9,8,FALSE)","v":{"$error":"#VALUE!"}},{"$f":"T318-HLOOKUP(X318,Feuil2!$C$1:$CD$9,9,FALSE)","v":{"$error":"#VALUE!"}},null,null,null,null,null,null,null,{"$error":"#VALUE!"},114,null,{"$f":"IF(AP318,VLOOKUP(AP318,HOM!$AR$551:$AS$606,2))","v":3.5710000000000002}]
["H",null,null,null,null,{"$f":"IF(AP319<95,IF(AP319<=90,VLOOKUP(AP319,$AP$554:$AQ$609,2)))","v":false},null,null,null,null,null,null,null,null,"",null,null,null,"","","","","",{"$f":"IF(AND(J319>=40,J319<45),VLOOKUP(K319,Feuil2!$F$10:$P$28,9),IF(AND(J319>=45,J319<50),VLOOKUP(K319,Feuil2!$F$10:$P$28,8),IF(AND(J319>=50,J319<55),VLOOKUP(K319,Feuil2!$F$10:$P$28,7),IF(AND(J319>=55,J319<60),VLOOKUP(K319,Feuil2!$F$10:$P$28,6),IF(AND(J319>=60,J319<65),VLOOKUP(K319,Feuil2!$F$10:$P$28,5),IF(AND(J319>=65,J319<70),VLOOKUP(K319,Feuil2!$F$10:$P$28,4),IF(AND(J319>=70,J319<75),VLOOKUP(K319,Feuil2!$F$10:$P$28,3),IF(AND(J319>=75,J319<80),VLOOKUP(K319,Feuil2!$F$10:$P$28,2),VLOOKUP(K319,Feuil2!$F$10:$P$28,2)))))))))","v":{"$error":"#N/A"}},null,{"$f":"T319-HLOOKUP(X319,Feuil2!$C$1:$CD$9,2,FALSE)","v":{"$error":"#VALUE!"}},{"$f":"T319-HLOOKUP(X319,Feuil2!$C$1:$CD$9,3,FALSE)","v":{"$error":"#VALUE!"}},{"$f":"T319-HLOOKUP(X319,Feuil2!$C$1:$CD$9,4,FALSE)","v":{"$error":"#VALUE!"}},{"$f":"T319-HLOOKUP(X319,Feuil2!$C$1:$CD$9,5,FALSE)","v":{"$error":"#VALUE!"}},{"$f":"T319-HLOOKUP(X319,Feuil2!$C$1:$CD$9,6,FALSE)","v":{"$error":"#VALUE!"}},{"$f":"T319-HLOOKUP(X319,Feuil2!$C$1:$CD$9,7,FALSE)","v":{"$error":"#VALUE!"}},{"$f":"T319-HLOOKUP(X319,Feuil2!$C$1:$CD$9,8,FALSE)","v":{"$error":"#VALUE!"}},{"$f":"T319-HLOOKUP(X319,Feuil2!$C$1:$CD$9,9,FALSE)","v":{"$error":"#VALUE!"}},null,null,null,null,null,null,null,{"$error":"#VALUE!"},114,null,{"$f":"IF(AP319,VLOOKUP(AP319,HOM!$AR$551:$AS$606,2))","v":3.5710000000000002}]
["H",null,null,null,null,false,null,null,null,null,null,null,null,null,"",null,null,null,"","","","","",{"$f":"IF(AND(J320>=40,J320<45),VLOOKUP(K320,Feuil2!$F$10:$P$28,9),IF(AND(J320>=45,J320<50),VLOOKUP(K320,Feuil2!$F$10:$P$28,8),IF(AND(J320>=50,J320<55),VLOOKUP(K320,Feuil2!$F$10:$P$28,7),IF(AND(J320>=55,J320<60),VLOOKUP(K320,Feuil2!$F$10:$P$28,6),IF(AND(J320>=60,J320<65),VLOOKUP(K320,Feuil2!$F$10:$P$28,5),IF(AND(J320>=65,J320<70),VLOOKUP(K320,Feuil2!$F$10:$P$28,4),IF(AND(J320>=70,J320<75),VLOOKUP(K320,Feuil2!$F$10:$P$28,3),IF(AND(J320>=75,J320<80),VLOOKUP(K320,Feuil2!$F$10:$P$28,2),VLOOKUP(K320,Feuil2!$F$10:$P$28,2)))))))))","v":{"$error":"#N/A"}},null,{"$f":"T320-HLOOKUP(X320,Feuil2!$C$1:$CD$9,2,FALSE)","v":{"$error":"#VALUE!"}},{"$f":"T320-HLOOKUP(X320,Feuil2!$C$1:$CD$9,3,FALSE)","v":{"$error":"#VALUE!"}},{"$f":"T320-HLOOKUP(X320,Feuil2!$C$1:$CD$9,4,FALSE)","v":{"$error":"#VALUE!"}},{"$f":"T320-HLOOKUP(X320,Feuil2!$C$1:$CD$9,5,FALSE)","v":{"$error":"#VALUE!"}},{"$f":"T320-HLOOKUP(X320,Feuil2!$C$1:$CD$9,6,FALSE)","v":{"$error":"#VALUE!"}},{"$f":"T320-HLOOKUP(X320,Feuil2!$C$1:$CD$9,7,FALSE)","v":{"$error":"#VALUE!"}},{"$f":"T320-HLOOKUP(X320,Feuil2!$C$1:$CD$9,8,FALSE)","v":{"$error":"#VALUE!"}},{"$f":"T320-HLOOKUP(X320,Feuil2!$C$1:$CD$9,9,FALSE)","v":{"$error":"#VALUE!"}},null,null,null,null,null,null,null,{"$error":"#VALUE!"},114,null,{"$f":"IF(AP320,VLOOKUP(AP320,HOM!$AR$551:$AS$606,2))","v":3.5710000000000002}]
["H",null,null,null,null,false,null,null,null,null,null,null,null,null,"",null,null,null,"","","","","",{"$f":"IF(AND(J321>=40,J321<45),VLOOKUP(K321,Feuil2!$F$10:$P$28,9),IF(AND(J321>=45,J321<50),VLOOKUP(K321,Feuil2!$F$10:$P$28,8),IF(AND(J321>=50,J321<55),VLOOKUP(K321,Feuil2!$F$10:$P$28,7),IF(AND(J321>=55,J321<60),VLOOKUP(K321,Feuil2!$F$10:$P$28,6),IF(AND(J321>=60,J321<65),VLOOKUP(K321,Feuil2!$F$10:$P$28,5),IF(AND(J321>=65,J321<70),VLOOKUP(K321,Feuil2!$F$10:$P$28,4),IF(AND(J321>=70,J321<75),VLOOKUP(K321,Feuil2!$F$10:$P$28,3),IF(AND(J321>=75,J321<80),VLOOKUP(K321,Feuil2!$F$10:$P$28,2),VLOOKUP(K321,Feuil2!$F$10:$P$28,2)))))))))","v":{"$error":"#N/A"}},null,{"$f":"T321-HLOOKUP(X321,Feuil2!$C$1:$CD$9,2,FALSE)","v":{"$error":"#VALUE!"}},{"$f":"T321-HLOOKUP(X321,Feuil2!$C$1:$CD$9,3,FALSE)","v":{"$error":"#VALUE!"}},{"$f":"T321-HLOOKUP(X321,Feuil2!$C$1:$CD$9,4,FALSE)","v":{"$error":"#VALUE!"}},{"$f":"T321-HLOOKUP(X321,Feuil2!$C$1:$CD$9,5,FALSE)","v":{"$error":"#VALUE!"}},{"$f":"T321-HLOOKUP(X321,Feuil2!$C$1:$CD$9,6,FALSE)","v":{"$error":"#VALUE!"}},{"$f":"T321-HLOOKUP(X321,Feuil2!$C$1:$CD$9,7,FALSE)","v":{"$error":"#VALUE!"}},{"$f":"T321-HLOOKUP(X321,Feuil2!$C$1:$CD$9,8,FALSE)","v":{"$error":"#VALUE!"}},{"$f":"T321-HLOOKUP(X321,Feuil2!$C$1:$CD$9,9,FALSE)","v":{"$error":"#VALUE!"}},null,null,null,null,null,null,null,{"$error":"#VALUE!"},114,null,{"$f":"IF(AP321,VLOOKUP(AP321,HOM!$AR$551:$AS$606,2))","v":3.5710000000000002}]
["H",null,null,null,null,false,null,null,null,null,null,null,null,null,"",null,null,null,"","","","","",{"$f":"IF(AND(J322>=40,J322<45),VLOOKUP(K322,Feuil2!$F$10:$P$28,9),IF(AND(J322>=45,J322<50),VLOOKUP(K322,Feuil2!$F$10:$P$28,8),IF(AND(J322>=50,J322<55),VLOOKUP(K322,Feuil2!$F$10:$P$28,7),IF(AND(J322>=55,J322<60),VLOOKUP(K322,Feuil2!$F$10:$P$28,6),IF(AND(J322>=60,J322<65),VLOOKUP(K322,Feuil2!$F$10:$P$28,5),IF(AND(J322>=65,J322<70),VLOOKUP(K322,Feuil2!$F$10:$P$28,4),IF(AND(J322>=70,J322<75),VLOOKUP(K322,Feuil2!$F$10:$P$28,3),IF(AND(J322>=75,J322<80),VLOOKUP(K322,Feuil2!$F$10:$P$28,2),VLOOKUP(K322,Feuil2!$F$10:$P$28,2)))))))))","v":{"$error":"#N/A"}},null,{"$f":"T322-HLOOKUP(X322,Feuil2!$C$1:$CD$9,2,FALSE)","v":{"$error":"#VALUE!"}},{"$f":"T322-HLOOKUP(X322,Feuil2!$C$1:$CD$9,3,FALSE)","v":{"$error":"#VALUE!"}},{"$f":"T322-HLOOKUP(X322,Feuil2!$C$1:$CD$9,4,FALSE)","v":{"$error":"#VALUE!"}},{"$f":"T322-HLOOKUP(X322,Feuil2!$C$1:$CD$9,5,FALSE)","v":{"$error":"#VALUE!"}},{"$f":"T322-HLOOKUP(X322,Feuil2!$C$1:$CD$9,6,FALSE)","v":{"$error":"#VALUE!"}},{"$f":"T322-HLOOKUP(X322,Feuil2!$C$1:$CD$9,7,FALSE)","v":{"$error":"#VALUE!"}},{"$f":"T322-HLOOKUP(X322,Feuil2!$C$1:$CD$9,8,FALSE)","v":{"$error":"#VALUE!"}},{"$f":"T322-HLOOKUP(X322,Feuil2!$C$1:$CD$9,9,FALSE)","v":{"$error":"#VALUE!"}},null,null,null,null,null,null,null,{"$error":"#VALUE!"},114,null,{"$f":"IF(AP322,VLOOKUP(AP322,HOM!$AR$551:$AS$606,2))","v":3.5710000000000002}]
["H",null,null,null,null,false,null,null,null,null,null,null,null,null,"",null,null,null,"","","","","",{"$f":"IF(AND(J323>=40,J323<45),VLOOKUP(K323,Feuil2!$F$10:$P$28,9),IF(AND(J323>=45,J323<50),VLOOKUP(K323,Feuil2!$F$10:$P$28,8),IF(AND(J323>=50,J323<55),VLOOKUP(K323,Feuil2!$F$10:$P$28,7),IF(AND(J323>=55,J323<60),VLOOKUP(K323,Feuil2!$F$10:$P$28,6),IF(AND(J323>=60,J323<65),VLOOKUP(K323,Feuil2!$F$10:$P$28,5),IF(AND(J323>=65,J323<70),VLOOKUP(K323,Feuil2!$F$10:$P$28,4),IF(AND(J323>=70,J323<75),VLOOKUP(K323,Feuil2!$F$10:$P$28,3),IF(AND(J323>=75,J323<80),VLOOKUP(K323,Feuil2!$F$10:$P$28,2),VLOOKUP(K323,Feuil2!$F$10:$P$28,2)))))))))","v":{"$error":"#N/A"}},null,{"$f":"T323-HLOOKUP(X323,Feuil2!$C$1:$CD$9,2,FALSE)","v":{"$error":"#VALUE!"}},{"$f":"T323-HLOOKUP(X323,Feuil2!$C$1:$CD$9,3,FALSE)","v":{"$error":"#VALUE!"}},{"$f":"T323-HLOOKUP(X323,Feuil2!$C$1:$CD$9,4,FALSE)","v":{"$error":"#VALUE!"}},{"$f":"T323-HLOOKUP(X323,Feuil2!$C$1:$CD$9,5,FALSE)","v":{"$error":"#VALUE!"}},{"$f":"T323-HLOOKUP(X323,Feuil2!$C$1:$CD$9,6,FALSE)","v":{"$error":"#VALUE!"}},{"$f":"T323-HLOOKUP(X323,Feuil2!$C$1:$CD$9,7,FALSE)","v":{"$error":"#VALUE!"}},{"$f":"T323-HLOOKUP(X323,Feuil2!$C$1:$CD$9,8,FALSE)","v":{"$error":"#VALUE!"}},{"$f":"T323-HLOOKUP(X323,Feuil2!$C$1:$CD$9,9,FALSE)","v":{"$error":"#VALUE!"}},null,null,null,null,null,null,null,{"$error":"#VALUE!"},114,null,{"$f":"IF(AP323,VLOOKUP(AP323,HOM!$AR$551:$AS$606,2))","v":3.5710000000000002}]
["H",null,null,null,null,{"$f":"IF(AP324<95,IF(AP324<=90,VLOOKUP(AP324,$AP$554:$AQ$609,2)))","v":false},null,null,null,null,null,null,null,null,{"$f":"IF(K324=\"\",\"\",IF(MAXA(L324:N324)<=0,0,MAXA(L324:N324)))","v":""},null,null,null,{"$f":"IF(K324=\"\",\"\",IF(MAXA(P324:R324)<=0,0,MAXA(P324:R324)))","v":""},{"$f":"IF(K324=\"\",\"\",IF(OR(O324=0,S324=0),0,O324+S324))","v":""},"","","",{"$f":"IF(AND(J324>=40,J324<45),VLOOKUP(K324,Feuil2!$F$10:$P$28,9),IF(AND(J324>=45,J324<50),VLOOKUP(K324,Feuil2!$F$10:$P$28,8),IF(AND(J324>=50,J324<55),VLOOKUP(K324,Feuil2!$F$10:$P$28,7),IF(AND(J324>=55,J324<60),VLOOKUP(K324,Feuil2!$F$10:$P$28,6),IF(AND(J324>=60,J324<65),VLOOKUP(K324,Feuil2!$F$10:$P$28,5),IF(AND(J324>=65,J324<70),VLOOKUP(K324,Feuil2!$F$10:$P$28,4),IF(AND(J324>=70,J324<75),VLOOKUP(K324,Feuil2!$F$10:$P$28,3),IF(AND(J324>=75,J324<80),VLOOKUP(K324,Feuil2!$F$10:$P$28,2),VLOOKUP(K324,Feuil2!$F$10:$P$28,2)))))))))","v":{"$error":"#N/A"}},null,{"$f":"T324-HLOOKUP(X324,Feuil2!$C$1:$CD$9,2,FALSE)","v":{"$error":"#VALUE!"}},{"$f":"T324-HLOOKUP(X324,Feuil2!$C$1:$CD$9,3,FALSE)","v":{"$error":"#VALUE!"}},{"$f":"T324-HLOOKUP(X324,Feuil2!$C$1:$CD$9,4,FALSE)","v":{"$error":"#VALUE!"}},{"$f":"T324-HLOOKUP(X324,Feuil2!$C$1:$CD$9,5,FALSE)","v":{"$error":"#VALUE!"}},{"$f":"T324-HLOOKUP(X324,Feuil2!$C$1:$CD$9,6,FALSE)","v":{"$error":"#VALUE!"}},{"$f":"T324-HLOOKUP(X324,Feuil2!$C$1:$CD$9,7,FALSE)","v":{"$error":"#VALUE!"}},{"$f":"T324-HLOOKUP(X324,Feuil2!$C$1:$CD$9,8,FALSE)","v":{"$error":"#VALUE!"}},{"$f":"T324-HLOOKUP(X324,Feuil2!$C$1:$CD$9,9,FALSE)","v":{"$error":"#VALUE!"}},null,null,null,null,null,null,null,{"$error":"#VALUE!"},114,null,{"$f":"IF(AP324,VLOOKUP(AP324,HOM!$AR$551:$AS$606,2))","v":3.5710000000000002}]
["H",null,null,null,null,{"$f":"IF(AP325<95,IF(AP325<=90,VLOOKUP(AP325,$AP$554:$AQ$609,2)))","v":false},null,null,null,null,null,null,null,null,{"$f":"IF(K325=\"\",\"\",IF(MAXA(L325:N325)<=0,0,MAXA(L325:N325)))","v":""},null,null,null,{"$f":"IF(K325=\"\",\"\",IF(MAXA(P325:R325)<=0,0,MAXA(P325:R325)))","v":""},{"$f":"IF(K325=\"\",\"\",IF(OR(O325=0,S325=0),0,O325+S325))","v":""},"","","",{"$f":"IF(AND(J325>=40,J325<45),VLOOKUP(K325,Feuil2!$F$10:$P$28,9),IF(AND(J325>=45,J325<50),VLOOKUP(K325,Feuil2!$F$10:$P$28,8),IF(AND(J325>=50,J325<55),VLOOKUP(K325,Feuil2!$F$10:$P$28,7),IF(AND(J325>=55,J325<60),VLOOKUP(K325,Feuil2!$F$10:$P$28,6),IF(AND(J325>=60,J325<65),VLOOKUP(K325,Feuil2!$F$10:$P$28,5),IF(AND(J325>=65,J325<70),VLOOKUP(K325,Feuil2!$F$10:$P$28,4),IF(AND(J325>=70,J325<75),VLOOKUP(K325,Feuil2!$F$10:$P$28,3),IF(AND(J325>=75,J325<80),VLOOKUP(K325,Feuil2!$F$10:$P$28,2),VLOOKUP(K325,Feuil2!$F$10:$P$28,2)))))))))","v":{"$error":"#N/A"}},null,{"$f":"T325-HLOOKUP(X325,Feuil2!$C$1:$CD$9,2,FALSE)","v":{"$error":"#VALUE!"}},{"$f":"T325-HLOOKUP(X325,Feuil2!$C$1:$CD$9,3,FALSE)","v":{"$error":"#VALUE!"}},{"$f":"T325-HLOOKUP(X325,Feuil2!$C$1:$CD$9,4,FALSE)","v":{"$error":"#VALUE!"}},{"$f":"T325-HLOOKUP(X325,Feuil2!$C$1:$CD$9,5,FALSE)","v":{"$error":"#VALUE!"}},{"$f":"T325-HLOOKUP(X325,Feuil2!$C$1:$CD$9,6,FALSE)","v":{"$error":"#VALUE!"}},{"$f":"T325-HLOOKUP(X325,Feuil2!$C$1:$CD$9,7,FALSE)","v":{"$error":"#VALUE!"}},{"$f":"T325-HLOOKUP(X325,Feuil2!$C$1:$CD$9,8,FALSE)","v":{"$error":"#VALUE!"}},{"$f":"T325-HLOOKUP(X325,Feuil2!$C$1:$CD$9,9,FALSE)","v":{"$error":"#VALUE!"}},null,null,null,null,null,null,null,{"$error":"#VALUE!"},114,null,{"$f":"IF(AP325,VLOOKUP(AP325,HOM!$AR$551:$AS$606,2))","v":3.5710000000000002}]
["H",null,null,null,null,{"$f":"IF(AP326<95,IF(AP326<=90,VLOOKUP(AP326,$AP$554:$AQ$609,2)))","v":false},null,null,null,null,null,null,null,null,{"$f":"IF(K326=\"\",\"\",IF(MAXA(L326:N326)<=0,0,MAXA(L326:N326)))","v":""},null,null,null,{"$f":"IF(K326=\"\",\"\",IF(MAXA(P326:R326)<=0,0,MAXA(P326:R326)))","v":""},{"$f":"IF(K326=\"\",\"\",IF(OR(O326=0,S326=0),0,O326+S326))","v":""},"","","",{"$f":"IF(AND(J326>=40,J326<45),VLOOKUP(K326,Feuil2!$F$10:$P$28,9),IF(AND(J326>=45,J326<50),VLOOKUP(K326,Feuil2!$F$10:$P$28,8),IF(AND(J326>=50,J326<55),VLOOKUP(K326,Feuil2!$F$10:$P$28,7),IF(AND(J326>=55,J326<60),VLOOKUP(K326,Feuil2!$F$10:$P$28,6),IF(AND(J326>=60,J326<65),VLOOKUP(K326,Feuil2!$F$10:$P$28,5),IF(AND(J326>=65,J326<70),VLOOKUP(K326,Feuil2!$F$10:$P$28,4),IF(AND(J326>=70,J326<75),VLOOKUP(K326,Feuil2!$F$10:$P$28,3),IF(AND(J326>=75,J326<80),VLOOKUP(K326,Feuil2!$F$10:$P$28,2),VLOOKUP(K326,Feuil2!$F$10:$P$28,2)))))))))","v":{"$error":"#N/A"}},null,{"$f":"T326-HLOOKUP(X326,Feuil2!$C$1:$CD$9,2,FALSE)","v":{"$error":"#VALUE!"}},{"$f":"T326-HLOOKUP(X326,Feuil2!$C$1:$CD$9,3,FALSE)","v":{"$error":"#VALUE!"}},{"$f":"T326-HLOOKUP(X326,Feuil2!$C$1:$CD$9,4,FALSE)","v":{"$error":"#VALUE!"}},{"$f":"T326-HLOOKUP(X326,Feuil2!$C$1:$CD$9,5,FALSE)","v":{"$error":"#VALUE!"}},{"$f":"T326-HLOOKUP(X326,Feuil2!$C$1:$CD$9,6,FALSE)","v":{"$error":"#VALUE!"}},{"$f":"T326-HLOOKUP(X326,Feuil2!$C$1:$CD$9,7,FALSE)","v":{"$error":"#VALUE!"}},{"$f":"T326-HLOOKUP(X326,Feuil2!$C$1:$CD$9,8,FALSE)","v":{"$error":"#VALUE!"}},{"$f":"T326-HLOOKUP(X326,Feuil2!$C$1:$CD$9,9,FALSE)","v":{"$error":"#VALUE!"}},null,null,null,null,null,null,null,{"$error":"#VALUE!"},114,null,{"$f":"IF(AP326,VLOOKUP(AP326,HOM!$AR$551:$AS$606,2))","v":3.5710000000000002}]
["H",null,null,null,null,{"$f":"IF(AP327<95,IF(AP327<=90,VLOOKUP(AP327,$AP$550:$AQ$605,2)))","v":false},null,null,null,null,null,null,null,null,{"$f":"IF(K327=\"\",\"\",IF(MAXA(L327:N327)<=0,0,MAXA(L327:N327)))","v":""},null,null,null,{"$f":"IF(K327=\"\",\"\",IF(MAXA(P327:R327)<=0,0,MAXA(P327:R327)))","v":""},{"$f":"IF(K327=\"\",\"\",IF(OR(O327=0,S327=0),0,O327+S327))","v":""},"","","",{"$f":"IF(AND(J327>=40,J327<45),VLOOKUP(K327,Feuil2!$F$10:$P$28,9),IF(AND(J327>=45,J327<50),VLOOKUP(K327,Feuil2!$F$10:$P$28,8),IF(AND(J327>=50,J327<55),VLOOKUP(K327,Feuil2!$F$10:$P$28,7),IF(AND(J327>=55,J327<60),VLOOKUP(K327,Feuil2!$F$10:$P$28,6),IF(AND(J327>=60,J327<65),VLOOKUP(K327,Feuil2!$F$10:$P$28,5),IF(AND(J327>=65,J327<70),VLOOKUP(K327,Feuil2!$F$10:$P$28,4),IF(AND(J327>=70,J327<75),VLOOKUP(K327,Feuil2!$F$10:$P$28,3),IF(AND(J327>=75,J327<80),VLOOKUP(K327,Feuil2!$F$10:$P$28,2),VLOOKUP(K327,Feuil2!$F$10:$P$28,2)))))))))","v":{"$error":"#N/A"}},null,{"$f":"T327-HLOOKUP(X327,Feuil2!$C$1:$CD$9,2,FALSE)","v":{"$error":"#VALUE!"}},{"$f":"T327-HLOOKUP(X327,Feuil2!$C$1:$CD$9,3,FALSE)","v":{"$error":"#VALUE!"}},{"$f":"T327-HLOOKUP(X327,Feuil2!$C$1:$CD$9,4,FALSE)","v":{"$error":"#VALUE!"}},{"$f":"T327-HLOOKUP(X327,Feuil2!$C$1:$CD$9,5,FALSE)","v":{"$error":"#VALUE!"}},{"$f":"T327-HLOOKUP(X327,Feuil2!$C$1:$CD$9,6,FALSE)","v":{"$error":"#VALUE!"}},{"$f":"T327-HLOOKUP(X327,Feuil2!$C$1:$CD$9,7,FALSE)","v":{"$error":"#VALUE!"}},{"$f":"T327-HLOOKUP(X327,Feuil2!$C$1:$CD$9,8,FALSE)","v":{"$error":"#VALUE!"}},{"$f":"T327-HLOOKUP(X327,Feuil2!$C$1:$CD$9,9,FALSE)","v":{"$error":"#VALUE!"}},null,null,null,null,null,null,null,{"$error":"#VALUE!"},114,null,{"$f":"IF(AP327,VLOOKUP(AP327,HOM!$AR$551:$AS$606,2))","v":3.5710000000000002}]
["H",null,null,null,null,false,null,null,null,null,null,null,null,null,"",null,null,null,"","","","","",{"$f":"IF(AND(J328>=40,J328<45),VLOOKUP(K328,Feuil2!$F$10:$P$28,9),IF(AND(J328>=45,J328<50),VLOOKUP(K328,Feuil2!$F$10:$P$28,8),IF(AND(J328>=50,J328<55),VLOOKUP(K328,Feuil2!$F$10:$P$28,7),IF(AND(J328>=55,J328<60),VLOOKUP(K328,Feuil2!$F$10:$P$28,6),IF(AND(J328>=60,J328<65),VLOOKUP(K328,Feuil2!$F$10:$P$28,5),IF(AND(J328>=65,J328<70),VLOOKUP(K328,Feuil2!$F$10:$P$28,4),IF(AND(J328>=70,J328<75),VLOOKUP(K328,Feuil2!$F$10:$P$28,3),IF(AND(J328>=75,J328<80),VLOOKUP(K328,Feuil2!$F$10:$P$28,2),VLOOKUP(K328,Feuil2!$F$10:$P$28,2)))))))))","v":{"$error":"#N/A"}},null,{"$f":"T328-HLOOKUP(X328,Feuil2!$C$1:$CD$9,2,FALSE)","v":{"$error":"#VALUE!"}},{"$f":"T328-HLOOKUP(X328,Feuil2!$C$1:$CD$9,3,FALSE)","v":{"$error":"#VALUE!"}},{"$f":"T328-HLOOKUP(X328,Feuil2!$C$1:$CD$9,4,FALSE)","v":{"$error":"#VALUE!"}},{"$f":"T328-HLOOKUP(X328,Feuil2!$C$1:$CD$9,5,FALSE)","v":{"$error":"#VALUE!"}},{"$f":"T328-HLOOKUP(X328,Feuil2!$C$1:$CD$9,6,FALSE)","v":{"$error":"#VALUE!"}},{"$f":"T328-HLOOKUP(X328,Feuil2!$C$1:$CD$9,7,FALSE)","v":{"$error":"#VALUE!"}},{"$f":"T328-HLOOKUP(X328,Feuil2!$C$1:$CD$9,8,FALSE)","v":{"$error":"#VALUE!"}},{"$f":"T328-HLOOKUP(X328,Feuil2!$C$1:$CD$9,9,FALSE)","v":{"$error":"#VALUE!"}},null,null,null,null,null,null,null,{"$error":"#VALUE!"},114,null,{"$f":"IF(AP328,VLOOKUP(AP328,HOM!$AR$551:$AS$606,2))","v":3.5710000000000002}]
["H",null,null,null,null,false,null,null,null,null,null,null,null,null,"",null,null,null,"","","","","",{"$f":"IF(AND(J329>=40,J329<45),VLOOKUP(K329,Feuil2!$F$10:$P$28,9),IF(AND(J329>=45,J329<50),VLOOKUP(K329,Feuil2!$F$10:$P$28,8),IF(AND(J329>=50,J329<55),VLOOKUP(K329,Feuil2!$F$10:$P$28,7),IF(AND(J329>=55,J329<60),VLOOKUP(K329,Feuil2!$F$10:$P$28,6),IF(AND(J329>=60,J329<65),VLOOKUP(K329,Feuil2!$F$10:$P$28,5),IF(AND(J329>=65,J329<70),VLOOKUP(K329,Feuil2!$F$10:$P$28,4),IF(AND(J329>=70,J329<75),VLOOKUP(K329,Feuil2!$F$10:$P$28,3),IF(AND(J329>=75,J329<80),VLOOKUP(K329,Feuil2!$F$10:$P$28,2),VLOOKUP(K329,Feuil2!$F$10:$P$28,2)))))))))","v":{"$error":"#N/A"}},null,{"$f":"T329-HLOOKUP(X329,Feuil2!$C$1:$CD$9,2,FALSE)","v":{"$error":"#VALUE!"}},{"$f":"T329-HLOOKUP(X329,Feuil2!$C$1:$CD$9,3,FALSE)","v":{"$error":"#VALUE!"}},{"$f":"T329-HLOOKUP(X329,Feuil2!$C$1:$CD$9,4,FALSE)","v":{"$error":"#VALUE!"}},{"$f":"T329-HLOOKUP(X329,Feuil2!$C$1:$CD$9,5,FALSE)","v":{"$error":"#VALUE!"}},{"$f":"T329-HLOOKUP(X329,Feuil2!$C$1:$CD$9,6,FALSE)","v":{"$error":"#VALUE!"}},{"$f":"T329-HLOOKUP(X329,Feuil2!$C$1:$CD$9,7,FALSE)","v":{"$error":"#VALUE!"}},{"$f":"T329-HLOOKUP(X329,Feuil2!$C$1:$CD$9,8,FALSE)","v":{"$error":"#VALUE!"}},{"$f":"T329-HLOOKUP(X329,Feuil2!$C$1:$CD$9,9,FALSE)","v":{"$error":"#VALUE!"}},null,null,null,null,null,null,null,{"$error":"#VALUE!"},114,null,{"$f":"IF(AP329,VLOOKUP(AP329,HOM!$AR$551:$AS$606,2))","v":3.5710000000000002}]
["H",null,null,null,null,false,null,null,null,null,null,null,null,null,"",null,null,null,"","","","","",{"$f":"IF(AND(J330>=40,J330<45),VLOOKUP(K330,Feuil2!$F$10:$P$28,9),IF(AND(J330>=45,J330<50),VLOOKUP(K330,Feuil2!$F$10:$P$28,8),IF(AND(J330>=50,J330<55),VLOOKUP(K330,Feuil2!$F$10:$P$28,7),IF(AND(J330>=55,J330<60),VLOOKUP(K330,Feuil2!$F$10:$P$28,6),IF(AND(J330>=60,J330<65),VLOOKUP(K330,Feuil2!$F$10:$P$28,5),IF(AND(J330>=65,J330<70),VLOOKUP(K330,Feuil2!$F$10:$P$28,4),IF(AND(J330>=70,J330<75),VLOOKUP(K330,Feuil2!$F$10:$P$28,3),IF(AND(J330>=75,J330<80),VLOOKUP(K330,Feuil2!$F$10:$P$28,2),VLOOKUP(K330,Feuil2!$F$10:$P$28,2)))))))))","v":{"$error":"#N/A"}},null,{"$f":"T330-HLOOKUP(X330,Feuil2!$C$1:$CD$9,2,FALSE)","v":{"$error":"#VALUE!"}},{"$f":"T330-HLOOKUP(X330,Feuil2!$C$1:$CD$9,3,FALSE)","v":{"$error":"#VALUE!"}},{"$f":"T330-HLOOKUP(X330,Feuil2!$C$1:$CD$9,4,FALSE)","v":{"$error":"#VALUE!"}},{"$f":"T330-HLOOKUP(X330,Feuil2!$C$1:$CD$9,5,FALSE)","v":{"$error":"#VALUE!"}},{"$f":"T330-HLOOKUP(X330,Feuil2!$C$1:$CD$9,6,FALSE)","v":{"$error":"#VALUE!"}},{"$f":"T330-HLOOKUP(X330,Feuil2!$C$1:$CD$9,7,FALSE)","v":{"$error":"#VALUE!"}},{"$f":"T330-HLOOKUP(X330,Feuil2!$C$1:$CD$9,8,FALSE)","v":{"$error":"#VALUE!"}},{"$f":"T330-HLOOKUP(X330,Feuil2!$C$1:$CD$9,9,FALSE)","v":{"$error":"#VALUE!"}},null,null,null,null,null,null,null,{"$error":"#VALUE!"},114,null,{"$f":"IF(AP330,VLOOKUP(AP330,HOM!$AR$551:$AS$606,2))","v":3.5710000000000002}]
["H",null,null,null,null,false,null,null,null,null,null,null,null,null,"",null,null,null,"","","","","",{"$f":"IF(AND(J331>=40,J331<45),VLOOKUP(K331,Feuil2!$F$10:$P$28,9),IF(AND(J331>=45,J331<50),VLOOKUP(K331,Feuil2!$F$10:$P$28,8),IF(AND(J331>=50,J331<55),VLOOKUP(K331,Feuil2!$F$10:$P$28,7),IF(AND(J331>=55,J331<60),VLOOKUP(K331,Feuil2!$F$10:$P$28,6),IF(AND(J331>=60,J331<65),VLOOKUP(K331,Feuil2!$F$10:$P$28,5),IF(AND(J331>=65,J331<70),VLOOKUP(K331,Feuil2!$F$10:$P$28,4),IF(AND(J331>=70,J331<75),VLOOKUP(K331,Feuil2!$F$10:$P$28,3),IF(AND(J331>=75,J331<80),VLOOKUP(K331,Feuil2!$F$10:$P$28,2),VLOOKUP(K331,Feuil2!$F$10:$P$28,2)))))))))","v":{"$error":"#N/A"}},null,{"$f":"T331-HLOOKUP(X331,Feuil2!$C$1:$CD$9,2,FALSE)","v":{"$error":"#VALUE!"}},{"$f":"T331-HLOOKUP(X331,Feuil2!$C$1:$CD$9,3,FALSE)","v":{"$error":"#VALUE!"}},{"$f":"T331-HLOOKUP(X331,Feuil2!$C$1:$CD$9,4,FALSE)","v":{"$error":"#VALUE!"}},{"$f":"T331-HLOOKUP(X331,Feuil2!$C$1:$CD$9,5,FALSE)","v":{"$error":"#VALUE!"}},{"$f":"T331-HLOOKUP(X331,Feuil2!$C$1:$CD$9,6,FALSE)","v":{"$error":"#VALUE!"}},{"$f":"T331-HLOOKUP(X331,Feuil2!$C$1:$CD$9,7,FALSE)","v":{"$error":"#VALUE!"}},{"$f":"T331-HLOOKUP(X331,Feuil2!$C$1:$CD$9,8,FALSE)","v":{"$error":"#VALUE!"}},{"$f":"T331-HLOOKUP(X331,Feuil2!$C$1:$CD$9,9,FALSE)","v":{"$error":"#VALUE!"}},null,null,null,null,null,null,null,{"$error":"#VALUE!"},114,null,{"$f":"IF(AP331,VLOOKUP(AP331,HOM!$AR$551:$AS$606,2))","v":3.5710000000000002}]
["H",null,null,null,null,false,null,null,null,null,null,null,null,null,"",null,null,null,"","","","","",{"$f":"IF(AND(J332>=40,J332<45),VLOOKUP(K332,Feuil2!$F$10:$P$28,9),IF(AND(J332>=45,J332<50),VLOOKUP(K332,Feuil2!$F$10:$P$28,8),IF(AND(J332>=50,J332<55),VLOOKUP(K332,Feuil2!$F$10:$P$28,7),IF(AND(J332>=55,J332<60),VLOOKUP(K332,Feuil2!$F$10:$P$28,6),IF(AND(J332>=60,J332<65),VLOOKUP(K332,Feuil2!$F$10:$P$28,5),IF(AND(J332>=65,J332<70),VLOOKUP(K332,Feuil2!$F$10:$P$28,4),IF(AND(J332>=70,J332<75),VLOOKUP(K332,Feuil2!$F$10:$P$28,3),IF(AND(J332>=75,J332<80),VLOOKUP(K332,Feuil2!$F$10:$P$28,2),VLOOKUP(K332,Feuil2!$F$10:$P$28,2)))))))))","v":{"$error":"#N/A"}},null,{"$f":"T332-HLOOKUP(X332,Feuil2!$C$1:$CD$9,2,FALSE)","v":{"$error":"#VALUE!"}},{"$f":"T332-HLOOKUP(X332,Feuil2!$C$1:$CD$9,3,FALSE)","v":{"$error":"#VALUE!"}},{"$f":"T332-HLOOKUP(X332,Feuil2!$C$1:$CD$9,4,FALSE)","v":{"$error":"#VALUE!"}},{"$f":"T332-HLOOKUP(X332,Feuil2!$C$1:$CD$9,5,FALSE)","v":{"$error":"#VALUE!"}},{"$f":"T332-HLOOKUP(X332,Feuil2!$C$1:$CD$9,6,FALSE)","v":{"$error":"#VALUE!"}},{"$f":"T332-HLOOKUP(X332,Feuil2!$C$1:$CD$9,7,FALSE)","v":{"$error":"#VALUE!"}},{"$f":"T332-HLOOKUP(X332,Feuil2!$C$1:$CD$9,8,FALSE)","v":{"$error":"#VALUE!"}},{"$f":"T332-HLOOKUP(X332,Feuil2!$C$1:$CD$9,9,FALSE)","v":{"$error":"#VALUE!"}},null,null,null,null,null,null,null,{"$error":"#VALUE!"},114,null,{"$f":"IF(AP332,VLOOKUP(AP332,HOM!$AR$551:$AS$606,2))","v":3.5710000000000002}]
["H",null,null,null,null,false,null,null,null,null,null,null,null,null,"",null,null,null,"","","","","",{"$f":"IF(AND(J333>=40,J333<45),VLOOKUP(K333,Feuil2!$F$10:$P$28,9),IF(AND(J333>=45,J333<50),VLOOKUP(K333,Feuil2!$F$10:$P$28,8),IF(AND(J333>=50,J333<55),VLOOKUP(K333,Feuil2!$F$10:$P$28,7),IF(AND(J333>=55,J333<60),VLOOKUP(K333,Feuil2!$F$10:$P$28,6),IF(AND(J333>=60,J333<65),VLOOKUP(K333,Feuil2!$F$10:$P$28,5),IF(AND(J333>=65,J333<70),VLOOKUP(K333,Feuil2!$F$10:$P$28,4),IF(AND(J333>=70,J333<75),VLOOKUP(K333,Feuil2!$F$10:$P$28,3),IF(AND(J333>=75,J333<80),VLOOKUP(K333,Feuil2!$F$10:$P$28,2),VLOOKUP(K333,Feuil2!$F$10:$P$28,2)))))))))","v":{"$error":"#N/A"}},null,{"$f":"T333-HLOOKUP(X333,Feuil2!$C$1:$CD$9,2,FALSE)","v":{"$error":"#VALUE!"}},{"$f":"T333-HLOOKUP(X333,Feuil2!$C$1:$CD$9,3,FALSE)","v":{"$error":"#VALUE!"}},{"$f":"T333-HLOOKUP(X333,Feuil2!$C$1:$CD$9,4,FALSE)","v":{"$error":"#VALUE!"}},{"$f":"T333-HLOOKUP(X333,Feuil2!$C$1:$CD$9,5,FALSE)","v":{"$error":"#VALUE!"}},{"$f":"T333-HLOOKUP(X333,Feuil2!$C$1:$CD$9,6,FALSE)","v":{"$error":"#VALUE!"}},{"$f":"T333-HLOOKUP(X333,Feuil2!$C$1:$CD$9,7,FALSE)","v":{"$error":"#VALUE!"}},{"$f":"T333-HLOOKUP(X333,Feuil2!$C$1:$CD$9,8,FALSE)","v":{"$error":"#VALUE!"}},{"$f":"T333-HLOOKUP(X333,Feuil2!$C$1:$CD$9,9,FALSE)","v":{"$error":"#VALUE!"}},null,null,null,null,null,null,null,{"$error":"#VALUE!"},114,null,{"$f":"IF(AP333,VLOOKUP(AP333,HOM!$AR$551:$AS$606,2))","v":3.5710000000000002}]
["H",null,null,null,null,false,null,null,null,null,null,null,null,null,"",null,null,null,"","","","","",{"$f":"IF(AND(J334>=40,J334<45),VLOOKUP(K334,Feuil2!$F$10:$P$28,9),IF(AND(J334>=45,J334<50),VLOOKUP(K334,Feuil2!$F$10:$P$28,8),IF(AND(J334>=50,J334<55),VLOOKUP(K334,Feuil2!$F$10:$P$28,7),IF(AND(J334>=55,J334<60),VLOOKUP(K334,Feuil2!$F$10:$P$28,6),IF(AND(J334>=60,J334<65),VLOOKUP(K334,Feuil2!$F$10:$P$28,5),IF(AND(J334>=65,J334<70),VLOOKUP(K334,Feuil2!$F$10:$P$28,4),IF(AND(J334>=70,J334<75),VLOOKUP(K334,Feuil2!$F$10:$P$28,3),IF(AND(J334>=75,J334<80),VLOOKUP(K334,Feuil2!$F$10:$P$28,2),VLOOKUP(K334,Feuil2!$F$10:$P$28,2)))))))))","v":{"$error":"#N/A"}},null,{"$f":"T334-HLOOKUP(X334,Feuil2!$C$1:$CD$9,2,FALSE)","v":{"$error":"#VALUE!"}},{"$f":"T334-HLOOKUP(X334,Feuil2!$C$1:$CD$9,3,FALSE)","v":{"$error":"#VALUE!"}},{"$f":"T334-HLOOKUP(X334,Feuil2!$C$1:$CD$9,4,FALSE)","v":{"$error":"#VALUE!"}},{"$f":"T334-HLOOKUP(X334,Feuil2!$C$1:$CD$9,5,FALSE)","v":{"$error":"#VALUE!"}},{"$f":"T334-HLOOKUP(X334,Feuil2!$C$1:$CD$9,6,FALSE)","v":{"$error":"#VALUE!"}},{"$f":"T334-HLOOKUP(X334,Feuil2!$C$1:$CD$9,7,FALSE)","v":{"$error":"#VALUE!"}},{"$f":"T334-HLOOKUP(X334,Feuil2!$C$1:$CD$9,8,FALSE)","v":{"$error":"#VALUE!"}},{"$f":"T334-HLOOKUP(X334,Feuil2!$C$1:$CD$9,9,FALSE)","v":{"$error":"#VALUE!"}},null,null,null,null,null,null,null,{"$error":"#VALUE!"},114,null,{"$f":"IF(AP334,VLOOKUP(AP334,HOM!$AR$551:$AS$606,2))","v":3.5710000000000002}]
["H",null,null,null,null,false,null,null,null,null,null,null,null,null,"",null,null,null,"","","","","",{"$f":"IF(AND(J335>=40,J335<45),VLOOKUP(K335,Feuil2!$F$10:$P$28,9),IF(AND(J335>=45,J335<50),VLOOKUP(K335,Feuil2!$F$10:$P$28,8),IF(AND(J335>=50,J335<55),VLOOKUP(K335,Feuil2!$F$10:$P$28,7),IF(AND(J335>=55,J335<60),VLOOKUP(K335,Feuil2!$F$10:$P$28,6),IF(AND(J335>=60,J335<65),VLOOKUP(K335,Feuil2!$F$10:$P$28,5),IF(AND(J335>=65,J335<70),VLOOKUP(K335,Feuil2!$F$10:$P$28,4),IF(AND(J335>=70,J335<75),VLOOKUP(K335,Feuil2!$F$10:$P$28,3),IF(AND(J335>=75,J335<80),VLOOKUP(K335,Feuil2!$F$10:$P$28,2),VLOOKUP(K335,Feuil2!$F$10:$P$28,2)))))))))","v":{"$error":"#N/A"}},null,{"$f":"T335-HLOOKUP(X335,Feuil2!$C$1:$CD$9,2,FALSE)","v":{"$error":"#VALUE!"}},{"$f":"T335-HLOOKUP(X335,Feuil2!$C$1:$CD$9,3,FALSE)","v":{"$error":"#VALUE!"}},{"$f":"T335-HLOOKUP(X335,Feuil2!$C$1:$CD$9,4,FALSE)","v":{"$error":"#VALUE!"}},{"$f":"T335-HLOOKUP(X335,Feuil2!$C$1:$CD$9,5,FALSE)","v":{"$error":"#VALUE!"}},{"$f":"T335-HLOOKUP(X335,Feuil2!$C$1:$CD$9,6,FALSE)","v":{"$error":"#VALUE!"}},{"$f":"T335-HLOOKUP(X335,Feuil2!$C$1:$CD$9,7,FALSE)","v":{"$error":"#VALUE!"}},{"$f":"T335-HLOOKUP(X335,Feuil2!$C$1:$CD$9,8,FALSE)","v":{"$error":"#VALUE!"}},{"$f":"T335-HLOOKUP(X335,Feuil2!$C$1:$CD$9,9,FALSE)","v":{"$error":"#VALUE!"}},null,null,null,null,null,null,null,{"$error":"#VALUE!"},114,null,{"$f":"IF(AP335,VLOOKUP(AP335,HOM!$AR$551:$AS$606,2))","v":3.5710000000000002}]
["H",null,null,null,null,false,null,null,null,null,null,null,null,null,"",null,null,null,"","","","","",{"$f":"IF(AND(J336>=40,J336<45),VLOOKUP(K336,Feuil2!$F$10:$P$28,9),IF(AND(J336>=45,J336<50),VLOOKUP(K336,Feuil2!$F$10:$P$28,8),IF(AND(J336>=50,J336<55),VLOOKUP(K336,Feuil2!$F$10:$P$28,7),IF(AND(J336>=55,J336<60),VLOOKUP(K336,Feuil2!$F$10:$P$28,6),IF(AND(J336>=60,J336<65),VLOOKUP(K336,Feuil2!$F$10:$P$28,5),IF(AND(J336>=65,J336<70),VLOOKUP(K336,Feuil2!$F$10:$P$28,4),IF(AND(J336>=70,J336<75),VLOOKUP(K336,Feuil2!$F$10:$P$28,3),IF(AND(J336>=75,J336<80),VLOOKUP(K336,Feuil2!$F$10:$P$28,2),VLOOKUP(K336,Feuil2!$F$10:$P$28,2)))))))))","v":{"$error":"#N/A"}},null,{"$f":"T336-HLOOKUP(X336,Feuil2!$C$1:$CD$9,2,FALSE)","v":{"$error":"#VALUE!"}},{"$f":"T336-HLOOKUP(X336,Feuil2!$C$1:$CD$9,3,FALSE)","v":{"$error":"#VALUE!"}},{"$f":"T336-HLOOKUP(X336,Feuil2!$C$1:$CD$9,4,FALSE)","v":{"$error":"#VALUE!"}},{"$f":"T336-HLOOKUP(X336,Feuil2!$C$1:$CD$9,5,FALSE)","v":{"$error":"#VALUE!"}},{"$f":"T336-HLOOKUP(X336,Feuil2!$C$1:$CD$9,6,FALSE)","v":{"$error":"#VALUE!"}},{"$f":"T336-HLOOKUP(X336,Feuil2!$C$1:$CD$9,7,FALSE)","v":{"$error":"#VALUE!"}},{"$f":"T336-HLOOKUP(X336,Feuil2!$C$1:$CD$9,8,FALSE)","v":{"$error":"#VALUE!"}},{"$f":"T336-HLOOKUP(X336,Feuil2!$C$1:$CD$9,9,FALSE)","v":{"$error":"#VALUE!"}},null,null,null,null,null,null,null,{"$error":"#VALUE!"},114,null,{"$f":"IF(AP336,VLOOKUP(AP336,HOM!$AR$551:$AS$606,2))","v":3.5710000000000002}]
["H",null,null,null,null,false,null,null,null,null,null,null,null,null,"",null,null,null,"","","","","",{"$f":"IF(AND(J337>=40,J337<45),VLOOKUP(K337,Feuil2!$F$10:$P$28,9),IF(AND(J337>=45,J337<50),VLOOKUP(K337,Feuil2!$F$10:$P$28,8),IF(AND(J337>=50,J337<55),VLOOKUP(K337,Feuil2!$F$10:$P$28,7),IF(AND(J337>=55,J337<60),VLOOKUP(K337,Feuil2!$F$10:$P$28,6),IF(AND(J337>=60,J337<65),VLOOKUP(K337,Feuil2!$F$10:$P$28,5),IF(AND(J337>=65,J337<70),VLOOKUP(K337,Feuil2!$F$10:$P$28,4),IF(AND(J337>=70,J337<75),VLOOKUP(K337,Feuil2!$F$10:$P$28,3),IF(AND(J337>=75,J337<80),VLOOKUP(K337,Feuil2!$F$10:$P$28,2),VLOOKUP(K337,Feuil2!$F$10:$P$28,2)))))))))","v":{"$error":"#N/A"}},null,{"$f":"T337-HLOOKUP(X337,Feuil2!$C$1:$CD$9,2,FALSE)","v":{"$error":"#VALUE!"}},{"$f":"T337-HLOOKUP(X337,Feuil2!$C$1:$CD$9,3,FALSE)","v":{"$error":"#VALUE!"}},{"$f":"T337-HLOOKUP(X337,Feuil2!$C$1:$CD$9,4,FALSE)","v":{"$error":"#VALUE!"}},{"$f":"T337-HLOOKUP(X337,Feuil2!$C$1:$CD$9,5,FALSE)","v":{"$error":"#VALUE!"}},{"$f":"T337-HLOOKUP(X337,Feuil2!$C$1:$CD$9,6,FALSE)","v":{"$error":"#VALUE!"}},{"$f":"T337-HLOOKUP(X337,Feuil2!$C$1:$CD$9,7,FALSE)","v":{"$error":"#VALUE!"}},{"$f":"T337-HLOOKUP(X337,Feuil2!$C$1:$CD$9,8,FALSE)","v":{"$error":"#VALUE!"}},{"$f":"T337-HLOOKUP(X337,Feuil2!$C$1:$CD$9,9,FALSE)","v":{"$error":"#VALUE!"}},null,null,null,null,null,null,null,{"$error":"#VALUE!"},114,null,{"$f":"IF(AP337,VLOOKUP(AP337,HOM!$AR$551:$AS$606,2))","v":3.5710000000000002}]
["H",null,null,null,null,false,null,null,null,null,null,null,null,null,"",null,null,null,"","","","","",{"$f":"IF(AND(J338>=40,J338<45),VLOOKUP(K338,Feuil2!$F$10:$P$28,9),IF(AND(J338>=45,J338<50),VLOOKUP(K338,Feuil2!$F$10:$P$28,8),IF(AND(J338>=50,J338<55),VLOOKUP(K338,Feuil2!$F$10:$P$28,7),IF(AND(J338>=55,J338<60),VLOOKUP(K338,Feuil2!$F$10:$P$28,6),IF(AND(J338>=60,J338<65),VLOOKUP(K338,Feuil2!$F$10:$P$28,5),IF(AND(J338>=65,J338<70),VLOOKUP(K338,Feuil2!$F$10:$P$28,4),IF(AND(J338>=70,J338<75),VLOOKUP(K338,Feuil2!$F$10:$P$28,3),IF(AND(J338>=75,J338<80),VLOOKUP(K338,Feuil2!$F$10:$P$28,2),VLOOKUP(K338,Feuil2!$F$10:$P$28,2)))))))))","v":{"$error":"#N/A"}},null,{"$f":"T338-HLOOKUP(X338,Feuil2!$C$1:$CD$9,2,FALSE)","v":{"$error":"#VALUE!"}},{"$f":"T338-HLOOKUP(X338,Feuil2!$C$1:$CD$9,3,FALSE)","v":{"$error":"#VALUE!"}},{"$f":"T338-HLOOKUP(X338,Feuil2!$C$1:$CD$9,4,FALSE)","v":{"$error":"#VALUE!"}},{"$f":"T338-HLOOKUP(X338,Feuil2!$C$1:$CD$9,5,FALSE)","v":{"$error":"#VALUE!"}},{"$f":"T338-HLOOKUP(X338,Feuil2!$C$1:$CD$9,6,FALSE)","v":{"$error":"#VALUE!"}},{"$f":"T338-HLOOKUP(X338,Feuil2!$C$1:$CD$9,7,FALSE)","v":{"$error":"#VALUE!"}},{"$f":"T338-HLOOKUP(X338,Feuil2!$C$1:$CD$9,8,FALSE)","v":{"$error":"#VALUE!"}},{"$f":"T338-HLOOKUP(X338,Feuil2!$C$1:$CD$9,9,FALSE)","v":{"$error":"#VALUE!"}},null,null,null,null,null,null,null,{"$error":"#VALUE!"},114,null,{"$f":"IF(AP338,VLOOKUP(AP338,HOM!$AR$551:$AS$606,2))","v":3.5710000000000002}]
["H",null,null,null,null,false,null,null,null,null,null,null,null,null,"",null,null,null,"","","","","",{"$f":"IF(AND(J339>=40,J339<45),VLOOKUP(K339,Feuil2!$F$10:$P$28,9),IF(AND(J339>=45,J339<50),VLOOKUP(K339,Feuil2!$F$10:$P$28,8),IF(AND(J339>=50,J339<55),VLOOKUP(K339,Feuil2!$F$10:$P$28,7),IF(AND(J339>=55,J339<60),VLOOKUP(K339,Feuil2!$F$10:$P$28,6),IF(AND(J339>=60,J339<65),VLOOKUP(K339,Feuil2!$F$10:$P$28,5),IF(AND(J339>=65,J339<70),VLOOKUP(K339,Feuil2!$F$10:$P$28,4),IF(AND(J339>=70,J339<75),VLOOKUP(K339,Feuil2!$F$10:$P$28,3),IF(AND(J339>=75,J339<80),VLOOKUP(K339,Feuil2!$F$10:$P$28,2),VLOOKUP(K339,Feuil2!$F$10:$P$28,2)))))))))","v":{"$error":"#N/A"}},null,{"$f":"T339-HLOOKUP(X339,Feuil2!$C$1:$CD$9,2,FALSE)","v":{"$error":"#VALUE!"}},{"$f":"T339-HLOOKUP(X339,Feuil2!$C$1:$CD$9,3,FALSE)","v":{"$error":"#VALUE!"}},{"$f":"T339-HLOOKUP(X339,Feuil2!$C$1:$CD$9,4,FALSE)","v":{"$error":"#VALUE!"}},{"$f":"T339-HLOOKUP(X339,Feuil2!$C$1:$CD$9,5,FALSE)","v":{"$error":"#VALUE!"}},{"$f":"T339-HLOOKUP(X339,Feuil2!$C$1:$CD$9,6,FALSE)","v":{"$error":"#VALUE!"}},{"$f":"T339-HLOOKUP(X339,Feuil2!$C$1:$CD$9,7,FALSE)","v":{"$error":"#VALUE!"}},{"$f":"T339-HLOOKUP(X339,Feuil2!$C$1:$CD$9,8,FALSE)","v":{"$error":"#VALUE!"}},{"$f":"T339-HLOOKUP(X339,Feuil2!$C$1:$CD$9,9,FALSE)","v":{"$error":"#VALUE!"}},null,null,null,null,null,null,null,{"$error":"#VALUE!"},114,null,{"$f":"IF(AP339,VLOOKUP(AP339,HOM!$AR$551:$AS$606,2))","v":3.5710000000000002}]
["H",null,null,null,null,false,null,null,null,null,null,null,null,null,"",null,null,null,"","","","","",{"$f":"IF(AND(J340>=40,J340<45),VLOOKUP(K340,Feuil2!$F$10:$P$28,9),IF(AND(J340>=45,J340<50),VLOOKUP(K340,Feuil2!$F$10:$P$28,8),IF(AND(J340>=50,J340<55),VLOOKUP(K340,Feuil2!$F$10:$P$28,7),IF(AND(J340>=55,J340<60),VLOOKUP(K340,Feuil2!$F$10:$P$28,6),IF(AND(J340>=60,J340<65),VLOOKUP(K340,Feuil2!$F$10:$P$28,5),IF(AND(J340>=65,J340<70),VLOOKUP(K340,Feuil2!$F$10:$P$28,4),IF(AND(J340>=70,J340<75),VLOOKUP(K340,Feuil2!$F$10:$P$28,3),IF(AND(J340>=75,J340<80),VLOOKUP(K340,Feuil2!$F$10:$P$28,2),VLOOKUP(K340,Feuil2!$F$10:$P$28,2)))))))))","v":{"$error":"#N/A"}},null,{"$f":"T340-HLOOKUP(X340,Feuil2!$C$1:$CD$9,2,FALSE)","v":{"$error":"#VALUE!"}},{"$f":"T340-HLOOKUP(X340,Feuil2!$C$1:$CD$9,3,FALSE)","v":{"$error":"#VALUE!"}},{"$f":"T340-HLOOKUP(X340,Feuil2!$C$1:$CD$9,4,FALSE)","v":{"$error":"#VALUE!"}},{"$f":"T340-HLOOKUP(X340,Feuil2!$C$1:$CD$9,5,FALSE)","v":{"$error":"#VALUE!"}},{"$f":"T340-HLOOKUP(X340,Feuil2!$C$1:$CD$9,6,FALSE)","v":{"$error":"#VALUE!"}},{"$f":"T340-HLOOKUP(X340,Feuil2!$C$1:$CD$9,7,FALSE)","v":{"$error":"#VALUE!"}},{"$f":"T340-HLOOKUP(X340,Feuil2!$C$1:$CD$9,8,FALSE)","v":{"$error":"#VALUE!"}},{"$f":"T340-HLOOKUP(X340,Feuil2!$C$1:$CD$9,9,FALSE)","v":{"$error":"#VALUE!"}},null,null,null,null,null,null,null,{"$error":"#VALUE!"},114,null,{"$f":"IF(AP340,VLOOKUP(AP340,HOM!$AR$551:$AS$606,2))","v":3.5710000000000002}]
["H",null,null,null,null,false,null,null,null,null,null,null,null,null,"",null,null,null,"","","","","",{"$f":"IF(AND(J341>=40,J341<45),VLOOKUP(K341,Feuil2!$F$10:$P$28,9),IF(AND(J341>=45,J341<50),VLOOKUP(K341,Feuil2!$F$10:$P$28,8),IF(AND(J341>=50,J341<55),VLOOKUP(K341,Feuil2!$F$10:$P$28,7),IF(AND(J341>=55,J341<60),VLOOKUP(K341,Feuil2!$F$10:$P$28,6),IF(AND(J341>=60,J341<65),VLOOKUP(K341,Feuil2!$F$10:$P$28,5),IF(AND(J341>=65,J341<70),VLOOKUP(K341,Feuil2!$F$10:$P$28,4),IF(AND(J341>=70,J341<75),VLOOKUP(K341,Feuil2!$F$10:$P$28,3),IF(AND(J341>=75,J341<80),VLOOKUP(K341,Feuil2!$F$10:$P$28,2),VLOOKUP(K341,Feuil2!$F$10:$P$28,2)))))))))","v":{"$error":"#N/A"}},null,{"$f":"T341-HLOOKUP(X341,Feuil2!$C$1:$CD$9,2,FALSE)","v":{"$error":"#VALUE!"}},{"$f":"T341-HLOOKUP(X341,Feuil2!$C$1:$CD$9,3,FALSE)","v":{"$error":"#VALUE!"}},{"$f":"T341-HLOOKUP(X341,Feuil2!$C$1:$CD$9,4,FALSE)","v":{"$error":"#VALUE!"}},{"$f":"T341-HLOOKUP(X341,Feuil2!$C$1:$CD$9,5,FALSE)","v":{"$error":"#VALUE!"}},{"$f":"T341-HLOOKUP(X341,Feuil2!$C$1:$CD$9,6,FALSE)","v":{"$error":"#VALUE!"}},{"$f":"T341-HLOOKUP(X341,Feuil2!$C$1:$CD$9,7,FALSE)","v":{"$error":"#VALUE!"}},{"$f":"T341-HLOOKUP(X341,Feuil2!$C$1:$CD$9,8,FALSE)","v":{"$error":"#VALUE!"}},{"$f":"T341-HLOOKUP(X341,Feuil2!$C$1:$CD$9,9,FALSE)","v":{"$error":"#VALUE!"}},null,null,null,null,null,null,null,{"$error":"#VALUE!"},114,null,{"$f":"IF(AP341,VLOOKUP(AP341,HOM!$AR$551:$AS$606,2))","v":3.5710000000000002}]
["H",null,null,null,null,false,null,null,null,null,null,null,null,null,"",null,null,null,"","","","","",{"$f":"IF(AND(J342>=40,J342<45),VLOOKUP(K342,Feuil2!$F$10:$P$28,9),IF(AND(J342>=45,J342<50),VLOOKUP(K342,Feuil2!$F$10:$P$28,8),IF(AND(J342>=50,J342<55),VLOOKUP(K342,Feuil2!$F$10:$P$28,7),IF(AND(J342>=55,J342<60),VLOOKUP(K342,Feuil2!$F$10:$P$28,6),IF(AND(J342>=60,J342<65),VLOOKUP(K342,Feuil2!$F$10:$P$28,5),IF(AND(J342>=65,J342<70),VLOOKUP(K342,Feuil2!$F$10:$P$28,4),IF(AND(J342>=70,J342<75),VLOOKUP(K342,Feuil2!$F$10:$P$28,3),IF(AND(J342>=75,J342<80),VLOOKUP(K342,Feuil2!$F$10:$P$28,2),VLOOKUP(K342,Feuil2!$F$10:$P$28,2)))))))))","v":{"$error":"#N/A"}},null,{"$f":"T342-HLOOKUP(X342,Feuil2!$C$1:$CD$9,2,FALSE)","v":{"$error":"#VALUE!"}},{"$f":"T342-HLOOKUP(X342,Feuil2!$C$1:$CD$9,3,FALSE)","v":{"$error":"#VALUE!"}},{"$f":"T342-HLOOKUP(X342,Feuil2!$C$1:$CD$9,4,FALSE)","v":{"$error":"#VALUE!"}},{"$f":"T342-HLOOKUP(X342,Feuil2!$C$1:$CD$9,5,FALSE)","v":{"$error":"#VALUE!"}},{"$f":"T342-HLOOKUP(X342,Feuil2!$C$1:$CD$9,6,FALSE)","v":{"$error":"#VALUE!"}},{"$f":"T342-HLOOKUP(X342,Feuil2!$C$1:$CD$9,7,FALSE)","v":{"$error":"#VALUE!"}},{"$f":"T342-HLOOKUP(X342,Feuil2!$C$1:$CD$9,8,FALSE)","v":{"$error":"#VALUE!"}},{"$f":"T342-HLOOKUP(X342,Feuil2!$C$1:$CD$9,9,FALSE)","v":{"$error":"#VALUE!"}},null,null,null,null,null,null,null,{"$error":"#VALUE!"},114,null,{"$f":"IF(AP342,VLOOKUP(AP342,HOM!$AR$551:$AS$606,2))","v":3.5710000000000002}]
["H",null,null,null,null,false,null,null,null,null,null,null,null,null,"",null,null,null,"","","","","",{"$f":"IF(AND(J343>=40,J343<45),VLOOKUP(K343,Feuil2!$F$10:$P$28,9),IF(AND(J343>=45,J343<50),VLOOKUP(K343,Feuil2!$F$10:$P$28,8),IF(AND(J343>=50,J343<55),VLOOKUP(K343,Feuil2!$F$10:$P$28,7),IF(AND(J343>=55,J343<60),VLOOKUP(K343,Feuil2!$F$10:$P$28,6),IF(AND(J343>=60,J343<65),VLOOKUP(K343,Feuil2!$F$10:$P$28,5),IF(AND(J343>=65,J343<70),VLOOKUP(K343,Feuil2!$F$10:$P$28,4),IF(AND(J343>=70,J343<75),VLOOKUP(K343,Feuil2!$F$10:$P$28,3),IF(AND(J343>=75,J343<80),VLOOKUP(K343,Feuil2!$F$10:$P$28,2),VLOOKUP(K343,Feuil2!$F$10:$P$28,2)))))))))","v":{"$error":"#N/A"}},null,{"$f":"T343-HLOOKUP(X343,Feuil2!$C$1:$CD$9,2,FALSE)","v":{"$error":"#VALUE!"}},{"$f":"T343-HLOOKUP(X343,Feuil2!$C$1:$CD$9,3,FALSE)","v":{"$error":"#VALUE!"}},{"$f":"T343-HLOOKUP(X343,Feuil2!$C$1:$CD$9,4,FALSE)","v":{"$error":"#VALUE!"}},{"$f":"T343-HLOOKUP(X343,Feuil2!$C$1:$CD$9,5,FALSE)","v":{"$error":"#VALUE!"}},{"$f":"T343-HLOOKUP(X343,Feuil2!$C$1:$CD$9,6,FALSE)","v":{"$error":"#VALUE!"}},{"$f":"T343-HLOOKUP(X343,Feuil2!$C$1:$CD$9,7,FALSE)","v":{"$error":"#VALUE!"}},{"$f":"T343-HLOOKUP(X343,Feuil2!$C$1:$CD$9,8,FALSE)","v":{"$error":"#VALUE!"}},{"$f":"T343-HLOOKUP(X343,Feuil2!$C$1:$CD$9,9,FALSE)","v":{"$error":"#VALUE!"}},null,null,null,null,null,null,null,{"$error":"#VALUE!"},114,null,{"$f":"IF(AP343,VLOOKUP(AP343,HOM!$AR$551:$AS$606,2))","v":3.5710000000000002}]
["H",null,null,null,null,false,null,null,null,null,null,null,null,null,"",null,null,null,"","","","","",{"$f":"IF(AND(J344>=40,J344<45),VLOOKUP(K344,Feuil2!$F$10:$P$28,9),IF(AND(J344>=45,J344<50),VLOOKUP(K344,Feuil2!$F$10:$P$28,8),IF(AND(J344>=50,J344<55),VLOOKUP(K344,Feuil2!$F$10:$P$28,7),IF(AND(J344>=55,J344<60),VLOOKUP(K344,Feuil2!$F$10:$P$28,6),IF(AND(J344>=60,J344<65),VLOOKUP(K344,Feuil2!$F$10:$P$28,5),IF(AND(J344>=65,J344<70),VLOOKUP(K344,Feuil2!$F$10:$P$28,4),IF(AND(J344>=70,J344<75),VLOOKUP(K344,Feuil2!$F$10:$P$28,3),IF(AND(J344>=75,J344<80),VLOOKUP(K344,Feuil2!$F$10:$P$28,2),VLOOKUP(K344,Feuil2!$F$10:$P$28,2)))))))))","v":{"$error":"#N/A"}},null,{"$f":"T344-HLOOKUP(X344,Feuil2!$C$1:$CD$9,2,FALSE)","v":{"$error":"#VALUE!"}},{"$f":"T344-HLOOKUP(X344,Feuil2!$C$1:$CD$9,3,FALSE)","v":{"$error":"#VALUE!"}},{"$f":"T344-HLOOKUP(X344,Feuil2!$C$1:$CD$9,4,FALSE)","v":{"$error":"#VALUE!"}},{"$f":"T344-HLOOKUP(X344,Feuil2!$C$1:$CD$9,5,FALSE)","v":{"$error":"#VALUE!"}},{"$f":"T344-HLOOKUP(X344,Feuil2!$C$1:$CD$9,6,FALSE)","v":{"$error":"#VALUE!"}},{"$f":"T344-HLOOKUP(X344,Feuil2!$C$1:$CD$9,7,FALSE)","v":{"$error":"#VALUE!"}},{"$f":"T344-HLOOKUP(X344,Feuil2!$C$1:$CD$9,8,FALSE)","v":{"$error":"#VALUE!"}},{"$f":"T344-HLOOKUP(X344,Feuil2!$C$1:$CD$9,9,FALSE)","v":{"$error":"#VALUE!"}},null,null,null,null,null,null,null,{"$error":"#VALUE!"},114,null,{"$f":"IF(AP344,VLOOKUP(AP344,HOM!$AR$551:$AS$606,2))","v":3.5710000000000002}]
["H",null,null,null,null,false,null,null,null,null,null,null,null,null,"",null,null,null,"","","","","",{"$f":"IF(AND(J345>=40,J345<45),VLOOKUP(K345,Feuil2!$F$10:$P$28,9),IF(AND(J345>=45,J345<50),VLOOKUP(K345,Feuil2!$F$10:$P$28,8),IF(AND(J345>=50,J345<55),VLOOKUP(K345,Feuil2!$F$10:$P$28,7),IF(AND(J345>=55,J345<60),VLOOKUP(K345,Feuil2!$F$10:$P$28,6),IF(AND(J345>=60,J345<65),VLOOKUP(K345,Feuil2!$F$10:$P$28,5),IF(AND(J345>=65,J345<70),VLOOKUP(K345,Feuil2!$F$10:$P$28,4),IF(AND(J345>=70,J345<75),VLOOKUP(K345,Feuil2!$F$10:$P$28,3),IF(AND(J345>=75,J345<80),VLOOKUP(K345,Feuil2!$F$10:$P$28,2),VLOOKUP(K345,Feuil2!$F$10:$P$28,2)))))))))","v":{"$error":"#N/A"}},null,{"$f":"T345-HLOOKUP(X345,Feuil2!$C$1:$CD$9,2,FALSE)","v":{"$error":"#VALUE!"}},{"$f":"T345-HLOOKUP(X345,Feuil2!$C$1:$CD$9,3,FALSE)","v":{"$error":"#VALUE!"}},{"$f":"T345-HLOOKUP(X345,Feuil2!$C$1:$CD$9,4,FALSE)","v":{"$error":"#VALUE!"}},{"$f":"T345-HLOOKUP(X345,Feuil2!$C$1:$CD$9,5,FALSE)","v":{"$error":"#VALUE!"}},{"$f":"T345-HLOOKUP(X345,Feuil2!$C$1:$CD$9,6,FALSE)","v":{"$error":"#VALUE!"}},{"$f":"T345-HLOOKUP(X345,Feuil2!$C$1:$CD$9,7,FALSE)","v":{"$error":"#VALUE!"}},{"$f":"T345-HLOOKUP(X345,Feuil2!$C$1:$CD$9,8,FALSE)","v":{"$error":"#VALUE!"}},{"$f":"T345-HLOOKUP(X345,Feuil2!$C$1:$CD$9,9,FALSE)","v":{"$error":"#VALUE!"}},null,null,null,null,null,null,null,{"$error":"#VALUE!"},114,null,{"$f":"IF(AP345,VLOOKUP(AP345,HOM!$AR$551:$AS$606,2))","v":3.5710000000000002}]
["H",null,null,null,null,false,null,null,null,null,null,null,null,null,"",null,null,null,"","","","","",{"$f":"IF(AND(J346>=40,J346<45),VLOOKUP(K346,Feuil2!$F$10:$P$28,9),IF(AND(J346>=45,J346<50),VLOOKUP(K346,Feuil2!$F$10:$P$28,8),IF(AND(J346>=50,J346<55),VLOOKUP(K346,Feuil2!$F$10:$P$28,7),IF(AND(J346>=55,J346<60),VLOOKUP(K346,Feuil2!$F$10:$P$28,6),IF(AND(J346>=60,J346<65),VLOOKUP(K346,Feuil2!$F$10:$P$28,5),IF(AND(J346>=65,J346<70),VLOOKUP(K346,Feuil2!$F$10:$P$28,4),IF(AND(J346>=70,J346<75),VLOOKUP(K346,Feuil2!$F$10:$P$28,3),IF(AND(J346>=75,J346<80),VLOOKUP(K346,Feuil2!$F$10:$P$28,2),VLOOKUP(K346,Feuil2!$F$10:$P$28,2)))))))))","v":{"$error":"#N/A"}},null,{"$f":"T346-HLOOKUP(X346,Feuil2!$C$1:$CD$9,2,FALSE)","v":{"$error":"#VALUE!"}},{"$f":"T346-HLOOKUP(X346,Feuil2!$C$1:$CD$9,3,FALSE)","v":{"$error":"#VALUE!"}},{"$f":"T346-HLOOKUP(X346,Feuil2!$C$1:$CD$9,4,FALSE)","v":{"$error":"#VALUE!"}},{"$f":"T346-HLOOKUP(X346,Feuil2!$C$1:$CD$9,5,FALSE)","v":{"$error":"#VALUE!"}},{"$f":"T346-HLOOKUP(X346,Feuil2!$C$1:$CD$9,6,FALSE)","v":{"$error":"#VALUE!"}},{"$f":"T346-HLOOKUP(X346,Feuil2!$C$1:$CD$9,7,FALSE)","v":{"$error":"#VALUE!"}},{"$f":"T346-HLOOKUP(X346,Feuil2!$C$1:$CD$9,8,FALSE)","v":{"$error":"#VALUE!"}},{"$f":"T346-HLOOKUP(X346,Feuil2!$C$1:$CD$9,9,FALSE)","v":{"$error":"#VALUE!"}},null,null,null,null,null,null,null,{"$error":"#VALUE!"},114,null,{"$f":"IF(AP346,VLOOKUP(AP346,HOM!$AR$551:$AS$606,2))","v":3.5710000000000002}]
["H",null,null,null,null,false,null,null,null,null,null,null,null,null,"",null,null,null,"","","","","",{"$f":"IF(AND(J347>=40,J347<45),VLOOKUP(K347,Feuil2!$F$10:$P$28,9),IF(AND(J347>=45,J347<50),VLOOKUP(K347,Feuil2!$F$10:$P$28,8),IF(AND(J347>=50,J347<55),VLOOKUP(K347,Feuil2!$F$10:$P$28,7),IF(AND(J347>=55,J347<60),VLOOKUP(K347,Feuil2!$F$10:$P$28,6),IF(AND(J347>=60,J347<65),VLOOKUP(K347,Feuil2!$F$10:$P$28,5),IF(AND(J347>=65,J347<70),VLOOKUP(K347,Feuil2!$F$10:$P$28,4),IF(AND(J347>=70,J347<75),VLOOKUP(K347,Feuil2!$F$10:$P$28,3),IF(AND(J347>=75,J347<80),VLOOKUP(K347,Feuil2!$F$10:$P$28,2),VLOOKUP(K347,Feuil2!$F$10:$P$28,2)))))))))","v":{"$error":"#N/A"}},null,{"$f":"T347-HLOOKUP(X347,Feuil2!$C$1:$CD$9,2,FALSE)","v":{"$error":"#VALUE!"}},{"$f":"T347-HLOOKUP(X347,Feuil2!$C$1:$CD$9,3,FALSE)","v":{"$error":"#VALUE!"}},{"$f":"T347-HLOOKUP(X347,Feuil2!$C$1:$CD$9,4,FALSE)","v":{"$error":"#VALUE!"}},{"$f":"T347-HLOOKUP(X347,Feuil2!$C$1:$CD$9,5,FALSE)","v":{"$error":"#VALUE!"}},{"$f":"T347-HLOOKUP(X347,Feuil2!$C$1:$CD$9,6,FALSE)","v":{"$error":"#VALUE!"}},{"$f":"T347-HLOOKUP(X347,Feuil2!$C$1:$CD$9,7,FALSE)","v":{"$error":"#VALUE!"}},{"$f":"T347-HLOOKUP(X347,Feuil2!$C$1:$CD$9,8,FALSE)","v":{"$error":"#VALUE!"}},{"$f":"T347-HLOOKUP(X347,Feuil2!$C$1:$CD$9,9,FALSE)","v":{"$error":"#VALUE!"}},null,null,null,null,null,null,null,{"$error":"#VALUE!"},114,null,{"$f":"IF(AP347,VLOOKUP(AP347,HOM!$AR$551:$AS$606,2))","v":3.5710000000000002}]
["H",null,null,null,null,false,null,null,null,null,null,null,null,null,"",null,null,null,"","","","","",{"$f":"IF(AND(J348>=40,J348<45),VLOOKUP(K348,Feuil2!$F$10:$P$28,9),IF(AND(J348>=45,J348<50),VLOOKUP(K348,Feuil2!$F$10:$P$28,8),IF(AND(J348>=50,J348<55),VLOOKUP(K348,Feuil2!$F$10:$P$28,7),IF(AND(J348>=55,J348<60),VLOOKUP(K348,Feuil2!$F$10:$P$28,6),IF(AND(J348>=60,J348<65),VLOOKUP(K348,Feuil2!$F$10:$P$28,5),IF(AND(J348>=65,J348<70),VLOOKUP(K348,Feuil2!$F$10:$P$28,4),IF(AND(J348>=70,J348<75),VLOOKUP(K348,Feuil2!$F$10:$P$28,3),IF(AND(J348>=75,J348<80),VLOOKUP(K348,Feuil2!$F$10:$P$28,2),VLOOKUP(K348,Feuil2!$F$10:$P$28,2)))))))))","v":{"$error":"#N/A"}},null,{"$f":"T348-HLOOKUP(X348,Feuil2!$C$1:$CD$9,2,FALSE)","v":{"$error":"#VALUE!"}},{"$f":"T348-HLOOKUP(X348,Feuil2!$C$1:$CD$9,3,FALSE)","v":{"$error":"#VALUE!"}},{"$f":"T348-HLOOKUP(X348,Feuil2!$C$1:$CD$9,4,FALSE)","v":{"$error":"#VALUE!"}},{"$f":"T348-HLOOKUP(X348,Feuil2!$C$1:$CD$9,5,FALSE)","v":{"$error":"#VALUE!"}},{"$f":"T348-HLOOKUP(X348,Feuil2!$C$1:$CD$9,6,FALSE)","v":{"$error":"#VALUE!"}},{"$f":"T348-HLOOKUP(X348,Feuil2!$C$1:$CD$9,7,FALSE)","v":{"$error":"#VALUE!"}},{"$f":"T348-HLOOKUP(X348,Feuil2!$C$1:$CD$9,8,FALSE)","v":{"$error":"#VALUE!"}},{"$f":"T348-HLOOKUP(X348,Feuil2!$C$1:$CD$9,9,FALSE)","v":{"$error":"#VALUE!"}},null,null,null,null,null,null,null,{"$error":"#VALUE!"},114,null,{"$f":"IF(AP348,VLOOKUP(AP348,HOM!$AR$551:$AS$606,2))","v":3.5710000000000002}]
["H",null,null,null,null,false,null,null,null,null,null,null,null,null,"",null,null,null,"","","","","",{"$f":"IF(AND(J349>=40,J349<45),VLOOKUP(K349,Feuil2!$F$10:$P$28,9),IF(AND(J349>=45,J349<50),VLOOKUP(K349,Feuil2!$F$10:$P$28,8),IF(AND(J349>=50,J349<55),VLOOKUP(K349,Feuil2!$F$10:$P$28,7),IF(AND(J349>=55,J349<60),VLOOKUP(K349,Feuil2!$F$10:$P$28,6),IF(AND(J349>=60,J349<65),VLOOKUP(K349,Feuil2!$F$10:$P$28,5),IF(AND(J349>=65,J349<70),VLOOKUP(K349,Feuil2!$F$10:$P$28,4),IF(AND(J349>=70,J349<75),VLOOKUP(K349,Feuil2!$F$10:$P$28,3),IF(AND(J349>=75,J349<80),VLOOKUP(K349,Feuil2!$F$10:$P$28,2),VLOOKUP(K349,Feuil2!$F$10:$P$28,2)))))))))","v":{"$error":"#N/A"}},null,{"$f":"T349-HLOOKUP(X349,Feuil2!$C$1:$CD$9,2,FALSE)","v":{"$error":"#VALUE!"}},{"$f":"T349-HLOOKUP(X349,Feuil2!$C$1:$CD$9,3,FALSE)","v":{"$error":"#VALUE!"}},{"$f":"T349-HLOOKUP(X349,Feuil2!$C$1:$CD$9,4,FALSE)","v":{"$error":"#VALUE!"}},{"$f":"T349-HLOOKUP(X349,Feuil2!$C$1:$CD$9,5,FALSE)","v":{"$error":"#VALUE!"}},{"$f":"T349-HLOOKUP(X349,Feuil2!$C$1:$CD$9,6,FALSE)","v":{"$error":"#VALUE!"}},{"$f":"T349-HLOOKUP(X349,Feuil2!$C$1:$CD$9,7,FALSE)","v":{"$error":"#VALUE!"}},{"$f":"T349-HLOOKUP(X349,Feuil2!$C$1:$CD$9,8,FALSE)","v":{"$error":"#VALUE!"}},{"$f":"T349-HLOOKUP(X349,Feuil2!$C$1:$CD$9,9,FALSE)","v":{"$error":"#VALUE!"}},null,null,null,null,null,null,null,{"$error":"#VALUE!"},114,null,{"$f":"IF(AP349,VLOOKUP(AP349,HOM!$AR$551:$AS$606,2))","v":3.5710000000000002}]
["H",null,null,null,null,false,null,null,null,null,null,null,null,null,"",null,null,null,"","","","","",{"$f":"IF(AND(J350>=40,J350<45),VLOOKUP(K350,Feuil2!$F$10:$P$28,9),IF(AND(J350>=45,J350<50),VLOOKUP(K350,Feuil2!$F$10:$P$28,8),IF(AND(J350>=50,J350<55),VLOOKUP(K350,Feuil2!$F$10:$P$28,7),IF(AND(J350>=55,J350<60),VLOOKUP(K350,Feuil2!$F$10:$P$28,6),IF(AND(J350>=60,J350<65),VLOOKUP(K350,Feuil2!$F$10:$P$28,5),IF(AND(J350>=65,J350<70),VLOOKUP(K350,Feuil2!$F$10:$P$28,4),IF(AND(J350>=70,J350<75),VLOOKUP(K350,Feuil2!$F$10:$P$28,3),IF(AND(J350>=75,J350<80),VLOOKUP(K350,Feuil2!$F$10:$P$28,2),VLOOKUP(K350,Feuil2!$F$10:$P$28,2)))))))))","v":{"$error":"#N/A"}},null,{"$f":"T350-HLOOKUP(X350,Feuil2!$C$1:$CD$9,2,FALSE)","v":{"$error":"#VALUE!"}},{"$f":"T350-HLOOKUP(X350,Feuil2!$C$1:$CD$9,3,FALSE)","v":{"$error":"#VALUE!"}},{"$f":"T350-HLOOKUP(X350,Feuil2!$C$1:$CD$9,4,FALSE)","v":{"$error":"#VALUE!"}},{"$f":"T350-HLOOKUP(X350,Feuil2!$C$1:$CD$9,5,FALSE)","v":{"$error":"#VALUE!"}},{"$f":"T350-HLOOKUP(X350,Feuil2!$C$1:$CD$9,6,FALSE)","v":{"$error":"#VALUE!"}},{"$f":"T350-HLOOKUP(X350,Feuil2!$C$1:$CD$9,7,FALSE)","v":{"$error":"#VALUE!"}},{"$f":"T350-HLOOKUP(X350,Feuil2!$C$1:$CD$9,8,FALSE)","v":{"$error":"#VALUE!"}},{"$f":"T350-HLOOKUP(X350,Feuil2!$C$1:$CD$9,9,FALSE)","v":{"$error":"#VALUE!"}},null,null,null,null,null,null,null,{"$error":"#VALUE!"},114,null,{"$f":"IF(AP350,VLOOKUP(AP350,HOM!$AR$551:$AS$606,2))","v":3.5710000000000002}]
["H",null,null,null,null,false,null,null,null,null,null,null,null,null,"",null,null,null,"","","","","",{"$f":"IF(AND(J351>=40,J351<45),VLOOKUP(K351,Feuil2!$F$10:$P$28,9),IF(AND(J351>=45,J351<50),VLOOKUP(K351,Feuil2!$F$10:$P$28,8),IF(AND(J351>=50,J351<55),VLOOKUP(K351,Feuil2!$F$10:$P$28,7),IF(AND(J351>=55,J351<60),VLOOKUP(K351,Feuil2!$F$10:$P$28,6),IF(AND(J351>=60,J351<65),VLOOKUP(K351,Feuil2!$F$10:$P$28,5),IF(AND(J351>=65,J351<70),VLOOKUP(K351,Feuil2!$F$10:$P$28,4),IF(AND(J351>=70,J351<75),VLOOKUP(K351,Feuil2!$F$10:$P$28,3),IF(AND(J351>=75,J351<80),VLOOKUP(K351,Feuil2!$F$10:$P$28,2),VLOOKUP(K351,Feuil2!$F$10:$P$28,2)))))))))","v":{"$error":"#N/A"}},null,{"$f":"T351-HLOOKUP(X351,Feuil2!$C$1:$CD$9,2,FALSE)","v":{"$error":"#VALUE!"}},{"$f":"T351-HLOOKUP(X351,Feuil2!$C$1:$CD$9,3,FALSE)","v":{"$error":"#VALUE!"}},{"$f":"T351-HLOOKUP(X351,Feuil2!$C$1:$CD$9,4,FALSE)","v":{"$error":"#VALUE!"}},{"$f":"T351-HLOOKUP(X351,Feuil2!$C$1:$CD$9,5,FALSE)","v":{"$error":"#VALUE!"}},{"$f":"T351-HLOOKUP(X351,Feuil2!$C$1:$CD$9,6,FALSE)","v":{"$error":"#VALUE!"}},{"$f":"T351-HLOOKUP(X351,Feuil2!$C$1:$CD$9,7,FALSE)","v":{"$error":"#VALUE!"}},{"$f":"T351-HLOOKUP(X351,Feuil2!$C$1:$CD$9,8,FALSE)","v":{"$error":"#VALUE!"}},{"$f":"T351-HLOOKUP(X351,Feuil2!$C$1:$CD$9,9,FALSE)","v":{"$error":"#VALUE!"}},null,null,null,null,null,null,null,{"$error":"#VALUE!"},114,null,{"$f":"IF(AP351,VLOOKUP(AP351,HOM!$AR$551:$AS$606,2))","v":3.5710000000000002}]
["H",null,null,null,null,false,null,null,null,null,null,null,null,null,"",null,null,null,"","","","","",{"$f":"IF(AND(J352>=40,J352<45),VLOOKUP(K352,Feuil2!$F$10:$P$28,9),IF(AND(J352>=45,J352<50),VLOOKUP(K352,Feuil2!$F$10:$P$28,8),IF(AND(J352>=50,J352<55),VLOOKUP(K352,Feuil2!$F$10:$P$28,7),IF(AND(J352>=55,J352<60),VLOOKUP(K352,Feuil2!$F$10:$P$28,6),IF(AND(J352>=60,J352<65),VLOOKUP(K352,Feuil2!$F$10:$P$28,5),IF(AND(J352>=65,J352<70),VLOOKUP(K352,Feuil2!$F$10:$P$28,4),IF(AND(J352>=70,J352<75),VLOOKUP(K352,Feuil2!$F$10:$P$28,3),IF(AND(J352>=75,J352<80),VLOOKUP(K352,Feuil2!$F$10:$P$28,2),VLOOKUP(K352,Feuil2!$F$10:$P$28,2)))))))))","v":{"$error":"#N/A"}},null,{"$f":"T352-HLOOKUP(X352,Feuil2!$C$1:$CD$9,2,FALSE)","v":{"$error":"#VALUE!"}},{"$f":"T352-HLOOKUP(X352,Feuil2!$C$1:$CD$9,3,FALSE)","v":{"$error":"#VALUE!"}},{"$f":"T352-HLOOKUP(X352,Feuil2!$C$1:$CD$9,4,FALSE)","v":{"$error":"#VALUE!"}},{"$f":"T352-HLOOKUP(X352,Feuil2!$C$1:$CD$9,5,FALSE)","v":{"$error":"#VALUE!"}},{"$f":"T352-HLOOKUP(X352,Feuil2!$C$1:$CD$9,6,FALSE)","v":{"$error":"#VALUE!"}},{"$f":"T352-HLOOKUP(X352,Feuil2!$C$1:$CD$9,7,FALSE)","v":{"$error":"#VALUE!"}},{"$f":"T352-HLOOKUP(X352,Feuil2!$C$1:$CD$9,8,FALSE)","v":{"$error":"#VALUE!"}},{"$f":"T352-HLOOKUP(X352,Feuil2!$C$1:$CD$9,9,FALSE)","v":{"$error":"#VALUE!"}},null,null,null,null,null,null,null,{"$error":"#VALUE!"},114,null,{"$f":"IF(AP352,VLOOKUP(AP352,HOM!$AR$551:$AS$606,2))","v":3.5710000000000002}]
["H",null,null,null,null,false,null,null,null,null,null,null,null,null,"",null,null,null,"","","","","",{"$f":"IF(AND(J353>=40,J353<45),VLOOKUP(K353,Feuil2!$F$10:$P$28,9),IF(AND(J353>=45,J353<50),VLOOKUP(K353,Feuil2!$F$10:$P$28,8),IF(AND(J353>=50,J353<55),VLOOKUP(K353,Feuil2!$F$10:$P$28,7),IF(AND(J353>=55,J353<60),VLOOKUP(K353,Feuil2!$F$10:$P$28,6),IF(AND(J353>=60,J353<65),VLOOKUP(K353,Feuil2!$F$10:$P$28,5),IF(AND(J353>=65,J353<70),VLOOKUP(K353,Feuil2!$F$10:$P$28,4),IF(AND(J353>=70,J353<75),VLOOKUP(K353,Feuil2!$F$10:$P$28,3),IF(AND(J353>=75,J353<80),VLOOKUP(K353,Feuil2!$F$10:$P$28,2),VLOOKUP(K353,Feuil2!$F$10:$P$28,2)))))))))","v":{"$error":"#N/A"}},null,{"$f":"T353-HLOOKUP(X353,Feuil2!$C$1:$CD$9,2,FALSE)","v":{"$error":"#VALUE!"}},{"$f":"T353-HLOOKUP(X353,Feuil2!$C$1:$CD$9,3,FALSE)","v":{"$error":"#VALUE!"}},{"$f":"T353-HLOOKUP(X353,Feuil2!$C$1:$CD$9,4,FALSE)","v":{"$error":"#VALUE!"}},{"$f":"T353-HLOOKUP(X353,Feuil2!$C$1:$CD$9,5,FALSE)","v":{"$error":"#VALUE!"}},{"$f":"T353-HLOOKUP(X353,Feuil2!$C$1:$CD$9,6,FALSE)","v":{"$error":"#VALUE!"}},{"$f":"T353-HLOOKUP(X353,Feuil2!$C$1:$CD$9,7,FALSE)","v":{"$error":"#VALUE!"}},{"$f":"T353-HLOOKUP(X353,Feuil2!$C$1:$CD$9,8,FALSE)","v":{"$error":"#VALUE!"}},{"$f":"T353-HLOOKUP(X353,Feuil2!$C$1:$CD$9,9,FALSE)","v":{"$error":"#VALUE!"}},null,null,null,null,null,null,null,{"$error":"#VALUE!"},114,null,{"$f":"IF(AP353,VLOOKUP(AP353,HOM!$AR$551:$AS$606,2))","v":3.5710000000000002}]
["H",null,null,null,null,false,null,null,null,null,null,null,null,null,"",null,null,null,"","","","","",{"$f":"IF(AND(J354>=40,J354<45),VLOOKUP(K354,Feuil2!$F$10:$P$28,9),IF(AND(J354>=45,J354<50),VLOOKUP(K354,Feuil2!$F$10:$P$28,8),IF(AND(J354>=50,J354<55),VLOOKUP(K354,Feuil2!$F$10:$P$28,7),IF(AND(J354>=55,J354<60),VLOOKUP(K354,Feuil2!$F$10:$P$28,6),IF(AND(J354>=60,J354<65),VLOOKUP(K354,Feuil2!$F$10:$P$28,5),IF(AND(J354>=65,J354<70),VLOOKUP(K354,Feuil2!$F$10:$P$28,4),IF(AND(J354>=70,J354<75),VLOOKUP(K354,Feuil2!$F$10:$P$28,3),IF(AND(J354>=75,J354<80),VLOOKUP(K354,Feuil2!$F$10:$P$28,2),VLOOKUP(K354,Feuil2!$F$10:$P$28,2)))))))))","v":{"$error":"#N/A"}},null,{"$f":"T354-HLOOKUP(X354,Feuil2!$C$1:$CD$9,2,FALSE)","v":{"$error":"#VALUE!"}},{"$f":"T354-HLOOKUP(X354,Feuil2!$C$1:$CD$9,3,FALSE)","v":{"$error":"#VALUE!"}},{"$f":"T354-HLOOKUP(X354,Feuil2!$C$1:$CD$9,4,FALSE)","v":{"$error":"#VALUE!"}},{"$f":"T354-HLOOKUP(X354,Feuil2!$C$1:$CD$9,5,FALSE)","v":{"$error":"#VALUE!"}},{"$f":"T354-HLOOKUP(X354,Feuil2!$C$1:$CD$9,6,FALSE)","v":{"$error":"#VALUE!"}},{"$f":"T354-HLOOKUP(X354,Feuil2!$C$1:$CD$9,7,FALSE)","v":{"$error":"#VALUE!"}},{"$f":"T354-HLOOKUP(X354,Feuil2!$C$1:$CD$9,8,FALSE)","v":{"$error":"#VALUE!"}},{"$f":"T354-HLOOKUP(X354,Feuil2!$C$1:$CD$9,9,FALSE)","v":{"$error":"#VALUE!"}},null,null,null,null,null,null,null,{"$error":"#VALUE!"},114,null,{"$f":"IF(AP354,VLOOKUP(AP354,HOM!$AR$551:$AS$606,2))","v":3.5710000000000002}]
["H",null,null,null,null,false,null,null,null,null,null,null,null,null,"",null,null,null,"","","","","",{"$f":"IF(AND(J355>=40,J355<45),VLOOKUP(K355,Feuil2!$F$10:$P$28,9),IF(AND(J355>=45,J355<50),VLOOKUP(K355,Feuil2!$F$10:$P$28,8),IF(AND(J355>=50,J355<55),VLOOKUP(K355,Feuil2!$F$10:$P$28,7),IF(AND(J355>=55,J355<60),VLOOKUP(K355,Feuil2!$F$10:$P$28,6),IF(AND(J355>=60,J355<65),VLOOKUP(K355,Feuil2!$F$10:$P$28,5),IF(AND(J355>=65,J355<70),VLOOKUP(K355,Feuil2!$F$10:$P$28,4),IF(AND(J355>=70,J355<75),VLOOKUP(K355,Feuil2!$F$10:$P$28,3),IF(AND(J355>=75,J355<80),VLOOKUP(K355,Feuil2!$F$10:$P$28,2),VLOOKUP(K355,Feuil2!$F$10:$P$28,2)))))))))","v":{"$error":"#N/A"}},null,{"$f":"T355-HLOOKUP(X355,Feuil2!$C$1:$CD$9,2,FALSE)","v":{"$error":"#VALUE!"}},{"$f":"T355-HLOOKUP(X355,Feuil2!$C$1:$CD$9,3,FALSE)","v":{"$error":"#VALUE!"}},{"$f":"T355-HLOOKUP(X355,Feuil2!$C$1:$CD$9,4,FALSE)","v":{"$error":"#VALUE!"}},{"$f":"T355-HLOOKUP(X355,Feuil2!$C$1:$CD$9,5,FALSE)","v":{"$error":"#VALUE!"}},{"$f":"T355-HLOOKUP(X355,Feuil2!$C$1:$CD$9,6,FALSE)","v":{"$error":"#VALUE!"}},{"$f":"T355-HLOOKUP(X355,Feuil2!$C$1:$CD$9,7,FALSE)","v":{"$error":"#VALUE!"}},{"$f":"T355-HLOOKUP(X355,Feuil2!$C$1:$CD$9,8,FALSE)","v":{"$error":"#VALUE!"}},{"$f":"T355-HLOOKUP(X355,Feuil2!$C$1:$CD$9,9,FALSE)","v":{"$error":"#VALUE!"}},null,null,null,null,null,null,null,{"$error":"#VALUE!"},114,null,{"$f":"IF(AP355,VLOOKUP(AP355,HOM!$AR$551:$AS$606,2))","v":3.5710000000000002}]
["H",null,null,null,null,false,null,null,null,null,null,null,null,null,"",null,null,null,"","","","","",{"$f":"IF(AND(J356>=40,J356<45),VLOOKUP(K356,Feuil2!$F$10:$P$28,9),IF(AND(J356>=45,J356<50),VLOOKUP(K356,Feuil2!$F$10:$P$28,8),IF(AND(J356>=50,J356<55),VLOOKUP(K356,Feuil2!$F$10:$P$28,7),IF(AND(J356>=55,J356<60),VLOOKUP(K356,Feuil2!$F$10:$P$28,6),IF(AND(J356>=60,J356<65),VLOOKUP(K356,Feuil2!$F$10:$P$28,5),IF(AND(J356>=65,J356<70),VLOOKUP(K356,Feuil2!$F$10:$P$28,4),IF(AND(J356>=70,J356<75),VLOOKUP(K356,Feuil2!$F$10:$P$28,3),IF(AND(J356>=75,J356<80),VLOOKUP(K356,Feuil2!$F$10:$P$28,2),VLOOKUP(K356,Feuil2!$F$10:$P$28,2)))))))))","v":{"$error":"#N/A"}},null,{"$f":"T356-HLOOKUP(X356,Feuil2!$C$1:$CD$9,2,FALSE)","v":{"$error":"#VALUE!"}},{"$f":"T356-HLOOKUP(X356,Feuil2!$C$1:$CD$9,3,FALSE)","v":{"$error":"#VALUE!"}},{"$f":"T356-HLOOKUP(X356,Feuil2!$C$1:$CD$9,4,FALSE)","v":{"$error":"#VALUE!"}},{"$f":"T356-HLOOKUP(X356,Feuil2!$C$1:$CD$9,5,FALSE)","v":{"$error":"#VALUE!"}},{"$f":"T356-HLOOKUP(X356,Feuil2!$C$1:$CD$9,6,FALSE)","v":{"$error":"#VALUE!"}},{"$f":"T356-HLOOKUP(X356,Feuil2!$C$1:$CD$9,7,FALSE)","v":{"$error":"#VALUE!"}},{"$f":"T356-HLOOKUP(X356,Feuil2!$C$1:$CD$9,8,FALSE)","v":{"$error":"#VALUE!"}},{"$f":"T356-HLOOKUP(X356,Feuil2!$C$1:$CD$9,9,FALSE)","v":{"$error":"#VALUE!"}},null,null,null,null,null,null,null,{"$error":"#VALUE!"},114,null,{"$f":"IF(AP356,VLOOKUP(AP356,HOM!$AR$551:$AS$606,2))","v":3.5710000000000002}]
["H",null,null,null,null,false,null,null,null,null,null,null,null,null,"",null,null,null,"","","","","",{"$f":"IF(AND(J357>=40,J357<45),VLOOKUP(K357,Feuil2!$F$10:$P$28,9),IF(AND(J357>=45,J357<50),VLOOKUP(K357,Feuil2!$F$10:$P$28,8),IF(AND(J357>=50,J357<55),VLOOKUP(K357,Feuil2!$F$10:$P$28,7),IF(AND(J357>=55,J357<60),VLOOKUP(K357,Feuil2!$F$10:$P$28,6),IF(AND(J357>=60,J357<65),VLOOKUP(K357,Feuil2!$F$10:$P$28,5),IF(AND(J357>=65,J357<70),VLOOKUP(K357,Feuil2!$F$10:$P$28,4),IF(AND(J357>=70,J357<75),VLOOKUP(K357,Feuil2!$F$10:$P$28,3),IF(AND(J357>=75,J357<80),VLOOKUP(K357,Feuil2!$F$10:$P$28,2),VLOOKUP(K357,Feuil2!$F$10:$P$28,2)))))))))","v":{"$error":"#N/A"}},null,{"$f":"T357-HLOOKUP(X357,Feuil2!$C$1:$CD$9,2,FALSE)","v":{"$error":"#VALUE!"}},{"$f":"T357-HLOOKUP(X357,Feuil2!$C$1:$CD$9,3,FALSE)","v":{"$error":"#VALUE!"}},{"$f":"T357-HLOOKUP(X357,Feuil2!$C$1:$CD$9,4,FALSE)","v":{"$error":"#VALUE!"}},{"$f":"T357-HLOOKUP(X357,Feuil2!$C$1:$CD$9,5,FALSE)","v":{"$error":"#VALUE!"}},{"$f":"T357-HLOOKUP(X357,Feuil2!$C$1:$CD$9,6,FALSE)","v":{"$error":"#VALUE!"}},{"$f":"T357-HLOOKUP(X357,Feuil2!$C$1:$CD$9,7,FALSE)","v":{"$error":"#VALUE!"}},{"$f":"T357-HLOOKUP(X357,Feuil2!$C$1:$CD$9,8,FALSE)","v":{"$error":"#VALUE!"}},{"$f":"T357-HLOOKUP(X357,Feuil2!$C$1:$CD$9,9,FALSE)","v":{"$error":"#VALUE!"}},null,null,null,null,null,null,null,{"$error":"#VALUE!"},{"$f":"114-J357","v":114},null,{"$f":"IF(AP357,VLOOKUP(AP357,HOM!$AR$551:$AS$606,2))","v":3.5710000000000002}]
["H",null,null,null,null,false,null,null,null,null,null,null,null,null,"",null,null,null,"","","","","",{"$f":"IF(AND(J358>=40,J358<45),VLOOKUP(K358,Feuil2!$F$10:$P$28,9),IF(AND(J358>=45,J358<50),VLOOKUP(K358,Feuil2!$F$10:$P$28,8),IF(AND(J358>=50,J358<55),VLOOKUP(K358,Feuil2!$F$10:$P$28,7),IF(AND(J358>=55,J358<60),VLOOKUP(K358,Feuil2!$F$10:$P$28,6),IF(AND(J358>=60,J358<65),VLOOKUP(K358,Feuil2!$F$10:$P$28,5),IF(AND(J358>=65,J358<70),VLOOKUP(K358,Feuil2!$F$10:$P$28,4),IF(AND(J358>=70,J358<75),VLOOKUP(K358,Feuil2!$F$10:$P$28,3),IF(AND(J358>=75,J358<80),VLOOKUP(K358,Feuil2!$F$10:$P$28,2),VLOOKUP(K358,Feuil2!$F$10:$P$28,2)))))))))","v":{"$error":"#N/A"}},null,{"$f":"T358-HLOOKUP(X358,Feuil2!$C$1:$CD$9,2,FALSE)","v":{"$error":"#VALUE!"}},{"$f":"T358-HLOOKUP(X358,Feuil2!$C$1:$CD$9,3,FALSE)","v":{"$error":"#VALUE!"}},{"$f":"T358-HLOOKUP(X358,Feuil2!$C$1:$CD$9,4,FALSE)","v":{"$error":"#VALUE!"}},{"$f":"T358-HLOOKUP(X358,Feuil2!$C$1:$CD$9,5,FALSE)","v":{"$error":"#VALUE!"}},{"$f":"T358-HLOOKUP(X358,Feuil2!$C$1:$CD$9,6,FALSE)","v":{"$error":"#VALUE!"}},{"$f":"T358-HLOOKUP(X358,Feuil2!$C$1:$CD$9,7,FALSE)","v":{"$error":"#VALUE!"}},{"$f":"T358-HLOOKUP(X358,Feuil2!$C$1:$CD$9,8,FALSE)","v":{"$error":"#VALUE!"}},{"$f":"T358-HLOOKUP(X358,Feuil2!$C$1:$CD$9,9,FALSE)","v":{"$error":"#VALUE!"}},null,null,null,null,null,null,null,{"$error":"#VALUE!"},114,null,{"$f":"IF(AP358,VLOOKUP(AP358,HOM!$AR$551:$AS$606,2))","v":3.5710000000000002}]
["H",null,null,null,null,{"$f":"IF(AP359<95,IF(AP359<=90,VLOOKUP(AP359,$AP$550:$AQ$605,2)))","v":false},null,null,null,null,null,null,null,null,"",null,null,null,"","","","","",{"$f":"IF(AND(J359>=40,J359<45),VLOOKUP(K359,Feuil2!$F$10:$P$28,9),IF(AND(J359>=45,J359<50),VLOOKUP(K359,Feuil2!$F$10:$P$28,8),IF(AND(J359>=50,J359<55),VLOOKUP(K359,Feuil2!$F$10:$P$28,7),IF(AND(J359>=55,J359<60),VLOOKUP(K359,Feuil2!$F$10:$P$28,6),IF(AND(J359>=60,J359<65),VLOOKUP(K359,Feuil2!$F$10:$P$28,5),IF(AND(J359>=65,J359<70),VLOOKUP(K359,Feuil2!$F$10:$P$28,4),IF(AND(J359>=70,J359<75),VLOOKUP(K359,Feuil2!$F$10:$P$28,3),IF(AND(J359>=75,J359<80),VLOOKUP(K359,Feuil2!$F$10:$P$28,2),VLOOKUP(K359,Feuil2!$F$10:$P$28,2)))))))))","v":{"$error":"#N/A"}},null,{"$f":"T359-HLOOKUP(X359,Feuil2!$C$1:$CD$9,2,FALSE)","v":{"$error":"#VALUE!"}},{"$f":"T359-HLOOKUP(X359,Feuil2!$C$1:$CD$9,3,FALSE)","v":{"$error":"#VALUE!"}},{"$f":"T359-HLOOKUP(X359,Feuil2!$C$1:$CD$9,4,FALSE)","v":{"$error":"#VALUE!"}},{"$f":"T359-HLOOKUP(X359,Feuil2!$C$1:$CD$9,5,FALSE)","v":{"$error":"#VALUE!"}},{"$f":"T359-HLOOKUP(X359,Feuil2!$C$1:$CD$9,6,FALSE)","v":{"$error":"#VALUE!"}},{"$f":"T359-HLOOKUP(X359,Feuil2!$C$1:$CD$9,7,FALSE)","v":{"$error":"#VALUE!"}},{"$f":"T359-HLOOKUP(X359,Feuil2!$C$1:$CD$9,8,FALSE)","v":{"$error":"#VALUE!"}},{"$f":"T359-HLOOKUP(X359,Feuil2!$C$1:$CD$9,9,FALSE)","v":{"$error":"#VALUE!"}},null,null,null,null,null,null,null,{"$error":"#VALUE!"},114,null,{"$f":"IF(AP359,VLOOKUP(AP359,HOM!$AR$551:$AS$606,2))","v":3.5710000000000002}]
["H",null,null,null,null,false,null,null,null,null,null,null,null,null,"",null,null,null,"","","",{"$f":"IF(K360=\"\",\"\",AO360)","v":""},{"$f":"IF(K360=\"\",\"\",IF(AG360>=0,AG360,IF(AF360>=0,AF360,IF(AE360>=0,AE360,IF(AD360>=0,AD360,IF(AC360>=0,AC360,IF(AB360>=0,AB360,IF(AA360>=0,AA360,Z360))))))))","v":""},{"$f":"IF(AND(J360>=40,J360<45),VLOOKUP(K360,Feuil2!$F$10:$P$28,9),IF(AND(J360>=45,J360<50),VLOOKUP(K360,Feuil2!$F$10:$P$28,8),IF(AND(J360>=50,J360<55),VLOOKUP(K360,Feuil2!$F$10:$P$28,7),IF(AND(J360>=55,J360<60),VLOOKUP(K360,Feuil2!$F$10:$P$28,6),IF(AND(J360>=60,J360<65),VLOOKUP(K360,Feuil2!$F$10:$P$28,5),IF(AND(J360>=65,J360<70),VLOOKUP(K360,Feuil2!$F$10:$P$28,4),IF(AND(J360>=70,J360<75),VLOOKUP(K360,Feuil2!$F$10:$P$28,3),IF(AND(J360>=75,J360<80),VLOOKUP(K360,Feuil2!$F$10:$P$28,2),VLOOKUP(K360,Feuil2!$F$10:$P$28,2)))))))))","v":{"$error":"#N/A"}},null,{"$f":"T360-HLOOKUP(X360,Feuil2!$C$1:$CD$9,2,FALSE)","v":{"$error":"#VALUE!"}},{"$f":"T360-HLOOKUP(X360,Feuil2!$C$1:$CD$9,3,FALSE)","v":{"$error":"#VALUE!"}},{"$f":"T360-HLOOKUP(X360,Feuil2!$C$1:$CD$9,4,FALSE)","v":{"$error":"#VALUE!"}},{"$f":"T360-HLOOKUP(X360,Feuil2!$C$1:$CD$9,5,FALSE)","v":{"$error":"#VALUE!"}},{"$f":"T360-HLOOKUP(X360,Feuil2!$C$1:$CD$9,6,FALSE)","v":{"$error":"#VALUE!"}},{"$f":"T360-HLOOKUP(X360,Feuil2!$C$1:$CD$9,7,FALSE)","v":{"$error":"#VALUE!"}},{"$f":"T360-HLOOKUP(X360,Feuil2!$C$1:$CD$9,8,FALSE)","v":{"$error":"#VALUE!"}},{"$f":"T360-HLOOKUP(X360,Feuil2!$C$1:$CD$9,9,FALSE)","v":{"$error":"#VALUE!"}},null,null,null,null,null,null,null,{"$f":"IF(AG360>=0,$AG$4,IF(AF360>=0,$AF$4,IF(AE360>=0,$AE$4,IF(AD360>=0,$AD$4,IF(AC360>=0,$AC$4,IF(AB360>=0,$AB$4,IF(AA360>=0,$AA$4,IF(Z360>=0,$Z$4,$AH$4))))))))","v":{"$error":"#VALUE!"}},114,null,{"$f":"IF(AP360,VLOOKUP(AP360,HOM!$AR$551:$AS$606,2))","v":3.5710000000000002}]
["H",null,null,null,null,false,null,null,null,null,null,null,null,null,"",null,null,null,"","",{"$f":"IF(K361=\"\",\"\",IF(A361=\"H\",10^(0.794358141*LOG(K361/174.393)^2)*T361*AR361,IF(A361=\"F\",10^(0.89726074 * LOG(K361/148.026)^2)*T361*AR361,\"\")))","v":""},"","",{"$f":"IF(AND(J361>=40,J361<45),VLOOKUP(K361,Feuil2!$F$10:$P$28,9),IF(AND(J361>=45,J361<50),VLOOKUP(K361,Feuil2!$F$10:$P$28,8),IF(AND(J361>=50,J361<55),VLOOKUP(K361,Feuil2!$F$10:$P$28,7),IF(AND(J361>=55,J361<60),VLOOKUP(K361,Feuil2!$F$10:$P$28,6),IF(AND(J361>=60,J361<65),VLOOKUP(K361,Feuil2!$F$10:$P$28,5),IF(AND(J361>=65,J361<70),VLOOKUP(K361,Feuil2!$F$10:$P$28,4),IF(AND(J361>=70,J361<75),VLOOKUP(K361,Feuil2!$F$10:$P$28,3),IF(AND(J361>=75,J361<80),VLOOKUP(K361,Feuil2!$F$10:$P$28,2),VLOOKUP(K361,Feuil2!$F$10:$P$28,2)))))))))","v":{"$error":"#N/A"}},null,{"$f":"T361-HLOOKUP(X361,Feuil2!$C$1:$CD$9,2,FALSE)","v":{"$error":"#VALUE!"}},{"$f":"T361-HLOOKUP(X361,Feuil2!$C$1:$CD$9,3,FALSE)","v":{"$error":"#VALUE!"}},{"$f":"T361-HLOOKUP(X361,Feuil2!$C$1:$CD$9,4,FALSE)","v":{"$error":"#VALUE!"}},{"$f":"T361-HLOOKUP(X361,Feuil2!$C$1:$CD$9,5,FALSE)","v":{"$error":"#VALUE!"}},{"$f":"T361-HLOOKUP(X361,Feuil2!$C$1:$CD$9,6,FALSE)","v":{"$error":"#VALUE!"}},{"$f":"T361-HLOOKUP(X361,Feuil2!$C$1:$CD$9,7,FALSE)","v":{"$error":"#VALUE!"}},{"$f":"T361-HLOOKUP(X361,Feuil2!$C$1:$CD$9,8,FALSE)","v":{"$error":"#VALUE!"}},{"$f":"T361-HLOOKUP(X361,Feuil2!$C$1:$CD$9,9,FALSE)","v":{"$error":"#VALUE!"}},null,null,null,null,null,null,null,{"$error":"#VALUE!"},114,null,{"$f":"IF(AP361,VLOOKUP(AP361,HOM!$AR$551:$AS$606,2))","v":3.5710000000000002}]
["H",null,null,null,null,false,null,null,null,null,null,null,null,null,"",null,null,null,"","","","","",{"$f":"IF(AND(J362>=40,J362<45),VLOOKUP(K362,Feuil2!$F$10:$P$28,9),IF(AND(J362>=45,J362<50),VLOOKUP(K362,Feuil2!$F$10:$P$28,8),IF(AND(J362>=50,J362<55),VLOOKUP(K362,Feuil2!$F$10:$P$28,7),IF(AND(J362>=55,J362<60),VLOOKUP(K362,Feuil2!$F$10:$P$28,6),IF(AND(J362>=60,J362<65),VLOOKUP(K362,Feuil2!$F$10:$P$28,5),IF(AND(J362>=65,J362<70),VLOOKUP(K362,Feuil2!$F$10:$P$28,4),IF(AND(J362>=70,J362<75),VLOOKUP(K362,Feuil2!$F$10:$P$28,3),IF(AND(J362>=75,J362<80),VLOOKUP(K362,Feuil2!$F$10:$P$28,2),VLOOKUP(K362,Feuil2!$F$10:$P$28,2)))))))))","v":{"$error":"#N/A"}},null,{"$f":"T362-HLOOKUP(X362,Feuil2!$C$1:$CD$9,2,FALSE)","v":{"$error":"#VALUE!"}},{"$f":"T362-HLOOKUP(X362,Feuil2!$C$1:$CD$9,3,FALSE)","v":{"$error":"#VALUE!"}},{"$f":"T362-HLOOKUP(X362,Feuil2!$C$1:$CD$9,4,FALSE)","v":{"$error":"#VALUE!"}},{"$f":"T362-HLOOKUP(X362,Feuil2!$C$1:$CD$9,5,FALSE)","v":{"$error":"#VALUE!"}},{"$f":"T362-HLOOKUP(X362,Feuil2!$C$1:$CD$9,6,FALSE)","v":{"$error":"#VALUE!"}},{"$f":"T362-HLOOKUP(X362,Feuil2!$C$1:$CD$9,7,FALSE)","v":{"$error":"#VALUE!"}},{"$f":"T362-HLOOKUP(X362,Feuil2!$C$1:$CD$9,8,FALSE)","v":{"$error":"#VALUE!"}},{"$f":"T362-HLOOKUP(X362,Feuil2!$C$1:$CD$9,9,FALSE)","v":{"$error":"#VALUE!"}},null,null,null,null,null,null,null,{"$error":"#VALUE!"},114,null,{"$f":"IF(AP362,VLOOKUP(AP362,HOM!$AR$551:$AS$606,2))","v":3.5710000000000002}]
["H",null,null,null,null,false,null,null,null,null,null,null,null,null,"",null,null,null,"","","","","",{"$f":"IF(AND(J363>=40,J363<45),VLOOKUP(K363,Feuil2!$F$10:$P$28,9),IF(AND(J363>=45,J363<50),VLOOKUP(K363,Feuil2!$F$10:$P$28,8),IF(AND(J363>=50,J363<55),VLOOKUP(K363,Feuil2!$F$10:$P$28,7),IF(AND(J363>=55,J363<60),VLOOKUP(K363,Feuil2!$F$10:$P$28,6),IF(AND(J363>=60,J363<65),VLOOKUP(K363,Feuil2!$F$10:$P$28,5),IF(AND(J363>=65,J363<70),VLOOKUP(K363,Feuil2!$F$10:$P$28,4),IF(AND(J363>=70,J363<75),VLOOKUP(K363,Feuil2!$F$10:$P$28,3),IF(AND(J363>=75,J363<80),VLOOKUP(K363,Feuil2!$F$10:$P$28,2),VLOOKUP(K363,Feuil2!$F$10:$P$28,2)))))))))","v":{"$error":"#N/A"}},null,{"$f":"T363-HLOOKUP(X363,Feuil2!$C$1:$CD$9,2,FALSE)","v":{"$error":"#VALUE!"}},{"$f":"T363-HLOOKUP(X363,Feuil2!$C$1:$CD$9,3,FALSE)","v":{"$error":"#VALUE!"}},{"$f":"T363-HLOOKUP(X363,Feuil2!$C$1:$CD$9,4,FALSE)","v":{"$error":"#VALUE!"}},{"$f":"T363-HLOOKUP(X363,Feuil2!$C$1:$CD$9,5,FALSE)","v":{"$error":"#VALUE!"}},{"$f":"T363-HLOOKUP(X363,Feuil2!$C$1:$CD$9,6,FALSE)","v":{"$error":"#VALUE!"}},{"$f":"T363-HLOOKUP(X363,Feuil2!$C$1:$CD$9,7,FALSE)","v":{"$error":"#VALUE!"}},{"$f":"T363-HLOOKUP(X363,Feuil2!$C$1:$CD$9,8,FALSE)","v":{"$error":"#VALUE!"}},{"$f":"T363-HLOOKUP(X363,Feuil2!$C$1:$CD$9,9,FALSE)","v":{"$error":"#VALUE!"}},null,null,null,null,null,null,null,{"$error":"#VALUE!"},114,null,{"$f":"IF(AP363,VLOOKUP(AP363,HOM!$AR$551:$AS$606,2))","v":3.5710000000000002}]
["H",null,null,null,null,false,null,null,null,null,null,null,null,null,"",null,null,null,"","","","","",{"$f":"IF(AND(J364>=40,J364<45),VLOOKUP(K364,Feuil2!$F$10:$P$28,9),IF(AND(J364>=45,J364<50),VLOOKUP(K364,Feuil2!$F$10:$P$28,8),IF(AND(J364>=50,J364<55),VLOOKUP(K364,Feuil2!$F$10:$P$28,7),IF(AND(J364>=55,J364<60),VLOOKUP(K364,Feuil2!$F$10:$P$28,6),IF(AND(J364>=60,J364<65),VLOOKUP(K364,Feuil2!$F$10:$P$28,5),IF(AND(J364>=65,J364<70),VLOOKUP(K364,Feuil2!$F$10:$P$28,4),IF(AND(J364>=70,J364<75),VLOOKUP(K364,Feuil2!$F$10:$P$28,3),IF(AND(J364>=75,J364<80),VLOOKUP(K364,Feuil2!$F$10:$P$28,2),VLOOKUP(K364,Feuil2!$F$10:$P$28,2)))))))))","v":{"$error":"#N/A"}},null,{"$f":"T364-HLOOKUP(X364,Feuil2!$C$1:$CD$9,2,FALSE)","v":{"$error":"#VALUE!"}},{"$f":"T364-HLOOKUP(X364,Feuil2!$C$1:$CD$9,3,FALSE)","v":{"$error":"#VALUE!"}},{"$f":"T364-HLOOKUP(X364,Feuil2!$C$1:$CD$9,4,FALSE)","v":{"$error":"#VALUE!"}},{"$f":"T364-HLOOKUP(X364,Feuil2!$C$1:$CD$9,5,FALSE)","v":{"$error":"#VALUE!"}},{"$f":"T364-HLOOKUP(X364,Feuil2!$C$1:$CD$9,6,FALSE)","v":{"$error":"#VALUE!"}},{"$f":"T364-HLOOKUP(X364,Feuil2!$C$1:$CD$9,7,FALSE)","v":{"$error":"#VALUE!"}},{"$f":"T364-HLOOKUP(X364,Feuil2!$C$1:$CD$9,8,FALSE)","v":{"$error":"#VALUE!"}},{"$f":"T364-HLOOKUP(X364,Feuil2!$C$1:$CD$9,9,FALSE)","v":{"$error":"#VALUE!"}},null,null,null,null,null,null,null,{"$error":"#VALUE!"},114,null,{"$f":"IF(AP364,VLOOKUP(AP364,HOM!$AR$551:$AS$606,2))","v":3.5710000000000002}]
["H",null,null,null,null,false,null,null,null,null,null,null,null,null,{"$f":"IF(K365=\"\",\"\",IF(MAXA(L365:N365)<=0,0,MAXA(L365:N365)))","v":""},null,null,null,{"$f":"IF(K365=\"\",\"\",IF(MAXA(P365:R365)<=0,0,MAXA(P365:R365)))","v":""},{"$f":"IF(K365=\"\",\"\",IF(OR(O365=0,S365=0),0,O365+S365))","v":""},"","","",{"$f":"IF(AND(J365>=40,J365<45),VLOOKUP(K365,Feuil2!$F$10:$P$28,9),IF(AND(J365>=45,J365<50),VLOOKUP(K365,Feuil2!$F$10:$P$28,8),IF(AND(J365>=50,J365<55),VLOOKUP(K365,Feuil2!$F$10:$P$28,7),IF(AND(J365>=55,J365<60),VLOOKUP(K365,Feuil2!$F$10:$P$28,6),IF(AND(J365>=60,J365<65),VLOOKUP(K365,Feuil2!$F$10:$P$28,5),IF(AND(J365>=65,J365<70),VLOOKUP(K365,Feuil2!$F$10:$P$28,4),IF(AND(J365>=70,J365<75),VLOOKUP(K365,Feuil2!$F$10:$P$28,3),IF(AND(J365>=75,J365<80),VLOOKUP(K365,Feuil2!$F$10:$P$28,2),VLOOKUP(K365,Feuil2!$F$10:$P$28,2)))))))))","v":{"$error":"#N/A"}},null,{"$f":"T365-HLOOKUP(X365,Feuil2!$C$1:$CD$9,2,FALSE)","v":{"$error":"#VALUE!"}},{"$f":"T365-HLOOKUP(X365,Feuil2!$C$1:$CD$9,3,FALSE)","v":{"$error":"#VALUE!"}},{"$f":"T365-HLOOKUP(X365,Feuil2!$C$1:$CD$9,4,FALSE)","v":{"$error":"#VALUE!"}},{"$f":"T365-HLOOKUP(X365,Feuil2!$C$1:$CD$9,5,FALSE)","v":{"$error":"#VALUE!"}},{"$f":"T365-HLOOKUP(X365,Feuil2!$C$1:$CD$9,6,FALSE)","v":{"$error":"#VALUE!"}},{"$f":"T365-HLOOKUP(X365,Feuil2!$C$1:$CD$9,7,FALSE)","v":{"$error":"#VALUE!"}},{"$f":"T365-HLOOKUP(X365,Feuil2!$C$1:$CD$9,8,FALSE)","v":{"$error":"#VALUE!"}},{"$f":"T365-HLOOKUP(X365,Feuil2!$C$1:$CD$9,9,FALSE)","v":{"$error":"#VALUE!"}},null,null,null,null,null,null,null,{"$error":"#VALUE!"},114,null,{"$f":"IF(AP365,VLOOKUP(AP365,HOM!$AR$551:$AS$606,2))","v":3.5710000000000002}]
["H",null,null,null,null,false,null,null,null,null,null,null,null,null,"",null,null,null,"","","","","",{"$f":"IF(AND(J366>=40,J366<45),VLOOKUP(K366,Feuil2!$F$10:$P$28,9),IF(AND(J366>=45,J366<50),VLOOKUP(K366,Feuil2!$F$10:$P$28,8),IF(AND(J366>=50,J366<55),VLOOKUP(K366,Feuil2!$F$10:$P$28,7),IF(AND(J366>=55,J366<60),VLOOKUP(K366,Feuil2!$F$10:$P$28,6),IF(AND(J366>=60,J366<65),VLOOKUP(K366,Feuil2!$F$10:$P$28,5),IF(AND(J366>=65,J366<70),VLOOKUP(K366,Feuil2!$F$10:$P$28,4),IF(AND(J366>=70,J366<75),VLOOKUP(K366,Feuil2!$F$10:$P$28,3),IF(AND(J366>=75,J366<80),VLOOKUP(K366,Feuil2!$F$10:$P$28,2),VLOOKUP(K366,Feuil2!$F$10:$P$28,2)))))))))","v":{"$error":"#N/A"}},null,{"$f":"T366-HLOOKUP(X366,Feuil2!$C$1:$CD$9,2,FALSE)","v":{"$error":"#VALUE!"}},{"$f":"T366-HLOOKUP(X366,Feuil2!$C$1:$CD$9,3,FALSE)","v":{"$error":"#VALUE!"}},{"$f":"T366-HLOOKUP(X366,Feuil2!$C$1:$CD$9,4,FALSE)","v":{"$error":"#VALUE!"}},{"$f":"T366-HLOOKUP(X366,Feuil2!$C$1:$CD$9,5,FALSE)","v":{"$error":"#VALUE!"}},{"$f":"T366-HLOOKUP(X366,Feuil2!$C$1:$CD$9,6,FALSE)","v":{"$error":"#VALUE!"}},{"$f":"T366-HLOOKUP(X366,Feuil2!$C$1:$CD$9,7,FALSE)","v":{"$error":"#VALUE!"}},{"$f":"T366-HLOOKUP(X366,Feuil2!$C$1:$CD$9,8,FALSE)","v":{"$error":"#VALUE!"}},{"$f":"T366-HLOOKUP(X366,Feuil2!$C$1:$CD$9,9,FALSE)","v":{"$error":"#VALUE!"}},null,null,null,null,null,null,null,{"$error":"#VALUE!"},114,null,{"$f":"IF(AP366,VLOOKUP(AP366,HOM!$AR$551:$AS$606,2))","v":3.5710000000000002}]
["H",null,null,null,null,false,null,null,null,null,null,null,null,null,"",null,null,null,"","","","","",{"$f":"IF(AND(J367>=40,J367<45),VLOOKUP(K367,Feuil2!$F$10:$P$28,9),IF(AND(J367>=45,J367<50),VLOOKUP(K367,Feuil2!$F$10:$P$28,8),IF(AND(J367>=50,J367<55),VLOOKUP(K367,Feuil2!$F$10:$P$28,7),IF(AND(J367>=55,J367<60),VLOOKUP(K367,Feuil2!$F$10:$P$28,6),IF(AND(J367>=60,J367<65),VLOOKUP(K367,Feuil2!$F$10:$P$28,5),IF(AND(J367>=65,J367<70),VLOOKUP(K367,Feuil2!$F$10:$P$28,4),IF(AND(J367>=70,J367<75),VLOOKUP(K367,Feuil2!$F$10:$P$28,3),IF(AND(J367>=75,J367<80),VLOOKUP(K367,Feuil2!$F$10:$P$28,2),VLOOKUP(K367,Feuil2!$F$10:$P$28,2)))))))))","v":{"$error":"#N/A"}},null,{"$f":"T367-HLOOKUP(X367,Feuil2!$C$1:$CD$9,2,FALSE)","v":{"$error":"#VALUE!"}},{"$f":"T367-HLOOKUP(X367,Feuil2!$C$1:$CD$9,3,FALSE)","v":{"$error":"#VALUE!"}},{"$f":"T367-HLOOKUP(X367,Feuil2!$C$1:$CD$9,4,FALSE)","v":{"$error":"#VALUE!"}},{"$f":"T367-HLOOKUP(X367,Feuil2!$C$1:$CD$9,5,FALSE)","v":{"$error":"#VALUE!"}},{"$f":"T367-HLOOKUP(X367,Feuil2!$C$1:$CD$9,6,FALSE)","v":{"$error":"#VALUE!"}},{"$f":"T367-HLOOKUP(X367,Feuil2!$C$1:$CD$9,7,FALSE)","v":{"$error":"#VALUE!"}},{"$f":"T367-HLOOKUP(X367,Feuil2!$C$1:$CD$9,8,FALSE)","v":{"$error":"#VALUE!"}},{"$f":"T367-HLOOKUP(X367,Feuil2!$C$1:$CD$9,9,FALSE)","v":{"$error":"#VALUE!"}},null,null,null,null,null,null,null,{"$error":"#VALUE!"},114,null,{"$f":"IF(AP367,VLOOKUP(AP367,HOM!$AR$551:$AS$606,2))","v":3.5710000000000002}]
["H",null,null,null,null,false,null,null,null,null,null,null,null,null,"",null,null,null,"","","","","",{"$f":"IF(AND(J368>=40,J368<45),VLOOKUP(K368,Feuil2!$F$10:$P$28,9),IF(AND(J368>=45,J368<50),VLOOKUP(K368,Feuil2!$F$10:$P$28,8),IF(AND(J368>=50,J368<55),VLOOKUP(K368,Feuil2!$F$10:$P$28,7),IF(AND(J368>=55,J368<60),VLOOKUP(K368,Feuil2!$F$10:$P$28,6),IF(AND(J368>=60,J368<65),VLOOKUP(K368,Feuil2!$F$10:$P$28,5),IF(AND(J368>=65,J368<70),VLOOKUP(K368,Feuil2!$F$10:$P$28,4),IF(AND(J368>=70,J368<75),VLOOKUP(K368,Feuil2!$F$10:$P$28,3),IF(AND(J368>=75,J368<80),VLOOKUP(K368,Feuil2!$F$10:$P$28,2),VLOOKUP(K368,Feuil2!$F$10:$P$28,2)))))))))","v":{"$error":"#N/A"}},null,{"$f":"T368-HLOOKUP(X368,Feuil2!$C$1:$CD$9,2,FALSE)","v":{"$error":"#VALUE!"}},{"$f":"T368-HLOOKUP(X368,Feuil2!$C$1:$CD$9,3,FALSE)","v":{"$error":"#VALUE!"}},{"$f":"T368-HLOOKUP(X368,Feuil2!$C$1:$CD$9,4,FALSE)","v":{"$error":"#VALUE!"}},{"$f":"T368-HLOOKUP(X368,Feuil2!$C$1:$CD$9,5,FALSE)","v":{"$error":"#VALUE!"}},{"$f":"T368-HLOOKUP(X368,Feuil2!$C$1:$CD$9,6,FALSE)","v":{"$error":"#VALUE!"}},{"$f":"T368-HLOOKUP(X368,Feuil2!$C$1:$CD$9,7,FALSE)","v":{"$error":"#VALUE!"}},{"$f":"T368-HLOOKUP(X368,Feuil2!$C$1:$CD$9,8,FALSE)","v":{"$error":"#VALUE!"}},{"$f":"T368-HLOOKUP(X368,Feuil2!$C$1:$CD$9,9,FALSE)","v":{"$error":"#VALUE!"}},null,null,null,null,null,null,null,{"$error":"#VALUE!"},114,null,{"$f":"IF(AP368,VLOOKUP(AP368,HOM!$AR$551:$AS$606,2))","v":3.5710000000000002}]
["H",null,null,null,null,false,null,null,null,null,null,null,null,null,"",null,null,null,"","","","","",{"$f":"IF(AND(J369>=40,J369<45),VLOOKUP(K369,Feuil2!$F$10:$P$28,9),IF(AND(J369>=45,J369<50),VLOOKUP(K369,Feuil2!$F$10:$P$28,8),IF(AND(J369>=50,J369<55),VLOOKUP(K369,Feuil2!$F$10:$P$28,7),IF(AND(J369>=55,J369<60),VLOOKUP(K369,Feuil2!$F$10:$P$28,6),IF(AND(J369>=60,J369<65),VLOOKUP(K369,Feuil2!$F$10:$P$28,5),IF(AND(J369>=65,J369<70),VLOOKUP(K369,Feuil2!$F$10:$P$28,4),IF(AND(J369>=70,J369<75),VLOOKUP(K369,Feuil2!$F$10:$P$28,3),IF(AND(J369>=75,J369<80),VLOOKUP(K369,Feuil2!$F$10:$P$28,2),VLOOKUP(K369,Feuil2!$F$10:$P$28,2)))))))))","v":{"$error":"#N/A"}},null,{"$f":"T369-HLOOKUP(X369,Feuil2!$C$1:$CD$9,2,FALSE)","v":{"$error":"#VALUE!"}},{"$f":"T369-HLOOKUP(X369,Feuil2!$C$1:$CD$9,3,FALSE)","v":{"$error":"#VALUE!"}},{"$f":"T369-HLOOKUP(X369,Feuil2!$C$1:$CD$9,4,FALSE)","v":{"$error":"#VALUE!"}},{"$f":"T369-HLOOKUP(X369,Feuil2!$C$1:$CD$9,5,FALSE)","v":{"$error":"#VALUE!"}},{"$f":"T369-HLOOKUP(X369,Feuil2!$C$1:$CD$9,6,FALSE)","v":{"$error":"#VALUE!"}},{"$f":"T369-HLOOKUP(X369,Feuil2!$C$1:$CD$9,7,FALSE)","v":{"$error":"#VALUE!"}},{"$f":"T369-HLOOKUP(X369,Feuil2!$C$1:$CD$9,8,FALSE)","v":{"$error":"#VALUE!"}},{"$f":"T369-HLOOKUP(X369,Feuil2!$C$1:$CD$9,9,FALSE)","v":{"$error":"#VALUE!"}},null,null,null,null,null,null,null,{"$error":"#VALUE!"},114,null,{"$f":"IF(AP369,VLOOKUP(AP369,HOM!$AR$551:$AS$606,2))","v":3.5710000000000002}]
["H",null,null,null,null,false,null,null,null,null,null,null,null,null,"",null,null,null,"","","","","",{"$f":"IF(AND(J370>=40,J370<45),VLOOKUP(K370,Feuil2!$F$10:$P$28,9),IF(AND(J370>=45,J370<50),VLOOKUP(K370,Feuil2!$F$10:$P$28,8),IF(AND(J370>=50,J370<55),VLOOKUP(K370,Feuil2!$F$10:$P$28,7),IF(AND(J370>=55,J370<60),VLOOKUP(K370,Feuil2!$F$10:$P$28,6),IF(AND(J370>=60,J370<65),VLOOKUP(K370,Feuil2!$F$10:$P$28,5),IF(AND(J370>=65,J370<70),VLOOKUP(K370,Feuil2!$F$10:$P$28,4),IF(AND(J370>=70,J370<75),VLOOKUP(K370,Feuil2!$F$10:$P$28,3),IF(AND(J370>=75,J370<80),VLOOKUP(K370,Feuil2!$F$10:$P$28,2),VLOOKUP(K370,Feuil2!$F$10:$P$28,2)))))))))","v":{"$error":"#N/A"}},null,{"$f":"T370-HLOOKUP(X370,Feuil2!$C$1:$CD$9,2,FALSE)","v":{"$error":"#VALUE!"}},{"$f":"T370-HLOOKUP(X370,Feuil2!$C$1:$CD$9,3,FALSE)","v":{"$error":"#VALUE!"}},{"$f":"T370-HLOOKUP(X370,Feuil2!$C$1:$CD$9,4,FALSE)","v":{"$error":"#VALUE!"}},{"$f":"T370-HLOOKUP(X370,Feuil2!$C$1:$CD$9,5,FALSE)","v":{"$error":"#VALUE!"}},{"$f":"T370-HLOOKUP(X370,Feuil2!$C$1:$CD$9,6,FALSE)","v":{"$error":"#VALUE!"}},{"$f":"T370-HLOOKUP(X370,Feuil2!$C$1:$CD$9,7,FALSE)","v":{"$error":"#VALUE!"}},{"$f":"T370-HLOOKUP(X370,Feuil2!$C$1:$CD$9,8,FALSE)","v":{"$error":"#VALUE!"}},{"$f":"T370-HLOOKUP(X370,Feuil2!$C$1:$CD$9,9,FALSE)","v":{"$error":"#VALUE!"}},null,null,null,null,null,null,null,{"$error":"#VALUE!"},114,null,{"$f":"IF(AP370,VLOOKUP(AP370,HOM!$AR$551:$AS$606,2))","v":3.5710000000000002}]
["H",null,null,null,null,false,null,null,null,null,null,null,null,null,"",null,null,null,"","","","","",{"$f":"IF(AND(J371>=40,J371<45),VLOOKUP(K371,Feuil2!$F$10:$P$28,9),IF(AND(J371>=45,J371<50),VLOOKUP(K371,Feuil2!$F$10:$P$28,8),IF(AND(J371>=50,J371<55),VLOOKUP(K371,Feuil2!$F$10:$P$28,7),IF(AND(J371>=55,J371<60),VLOOKUP(K371,Feuil2!$F$10:$P$28,6),IF(AND(J371>=60,J371<65),VLOOKUP(K371,Feuil2!$F$10:$P$28,5),IF(AND(J371>=65,J371<70),VLOOKUP(K371,Feuil2!$F$10:$P$28,4),IF(AND(J371>=70,J371<75),VLOOKUP(K371,Feuil2!$F$10:$P$28,3),IF(AND(J371>=75,J371<80),VLOOKUP(K371,Feuil2!$F$10:$P$28,2),VLOOKUP(K371,Feuil2!$F$10:$P$28,2)))))))))","v":{"$error":"#N/A"}},null,{"$f":"T371-HLOOKUP(X371,Feuil2!$C$1:$CD$9,2,FALSE)","v":{"$error":"#VALUE!"}},{"$f":"T371-HLOOKUP(X371,Feuil2!$C$1:$CD$9,3,FALSE)","v":{"$error":"#VALUE!"}},{"$f":"T371-HLOOKUP(X371,Feuil2!$C$1:$CD$9,4,FALSE)","v":{"$error":"#VALUE!"}},{"$f":"T371-HLOOKUP(X371,Feuil2!$C$1:$CD$9,5,FALSE)","v":{"$error":"#VALUE!"}},{"$f":"T371-HLOOKUP(X371,Feuil2!$C$1:$CD$9,6,FALSE)","v":{"$error":"#VALUE!"}},{"$f":"T371-HLOOKUP(X371,Feuil2!$C$1:$CD$9,7,FALSE)","v":{"$error":"#VALUE!"}},{"$f":"T371-HLOOKUP(X371,Feuil2!$C$1:$CD$9,8,FALSE)","v":{"$error":"#VALUE!"}},{"$f":"T371-HLOOKUP(X371,Feuil2!$C$1:$CD$9,9,FALSE)","v":{"$error":"#VALUE!"}},null,null,null,null,null,null,null,{"$error":"#VALUE!"},114,null,{"$f":"IF(AP371,VLOOKUP(AP371,HOM!$AR$551:$AS$606,2))","v":3.5710000000000002}]
["H",null,null,null,null,false,null,null,null,null,null,null,null,null,"",null,null,null,"","","","","",{"$f":"IF(AND(J372>=40,J372<45),VLOOKUP(K372,Feuil2!$F$10:$P$28,9),IF(AND(J372>=45,J372<50),VLOOKUP(K372,Feuil2!$F$10:$P$28,8),IF(AND(J372>=50,J372<55),VLOOKUP(K372,Feuil2!$F$10:$P$28,7),IF(AND(J372>=55,J372<60),VLOOKUP(K372,Feuil2!$F$10:$P$28,6),IF(AND(J372>=60,J372<65),VLOOKUP(K372,Feuil2!$F$10:$P$28,5),IF(AND(J372>=65,J372<70),VLOOKUP(K372,Feuil2!$F$10:$P$28,4),IF(AND(J372>=70,J372<75),VLOOKUP(K372,Feuil2!$F$10:$P$28,3),IF(AND(J372>=75,J372<80),VLOOKUP(K372,Feuil2!$F$10:$P$28,2),VLOOKUP(K372,Feuil2!$F$10:$P$28,2)))))))))","v":{"$error":"#N/A"}},null,{"$f":"T372-HLOOKUP(X372,Feuil2!$C$1:$CD$9,2,FALSE)","v":{"$error":"#VALUE!"}},{"$f":"T372-HLOOKUP(X372,Feuil2!$C$1:$CD$9,3,FALSE)","v":{"$error":"#VALUE!"}},{"$f":"T372-HLOOKUP(X372,Feuil2!$C$1:$CD$9,4,FALSE)","v":{"$error":"#VALUE!"}},{"$f":"T372-HLOOKUP(X372,Feuil2!$C$1:$CD$9,5,FALSE)","v":{"$error":"#VALUE!"}},{"$f":"T372-HLOOKUP(X372,Feuil2!$C$1:$CD$9,6,FALSE)","v":{"$error":"#VALUE!"}},{"$f":"T372-HLOOKUP(X372,Feuil2!$C$1:$CD$9,7,FALSE)","v":{"$error":"#VALUE!"}},{"$f":"T372-HLOOKUP(X372,Feuil2!$C$1:$CD$9,8,FALSE)","v":{"$error":"#VALUE!"}},{"$f":"T372-HLOOKUP(X372,Feuil2!$C$1:$CD$9,9,FALSE)","v":{"$error":"#VALUE!"}},null,null,null,null,null,null,null,{"$error":"#VALUE!"},114,null,{"$f":"IF(AP372,VLOOKUP(AP372,HOM!$AR$551:$AS$606,2))","v":3.5710000000000002}]
["H",null,null,null,null,false,null,null,null,null,null,null,null,null,"",null,null,null,"","","","","",{"$f":"IF(AND(J373>=40,J373<45),VLOOKUP(K373,Feuil2!$F$10:$P$28,9),IF(AND(J373>=45,J373<50),VLOOKUP(K373,Feuil2!$F$10:$P$28,8),IF(AND(J373>=50,J373<55),VLOOKUP(K373,Feuil2!$F$10:$P$28,7),IF(AND(J373>=55,J373<60),VLOOKUP(K373,Feuil2!$F$10:$P$28,6),IF(AND(J373>=60,J373<65),VLOOKUP(K373,Feuil2!$F$10:$P$28,5),IF(AND(J373>=65,J373<70),VLOOKUP(K373,Feuil2!$F$10:$P$28,4),IF(AND(J373>=70,J373<75),VLOOKUP(K373,Feuil2!$F$10:$P$28,3),IF(AND(J373>=75,J373<80),VLOOKUP(K373,Feuil2!$F$10:$P$28,2),VLOOKUP(K373,Feuil2!$F$10:$P$28,2)))))))))","v":{"$error":"#N/A"}},null,{"$f":"T373-HLOOKUP(X373,Feuil2!$C$1:$CD$9,2,FALSE)","v":{"$error":"#VALUE!"}},{"$f":"T373-HLOOKUP(X373,Feuil2!$C$1:$CD$9,3,FALSE)","v":{"$error":"#VALUE!"}},{"$f":"T373-HLOOKUP(X373,Feuil2!$C$1:$CD$9,4,FALSE)","v":{"$error":"#VALUE!"}},{"$f":"T373-HLOOKUP(X373,Feuil2!$C$1:$CD$9,5,FALSE)","v":{"$error":"#VALUE!"}},{"$f":"T373-HLOOKUP(X373,Feuil2!$C$1:$CD$9,6,FALSE)","v":{"$error":"#VALUE!"}},{"$f":"T373-HLOOKUP(X373,Feuil2!$C$1:$CD$9,7,FALSE)","v":{"$error":"#VALUE!"}},{"$f":"T373-HLOOKUP(X373,Feuil2!$C$1:$CD$9,8,FALSE)","v":{"$error":"#VALUE!"}},{"$f":"T373-HLOOKUP(X373,Feuil2!$C$1:$CD$9,9,FALSE)","v":{"$error":"#VALUE!"}},null,null,null,null,null,null,null,{"$error":"#VALUE!"},114,null,{"$f":"IF(AP373,VLOOKUP(AP373,HOM!$AR$551:$AS$606,2))","v":3.5710000000000002}]
["H",null,null,null,null,false,null,null,null,null,null,null,null,null,"",null,null,null,"","","","","",{"$f":"IF(AND(J374>=40,J374<45),VLOOKUP(K374,Feuil2!$F$10:$P$28,9),IF(AND(J374>=45,J374<50),VLOOKUP(K374,Feuil2!$F$10:$P$28,8),IF(AND(J374>=50,J374<55),VLOOKUP(K374,Feuil2!$F$10:$P$28,7),IF(AND(J374>=55,J374<60),VLOOKUP(K374,Feuil2!$F$10:$P$28,6),IF(AND(J374>=60,J374<65),VLOOKUP(K374,Feuil2!$F$10:$P$28,5),IF(AND(J374>=65,J374<70),VLOOKUP(K374,Feuil2!$F$10:$P$28,4),IF(AND(J374>=70,J374<75),VLOOKUP(K374,Feuil2!$F$10:$P$28,3),IF(AND(J374>=75,J374<80),VLOOKUP(K374,Feuil2!$F$10:$P$28,2),VLOOKUP(K374,Feuil2!$F$10:$P$28,2)))))))))","v":{"$error":"#N/A"}},null,{"$f":"T374-HLOOKUP(X374,Feuil2!$C$1:$CD$9,2,FALSE)","v":{"$error":"#VALUE!"}},{"$f":"T374-HLOOKUP(X374,Feuil2!$C$1:$CD$9,3,FALSE)","v":{"$error":"#VALUE!"}},{"$f":"T374-HLOOKUP(X374,Feuil2!$C$1:$CD$9,4,FALSE)","v":{"$error":"#VALUE!"}},{"$f":"T374-HLOOKUP(X374,Feuil2!$C$1:$CD$9,5,FALSE)","v":{"$error":"#VALUE!"}},{"$f":"T374-HLOOKUP(X374,Feuil2!$C$1:$CD$9,6,FALSE)","v":{"$error":"#VALUE!"}},{"$f":"T374-HLOOKUP(X374,Feuil2!$C$1:$CD$9,7,FALSE)","v":{"$error":"#VALUE!"}},{"$f":"T374-HLOOKUP(X374,Feuil2!$C$1:$CD$9,8,FALSE)","v":{"$error":"#VALUE!"}},{"$f":"T374-HLOOKUP(X374,Feuil2!$C$1:$CD$9,9,FALSE)","v":{"$error":"#VALUE!"}},null,null,null,null,null,null,null,{"$error":"#VALUE!"},114,null,{"$f":"IF(AP374,VLOOKUP(AP374,HOM!$AR$551:$AS$606,2))","v":3.5710000000000002}]
["H",null,null,null,null,false,null,null,null,null,null,null,null,null,"",null,null,null,"","","","","",{"$f":"IF(AND(J375>=40,J375<45),VLOOKUP(K375,Feuil2!$F$10:$P$28,9),IF(AND(J375>=45,J375<50),VLOOKUP(K375,Feuil2!$F$10:$P$28,8),IF(AND(J375>=50,J375<55),VLOOKUP(K375,Feuil2!$F$10:$P$28,7),IF(AND(J375>=55,J375<60),VLOOKUP(K375,Feuil2!$F$10:$P$28,6),IF(AND(J375>=60,J375<65),VLOOKUP(K375,Feuil2!$F$10:$P$28,5),IF(AND(J375>=65,J375<70),VLOOKUP(K375,Feuil2!$F$10:$P$28,4),IF(AND(J375>=70,J375<75),VLOOKUP(K375,Feuil2!$F$10:$P$28,3),IF(AND(J375>=75,J375<80),VLOOKUP(K375,Feuil2!$F$10:$P$28,2),VLOOKUP(K375,Feuil2!$F$10:$P$28,2)))))))))","v":{"$error":"#N/A"}},null,{"$f":"T375-HLOOKUP(X375,Feuil2!$C$1:$CD$9,2,FALSE)","v":{"$error":"#VALUE!"}},{"$f":"T375-HLOOKUP(X375,Feuil2!$C$1:$CD$9,3,FALSE)","v":{"$error":"#VALUE!"}},{"$f":"T375-HLOOKUP(X375,Feuil2!$C$1:$CD$9,4,FALSE)","v":{"$error":"#VALUE!"}},{"$f":"T375-HLOOKUP(X375,Feuil2!$C$1:$CD$9,5,FALSE)","v":{"$error":"#VALUE!"}},{"$f":"T375-HLOOKUP(X375,Feuil2!$C$1:$CD$9,6,FALSE)","v":{"$error":"#VALUE!"}},{"$f":"T375-HLOOKUP(X375,Feuil2!$C$1:$CD$9,7,FALSE)","v":{"$error":"#VALUE!"}},{"$f":"T375-HLOOKUP(X375,Feuil2!$C$1:$CD$9,8,FALSE)","v":{"$error":"#VALUE!"}},{"$f":"T375-HLOOKUP(X375,Feuil2!$C$1:$CD$9,9,FALSE)","v":{"$error":"#VALUE!"}},null,null,null,null,null,null,null,{"$error":"#VALUE!"},114,null,{"$f":"IF(AP375,VLOOKUP(AP375,HOM!$AR$551:$AS$606,2))","v":3.5710000000000002}]
["H",null,null,null,null,false,null,null,null,null,null,null,null,null,"",null,null,null,"","","","","",{"$f":"IF(AND(J376>=40,J376<45),VLOOKUP(K376,Feuil2!$F$10:$P$28,9),IF(AND(J376>=45,J376<50),VLOOKUP(K376,Feuil2!$F$10:$P$28,8),IF(AND(J376>=50,J376<55),VLOOKUP(K376,Feuil2!$F$10:$P$28,7),IF(AND(J376>=55,J376<60),VLOOKUP(K376,Feuil2!$F$10:$P$28,6),IF(AND(J376>=60,J376<65),VLOOKUP(K376,Feuil2!$F$10:$P$28,5),IF(AND(J376>=65,J376<70),VLOOKUP(K376,Feuil2!$F$10:$P$28,4),IF(AND(J376>=70,J376<75),VLOOKUP(K376,Feuil2!$F$10:$P$28,3),IF(AND(J376>=75,J376<80),VLOOKUP(K376,Feuil2!$F$10:$P$28,2),VLOOKUP(K376,Feuil2!$F$10:$P$28,2)))))))))","v":{"$error":"#N/A"}},null,{"$f":"T376-HLOOKUP(X376,Feuil2!$C$1:$CD$9,2,FALSE)","v":{"$error":"#VALUE!"}},{"$f":"T376-HLOOKUP(X376,Feuil2!$C$1:$CD$9,3,FALSE)","v":{"$error":"#VALUE!"}},{"$f":"T376-HLOOKUP(X376,Feuil2!$C$1:$CD$9,4,FALSE)","v":{"$error":"#VALUE!"}},{"$f":"T376-HLOOKUP(X376,Feuil2!$C$1:$CD$9,5,FALSE)","v":{"$error":"#VALUE!"}},{"$f":"T376-HLOOKUP(X376,Feuil2!$C$1:$CD$9,6,FALSE)","v":{"$error":"#VALUE!"}},{"$f":"T376-HLOOKUP(X376,Feuil2!$C$1:$CD$9,7,FALSE)","v":{"$error":"#VALUE!"}},{"$f":"T376-HLOOKUP(X376,Feuil2!$C$1:$CD$9,8,FALSE)","v":{"$error":"#VALUE!"}},{"$f":"T376-HLOOKUP(X376,Feuil2!$C$1:$CD$9,9,FALSE)","v":{"$error":"#VALUE!"}},null,null,null,null,null,null,null,{"$error":"#VALUE!"},114,null,{"$f":"IF(AP376,VLOOKUP(AP376,HOM!$AR$551:$AS$606,2))","v":3.5710000000000002}]
["H",null,null,null,null,false,null,null,null,null,null,null,null,null,"",null,null,null,"","","","","",{"$f":"IF(AND(J377>=40,J377<45),VLOOKUP(K377,Feuil2!$F$10:$P$28,9),IF(AND(J377>=45,J377<50),VLOOKUP(K377,Feuil2!$F$10:$P$28,8),IF(AND(J377>=50,J377<55),VLOOKUP(K377,Feuil2!$F$10:$P$28,7),IF(AND(J377>=55,J377<60),VLOOKUP(K377,Feuil2!$F$10:$P$28,6),IF(AND(J377>=60,J377<65),VLOOKUP(K377,Feuil2!$F$10:$P$28,5),IF(AND(J377>=65,J377<70),VLOOKUP(K377,Feuil2!$F$10:$P$28,4),IF(AND(J377>=70,J377<75),VLOOKUP(K377,Feuil2!$F$10:$P$28,3),IF(AND(J377>=75,J377<80),VLOOKUP(K377,Feuil2!$F$10:$P$28,2),VLOOKUP(K377,Feuil2!$F$10:$P$28,2)))))))))","v":{"$error":"#N/A"}},null,{"$f":"T377-HLOOKUP(X377,Feuil2!$C$1:$CD$9,2,FALSE)","v":{"$error":"#VALUE!"}},{"$f":"T377-HLOOKUP(X377,Feuil2!$C$1:$CD$9,3,FALSE)","v":{"$error":"#VALUE!"}},{"$f":"T377-HLOOKUP(X377,Feuil2!$C$1:$CD$9,4,FALSE)","v":{"$error":"#VALUE!"}},{"$f":"T377-HLOOKUP(X377,Feuil2!$C$1:$CD$9,5,FALSE)","v":{"$error":"#VALUE!"}},{"$f":"T377-HLOOKUP(X377,Feuil2!$C$1:$CD$9,6,FALSE)","v":{"$error":"#VALUE!"}},{"$f":"T377-HLOOKUP(X377,Feuil2!$C$1:$CD$9,7,FALSE)","v":{"$error":"#VALUE!"}},{"$f":"T377-HLOOKUP(X377,Feuil2!$C$1:$CD$9,8,FALSE)","v":{"$error":"#VALUE!"}},{"$f":"T377-HLOOKUP(X377,Feuil2!$C$1:$CD$9,9,FALSE)","v":{"$error":"#VALUE!"}},null,null,null,null,null,null,null,{"$error":"#VALUE!"},114,null,{"$f":"IF(AP377,VLOOKUP(AP377,HOM!$AR$551:$AS$606,2))","v":3.5710000000000002}]
["H",null,null,null,null,false,null,null,null,null,null,null,null,null,"",null,null,null,"","","","","",{"$f":"IF(AND(J378>=40,J378<45),VLOOKUP(K378,Feuil2!$F$10:$P$28,9),IF(AND(J378>=45,J378<50),VLOOKUP(K378,Feuil2!$F$10:$P$28,8),IF(AND(J378>=50,J378<55),VLOOKUP(K378,Feuil2!$F$10:$P$28,7),IF(AND(J378>=55,J378<60),VLOOKUP(K378,Feuil2!$F$10:$P$28,6),IF(AND(J378>=60,J378<65),VLOOKUP(K378,Feuil2!$F$10:$P$28,5),IF(AND(J378>=65,J378<70),VLOOKUP(K378,Feuil2!$F$10:$P$28,4),IF(AND(J378>=70,J378<75),VLOOKUP(K378,Feuil2!$F$10:$P$28,3),IF(AND(J378>=75,J378<80),VLOOKUP(K378,Feuil2!$F$10:$P$28,2),VLOOKUP(K378,Feuil2!$F$10:$P$28,2)))))))))","v":{"$error":"#N/A"}},null,{"$f":"T378-HLOOKUP(X378,Feuil2!$C$1:$CD$9,2,FALSE)","v":{"$error":"#VALUE!"}},{"$f":"T378-HLOOKUP(X378,Feuil2!$C$1:$CD$9,3,FALSE)","v":{"$error":"#VALUE!"}},{"$f":"T378-HLOOKUP(X378,Feuil2!$C$1:$CD$9,4,FALSE)","v":{"$error":"#VALUE!"}},{"$f":"T378-HLOOKUP(X378,Feuil2!$C$1:$CD$9,5,FALSE)","v":{"$error":"#VALUE!"}},{"$f":"T378-HLOOKUP(X378,Feuil2!$C$1:$CD$9,6,FALSE)","v":{"$error":"#VALUE!"}},{"$f":"T378-HLOOKUP(X378,Feuil2!$C$1:$CD$9,7,FALSE)","v":{"$error":"#VALUE!"}},{"$f":"T378-HLOOKUP(X378,Feuil2!$C$1:$CD$9,8,FALSE)","v":{"$error":"#VALUE!"}},{"$f":"T378-HLOOKUP(X378,Feuil2!$C$1:$CD$9,9,FALSE)","v":{"$error":"#VALUE!"}},null,null,null,null,null,null,null,{"$error":"#VALUE!"},114,null,{"$f":"IF(AP378,VLOOKUP(AP378,HOM!$AR$551:$AS$606,2))","v":3.5710000000000002}]
["H",null,null,null,null,false,null,null,null,null,null,null,null,null,"",null,null,null,"","","","","",{"$f":"IF(AND(J379>=40,J379<45),VLOOKUP(K379,Feuil2!$F$10:$P$28,9),IF(AND(J379>=45,J379<50),VLOOKUP(K379,Feuil2!$F$10:$P$28,8),IF(AND(J379>=50,J379<55),VLOOKUP(K379,Feuil2!$F$10:$P$28,7),IF(AND(J379>=55,J379<60),VLOOKUP(K379,Feuil2!$F$10:$P$28,6),IF(AND(J379>=60,J379<65),VLOOKUP(K379,Feuil2!$F$10:$P$28,5),IF(AND(J379>=65,J379<70),VLOOKUP(K379,Feuil2!$F$10:$P$28,4),IF(AND(J379>=70,J379<75),VLOOKUP(K379,Feuil2!$F$10:$P$28,3),IF(AND(J379>=75,J379<80),VLOOKUP(K379,Feuil2!$F$10:$P$28,2),VLOOKUP(K379,Feuil2!$F$10:$P$28,2)))))))))","v":{"$error":"#N/A"}},null,{"$f":"T379-HLOOKUP(X379,Feuil2!$C$1:$CD$9,2,FALSE)","v":{"$error":"#VALUE!"}},{"$f":"T379-HLOOKUP(X379,Feuil2!$C$1:$CD$9,3,FALSE)","v":{"$error":"#VALUE!"}},{"$f":"T379-HLOOKUP(X379,Feuil2!$C$1:$CD$9,4,FALSE)","v":{"$error":"#VALUE!"}},{"$f":"T379-HLOOKUP(X379,Feuil2!$C$1:$CD$9,5,FALSE)","v":{"$error":"#VALUE!"}},{"$f":"T379-HLOOKUP(X379,Feuil2!$C$1:$CD$9,6,FALSE)","v":{"$error":"#VALUE!"}},{"$f":"T379-HLOOKUP(X379,Feuil2!$C$1:$CD$9,7,FALSE)","v":{"$error":"#VALUE!"}},{"$f":"T379-HLOOKUP(X379,Feuil2!$C$1:$CD$9,8,FALSE)","v":{"$error":"#VALUE!"}},{"$f":"T379-HLOOKUP(X379,Feuil2!$C$1:$CD$9,9,FALSE)","v":{"$error":"#VALUE!"}},null,null,null,null,null,null,null,{"$error":"#VALUE!"},114,null,{"$f":"IF(AP379,VLOOKUP(AP379,HOM!$AR$551:$AS$606,2))","v":3.5710000000000002}]
["H",null,null,null,null,false,null,null,null,null,null,null,null,null,"",null,null,null,"","","","","",{"$f":"IF(AND(J380>=40,J380<45),VLOOKUP(K380,Feuil2!$F$10:$P$28,9),IF(AND(J380>=45,J380<50),VLOOKUP(K380,Feuil2!$F$10:$P$28,8),IF(AND(J380>=50,J380<55),VLOOKUP(K380,Feuil2!$F$10:$P$28,7),IF(AND(J380>=55,J380<60),VLOOKUP(K380,Feuil2!$F$10:$P$28,6),IF(AND(J380>=60,J380<65),VLOOKUP(K380,Feuil2!$F$10:$P$28,5),IF(AND(J380>=65,J380<70),VLOOKUP(K380,Feuil2!$F$10:$P$28,4),IF(AND(J380>=70,J380<75),VLOOKUP(K380,Feuil2!$F$10:$P$28,3),IF(AND(J380>=75,J380<80),VLOOKUP(K380,Feuil2!$F$10:$P$28,2),VLOOKUP(K380,Feuil2!$F$10:$P$28,2)))))))))","v":{"$error":"#N/A"}},null,{"$f":"T380-HLOOKUP(X380,Feuil2!$C$1:$CD$9,2,FALSE)","v":{"$error":"#VALUE!"}},{"$f":"T380-HLOOKUP(X380,Feuil2!$C$1:$CD$9,3,FALSE)","v":{"$error":"#VALUE!"}},{"$f":"T380-HLOOKUP(X380,Feuil2!$C$1:$CD$9,4,FALSE)","v":{"$error":"#VALUE!"}},{"$f":"T380-HLOOKUP(X380,Feuil2!$C$1:$CD$9,5,FALSE)","v":{"$error":"#VALUE!"}},{"$f":"T380-HLOOKUP(X380,Feuil2!$C$1:$CD$9,6,FALSE)","v":{"$error":"#VALUE!"}},{"$f":"T380-HLOOKUP(X380,Feuil2!$C$1:$CD$9,7,FALSE)","v":{"$error":"#VALUE!"}},{"$f":"T380-HLOOKUP(X380,Feuil2!$C$1:$CD$9,8,FALSE)","v":{"$error":"#VALUE!"}},{"$f":"T380-HLOOKUP(X380,Feuil2!$C$1:$CD$9,9,FALSE)","v":{"$error":"#VALUE!"}},null,null,null,null,null,null,null,{"$error":"#VALUE!"},114,null,{"$f":"IF(AP380,VLOOKUP(AP380,HOM!$AR$551:$AS$606,2))","v":3.5710000000000002}]
["H",null,null,null,null,false,null,null,null,null,null,null,null,null,"",null,null,null,"","","","","",{"$f":"IF(AND(J381>=40,J381<45),VLOOKUP(K381,Feuil2!$F$10:$P$28,9),IF(AND(J381>=45,J381<50),VLOOKUP(K381,Feuil2!$F$10:$P$28,8),IF(AND(J381>=50,J381<55),VLOOKUP(K381,Feuil2!$F$10:$P$28,7),IF(AND(J381>=55,J381<60),VLOOKUP(K381,Feuil2!$F$10:$P$28,6),IF(AND(J381>=60,J381<65),VLOOKUP(K381,Feuil2!$F$10:$P$28,5),IF(AND(J381>=65,J381<70),VLOOKUP(K381,Feuil2!$F$10:$P$28,4),IF(AND(J381>=70,J381<75),VLOOKUP(K381,Feuil2!$F$10:$P$28,3),IF(AND(J381>=75,J381<80),VLOOKUP(K381,Feuil2!$F$10:$P$28,2),VLOOKUP(K381,Feuil2!$F$10:$P$28,2)))))))))","v":{"$error":"#N/A"}},null,{"$f":"T381-HLOOKUP(X381,Feuil2!$C$1:$CD$9,2,FALSE)","v":{"$error":"#VALUE!"}},{"$f":"T381-HLOOKUP(X381,Feuil2!$C$1:$CD$9,3,FALSE)","v":{"$error":"#VALUE!"}},{"$f":"T381-HLOOKUP(X381,Feuil2!$C$1:$CD$9,4,FALSE)","v":{"$error":"#VALUE!"}},{"$f":"T381-HLOOKUP(X381,Feuil2!$C$1:$CD$9,5,FALSE)","v":{"$error":"#VALUE!"}},{"$f":"T381-HLOOKUP(X381,Feuil2!$C$1:$CD$9,6,FALSE)","v":{"$error":"#VALUE!"}},{"$f":"T381-HLOOKUP(X381,Feuil2!$C$1:$CD$9,7,FALSE)","v":{"$error":"#VALUE!"}},{"$f":"T381-HLOOKUP(X381,Feuil2!$C$1:$CD$9,8,FALSE)","v":{"$error":"#VALUE!"}},{"$f":"T381-HLOOKUP(X381,Feuil2!$C$1:$CD$9,9,FALSE)","v":{"$error":"#VALUE!"}},null,null,null,null,null,null,null,{"$error":"#VALUE!"},114,null,{"$f":"IF(AP381,VLOOKUP(AP381,HOM!$AR$551:$AS$606,2))","v":3.5710000000000002}]
["H",null,null,null,null,false,null,null,null,null,null,null,null,null,"",null,null,null,"","","","","",{"$f":"IF(AND(J382>=40,J382<45),VLOOKUP(K382,Feuil2!$F$10:$P$28,9),IF(AND(J382>=45,J382<50),VLOOKUP(K382,Feuil2!$F$10:$P$28,8),IF(AND(J382>=50,J382<55),VLOOKUP(K382,Feuil2!$F$10:$P$28,7),IF(AND(J382>=55,J382<60),VLOOKUP(K382,Feuil2!$F$10:$P$28,6),IF(AND(J382>=60,J382<65),VLOOKUP(K382,Feuil2!$F$10:$P$28,5),IF(AND(J382>=65,J382<70),VLOOKUP(K382,Feuil2!$F$10:$P$28,4),IF(AND(J382>=70,J382<75),VLOOKUP(K382,Feuil2!$F$10:$P$28,3),IF(AND(J382>=75,J382<80),VLOOKUP(K382,Feuil2!$F$10:$P$28,2),VLOOKUP(K382,Feuil2!$F$10:$P$28,2)))))))))","v":{"$error":"#N/A"}},null,{"$f":"T382-HLOOKUP(X382,Feuil2!$C$1:$CD$9,2,FALSE)","v":{"$error":"#VALUE!"}},{"$f":"T382-HLOOKUP(X382,Feuil2!$C$1:$CD$9,3,FALSE)","v":{"$error":"#VALUE!"}},{"$f":"T382-HLOOKUP(X382,Feuil2!$C$1:$CD$9,4,FALSE)","v":{"$error":"#VALUE!"}},{"$f":"T382-HLOOKUP(X382,Feuil2!$C$1:$CD$9,5,FALSE)","v":{"$error":"#VALUE!"}},{"$f":"T382-HLOOKUP(X382,Feuil2!$C$1:$CD$9,6,FALSE)","v":{"$error":"#VALUE!"}},{"$f":"T382-HLOOKUP(X382,Feuil2!$C$1:$CD$9,7,FALSE)","v":{"$error":"#VALUE!"}},{"$f":"T382-HLOOKUP(X382,Feuil2!$C$1:$CD$9,8,FALSE)","v":{"$error":"#VALUE!"}},{"$f":"T382-HLOOKUP(X382,Feuil2!$C$1:$CD$9,9,FALSE)","v":{"$error":"#VALUE!"}},null,null,null,null,null,null,null,{"$error":"#VALUE!"},114,null,{"$f":"IF(AP382,VLOOKUP(AP382,HOM!$AR$551:$AS$606,2))","v":3.5710000000000002}]
["H",null,null,null,null,false,null,null,null,null,null,null,null,null,"",null,null,null,"","","","","",{"$f":"IF(AND(J383>=40,J383<45),VLOOKUP(K383,Feuil2!$F$10:$P$28,9),IF(AND(J383>=45,J383<50),VLOOKUP(K383,Feuil2!$F$10:$P$28,8),IF(AND(J383>=50,J383<55),VLOOKUP(K383,Feuil2!$F$10:$P$28,7),IF(AND(J383>=55,J383<60),VLOOKUP(K383,Feuil2!$F$10:$P$28,6),IF(AND(J383>=60,J383<65),VLOOKUP(K383,Feuil2!$F$10:$P$28,5),IF(AND(J383>=65,J383<70),VLOOKUP(K383,Feuil2!$F$10:$P$28,4),IF(AND(J383>=70,J383<75),VLOOKUP(K383,Feuil2!$F$10:$P$28,3),IF(AND(J383>=75,J383<80),VLOOKUP(K383,Feuil2!$F$10:$P$28,2),VLOOKUP(K383,Feuil2!$F$10:$P$28,2)))))))))","v":{"$error":"#N/A"}},null,{"$f":"T383-HLOOKUP(X383,Feuil2!$C$1:$CD$9,2,FALSE)","v":{"$error":"#VALUE!"}},{"$f":"T383-HLOOKUP(X383,Feuil2!$C$1:$CD$9,3,FALSE)","v":{"$error":"#VALUE!"}},{"$f":"T383-HLOOKUP(X383,Feuil2!$C$1:$CD$9,4,FALSE)","v":{"$error":"#VALUE!"}},{"$f":"T383-HLOOKUP(X383,Feuil2!$C$1:$CD$9,5,FALSE)","v":{"$error":"#VALUE!"}},{"$f":"T383-HLOOKUP(X383,Feuil2!$C$1:$CD$9,6,FALSE)","v":{"$error":"#VALUE!"}},{"$f":"T383-HLOOKUP(X383,Feuil2!$C$1:$CD$9,7,FALSE)","v":{"$error":"#VALUE!"}},{"$f":"T383-HLOOKUP(X383,Feuil2!$C$1:$CD$9,8,FALSE)","v":{"$error":"#VALUE!"}},{"$f":"T383-HLOOKUP(X383,Feuil2!$C$1:$CD$9,9,FALSE)","v":{"$error":"#VALUE!"}},null,null,null,null,null,null,null,{"$error":"#VALUE!"},114,null,{"$f":"IF(AP383,VLOOKUP(AP383,HOM!$AR$551:$AS$606,2))","v":3.5710000000000002}]
["H",null,null,null,null,false,null,null,null,null,null,null,null,null,"",null,null,null,"","","","","",{"$f":"IF(AND(J384>=40,J384<45),VLOOKUP(K384,Feuil2!$F$10:$P$28,9),IF(AND(J384>=45,J384<50),VLOOKUP(K384,Feuil2!$F$10:$P$28,8),IF(AND(J384>=50,J384<55),VLOOKUP(K384,Feuil2!$F$10:$P$28,7),IF(AND(J384>=55,J384<60),VLOOKUP(K384,Feuil2!$F$10:$P$28,6),IF(AND(J384>=60,J384<65),VLOOKUP(K384,Feuil2!$F$10:$P$28,5),IF(AND(J384>=65,J384<70),VLOOKUP(K384,Feuil2!$F$10:$P$28,4),IF(AND(J384>=70,J384<75),VLOOKUP(K384,Feuil2!$F$10:$P$28,3),IF(AND(J384>=75,J384<80),VLOOKUP(K384,Feuil2!$F$10:$P$28,2),VLOOKUP(K384,Feuil2!$F$10:$P$28,2)))))))))","v":{"$error":"#N/A"}},null,{"$f":"T384-HLOOKUP(X384,Feuil2!$C$1:$CD$9,2,FALSE)","v":{"$error":"#VALUE!"}},{"$f":"T384-HLOOKUP(X384,Feuil2!$C$1:$CD$9,3,FALSE)","v":{"$error":"#VALUE!"}},{"$f":"T384-HLOOKUP(X384,Feuil2!$C$1:$CD$9,4,FALSE)","v":{"$error":"#VALUE!"}},{"$f":"T384-HLOOKUP(X384,Feuil2!$C$1:$CD$9,5,FALSE)","v":{"$error":"#VALUE!"}},{"$f":"T384-HLOOKUP(X384,Feuil2!$C$1:$CD$9,6,FALSE)","v":{"$error":"#VALUE!"}},{"$f":"T384-HLOOKUP(X384,Feuil2!$C$1:$CD$9,7,FALSE)","v":{"$error":"#VALUE!"}},{"$f":"T384-HLOOKUP(X384,Feuil2!$C$1:$CD$9,8,FALSE)","v":{"$error":"#VALUE!"}},{"$f":"T384-HLOOKUP(X384,Feuil2!$C$1:$CD$9,9,FALSE)","v":{"$error":"#VALUE!"}},null,null,null,null,null,null,null,{"$error":"#VALUE!"},114,null,{"$f":"IF(AP384,VLOOKUP(AP384,HOM!$AR$551:$AS$606,2))","v":3.5710000000000002}]
["H",null,null,null,null,false,null,null,null,null,null,null,null,null,"",null,null,null,"","","","","",{"$f":"IF(AND(J385>=40,J385<45),VLOOKUP(K385,Feuil2!$F$10:$P$28,9),IF(AND(J385>=45,J385<50),VLOOKUP(K385,Feuil2!$F$10:$P$28,8),IF(AND(J385>=50,J385<55),VLOOKUP(K385,Feuil2!$F$10:$P$28,7),IF(AND(J385>=55,J385<60),VLOOKUP(K385,Feuil2!$F$10:$P$28,6),IF(AND(J385>=60,J385<65),VLOOKUP(K385,Feuil2!$F$10:$P$28,5),IF(AND(J385>=65,J385<70),VLOOKUP(K385,Feuil2!$F$10:$P$28,4),IF(AND(J385>=70,J385<75),VLOOKUP(K385,Feuil2!$F$10:$P$28,3),IF(AND(J385>=75,J385<80),VLOOKUP(K385,Feuil2!$F$10:$P$28,2),VLOOKUP(K385,Feuil2!$F$10:$P$28,2)))))))))","v":{"$error":"#N/A"}},null,{"$f":"T385-HLOOKUP(X385,Feuil2!$C$1:$CD$9,2,FALSE)","v":{"$error":"#VALUE!"}},{"$f":"T385-HLOOKUP(X385,Feuil2!$C$1:$CD$9,3,FALSE)","v":{"$error":"#VALUE!"}},{"$f":"T385-HLOOKUP(X385,Feuil2!$C$1:$CD$9,4,FALSE)","v":{"$error":"#VALUE!"}},{"$f":"T385-HLOOKUP(X385,Feuil2!$C$1:$CD$9,5,FALSE)","v":{"$error":"#VALUE!"}},{"$f":"T385-HLOOKUP(X385,Feuil2!$C$1:$CD$9,6,FALSE)","v":{"$error":"#VALUE!"}},{"$f":"T385-HLOOKUP(X385,Feuil2!$C$1:$CD$9,7,FALSE)","v":{"$error":"#VALUE!"}},{"$f":"T385-HLOOKUP(X385,Feuil2!$C$1:$CD$9,8,FALSE)","v":{"$error":"#VALUE!"}},{"$f":"T385-HLOOKUP(X385,Feuil2!$C$1:$CD$9,9,FALSE)","v":{"$error":"#VALUE!"}},null,null,null,null,null,null,null,{"$error":"#VALUE!"},114,null,{"$f":"IF(AP385,VLOOKUP(AP385,HOM!$AR$551:$AS$606,2))","v":3.5710000000000002}]
["H",null,null,null,null,false,null,null,null,null,null,null,null,null,"",null,null,null,"","","","","",{"$f":"IF(AND(J386>=40,J386<45),VLOOKUP(K386,Feuil2!$F$10:$P$28,9),IF(AND(J386>=45,J386<50),VLOOKUP(K386,Feuil2!$F$10:$P$28,8),IF(AND(J386>=50,J386<55),VLOOKUP(K386,Feuil2!$F$10:$P$28,7),IF(AND(J386>=55,J386<60),VLOOKUP(K386,Feuil2!$F$10:$P$28,6),IF(AND(J386>=60,J386<65),VLOOKUP(K386,Feuil2!$F$10:$P$28,5),IF(AND(J386>=65,J386<70),VLOOKUP(K386,Feuil2!$F$10:$P$28,4),IF(AND(J386>=70,J386<75),VLOOKUP(K386,Feuil2!$F$10:$P$28,3),IF(AND(J386>=75,J386<80),VLOOKUP(K386,Feuil2!$F$10:$P$28,2),VLOOKUP(K386,Feuil2!$F$10:$P$28,2)))))))))","v":{"$error":"#N/A"}},null,{"$f":"T386-HLOOKUP(X386,Feuil2!$C$1:$CD$9,2,FALSE)","v":{"$error":"#VALUE!"}},{"$f":"T386-HLOOKUP(X386,Feuil2!$C$1:$CD$9,3,FALSE)","v":{"$error":"#VALUE!"}},{"$f":"T386-HLOOKUP(X386,Feuil2!$C$1:$CD$9,4,FALSE)","v":{"$error":"#VALUE!"}},{"$f":"T386-HLOOKUP(X386,Feuil2!$C$1:$CD$9,5,FALSE)","v":{"$error":"#VALUE!"}},{"$f":"T386-HLOOKUP(X386,Feuil2!$C$1:$CD$9,6,FALSE)","v":{"$error":"#VALUE!"}},{"$f":"T386-HLOOKUP(X386,Feuil2!$C$1:$CD$9,7,FALSE)","v":{"$error":"#VALUE!"}},{"$f":"T386-HLOOKUP(X386,Feuil2!$C$1:$CD$9,8,FALSE)","v":{"$error":"#VALUE!"}},{"$f":"T386-HLOOKUP(X386,Feuil2!$C$1:$CD$9,9,FALSE)","v":{"$error":"#VALUE!"}},null,null,null,null,null,null,null,{"$error":"#VALUE!"},114,null,{"$f":"IF(AP386,VLOOKUP(AP386,HOM!$AR$551:$AS$606,2))","v":3.5710000000000002}]
["H",null,null,null,null,false,null,null,null,null,null,null,null,null,"",null,null,null,"","","","","",{"$f":"IF(AND(J387>=40,J387<45),VLOOKUP(K387,Feuil2!$F$10:$P$28,9),IF(AND(J387>=45,J387<50),VLOOKUP(K387,Feuil2!$F$10:$P$28,8),IF(AND(J387>=50,J387<55),VLOOKUP(K387,Feuil2!$F$10:$P$28,7),IF(AND(J387>=55,J387<60),VLOOKUP(K387,Feuil2!$F$10:$P$28,6),IF(AND(J387>=60,J387<65),VLOOKUP(K387,Feuil2!$F$10:$P$28,5),IF(AND(J387>=65,J387<70),VLOOKUP(K387,Feuil2!$F$10:$P$28,4),IF(AND(J387>=70,J387<75),VLOOKUP(K387,Feuil2!$F$10:$P$28,3),IF(AND(J387>=75,J387<80),VLOOKUP(K387,Feuil2!$F$10:$P$28,2),VLOOKUP(K387,Feuil2!$F$10:$P$28,2)))))))))","v":{"$error":"#N/A"}},null,{"$f":"T387-HLOOKUP(X387,Feuil2!$C$1:$CD$9,2,FALSE)","v":{"$error":"#VALUE!"}},{"$f":"T387-HLOOKUP(X387,Feuil2!$C$1:$CD$9,3,FALSE)","v":{"$error":"#VALUE!"}},{"$f":"T387-HLOOKUP(X387,Feuil2!$C$1:$CD$9,4,FALSE)","v":{"$error":"#VALUE!"}},{"$f":"T387-HLOOKUP(X387,Feuil2!$C$1:$CD$9,5,FALSE)","v":{"$error":"#VALUE!"}},{"$f":"T387-HLOOKUP(X387,Feuil2!$C$1:$CD$9,6,FALSE)","v":{"$error":"#VALUE!"}},{"$f":"T387-HLOOKUP(X387,Feuil2!$C$1:$CD$9,7,FALSE)","v":{"$error":"#VALUE!"}},{"$f":"T387-HLOOKUP(X387,Feuil2!$C$1:$CD$9,8,FALSE)","v":{"$error":"#VALUE!"}},{"$f":"T387-HLOOKUP(X387,Feuil2!$C$1:$CD$9,9,FALSE)","v":{"$error":"#VALUE!"}},null,null,null,null,null,null,null,{"$error":"#VALUE!"},114,null,{"$f":"IF(AP387,VLOOKUP(AP387,HOM!$AR$551:$AS$606,2))","v":3.5710000000000002}]
["H",null,null,null,null,false,null,null,null,null,null,null,null,null,"",null,null,null,"","","","","",{"$f":"IF(AND(J388>=40,J388<45),VLOOKUP(K388,Feuil2!$F$10:$P$28,9),IF(AND(J388>=45,J388<50),VLOOKUP(K388,Feuil2!$F$10:$P$28,8),IF(AND(J388>=50,J388<55),VLOOKUP(K388,Feuil2!$F$10:$P$28,7),IF(AND(J388>=55,J388<60),VLOOKUP(K388,Feuil2!$F$10:$P$28,6),IF(AND(J388>=60,J388<65),VLOOKUP(K388,Feuil2!$F$10:$P$28,5),IF(AND(J388>=65,J388<70),VLOOKUP(K388,Feuil2!$F$10:$P$28,4),IF(AND(J388>=70,J388<75),VLOOKUP(K388,Feuil2!$F$10:$P$28,3),IF(AND(J388>=75,J388<80),VLOOKUP(K388,Feuil2!$F$10:$P$28,2),VLOOKUP(K388,Feuil2!$F$10:$P$28,2)))))))))","v":{"$error":"#N/A"}},null,{"$f":"T388-HLOOKUP(X388,Feuil2!$C$1:$CD$9,2,FALSE)","v":{"$error":"#VALUE!"}},{"$f":"T388-HLOOKUP(X388,Feuil2!$C$1:$CD$9,3,FALSE)","v":{"$error":"#VALUE!"}},{"$f":"T388-HLOOKUP(X388,Feuil2!$C$1:$CD$9,4,FALSE)","v":{"$error":"#VALUE!"}},{"$f":"T388-HLOOKUP(X388,Feuil2!$C$1:$CD$9,5,FALSE)","v":{"$error":"#VALUE!"}},{"$f":"T388-HLOOKUP(X388,Feuil2!$C$1:$CD$9,6,FALSE)","v":{"$error":"#VALUE!"}},{"$f":"T388-HLOOKUP(X388,Feuil2!$C$1:$CD$9,7,FALSE)","v":{"$error":"#VALUE!"}},{"$f":"T388-HLOOKUP(X388,Feuil2!$C$1:$CD$9,8,FALSE)","v":{"$error":"#VALUE!"}},{"$f":"T388-HLOOKUP(X388,Feuil2!$C$1:$CD$9,9,FALSE)","v":{"$error":"#VALUE!"}},null,null,null,null,null,null,null,{"$error":"#VALUE!"},114,null,{"$f":"IF(AP388,VLOOKUP(AP388,HOM!$AR$551:$AS$606,2))","v":3.5710000000000002}]
["H",null,null,null,null,false,null,null,null,null,null,null,null,null,"",null,null,null,"","","","","",{"$f":"IF(AND(J389>=40,J389<45),VLOOKUP(K389,Feuil2!$F$10:$P$28,9),IF(AND(J389>=45,J389<50),VLOOKUP(K389,Feuil2!$F$10:$P$28,8),IF(AND(J389>=50,J389<55),VLOOKUP(K389,Feuil2!$F$10:$P$28,7),IF(AND(J389>=55,J389<60),VLOOKUP(K389,Feuil2!$F$10:$P$28,6),IF(AND(J389>=60,J389<65),VLOOKUP(K389,Feuil2!$F$10:$P$28,5),IF(AND(J389>=65,J389<70),VLOOKUP(K389,Feuil2!$F$10:$P$28,4),IF(AND(J389>=70,J389<75),VLOOKUP(K389,Feuil2!$F$10:$P$28,3),IF(AND(J389>=75,J389<80),VLOOKUP(K389,Feuil2!$F$10:$P$28,2),VLOOKUP(K389,Feuil2!$F$10:$P$28,2)))))))))","v":{"$error":"#N/A"}},null,{"$f":"T389-HLOOKUP(X389,Feuil2!$C$1:$CD$9,2,FALSE)","v":{"$error":"#VALUE!"}},{"$f":"T389-HLOOKUP(X389,Feuil2!$C$1:$CD$9,3,FALSE)","v":{"$error":"#VALUE!"}},{"$f":"T389-HLOOKUP(X389,Feuil2!$C$1:$CD$9,4,FALSE)","v":{"$error":"#VALUE!"}},{"$f":"T389-HLOOKUP(X389,Feuil2!$C$1:$CD$9,5,FALSE)","v":{"$error":"#VALUE!"}},{"$f":"T389-HLOOKUP(X389,Feuil2!$C$1:$CD$9,6,FALSE)","v":{"$error":"#VALUE!"}},{"$f":"T389-HLOOKUP(X389,Feuil2!$C$1:$CD$9,7,FALSE)","v":{"$error":"#VALUE!"}},{"$f":"T389-HLOOKUP(X389,Feuil2!$C$1:$CD$9,8,FALSE)","v":{"$error":"#VALUE!"}},{"$f":"T389-HLOOKUP(X389,Feuil2!$C$1:$CD$9,9,FALSE)","v":{"$error":"#VALUE!"}},null,null,null,null,null,null,null,{"$error":"#VALUE!"},114,null,{"$f":"IF(AP389,VLOOKUP(AP389,HOM!$AR$551:$AS$606,2))","v":3.5710000000000002}]
["H",null,null,null,null,false,null,null,null,null,null,null,null,null,"",null,null,null,"","","","","",{"$f":"IF(AND(J390>=40,J390<45),VLOOKUP(K390,Feuil2!$F$10:$P$28,9),IF(AND(J390>=45,J390<50),VLOOKUP(K390,Feuil2!$F$10:$P$28,8),IF(AND(J390>=50,J390<55),VLOOKUP(K390,Feuil2!$F$10:$P$28,7),IF(AND(J390>=55,J390<60),VLOOKUP(K390,Feuil2!$F$10:$P$28,6),IF(AND(J390>=60,J390<65),VLOOKUP(K390,Feuil2!$F$10:$P$28,5),IF(AND(J390>=65,J390<70),VLOOKUP(K390,Feuil2!$F$10:$P$28,4),IF(AND(J390>=70,J390<75),VLOOKUP(K390,Feuil2!$F$10:$P$28,3),IF(AND(J390>=75,J390<80),VLOOKUP(K390,Feuil2!$F$10:$P$28,2),VLOOKUP(K390,Feuil2!$F$10:$P$28,2)))))))))","v":{"$error":"#N/A"}},null,{"$f":"T390-HLOOKUP(X390,Feuil2!$C$1:$CD$9,2,FALSE)","v":{"$error":"#VALUE!"}},{"$f":"T390-HLOOKUP(X390,Feuil2!$C$1:$CD$9,3,FALSE)","v":{"$error":"#VALUE!"}},{"$f":"T390-HLOOKUP(X390,Feuil2!$C$1:$CD$9,4,FALSE)","v":{"$error":"#VALUE!"}},{"$f":"T390-HLOOKUP(X390,Feuil2!$C$1:$CD$9,5,FALSE)","v":{"$error":"#VALUE!"}},{"$f":"T390-HLOOKUP(X390,Feuil2!$C$1:$CD$9,6,FALSE)","v":{"$error":"#VALUE!"}},{"$f":"T390-HLOOKUP(X390,Feuil2!$C$1:$CD$9,7,FALSE)","v":{"$error":"#VALUE!"}},{"$f":"T390-HLOOKUP(X390,Feuil2!$C$1:$CD$9,8,FALSE)","v":{"$error":"#VALUE!"}},{"$f":"T390-HLOOKUP(X390,Feuil2!$C$1:$CD$9,9,FALSE)","v":{"$error":"#VALUE!"}},null,null,null,null,null,null,null,{"$error":"#VALUE!"},114,null,{"$f":"IF(AP390,VLOOKUP(AP390,HOM!$AR$551:$AS$606,2))","v":3.5710000000000002}]
["H",null,null,null,null,{"$f":"IF(AP391<95,IF(AP391<=90,VLOOKUP(AP391,$AP$550:$AQ$605,2)))","v":false},null,null,null,null,null,null,null,null,"",null,null,null,"","","","","",{"$f":"IF(AND(J391>=40,J391<45),VLOOKUP(K391,Feuil2!$F$10:$P$28,9),IF(AND(J391>=45,J391<50),VLOOKUP(K391,Feuil2!$F$10:$P$28,8),IF(AND(J391>=50,J391<55),VLOOKUP(K391,Feuil2!$F$10:$P$28,7),IF(AND(J391>=55,J391<60),VLOOKUP(K391,Feuil2!$F$10:$P$28,6),IF(AND(J391>=60,J391<65),VLOOKUP(K391,Feuil2!$F$10:$P$28,5),IF(AND(J391>=65,J391<70),VLOOKUP(K391,Feuil2!$F$10:$P$28,4),IF(AND(J391>=70,J391<75),VLOOKUP(K391,Feuil2!$F$10:$P$28,3),IF(AND(J391>=75,J391<80),VLOOKUP(K391,Feuil2!$F$10:$P$28,2),VLOOKUP(K391,Feuil2!$F$10:$P$28,2)))))))))","v":{"$error":"#N/A"}},null,{"$f":"T391-HLOOKUP(X391,Feuil2!$C$1:$CD$9,2,FALSE)","v":{"$error":"#VALUE!"}},{"$f":"T391-HLOOKUP(X391,Feuil2!$C$1:$CD$9,3,FALSE)","v":{"$error":"#VALUE!"}},{"$f":"T391-HLOOKUP(X391,Feuil2!$C$1:$CD$9,4,FALSE)","v":{"$error":"#VALUE!"}},{"$f":"T391-HLOOKUP(X391,Feuil2!$C$1:$CD$9,5,FALSE)","v":{"$error":"#VALUE!"}},{"$f":"T391-HLOOKUP(X391,Feuil2!$C$1:$CD$9,6,FALSE)","v":{"$error":"#VALUE!"}},{"$f":"T391-HLOOKUP(X391,Feuil2!$C$1:$CD$9,7,FALSE)","v":{"$error":"#VALUE!"}},{"$f":"T391-HLOOKUP(X391,Feuil2!$C$1:$CD$9,8,FALSE)","v":{"$error":"#VALUE!"}},{"$f":"T391-HLOOKUP(X391,Feuil2!$C$1:$CD$9,9,FALSE)","v":{"$error":"#VALUE!"}},null,null,null,null,null,null,null,{"$error":"#VALUE!"},114,null,{"$f":"IF(AP391,VLOOKUP(AP391,HOM!$AR$551:$AS$606,2))","v":3.5710000000000002}]
["H",null,null,null,null,false,null,null,null,null,null,null,null,null,"",null,null,null,"","","","","",{"$f":"IF(AND(J392>=40,J392<45),VLOOKUP(K392,Feuil2!$F$10:$P$28,9),IF(AND(J392>=45,J392<50),VLOOKUP(K392,Feuil2!$F$10:$P$28,8),IF(AND(J392>=50,J392<55),VLOOKUP(K392,Feuil2!$F$10:$P$28,7),IF(AND(J392>=55,J392<60),VLOOKUP(K392,Feuil2!$F$10:$P$28,6),IF(AND(J392>=60,J392<65),VLOOKUP(K392,Feuil2!$F$10:$P$28,5),IF(AND(J392>=65,J392<70),VLOOKUP(K392,Feuil2!$F$10:$P$28,4),IF(AND(J392>=70,J392<75),VLOOKUP(K392,Feuil2!$F$10:$P$28,3),IF(AND(J392>=75,J392<80),VLOOKUP(K392,Feuil2!$F$10:$P$28,2),VLOOKUP(K392,Feuil2!$F$10:$P$28,2)))))))))","v":{"$error":"#N/A"}},null,{"$f":"T392-HLOOKUP(X392,Feuil2!$C$1:$CD$9,2,FALSE)","v":{"$error":"#VALUE!"}},{"$f":"T392-HLOOKUP(X392,Feuil2!$C$1:$CD$9,3,FALSE)","v":{"$error":"#VALUE!"}},{"$f":"T392-HLOOKUP(X392,Feuil2!$C$1:$CD$9,4,FALSE)","v":{"$error":"#VALUE!"}},{"$f":"T392-HLOOKUP(X392,Feuil2!$C$1:$CD$9,5,FALSE)","v":{"$error":"#VALUE!"}},{"$f":"T392-HLOOKUP(X392,Feuil2!$C$1:$CD$9,6,FALSE)","v":{"$error":"#VALUE!"}},{"$f":"T392-HLOOKUP(X392,Feuil2!$C$1:$CD$9,7,FALSE)","v":{"$error":"#VALUE!"}},{"$f":"T392-HLOOKUP(X392,Feuil2!$C$1:$CD$9,8,FALSE)","v":{"$error":"#VALUE!"}},{"$f":"T392-HLOOKUP(X392,Feuil2!$C$1:$CD$9,9,FALSE)","v":{"$error":"#VALUE!"}},null,null,null,null,null,null,null,{"$error":"#VALUE!"},114,null,{"$f":"IF(AP392,VLOOKUP(AP392,HOM!$AR$551:$AS$606,2))","v":3.5710000000000002}]
["H",null,null,null,null,false,null,null,null,null,null,null,null,null,"",null,null,null,"","","","","",{"$f":"IF(AND(J393>=40,J393<45),VLOOKUP(K393,Feuil2!$F$10:$P$28,9),IF(AND(J393>=45,J393<50),VLOOKUP(K393,Feuil2!$F$10:$P$28,8),IF(AND(J393>=50,J393<55),VLOOKUP(K393,Feuil2!$F$10:$P$28,7),IF(AND(J393>=55,J393<60),VLOOKUP(K393,Feuil2!$F$10:$P$28,6),IF(AND(J393>=60,J393<65),VLOOKUP(K393,Feuil2!$F$10:$P$28,5),IF(AND(J393>=65,J393<70),VLOOKUP(K393,Feuil2!$F$10:$P$28,4),IF(AND(J393>=70,J393<75),VLOOKUP(K393,Feuil2!$F$10:$P$28,3),IF(AND(J393>=75,J393<80),VLOOKUP(K393,Feuil2!$F$10:$P$28,2),VLOOKUP(K393,Feuil2!$F$10:$P$28,2)))))))))","v":{"$error":"#N/A"}},null,{"$f":"T393-HLOOKUP(X393,Feuil2!$C$1:$CD$9,2,FALSE)","v":{"$error":"#VALUE!"}},{"$f":"T393-HLOOKUP(X393,Feuil2!$C$1:$CD$9,3,FALSE)","v":{"$error":"#VALUE!"}},{"$f":"T393-HLOOKUP(X393,Feuil2!$C$1:$CD$9,4,FALSE)","v":{"$error":"#VALUE!"}},{"$f":"T393-HLOOKUP(X393,Feuil2!$C$1:$CD$9,5,FALSE)","v":{"$error":"#VALUE!"}},{"$f":"T393-HLOOKUP(X393,Feuil2!$C$1:$CD$9,6,FALSE)","v":{"$error":"#VALUE!"}},{"$f":"T393-HLOOKUP(X393,Feuil2!$C$1:$CD$9,7,FALSE)","v":{"$error":"#VALUE!"}},{"$f":"T393-HLOOKUP(X393,Feuil2!$C$1:$CD$9,8,FALSE)","v":{"$error":"#VALUE!"}},{"$f":"T393-HLOOKUP(X393,Feuil2!$C$1:$CD$9,9,FALSE)","v":{"$error":"#VALUE!"}},null,null,null,null,null,null,null,{"$error":"#VALUE!"},114,null,{"$f":"IF(AP393,VLOOKUP(AP393,HOM!$AR$551:$AS$606,2))","v":3.5710000000000002}]
["H",null,null,null,null,false,null,null,null,null,null,null,null,null,"",null,null,null,"","","","","",{"$f":"IF(AND(J394>=40,J394<45),VLOOKUP(K394,Feuil2!$F$10:$P$28,9),IF(AND(J394>=45,J394<50),VLOOKUP(K394,Feuil2!$F$10:$P$28,8),IF(AND(J394>=50,J394<55),VLOOKUP(K394,Feuil2!$F$10:$P$28,7),IF(AND(J394>=55,J394<60),VLOOKUP(K394,Feuil2!$F$10:$P$28,6),IF(AND(J394>=60,J394<65),VLOOKUP(K394,Feuil2!$F$10:$P$28,5),IF(AND(J394>=65,J394<70),VLOOKUP(K394,Feuil2!$F$10:$P$28,4),IF(AND(J394>=70,J394<75),VLOOKUP(K394,Feuil2!$F$10:$P$28,3),IF(AND(J394>=75,J394<80),VLOOKUP(K394,Feuil2!$F$10:$P$28,2),VLOOKUP(K394,Feuil2!$F$10:$P$28,2)))))))))","v":{"$error":"#N/A"}},null,{"$f":"T394-HLOOKUP(X394,Feuil2!$C$1:$CD$9,2,FALSE)","v":{"$error":"#VALUE!"}},{"$f":"T394-HLOOKUP(X394,Feuil2!$C$1:$CD$9,3,FALSE)","v":{"$error":"#VALUE!"}},{"$f":"T394-HLOOKUP(X394,Feuil2!$C$1:$CD$9,4,FALSE)","v":{"$error":"#VALUE!"}},{"$f":"T394-HLOOKUP(X394,Feuil2!$C$1:$CD$9,5,FALSE)","v":{"$error":"#VALUE!"}},{"$f":"T394-HLOOKUP(X394,Feuil2!$C$1:$CD$9,6,FALSE)","v":{"$error":"#VALUE!"}},{"$f":"T394-HLOOKUP(X394,Feuil2!$C$1:$CD$9,7,FALSE)","v":{"$error":"#VALUE!"}},{"$f":"T394-HLOOKUP(X394,Feuil2!$C$1:$CD$9,8,FALSE)","v":{"$error":"#VALUE!"}},{"$f":"T394-HLOOKUP(X394,Feuil2!$C$1:$CD$9,9,FALSE)","v":{"$error":"#VALUE!"}},null,null,null,null,null,null,null,{"$error":"#VALUE!"},114,null,{"$f":"IF(AP394,VLOOKUP(AP394,HOM!$AR$551:$AS$606,2))","v":3.5710000000000002}]
["H",null,null,null,null,false,null,null,null,null,null,null,null,null,"",null,null,null,"","","","","",{"$f":"IF(AND(J395>=40,J395<45),VLOOKUP(K395,Feuil2!$F$10:$P$28,9),IF(AND(J395>=45,J395<50),VLOOKUP(K395,Feuil2!$F$10:$P$28,8),IF(AND(J395>=50,J395<55),VLOOKUP(K395,Feuil2!$F$10:$P$28,7),IF(AND(J395>=55,J395<60),VLOOKUP(K395,Feuil2!$F$10:$P$28,6),IF(AND(J395>=60,J395<65),VLOOKUP(K395,Feuil2!$F$10:$P$28,5),IF(AND(J395>=65,J395<70),VLOOKUP(K395,Feuil2!$F$10:$P$28,4),IF(AND(J395>=70,J395<75),VLOOKUP(K395,Feuil2!$F$10:$P$28,3),IF(AND(J395>=75,J395<80),VLOOKUP(K395,Feuil2!$F$10:$P$28,2),VLOOKUP(K395,Feuil2!$F$10:$P$28,2)))))))))","v":{"$error":"#N/A"}},null,{"$f":"T395-HLOOKUP(X395,Feuil2!$C$1:$CD$9,2,FALSE)","v":{"$error":"#VALUE!"}},{"$f":"T395-HLOOKUP(X395,Feuil2!$C$1:$CD$9,3,FALSE)","v":{"$error":"#VALUE!"}},{"$f":"T395-HLOOKUP(X395,Feuil2!$C$1:$CD$9,4,FALSE)","v":{"$error":"#VALUE!"}},{"$f":"T395-HLOOKUP(X395,Feuil2!$C$1:$CD$9,5,FALSE)","v":{"$error":"#VALUE!"}},{"$f":"T395-HLOOKUP(X395,Feuil2!$C$1:$CD$9,6,FALSE)","v":{"$error":"#VALUE!"}},{"$f":"T395-HLOOKUP(X395,Feuil2!$C$1:$CD$9,7,FALSE)","v":{"$error":"#VALUE!"}},{"$f":"T395-HLOOKUP(X395,Feuil2!$C$1:$CD$9,8,FALSE)","v":{"$error":"#VALUE!"}},{"$f":"T395-HLOOKUP(X395,Feuil2!$C$1:$CD$9,9,FALSE)","v":{"$error":"#VALUE!"}},null,null,null,null,null,null,null,{"$error":"#VALUE!"},114,null,{"$f":"IF(AP395,VLOOKUP(AP395,HOM!$AR$551:$AS$606,2))","v":3.5710000000000002}]
["H",null,null,null,null,false,null,null,null,null,null,null,null,null,"",null,null,null,"","","","","",{"$f":"IF(AND(J396>=40,J396<45),VLOOKUP(K396,Feuil2!$F$10:$P$28,9),IF(AND(J396>=45,J396<50),VLOOKUP(K396,Feuil2!$F$10:$P$28,8),IF(AND(J396>=50,J396<55),VLOOKUP(K396,Feuil2!$F$10:$P$28,7),IF(AND(J396>=55,J396<60),VLOOKUP(K396,Feuil2!$F$10:$P$28,6),IF(AND(J396>=60,J396<65),VLOOKUP(K396,Feuil2!$F$10:$P$28,5),IF(AND(J396>=65,J396<70),VLOOKUP(K396,Feuil2!$F$10:$P$28,4),IF(AND(J396>=70,J396<75),VLOOKUP(K396,Feuil2!$F$10:$P$28,3),IF(AND(J396>=75,J396<80),VLOOKUP(K396,Feuil2!$F$10:$P$28,2),VLOOKUP(K396,Feuil2!$F$10:$P$28,2)))))))))","v":{"$error":"#N/A"}},null,{"$f":"T396-HLOOKUP(X396,Feuil2!$C$1:$CD$9,2,FALSE)","v":{"$error":"#VALUE!"}},{"$f":"T396-HLOOKUP(X396,Feuil2!$C$1:$CD$9,3,FALSE)","v":{"$error":"#VALUE!"}},{"$f":"T396-HLOOKUP(X396,Feuil2!$C$1:$CD$9,4,FALSE)","v":{"$error":"#VALUE!"}},{"$f":"T396-HLOOKUP(X396,Feuil2!$C$1:$CD$9,5,FALSE)","v":{"$error":"#VALUE!"}},{"$f":"T396-HLOOKUP(X396,Feuil2!$C$1:$CD$9,6,FALSE)","v":{"$error":"#VALUE!"}},{"$f":"T396-HLOOKUP(X396,Feuil2!$C$1:$CD$9,7,FALSE)","v":{"$error":"#VALUE!"}},{"$f":"T396-HLOOKUP(X396,Feuil2!$C$1:$CD$9,8,FALSE)","v":{"$error":"#VALUE!"}},{"$f":"T396-HLOOKUP(X396,Feuil2!$C$1:$CD$9,9,FALSE)","v":{"$error":"#VALUE!"}},null,null,null,null,null,null,null,{"$error":"#VALUE!"},114,null,{"$f":"IF(AP396,VLOOKUP(AP396,HOM!$AR$551:$AS$606,2))","v":3.5710000000000002}]
["H",null,null,null,null,false,null,null,null,null,null,null,null,null,"",null,null,null,"","","","","",{"$f":"IF(AND(J397>=40,J397<45),VLOOKUP(K397,Feuil2!$F$10:$P$28,9),IF(AND(J397>=45,J397<50),VLOOKUP(K397,Feuil2!$F$10:$P$28,8),IF(AND(J397>=50,J397<55),VLOOKUP(K397,Feuil2!$F$10:$P$28,7),IF(AND(J397>=55,J397<60),VLOOKUP(K397,Feuil2!$F$10:$P$28,6),IF(AND(J397>=60,J397<65),VLOOKUP(K397,Feuil2!$F$10:$P$28,5),IF(AND(J397>=65,J397<70),VLOOKUP(K397,Feuil2!$F$10:$P$28,4),IF(AND(J397>=70,J397<75),VLOOKUP(K397,Feuil2!$F$10:$P$28,3),IF(AND(J397>=75,J397<80),VLOOKUP(K397,Feuil2!$F$10:$P$28,2),VLOOKUP(K397,Feuil2!$F$10:$P$28,2)))))))))","v":{"$error":"#N/A"}},null,{"$f":"T397-HLOOKUP(X397,Feuil2!$C$1:$CD$9,2,FALSE)","v":{"$error":"#VALUE!"}},{"$f":"T397-HLOOKUP(X397,Feuil2!$C$1:$CD$9,3,FALSE)","v":{"$error":"#VALUE!"}},{"$f":"T397-HLOOKUP(X397,Feuil2!$C$1:$CD$9,4,FALSE)","v":{"$error":"#VALUE!"}},{"$f":"T397-HLOOKUP(X397,Feuil2!$C$1:$CD$9,5,FALSE)","v":{"$error":"#VALUE!"}},{"$f":"T397-HLOOKUP(X397,Feuil2!$C$1:$CD$9,6,FALSE)","v":{"$error":"#VALUE!"}},{"$f":"T397-HLOOKUP(X397,Feuil2!$C$1:$CD$9,7,FALSE)","v":{"$error":"#VALUE!"}},{"$f":"T397-HLOOKUP(X397,Feuil2!$C$1:$CD$9,8,FALSE)","v":{"$error":"#VALUE!"}},{"$f":"T397-HLOOKUP(X397,Feuil2!$C$1:$CD$9,9,FALSE)","v":{"$error":"#VALUE!"}},null,null,null,null,null,null,null,{"$error":"#VALUE!"},114,null,{"$f":"IF(AP397,VLOOKUP(AP397,HOM!$AR$551:$AS$606,2))","v":3.5710000000000002}]
["H",null,null,null,null,false,null,null,null,null,null,null,null,null,"",null,null,null,"","","","","",{"$f":"IF(AND(J398>=40,J398<45),VLOOKUP(K398,Feuil2!$F$10:$P$28,9),IF(AND(J398>=45,J398<50),VLOOKUP(K398,Feuil2!$F$10:$P$28,8),IF(AND(J398>=50,J398<55),VLOOKUP(K398,Feuil2!$F$10:$P$28,7),IF(AND(J398>=55,J398<60),VLOOKUP(K398,Feuil2!$F$10:$P$28,6),IF(AND(J398>=60,J398<65),VLOOKUP(K398,Feuil2!$F$10:$P$28,5),IF(AND(J398>=65,J398<70),VLOOKUP(K398,Feuil2!$F$10:$P$28,4),IF(AND(J398>=70,J398<75),VLOOKUP(K398,Feuil2!$F$10:$P$28,3),IF(AND(J398>=75,J398<80),VLOOKUP(K398,Feuil2!$F$10:$P$28,2),VLOOKUP(K398,Feuil2!$F$10:$P$28,2)))))))))","v":{"$error":"#N/A"}},null,{"$f":"T398-HLOOKUP(X398,Feuil2!$C$1:$CD$9,2,FALSE)","v":{"$error":"#VALUE!"}},{"$f":"T398-HLOOKUP(X398,Feuil2!$C$1:$CD$9,3,FALSE)","v":{"$error":"#VALUE!"}},{"$f":"T398-HLOOKUP(X398,Feuil2!$C$1:$CD$9,4,FALSE)","v":{"$error":"#VALUE!"}},{"$f":"T398-HLOOKUP(X398,Feuil2!$C$1:$CD$9,5,FALSE)","v":{"$error":"#VALUE!"}},{"$f":"T398-HLOOKUP(X398,Feuil2!$C$1:$CD$9,6,FALSE)","v":{"$error":"#VALUE!"}},{"$f":"T398-HLOOKUP(X398,Feuil2!$C$1:$CD$9,7,FALSE)","v":{"$error":"#VALUE!"}},{"$f":"T398-HLOOKUP(X398,Feuil2!$C$1:$CD$9,8,FALSE)","v":{"$error":"#VALUE!"}},{"$f":"T398-HLOOKUP(X398,Feuil2!$C$1:$CD$9,9,FALSE)","v":{"$error":"#VALUE!"}},null,null,null,null,null,null,null,{"$error":"#VALUE!"},114,null,{"$f":"IF(AP398,VLOOKUP(AP398,HOM!$AR$551:$AS$606,2))","v":3.5710000000000002}]
["H",null,null,null,null,{"$f":"IF(AP399<95,IF(AP399<=90,VLOOKUP(AP399,$AP$550:$AQ$605,2)))","v":false},null,null," ",null,null,null,null,null,"",null,null,null,"","","","","",{"$f":"IF(AND(J399>=40,J399<45),VLOOKUP(K399,Feuil2!$F$10:$P$28,9),IF(AND(J399>=45,J399<50),VLOOKUP(K399,Feuil2!$F$10:$P$28,8),IF(AND(J399>=50,J399<55),VLOOKUP(K399,Feuil2!$F$10:$P$28,7),IF(AND(J399>=55,J399<60),VLOOKUP(K399,Feuil2!$F$10:$P$28,6),IF(AND(J399>=60,J399<65),VLOOKUP(K399,Feuil2!$F$10:$P$28,5),IF(AND(J399>=65,J399<70),VLOOKUP(K399,Feuil2!$F$10:$P$28,4),IF(AND(J399>=70,J399<75),VLOOKUP(K399,Feuil2!$F$10:$P$28,3),IF(AND(J399>=75,J399<80),VLOOKUP(K399,Feuil2!$F$10:$P$28,2),VLOOKUP(K399,Feuil2!$F$10:$P$28,2)))))))))","v":{"$error":"#N/A"}},null,{"$f":"T399-HLOOKUP(X399,Feuil2!$C$1:$CD$9,2,FALSE)","v":{"$error":"#VALUE!"}},{"$f":"T399-HLOOKUP(X399,Feuil2!$C$1:$CD$9,3,FALSE)","v":{"$error":"#VALUE!"}},{"$f":"T399-HLOOKUP(X399,Feuil2!$C$1:$CD$9,4,FALSE)","v":{"$error":"#VALUE!"}},{"$f":"T399-HLOOKUP(X399,Feuil2!$C$1:$CD$9,5,FALSE)","v":{"$error":"#VALUE!"}},{"$f":"T399-HLOOKUP(X399,Feuil2!$C$1:$CD$9,6,FALSE)","v":{"$error":"#VALUE!"}},{"$f":"T399-HLOOKUP(X399,Feuil2!$C$1:$CD$9,7,FALSE)","v":{"$error":"#VALUE!"}},{"$f":"T399-HLOOKUP(X399,Feuil2!$C$1:$CD$9,8,FALSE)","v":{"$error":"#VALUE!"}},{"$f":"T399-HLOOKUP(X399,Feuil2!$C$1:$CD$9,9,FALSE)","v":{"$error":"#VALUE!"}},null,null,null,null,null,null,null,{"$error":"#VALUE!"},114,null,{"$f":"IF(AP399,VLOOKUP(AP399,HOM!$AR$551:$AS$606,2))","v":3.5710000000000002}]
["H",null,null,null,null,false,null,null," ",null,null,null,null,null,"",null,null,null,"","","","","",{"$f":"IF(AND(J400>=40,J400<45),VLOOKUP(K400,Feuil2!$F$10:$P$28,9),IF(AND(J400>=45,J400<50),VLOOKUP(K400,Feuil2!$F$10:$P$28,8),IF(AND(J400>=50,J400<55),VLOOKUP(K400,Feuil2!$F$10:$P$28,7),IF(AND(J400>=55,J400<60),VLOOKUP(K400,Feuil2!$F$10:$P$28,6),IF(AND(J400>=60,J400<65),VLOOKUP(K400,Feuil2!$F$10:$P$28,5),IF(AND(J400>=65,J400<70),VLOOKUP(K400,Feuil2!$F$10:$P$28,4),IF(AND(J400>=70,J400<75),VLOOKUP(K400,Feuil2!$F$10:$P$28,3),IF(AND(J400>=75,J400<80),VLOOKUP(K400,Feuil2!$F$10:$P$28,2),VLOOKUP(K400,Feuil2!$F$10:$P$28,2)))))))))","v":{"$error":"#N/A"}},null,{"$f":"T400-HLOOKUP(X400,Feuil2!$C$1:$CD$9,2,FALSE)","v":{"$error":"#VALUE!"}},{"$f":"T400-HLOOKUP(X400,Feuil2!$C$1:$CD$9,3,FALSE)","v":{"$error":"#VALUE!"}},{"$f":"T400-HLOOKUP(X400,Feuil2!$C$1:$CD$9,4,FALSE)","v":{"$error":"#VALUE!"}},{"$f":"T400-HLOOKUP(X400,Feuil2!$C$1:$CD$9,5,FALSE)","v":{"$error":"#VALUE!"}},{"$f":"T400-HLOOKUP(X400,Feuil2!$C$1:$CD$9,6,FALSE)","v":{"$error":"#VALUE!"}},{"$f":"T400-HLOOKUP(X400,Feuil2!$C$1:$CD$9,7,FALSE)","v":{"$error":"#VALUE!"}},{"$f":"T400-HLOOKUP(X400,Feuil2!$C$1:$CD$9,8,FALSE)","v":{"$error":"#VALUE!"}},{"$f":"T400-HLOOKUP(X400,Feuil2!$C$1:$CD$9,9,FALSE)","v":{"$error":"#VALUE!"}},null,null,null,null,null,null,null,{"$error":"#VALUE!"},114,null,{"$f":"IF(AP400,VLOOKUP(AP400,HOM!$AR$551:$AS$606,2))","v":3.5710000000000002}]
["H",null,null,null," ",false,null,null," ",null,null,null,null,null,"",null,null,null,"","","","","",{"$f":"IF(AND(J401>=40,J401<45),VLOOKUP(K401,Feuil2!$F$10:$P$28,9),IF(AND(J401>=45,J401<50),VLOOKUP(K401,Feuil2!$F$10:$P$28,8),IF(AND(J401>=50,J401<55),VLOOKUP(K401,Feuil2!$F$10:$P$28,7),IF(AND(J401>=55,J401<60),VLOOKUP(K401,Feuil2!$F$10:$P$28,6),IF(AND(J401>=60,J401<65),VLOOKUP(K401,Feuil2!$F$10:$P$28,5),IF(AND(J401>=65,J401<70),VLOOKUP(K401,Feuil2!$F$10:$P$28,4),IF(AND(J401>=70,J401<75),VLOOKUP(K401,Feuil2!$F$10:$P$28,3),IF(AND(J401>=75,J401<80),VLOOKUP(K401,Feuil2!$F$10:$P$28,2),VLOOKUP(K401,Feuil2!$F$10:$P$28,2)))))))))","v":{"$error":"#N/A"}},null,{"$f":"T401-HLOOKUP(X401,Feuil2!$C$1:$CD$9,2,FALSE)","v":{"$error":"#VALUE!"}},{"$f":"T401-HLOOKUP(X401,Feuil2!$C$1:$CD$9,3,FALSE)","v":{"$error":"#VALUE!"}},{"$f":"T401-HLOOKUP(X401,Feuil2!$C$1:$CD$9,4,FALSE)","v":{"$error":"#VALUE!"}},{"$f":"T401-HLOOKUP(X401,Feuil2!$C$1:$CD$9,5,FALSE)","v":{"$error":"#VALUE!"}},{"$f":"T401-HLOOKUP(X401,Feuil2!$C$1:$CD$9,6,FALSE)","v":{"$error":"#VALUE!"}},{"$f":"T401-HLOOKUP(X401,Feuil2!$C$1:$CD$9,7,FALSE)","v":{"$error":"#VALUE!"}},{"$f":"T401-HLOOKUP(X401,Feuil2!$C$1:$CD$9,8,FALSE)","v":{"$error":"#VALUE!"}},{"$f":"T401-HLOOKUP(X401,Feuil2!$C$1:$CD$9,9,FALSE)","v":{"$error":"#VALUE!"}},null,null,null,null,null,null,null,{"$error":"#VALUE!"},114,null,{"$f":"IF(AP401,VLOOKUP(AP401,HOM!$AR$551:$AS$606,2))","v":3.5710000000000002}]
["H",null,null,null,null,false,null,null," ",null,null,null,null,null,"",null,null,null,"","","","","",{"$f":"IF(AND(J402>=40,J402<45),VLOOKUP(K402,Feuil2!$F$10:$P$28,9),IF(AND(J402>=45,J402<50),VLOOKUP(K402,Feuil2!$F$10:$P$28,8),IF(AND(J402>=50,J402<55),VLOOKUP(K402,Feuil2!$F$10:$P$28,7),IF(AND(J402>=55,J402<60),VLOOKUP(K402,Feuil2!$F$10:$P$28,6),IF(AND(J402>=60,J402<65),VLOOKUP(K402,Feuil2!$F$10:$P$28,5),IF(AND(J402>=65,J402<70),VLOOKUP(K402,Feuil2!$F$10:$P$28,4),IF(AND(J402>=70,J402<75),VLOOKUP(K402,Feuil2!$F$10:$P$28,3),IF(AND(J402>=75,J402<80),VLOOKUP(K402,Feuil2!$F$10:$P$28,2),VLOOKUP(K402,Feuil2!$F$10:$P$28,2)))))))))","v":{"$error":"#N/A"}},null,{"$f":"T402-HLOOKUP(X402,Feuil2!$C$1:$CD$9,2,FALSE)","v":{"$error":"#VALUE!"}},{"$f":"T402-HLOOKUP(X402,Feuil2!$C$1:$CD$9,3,FALSE)","v":{"$error":"#VALUE!"}},{"$f":"T402-HLOOKUP(X402,Feuil2!$C$1:$CD$9,4,FALSE)","v":{"$error":"#VALUE!"}},{"$f":"T402-HLOOKUP(X402,Feuil2!$C$1:$CD$9,5,FALSE)","v":{"$error":"#VALUE!"}},{"$f":"T402-HLOOKUP(X402,Feuil2!$C$1:$CD$9,6,FALSE)","v":{"$error":"#VALUE!"}},{"$f":"T402-HLOOKUP(X402,Feuil2!$C$1:$CD$9,7,FALSE)","v":{"$error":"#VALUE!"}},{"$f":"T402-HLOOKUP(X402,Feuil2!$C$1:$CD$9,8,FALSE)","v":{"$error":"#VALUE!"}},{"$f":"T402-HLOOKUP(X402,Feuil2!$C$1:$CD$9,9,FALSE)","v":{"$error":"#VALUE!"}},null,null,null,null,null,null,null,{"$error":"#VALUE!"},114,null,{"$f":"IF(AP402,VLOOKUP(AP402,HOM!$AR$551:$AS$606,2))","v":3.5710000000000002}]
["H",null,null,null,null,false,null,null," ",null,null,null,null,null,"",null,null,null,"","","","","",{"$f":"IF(AND(J403>=40,J403<45),VLOOKUP(K403,Feuil2!$F$10:$P$28,9),IF(AND(J403>=45,J403<50),VLOOKUP(K403,Feuil2!$F$10:$P$28,8),IF(AND(J403>=50,J403<55),VLOOKUP(K403,Feuil2!$F$10:$P$28,7),IF(AND(J403>=55,J403<60),VLOOKUP(K403,Feuil2!$F$10:$P$28,6),IF(AND(J403>=60,J403<65),VLOOKUP(K403,Feuil2!$F$10:$P$28,5),IF(AND(J403>=65,J403<70),VLOOKUP(K403,Feuil2!$F$10:$P$28,4),IF(AND(J403>=70,J403<75),VLOOKUP(K403,Feuil2!$F$10:$P$28,3),IF(AND(J403>=75,J403<80),VLOOKUP(K403,Feuil2!$F$10:$P$28,2),VLOOKUP(K403,Feuil2!$F$10:$P$28,2)))))))))","v":{"$error":"#N/A"}},null,{"$f":"T403-HLOOKUP(X403,Feuil2!$C$1:$CD$9,2,FALSE)","v":{"$error":"#VALUE!"}},{"$f":"T403-HLOOKUP(X403,Feuil2!$C$1:$CD$9,3,FALSE)","v":{"$error":"#VALUE!"}},{"$f":"T403-HLOOKUP(X403,Feuil2!$C$1:$CD$9,4,FALSE)","v":{"$error":"#VALUE!"}},{"$f":"T403-HLOOKUP(X403,Feuil2!$C$1:$CD$9,5,FALSE)","v":{"$error":"#VALUE!"}},{"$f":"T403-HLOOKUP(X403,Feuil2!$C$1:$CD$9,6,FALSE)","v":{"$error":"#VALUE!"}},{"$f":"T403-HLOOKUP(X403,Feuil2!$C$1:$CD$9,7,FALSE)","v":{"$error":"#VALUE!"}},{"$f":"T403-HLOOKUP(X403,Feuil2!$C$1:$CD$9,8,FALSE)","v":{"$error":"#VALUE!"}},{"$f":"T403-HLOOKUP(X403,Feuil2!$C$1:$CD$9,9,FALSE)","v":{"$error":"#VALUE!"}},null,null,null,null,null,null,null,{"$error":"#VALUE!"},114,null,{"$f":"IF(AP403,VLOOKUP(AP403,HOM!$AR$551:$AS$606,2))","v":3.5710000000000002}]
["H",null,null,null,null,false,null,null," ",null,null,null,null,null,"",null,null,null,"","","","","",{"$f":"IF(AND(J404>=40,J404<45),VLOOKUP(K404,Feuil2!$F$10:$P$28,9),IF(AND(J404>=45,J404<50),VLOOKUP(K404,Feuil2!$F$10:$P$28,8),IF(AND(J404>=50,J404<55),VLOOKUP(K404,Feuil2!$F$10:$P$28,7),IF(AND(J404>=55,J404<60),VLOOKUP(K404,Feuil2!$F$10:$P$28,6),IF(AND(J404>=60,J404<65),VLOOKUP(K404,Feuil2!$F$10:$P$28,5),IF(AND(J404>=65,J404<70),VLOOKUP(K404,Feuil2!$F$10:$P$28,4),IF(AND(J404>=70,J404<75),VLOOKUP(K404,Feuil2!$F$10:$P$28,3),IF(AND(J404>=75,J404<80),VLOOKUP(K404,Feuil2!$F$10:$P$28,2),VLOOKUP(K404,Feuil2!$F$10:$P$28,2)))))))))","v":{"$error":"#N/A"}},null,{"$f":"T404-HLOOKUP(X404,Feuil2!$C$1:$CD$9,2,FALSE)","v":{"$error":"#VALUE!"}},{"$f":"T404-HLOOKUP(X404,Feuil2!$C$1:$CD$9,3,FALSE)","v":{"$error":"#VALUE!"}},{"$f":"T404-HLOOKUP(X404,Feuil2!$C$1:$CD$9,4,FALSE)","v":{"$error":"#VALUE!"}},{"$f":"T404-HLOOKUP(X404,Feuil2!$C$1:$CD$9,5,FALSE)","v":{"$error":"#VALUE!"}},{"$f":"T404-HLOOKUP(X404,Feuil2!$C$1:$CD$9,6,FALSE)","v":{"$error":"#VALUE!"}},{"$f":"T404-HLOOKUP(X404,Feuil2!$C$1:$CD$9,7,FALSE)","v":{"$error":"#VALUE!"}},{"$f":"T404-HLOOKUP(X404,Feuil2!$C$1:$CD$9,8,FALSE)","v":{"$error":"#VALUE!"}},{"$f":"T404-HLOOKUP(X404,Feuil2!$C$1:$CD$9,9,FALSE)","v":{"$error":"#VALUE!"}},null,null,null,null,null,null,null,{"$error":"#VALUE!"},114,null,{"$f":"IF(AP404,VLOOKUP(AP404,HOM!$AR$551:$AS$606,2))","v":3.5710000000000002}]
["H",null,null,null,null,false,null,null,null,null,null,null,null,null,{"$f":"IF(K405=\"\",\"\",IF(MAXA(L405:N405)<=0,0,MAXA(L405:N405)))","v":""},null,null,null,{"$f":"IF(K405=\"\",\"\",IF(MAXA(P405:R405)<=0,0,MAXA(P405:R405)))","v":""},{"$f":"IF(K405=\"\",\"\",IF(OR(O405=0,S405=0),0,O405+S405))","v":""},"","","",{"$f":"IF(AND(J405>=40,J405<45),VLOOKUP(K405,Feuil2!$F$10:$P$28,9),IF(AND(J405>=45,J405<50),VLOOKUP(K405,Feuil2!$F$10:$P$28,8),IF(AND(J405>=50,J405<55),VLOOKUP(K405,Feuil2!$F$10:$P$28,7),IF(AND(J405>=55,J405<60),VLOOKUP(K405,Feuil2!$F$10:$P$28,6),IF(AND(J405>=60,J405<65),VLOOKUP(K405,Feuil2!$F$10:$P$28,5),IF(AND(J405>=65,J405<70),VLOOKUP(K405,Feuil2!$F$10:$P$28,4),IF(AND(J405>=70,J405<75),VLOOKUP(K405,Feuil2!$F$10:$P$28,3),IF(AND(J405>=75,J405<80),VLOOKUP(K405,Feuil2!$F$10:$P$28,2),VLOOKUP(K405,Feuil2!$F$10:$P$28,2)))))))))","v":{"$error":"#N/A"}},null,{"$f":"T405-HLOOKUP(X405,Feuil2!$C$1:$CD$9,2,FALSE)","v":{"$error":"#VALUE!"}},{"$f":"T405-HLOOKUP(X405,Feuil2!$C$1:$CD$9,3,FALSE)","v":{"$error":"#VALUE!"}},{"$f":"T405-HLOOKUP(X405,Feuil2!$C$1:$CD$9,4,FALSE)","v":{"$error":"#VALUE!"}},{"$f":"T405-HLOOKUP(X405,Feuil2!$C$1:$CD$9,5,FALSE)","v":{"$error":"#VALUE!"}},{"$f":"T405-HLOOKUP(X405,Feuil2!$C$1:$CD$9,6,FALSE)","v":{"$error":"#VALUE!"}},{"$f":"T405-HLOOKUP(X405,Feuil2!$C$1:$CD$9,7,FALSE)","v":{"$error":"#VALUE!"}},{"$f":"T405-HLOOKUP(X405,Feuil2!$C$1:$CD$9,8,FALSE)","v":{"$error":"#VALUE!"}},{"$f":"T405-HLOOKUP(X405,Feuil2!$C$1:$CD$9,9,FALSE)","v":{"$error":"#VALUE!"}},null,null,null,null,null,null,null,{"$error":"#VALUE!"},114,null,{"$f":"IF(AP405,VLOOKUP(AP405,HOM!$AR$551:$AS$606,2))","v":3.5710000000000002}]
["H",null,null,null,null,false,null,null,null,null,null,null,null,null,"",null,null,null,"","","","","",{"$f":"IF(AND(J406>=40,J406<45),VLOOKUP(K406,Feuil2!$F$10:$P$28,9),IF(AND(J406>=45,J406<50),VLOOKUP(K406,Feuil2!$F$10:$P$28,8),IF(AND(J406>=50,J406<55),VLOOKUP(K406,Feuil2!$F$10:$P$28,7),IF(AND(J406>=55,J406<60),VLOOKUP(K406,Feuil2!$F$10:$P$28,6),IF(AND(J406>=60,J406<65),VLOOKUP(K406,Feuil2!$F$10:$P$28,5),IF(AND(J406>=65,J406<70),VLOOKUP(K406,Feuil2!$F$10:$P$28,4),IF(AND(J406>=70,J406<75),VLOOKUP(K406,Feuil2!$F$10:$P$28,3),IF(AND(J406>=75,J406<80),VLOOKUP(K406,Feuil2!$F$10:$P$28,2),VLOOKUP(K406,Feuil2!$F$10:$P$28,2)))))))))","v":{"$error":"#N/A"}},null,{"$f":"T406-HLOOKUP(X406,Feuil2!$C$1:$CD$9,2,FALSE)","v":{"$error":"#VALUE!"}},{"$f":"T406-HLOOKUP(X406,Feuil2!$C$1:$CD$9,3,FALSE)","v":{"$error":"#VALUE!"}},{"$f":"T406-HLOOKUP(X406,Feuil2!$C$1:$CD$9,4,FALSE)","v":{"$error":"#VALUE!"}},{"$f":"T406-HLOOKUP(X406,Feuil2!$C$1:$CD$9,5,FALSE)","v":{"$error":"#VALUE!"}},{"$f":"T406-HLOOKUP(X406,Feuil2!$C$1:$CD$9,6,FALSE)","v":{"$error":"#VALUE!"}},{"$f":"T406-HLOOKUP(X406,Feuil2!$C$1:$CD$9,7,FALSE)","v":{"$error":"#VALUE!"}},{"$f":"T406-HLOOKUP(X406,Feuil2!$C$1:$CD$9,8,FALSE)","v":{"$error":"#VALUE!"}},{"$f":"T406-HLOOKUP(X406,Feuil2!$C$1:$CD$9,9,FALSE)","v":{"$error":"#VALUE!"}},null,null,null,null,null,null,null,{"$error":"#VALUE!"},114,null,{"$f":"IF(AP406,VLOOKUP(AP406,HOM!$AR$551:$AS$606,2))","v":3.5710000000000002}]
["H",null,null,null,null,false,null,null,null,null,null,null,null,null,"",null,null,null,"","","","","",{"$f":"IF(AND(J407>=40,J407<45),VLOOKUP(K407,Feuil2!$F$10:$P$28,9),IF(AND(J407>=45,J407<50),VLOOKUP(K407,Feuil2!$F$10:$P$28,8),IF(AND(J407>=50,J407<55),VLOOKUP(K407,Feuil2!$F$10:$P$28,7),IF(AND(J407>=55,J407<60),VLOOKUP(K407,Feuil2!$F$10:$P$28,6),IF(AND(J407>=60,J407<65),VLOOKUP(K407,Feuil2!$F$10:$P$28,5),IF(AND(J407>=65,J407<70),VLOOKUP(K407,Feuil2!$F$10:$P$28,4),IF(AND(J407>=70,J407<75),VLOOKUP(K407,Feuil2!$F$10:$P$28,3),IF(AND(J407>=75,J407<80),VLOOKUP(K407,Feuil2!$F$10:$P$28,2),VLOOKUP(K407,Feuil2!$F$10:$P$28,2)))))))))","v":{"$error":"#N/A"}},null,{"$f":"T407-HLOOKUP(X407,Feuil2!$C$1:$CD$9,2,FALSE)","v":{"$error":"#VALUE!"}},{"$f":"T407-HLOOKUP(X407,Feuil2!$C$1:$CD$9,3,FALSE)","v":{"$error":"#VALUE!"}},{"$f":"T407-HLOOKUP(X407,Feuil2!$C$1:$CD$9,4,FALSE)","v":{"$error":"#VALUE!"}},{"$f":"T407-HLOOKUP(X407,Feuil2!$C$1:$CD$9,5,FALSE)","v":{"$error":"#VALUE!"}},{"$f":"T407-HLOOKUP(X407,Feuil2!$C$1:$CD$9,6,FALSE)","v":{"$error":"#VALUE!"}},{"$f":"T407-HLOOKUP(X407,Feuil2!$C$1:$CD$9,7,FALSE)","v":{"$error":"#VALUE!"}},{"$f":"T407-HLOOKUP(X407,Feuil2!$C$1:$CD$9,8,FALSE)","v":{"$error":"#VALUE!"}},{"$f":"T407-HLOOKUP(X407,Feuil2!$C$1:$CD$9,9,FALSE)","v":{"$error":"#VALUE!"}},null,null,null,null,null,null,null,{"$error":"#VALUE!"},114,null,{"$f":"IF(AP407,VLOOKUP(AP407,HOM!$AR$551:$AS$606,2))","v":3.5710000000000002}]
["H",null,null,null,null,false,null,null,null,null,null,null,null,null,"",null,null,null,"","","","","",{"$f":"IF(AND(J408>=40,J408<45),VLOOKUP(K408,Feuil2!$F$10:$P$28,9),IF(AND(J408>=45,J408<50),VLOOKUP(K408,Feuil2!$F$10:$P$28,8),IF(AND(J408>=50,J408<55),VLOOKUP(K408,Feuil2!$F$10:$P$28,7),IF(AND(J408>=55,J408<60),VLOOKUP(K408,Feuil2!$F$10:$P$28,6),IF(AND(J408>=60,J408<65),VLOOKUP(K408,Feuil2!$F$10:$P$28,5),IF(AND(J408>=65,J408<70),VLOOKUP(K408,Feuil2!$F$10:$P$28,4),IF(AND(J408>=70,J408<75),VLOOKUP(K408,Feuil2!$F$10:$P$28,3),IF(AND(J408>=75,J408<80),VLOOKUP(K408,Feuil2!$F$10:$P$28,2),VLOOKUP(K408,Feuil2!$F$10:$P$28,2)))))))))","v":{"$error":"#N/A"}},null,{"$f":"T408-HLOOKUP(X408,Feuil2!$C$1:$CD$9,2,FALSE)","v":{"$error":"#VALUE!"}},{"$f":"T408-HLOOKUP(X408,Feuil2!$C$1:$CD$9,3,FALSE)","v":{"$error":"#VALUE!"}},{"$f":"T408-HLOOKUP(X408,Feuil2!$C$1:$CD$9,4,FALSE)","v":{"$error":"#VALUE!"}},{"$f":"T408-HLOOKUP(X408,Feuil2!$C$1:$CD$9,5,FALSE)","v":{"$error":"#VALUE!"}},{"$f":"T408-HLOOKUP(X408,Feuil2!$C$1:$CD$9,6,FALSE)","v":{"$error":"#VALUE!"}},{"$f":"T408-HLOOKUP(X408,Feuil2!$C$1:$CD$9,7,FALSE)","v":{"$error":"#VALUE!"}},{"$f":"T408-HLOOKUP(X408,Feuil2!$C$1:$CD$9,8,FALSE)","v":{"$error":"#VALUE!"}},{"$f":"T408-HLOOKUP(X408,Feuil2!$C$1:$CD$9,9,FALSE)","v":{"$error":"#VALUE!"}},null,null,null,null,null,null,null,{"$error":"#VALUE!"},114,null,{"$f":"IF(AP408,VLOOKUP(AP408,HOM!$AR$551:$AS$606,2))","v":3.5710000000000002}]
["H",null,null,null,null,false,null,null,null,null,null,null,null,null,"",null,null,null,"","","","","",{"$f":"IF(AND(J409>=40,J409<45),VLOOKUP(K409,Feuil2!$F$10:$P$28,9),IF(AND(J409>=45,J409<50),VLOOKUP(K409,Feuil2!$F$10:$P$28,8),IF(AND(J409>=50,J409<55),VLOOKUP(K409,Feuil2!$F$10:$P$28,7),IF(AND(J409>=55,J409<60),VLOOKUP(K409,Feuil2!$F$10:$P$28,6),IF(AND(J409>=60,J409<65),VLOOKUP(K409,Feuil2!$F$10:$P$28,5),IF(AND(J409>=65,J409<70),VLOOKUP(K409,Feuil2!$F$10:$P$28,4),IF(AND(J409>=70,J409<75),VLOOKUP(K409,Feuil2!$F$10:$P$28,3),IF(AND(J409>=75,J409<80),VLOOKUP(K409,Feuil2!$F$10:$P$28,2),VLOOKUP(K409,Feuil2!$F$10:$P$28,2)))))))))","v":{"$error":"#N/A"}},null,{"$f":"T409-HLOOKUP(X409,Feuil2!$C$1:$CD$9,2,FALSE)","v":{"$error":"#VALUE!"}},{"$f":"T409-HLOOKUP(X409,Feuil2!$C$1:$CD$9,3,FALSE)","v":{"$error":"#VALUE!"}},{"$f":"T409-HLOOKUP(X409,Feuil2!$C$1:$CD$9,4,FALSE)","v":{"$error":"#VALUE!"}},{"$f":"T409-HLOOKUP(X409,Feuil2!$C$1:$CD$9,5,FALSE)","v":{"$error":"#VALUE!"}},{"$f":"T409-HLOOKUP(X409,Feuil2!$C$1:$CD$9,6,FALSE)","v":{"$error":"#VALUE!"}},{"$f":"T409-HLOOKUP(X409,Feuil2!$C$1:$CD$9,7,FALSE)","v":{"$error":"#VALUE!"}},{"$f":"T409-HLOOKUP(X409,Feuil2!$C$1:$CD$9,8,FALSE)","v":{"$error":"#VALUE!"}},{"$f":"T409-HLOOKUP(X409,Feuil2!$C$1:$CD$9,9,FALSE)","v":{"$error":"#VALUE!"}},null,null,null,null,null,null,null,{"$error":"#VALUE!"},114,null,{"$f":"IF(AP409,VLOOKUP(AP409,HOM!$AR$551:$AS$606,2))","v":3.5710000000000002}]
["H",null,null,null,null,false,null,null,null,null,null,null,null,null,"",null,null,null,"","","","","",{"$f":"IF(AND(J410>=40,J410<45),VLOOKUP(K410,Feuil2!$F$10:$P$28,9),IF(AND(J410>=45,J410<50),VLOOKUP(K410,Feuil2!$F$10:$P$28,8),IF(AND(J410>=50,J410<55),VLOOKUP(K410,Feuil2!$F$10:$P$28,7),IF(AND(J410>=55,J410<60),VLOOKUP(K410,Feuil2!$F$10:$P$28,6),IF(AND(J410>=60,J410<65),VLOOKUP(K410,Feuil2!$F$10:$P$28,5),IF(AND(J410>=65,J410<70),VLOOKUP(K410,Feuil2!$F$10:$P$28,4),IF(AND(J410>=70,J410<75),VLOOKUP(K410,Feuil2!$F$10:$P$28,3),IF(AND(J410>=75,J410<80),VLOOKUP(K410,Feuil2!$F$10:$P$28,2),VLOOKUP(K410,Feuil2!$F$10:$P$28,2)))))))))","v":{"$error":"#N/A"}},null,{"$f":"T410-HLOOKUP(X410,Feuil2!$C$1:$CD$9,2,FALSE)","v":{"$error":"#VALUE!"}},{"$f":"T410-HLOOKUP(X410,Feuil2!$C$1:$CD$9,3,FALSE)","v":{"$error":"#VALUE!"}},{"$f":"T410-HLOOKUP(X410,Feuil2!$C$1:$CD$9,4,FALSE)","v":{"$error":"#VALUE!"}},{"$f":"T410-HLOOKUP(X410,Feuil2!$C$1:$CD$9,5,FALSE)","v":{"$error":"#VALUE!"}},{"$f":"T410-HLOOKUP(X410,Feuil2!$C$1:$CD$9,6,FALSE)","v":{"$error":"#VALUE!"}},{"$f":"T410-HLOOKUP(X410,Feuil2!$C$1:$CD$9,7,FALSE)","v":{"$error":"#VALUE!"}},{"$f":"T410-HLOOKUP(X410,Feuil2!$C$1:$CD$9,8,FALSE)","v":{"$error":"#VALUE!"}},{"$f":"T410-HLOOKUP(X410,Feuil2!$C$1:$CD$9,9,FALSE)","v":{"$error":"#VALUE!"}},null,null,null,null,null,null,null,{"$error":"#VALUE!"},114,null,{"$f":"IF(AP410,VLOOKUP(AP410,HOM!$AR$551:$AS$606,2))","v":3.5710000000000002}]
["H",null,null,null,null,false,null,null,null,null,null,null,null,null,"",null,null,null,"","","","","",{"$f":"IF(AND(J411>=40,J411<45),VLOOKUP(K411,Feuil2!$F$10:$P$28,9),IF(AND(J411>=45,J411<50),VLOOKUP(K411,Feuil2!$F$10:$P$28,8),IF(AND(J411>=50,J411<55),VLOOKUP(K411,Feuil2!$F$10:$P$28,7),IF(AND(J411>=55,J411<60),VLOOKUP(K411,Feuil2!$F$10:$P$28,6),IF(AND(J411>=60,J411<65),VLOOKUP(K411,Feuil2!$F$10:$P$28,5),IF(AND(J411>=65,J411<70),VLOOKUP(K411,Feuil2!$F$10:$P$28,4),IF(AND(J411>=70,J411<75),VLOOKUP(K411,Feuil2!$F$10:$P$28,3),IF(AND(J411>=75,J411<80),VLOOKUP(K411,Feuil2!$F$10:$P$28,2),VLOOKUP(K411,Feuil2!$F$10:$P$28,2)))))))))","v":{"$error":"#N/A"}},null,{"$f":"T411-HLOOKUP(X411,Feuil2!$C$1:$CD$9,2,FALSE)","v":{"$error":"#VALUE!"}},{"$f":"T411-HLOOKUP(X411,Feuil2!$C$1:$CD$9,3,FALSE)","v":{"$error":"#VALUE!"}},{"$f":"T411-HLOOKUP(X411,Feuil2!$C$1:$CD$9,4,FALSE)","v":{"$error":"#VALUE!"}},{"$f":"T411-HLOOKUP(X411,Feuil2!$C$1:$CD$9,5,FALSE)","v":{"$error":"#VALUE!"}},{"$f":"T411-HLOOKUP(X411,Feuil2!$C$1:$CD$9,6,FALSE)","v":{"$error":"#VALUE!"}},{"$f":"T411-HLOOKUP(X411,Feuil2!$C$1:$CD$9,7,FALSE)","v":{"$error":"#VALUE!"}},{"$f":"T411-HLOOKUP(X411,Feuil2!$C$1:$CD$9,8,FALSE)","v":{"$error":"#VALUE!"}},{"$f":"T411-HLOOKUP(X411,Feuil2!$C$1:$CD$9,9,FALSE)","v":{"$error":"#VALUE!"}},null,null,null,null,null,null,null,{"$error":"#VALUE!"},114,null,{"$f":"IF(AP411,VLOOKUP(AP411,HOM!$AR$551:$AS$606,2))","v":3.5710000000000002}]
["H",null,null,null,null,false,null,null,null,null,null,null,null,null,"",null,null,null,"","","","","",{"$f":"IF(AND(J412>=40,J412<45),VLOOKUP(K412,Feuil2!$F$10:$P$28,9),IF(AND(J412>=45,J412<50),VLOOKUP(K412,Feuil2!$F$10:$P$28,8),IF(AND(J412>=50,J412<55),VLOOKUP(K412,Feuil2!$F$10:$P$28,7),IF(AND(J412>=55,J412<60),VLOOKUP(K412,Feuil2!$F$10:$P$28,6),IF(AND(J412>=60,J412<65),VLOOKUP(K412,Feuil2!$F$10:$P$28,5),IF(AND(J412>=65,J412<70),VLOOKUP(K412,Feuil2!$F$10:$P$28,4),IF(AND(J412>=70,J412<75),VLOOKUP(K412,Feuil2!$F$10:$P$28,3),IF(AND(J412>=75,J412<80),VLOOKUP(K412,Feuil2!$F$10:$P$28,2),VLOOKUP(K412,Feuil2!$F$10:$P$28,2)))))))))","v":{"$error":"#N/A"}},null,{"$f":"T412-HLOOKUP(X412,Feuil2!$C$1:$CD$9,2,FALSE)","v":{"$error":"#VALUE!"}},{"$f":"T412-HLOOKUP(X412,Feuil2!$C$1:$CD$9,3,FALSE)","v":{"$error":"#VALUE!"}},{"$f":"T412-HLOOKUP(X412,Feuil2!$C$1:$CD$9,4,FALSE)","v":{"$error":"#VALUE!"}},{"$f":"T412-HLOOKUP(X412,Feuil2!$C$1:$CD$9,5,FALSE)","v":{"$error":"#VALUE!"}},{"$f":"T412-HLOOKUP(X412,Feuil2!$C$1:$CD$9,6,FALSE)","v":{"$error":"#VALUE!"}},{"$f":"T412-HLOOKUP(X412,Feuil2!$C$1:$CD$9,7,FALSE)","v":{"$error":"#VALUE!"}},{"$f":"T412-HLOOKUP(X412,Feuil2!$C$1:$CD$9,8,FALSE)","v":{"$error":"#VALUE!"}},{"$f":"T412-HLOOKUP(X412,Feuil2!$C$1:$CD$9,9,FALSE)","v":{"$error":"#VALUE!"}},null,null,null,null,null,null,null,{"$error":"#VALUE!"},114,null,{"$f":"IF(AP412,VLOOKUP(AP412,HOM!$AR$551:$AS$606,2))","v":3.5710000000000002}]
["H",null,null,null,null,false,null,null,null,null,null,null,null,null,"",null,null,null,"","","","","",{"$f":"IF(AND(J413>=40,J413<45),VLOOKUP(K413,Feuil2!$F$10:$P$28,9),IF(AND(J413>=45,J413<50),VLOOKUP(K413,Feuil2!$F$10:$P$28,8),IF(AND(J413>=50,J413<55),VLOOKUP(K413,Feuil2!$F$10:$P$28,7),IF(AND(J413>=55,J413<60),VLOOKUP(K413,Feuil2!$F$10:$P$28,6),IF(AND(J413>=60,J413<65),VLOOKUP(K413,Feuil2!$F$10:$P$28,5),IF(AND(J413>=65,J413<70),VLOOKUP(K413,Feuil2!$F$10:$P$28,4),IF(AND(J413>=70,J413<75),VLOOKUP(K413,Feuil2!$F$10:$P$28,3),IF(AND(J413>=75,J413<80),VLOOKUP(K413,Feuil2!$F$10:$P$28,2),VLOOKUP(K413,Feuil2!$F$10:$P$28,2)))))))))","v":{"$error":"#N/A"}},null,{"$f":"T413-HLOOKUP(X413,Feuil2!$C$1:$CD$9,2,FALSE)","v":{"$error":"#VALUE!"}},{"$f":"T413-HLOOKUP(X413,Feuil2!$C$1:$CD$9,3,FALSE)","v":{"$error":"#VALUE!"}},{"$f":"T413-HLOOKUP(X413,Feuil2!$C$1:$CD$9,4,FALSE)","v":{"$error":"#VALUE!"}},{"$f":"T413-HLOOKUP(X413,Feuil2!$C$1:$CD$9,5,FALSE)","v":{"$error":"#VALUE!"}},{"$f":"T413-HLOOKUP(X413,Feuil2!$C$1:$CD$9,6,FALSE)","v":{"$error":"#VALUE!"}},{"$f":"T413-HLOOKUP(X413,Feuil2!$C$1:$CD$9,7,FALSE)","v":{"$error":"#VALUE!"}},{"$f":"T413-HLOOKUP(X413,Feuil2!$C$1:$CD$9,8,FALSE)","v":{"$error":"#VALUE!"}},{"$f":"T413-HLOOKUP(X413,Feuil2!$C$1:$CD$9,9,FALSE)","v":{"$error":"#VALUE!"}},null,null,null,null,null,null,null,{"$error":"#VALUE!"},{"$f":"114-J413","v":114},null,{"$f":"IF(AP413,VLOOKUP(AP413,HOM!$AR$551:$AS$606,2))","v":3.5710000000000002}]
["H",null,null,null," ",false," "," ",null,null,null,null,null,null,"",null,null,null,"","","","","",{"$f":"IF(AND(J414>=40,J414<45),VLOOKUP(K414,Feuil2!$F$10:$P$28,9),IF(AND(J414>=45,J414<50),VLOOKUP(K414,Feuil2!$F$10:$P$28,8),IF(AND(J414>=50,J414<55),VLOOKUP(K414,Feuil2!$F$10:$P$28,7),IF(AND(J414>=55,J414<60),VLOOKUP(K414,Feuil2!$F$10:$P$28,6),IF(AND(J414>=60,J414<65),VLOOKUP(K414,Feuil2!$F$10:$P$28,5),IF(AND(J414>=65,J414<70),VLOOKUP(K414,Feuil2!$F$10:$P$28,4),IF(AND(J414>=70,J414<75),VLOOKUP(K414,Feuil2!$F$10:$P$28,3),IF(AND(J414>=75,J414<80),VLOOKUP(K414,Feuil2!$F$10:$P$28,2),VLOOKUP(K414,Feuil2!$F$10:$P$28,2)))))))))","v":{"$error":"#N/A"}},null,{"$f":"T414-HLOOKUP(X414,Feuil2!$C$1:$CD$9,2,FALSE)","v":{"$error":"#VALUE!"}},{"$f":"T414-HLOOKUP(X414,Feuil2!$C$1:$CD$9,3,FALSE)","v":{"$error":"#VALUE!"}},{"$f":"T414-HLOOKUP(X414,Feuil2!$C$1:$CD$9,4,FALSE)","v":{"$error":"#VALUE!"}},{"$f":"T414-HLOOKUP(X414,Feuil2!$C$1:$CD$9,5,FALSE)","v":{"$error":"#VALUE!"}},{"$f":"T414-HLOOKUP(X414,Feuil2!$C$1:$CD$9,6,FALSE)","v":{"$error":"#VALUE!"}},{"$f":"T414-HLOOKUP(X414,Feuil2!$C$1:$CD$9,7,FALSE)","v":{"$error":"#VALUE!"}},{"$f":"T414-HLOOKUP(X414,Feuil2!$C$1:$CD$9,8,FALSE)","v":{"$error":"#VALUE!"}},{"$f":"T414-HLOOKUP(X414,Feuil2!$C$1:$CD$9,9,FALSE)","v":{"$error":"#VALUE!"}},null,null,null,null,null,null,null,{"$error":"#VALUE!"},114,null,{"$f":"IF(AP414,VLOOKUP(AP414,HOM!$AR$551:$AS$606,2))","v":3.5710000000000002}]
["H",null,null,null," ",false,null,null,null,null,null,null,null,null,"",null,null,null,"","","","","",{"$f":"IF(AND(J415>=40,J415<45),VLOOKUP(K415,Feuil2!$F$10:$P$28,9),IF(AND(J415>=45,J415<50),VLOOKUP(K415,Feuil2!$F$10:$P$28,8),IF(AND(J415>=50,J415<55),VLOOKUP(K415,Feuil2!$F$10:$P$28,7),IF(AND(J415>=55,J415<60),VLOOKUP(K415,Feuil2!$F$10:$P$28,6),IF(AND(J415>=60,J415<65),VLOOKUP(K415,Feuil2!$F$10:$P$28,5),IF(AND(J415>=65,J415<70),VLOOKUP(K415,Feuil2!$F$10:$P$28,4),IF(AND(J415>=70,J415<75),VLOOKUP(K415,Feuil2!$F$10:$P$28,3),IF(AND(J415>=75,J415<80),VLOOKUP(K415,Feuil2!$F$10:$P$28,2),VLOOKUP(K415,Feuil2!$F$10:$P$28,2)))))))))","v":{"$error":"#N/A"}},null,{"$f":"T415-HLOOKUP(X415,Feuil2!$C$1:$CD$9,2,FALSE)","v":{"$error":"#VALUE!"}},{"$f":"T415-HLOOKUP(X415,Feuil2!$C$1:$CD$9,3,FALSE)","v":{"$error":"#VALUE!"}},{"$f":"T415-HLOOKUP(X415,Feuil2!$C$1:$CD$9,4,FALSE)","v":{"$error":"#VALUE!"}},{"$f":"T415-HLOOKUP(X415,Feuil2!$C$1:$CD$9,5,FALSE)","v":{"$error":"#VALUE!"}},{"$f":"T415-HLOOKUP(X415,Feuil2!$C$1:$CD$9,6,FALSE)","v":{"$error":"#VALUE!"}},{"$f":"T415-HLOOKUP(X415,Feuil2!$C$1:$CD$9,7,FALSE)","v":{"$error":"#VALUE!"}},{"$f":"T415-HLOOKUP(X415,Feuil2!$C$1:$CD$9,8,FALSE)","v":{"$error":"#VALUE!"}},{"$f":"T415-HLOOKUP(X415,Feuil2!$C$1:$CD$9,9,FALSE)","v":{"$error":"#VALUE!"}},null,null,null,null,null,null,null,{"$error":"#VALUE!"},114,null,{"$f":"IF(AP415,VLOOKUP(AP415,HOM!$AR$551:$AS$606,2))","v":3.5710000000000002}]
["H",null,null,null,null,false,null,null,null,null,null,null,null,null,"",null,null,null,"","","","","",{"$f":"IF(AND(J416>=40,J416<45),VLOOKUP(K416,Feuil2!$F$10:$P$28,9),IF(AND(J416>=45,J416<50),VLOOKUP(K416,Feuil2!$F$10:$P$28,8),IF(AND(J416>=50,J416<55),VLOOKUP(K416,Feuil2!$F$10:$P$28,7),IF(AND(J416>=55,J416<60),VLOOKUP(K416,Feuil2!$F$10:$P$28,6),IF(AND(J416>=60,J416<65),VLOOKUP(K416,Feuil2!$F$10:$P$28,5),IF(AND(J416>=65,J416<70),VLOOKUP(K416,Feuil2!$F$10:$P$28,4),IF(AND(J416>=70,J416<75),VLOOKUP(K416,Feuil2!$F$10:$P$28,3),IF(AND(J416>=75,J416<80),VLOOKUP(K416,Feuil2!$F$10:$P$28,2),VLOOKUP(K416,Feuil2!$F$10:$P$28,2)))))))))","v":{"$error":"#N/A"}},null,{"$f":"T416-HLOOKUP(X416,Feuil2!$C$1:$CD$9,2,FALSE)","v":{"$error":"#VALUE!"}},{"$f":"T416-HLOOKUP(X416,Feuil2!$C$1:$CD$9,3,FALSE)","v":{"$error":"#VALUE!"}},{"$f":"T416-HLOOKUP(X416,Feuil2!$C$1:$CD$9,4,FALSE)","v":{"$error":"#VALUE!"}},{"$f":"T416-HLOOKUP(X416,Feuil2!$C$1:$CD$9,5,FALSE)","v":{"$error":"#VALUE!"}},{"$f":"T416-HLOOKUP(X416,Feuil2!$C$1:$CD$9,6,FALSE)","v":{"$error":"#VALUE!"}},{"$f":"T416-HLOOKUP(X416,Feuil2!$C$1:$CD$9,7,FALSE)","v":{"$error":"#VALUE!"}},{"$f":"T416-HLOOKUP(X416,Feuil2!$C$1:$CD$9,8,FALSE)","v":{"$error":"#VALUE!"}},{"$f":"T416-HLOOKUP(X416,Feuil2!$C$1:$CD$9,9,FALSE)","v":{"$error":"#VALUE!"}},null,null,null,null,null,null,null,{"$error":"#VALUE!"},114,null,{"$f":"IF(AP416,VLOOKUP(AP416,HOM!$AR$551:$AS$606,2))","v":3.5710000000000002}]
["H",null,null,null,null,false,null,null,null,null,null,null,null,null,"",null,null,null,"","","","","",{"$f":"IF(AND(J417>=40,J417<45),VLOOKUP(K417,Feuil2!$F$10:$P$28,9),IF(AND(J417>=45,J417<50),VLOOKUP(K417,Feuil2!$F$10:$P$28,8),IF(AND(J417>=50,J417<55),VLOOKUP(K417,Feuil2!$F$10:$P$28,7),IF(AND(J417>=55,J417<60),VLOOKUP(K417,Feuil2!$F$10:$P$28,6),IF(AND(J417>=60,J417<65),VLOOKUP(K417,Feuil2!$F$10:$P$28,5),IF(AND(J417>=65,J417<70),VLOOKUP(K417,Feuil2!$F$10:$P$28,4),IF(AND(J417>=70,J417<75),VLOOKUP(K417,Feuil2!$F$10:$P$28,3),IF(AND(J417>=75,J417<80),VLOOKUP(K417,Feuil2!$F$10:$P$28,2),VLOOKUP(K417,Feuil2!$F$10:$P$28,2)))))))))","v":{"$error":"#N/A"}},null,{"$f":"T417-HLOOKUP(X417,Feuil2!$C$1:$CD$9,2,FALSE)","v":{"$error":"#VALUE!"}},{"$f":"T417-HLOOKUP(X417,Feuil2!$C$1:$CD$9,3,FALSE)","v":{"$error":"#VALUE!"}},{"$f":"T417-HLOOKUP(X417,Feuil2!$C$1:$CD$9,4,FALSE)","v":{"$error":"#VALUE!"}},{"$f":"T417-HLOOKUP(X417,Feuil2!$C$1:$CD$9,5,FALSE)","v":{"$error":"#VALUE!"}},{"$f":"T417-HLOOKUP(X417,Feuil2!$C$1:$CD$9,6,FALSE)","v":{"$error":"#VALUE!"}},{"$f":"T417-HLOOKUP(X417,Feuil2!$C$1:$CD$9,7,FALSE)","v":{"$error":"#VALUE!"}},{"$f":"T417-HLOOKUP(X417,Feuil2!$C$1:$CD$9,8,FALSE)","v":{"$error":"#VALUE!"}},{"$f":"T417-HLOOKUP(X417,Feuil2!$C$1:$CD$9,9,FALSE)","v":{"$error":"#VALUE!"}},null,null,null,null,null,null,null,{"$error":"#VALUE!"},114,null,{"$f":"IF(AP417,VLOOKUP(AP417,HOM!$AR$551:$AS$606,2))","v":3.5710000000000002}]
["H",null,null,null,null,false,null,null,null,null,null,null,null,null,"",null,null,null,"","","",{"$f":"IF(K418=\"\",\"\",AO418)","v":""},{"$f":"IF(K418=\"\",\"\",IF(AG418>=0,AG418,IF(AF418>=0,AF418,IF(AE418>=0,AE418,IF(AD418>=0,AD418,IF(AC418>=0,AC418,IF(AB418>=0,AB418,IF(AA418>=0,AA418,Z418))))))))","v":""},{"$f":"IF(AND(J418>=40,J418<45),VLOOKUP(K418,Feuil2!$F$10:$P$28,9),IF(AND(J418>=45,J418<50),VLOOKUP(K418,Feuil2!$F$10:$P$28,8),IF(AND(J418>=50,J418<55),VLOOKUP(K418,Feuil2!$F$10:$P$28,7),IF(AND(J418>=55,J418<60),VLOOKUP(K418,Feuil2!$F$10:$P$28,6),IF(AND(J418>=60,J418<65),VLOOKUP(K418,Feuil2!$F$10:$P$28,5),IF(AND(J418>=65,J418<70),VLOOKUP(K418,Feuil2!$F$10:$P$28,4),IF(AND(J418>=70,J418<75),VLOOKUP(K418,Feuil2!$F$10:$P$28,3),IF(AND(J418>=75,J418<80),VLOOKUP(K418,Feuil2!$F$10:$P$28,2),VLOOKUP(K418,Feuil2!$F$10:$P$28,2)))))))))","v":{"$error":"#N/A"}},null,{"$f":"T418-HLOOKUP(X418,Feuil2!$C$1:$CD$9,2,FALSE)","v":{"$error":"#VALUE!"}},{"$f":"T418-HLOOKUP(X418,Feuil2!$C$1:$CD$9,3,FALSE)","v":{"$error":"#VALUE!"}},{"$f":"T418-HLOOKUP(X418,Feuil2!$C$1:$CD$9,4,FALSE)","v":{"$error":"#VALUE!"}},{"$f":"T418-HLOOKUP(X418,Feuil2!$C$1:$CD$9,5,FALSE)","v":{"$error":"#VALUE!"}},{"$f":"T418-HLOOKUP(X418,Feuil2!$C$1:$CD$9,6,FALSE)","v":{"$error":"#VALUE!"}},{"$f":"T418-HLOOKUP(X418,Feuil2!$C$1:$CD$9,7,FALSE)","v":{"$error":"#VALUE!"}},{"$f":"T418-HLOOKUP(X418,Feuil2!$C$1:$CD$9,8,FALSE)","v":{"$error":"#VALUE!"}},{"$f":"T418-HLOOKUP(X418,Feuil2!$C$1:$CD$9,9,FALSE)","v":{"$error":"#VALUE!"}},null,null,null,null,null,null,null,{"$f":"IF(AG418>=0,$AG$4,IF(AF418>=0,$AF$4,IF(AE418>=0,$AE$4,IF(AD418>=0,$AD$4,IF(AC418>=0,$AC$4,IF(AB418>=0,$AB$4,IF(AA418>=0,$AA$4,IF(Z418>=0,$Z$4,$AH$4))))))))","v":{"$error":"#VALUE!"}},114,null,{"$f":"IF(AP418,VLOOKUP(AP418,HOM!$AR$551:$AS$606,2))","v":3.5710000000000002}]
["H",null,null,null,null,false,null,null,null,null,null,null,null,null,"",null,null,null,"","",{"$f":"IF(K419=\"\",\"\",IF(A419=\"H\",10^(0.794358141*LOG(K419/174.393)^2)*T419*AR419,IF(A419=\"F\",10^(0.89726074 * LOG(K419/148.026)^2)*T419*AR419,\"\")))","v":""},"","",{"$f":"IF(AND(J419>=40,J419<45),VLOOKUP(K419,Feuil2!$F$10:$P$28,9),IF(AND(J419>=45,J419<50),VLOOKUP(K419,Feuil2!$F$10:$P$28,8),IF(AND(J419>=50,J419<55),VLOOKUP(K419,Feuil2!$F$10:$P$28,7),IF(AND(J419>=55,J419<60),VLOOKUP(K419,Feuil2!$F$10:$P$28,6),IF(AND(J419>=60,J419<65),VLOOKUP(K419,Feuil2!$F$10:$P$28,5),IF(AND(J419>=65,J419<70),VLOOKUP(K419,Feuil2!$F$10:$P$28,4),IF(AND(J419>=70,J419<75),VLOOKUP(K419,Feuil2!$F$10:$P$28,3),IF(AND(J419>=75,J419<80),VLOOKUP(K419,Feuil2!$F$10:$P$28,2),VLOOKUP(K419,Feuil2!$F$10:$P$28,2)))))))))","v":{"$error":"#N/A"}},null,{"$f":"T419-HLOOKUP(X419,Feuil2!$C$1:$CD$9,2,FALSE)","v":{"$error":"#VALUE!"}},{"$f":"T419-HLOOKUP(X419,Feuil2!$C$1:$CD$9,3,FALSE)","v":{"$error":"#VALUE!"}},{"$f":"T419-HLOOKUP(X419,Feuil2!$C$1:$CD$9,4,FALSE)","v":{"$error":"#VALUE!"}},{"$f":"T419-HLOOKUP(X419,Feuil2!$C$1:$CD$9,5,FALSE)","v":{"$error":"#VALUE!"}},{"$f":"T419-HLOOKUP(X419,Feuil2!$C$1:$CD$9,6,FALSE)","v":{"$error":"#VALUE!"}},{"$f":"T419-HLOOKUP(X419,Feuil2!$C$1:$CD$9,7,FALSE)","v":{"$error":"#VALUE!"}},{"$f":"T419-HLOOKUP(X419,Feuil2!$C$1:$CD$9,8,FALSE)","v":{"$error":"#VALUE!"}},{"$f":"T419-HLOOKUP(X419,Feuil2!$C$1:$CD$9,9,FALSE)","v":{"$error":"#VALUE!"}},null,null,null,null,null,null,null,{"$error":"#VALUE!"},114,null,{"$f":"IF(AP419,VLOOKUP(AP419,HOM!$AR$551:$AS$606,2))","v":3.5710000000000002}]
["H",null,null,null,null,false,null,null,null,null,null,null,null,null,"",null,null,null,"","","","","",{"$f":"IF(AND(J420>=40,J420<45),VLOOKUP(K420,Feuil2!$F$10:$P$28,9),IF(AND(J420>=45,J420<50),VLOOKUP(K420,Feuil2!$F$10:$P$28,8),IF(AND(J420>=50,J420<55),VLOOKUP(K420,Feuil2!$F$10:$P$28,7),IF(AND(J420>=55,J420<60),VLOOKUP(K420,Feuil2!$F$10:$P$28,6),IF(AND(J420>=60,J420<65),VLOOKUP(K420,Feuil2!$F$10:$P$28,5),IF(AND(J420>=65,J420<70),VLOOKUP(K420,Feuil2!$F$10:$P$28,4),IF(AND(J420>=70,J420<75),VLOOKUP(K420,Feuil2!$F$10:$P$28,3),IF(AND(J420>=75,J420<80),VLOOKUP(K420,Feuil2!$F$10:$P$28,2),VLOOKUP(K420,Feuil2!$F$10:$P$28,2)))))))))","v":{"$error":"#N/A"}},null,{"$f":"T420-HLOOKUP(X420,Feuil2!$C$1:$CD$9,2,FALSE)","v":{"$error":"#VALUE!"}},{"$f":"T420-HLOOKUP(X420,Feuil2!$C$1:$CD$9,3,FALSE)","v":{"$error":"#VALUE!"}},{"$f":"T420-HLOOKUP(X420,Feuil2!$C$1:$CD$9,4,FALSE)","v":{"$error":"#VALUE!"}},{"$f":"T420-HLOOKUP(X420,Feuil2!$C$1:$CD$9,5,FALSE)","v":{"$error":"#VALUE!"}},{"$f":"T420-HLOOKUP(X420,Feuil2!$C$1:$CD$9,6,FALSE)","v":{"$error":"#VALUE!"}},{"$f":"T420-HLOOKUP(X420,Feuil2!$C$1:$CD$9,7,FALSE)","v":{"$error":"#VALUE!"}},{"$f":"T420-HLOOKUP(X420,Feuil2!$C$1:$CD$9,8,FALSE)","v":{"$error":"#VALUE!"}},{"$f":"T420-HLOOKUP(X420,Feuil2!$C$1:$CD$9,9,FALSE)","v":{"$error":"#VALUE!"}},null,null,null,null,null,null,null,{"$error":"#VALUE!"},114,null,{"$f":"IF(AP420,VLOOKUP(AP420,HOM!$AR$551:$AS$606,2))","v":3.5710000000000002}]
["H",null,null,null,null,false,null,null,null,null,null,null,null,null,"",null,null,null,"","","","","",{"$f":"IF(AND(J421>=40,J421<45),VLOOKUP(K421,Feuil2!$F$10:$P$28,9),IF(AND(J421>=45,J421<50),VLOOKUP(K421,Feuil2!$F$10:$P$28,8),IF(AND(J421>=50,J421<55),VLOOKUP(K421,Feuil2!$F$10:$P$28,7),IF(AND(J421>=55,J421<60),VLOOKUP(K421,Feuil2!$F$10:$P$28,6),IF(AND(J421>=60,J421<65),VLOOKUP(K421,Feuil2!$F$10:$P$28,5),IF(AND(J421>=65,J421<70),VLOOKUP(K421,Feuil2!$F$10:$P$28,4),IF(AND(J421>=70,J421<75),VLOOKUP(K421,Feuil2!$F$10:$P$28,3),IF(AND(J421>=75,J421<80),VLOOKUP(K421,Feuil2!$F$10:$P$28,2),VLOOKUP(K421,Feuil2!$F$10:$P$28,2)))))))))","v":{"$error":"#N/A"}},null,{"$f":"T421-HLOOKUP(X421,Feuil2!$C$1:$CD$9,2,FALSE)","v":{"$error":"#VALUE!"}},{"$f":"T421-HLOOKUP(X421,Feuil2!$C$1:$CD$9,3,FALSE)","v":{"$error":"#VALUE!"}},{"$f":"T421-HLOOKUP(X421,Feuil2!$C$1:$CD$9,4,FALSE)","v":{"$error":"#VALUE!"}},{"$f":"T421-HLOOKUP(X421,Feuil2!$C$1:$CD$9,5,FALSE)","v":{"$error":"#VALUE!"}},{"$f":"T421-HLOOKUP(X421,Feuil2!$C$1:$CD$9,6,FALSE)","v":{"$error":"#VALUE!"}},{"$f":"T421-HLOOKUP(X421,Feuil2!$C$1:$CD$9,7,FALSE)","v":{"$error":"#VALUE!"}},{"$f":"T421-HLOOKUP(X421,Feuil2!$C$1:$CD$9,8,FALSE)","v":{"$error":"#VALUE!"}},{"$f":"T421-HLOOKUP(X421,Feuil2!$C$1:$CD$9,9,FALSE)","v":{"$error":"#VALUE!"}},null,null,null,null,null,null,null,{"$error":"#VALUE!"},114,null,{"$f":"IF(AP421,VLOOKUP(AP421,HOM!$AR$551:$AS$606,2))","v":3.5710000000000002}]
["H",null,null,null,null,false,null,null,null,null,null,null,null,null,"",null,null,null,"","","","","",{"$f":"IF(AND(J422>=40,J422<45),VLOOKUP(K422,Feuil2!$F$10:$P$28,9),IF(AND(J422>=45,J422<50),VLOOKUP(K422,Feuil2!$F$10:$P$28,8),IF(AND(J422>=50,J422<55),VLOOKUP(K422,Feuil2!$F$10:$P$28,7),IF(AND(J422>=55,J422<60),VLOOKUP(K422,Feuil2!$F$10:$P$28,6),IF(AND(J422>=60,J422<65),VLOOKUP(K422,Feuil2!$F$10:$P$28,5),IF(AND(J422>=65,J422<70),VLOOKUP(K422,Feuil2!$F$10:$P$28,4),IF(AND(J422>=70,J422<75),VLOOKUP(K422,Feuil2!$F$10:$P$28,3),IF(AND(J422>=75,J422<80),VLOOKUP(K422,Feuil2!$F$10:$P$28,2),VLOOKUP(K422,Feuil2!$F$10:$P$28,2)))))))))","v":{"$error":"#N/A"}},null,{"$f":"T422-HLOOKUP(X422,Feuil2!$C$1:$CD$9,2,FALSE)","v":{"$error":"#VALUE!"}},{"$f":"T422-HLOOKUP(X422,Feuil2!$C$1:$CD$9,3,FALSE)","v":{"$error":"#VALUE!"}},{"$f":"T422-HLOOKUP(X422,Feuil2!$C$1:$CD$9,4,FALSE)","v":{"$error":"#VALUE!"}},{"$f":"T422-HLOOKUP(X422,Feuil2!$C$1:$CD$9,5,FALSE)","v":{"$error":"#VALUE!"}},{"$f":"T422-HLOOKUP(X422,Feuil2!$C$1:$CD$9,6,FALSE)","v":{"$error":"#VALUE!"}},{"$f":"T422-HLOOKUP(X422,Feuil2!$C$1:$CD$9,7,FALSE)","v":{"$error":"#VALUE!"}},{"$f":"T422-HLOOKUP(X422,Feuil2!$C$1:$CD$9,8,FALSE)","v":{"$error":"#VALUE!"}},{"$f":"T422-HLOOKUP(X422,Feuil2!$C$1:$CD$9,9,FALSE)","v":{"$error":"#VALUE!"}},null,null,null,null,null,null,null,{"$error":"#VALUE!"},114,null,{"$f":"IF(AP422,VLOOKUP(AP422,HOM!$AR$551:$AS$606,2))","v":3.5710000000000002}]
["H",null,null,null,null,false,null,null,null,null,null,null,null,null,"",null,null,null,"","","","","",{"$f":"IF(AND(J423>=40,J423<45),VLOOKUP(K423,Feuil2!$F$10:$P$28,9),IF(AND(J423>=45,J423<50),VLOOKUP(K423,Feuil2!$F$10:$P$28,8),IF(AND(J423>=50,J423<55),VLOOKUP(K423,Feuil2!$F$10:$P$28,7),IF(AND(J423>=55,J423<60),VLOOKUP(K423,Feuil2!$F$10:$P$28,6),IF(AND(J423>=60,J423<65),VLOOKUP(K423,Feuil2!$F$10:$P$28,5),IF(AND(J423>=65,J423<70),VLOOKUP(K423,Feuil2!$F$10:$P$28,4),IF(AND(J423>=70,J423<75),VLOOKUP(K423,Feuil2!$F$10:$P$28,3),IF(AND(J423>=75,J423<80),VLOOKUP(K423,Feuil2!$F$10:$P$28,2),VLOOKUP(K423,Feuil2!$F$10:$P$28,2)))))))))","v":{"$error":"#N/A"}},null,{"$f":"T423-HLOOKUP(X423,Feuil2!$C$1:$CD$9,2,FALSE)","v":{"$error":"#VALUE!"}},{"$f":"T423-HLOOKUP(X423,Feuil2!$C$1:$CD$9,3,FALSE)","v":{"$error":"#VALUE!"}},{"$f":"T423-HLOOKUP(X423,Feuil2!$C$1:$CD$9,4,FALSE)","v":{"$error":"#VALUE!"}},{"$f":"T423-HLOOKUP(X423,Feuil2!$C$1:$CD$9,5,FALSE)","v":{"$error":"#VALUE!"}},{"$f":"T423-HLOOKUP(X423,Feuil2!$C$1:$CD$9,6,FALSE)","v":{"$error":"#VALUE!"}},{"$f":"T423-HLOOKUP(X423,Feuil2!$C$1:$CD$9,7,FALSE)","v":{"$error":"#VALUE!"}},{"$f":"T423-HLOOKUP(X423,Feuil2!$C$1:$CD$9,8,FALSE)","v":{"$error":"#VALUE!"}},{"$f":"T423-HLOOKUP(X423,Feuil2!$C$1:$CD$9,9,FALSE)","v":{"$error":"#VALUE!"}},null,null,null,null,null,null,null,{"$error":"#VALUE!"},114,null,{"$f":"IF(AP423,VLOOKUP(AP423,HOM!$AR$551:$AS$606,2))","v":3.5710000000000002}]
["H",null,null,null,null,false,null,null,null,null,null,null,null,null,"",null,null,null,"","","","","",{"$f":"IF(AND(J424>=40,J424<45),VLOOKUP(K424,Feuil2!$F$10:$P$28,9),IF(AND(J424>=45,J424<50),VLOOKUP(K424,Feuil2!$F$10:$P$28,8),IF(AND(J424>=50,J424<55),VLOOKUP(K424,Feuil2!$F$10:$P$28,7),IF(AND(J424>=55,J424<60),VLOOKUP(K424,Feuil2!$F$10:$P$28,6),IF(AND(J424>=60,J424<65),VLOOKUP(K424,Feuil2!$F$10:$P$28,5),IF(AND(J424>=65,J424<70),VLOOKUP(K424,Feuil2!$F$10:$P$28,4),IF(AND(J424>=70,J424<75),VLOOKUP(K424,Feuil2!$F$10:$P$28,3),IF(AND(J424>=75,J424<80),VLOOKUP(K424,Feuil2!$F$10:$P$28,2),VLOOKUP(K424,Feuil2!$F$10:$P$28,2)))))))))","v":{"$error":"#N/A"}},null,{"$f":"T424-HLOOKUP(X424,Feuil2!$C$1:$CD$9,2,FALSE)","v":{"$error":"#VALUE!"}},{"$f":"T424-HLOOKUP(X424,Feuil2!$C$1:$CD$9,3,FALSE)","v":{"$error":"#VALUE!"}},{"$f":"T424-HLOOKUP(X424,Feuil2!$C$1:$CD$9,4,FALSE)","v":{"$error":"#VALUE!"}},{"$f":"T424-HLOOKUP(X424,Feuil2!$C$1:$CD$9,5,FALSE)","v":{"$error":"#VALUE!"}},{"$f":"T424-HLOOKUP(X424,Feuil2!$C$1:$CD$9,6,FALSE)","v":{"$error":"#VALUE!"}},{"$f":"T424-HLOOKUP(X424,Feuil2!$C$1:$CD$9,7,FALSE)","v":{"$error":"#VALUE!"}},{"$f":"T424-HLOOKUP(X424,Feuil2!$C$1:$CD$9,8,FALSE)","v":{"$error":"#VALUE!"}},{"$f":"T424-HLOOKUP(X424,Feuil2!$C$1:$CD$9,9,FALSE)","v":{"$error":"#VALUE!"}},null,null,null,null,null,null,null,{"$error":"#VALUE!"},114,null,{"$f":"IF(AP424,VLOOKUP(AP424,HOM!$AR$551:$AS$606,2))","v":3.5710000000000002}]
["H",null,null,null,null,false,null,null,null,null,null,null,null,null,"",null,null,null,"","","","","",{"$f":"IF(AND(J425>=40,J425<45),VLOOKUP(K425,Feuil2!$F$10:$P$28,9),IF(AND(J425>=45,J425<50),VLOOKUP(K425,Feuil2!$F$10:$P$28,8),IF(AND(J425>=50,J425<55),VLOOKUP(K425,Feuil2!$F$10:$P$28,7),IF(AND(J425>=55,J425<60),VLOOKUP(K425,Feuil2!$F$10:$P$28,6),IF(AND(J425>=60,J425<65),VLOOKUP(K425,Feuil2!$F$10:$P$28,5),IF(AND(J425>=65,J425<70),VLOOKUP(K425,Feuil2!$F$10:$P$28,4),IF(AND(J425>=70,J425<75),VLOOKUP(K425,Feuil2!$F$10:$P$28,3),IF(AND(J425>=75,J425<80),VLOOKUP(K425,Feuil2!$F$10:$P$28,2),VLOOKUP(K425,Feuil2!$F$10:$P$28,2)))))))))","v":{"$error":"#N/A"}},null,{"$f":"T425-HLOOKUP(X425,Feuil2!$C$1:$CD$9,2,FALSE)","v":{"$error":"#VALUE!"}},{"$f":"T425-HLOOKUP(X425,Feuil2!$C$1:$CD$9,3,FALSE)","v":{"$error":"#VALUE!"}},{"$f":"T425-HLOOKUP(X425,Feuil2!$C$1:$CD$9,4,FALSE)","v":{"$error":"#VALUE!"}},{"$f":"T425-HLOOKUP(X425,Feuil2!$C$1:$CD$9,5,FALSE)","v":{"$error":"#VALUE!"}},{"$f":"T425-HLOOKUP(X425,Feuil2!$C$1:$CD$9,6,FALSE)","v":{"$error":"#VALUE!"}},{"$f":"T425-HLOOKUP(X425,Feuil2!$C$1:$CD$9,7,FALSE)","v":{"$error":"#VALUE!"}},{"$f":"T425-HLOOKUP(X425,Feuil2!$C$1:$CD$9,8,FALSE)","v":{"$error":"#VALUE!"}},{"$f":"T425-HLOOKUP(X425,Feuil2!$C$1:$CD$9,9,FALSE)","v":{"$error":"#VALUE!"}},null,null,null,null,null,null,null,{"$error":"#VALUE!"},114,null,{"$f":"IF(AP425,VLOOKUP(AP425,HOM!$AR$551:$AS$606,2))","v":3.5710000000000002}]
["H",null,null,null,null,false,null,null,null,null,null,null,null,null,"",null,null,null,"","","","","",{"$f":"IF(AND(J426>=40,J426<45),VLOOKUP(K426,Feuil2!$F$10:$P$28,9),IF(AND(J426>=45,J426<50),VLOOKUP(K426,Feuil2!$F$10:$P$28,8),IF(AND(J426>=50,J426<55),VLOOKUP(K426,Feuil2!$F$10:$P$28,7),IF(AND(J426>=55,J426<60),VLOOKUP(K426,Feuil2!$F$10:$P$28,6),IF(AND(J426>=60,J426<65),VLOOKUP(K426,Feuil2!$F$10:$P$28,5),IF(AND(J426>=65,J426<70),VLOOKUP(K426,Feuil2!$F$10:$P$28,4),IF(AND(J426>=70,J426<75),VLOOKUP(K426,Feuil2!$F$10:$P$28,3),IF(AND(J426>=75,J426<80),VLOOKUP(K426,Feuil2!$F$10:$P$28,2),VLOOKUP(K426,Feuil2!$F$10:$P$28,2)))))))))","v":{"$error":"#N/A"}},null,{"$f":"T426-HLOOKUP(X426,Feuil2!$C$1:$CD$9,2,FALSE)","v":{"$error":"#VALUE!"}},{"$f":"T426-HLOOKUP(X426,Feuil2!$C$1:$CD$9,3,FALSE)","v":{"$error":"#VALUE!"}},{"$f":"T426-HLOOKUP(X426,Feuil2!$C$1:$CD$9,4,FALSE)","v":{"$error":"#VALUE!"}},{"$f":"T426-HLOOKUP(X426,Feuil2!$C$1:$CD$9,5,FALSE)","v":{"$error":"#VALUE!"}},{"$f":"T426-HLOOKUP(X426,Feuil2!$C$1:$CD$9,6,FALSE)","v":{"$error":"#VALUE!"}},{"$f":"T426-HLOOKUP(X426,Feuil2!$C$1:$CD$9,7,FALSE)","v":{"$error":"#VALUE!"}},{"$f":"T426-HLOOKUP(X426,Feuil2!$C$1:$CD$9,8,FALSE)","v":{"$error":"#VALUE!"}},{"$f":"T426-HLOOKUP(X426,Feuil2!$C$1:$CD$9,9,FALSE)","v":{"$error":"#VALUE!"}},null,null,null,null,null,null,null,{"$error":"#VALUE!"},114,null,{"$f":"IF(AP426,VLOOKUP(AP426,HOM!$AR$551:$AS$606,2))","v":3.5710000000000002}]
["H",null,null,null,null,false,null,null,null,null,null,null,null,null,"",null,null,null,"","","","","",{"$f":"IF(AND(J427>=40,J427<45),VLOOKUP(K427,Feuil2!$F$10:$P$28,9),IF(AND(J427>=45,J427<50),VLOOKUP(K427,Feuil2!$F$10:$P$28,8),IF(AND(J427>=50,J427<55),VLOOKUP(K427,Feuil2!$F$10:$P$28,7),IF(AND(J427>=55,J427<60),VLOOKUP(K427,Feuil2!$F$10:$P$28,6),IF(AND(J427>=60,J427<65),VLOOKUP(K427,Feuil2!$F$10:$P$28,5),IF(AND(J427>=65,J427<70),VLOOKUP(K427,Feuil2!$F$10:$P$28,4),IF(AND(J427>=70,J427<75),VLOOKUP(K427,Feuil2!$F$10:$P$28,3),IF(AND(J427>=75,J427<80),VLOOKUP(K427,Feuil2!$F$10:$P$28,2),VLOOKUP(K427,Feuil2!$F$10:$P$28,2)))))))))","v":{"$error":"#N/A"}},null,{"$f":"T427-HLOOKUP(X427,Feuil2!$C$1:$CD$9,2,FALSE)","v":{"$error":"#VALUE!"}},{"$f":"T427-HLOOKUP(X427,Feuil2!$C$1:$CD$9,3,FALSE)","v":{"$error":"#VALUE!"}},{"$f":"T427-HLOOKUP(X427,Feuil2!$C$1:$CD$9,4,FALSE)","v":{"$error":"#VALUE!"}},{"$f":"T427-HLOOKUP(X427,Feuil2!$C$1:$CD$9,5,FALSE)","v":{"$error":"#VALUE!"}},{"$f":"T427-HLOOKUP(X427,Feuil2!$C$1:$CD$9,6,FALSE)","v":{"$error":"#VALUE!"}},{"$f":"T427-HLOOKUP(X427,Feuil2!$C$1:$CD$9,7,FALSE)","v":{"$error":"#VALUE!"}},{"$f":"T427-HLOOKUP(X427,Feuil2!$C$1:$CD$9,8,FALSE)","v":{"$error":"#VALUE!"}},{"$f":"T427-HLOOKUP(X427,Feuil2!$C$1:$CD$9,9,FALSE)","v":{"$error":"#VALUE!"}},null,null,null,null,null,null,null,{"$error":"#VALUE!"},114,null,{"$f":"IF(AP427,VLOOKUP(AP427,HOM!$AR$551:$AS$606,2))","v":3.5710000000000002}]
["H",null,null,null,null,false,null,null,null,null,null,null,null,null,"",null,null,null,"","","","","",{"$f":"IF(AND(J428>=40,J428<45),VLOOKUP(K428,Feuil2!$F$10:$P$28,9),IF(AND(J428>=45,J428<50),VLOOKUP(K428,Feuil2!$F$10:$P$28,8),IF(AND(J428>=50,J428<55),VLOOKUP(K428,Feuil2!$F$10:$P$28,7),IF(AND(J428>=55,J428<60),VLOOKUP(K428,Feuil2!$F$10:$P$28,6),IF(AND(J428>=60,J428<65),VLOOKUP(K428,Feuil2!$F$10:$P$28,5),IF(AND(J428>=65,J428<70),VLOOKUP(K428,Feuil2!$F$10:$P$28,4),IF(AND(J428>=70,J428<75),VLOOKUP(K428,Feuil2!$F$10:$P$28,3),IF(AND(J428>=75,J428<80),VLOOKUP(K428,Feuil2!$F$10:$P$28,2),VLOOKUP(K428,Feuil2!$F$10:$P$28,2)))))))))","v":{"$error":"#N/A"}},null,{"$f":"T428-HLOOKUP(X428,Feuil2!$C$1:$CD$9,2,FALSE)","v":{"$error":"#VALUE!"}},{"$f":"T428-HLOOKUP(X428,Feuil2!$C$1:$CD$9,3,FALSE)","v":{"$error":"#VALUE!"}},{"$f":"T428-HLOOKUP(X428,Feuil2!$C$1:$CD$9,4,FALSE)","v":{"$error":"#VALUE!"}},{"$f":"T428-HLOOKUP(X428,Feuil2!$C$1:$CD$9,5,FALSE)","v":{"$error":"#VALUE!"}},{"$f":"T428-HLOOKUP(X428,Feuil2!$C$1:$CD$9,6,FALSE)","v":{"$error":"#VALUE!"}},{"$f":"T428-HLOOKUP(X428,Feuil2!$C$1:$CD$9,7,FALSE)","v":{"$error":"#VALUE!"}},{"$f":"T428-HLOOKUP(X428,Feuil2!$C$1:$CD$9,8,FALSE)","v":{"$error":"#VALUE!"}},{"$f":"T428-HLOOKUP(X428,Feuil2!$C$1:$CD$9,9,FALSE)","v":{"$error":"#VALUE!"}},null,null,null,null,null,null,null,{"$error":"#VALUE!"},114,null,{"$f":"IF(AP428,VLOOKUP(AP428,HOM!$AR$551:$AS$606,2))","v":3.5710000000000002}]
["H",null,null,null,null,false,null,null,null,null,null,null,null,null,"",null,null,null,"","","","","",{"$f":"IF(AND(J429>=40,J429<45),VLOOKUP(K429,Feuil2!$F$10:$P$28,9),IF(AND(J429>=45,J429<50),VLOOKUP(K429,Feuil2!$F$10:$P$28,8),IF(AND(J429>=50,J429<55),VLOOKUP(K429,Feuil2!$F$10:$P$28,7),IF(AND(J429>=55,J429<60),VLOOKUP(K429,Feuil2!$F$10:$P$28,6),IF(AND(J429>=60,J429<65),VLOOKUP(K429,Feuil2!$F$10:$P$28,5),IF(AND(J429>=65,J429<70),VLOOKUP(K429,Feuil2!$F$10:$P$28,4),IF(AND(J429>=70,J429<75),VLOOKUP(K429,Feuil2!$F$10:$P$28,3),IF(AND(J429>=75,J429<80),VLOOKUP(K429,Feuil2!$F$10:$P$28,2),VLOOKUP(K429,Feuil2!$F$10:$P$28,2)))))))))","v":{"$error":"#N/A"}},null,{"$f":"T429-HLOOKUP(X429,Feuil2!$C$1:$CD$9,2,FALSE)","v":{"$error":"#VALUE!"}},{"$f":"T429-HLOOKUP(X429,Feuil2!$C$1:$CD$9,3,FALSE)","v":{"$error":"#VALUE!"}},{"$f":"T429-HLOOKUP(X429,Feuil2!$C$1:$CD$9,4,FALSE)","v":{"$error":"#VALUE!"}},{"$f":"T429-HLOOKUP(X429,Feuil2!$C$1:$CD$9,5,FALSE)","v":{"$error":"#VALUE!"}},{"$f":"T429-HLOOKUP(X429,Feuil2!$C$1:$CD$9,6,FALSE)","v":{"$error":"#VALUE!"}},{"$f":"T429-HLOOKUP(X429,Feuil2!$C$1:$CD$9,7,FALSE)","v":{"$error":"#VALUE!"}},{"$f":"T429-HLOOKUP(X429,Feuil2!$C$1:$CD$9,8,FALSE)","v":{"$error":"#VALUE!"}},{"$f":"T429-HLOOKUP(X429,Feuil2!$C$1:$CD$9,9,FALSE)","v":{"$error":"#VALUE!"}},null,null,null,null,null,null,null,{"$error":"#VALUE!"},114,null,{"$f":"IF(AP429,VLOOKUP(AP429,HOM!$AR$551:$AS$606,2))","v":3.5710000000000002}]
["H",null,null,null,null,false,null,null,null,null,null,null,null,null,"",null,null,null,"","","","","",{"$f":"IF(AND(J430>=40,J430<45),VLOOKUP(K430,Feuil2!$F$10:$P$28,9),IF(AND(J430>=45,J430<50),VLOOKUP(K430,Feuil2!$F$10:$P$28,8),IF(AND(J430>=50,J430<55),VLOOKUP(K430,Feuil2!$F$10:$P$28,7),IF(AND(J430>=55,J430<60),VLOOKUP(K430,Feuil2!$F$10:$P$28,6),IF(AND(J430>=60,J430<65),VLOOKUP(K430,Feuil2!$F$10:$P$28,5),IF(AND(J430>=65,J430<70),VLOOKUP(K430,Feuil2!$F$10:$P$28,4),IF(AND(J430>=70,J430<75),VLOOKUP(K430,Feuil2!$F$10:$P$28,3),IF(AND(J430>=75,J430<80),VLOOKUP(K430,Feuil2!$F$10:$P$28,2),VLOOKUP(K430,Feuil2!$F$10:$P$28,2)))))))))","v":{"$error":"#N/A"}},null,{"$f":"T430-HLOOKUP(X430,Feuil2!$C$1:$CD$9,2,FALSE)","v":{"$error":"#VALUE!"}},{"$f":"T430-HLOOKUP(X430,Feuil2!$C$1:$CD$9,3,FALSE)","v":{"$error":"#VALUE!"}},{"$f":"T430-HLOOKUP(X430,Feuil2!$C$1:$CD$9,4,FALSE)","v":{"$error":"#VALUE!"}},{"$f":"T430-HLOOKUP(X430,Feuil2!$C$1:$CD$9,5,FALSE)","v":{"$error":"#VALUE!"}},{"$f":"T430-HLOOKUP(X430,Feuil2!$C$1:$CD$9,6,FALSE)","v":{"$error":"#VALUE!"}},{"$f":"T430-HLOOKUP(X430,Feuil2!$C$1:$CD$9,7,FALSE)","v":{"$error":"#VALUE!"}},{"$f":"T430-HLOOKUP(X430,Feuil2!$C$1:$CD$9,8,FALSE)","v":{"$error":"#VALUE!"}},{"$f":"T430-HLOOKUP(X430,Feuil2!$C$1:$CD$9,9,FALSE)","v":{"$error":"#VALUE!"}},null,null,null,null,null,null,null,{"$error":"#VALUE!"},114,null,{"$f":"IF(AP430,VLOOKUP(AP430,HOM!$AR$551:$AS$606,2))","v":3.5710000000000002}]
["H",null,null,null,null,false,null,null,null,null,null,null,null,null,"",null,null,null,"","","","","",{"$f":"IF(AND(J431>=40,J431<45),VLOOKUP(K431,Feuil2!$F$10:$P$28,9),IF(AND(J431>=45,J431<50),VLOOKUP(K431,Feuil2!$F$10:$P$28,8),IF(AND(J431>=50,J431<55),VLOOKUP(K431,Feuil2!$F$10:$P$28,7),IF(AND(J431>=55,J431<60),VLOOKUP(K431,Feuil2!$F$10:$P$28,6),IF(AND(J431>=60,J431<65),VLOOKUP(K431,Feuil2!$F$10:$P$28,5),IF(AND(J431>=65,J431<70),VLOOKUP(K431,Feuil2!$F$10:$P$28,4),IF(AND(J431>=70,J431<75),VLOOKUP(K431,Feuil2!$F$10:$P$28,3),IF(AND(J431>=75,J431<80),VLOOKUP(K431,Feuil2!$F$10:$P$28,2),VLOOKUP(K431,Feuil2!$F$10:$P$28,2)))))))))","v":{"$error":"#N/A"}},null,{"$f":"T431-HLOOKUP(X431,Feuil2!$C$1:$CD$9,2,FALSE)","v":{"$error":"#VALUE!"}},{"$f":"T431-HLOOKUP(X431,Feuil2!$C$1:$CD$9,3,FALSE)","v":{"$error":"#VALUE!"}},{"$f":"T431-HLOOKUP(X431,Feuil2!$C$1:$CD$9,4,FALSE)","v":{"$error":"#VALUE!"}},{"$f":"T431-HLOOKUP(X431,Feuil2!$C$1:$CD$9,5,FALSE)","v":{"$error":"#VALUE!"}},{"$f":"T431-HLOOKUP(X431,Feuil2!$C$1:$CD$9,6,FALSE)","v":{"$error":"#VALUE!"}},{"$f":"T431-HLOOKUP(X431,Feuil2!$C$1:$CD$9,7,FALSE)","v":{"$error":"#VALUE!"}},{"$f":"T431-HLOOKUP(X431,Feuil2!$C$1:$CD$9,8,FALSE)","v":{"$error":"#VALUE!"}},{"$f":"T431-HLOOKUP(X431,Feuil2!$C$1:$CD$9,9,FALSE)","v":{"$error":"#VALUE!"}},null,null,null,null,null,null,null,{"$error":"#VALUE!"},114,null,{"$f":"IF(AP431,VLOOKUP(AP431,HOM!$AR$551:$AS$606,2))","v":3.5710000000000002}]
["H",null,null,null,null,false,null,null,null,null,null,null,null,null,"",null,null,null,"","","","","",{"$f":"IF(AND(J432>=40,J432<45),VLOOKUP(K432,Feuil2!$F$10:$P$28,9),IF(AND(J432>=45,J432<50),VLOOKUP(K432,Feuil2!$F$10:$P$28,8),IF(AND(J432>=50,J432<55),VLOOKUP(K432,Feuil2!$F$10:$P$28,7),IF(AND(J432>=55,J432<60),VLOOKUP(K432,Feuil2!$F$10:$P$28,6),IF(AND(J432>=60,J432<65),VLOOKUP(K432,Feuil2!$F$10:$P$28,5),IF(AND(J432>=65,J432<70),VLOOKUP(K432,Feuil2!$F$10:$P$28,4),IF(AND(J432>=70,J432<75),VLOOKUP(K432,Feuil2!$F$10:$P$28,3),IF(AND(J432>=75,J432<80),VLOOKUP(K432,Feuil2!$F$10:$P$28,2),VLOOKUP(K432,Feuil2!$F$10:$P$28,2)))))))))","v":{"$error":"#N/A"}},null,{"$f":"T432-HLOOKUP(X432,Feuil2!$C$1:$CD$9,2,FALSE)","v":{"$error":"#VALUE!"}},{"$f":"T432-HLOOKUP(X432,Feuil2!$C$1:$CD$9,3,FALSE)","v":{"$error":"#VALUE!"}},{"$f":"T432-HLOOKUP(X432,Feuil2!$C$1:$CD$9,4,FALSE)","v":{"$error":"#VALUE!"}},{"$f":"T432-HLOOKUP(X432,Feuil2!$C$1:$CD$9,5,FALSE)","v":{"$error":"#VALUE!"}},{"$f":"T432-HLOOKUP(X432,Feuil2!$C$1:$CD$9,6,FALSE)","v":{"$error":"#VALUE!"}},{"$f":"T432-HLOOKUP(X432,Feuil2!$C$1:$CD$9,7,FALSE)","v":{"$error":"#VALUE!"}},{"$f":"T432-HLOOKUP(X432,Feuil2!$C$1:$CD$9,8,FALSE)","v":{"$error":"#VALUE!"}},{"$f":"T432-HLOOKUP(X432,Feuil2!$C$1:$CD$9,9,FALSE)","v":{"$error":"#VALUE!"}},null,null,null,null,null,null,null,{"$error":"#VALUE!"},114,null,{"$f":"IF(AP432,VLOOKUP(AP432,HOM!$AR$551:$AS$606,2))","v":3.5710000000000002}]
["H",null,null,null,null,false,null,null,null,null,null,null,null,null,"",null,null,null,"","","","","",{"$f":"IF(AND(J433>=40,J433<45),VLOOKUP(K433,Feuil2!$F$10:$P$28,9),IF(AND(J433>=45,J433<50),VLOOKUP(K433,Feuil2!$F$10:$P$28,8),IF(AND(J433>=50,J433<55),VLOOKUP(K433,Feuil2!$F$10:$P$28,7),IF(AND(J433>=55,J433<60),VLOOKUP(K433,Feuil2!$F$10:$P$28,6),IF(AND(J433>=60,J433<65),VLOOKUP(K433,Feuil2!$F$10:$P$28,5),IF(AND(J433>=65,J433<70),VLOOKUP(K433,Feuil2!$F$10:$P$28,4),IF(AND(J433>=70,J433<75),VLOOKUP(K433,Feuil2!$F$10:$P$28,3),IF(AND(J433>=75,J433<80),VLOOKUP(K433,Feuil2!$F$10:$P$28,2),VLOOKUP(K433,Feuil2!$F$10:$P$28,2)))))))))","v":{"$error":"#N/A"}},null,{"$f":"T433-HLOOKUP(X433,Feuil2!$C$1:$CD$9,2,FALSE)","v":{"$error":"#VALUE!"}},{"$f":"T433-HLOOKUP(X433,Feuil2!$C$1:$CD$9,3,FALSE)","v":{"$error":"#VALUE!"}},{"$f":"T433-HLOOKUP(X433,Feuil2!$C$1:$CD$9,4,FALSE)","v":{"$error":"#VALUE!"}},{"$f":"T433-HLOOKUP(X433,Feuil2!$C$1:$CD$9,5,FALSE)","v":{"$error":"#VALUE!"}},{"$f":"T433-HLOOKUP(X433,Feuil2!$C$1:$CD$9,6,FALSE)","v":{"$error":"#VALUE!"}},{"$f":"T433-HLOOKUP(X433,Feuil2!$C$1:$CD$9,7,FALSE)","v":{"$error":"#VALUE!"}},{"$f":"T433-HLOOKUP(X433,Feuil2!$C$1:$CD$9,8,FALSE)","v":{"$error":"#VALUE!"}},{"$f":"T433-HLOOKUP(X433,Feuil2!$C$1:$CD$9,9,FALSE)","v":{"$error":"#VALUE!"}},null,null,null,null,null,null,null,{"$error":"#VALUE!"},114,null,{"$f":"IF(AP433,VLOOKUP(AP433,HOM!$AR$551:$AS$606,2))","v":3.5710000000000002}]
["H",null,null,null,null,false,null,null,null,null,null,null,null,null,"",null,null,null,"","","","","",{"$f":"IF(AND(J434>=40,J434<45),VLOOKUP(K434,Feuil2!$F$10:$P$28,9),IF(AND(J434>=45,J434<50),VLOOKUP(K434,Feuil2!$F$10:$P$28,8),IF(AND(J434>=50,J434<55),VLOOKUP(K434,Feuil2!$F$10:$P$28,7),IF(AND(J434>=55,J434<60),VLOOKUP(K434,Feuil2!$F$10:$P$28,6),IF(AND(J434>=60,J434<65),VLOOKUP(K434,Feuil2!$F$10:$P$28,5),IF(AND(J434>=65,J434<70),VLOOKUP(K434,Feuil2!$F$10:$P$28,4),IF(AND(J434>=70,J434<75),VLOOKUP(K434,Feuil2!$F$10:$P$28,3),IF(AND(J434>=75,J434<80),VLOOKUP(K434,Feuil2!$F$10:$P$28,2),VLOOKUP(K434,Feuil2!$F$10:$P$28,2)))))))))","v":{"$error":"#N/A"}},null,{"$f":"T434-HLOOKUP(X434,Feuil2!$C$1:$CD$9,2,FALSE)","v":{"$error":"#VALUE!"}},{"$f":"T434-HLOOKUP(X434,Feuil2!$C$1:$CD$9,3,FALSE)","v":{"$error":"#VALUE!"}},{"$f":"T434-HLOOKUP(X434,Feuil2!$C$1:$CD$9,4,FALSE)","v":{"$error":"#VALUE!"}},{"$f":"T434-HLOOKUP(X434,Feuil2!$C$1:$CD$9,5,FALSE)","v":{"$error":"#VALUE!"}},{"$f":"T434-HLOOKUP(X434,Feuil2!$C$1:$CD$9,6,FALSE)","v":{"$error":"#VALUE!"}},{"$f":"T434-HLOOKUP(X434,Feuil2!$C$1:$CD$9,7,FALSE)","v":{"$error":"#VALUE!"}},{"$f":"T434-HLOOKUP(X434,Feuil2!$C$1:$CD$9,8,FALSE)","v":{"$error":"#VALUE!"}},{"$f":"T434-HLOOKUP(X434,Feuil2!$C$1:$CD$9,9,FALSE)","v":{"$error":"#VALUE!"}},null,null,null,null,null,null,null,{"$error":"#VALUE!"},114,null,{"$f":"IF(AP434,VLOOKUP(AP434,HOM!$AR$551:$AS$606,2))","v":3.5710000000000002}]
["H",null,null,null,null,false,null,null,null,null,null,null,null,null,"",null,null,null,"","","","","",{"$f":"IF(AND(J435>=40,J435<45),VLOOKUP(K435,Feuil2!$F$10:$P$28,9),IF(AND(J435>=45,J435<50),VLOOKUP(K435,Feuil2!$F$10:$P$28,8),IF(AND(J435>=50,J435<55),VLOOKUP(K435,Feuil2!$F$10:$P$28,7),IF(AND(J435>=55,J435<60),VLOOKUP(K435,Feuil2!$F$10:$P$28,6),IF(AND(J435>=60,J435<65),VLOOKUP(K435,Feuil2!$F$10:$P$28,5),IF(AND(J435>=65,J435<70),VLOOKUP(K435,Feuil2!$F$10:$P$28,4),IF(AND(J435>=70,J435<75),VLOOKUP(K435,Feuil2!$F$10:$P$28,3),IF(AND(J435>=75,J435<80),VLOOKUP(K435,Feuil2!$F$10:$P$28,2),VLOOKUP(K435,Feuil2!$F$10:$P$28,2)))))))))","v":{"$error":"#N/A"}},null,{"$f":"T435-HLOOKUP(X435,Feuil2!$C$1:$CD$9,2,FALSE)","v":{"$error":"#VALUE!"}},{"$f":"T435-HLOOKUP(X435,Feuil2!$C$1:$CD$9,3,FALSE)","v":{"$error":"#VALUE!"}},{"$f":"T435-HLOOKUP(X435,Feuil2!$C$1:$CD$9,4,FALSE)","v":{"$error":"#VALUE!"}},{"$f":"T435-HLOOKUP(X435,Feuil2!$C$1:$CD$9,5,FALSE)","v":{"$error":"#VALUE!"}},{"$f":"T435-HLOOKUP(X435,Feuil2!$C$1:$CD$9,6,FALSE)","v":{"$error":"#VALUE!"}},{"$f":"T435-HLOOKUP(X435,Feuil2!$C$1:$CD$9,7,FALSE)","v":{"$error":"#VALUE!"}},{"$f":"T435-HLOOKUP(X435,Feuil2!$C$1:$CD$9,8,FALSE)","v":{"$error":"#VALUE!"}},{"$f":"T435-HLOOKUP(X435,Feuil2!$C$1:$CD$9,9,FALSE)","v":{"$error":"#VALUE!"}},null,null,null,null,null,null,null,{"$error":"#VALUE!"},114,null,{"$f":"IF(AP435,VLOOKUP(AP435,HOM!$AR$551:$AS$606,2))","v":3.5710000000000002}]
["H",null,null,null,null,false,null,null,null,null,null,null,null,null,"",null,null,null,"","","","","",{"$f":"IF(AND(J436>=40,J436<45),VLOOKUP(K436,Feuil2!$F$10:$P$28,9),IF(AND(J436>=45,J436<50),VLOOKUP(K436,Feuil2!$F$10:$P$28,8),IF(AND(J436>=50,J436<55),VLOOKUP(K436,Feuil2!$F$10:$P$28,7),IF(AND(J436>=55,J436<60),VLOOKUP(K436,Feuil2!$F$10:$P$28,6),IF(AND(J436>=60,J436<65),VLOOKUP(K436,Feuil2!$F$10:$P$28,5),IF(AND(J436>=65,J436<70),VLOOKUP(K436,Feuil2!$F$10:$P$28,4),IF(AND(J436>=70,J436<75),VLOOKUP(K436,Feuil2!$F$10:$P$28,3),IF(AND(J436>=75,J436<80),VLOOKUP(K436,Feuil2!$F$10:$P$28,2),VLOOKUP(K436,Feuil2!$F$10:$P$28,2)))))))))","v":{"$error":"#N/A"}},null,{"$f":"T436-HLOOKUP(X436,Feuil2!$C$1:$CD$9,2,FALSE)","v":{"$error":"#VALUE!"}},{"$f":"T436-HLOOKUP(X436,Feuil2!$C$1:$CD$9,3,FALSE)","v":{"$error":"#VALUE!"}},{"$f":"T436-HLOOKUP(X436,Feuil2!$C$1:$CD$9,4,FALSE)","v":{"$error":"#VALUE!"}},{"$f":"T436-HLOOKUP(X436,Feuil2!$C$1:$CD$9,5,FALSE)","v":{"$error":"#VALUE!"}},{"$f":"T436-HLOOKUP(X436,Feuil2!$C$1:$CD$9,6,FALSE)","v":{"$error":"#VALUE!"}},{"$f":"T436-HLOOKUP(X436,Feuil2!$C$1:$CD$9,7,FALSE)","v":{"$error":"#VALUE!"}},{"$f":"T436-HLOOKUP(X436,Feuil2!$C$1:$CD$9,8,FALSE)","v":{"$error":"#VALUE!"}},{"$f":"T436-HLOOKUP(X436,Feuil2!$C$1:$CD$9,9,FALSE)","v":{"$error":"#VALUE!"}},null,null,null,null,null,null,null,{"$error":"#VALUE!"},114,null,{"$f":"IF(AP436,VLOOKUP(AP436,HOM!$AR$551:$AS$606,2))","v":3.5710000000000002}]
["H",null,null,null,null,false,null,null,null,null,null,null,null,null,"",null,null,null,"","","","","",{"$f":"IF(AND(J437>=40,J437<45),VLOOKUP(K437,Feuil2!$F$10:$P$28,9),IF(AND(J437>=45,J437<50),VLOOKUP(K437,Feuil2!$F$10:$P$28,8),IF(AND(J437>=50,J437<55),VLOOKUP(K437,Feuil2!$F$10:$P$28,7),IF(AND(J437>=55,J437<60),VLOOKUP(K437,Feuil2!$F$10:$P$28,6),IF(AND(J437>=60,J437<65),VLOOKUP(K437,Feuil2!$F$10:$P$28,5),IF(AND(J437>=65,J437<70),VLOOKUP(K437,Feuil2!$F$10:$P$28,4),IF(AND(J437>=70,J437<75),VLOOKUP(K437,Feuil2!$F$10:$P$28,3),IF(AND(J437>=75,J437<80),VLOOKUP(K437,Feuil2!$F$10:$P$28,2),VLOOKUP(K437,Feuil2!$F$10:$P$28,2)))))))))","v":{"$error":"#N/A"}},null,{"$f":"T437-HLOOKUP(X437,Feuil2!$C$1:$CD$9,2,FALSE)","v":{"$error":"#VALUE!"}},{"$f":"T437-HLOOKUP(X437,Feuil2!$C$1:$CD$9,3,FALSE)","v":{"$error":"#VALUE!"}},{"$f":"T437-HLOOKUP(X437,Feuil2!$C$1:$CD$9,4,FALSE)","v":{"$error":"#VALUE!"}},{"$f":"T437-HLOOKUP(X437,Feuil2!$C$1:$CD$9,5,FALSE)","v":{"$error":"#VALUE!"}},{"$f":"T437-HLOOKUP(X437,Feuil2!$C$1:$CD$9,6,FALSE)","v":{"$error":"#VALUE!"}},{"$f":"T437-HLOOKUP(X437,Feuil2!$C$1:$CD$9,7,FALSE)","v":{"$error":"#VALUE!"}},{"$f":"T437-HLOOKUP(X437,Feuil2!$C$1:$CD$9,8,FALSE)","v":{"$error":"#VALUE!"}},{"$f":"T437-HLOOKUP(X437,Feuil2!$C$1:$CD$9,9,FALSE)","v":{"$error":"#VALUE!"}},null,null,null,null,null,null,null,{"$error":"#VALUE!"},114,null,{"$f":"IF(AP437,VLOOKUP(AP437,HOM!$AR$551:$AS$606,2))","v":3.5710000000000002}]
["H",null,null,null,null,false,null,null,null,null,null,null,null,null,"",null,null,null,"","","","","",{"$f":"IF(AND(J438>=40,J438<45),VLOOKUP(K438,Feuil2!$F$10:$P$28,9),IF(AND(J438>=45,J438<50),VLOOKUP(K438,Feuil2!$F$10:$P$28,8),IF(AND(J438>=50,J438<55),VLOOKUP(K438,Feuil2!$F$10:$P$28,7),IF(AND(J438>=55,J438<60),VLOOKUP(K438,Feuil2!$F$10:$P$28,6),IF(AND(J438>=60,J438<65),VLOOKUP(K438,Feuil2!$F$10:$P$28,5),IF(AND(J438>=65,J438<70),VLOOKUP(K438,Feuil2!$F$10:$P$28,4),IF(AND(J438>=70,J438<75),VLOOKUP(K438,Feuil2!$F$10:$P$28,3),IF(AND(J438>=75,J438<80),VLOOKUP(K438,Feuil2!$F$10:$P$28,2),VLOOKUP(K438,Feuil2!$F$10:$P$28,2)))))))))","v":{"$error":"#N/A"}},null,{"$f":"T438-HLOOKUP(X438,Feuil2!$C$1:$CD$9,2,FALSE)","v":{"$error":"#VALUE!"}},{"$f":"T438-HLOOKUP(X438,Feuil2!$C$1:$CD$9,3,FALSE)","v":{"$error":"#VALUE!"}},{"$f":"T438-HLOOKUP(X438,Feuil2!$C$1:$CD$9,4,FALSE)","v":{"$error":"#VALUE!"}},{"$f":"T438-HLOOKUP(X438,Feuil2!$C$1:$CD$9,5,FALSE)","v":{"$error":"#VALUE!"}},{"$f":"T438-HLOOKUP(X438,Feuil2!$C$1:$CD$9,6,FALSE)","v":{"$error":"#VALUE!"}},{"$f":"T438-HLOOKUP(X438,Feuil2!$C$1:$CD$9,7,FALSE)","v":{"$error":"#VALUE!"}},{"$f":"T438-HLOOKUP(X438,Feuil2!$C$1:$CD$9,8,FALSE)","v":{"$error":"#VALUE!"}},{"$f":"T438-HLOOKUP(X438,Feuil2!$C$1:$CD$9,9,FALSE)","v":{"$error":"#VALUE!"}},null,null,null,null,null,null,null,{"$error":"#VALUE!"},114,null,{"$f":"IF(AP438,VLOOKUP(AP438,HOM!$AR$551:$AS$606,2))","v":3.5710000000000002}]
["H",null,null,null,null,false,null,null,null,null,null,null,null,null,"",null,null,null,"","","","","",{"$f":"IF(AND(J439>=40,J439<45),VLOOKUP(K439,Feuil2!$F$10:$P$28,9),IF(AND(J439>=45,J439<50),VLOOKUP(K439,Feuil2!$F$10:$P$28,8),IF(AND(J439>=50,J439<55),VLOOKUP(K439,Feuil2!$F$10:$P$28,7),IF(AND(J439>=55,J439<60),VLOOKUP(K439,Feuil2!$F$10:$P$28,6),IF(AND(J439>=60,J439<65),VLOOKUP(K439,Feuil2!$F$10:$P$28,5),IF(AND(J439>=65,J439<70),VLOOKUP(K439,Feuil2!$F$10:$P$28,4),IF(AND(J439>=70,J439<75),VLOOKUP(K439,Feuil2!$F$10:$P$28,3),IF(AND(J439>=75,J439<80),VLOOKUP(K439,Feuil2!$F$10:$P$28,2),VLOOKUP(K439,Feuil2!$F$10:$P$28,2)))))))))","v":{"$error":"#N/A"}},null,{"$f":"T439-HLOOKUP(X439,Feuil2!$C$1:$CD$9,2,FALSE)","v":{"$error":"#VALUE!"}},{"$f":"T439-HLOOKUP(X439,Feuil2!$C$1:$CD$9,3,FALSE)","v":{"$error":"#VALUE!"}},{"$f":"T439-HLOOKUP(X439,Feuil2!$C$1:$CD$9,4,FALSE)","v":{"$error":"#VALUE!"}},{"$f":"T439-HLOOKUP(X439,Feuil2!$C$1:$CD$9,5,FALSE)","v":{"$error":"#VALUE!"}},{"$f":"T439-HLOOKUP(X439,Feuil2!$C$1:$CD$9,6,FALSE)","v":{"$error":"#VALUE!"}},{"$f":"T439-HLOOKUP(X439,Feuil2!$C$1:$CD$9,7,FALSE)","v":{"$error":"#VALUE!"}},{"$f":"T439-HLOOKUP(X439,Feuil2!$C$1:$CD$9,8,FALSE)","v":{"$error":"#VALUE!"}},{"$f":"T439-HLOOKUP(X439,Feuil2!$C$1:$CD$9,9,FALSE)","v":{"$error":"#VALUE!"}},null,null,null,null,null,null,null,{"$error":"#VALUE!"},114,null,{"$f":"IF(AP439,VLOOKUP(AP439,HOM!$AR$551:$AS$606,2))","v":3.5710000000000002}]
["H",null,null,null,null,false,null,null,null,null,null,null,null,null,"",null,null,null,"","","","","",{"$f":"IF(AND(J440>=40,J440<45),VLOOKUP(K440,Feuil2!$F$10:$P$28,9),IF(AND(J440>=45,J440<50),VLOOKUP(K440,Feuil2!$F$10:$P$28,8),IF(AND(J440>=50,J440<55),VLOOKUP(K440,Feuil2!$F$10:$P$28,7),IF(AND(J440>=55,J440<60),VLOOKUP(K440,Feuil2!$F$10:$P$28,6),IF(AND(J440>=60,J440<65),VLOOKUP(K440,Feuil2!$F$10:$P$28,5),IF(AND(J440>=65,J440<70),VLOOKUP(K440,Feuil2!$F$10:$P$28,4),IF(AND(J440>=70,J440<75),VLOOKUP(K440,Feuil2!$F$10:$P$28,3),IF(AND(J440>=75,J440<80),VLOOKUP(K440,Feuil2!$F$10:$P$28,2),VLOOKUP(K440,Feuil2!$F$10:$P$28,2)))))))))","v":{"$error":"#N/A"}},null,{"$f":"T440-HLOOKUP(X440,Feuil2!$C$1:$CD$9,2,FALSE)","v":{"$error":"#VALUE!"}},{"$f":"T440-HLOOKUP(X440,Feuil2!$C$1:$CD$9,3,FALSE)","v":{"$error":"#VALUE!"}},{"$f":"T440-HLOOKUP(X440,Feuil2!$C$1:$CD$9,4,FALSE)","v":{"$error":"#VALUE!"}},{"$f":"T440-HLOOKUP(X440,Feuil2!$C$1:$CD$9,5,FALSE)","v":{"$error":"#VALUE!"}},{"$f":"T440-HLOOKUP(X440,Feuil2!$C$1:$CD$9,6,FALSE)","v":{"$error":"#VALUE!"}},{"$f":"T440-HLOOKUP(X440,Feuil2!$C$1:$CD$9,7,FALSE)","v":{"$error":"#VALUE!"}},{"$f":"T440-HLOOKUP(X440,Feuil2!$C$1:$CD$9,8,FALSE)","v":{"$error":"#VALUE!"}},{"$f":"T440-HLOOKUP(X440,Feuil2!$C$1:$CD$9,9,FALSE)","v":{"$error":"#VALUE!"}},null,null,null,null,null,null,null,{"$error":"#VALUE!"},114,null,{"$f":"IF(AP440,VLOOKUP(AP440,HOM!$AR$551:$AS$606,2))","v":3.5710000000000002}]
["H",null,null,null,null,false,null,null,null,null,null,null,null,null,"",null,null,null,"","","","","",{"$f":"IF(AND(J441>=40,J441<45),VLOOKUP(K441,Feuil2!$F$10:$P$28,9),IF(AND(J441>=45,J441<50),VLOOKUP(K441,Feuil2!$F$10:$P$28,8),IF(AND(J441>=50,J441<55),VLOOKUP(K441,Feuil2!$F$10:$P$28,7),IF(AND(J441>=55,J441<60),VLOOKUP(K441,Feuil2!$F$10:$P$28,6),IF(AND(J441>=60,J441<65),VLOOKUP(K441,Feuil2!$F$10:$P$28,5),IF(AND(J441>=65,J441<70),VLOOKUP(K441,Feuil2!$F$10:$P$28,4),IF(AND(J441>=70,J441<75),VLOOKUP(K441,Feuil2!$F$10:$P$28,3),IF(AND(J441>=75,J441<80),VLOOKUP(K441,Feuil2!$F$10:$P$28,2),VLOOKUP(K441,Feuil2!$F$10:$P$28,2)))))))))","v":{"$error":"#N/A"}},null,{"$f":"T441-HLOOKUP(X441,Feuil2!$C$1:$CD$9,2,FALSE)","v":{"$error":"#VALUE!"}},{"$f":"T441-HLOOKUP(X441,Feuil2!$C$1:$CD$9,3,FALSE)","v":{"$error":"#VALUE!"}},{"$f":"T441-HLOOKUP(X441,Feuil2!$C$1:$CD$9,4,FALSE)","v":{"$error":"#VALUE!"}},{"$f":"T441-HLOOKUP(X441,Feuil2!$C$1:$CD$9,5,FALSE)","v":{"$error":"#VALUE!"}},{"$f":"T441-HLOOKUP(X441,Feuil2!$C$1:$CD$9,6,FALSE)","v":{"$error":"#VALUE!"}},{"$f":"T441-HLOOKUP(X441,Feuil2!$C$1:$CD$9,7,FALSE)","v":{"$error":"#VALUE!"}},{"$f":"T441-HLOOKUP(X441,Feuil2!$C$1:$CD$9,8,FALSE)","v":{"$error":"#VALUE!"}},{"$f":"T441-HLOOKUP(X441,Feuil2!$C$1:$CD$9,9,FALSE)","v":{"$error":"#VALUE!"}},null,null,null,null,null,null,null,{"$error":"#VALUE!"},114,null,{"$f":"IF(AP441,VLOOKUP(AP441,HOM!$AR$551:$AS$606,2))","v":3.5710000000000002}]
["H",null,null,null,null,{"$f":"IF(AP442<95,IF(AP442<=90,VLOOKUP(AP442,$AP$550:$AQ$605,2)))","v":false},null,null,null,null,null,null,null,null,"",null,null,null,"","","","","",{"$f":"IF(AND(J442>=40,J442<45),VLOOKUP(K442,Feuil2!$F$10:$P$28,9),IF(AND(J442>=45,J442<50),VLOOKUP(K442,Feuil2!$F$10:$P$28,8),IF(AND(J442>=50,J442<55),VLOOKUP(K442,Feuil2!$F$10:$P$28,7),IF(AND(J442>=55,J442<60),VLOOKUP(K442,Feuil2!$F$10:$P$28,6),IF(AND(J442>=60,J442<65),VLOOKUP(K442,Feuil2!$F$10:$P$28,5),IF(AND(J442>=65,J442<70),VLOOKUP(K442,Feuil2!$F$10:$P$28,4),IF(AND(J442>=70,J442<75),VLOOKUP(K442,Feuil2!$F$10:$P$28,3),IF(AND(J442>=75,J442<80),VLOOKUP(K442,Feuil2!$F$10:$P$28,2),VLOOKUP(K442,Feuil2!$F$10:$P$28,2)))))))))","v":{"$error":"#N/A"}},null,{"$f":"T442-HLOOKUP(X442,Feuil2!$C$1:$CD$9,2,FALSE)","v":{"$error":"#VALUE!"}},{"$f":"T442-HLOOKUP(X442,Feuil2!$C$1:$CD$9,3,FALSE)","v":{"$error":"#VALUE!"}},{"$f":"T442-HLOOKUP(X442,Feuil2!$C$1:$CD$9,4,FALSE)","v":{"$error":"#VALUE!"}},{"$f":"T442-HLOOKUP(X442,Feuil2!$C$1:$CD$9,5,FALSE)","v":{"$error":"#VALUE!"}},{"$f":"T442-HLOOKUP(X442,Feuil2!$C$1:$CD$9,6,FALSE)","v":{"$error":"#VALUE!"}},{"$f":"T442-HLOOKUP(X442,Feuil2!$C$1:$CD$9,7,FALSE)","v":{"$error":"#VALUE!"}},{"$f":"T442-HLOOKUP(X442,Feuil2!$C$1:$CD$9,8,FALSE)","v":{"$error":"#VALUE!"}},{"$f":"T442-HLOOKUP(X442,Feuil2!$C$1:$CD$9,9,FALSE)","v":{"$error":"#VALUE!"}},null,null,null,null,null,null,null,{"$error":"#VALUE!"},114,null,{"$f":"IF(AP442,VLOOKUP(AP442,HOM!$AR$551:$AS$606,2))","v":3.5710000000000002}]
["H",null,null,null,null,false,null,null,null,null,null,null,null,null,"",null,null,null,"","","","","",{"$f":"IF(AND(J443>=40,J443<45),VLOOKUP(K443,Feuil2!$F$10:$P$28,9),IF(AND(J443>=45,J443<50),VLOOKUP(K443,Feuil2!$F$10:$P$28,8),IF(AND(J443>=50,J443<55),VLOOKUP(K443,Feuil2!$F$10:$P$28,7),IF(AND(J443>=55,J443<60),VLOOKUP(K443,Feuil2!$F$10:$P$28,6),IF(AND(J443>=60,J443<65),VLOOKUP(K443,Feuil2!$F$10:$P$28,5),IF(AND(J443>=65,J443<70),VLOOKUP(K443,Feuil2!$F$10:$P$28,4),IF(AND(J443>=70,J443<75),VLOOKUP(K443,Feuil2!$F$10:$P$28,3),IF(AND(J443>=75,J443<80),VLOOKUP(K443,Feuil2!$F$10:$P$28,2),VLOOKUP(K443,Feuil2!$F$10:$P$28,2)))))))))","v":{"$error":"#N/A"}},null,{"$f":"T443-HLOOKUP(X443,Feuil2!$C$1:$CD$9,2,FALSE)","v":{"$error":"#VALUE!"}},{"$f":"T443-HLOOKUP(X443,Feuil2!$C$1:$CD$9,3,FALSE)","v":{"$error":"#VALUE!"}},{"$f":"T443-HLOOKUP(X443,Feuil2!$C$1:$CD$9,4,FALSE)","v":{"$error":"#VALUE!"}},{"$f":"T443-HLOOKUP(X443,Feuil2!$C$1:$CD$9,5,FALSE)","v":{"$error":"#VALUE!"}},{"$f":"T443-HLOOKUP(X443,Feuil2!$C$1:$CD$9,6,FALSE)","v":{"$error":"#VALUE!"}},{"$f":"T443-HLOOKUP(X443,Feuil2!$C$1:$CD$9,7,FALSE)","v":{"$error":"#VALUE!"}},{"$f":"T443-HLOOKUP(X443,Feuil2!$C$1:$CD$9,8,FALSE)","v":{"$error":"#VALUE!"}},{"$f":"T443-HLOOKUP(X443,Feuil2!$C$1:$CD$9,9,FALSE)","v":{"$error":"#VALUE!"}},null,null,null,null,null,null,null,{"$error":"#VALUE!"},114,null,{"$f":"IF(AP443,VLOOKUP(AP443,HOM!$AR$551:$AS$606,2))","v":3.5710000000000002}]
["H",null,null,null,null,false,null,null,null,null,null,null,null,null,"",null,null,null,"","","","","",{"$f":"IF(AND(J444>=40,J444<45),VLOOKUP(K444,Feuil2!$F$10:$P$28,9),IF(AND(J444>=45,J444<50),VLOOKUP(K444,Feuil2!$F$10:$P$28,8),IF(AND(J444>=50,J444<55),VLOOKUP(K444,Feuil2!$F$10:$P$28,7),IF(AND(J444>=55,J444<60),VLOOKUP(K444,Feuil2!$F$10:$P$28,6),IF(AND(J444>=60,J444<65),VLOOKUP(K444,Feuil2!$F$10:$P$28,5),IF(AND(J444>=65,J444<70),VLOOKUP(K444,Feuil2!$F$10:$P$28,4),IF(AND(J444>=70,J444<75),VLOOKUP(K444,Feuil2!$F$10:$P$28,3),IF(AND(J444>=75,J444<80),VLOOKUP(K444,Feuil2!$F$10:$P$28,2),VLOOKUP(K444,Feuil2!$F$10:$P$28,2)))))))))","v":{"$error":"#N/A"}},null,{"$f":"T444-HLOOKUP(X444,Feuil2!$C$1:$CD$9,2,FALSE)","v":{"$error":"#VALUE!"}},{"$f":"T444-HLOOKUP(X444,Feuil2!$C$1:$CD$9,3,FALSE)","v":{"$error":"#VALUE!"}},{"$f":"T444-HLOOKUP(X444,Feuil2!$C$1:$CD$9,4,FALSE)","v":{"$error":"#VALUE!"}},{"$f":"T444-HLOOKUP(X444,Feuil2!$C$1:$CD$9,5,FALSE)","v":{"$error":"#VALUE!"}},{"$f":"T444-HLOOKUP(X444,Feuil2!$C$1:$CD$9,6,FALSE)","v":{"$error":"#VALUE!"}},{"$f":"T444-HLOOKUP(X444,Feuil2!$C$1:$CD$9,7,FALSE)","v":{"$error":"#VALUE!"}},{"$f":"T444-HLOOKUP(X444,Feuil2!$C$1:$CD$9,8,FALSE)","v":{"$error":"#VALUE!"}},{"$f":"T444-HLOOKUP(X444,Feuil2!$C$1:$CD$9,9,FALSE)","v":{"$error":"#VALUE!"}},null,null,null,null,null,null,null,{"$error":"#VALUE!"},114,null,{"$f":"IF(AP444,VLOOKUP(AP444,HOM!$AR$551:$AS$606,2))","v":3.5710000000000002}]
["H",null,null,null,null,false,null,null,null,null,null,null,null,null,"",null,null,null,"","","","","",{"$f":"IF(AND(J445>=40,J445<45),VLOOKUP(K445,Feuil2!$F$10:$P$28,9),IF(AND(J445>=45,J445<50),VLOOKUP(K445,Feuil2!$F$10:$P$28,8),IF(AND(J445>=50,J445<55),VLOOKUP(K445,Feuil2!$F$10:$P$28,7),IF(AND(J445>=55,J445<60),VLOOKUP(K445,Feuil2!$F$10:$P$28,6),IF(AND(J445>=60,J445<65),VLOOKUP(K445,Feuil2!$F$10:$P$28,5),IF(AND(J445>=65,J445<70),VLOOKUP(K445,Feuil2!$F$10:$P$28,4),IF(AND(J445>=70,J445<75),VLOOKUP(K445,Feuil2!$F$10:$P$28,3),IF(AND(J445>=75,J445<80),VLOOKUP(K445,Feuil2!$F$10:$P$28,2),VLOOKUP(K445,Feuil2!$F$10:$P$28,2)))))))))","v":{"$error":"#N/A"}},null,{"$f":"T445-HLOOKUP(X445,Feuil2!$C$1:$CD$9,2,FALSE)","v":{"$error":"#VALUE!"}},{"$f":"T445-HLOOKUP(X445,Feuil2!$C$1:$CD$9,3,FALSE)","v":{"$error":"#VALUE!"}},{"$f":"T445-HLOOKUP(X445,Feuil2!$C$1:$CD$9,4,FALSE)","v":{"$error":"#VALUE!"}},{"$f":"T445-HLOOKUP(X445,Feuil2!$C$1:$CD$9,5,FALSE)","v":{"$error":"#VALUE!"}},{"$f":"T445-HLOOKUP(X445,Feuil2!$C$1:$CD$9,6,FALSE)","v":{"$error":"#VALUE!"}},{"$f":"T445-HLOOKUP(X445,Feuil2!$C$1:$CD$9,7,FALSE)","v":{"$error":"#VALUE!"}},{"$f":"T445-HLOOKUP(X445,Feuil2!$C$1:$CD$9,8,FALSE)","v":{"$error":"#VALUE!"}},{"$f":"T445-HLOOKUP(X445,Feuil2!$C$1:$CD$9,9,FALSE)","v":{"$error":"#VALUE!"}},null,null,null,null,null,null,null,{"$error":"#VALUE!"},114,null,{"$f":"IF(AP445,VLOOKUP(AP445,HOM!$AR$551:$AS$606,2))","v":3.5710000000000002}]
["H",null,null,null,null,false,null,null,null,null,null,null,null,null,"",null,null,null,"","","","","",{"$f":"IF(AND(J446>=40,J446<45),VLOOKUP(K446,Feuil2!$F$10:$P$28,9),IF(AND(J446>=45,J446<50),VLOOKUP(K446,Feuil2!$F$10:$P$28,8),IF(AND(J446>=50,J446<55),VLOOKUP(K446,Feuil2!$F$10:$P$28,7),IF(AND(J446>=55,J446<60),VLOOKUP(K446,Feuil2!$F$10:$P$28,6),IF(AND(J446>=60,J446<65),VLOOKUP(K446,Feuil2!$F$10:$P$28,5),IF(AND(J446>=65,J446<70),VLOOKUP(K446,Feuil2!$F$10:$P$28,4),IF(AND(J446>=70,J446<75),VLOOKUP(K446,Feuil2!$F$10:$P$28,3),IF(AND(J446>=75,J446<80),VLOOKUP(K446,Feuil2!$F$10:$P$28,2),VLOOKUP(K446,Feuil2!$F$10:$P$28,2)))))))))","v":{"$error":"#N/A"}},null,{"$f":"T446-HLOOKUP(X446,Feuil2!$C$1:$CD$9,2,FALSE)","v":{"$error":"#VALUE!"}},{"$f":"T446-HLOOKUP(X446,Feuil2!$C$1:$CD$9,3,FALSE)","v":{"$error":"#VALUE!"}},{"$f":"T446-HLOOKUP(X446,Feuil2!$C$1:$CD$9,4,FALSE)","v":{"$error":"#VALUE!"}},{"$f":"T446-HLOOKUP(X446,Feuil2!$C$1:$CD$9,5,FALSE)","v":{"$error":"#VALUE!"}},{"$f":"T446-HLOOKUP(X446,Feuil2!$C$1:$CD$9,6,FALSE)","v":{"$error":"#VALUE!"}},{"$f":"T446-HLOOKUP(X446,Feuil2!$C$1:$CD$9,7,FALSE)","v":{"$error":"#VALUE!"}},{"$f":"T446-HLOOKUP(X446,Feuil2!$C$1:$CD$9,8,FALSE)","v":{"$error":"#VALUE!"}},{"$f":"T446-HLOOKUP(X446,Feuil2!$C$1:$CD$9,9,FALSE)","v":{"$error":"#VALUE!"}},null,null,null,null,null,null,null,{"$error":"#VALUE!"},114,null,{"$f":"IF(AP446,VLOOKUP(AP446,HOM!$AR$551:$AS$606,2))","v":3.5710000000000002}]
["H",null,null,null,null,false,null,null,null,null,null,null,null,null,"",null,null,null,"","","","","",{"$f":"IF(AND(J447>=40,J447<45),VLOOKUP(K447,Feuil2!$F$10:$P$28,9),IF(AND(J447>=45,J447<50),VLOOKUP(K447,Feuil2!$F$10:$P$28,8),IF(AND(J447>=50,J447<55),VLOOKUP(K447,Feuil2!$F$10:$P$28,7),IF(AND(J447>=55,J447<60),VLOOKUP(K447,Feuil2!$F$10:$P$28,6),IF(AND(J447>=60,J447<65),VLOOKUP(K447,Feuil2!$F$10:$P$28,5),IF(AND(J447>=65,J447<70),VLOOKUP(K447,Feuil2!$F$10:$P$28,4),IF(AND(J447>=70,J447<75),VLOOKUP(K447,Feuil2!$F$10:$P$28,3),IF(AND(J447>=75,J447<80),VLOOKUP(K447,Feuil2!$F$10:$P$28,2),VLOOKUP(K447,Feuil2!$F$10:$P$28,2)))))))))","v":{"$error":"#N/A"}},null,{"$f":"T447-HLOOKUP(X447,Feuil2!$C$1:$CD$9,2,FALSE)","v":{"$error":"#VALUE!"}},{"$f":"T447-HLOOKUP(X447,Feuil2!$C$1:$CD$9,3,FALSE)","v":{"$error":"#VALUE!"}},{"$f":"T447-HLOOKUP(X447,Feuil2!$C$1:$CD$9,4,FALSE)","v":{"$error":"#VALUE!"}},{"$f":"T447-HLOOKUP(X447,Feuil2!$C$1:$CD$9,5,FALSE)","v":{"$error":"#VALUE!"}},{"$f":"T447-HLOOKUP(X447,Feuil2!$C$1:$CD$9,6,FALSE)","v":{"$error":"#VALUE!"}},{"$f":"T447-HLOOKUP(X447,Feuil2!$C$1:$CD$9,7,FALSE)","v":{"$error":"#VALUE!"}},{"$f":"T447-HLOOKUP(X447,Feuil2!$C$1:$CD$9,8,FALSE)","v":{"$error":"#VALUE!"}},{"$f":"T447-HLOOKUP(X447,Feuil2!$C$1:$CD$9,9,FALSE)","v":{"$error":"#VALUE!"}},null,null,null,null,null,null,null,{"$error":"#VALUE!"},114,null,{"$f":"IF(AP447,VLOOKUP(AP447,HOM!$AR$551:$AS$606,2))","v":3.5710000000000002}]
["H",null,null,null,null,false,null,null,null,null,null,null,null,null,"",null,null,null,"","","","","",{"$f":"IF(AND(J448>=40,J448<45),VLOOKUP(K448,Feuil2!$F$10:$P$28,9),IF(AND(J448>=45,J448<50),VLOOKUP(K448,Feuil2!$F$10:$P$28,8),IF(AND(J448>=50,J448<55),VLOOKUP(K448,Feuil2!$F$10:$P$28,7),IF(AND(J448>=55,J448<60),VLOOKUP(K448,Feuil2!$F$10:$P$28,6),IF(AND(J448>=60,J448<65),VLOOKUP(K448,Feuil2!$F$10:$P$28,5),IF(AND(J448>=65,J448<70),VLOOKUP(K448,Feuil2!$F$10:$P$28,4),IF(AND(J448>=70,J448<75),VLOOKUP(K448,Feuil2!$F$10:$P$28,3),IF(AND(J448>=75,J448<80),VLOOKUP(K448,Feuil2!$F$10:$P$28,2),VLOOKUP(K448,Feuil2!$F$10:$P$28,2)))))))))","v":{"$error":"#N/A"}},null,{"$f":"T448-HLOOKUP(X448,Feuil2!$C$1:$CD$9,2,FALSE)","v":{"$error":"#VALUE!"}},{"$f":"T448-HLOOKUP(X448,Feuil2!$C$1:$CD$9,3,FALSE)","v":{"$error":"#VALUE!"}},{"$f":"T448-HLOOKUP(X448,Feuil2!$C$1:$CD$9,4,FALSE)","v":{"$error":"#VALUE!"}},{"$f":"T448-HLOOKUP(X448,Feuil2!$C$1:$CD$9,5,FALSE)","v":{"$error":"#VALUE!"}},{"$f":"T448-HLOOKUP(X448,Feuil2!$C$1:$CD$9,6,FALSE)","v":{"$error":"#VALUE!"}},{"$f":"T448-HLOOKUP(X448,Feuil2!$C$1:$CD$9,7,FALSE)","v":{"$error":"#VALUE!"}},{"$f":"T448-HLOOKUP(X448,Feuil2!$C$1:$CD$9,8,FALSE)","v":{"$error":"#VALUE!"}},{"$f":"T448-HLOOKUP(X448,Feuil2!$C$1:$CD$9,9,FALSE)","v":{"$error":"#VALUE!"}},null,null,null,null,null,null,null,{"$error":"#VALUE!"},114,null,{"$f":"IF(AP448,VLOOKUP(AP448,HOM!$AR$551:$AS$606,2))","v":3.5710000000000002}]
["H",null,null,null,null,false,null,null,null,null,null,null,null,null,"",null,null,null,"","","","","",{"$f":"IF(AND(J449>=40,J449<45),VLOOKUP(K449,Feuil2!$F$10:$P$28,9),IF(AND(J449>=45,J449<50),VLOOKUP(K449,Feuil2!$F$10:$P$28,8),IF(AND(J449>=50,J449<55),VLOOKUP(K449,Feuil2!$F$10:$P$28,7),IF(AND(J449>=55,J449<60),VLOOKUP(K449,Feuil2!$F$10:$P$28,6),IF(AND(J449>=60,J449<65),VLOOKUP(K449,Feuil2!$F$10:$P$28,5),IF(AND(J449>=65,J449<70),VLOOKUP(K449,Feuil2!$F$10:$P$28,4),IF(AND(J449>=70,J449<75),VLOOKUP(K449,Feuil2!$F$10:$P$28,3),IF(AND(J449>=75,J449<80),VLOOKUP(K449,Feuil2!$F$10:$P$28,2),VLOOKUP(K449,Feuil2!$F$10:$P$28,2)))))))))","v":{"$error":"#N/A"}},null,{"$f":"T449-HLOOKUP(X449,Feuil2!$C$1:$CD$9,2,FALSE)","v":{"$error":"#VALUE!"}},{"$f":"T449-HLOOKUP(X449,Feuil2!$C$1:$CD$9,3,FALSE)","v":{"$error":"#VALUE!"}},{"$f":"T449-HLOOKUP(X449,Feuil2!$C$1:$CD$9,4,FALSE)","v":{"$error":"#VALUE!"}},{"$f":"T449-HLOOKUP(X449,Feuil2!$C$1:$CD$9,5,FALSE)","v":{"$error":"#VALUE!"}},{"$f":"T449-HLOOKUP(X449,Feuil2!$C$1:$CD$9,6,FALSE)","v":{"$error":"#VALUE!"}},{"$f":"T449-HLOOKUP(X449,Feuil2!$C$1:$CD$9,7,FALSE)","v":{"$error":"#VALUE!"}},{"$f":"T449-HLOOKUP(X449,Feuil2!$C$1:$CD$9,8,FALSE)","v":{"$error":"#VALUE!"}},{"$f":"T449-HLOOKUP(X449,Feuil2!$C$1:$CD$9,9,FALSE)","v":{"$error":"#VALUE!"}},null,null,null,null,null,null,null,{"$error":"#VALUE!"},114,null,{"$f":"IF(AP449,VLOOKUP(AP449,HOM!$AR$551:$AS$606,2))","v":3.5710000000000002}]
["H",null,null,null,null,false,null,null,null,null,null,null,null,null,"",null,null,null,"","","","","",{"$f":"IF(AND(J450>=40,J450<45),VLOOKUP(K450,Feuil2!$F$10:$P$28,9),IF(AND(J450>=45,J450<50),VLOOKUP(K450,Feuil2!$F$10:$P$28,8),IF(AND(J450>=50,J450<55),VLOOKUP(K450,Feuil2!$F$10:$P$28,7),IF(AND(J450>=55,J450<60),VLOOKUP(K450,Feuil2!$F$10:$P$28,6),IF(AND(J450>=60,J450<65),VLOOKUP(K450,Feuil2!$F$10:$P$28,5),IF(AND(J450>=65,J450<70),VLOOKUP(K450,Feuil2!$F$10:$P$28,4),IF(AND(J450>=70,J450<75),VLOOKUP(K450,Feuil2!$F$10:$P$28,3),IF(AND(J450>=75,J450<80),VLOOKUP(K450,Feuil2!$F$10:$P$28,2),VLOOKUP(K450,Feuil2!$F$10:$P$28,2)))))))))","v":{"$error":"#N/A"}},null,{"$f":"T450-HLOOKUP(X450,Feuil2!$C$1:$CD$9,2,FALSE)","v":{"$error":"#VALUE!"}},{"$f":"T450-HLOOKUP(X450,Feuil2!$C$1:$CD$9,3,FALSE)","v":{"$error":"#VALUE!"}},{"$f":"T450-HLOOKUP(X450,Feuil2!$C$1:$CD$9,4,FALSE)","v":{"$error":"#VALUE!"}},{"$f":"T450-HLOOKUP(X450,Feuil2!$C$1:$CD$9,5,FALSE)","v":{"$error":"#VALUE!"}},{"$f":"T450-HLOOKUP(X450,Feuil2!$C$1:$CD$9,6,FALSE)","v":{"$error":"#VALUE!"}},{"$f":"T450-HLOOKUP(X450,Feuil2!$C$1:$CD$9,7,FALSE)","v":{"$error":"#VALUE!"}},{"$f":"T450-HLOOKUP(X450,Feuil2!$C$1:$CD$9,8,FALSE)","v":{"$error":"#VALUE!"}},{"$f":"T450-HLOOKUP(X450,Feuil2!$C$1:$CD$9,9,FALSE)","v":{"$error":"#VALUE!"}},null,null,null,null,null,null,null,{"$error":"#VALUE!"},114,null,{"$f":"IF(AP450,VLOOKUP(AP450,HOM!$AR$551:$AS$606,2))","v":3.5710000000000002}]
["H",null,null,null,null,false,null,null,null,null,null,null,null,null,"",null,null,null,"","","","","",{"$f":"IF(AND(J451>=40,J451<45),VLOOKUP(K451,Feuil2!$F$10:$P$28,9),IF(AND(J451>=45,J451<50),VLOOKUP(K451,Feuil2!$F$10:$P$28,8),IF(AND(J451>=50,J451<55),VLOOKUP(K451,Feuil2!$F$10:$P$28,7),IF(AND(J451>=55,J451<60),VLOOKUP(K451,Feuil2!$F$10:$P$28,6),IF(AND(J451>=60,J451<65),VLOOKUP(K451,Feuil2!$F$10:$P$28,5),IF(AND(J451>=65,J451<70),VLOOKUP(K451,Feuil2!$F$10:$P$28,4),IF(AND(J451>=70,J451<75),VLOOKUP(K451,Feuil2!$F$10:$P$28,3),IF(AND(J451>=75,J451<80),VLOOKUP(K451,Feuil2!$F$10:$P$28,2),VLOOKUP(K451,Feuil2!$F$10:$P$28,2)))))))))","v":{"$error":"#N/A"}},null,{"$f":"T451-HLOOKUP(X451,Feuil2!$C$1:$CD$9,2,FALSE)","v":{"$error":"#VALUE!"}},{"$f":"T451-HLOOKUP(X451,Feuil2!$C$1:$CD$9,3,FALSE)","v":{"$error":"#VALUE!"}},{"$f":"T451-HLOOKUP(X451,Feuil2!$C$1:$CD$9,4,FALSE)","v":{"$error":"#VALUE!"}},{"$f":"T451-HLOOKUP(X451,Feuil2!$C$1:$CD$9,5,FALSE)","v":{"$error":"#VALUE!"}},{"$f":"T451-HLOOKUP(X451,Feuil2!$C$1:$CD$9,6,FALSE)","v":{"$error":"#VALUE!"}},{"$f":"T451-HLOOKUP(X451,Feuil2!$C$1:$CD$9,7,FALSE)","v":{"$error":"#VALUE!"}},{"$f":"T451-HLOOKUP(X451,Feuil2!$C$1:$CD$9,8,FALSE)","v":{"$error":"#VALUE!"}},{"$f":"T451-HLOOKUP(X451,Feuil2!$C$1:$CD$9,9,FALSE)","v":{"$error":"#VALUE!"}},null,null,null,null,null,null,null,{"$error":"#VALUE!"},114,null,{"$f":"IF(AP451,VLOOKUP(AP451,HOM!$AR$551:$AS$606,2))","v":3.5710000000000002}]
["H",null,null,null,null,false,null,null,null,null,null,null,null,null,"",null,null,null,"","","","","",{"$f":"IF(AND(J452>=40,J452<45),VLOOKUP(K452,Feuil2!$F$10:$P$28,9),IF(AND(J452>=45,J452<50),VLOOKUP(K452,Feuil2!$F$10:$P$28,8),IF(AND(J452>=50,J452<55),VLOOKUP(K452,Feuil2!$F$10:$P$28,7),IF(AND(J452>=55,J452<60),VLOOKUP(K452,Feuil2!$F$10:$P$28,6),IF(AND(J452>=60,J452<65),VLOOKUP(K452,Feuil2!$F$10:$P$28,5),IF(AND(J452>=65,J452<70),VLOOKUP(K452,Feuil2!$F$10:$P$28,4),IF(AND(J452>=70,J452<75),VLOOKUP(K452,Feuil2!$F$10:$P$28,3),IF(AND(J452>=75,J452<80),VLOOKUP(K452,Feuil2!$F$10:$P$28,2),VLOOKUP(K452,Feuil2!$F$10:$P$28,2)))))))))","v":{"$error":"#N/A"}},null,{"$f":"T452-HLOOKUP(X452,Feuil2!$C$1:$CD$9,2,FALSE)","v":{"$error":"#VALUE!"}},{"$f":"T452-HLOOKUP(X452,Feuil2!$C$1:$CD$9,3,FALSE)","v":{"$error":"#VALUE!"}},{"$f":"T452-HLOOKUP(X452,Feuil2!$C$1:$CD$9,4,FALSE)","v":{"$error":"#VALUE!"}},{"$f":"T452-HLOOKUP(X452,Feuil2!$C$1:$CD$9,5,FALSE)","v":{"$error":"#VALUE!"}},{"$f":"T452-HLOOKUP(X452,Feuil2!$C$1:$CD$9,6,FALSE)","v":{"$error":"#VALUE!"}},{"$f":"T452-HLOOKUP(X452,Feuil2!$C$1:$CD$9,7,FALSE)","v":{"$error":"#VALUE!"}},{"$f":"T452-HLOOKUP(X452,Feuil2!$C$1:$CD$9,8,FALSE)","v":{"$error":"#VALUE!"}},{"$f":"T452-HLOOKUP(X452,Feuil2!$C$1:$CD$9,9,FALSE)","v":{"$error":"#VALUE!"}},null,null,null,null,null,null,null,{"$error":"#VALUE!"},114,null,{"$f":"IF(AP452,VLOOKUP(AP452,HOM!$AR$551:$AS$606,2))","v":3.5710000000000002}]
["H",null,null,null,null,false,null,null,null,null,null,null,null,null,"",null,null,null,"","","","","",{"$f":"IF(AND(J453>=40,J453<45),VLOOKUP(K453,Feuil2!$F$10:$P$28,9),IF(AND(J453>=45,J453<50),VLOOKUP(K453,Feuil2!$F$10:$P$28,8),IF(AND(J453>=50,J453<55),VLOOKUP(K453,Feuil2!$F$10:$P$28,7),IF(AND(J453>=55,J453<60),VLOOKUP(K453,Feuil2!$F$10:$P$28,6),IF(AND(J453>=60,J453<65),VLOOKUP(K453,Feuil2!$F$10:$P$28,5),IF(AND(J453>=65,J453<70),VLOOKUP(K453,Feuil2!$F$10:$P$28,4),IF(AND(J453>=70,J453<75),VLOOKUP(K453,Feuil2!$F$10:$P$28,3),IF(AND(J453>=75,J453<80),VLOOKUP(K453,Feuil2!$F$10:$P$28,2),VLOOKUP(K453,Feuil2!$F$10:$P$28,2)))))))))","v":{"$error":"#N/A"}},null,{"$f":"T453-HLOOKUP(X453,Feuil2!$C$1:$CD$9,2,FALSE)","v":{"$error":"#VALUE!"}},{"$f":"T453-HLOOKUP(X453,Feuil2!$C$1:$CD$9,3,FALSE)","v":{"$error":"#VALUE!"}},{"$f":"T453-HLOOKUP(X453,Feuil2!$C$1:$CD$9,4,FALSE)","v":{"$error":"#VALUE!"}},{"$f":"T453-HLOOKUP(X453,Feuil2!$C$1:$CD$9,5,FALSE)","v":{"$error":"#VALUE!"}},{"$f":"T453-HLOOKUP(X453,Feuil2!$C$1:$CD$9,6,FALSE)","v":{"$error":"#VALUE!"}},{"$f":"T453-HLOOKUP(X453,Feuil2!$C$1:$CD$9,7,FALSE)","v":{"$error":"#VALUE!"}},{"$f":"T453-HLOOKUP(X453,Feuil2!$C$1:$CD$9,8,FALSE)","v":{"$error":"#VALUE!"}},{"$f":"T453-HLOOKUP(X453,Feuil2!$C$1:$CD$9,9,FALSE)","v":{"$error":"#VALUE!"}},null,null,null,null,null,null,null,{"$error":"#VALUE!"},114,null,{"$f":"IF(AP453,VLOOKUP(AP453,HOM!$AR$551:$AS$606,2))","v":3.5710000000000002}]
["H",null,null,null,null,false,null,null,null,null,null,null,null,null,"",null,null,null,"","","","","",{"$f":"IF(AND(J454>=40,J454<45),VLOOKUP(K454,Feuil2!$F$10:$P$28,9),IF(AND(J454>=45,J454<50),VLOOKUP(K454,Feuil2!$F$10:$P$28,8),IF(AND(J454>=50,J454<55),VLOOKUP(K454,Feuil2!$F$10:$P$28,7),IF(AND(J454>=55,J454<60),VLOOKUP(K454,Feuil2!$F$10:$P$28,6),IF(AND(J454>=60,J454<65),VLOOKUP(K454,Feuil2!$F$10:$P$28,5),IF(AND(J454>=65,J454<70),VLOOKUP(K454,Feuil2!$F$10:$P$28,4),IF(AND(J454>=70,J454<75),VLOOKUP(K454,Feuil2!$F$10:$P$28,3),IF(AND(J454>=75,J454<80),VLOOKUP(K454,Feuil2!$F$10:$P$28,2),VLOOKUP(K454,Feuil2!$F$10:$P$28,2)))))))))","v":{"$error":"#N/A"}},null,{"$f":"T454-HLOOKUP(X454,Feuil2!$C$1:$CD$9,2,FALSE)","v":{"$error":"#VALUE!"}},{"$f":"T454-HLOOKUP(X454,Feuil2!$C$1:$CD$9,3,FALSE)","v":{"$error":"#VALUE!"}},{"$f":"T454-HLOOKUP(X454,Feuil2!$C$1:$CD$9,4,FALSE)","v":{"$error":"#VALUE!"}},{"$f":"T454-HLOOKUP(X454,Feuil2!$C$1:$CD$9,5,FALSE)","v":{"$error":"#VALUE!"}},{"$f":"T454-HLOOKUP(X454,Feuil2!$C$1:$CD$9,6,FALSE)","v":{"$error":"#VALUE!"}},{"$f":"T454-HLOOKUP(X454,Feuil2!$C$1:$CD$9,7,FALSE)","v":{"$error":"#VALUE!"}},{"$f":"T454-HLOOKUP(X454,Feuil2!$C$1:$CD$9,8,FALSE)","v":{"$error":"#VALUE!"}},{"$f":"T454-HLOOKUP(X454,Feuil2!$C$1:$CD$9,9,FALSE)","v":{"$error":"#VALUE!"}},null,null,null,null,null,null,null,{"$error":"#VALUE!"},114,null,{"$f":"IF(AP454,VLOOKUP(AP454,HOM!$AR$551:$AS$606,2))","v":3.5710000000000002}]
["H",null,null,null,null,false,null,null,null,null,null,null,null,null,"",null,null,null,"","","","","",{"$f":"IF(AND(J455>=40,J455<45),VLOOKUP(K455,Feuil2!$F$10:$P$28,9),IF(AND(J455>=45,J455<50),VLOOKUP(K455,Feuil2!$F$10:$P$28,8),IF(AND(J455>=50,J455<55),VLOOKUP(K455,Feuil2!$F$10:$P$28,7),IF(AND(J455>=55,J455<60),VLOOKUP(K455,Feuil2!$F$10:$P$28,6),IF(AND(J455>=60,J455<65),VLOOKUP(K455,Feuil2!$F$10:$P$28,5),IF(AND(J455>=65,J455<70),VLOOKUP(K455,Feuil2!$F$10:$P$28,4),IF(AND(J455>=70,J455<75),VLOOKUP(K455,Feuil2!$F$10:$P$28,3),IF(AND(J455>=75,J455<80),VLOOKUP(K455,Feuil2!$F$10:$P$28,2),VLOOKUP(K455,Feuil2!$F$10:$P$28,2)))))))))","v":{"$error":"#N/A"}},null,{"$f":"T455-HLOOKUP(X455,Feuil2!$C$1:$CD$9,2,FALSE)","v":{"$error":"#VALUE!"}},{"$f":"T455-HLOOKUP(X455,Feuil2!$C$1:$CD$9,3,FALSE)","v":{"$error":"#VALUE!"}},{"$f":"T455-HLOOKUP(X455,Feuil2!$C$1:$CD$9,4,FALSE)","v":{"$error":"#VALUE!"}},{"$f":"T455-HLOOKUP(X455,Feuil2!$C$1:$CD$9,5,FALSE)","v":{"$error":"#VALUE!"}},{"$f":"T455-HLOOKUP(X455,Feuil2!$C$1:$CD$9,6,FALSE)","v":{"$error":"#VALUE!"}},{"$f":"T455-HLOOKUP(X455,Feuil2!$C$1:$CD$9,7,FALSE)","v":{"$error":"#VALUE!"}},{"$f":"T455-HLOOKUP(X455,Feuil2!$C$1:$CD$9,8,FALSE)","v":{"$error":"#VALUE!"}},{"$f":"T455-HLOOKUP(X455,Feuil2!$C$1:$CD$9,9,FALSE)","v":{"$error":"#VALUE!"}},null,null,null,null,null,null,null,{"$error":"#VALUE!"},114,null,{"$f":"IF(AP455,VLOOKUP(AP455,HOM!$AR$551:$AS$606,2))","v":3.5710000000000002}]
["H",null,null,null,null,false,null,null,null,null,null,null,null,null,"",null,null,null,"","","","","",{"$f":"IF(AND(J456>=40,J456<45),VLOOKUP(K456,Feuil2!$F$10:$P$28,9),IF(AND(J456>=45,J456<50),VLOOKUP(K456,Feuil2!$F$10:$P$28,8),IF(AND(J456>=50,J456<55),VLOOKUP(K456,Feuil2!$F$10:$P$28,7),IF(AND(J456>=55,J456<60),VLOOKUP(K456,Feuil2!$F$10:$P$28,6),IF(AND(J456>=60,J456<65),VLOOKUP(K456,Feuil2!$F$10:$P$28,5),IF(AND(J456>=65,J456<70),VLOOKUP(K456,Feuil2!$F$10:$P$28,4),IF(AND(J456>=70,J456<75),VLOOKUP(K456,Feuil2!$F$10:$P$28,3),IF(AND(J456>=75,J456<80),VLOOKUP(K456,Feuil2!$F$10:$P$28,2),VLOOKUP(K456,Feuil2!$F$10:$P$28,2)))))))))","v":{"$error":"#N/A"}},null,{"$f":"T456-HLOOKUP(X456,Feuil2!$C$1:$CD$9,2,FALSE)","v":{"$error":"#VALUE!"}},{"$f":"T456-HLOOKUP(X456,Feuil2!$C$1:$CD$9,3,FALSE)","v":{"$error":"#VALUE!"}},{"$f":"T456-HLOOKUP(X456,Feuil2!$C$1:$CD$9,4,FALSE)","v":{"$error":"#VALUE!"}},{"$f":"T456-HLOOKUP(X456,Feuil2!$C$1:$CD$9,5,FALSE)","v":{"$error":"#VALUE!"}},{"$f":"T456-HLOOKUP(X456,Feuil2!$C$1:$CD$9,6,FALSE)","v":{"$error":"#VALUE!"}},{"$f":"T456-HLOOKUP(X456,Feuil2!$C$1:$CD$9,7,FALSE)","v":{"$error":"#VALUE!"}},{"$f":"T456-HLOOKUP(X456,Feuil2!$C$1:$CD$9,8,FALSE)","v":{"$error":"#VALUE!"}},{"$f":"T456-HLOOKUP(X456,Feuil2!$C$1:$CD$9,9,FALSE)","v":{"$error":"#VALUE!"}},null,null,null,null,null,null,null,{"$error":"#VALUE!"},114,null,{"$f":"IF(AP456,VLOOKUP(AP456,HOM!$AR$551:$AS$606,2))","v":3.5710000000000002}]
["H",null,null,null,null,false,null,null,null,null,null,null,null,null,"",null,null,null,"","","","","",{"$f":"IF(AND(J457>=40,J457<45),VLOOKUP(K457,Feuil2!$F$10:$P$28,9),IF(AND(J457>=45,J457<50),VLOOKUP(K457,Feuil2!$F$10:$P$28,8),IF(AND(J457>=50,J457<55),VLOOKUP(K457,Feuil2!$F$10:$P$28,7),IF(AND(J457>=55,J457<60),VLOOKUP(K457,Feuil2!$F$10:$P$28,6),IF(AND(J457>=60,J457<65),VLOOKUP(K457,Feuil2!$F$10:$P$28,5),IF(AND(J457>=65,J457<70),VLOOKUP(K457,Feuil2!$F$10:$P$28,4),IF(AND(J457>=70,J457<75),VLOOKUP(K457,Feuil2!$F$10:$P$28,3),IF(AND(J457>=75,J457<80),VLOOKUP(K457,Feuil2!$F$10:$P$28,2),VLOOKUP(K457,Feuil2!$F$10:$P$28,2)))))))))","v":{"$error":"#N/A"}},null,{"$f":"T457-HLOOKUP(X457,Feuil2!$C$1:$CD$9,2,FALSE)","v":{"$error":"#VALUE!"}},{"$f":"T457-HLOOKUP(X457,Feuil2!$C$1:$CD$9,3,FALSE)","v":{"$error":"#VALUE!"}},{"$f":"T457-HLOOKUP(X457,Feuil2!$C$1:$CD$9,4,FALSE)","v":{"$error":"#VALUE!"}},{"$f":"T457-HLOOKUP(X457,Feuil2!$C$1:$CD$9,5,FALSE)","v":{"$error":"#VALUE!"}},{"$f":"T457-HLOOKUP(X457,Feuil2!$C$1:$CD$9,6,FALSE)","v":{"$error":"#VALUE!"}},{"$f":"T457-HLOOKUP(X457,Feuil2!$C$1:$CD$9,7,FALSE)","v":{"$error":"#VALUE!"}},{"$f":"T457-HLOOKUP(X457,Feuil2!$C$1:$CD$9,8,FALSE)","v":{"$error":"#VALUE!"}},{"$f":"T457-HLOOKUP(X457,Feuil2!$C$1:$CD$9,9,FALSE)","v":{"$error":"#VALUE!"}},null,null,null,null,null,null,null,{"$error":"#VALUE!"},114,null,{"$f":"IF(AP457,VLOOKUP(AP457,HOM!$AR$551:$AS$606,2))","v":3.5710000000000002}]
["H",null,null,null,null,false,null,null,null,null,null,null,null,null,"",null,null,null,"","","","","",{"$f":"IF(AND(J458>=40,J458<45),VLOOKUP(K458,Feuil2!$F$10:$P$28,9),IF(AND(J458>=45,J458<50),VLOOKUP(K458,Feuil2!$F$10:$P$28,8),IF(AND(J458>=50,J458<55),VLOOKUP(K458,Feuil2!$F$10:$P$28,7),IF(AND(J458>=55,J458<60),VLOOKUP(K458,Feuil2!$F$10:$P$28,6),IF(AND(J458>=60,J458<65),VLOOKUP(K458,Feuil2!$F$10:$P$28,5),IF(AND(J458>=65,J458<70),VLOOKUP(K458,Feuil2!$F$10:$P$28,4),IF(AND(J458>=70,J458<75),VLOOKUP(K458,Feuil2!$F$10:$P$28,3),IF(AND(J458>=75,J458<80),VLOOKUP(K458,Feuil2!$F$10:$P$28,2),VLOOKUP(K458,Feuil2!$F$10:$P$28,2)))))))))","v":{"$error":"#N/A"}},null,{"$f":"T458-HLOOKUP(X458,Feuil2!$C$1:$CD$9,2,FALSE)","v":{"$error":"#VALUE!"}},{"$f":"T458-HLOOKUP(X458,Feuil2!$C$1:$CD$9,3,FALSE)","v":{"$error":"#VALUE!"}},{"$f":"T458-HLOOKUP(X458,Feuil2!$C$1:$CD$9,4,FALSE)","v":{"$error":"#VALUE!"}},{"$f":"T458-HLOOKUP(X458,Feuil2!$C$1:$CD$9,5,FALSE)","v":{"$error":"#VALUE!"}},{"$f":"T458-HLOOKUP(X458,Feuil2!$C$1:$CD$9,6,FALSE)","v":{"$error":"#VALUE!"}},{"$f":"T458-HLOOKUP(X458,Feuil2!$C$1:$CD$9,7,FALSE)","v":{"$error":"#VALUE!"}},{"$f":"T458-HLOOKUP(X458,Feuil2!$C$1:$CD$9,8,FALSE)","v":{"$error":"#VALUE!"}},{"$f":"T458-HLOOKUP(X458,Feuil2!$C$1:$CD$9,9,FALSE)","v":{"$error":"#VALUE!"}},null,null,null,null,null,null,null,{"$error":"#VALUE!"},114,null,{"$f":"IF(AP458,VLOOKUP(AP458,HOM!$AR$551:$AS$606,2))","v":3.5710000000000002}]
["H",null,null,null,null,false,null,null,null,null,null,null,null,null,"",null,null,null,"","","","","",{"$f":"IF(AND(J459>=40,J459<45),VLOOKUP(K459,Feuil2!$F$10:$P$28,9),IF(AND(J459>=45,J459<50),VLOOKUP(K459,Feuil2!$F$10:$P$28,8),IF(AND(J459>=50,J459<55),VLOOKUP(K459,Feuil2!$F$10:$P$28,7),IF(AND(J459>=55,J459<60),VLOOKUP(K459,Feuil2!$F$10:$P$28,6),IF(AND(J459>=60,J459<65),VLOOKUP(K459,Feuil2!$F$10:$P$28,5),IF(AND(J459>=65,J459<70),VLOOKUP(K459,Feuil2!$F$10:$P$28,4),IF(AND(J459>=70,J459<75),VLOOKUP(K459,Feuil2!$F$10:$P$28,3),IF(AND(J459>=75,J459<80),VLOOKUP(K459,Feuil2!$F$10:$P$28,2),VLOOKUP(K459,Feuil2!$F$10:$P$28,2)))))))))","v":{"$error":"#N/A"}},null,{"$f":"T459-HLOOKUP(X459,Feuil2!$C$1:$CD$9,2,FALSE)","v":{"$error":"#VALUE!"}},{"$f":"T459-HLOOKUP(X459,Feuil2!$C$1:$CD$9,3,FALSE)","v":{"$error":"#VALUE!"}},{"$f":"T459-HLOOKUP(X459,Feuil2!$C$1:$CD$9,4,FALSE)","v":{"$error":"#VALUE!"}},{"$f":"T459-HLOOKUP(X459,Feuil2!$C$1:$CD$9,5,FALSE)","v":{"$error":"#VALUE!"}},{"$f":"T459-HLOOKUP(X459,Feuil2!$C$1:$CD$9,6,FALSE)","v":{"$error":"#VALUE!"}},{"$f":"T459-HLOOKUP(X459,Feuil2!$C$1:$CD$9,7,FALSE)","v":{"$error":"#VALUE!"}},{"$f":"T459-HLOOKUP(X459,Feuil2!$C$1:$CD$9,8,FALSE)","v":{"$error":"#VALUE!"}},{"$f":"T459-HLOOKUP(X459,Feuil2!$C$1:$CD$9,9,FALSE)","v":{"$error":"#VALUE!"}},null,null,null,null,null,null,null,{"$error":"#VALUE!"},114,null,{"$f":"IF(AP459,VLOOKUP(AP459,HOM!$AR$551:$AS$606,2))","v":3.5710000000000002}]
["H",null,null,null,null,false,null,null,null,null,null,null,null,null,"",null,null,null,"","","","","",{"$f":"IF(AND(J460>=40,J460<45),VLOOKUP(K460,Feuil2!$F$10:$P$28,9),IF(AND(J460>=45,J460<50),VLOOKUP(K460,Feuil2!$F$10:$P$28,8),IF(AND(J460>=50,J460<55),VLOOKUP(K460,Feuil2!$F$10:$P$28,7),IF(AND(J460>=55,J460<60),VLOOKUP(K460,Feuil2!$F$10:$P$28,6),IF(AND(J460>=60,J460<65),VLOOKUP(K460,Feuil2!$F$10:$P$28,5),IF(AND(J460>=65,J460<70),VLOOKUP(K460,Feuil2!$F$10:$P$28,4),IF(AND(J460>=70,J460<75),VLOOKUP(K460,Feuil2!$F$10:$P$28,3),IF(AND(J460>=75,J460<80),VLOOKUP(K460,Feuil2!$F$10:$P$28,2),VLOOKUP(K460,Feuil2!$F$10:$P$28,2)))))))))","v":{"$error":"#N/A"}},null,{"$f":"T460-HLOOKUP(X460,Feuil2!$C$1:$CD$9,2,FALSE)","v":{"$error":"#VALUE!"}},{"$f":"T460-HLOOKUP(X460,Feuil2!$C$1:$CD$9,3,FALSE)","v":{"$error":"#VALUE!"}},{"$f":"T460-HLOOKUP(X460,Feuil2!$C$1:$CD$9,4,FALSE)","v":{"$error":"#VALUE!"}},{"$f":"T460-HLOOKUP(X460,Feuil2!$C$1:$CD$9,5,FALSE)","v":{"$error":"#VALUE!"}},{"$f":"T460-HLOOKUP(X460,Feuil2!$C$1:$CD$9,6,FALSE)","v":{"$error":"#VALUE!"}},{"$f":"T460-HLOOKUP(X460,Feuil2!$C$1:$CD$9,7,FALSE)","v":{"$error":"#VALUE!"}},{"$f":"T460-HLOOKUP(X460,Feuil2!$C$1:$CD$9,8,FALSE)","v":{"$error":"#VALUE!"}},{"$f":"T460-HLOOKUP(X460,Feuil2!$C$1:$CD$9,9,FALSE)","v":{"$error":"#VALUE!"}},null,null,null,null,null,null,null,{"$error":"#VALUE!"},114,null,{"$f":"IF(AP460,VLOOKUP(AP460,HOM!$AR$551:$AS$606,2))","v":3.5710000000000002}]
["H",null,null,null,null,false,null,null,null,null,null,null,null,null,"",null,null,null,"","","","","",{"$f":"IF(AND(J461>=40,J461<45),VLOOKUP(K461,Feuil2!$F$10:$P$28,9),IF(AND(J461>=45,J461<50),VLOOKUP(K461,Feuil2!$F$10:$P$28,8),IF(AND(J461>=50,J461<55),VLOOKUP(K461,Feuil2!$F$10:$P$28,7),IF(AND(J461>=55,J461<60),VLOOKUP(K461,Feuil2!$F$10:$P$28,6),IF(AND(J461>=60,J461<65),VLOOKUP(K461,Feuil2!$F$10:$P$28,5),IF(AND(J461>=65,J461<70),VLOOKUP(K461,Feuil2!$F$10:$P$28,4),IF(AND(J461>=70,J461<75),VLOOKUP(K461,Feuil2!$F$10:$P$28,3),IF(AND(J461>=75,J461<80),VLOOKUP(K461,Feuil2!$F$10:$P$28,2),VLOOKUP(K461,Feuil2!$F$10:$P$28,2)))))))))","v":{"$error":"#N/A"}},null,{"$f":"T461-HLOOKUP(X461,Feuil2!$C$1:$CD$9,2,FALSE)","v":{"$error":"#VALUE!"}},{"$f":"T461-HLOOKUP(X461,Feuil2!$C$1:$CD$9,3,FALSE)","v":{"$error":"#VALUE!"}},{"$f":"T461-HLOOKUP(X461,Feuil2!$C$1:$CD$9,4,FALSE)","v":{"$error":"#VALUE!"}},{"$f":"T461-HLOOKUP(X461,Feuil2!$C$1:$CD$9,5,FALSE)","v":{"$error":"#VALUE!"}},{"$f":"T461-HLOOKUP(X461,Feuil2!$C$1:$CD$9,6,FALSE)","v":{"$error":"#VALUE!"}},{"$f":"T461-HLOOKUP(X461,Feuil2!$C$1:$CD$9,7,FALSE)","v":{"$error":"#VALUE!"}},{"$f":"T461-HLOOKUP(X461,Feuil2!$C$1:$CD$9,8,FALSE)","v":{"$error":"#VALUE!"}},{"$f":"T461-HLOOKUP(X461,Feuil2!$C$1:$CD$9,9,FALSE)","v":{"$error":"#VALUE!"}},null,null,null,null,null,null,null,{"$error":"#VALUE!"},114,null,{"$f":"IF(AP461,VLOOKUP(AP461,HOM!$AR$551:$AS$606,2))","v":3.5710000000000002}]
["H",null,null,null,null,false,null,null,null,null,null,null,null,null,"",null,null,null,"","","","","",{"$f":"IF(AND(J462>=40,J462<45),VLOOKUP(K462,Feuil2!$F$10:$P$28,9),IF(AND(J462>=45,J462<50),VLOOKUP(K462,Feuil2!$F$10:$P$28,8),IF(AND(J462>=50,J462<55),VLOOKUP(K462,Feuil2!$F$10:$P$28,7),IF(AND(J462>=55,J462<60),VLOOKUP(K462,Feuil2!$F$10:$P$28,6),IF(AND(J462>=60,J462<65),VLOOKUP(K462,Feuil2!$F$10:$P$28,5),IF(AND(J462>=65,J462<70),VLOOKUP(K462,Feuil2!$F$10:$P$28,4),IF(AND(J462>=70,J462<75),VLOOKUP(K462,Feuil2!$F$10:$P$28,3),IF(AND(J462>=75,J462<80),VLOOKUP(K462,Feuil2!$F$10:$P$28,2),VLOOKUP(K462,Feuil2!$F$10:$P$28,2)))))))))","v":{"$error":"#N/A"}},null,{"$f":"T462-HLOOKUP(X462,Feuil2!$C$1:$CD$9,2,FALSE)","v":{"$error":"#VALUE!"}},{"$f":"T462-HLOOKUP(X462,Feuil2!$C$1:$CD$9,3,FALSE)","v":{"$error":"#VALUE!"}},{"$f":"T462-HLOOKUP(X462,Feuil2!$C$1:$CD$9,4,FALSE)","v":{"$error":"#VALUE!"}},{"$f":"T462-HLOOKUP(X462,Feuil2!$C$1:$CD$9,5,FALSE)","v":{"$error":"#VALUE!"}},{"$f":"T462-HLOOKUP(X462,Feuil2!$C$1:$CD$9,6,FALSE)","v":{"$error":"#VALUE!"}},{"$f":"T462-HLOOKUP(X462,Feuil2!$C$1:$CD$9,7,FALSE)","v":{"$error":"#VALUE!"}},{"$f":"T462-HLOOKUP(X462,Feuil2!$C$1:$CD$9,8,FALSE)","v":{"$error":"#VALUE!"}},{"$f":"T462-HLOOKUP(X462,Feuil2!$C$1:$CD$9,9,FALSE)","v":{"$error":"#VALUE!"}},null,null,null,null,null,null,null,{"$error":"#VALUE!"},114,null,{"$f":"IF(AP462,VLOOKUP(AP462,HOM!$AR$551:$AS$606,2))","v":3.5710000000000002}]
["H",null,null,null,null,false,null,null,null,null,null,null,null,null,"",null,null,null,"","","","","",{"$f":"IF(AND(J463>=40,J463<45),VLOOKUP(K463,Feuil2!$F$10:$P$28,9),IF(AND(J463>=45,J463<50),VLOOKUP(K463,Feuil2!$F$10:$P$28,8),IF(AND(J463>=50,J463<55),VLOOKUP(K463,Feuil2!$F$10:$P$28,7),IF(AND(J463>=55,J463<60),VLOOKUP(K463,Feuil2!$F$10:$P$28,6),IF(AND(J463>=60,J463<65),VLOOKUP(K463,Feuil2!$F$10:$P$28,5),IF(AND(J463>=65,J463<70),VLOOKUP(K463,Feuil2!$F$10:$P$28,4),IF(AND(J463>=70,J463<75),VLOOKUP(K463,Feuil2!$F$10:$P$28,3),IF(AND(J463>=75,J463<80),VLOOKUP(K463,Feuil2!$F$10:$P$28,2),VLOOKUP(K463,Feuil2!$F$10:$P$28,2)))))))))","v":{"$error":"#N/A"}},null,{"$f":"T463-HLOOKUP(X463,Feuil2!$C$1:$CD$9,2,FALSE)","v":{"$error":"#VALUE!"}},{"$f":"T463-HLOOKUP(X463,Feuil2!$C$1:$CD$9,3,FALSE)","v":{"$error":"#VALUE!"}},{"$f":"T463-HLOOKUP(X463,Feuil2!$C$1:$CD$9,4,FALSE)","v":{"$error":"#VALUE!"}},{"$f":"T463-HLOOKUP(X463,Feuil2!$C$1:$CD$9,5,FALSE)","v":{"$error":"#VALUE!"}},{"$f":"T463-HLOOKUP(X463,Feuil2!$C$1:$CD$9,6,FALSE)","v":{"$error":"#VALUE!"}},{"$f":"T463-HLOOKUP(X463,Feuil2!$C$1:$CD$9,7,FALSE)","v":{"$error":"#VALUE!"}},{"$f":"T463-HLOOKUP(X463,Feuil2!$C$1:$CD$9,8,FALSE)","v":{"$error":"#VALUE!"}},{"$f":"T463-HLOOKUP(X463,Feuil2!$C$1:$CD$9,9,FALSE)","v":{"$error":"#VALUE!"}},null,null,null,null,null,null,null,{"$error":"#VALUE!"},114,null,{"$f":"IF(AP463,VLOOKUP(AP463,HOM!$AR$551:$AS$606,2))","v":3.5710000000000002}]
["H",null,null,null,null,false,null,null,null,null,null,null,null,null,"",null,null,null,"","","","","",{"$f":"IF(AND(J464>=40,J464<45),VLOOKUP(K464,Feuil2!$F$10:$P$28,9),IF(AND(J464>=45,J464<50),VLOOKUP(K464,Feuil2!$F$10:$P$28,8),IF(AND(J464>=50,J464<55),VLOOKUP(K464,Feuil2!$F$10:$P$28,7),IF(AND(J464>=55,J464<60),VLOOKUP(K464,Feuil2!$F$10:$P$28,6),IF(AND(J464>=60,J464<65),VLOOKUP(K464,Feuil2!$F$10:$P$28,5),IF(AND(J464>=65,J464<70),VLOOKUP(K464,Feuil2!$F$10:$P$28,4),IF(AND(J464>=70,J464<75),VLOOKUP(K464,Feuil2!$F$10:$P$28,3),IF(AND(J464>=75,J464<80),VLOOKUP(K464,Feuil2!$F$10:$P$28,2),VLOOKUP(K464,Feuil2!$F$10:$P$28,2)))))))))","v":{"$error":"#N/A"}},null,{"$f":"T464-HLOOKUP(X464,Feuil2!$C$1:$CD$9,2,FALSE)","v":{"$error":"#VALUE!"}},{"$f":"T464-HLOOKUP(X464,Feuil2!$C$1:$CD$9,3,FALSE)","v":{"$error":"#VALUE!"}},{"$f":"T464-HLOOKUP(X464,Feuil2!$C$1:$CD$9,4,FALSE)","v":{"$error":"#VALUE!"}},{"$f":"T464-HLOOKUP(X464,Feuil2!$C$1:$CD$9,5,FALSE)","v":{"$error":"#VALUE!"}},{"$f":"T464-HLOOKUP(X464,Feuil2!$C$1:$CD$9,6,FALSE)","v":{"$error":"#VALUE!"}},{"$f":"T464-HLOOKUP(X464,Feuil2!$C$1:$CD$9,7,FALSE)","v":{"$error":"#VALUE!"}},{"$f":"T464-HLOOKUP(X464,Feuil2!$C$1:$CD$9,8,FALSE)","v":{"$error":"#VALUE!"}},{"$f":"T464-HLOOKUP(X464,Feuil2!$C$1:$CD$9,9,FALSE)","v":{"$error":"#VALUE!"}},null,null,null,null,null,null,null,{"$error":"#VALUE!"},114,null,{"$f":"IF(AP464,VLOOKUP(AP464,HOM!$AR$551:$AS$606,2))","v":3.5710000000000002}]
["H",null,null,null,null,false,null,null,null,null,null,null,null,null,"",null,null,null,"","","","","",{"$f":"IF(AND(J465>=40,J465<45),VLOOKUP(K465,Feuil2!$F$10:$P$28,9),IF(AND(J465>=45,J465<50),VLOOKUP(K465,Feuil2!$F$10:$P$28,8),IF(AND(J465>=50,J465<55),VLOOKUP(K465,Feuil2!$F$10:$P$28,7),IF(AND(J465>=55,J465<60),VLOOKUP(K465,Feuil2!$F$10:$P$28,6),IF(AND(J465>=60,J465<65),VLOOKUP(K465,Feuil2!$F$10:$P$28,5),IF(AND(J465>=65,J465<70),VLOOKUP(K465,Feuil2!$F$10:$P$28,4),IF(AND(J465>=70,J465<75),VLOOKUP(K465,Feuil2!$F$10:$P$28,3),IF(AND(J465>=75,J465<80),VLOOKUP(K465,Feuil2!$F$10:$P$28,2),VLOOKUP(K465,Feuil2!$F$10:$P$28,2)))))))))","v":{"$error":"#N/A"}},null,{"$f":"T465-HLOOKUP(X465,Feuil2!$C$1:$CD$9,2,FALSE)","v":{"$error":"#VALUE!"}},{"$f":"T465-HLOOKUP(X465,Feuil2!$C$1:$CD$9,3,FALSE)","v":{"$error":"#VALUE!"}},{"$f":"T465-HLOOKUP(X465,Feuil2!$C$1:$CD$9,4,FALSE)","v":{"$error":"#VALUE!"}},{"$f":"T465-HLOOKUP(X465,Feuil2!$C$1:$CD$9,5,FALSE)","v":{"$error":"#VALUE!"}},{"$f":"T465-HLOOKUP(X465,Feuil2!$C$1:$CD$9,6,FALSE)","v":{"$error":"#VALUE!"}},{"$f":"T465-HLOOKUP(X465,Feuil2!$C$1:$CD$9,7,FALSE)","v":{"$error":"#VALUE!"}},{"$f":"T465-HLOOKUP(X465,Feuil2!$C$1:$CD$9,8,FALSE)","v":{"$error":"#VALUE!"}},{"$f":"T465-HLOOKUP(X465,Feuil2!$C$1:$CD$9,9,FALSE)","v":{"$error":"#VALUE!"}},null,null,null,null,null,null,null,{"$error":"#VALUE!"},114,null,{"$f":"IF(AP465,VLOOKUP(AP465,HOM!$AR$551:$AS$606,2))","v":3.5710000000000002}]
["H",null,null,null,null,false,null,null,null,null,null,null,null,null,"",null,null,null,"","","","","",{"$f":"IF(AND(J466>=40,J466<45),VLOOKUP(K466,Feuil2!$F$10:$P$28,9),IF(AND(J466>=45,J466<50),VLOOKUP(K466,Feuil2!$F$10:$P$28,8),IF(AND(J466>=50,J466<55),VLOOKUP(K466,Feuil2!$F$10:$P$28,7),IF(AND(J466>=55,J466<60),VLOOKUP(K466,Feuil2!$F$10:$P$28,6),IF(AND(J466>=60,J466<65),VLOOKUP(K466,Feuil2!$F$10:$P$28,5),IF(AND(J466>=65,J466<70),VLOOKUP(K466,Feuil2!$F$10:$P$28,4),IF(AND(J466>=70,J466<75),VLOOKUP(K466,Feuil2!$F$10:$P$28,3),IF(AND(J466>=75,J466<80),VLOOKUP(K466,Feuil2!$F$10:$P$28,2),VLOOKUP(K466,Feuil2!$F$10:$P$28,2)))))))))","v":{"$error":"#N/A"}},null,{"$f":"T466-HLOOKUP(X466,Feuil2!$C$1:$CD$9,2,FALSE)","v":{"$error":"#VALUE!"}},{"$f":"T466-HLOOKUP(X466,Feuil2!$C$1:$CD$9,3,FALSE)","v":{"$error":"#VALUE!"}},{"$f":"T466-HLOOKUP(X466,Feuil2!$C$1:$CD$9,4,FALSE)","v":{"$error":"#VALUE!"}},{"$f":"T466-HLOOKUP(X466,Feuil2!$C$1:$CD$9,5,FALSE)","v":{"$error":"#VALUE!"}},{"$f":"T466-HLOOKUP(X466,Feuil2!$C$1:$CD$9,6,FALSE)","v":{"$error":"#VALUE!"}},{"$f":"T466-HLOOKUP(X466,Feuil2!$C$1:$CD$9,7,FALSE)","v":{"$error":"#VALUE!"}},{"$f":"T466-HLOOKUP(X466,Feuil2!$C$1:$CD$9,8,FALSE)","v":{"$error":"#VALUE!"}},{"$f":"T466-HLOOKUP(X466,Feuil2!$C$1:$CD$9,9,FALSE)","v":{"$error":"#VALUE!"}},null,null,null,null,null,null,null,{"$error":"#VALUE!"},114,null,{"$f":"IF(AP466,VLOOKUP(AP466,HOM!$AR$551:$AS$606,2))","v":3.5710000000000002}]
["H",null,null,null,null,false,null,null,null,null,null,null,null,null,"",null,null,null,"","","","","",{"$f":"IF(AND(J467>=40,J467<45),VLOOKUP(K467,Feuil2!$F$10:$P$28,9),IF(AND(J467>=45,J467<50),VLOOKUP(K467,Feuil2!$F$10:$P$28,8),IF(AND(J467>=50,J467<55),VLOOKUP(K467,Feuil2!$F$10:$P$28,7),IF(AND(J467>=55,J467<60),VLOOKUP(K467,Feuil2!$F$10:$P$28,6),IF(AND(J467>=60,J467<65),VLOOKUP(K467,Feuil2!$F$10:$P$28,5),IF(AND(J467>=65,J467<70),VLOOKUP(K467,Feuil2!$F$10:$P$28,4),IF(AND(J467>=70,J467<75),VLOOKUP(K467,Feuil2!$F$10:$P$28,3),IF(AND(J467>=75,J467<80),VLOOKUP(K467,Feuil2!$F$10:$P$28,2),VLOOKUP(K467,Feuil2!$F$10:$P$28,2)))))))))","v":{"$error":"#N/A"}},null,{"$f":"T467-HLOOKUP(X467,Feuil2!$C$1:$CD$9,2,FALSE)","v":{"$error":"#VALUE!"}},{"$f":"T467-HLOOKUP(X467,Feuil2!$C$1:$CD$9,3,FALSE)","v":{"$error":"#VALUE!"}},{"$f":"T467-HLOOKUP(X467,Feuil2!$C$1:$CD$9,4,FALSE)","v":{"$error":"#VALUE!"}},{"$f":"T467-HLOOKUP(X467,Feuil2!$C$1:$CD$9,5,FALSE)","v":{"$error":"#VALUE!"}},{"$f":"T467-HLOOKUP(X467,Feuil2!$C$1:$CD$9,6,FALSE)","v":{"$error":"#VALUE!"}},{"$f":"T467-HLOOKUP(X467,Feuil2!$C$1:$CD$9,7,FALSE)","v":{"$error":"#VALUE!"}},{"$f":"T467-HLOOKUP(X467,Feuil2!$C$1:$CD$9,8,FALSE)","v":{"$error":"#VALUE!"}},{"$f":"T467-HLOOKUP(X467,Feuil2!$C$1:$CD$9,9,FALSE)","v":{"$error":"#VALUE!"}},null,null,null,null,null,null,null,{"$error":"#VALUE!"},114,null,{"$f":"IF(AP467,VLOOKUP(AP467,HOM!$AR$551:$AS$606,2))","v":3.5710000000000002}]
["H",null,null,null,null,false,null,null,null,null,null,null,null,null,"",null,null,null,"","","","","",{"$f":"IF(AND(J468>=40,J468<45),VLOOKUP(K468,Feuil2!$F$10:$P$28,9),IF(AND(J468>=45,J468<50),VLOOKUP(K468,Feuil2!$F$10:$P$28,8),IF(AND(J468>=50,J468<55),VLOOKUP(K468,Feuil2!$F$10:$P$28,7),IF(AND(J468>=55,J468<60),VLOOKUP(K468,Feuil2!$F$10:$P$28,6),IF(AND(J468>=60,J468<65),VLOOKUP(K468,Feuil2!$F$10:$P$28,5),IF(AND(J468>=65,J468<70),VLOOKUP(K468,Feuil2!$F$10:$P$28,4),IF(AND(J468>=70,J468<75),VLOOKUP(K468,Feuil2!$F$10:$P$28,3),IF(AND(J468>=75,J468<80),VLOOKUP(K468,Feuil2!$F$10:$P$28,2),VLOOKUP(K468,Feuil2!$F$10:$P$28,2)))))))))","v":{"$error":"#N/A"}},null,{"$f":"T468-HLOOKUP(X468,Feuil2!$C$1:$CD$9,2,FALSE)","v":{"$error":"#VALUE!"}},{"$f":"T468-HLOOKUP(X468,Feuil2!$C$1:$CD$9,3,FALSE)","v":{"$error":"#VALUE!"}},{"$f":"T468-HLOOKUP(X468,Feuil2!$C$1:$CD$9,4,FALSE)","v":{"$error":"#VALUE!"}},{"$f":"T468-HLOOKUP(X468,Feuil2!$C$1:$CD$9,5,FALSE)","v":{"$error":"#VALUE!"}},{"$f":"T468-HLOOKUP(X468,Feuil2!$C$1:$CD$9,6,FALSE)","v":{"$error":"#VALUE!"}},{"$f":"T468-HLOOKUP(X468,Feuil2!$C$1:$CD$9,7,FALSE)","v":{"$error":"#VALUE!"}},{"$f":"T468-HLOOKUP(X468,Feuil2!$C$1:$CD$9,8,FALSE)","v":{"$error":"#VALUE!"}},{"$f":"T468-HLOOKUP(X468,Feuil2!$C$1:$CD$9,9,FALSE)","v":{"$error":"#VALUE!"}},null,null,null,null,null,null,null,{"$error":"#VALUE!"},114,null,{"$f":"IF(AP468,VLOOKUP(AP468,HOM!$AR$551:$AS$606,2))","v":3.5710000000000002}]
["H",null,null,null,null,false,null,null,null,null,null,null,null,null,{"$f":"IF(K469=\"\",\"\",IF(MAXA(L469:N469)<=0,0,MAXA(L469:N469)))","v":""},null,null,null,{"$f":"IF(K469=\"\",\"\",IF(MAXA(P469:R469)<=0,0,MAXA(P469:R469)))","v":""},{"$f":"IF(K469=\"\",\"\",IF(OR(O469=0,S469=0),0,O469+S469))","v":""},"","","",{"$f":"IF(AND(J469>=40,J469<45),VLOOKUP(K469,Feuil2!$F$10:$P$28,9),IF(AND(J469>=45,J469<50),VLOOKUP(K469,Feuil2!$F$10:$P$28,8),IF(AND(J469>=50,J469<55),VLOOKUP(K469,Feuil2!$F$10:$P$28,7),IF(AND(J469>=55,J469<60),VLOOKUP(K469,Feuil2!$F$10:$P$28,6),IF(AND(J469>=60,J469<65),VLOOKUP(K469,Feuil2!$F$10:$P$28,5),IF(AND(J469>=65,J469<70),VLOOKUP(K469,Feuil2!$F$10:$P$28,4),IF(AND(J469>=70,J469<75),VLOOKUP(K469,Feuil2!$F$10:$P$28,3),IF(AND(J469>=75,J469<80),VLOOKUP(K469,Feuil2!$F$10:$P$28,2),VLOOKUP(K469,Feuil2!$F$10:$P$28,2)))))))))","v":{"$error":"#N/A"}},null,{"$f":"T469-HLOOKUP(X469,Feuil2!$C$1:$CD$9,2,FALSE)","v":{"$error":"#VALUE!"}},{"$f":"T469-HLOOKUP(X469,Feuil2!$C$1:$CD$9,3,FALSE)","v":{"$error":"#VALUE!"}},{"$f":"T469-HLOOKUP(X469,Feuil2!$C$1:$CD$9,4,FALSE)","v":{"$error":"#VALUE!"}},{"$f":"T469-HLOOKUP(X469,Feuil2!$C$1:$CD$9,5,FALSE)","v":{"$error":"#VALUE!"}},{"$f":"T469-HLOOKUP(X469,Feuil2!$C$1:$CD$9,6,FALSE)","v":{"$error":"#VALUE!"}},{"$f":"T469-HLOOKUP(X469,Feuil2!$C$1:$CD$9,7,FALSE)","v":{"$error":"#VALUE!"}},{"$f":"T469-HLOOKUP(X469,Feuil2!$C$1:$CD$9,8,FALSE)","v":{"$error":"#VALUE!"}},{"$f":"T469-HLOOKUP(X469,Feuil2!$C$1:$CD$9,9,FALSE)","v":{"$error":"#VALUE!"}},null,null,null,null,null,null,null,{"$error":"#VALUE!"},114,null,{"$f":"IF(AP469,VLOOKUP(AP469,HOM!$AR$551:$AS$606,2))","v":3.5710000000000002}]
["H",null,null,null,null,false,null,null,null,null,null,null,null,null,"",null,null,null,"","","","","",{"$f":"IF(AND(J470>=40,J470<45),VLOOKUP(K470,Feuil2!$F$10:$P$28,9),IF(AND(J470>=45,J470<50),VLOOKUP(K470,Feuil2!$F$10:$P$28,8),IF(AND(J470>=50,J470<55),VLOOKUP(K470,Feuil2!$F$10:$P$28,7),IF(AND(J470>=55,J470<60),VLOOKUP(K470,Feuil2!$F$10:$P$28,6),IF(AND(J470>=60,J470<65),VLOOKUP(K470,Feuil2!$F$10:$P$28,5),IF(AND(J470>=65,J470<70),VLOOKUP(K470,Feuil2!$F$10:$P$28,4),IF(AND(J470>=70,J470<75),VLOOKUP(K470,Feuil2!$F$10:$P$28,3),IF(AND(J470>=75,J470<80),VLOOKUP(K470,Feuil2!$F$10:$P$28,2),VLOOKUP(K470,Feuil2!$F$10:$P$28,2)))))))))","v":{"$error":"#N/A"}},null,{"$f":"T470-HLOOKUP(X470,Feuil2!$C$1:$CD$9,2,FALSE)","v":{"$error":"#VALUE!"}},{"$f":"T470-HLOOKUP(X470,Feuil2!$C$1:$CD$9,3,FALSE)","v":{"$error":"#VALUE!"}},{"$f":"T470-HLOOKUP(X470,Feuil2!$C$1:$CD$9,4,FALSE)","v":{"$error":"#VALUE!"}},{"$f":"T470-HLOOKUP(X470,Feuil2!$C$1:$CD$9,5,FALSE)","v":{"$error":"#VALUE!"}},{"$f":"T470-HLOOKUP(X470,Feuil2!$C$1:$CD$9,6,FALSE)","v":{"$error":"#VALUE!"}},{"$f":"T470-HLOOKUP(X470,Feuil2!$C$1:$CD$9,7,FALSE)","v":{"$error":"#VALUE!"}},{"$f":"T470-HLOOKUP(X470,Feuil2!$C$1:$CD$9,8,FALSE)","v":{"$error":"#VALUE!"}},{"$f":"T470-HLOOKUP(X470,Feuil2!$C$1:$CD$9,9,FALSE)","v":{"$error":"#VALUE!"}},null,null,null,null,null,null,null,{"$error":"#VALUE!"},114,null,{"$f":"IF(AP470,VLOOKUP(AP470,HOM!$AR$551:$AS$606,2))","v":3.5710000000000002}]
["H",null,null,null,null,false,null,null,null,null,null,null,null,null,"",null,null,null,"","","","","",{"$f":"IF(AND(J471>=40,J471<45),VLOOKUP(K471,Feuil2!$F$10:$P$28,9),IF(AND(J471>=45,J471<50),VLOOKUP(K471,Feuil2!$F$10:$P$28,8),IF(AND(J471>=50,J471<55),VLOOKUP(K471,Feuil2!$F$10:$P$28,7),IF(AND(J471>=55,J471<60),VLOOKUP(K471,Feuil2!$F$10:$P$28,6),IF(AND(J471>=60,J471<65),VLOOKUP(K471,Feuil2!$F$10:$P$28,5),IF(AND(J471>=65,J471<70),VLOOKUP(K471,Feuil2!$F$10:$P$28,4),IF(AND(J471>=70,J471<75),VLOOKUP(K471,Feuil2!$F$10:$P$28,3),IF(AND(J471>=75,J471<80),VLOOKUP(K471,Feuil2!$F$10:$P$28,2),VLOOKUP(K471,Feuil2!$F$10:$P$28,2)))))))))","v":{"$error":"#N/A"}},null,{"$f":"T471-HLOOKUP(X471,Feuil2!$C$1:$CD$9,2,FALSE)","v":{"$error":"#VALUE!"}},{"$f":"T471-HLOOKUP(X471,Feuil2!$C$1:$CD$9,3,FALSE)","v":{"$error":"#VALUE!"}},{"$f":"T471-HLOOKUP(X471,Feuil2!$C$1:$CD$9,4,FALSE)","v":{"$error":"#VALUE!"}},{"$f":"T471-HLOOKUP(X471,Feuil2!$C$1:$CD$9,5,FALSE)","v":{"$error":"#VALUE!"}},{"$f":"T471-HLOOKUP(X471,Feuil2!$C$1:$CD$9,6,FALSE)","v":{"$error":"#VALUE!"}},{"$f":"T471-HLOOKUP(X471,Feuil2!$C$1:$CD$9,7,FALSE)","v":{"$error":"#VALUE!"}},{"$f":"T471-HLOOKUP(X471,Feuil2!$C$1:$CD$9,8,FALSE)","v":{"$error":"#VALUE!"}},{"$f":"T471-HLOOKUP(X471,Feuil2!$C$1:$CD$9,9,FALSE)","v":{"$error":"#VALUE!"}},null,null,null,null,null,null,null,{"$error":"#VALUE!"},114,null,{"$f":"IF(AP471,VLOOKUP(AP471,HOM!$AR$551:$AS$606,2))","v":3.5710000000000002}]
["H",null,null,null,null,false,null,null,null,null,null,null,null,null,"",null,null,null,"","","","","",{"$f":"IF(AND(J472>=40,J472<45),VLOOKUP(K472,Feuil2!$F$10:$P$28,9),IF(AND(J472>=45,J472<50),VLOOKUP(K472,Feuil2!$F$10:$P$28,8),IF(AND(J472>=50,J472<55),VLOOKUP(K472,Feuil2!$F$10:$P$28,7),IF(AND(J472>=55,J472<60),VLOOKUP(K472,Feuil2!$F$10:$P$28,6),IF(AND(J472>=60,J472<65),VLOOKUP(K472,Feuil2!$F$10:$P$28,5),IF(AND(J472>=65,J472<70),VLOOKUP(K472,Feuil2!$F$10:$P$28,4),IF(AND(J472>=70,J472<75),VLOOKUP(K472,Feuil2!$F$10:$P$28,3),IF(AND(J472>=75,J472<80),VLOOKUP(K472,Feuil2!$F$10:$P$28,2),VLOOKUP(K472,Feuil2!$F$10:$P$28,2)))))))))","v":{"$error":"#N/A"}},null,{"$f":"T472-HLOOKUP(X472,Feuil2!$C$1:$CD$9,2,FALSE)","v":{"$error":"#VALUE!"}},{"$f":"T472-HLOOKUP(X472,Feuil2!$C$1:$CD$9,3,FALSE)","v":{"$error":"#VALUE!"}},{"$f":"T472-HLOOKUP(X472,Feuil2!$C$1:$CD$9,4,FALSE)","v":{"$error":"#VALUE!"}},{"$f":"T472-HLOOKUP(X472,Feuil2!$C$1:$CD$9,5,FALSE)","v":{"$error":"#VALUE!"}},{"$f":"T472-HLOOKUP(X472,Feuil2!$C$1:$CD$9,6,FALSE)","v":{"$error":"#VALUE!"}},{"$f":"T472-HLOOKUP(X472,Feuil2!$C$1:$CD$9,7,FALSE)","v":{"$error":"#VALUE!"}},{"$f":"T472-HLOOKUP(X472,Feuil2!$C$1:$CD$9,8,FALSE)","v":{"$error":"#VALUE!"}},{"$f":"T472-HLOOKUP(X472,Feuil2!$C$1:$CD$9,9,FALSE)","v":{"$error":"#VALUE!"}},null,null,null,null,null,null,null,{"$error":"#VALUE!"},114,null,{"$f":"IF(AP472,VLOOKUP(AP472,HOM!$AR$551:$AS$606,2))","v":3.5710000000000002}]
["H",null,null,null,null,false,null,null,null,null,null,null,null,null,"",null,null,null,"","","","","",{"$f":"IF(AND(J473>=40,J473<45),VLOOKUP(K473,Feuil2!$F$10:$P$28,9),IF(AND(J473>=45,J473<50),VLOOKUP(K473,Feuil2!$F$10:$P$28,8),IF(AND(J473>=50,J473<55),VLOOKUP(K473,Feuil2!$F$10:$P$28,7),IF(AND(J473>=55,J473<60),VLOOKUP(K473,Feuil2!$F$10:$P$28,6),IF(AND(J473>=60,J473<65),VLOOKUP(K473,Feuil2!$F$10:$P$28,5),IF(AND(J473>=65,J473<70),VLOOKUP(K473,Feuil2!$F$10:$P$28,4),IF(AND(J473>=70,J473<75),VLOOKUP(K473,Feuil2!$F$10:$P$28,3),IF(AND(J473>=75,J473<80),VLOOKUP(K473,Feuil2!$F$10:$P$28,2),VLOOKUP(K473,Feuil2!$F$10:$P$28,2)))))))))","v":{"$error":"#N/A"}},null,{"$f":"T473-HLOOKUP(X473,Feuil2!$C$1:$CD$9,2,FALSE)","v":{"$error":"#VALUE!"}},{"$f":"T473-HLOOKUP(X473,Feuil2!$C$1:$CD$9,3,FALSE)","v":{"$error":"#VALUE!"}},{"$f":"T473-HLOOKUP(X473,Feuil2!$C$1:$CD$9,4,FALSE)","v":{"$error":"#VALUE!"}},{"$f":"T473-HLOOKUP(X473,Feuil2!$C$1:$CD$9,5,FALSE)","v":{"$error":"#VALUE!"}},{"$f":"T473-HLOOKUP(X473,Feuil2!$C$1:$CD$9,6,FALSE)","v":{"$error":"#VALUE!"}},{"$f":"T473-HLOOKUP(X473,Feuil2!$C$1:$CD$9,7,FALSE)","v":{"$error":"#VALUE!"}},{"$f":"T473-HLOOKUP(X473,Feuil2!$C$1:$CD$9,8,FALSE)","v":{"$error":"#VALUE!"}},{"$f":"T473-HLOOKUP(X473,Feuil2!$C$1:$CD$9,9,FALSE)","v":{"$error":"#VALUE!"}},null,null,null,null,null,null,null,{"$error":"#VALUE!"},114,null,{"$f":"IF(AP473,VLOOKUP(AP473,HOM!$AR$551:$AS$606,2))","v":3.5710000000000002}]
["H",null,null,null,null,{"$f":"IF(AP474<95,IF(AP474<=90,VLOOKUP(AP474,$AP$550:$AQ$605,2)))","v":false},null,null,null,null,null,null,null,null,"",null,null,null,"","","","","",{"$f":"IF(AND(J474>=40,J474<45),VLOOKUP(K474,Feuil2!$F$10:$P$28,9),IF(AND(J474>=45,J474<50),VLOOKUP(K474,Feuil2!$F$10:$P$28,8),IF(AND(J474>=50,J474<55),VLOOKUP(K474,Feuil2!$F$10:$P$28,7),IF(AND(J474>=55,J474<60),VLOOKUP(K474,Feuil2!$F$10:$P$28,6),IF(AND(J474>=60,J474<65),VLOOKUP(K474,Feuil2!$F$10:$P$28,5),IF(AND(J474>=65,J474<70),VLOOKUP(K474,Feuil2!$F$10:$P$28,4),IF(AND(J474>=70,J474<75),VLOOKUP(K474,Feuil2!$F$10:$P$28,3),IF(AND(J474>=75,J474<80),VLOOKUP(K474,Feuil2!$F$10:$P$28,2),VLOOKUP(K474,Feuil2!$F$10:$P$28,2)))))))))","v":{"$error":"#N/A"}},null,{"$f":"T474-HLOOKUP(X474,Feuil2!$C$1:$CD$9,2,FALSE)","v":{"$error":"#VALUE!"}},{"$f":"T474-HLOOKUP(X474,Feuil2!$C$1:$CD$9,3,FALSE)","v":{"$error":"#VALUE!"}},{"$f":"T474-HLOOKUP(X474,Feuil2!$C$1:$CD$9,4,FALSE)","v":{"$error":"#VALUE!"}},{"$f":"T474-HLOOKUP(X474,Feuil2!$C$1:$CD$9,5,FALSE)","v":{"$error":"#VALUE!"}},{"$f":"T474-HLOOKUP(X474,Feuil2!$C$1:$CD$9,6,FALSE)","v":{"$error":"#VALUE!"}},{"$f":"T474-HLOOKUP(X474,Feuil2!$C$1:$CD$9,7,FALSE)","v":{"$error":"#VALUE!"}},{"$f":"T474-HLOOKUP(X474,Feuil2!$C$1:$CD$9,8,FALSE)","v":{"$error":"#VALUE!"}},{"$f":"T474-HLOOKUP(X474,Feuil2!$C$1:$CD$9,9,FALSE)","v":{"$error":"#VALUE!"}},null,null,null,null,null,null,null,{"$error":"#VALUE!"},114,null,{"$f":"IF(AP474,VLOOKUP(AP474,HOM!$AR$551:$AS$606,2))","v":3.5710000000000002}]
["H",null,null,null,null,false,null,null,null,null,null,null,null,null,"",null,null,null,"","","","","",{"$f":"IF(AND(J475>=40,J475<45),VLOOKUP(K475,Feuil2!$F$10:$P$28,9),IF(AND(J475>=45,J475<50),VLOOKUP(K475,Feuil2!$F$10:$P$28,8),IF(AND(J475>=50,J475<55),VLOOKUP(K475,Feuil2!$F$10:$P$28,7),IF(AND(J475>=55,J475<60),VLOOKUP(K475,Feuil2!$F$10:$P$28,6),IF(AND(J475>=60,J475<65),VLOOKUP(K475,Feuil2!$F$10:$P$28,5),IF(AND(J475>=65,J475<70),VLOOKUP(K475,Feuil2!$F$10:$P$28,4),IF(AND(J475>=70,J475<75),VLOOKUP(K475,Feuil2!$F$10:$P$28,3),IF(AND(J475>=75,J475<80),VLOOKUP(K475,Feuil2!$F$10:$P$28,2),VLOOKUP(K475,Feuil2!$F$10:$P$28,2)))))))))","v":{"$error":"#N/A"}},null,{"$f":"T475-HLOOKUP(X475,Feuil2!$C$1:$CD$9,2,FALSE)","v":{"$error":"#VALUE!"}},{"$f":"T475-HLOOKUP(X475,Feuil2!$C$1:$CD$9,3,FALSE)","v":{"$error":"#VALUE!"}},{"$f":"T475-HLOOKUP(X475,Feuil2!$C$1:$CD$9,4,FALSE)","v":{"$error":"#VALUE!"}},{"$f":"T475-HLOOKUP(X475,Feuil2!$C$1:$CD$9,5,FALSE)","v":{"$error":"#VALUE!"}},{"$f":"T475-HLOOKUP(X475,Feuil2!$C$1:$CD$9,6,FALSE)","v":{"$error":"#VALUE!"}},{"$f":"T475-HLOOKUP(X475,Feuil2!$C$1:$CD$9,7,FALSE)","v":{"$error":"#VALUE!"}},{"$f":"T475-HLOOKUP(X475,Feuil2!$C$1:$CD$9,8,FALSE)","v":{"$error":"#VALUE!"}},{"$f":"T475-HLOOKUP(X475,Feuil2!$C$1:$CD$9,9,FALSE)","v":{"$error":"#VALUE!"}},null,null,null,null,null,null,null,{"$error":"#VALUE!"},114,null,{"$f":"IF(AP475,VLOOKUP(AP475,HOM!$AR$551:$AS$606,2))","v":3.5710000000000002}]
["H",null,null,null,null,false,null,null,null,null,null,null,null,null,"",null,null,null,"","","","","",{"$f":"IF(AND(J476>=40,J476<45),VLOOKUP(K476,Feuil2!$F$10:$P$28,9),IF(AND(J476>=45,J476<50),VLOOKUP(K476,Feuil2!$F$10:$P$28,8),IF(AND(J476>=50,J476<55),VLOOKUP(K476,Feuil2!$F$10:$P$28,7),IF(AND(J476>=55,J476<60),VLOOKUP(K476,Feuil2!$F$10:$P$28,6),IF(AND(J476>=60,J476<65),VLOOKUP(K476,Feuil2!$F$10:$P$28,5),IF(AND(J476>=65,J476<70),VLOOKUP(K476,Feuil2!$F$10:$P$28,4),IF(AND(J476>=70,J476<75),VLOOKUP(K476,Feuil2!$F$10:$P$28,3),IF(AND(J476>=75,J476<80),VLOOKUP(K476,Feuil2!$F$10:$P$28,2),VLOOKUP(K476,Feuil2!$F$10:$P$28,2)))))))))","v":{"$error":"#N/A"}},null,{"$f":"T476-HLOOKUP(X476,Feuil2!$C$1:$CD$9,2,FALSE)","v":{"$error":"#VALUE!"}},{"$f":"T476-HLOOKUP(X476,Feuil2!$C$1:$CD$9,3,FALSE)","v":{"$error":"#VALUE!"}},{"$f":"T476-HLOOKUP(X476,Feuil2!$C$1:$CD$9,4,FALSE)","v":{"$error":"#VALUE!"}},{"$f":"T476-HLOOKUP(X476,Feuil2!$C$1:$CD$9,5,FALSE)","v":{"$error":"#VALUE!"}},{"$f":"T476-HLOOKUP(X476,Feuil2!$C$1:$CD$9,6,FALSE)","v":{"$error":"#VALUE!"}},{"$f":"T476-HLOOKUP(X476,Feuil2!$C$1:$CD$9,7,FALSE)","v":{"$error":"#VALUE!"}},{"$f":"T476-HLOOKUP(X476,Feuil2!$C$1:$CD$9,8,FALSE)","v":{"$error":"#VALUE!"}},{"$f":"T476-HLOOKUP(X476,Feuil2!$C$1:$CD$9,9,FALSE)","v":{"$error":"#VALUE!"}},null,null,null,null,null,null,null,{"$error":"#VALUE!"},114,null,{"$f":"IF(AP476,VLOOKUP(AP476,HOM!$AR$551:$AS$606,2))","v":3.5710000000000002}]
["H",null,null,null,null,false,null,null,null,null,null,null,null,null,"",null,null,null,"","","","","",{"$f":"IF(AND(J477>=40,J477<45),VLOOKUP(K477,Feuil2!$F$10:$P$28,9),IF(AND(J477>=45,J477<50),VLOOKUP(K477,Feuil2!$F$10:$P$28,8),IF(AND(J477>=50,J477<55),VLOOKUP(K477,Feuil2!$F$10:$P$28,7),IF(AND(J477>=55,J477<60),VLOOKUP(K477,Feuil2!$F$10:$P$28,6),IF(AND(J477>=60,J477<65),VLOOKUP(K477,Feuil2!$F$10:$P$28,5),IF(AND(J477>=65,J477<70),VLOOKUP(K477,Feuil2!$F$10:$P$28,4),IF(AND(J477>=70,J477<75),VLOOKUP(K477,Feuil2!$F$10:$P$28,3),IF(AND(J477>=75,J477<80),VLOOKUP(K477,Feuil2!$F$10:$P$28,2),VLOOKUP(K477,Feuil2!$F$10:$P$28,2)))))))))","v":{"$error":"#N/A"}},null,{"$f":"T477-HLOOKUP(X477,Feuil2!$C$1:$CD$9,2,FALSE)","v":{"$error":"#VALUE!"}},{"$f":"T477-HLOOKUP(X477,Feuil2!$C$1:$CD$9,3,FALSE)","v":{"$error":"#VALUE!"}},{"$f":"T477-HLOOKUP(X477,Feuil2!$C$1:$CD$9,4,FALSE)","v":{"$error":"#VALUE!"}},{"$f":"T477-HLOOKUP(X477,Feuil2!$C$1:$CD$9,5,FALSE)","v":{"$error":"#VALUE!"}},{"$f":"T477-HLOOKUP(X477,Feuil2!$C$1:$CD$9,6,FALSE)","v":{"$error":"#VALUE!"}},{"$f":"T477-HLOOKUP(X477,Feuil2!$C$1:$CD$9,7,FALSE)","v":{"$error":"#VALUE!"}},{"$f":"T477-HLOOKUP(X477,Feuil2!$C$1:$CD$9,8,FALSE)","v":{"$error":"#VALUE!"}},{"$f":"T477-HLOOKUP(X477,Feuil2!$C$1:$CD$9,9,FALSE)","v":{"$error":"#VALUE!"}},null,null,null,null,null,null,null,{"$error":"#VALUE!"},{"$f":"114-J477","v":114},null,{"$f":"IF(AP477,VLOOKUP(AP477,HOM!$AR$551:$AS$606,2))","v":3.5710000000000002}]
["H",null,null,null,null,false,null,null,null,null,null,null,null,null,"",null,null,null,"","","","","",{"$f":"IF(AND(J478>=40,J478<45),VLOOKUP(K478,Feuil2!$F$10:$P$28,9),IF(AND(J478>=45,J478<50),VLOOKUP(K478,Feuil2!$F$10:$P$28,8),IF(AND(J478>=50,J478<55),VLOOKUP(K478,Feuil2!$F$10:$P$28,7),IF(AND(J478>=55,J478<60),VLOOKUP(K478,Feuil2!$F$10:$P$28,6),IF(AND(J478>=60,J478<65),VLOOKUP(K478,Feuil2!$F$10:$P$28,5),IF(AND(J478>=65,J478<70),VLOOKUP(K478,Feuil2!$F$10:$P$28,4),IF(AND(J478>=70,J478<75),VLOOKUP(K478,Feuil2!$F$10:$P$28,3),IF(AND(J478>=75,J478<80),VLOOKUP(K478,Feuil2!$F$10:$P$28,2),VLOOKUP(K478,Feuil2!$F$10:$P$28,2)))))))))","v":{"$error":"#N/A"}},null,{"$f":"T478-HLOOKUP(X478,Feuil2!$C$1:$CD$9,2,FALSE)","v":{"$error":"#VALUE!"}},{"$f":"T478-HLOOKUP(X478,Feuil2!$C$1:$CD$9,3,FALSE)","v":{"$error":"#VALUE!"}},{"$f":"T478-HLOOKUP(X478,Feuil2!$C$1:$CD$9,4,FALSE)","v":{"$error":"#VALUE!"}},{"$f":"T478-HLOOKUP(X478,Feuil2!$C$1:$CD$9,5,FALSE)","v":{"$error":"#VALUE!"}},{"$f":"T478-HLOOKUP(X478,Feuil2!$C$1:$CD$9,6,FALSE)","v":{"$error":"#VALUE!"}},{"$f":"T478-HLOOKUP(X478,Feuil2!$C$1:$CD$9,7,FALSE)","v":{"$error":"#VALUE!"}},{"$f":"T478-HLOOKUP(X478,Feuil2!$C$1:$CD$9,8,FALSE)","v":{"$error":"#VALUE!"}},{"$f":"T478-HLOOKUP(X478,Feuil2!$C$1:$CD$9,9,FALSE)","v":{"$error":"#VALUE!"}},null,null,null,null,null,null,null,{"$error":"#VALUE!"},114,null,{"$f":"IF(AP478,VLOOKUP(AP478,HOM!$AR$551:$AS$606,2))","v":3.5710000000000002}]
["H",null,null,null,null,false,null,null,null,null,null,null,null,null,"",null,null,null,"","","","","",{"$f":"IF(AND(J479>=40,J479<45),VLOOKUP(K479,Feuil2!$F$10:$P$28,9),IF(AND(J479>=45,J479<50),VLOOKUP(K479,Feuil2!$F$10:$P$28,8),IF(AND(J479>=50,J479<55),VLOOKUP(K479,Feuil2!$F$10:$P$28,7),IF(AND(J479>=55,J479<60),VLOOKUP(K479,Feuil2!$F$10:$P$28,6),IF(AND(J479>=60,J479<65),VLOOKUP(K479,Feuil2!$F$10:$P$28,5),IF(AND(J479>=65,J479<70),VLOOKUP(K479,Feuil2!$F$10:$P$28,4),IF(AND(J479>=70,J479<75),VLOOKUP(K479,Feuil2!$F$10:$P$28,3),IF(AND(J479>=75,J479<80),VLOOKUP(K479,Feuil2!$F$10:$P$28,2),VLOOKUP(K479,Feuil2!$F$10:$P$28,2)))))))))","v":{"$error":"#N/A"}},null,{"$f":"T479-HLOOKUP(X479,Feuil2!$C$1:$CD$9,2,FALSE)","v":{"$error":"#VALUE!"}},{"$f":"T479-HLOOKUP(X479,Feuil2!$C$1:$CD$9,3,FALSE)","v":{"$error":"#VALUE!"}},{"$f":"T479-HLOOKUP(X479,Feuil2!$C$1:$CD$9,4,FALSE)","v":{"$error":"#VALUE!"}},{"$f":"T479-HLOOKUP(X479,Feuil2!$C$1:$CD$9,5,FALSE)","v":{"$error":"#VALUE!"}},{"$f":"T479-HLOOKUP(X479,Feuil2!$C$1:$CD$9,6,FALSE)","v":{"$error":"#VALUE!"}},{"$f":"T479-HLOOKUP(X479,Feuil2!$C$1:$CD$9,7,FALSE)","v":{"$error":"#VALUE!"}},{"$f":"T479-HLOOKUP(X479,Feuil2!$C$1:$CD$9,8,FALSE)","v":{"$error":"#VALUE!"}},{"$f":"T479-HLOOKUP(X479,Feuil2!$C$1:$CD$9,9,FALSE)","v":{"$error":"#VALUE!"}},null,null,null,null,null,null,null,{"$error":"#VALUE!"},114,null,{"$f":"IF(AP479,VLOOKUP(AP479,HOM!$AR$551:$AS$606,2))","v":3.5710000000000002}]
["H",null,null,null,null,{"$f":"IF(AP480<95,IF(AP480<=90,VLOOKUP(AP480,$AP$550:$AQ$605,2)))","v":false},null,null,null,null,null,null,null,null,"",null,null,null,"","","","","",{"$f":"IF(AND(J480>=40,J480<45),VLOOKUP(K480,Feuil2!$F$10:$P$28,9),IF(AND(J480>=45,J480<50),VLOOKUP(K480,Feuil2!$F$10:$P$28,8),IF(AND(J480>=50,J480<55),VLOOKUP(K480,Feuil2!$F$10:$P$28,7),IF(AND(J480>=55,J480<60),VLOOKUP(K480,Feuil2!$F$10:$P$28,6),IF(AND(J480>=60,J480<65),VLOOKUP(K480,Feuil2!$F$10:$P$28,5),IF(AND(J480>=65,J480<70),VLOOKUP(K480,Feuil2!$F$10:$P$28,4),IF(AND(J480>=70,J480<75),VLOOKUP(K480,Feuil2!$F$10:$P$28,3),IF(AND(J480>=75,J480<80),VLOOKUP(K480,Feuil2!$F$10:$P$28,2),VLOOKUP(K480,Feuil2!$F$10:$P$28,2)))))))))","v":{"$error":"#N/A"}},null,{"$f":"T480-HLOOKUP(X480,Feuil2!$C$1:$CD$9,2,FALSE)","v":{"$error":"#VALUE!"}},{"$f":"T480-HLOOKUP(X480,Feuil2!$C$1:$CD$9,3,FALSE)","v":{"$error":"#VALUE!"}},{"$f":"T480-HLOOKUP(X480,Feuil2!$C$1:$CD$9,4,FALSE)","v":{"$error":"#VALUE!"}},{"$f":"T480-HLOOKUP(X480,Feuil2!$C$1:$CD$9,5,FALSE)","v":{"$error":"#VALUE!"}},{"$f":"T480-HLOOKUP(X480,Feuil2!$C$1:$CD$9,6,FALSE)","v":{"$error":"#VALUE!"}},{"$f":"T480-HLOOKUP(X480,Feuil2!$C$1:$CD$9,7,FALSE)","v":{"$error":"#VALUE!"}},{"$f":"T480-HLOOKUP(X480,Feuil2!$C$1:$CD$9,8,FALSE)","v":{"$error":"#VALUE!"}},{"$f":"T480-HLOOKUP(X480,Feuil2!$C$1:$CD$9,9,FALSE)","v":{"$error":"#VALUE!"}},null,null,null,null,null,null,null,{"$error":"#VALUE!"},114,null,{"$f":"IF(AP480,VLOOKUP(AP480,HOM!$AR$551:$AS$606,2))","v":3.5710000000000002}]
["H",null,null,null,null,false,null,null,null,null,null,null,null,null,"",null,null,null,"","","","","",{"$f":"IF(AND(J481>=40,J481<45),VLOOKUP(K481,Feuil2!$F$10:$P$28,9),IF(AND(J481>=45,J481<50),VLOOKUP(K481,Feuil2!$F$10:$P$28,8),IF(AND(J481>=50,J481<55),VLOOKUP(K481,Feuil2!$F$10:$P$28,7),IF(AND(J481>=55,J481<60),VLOOKUP(K481,Feuil2!$F$10:$P$28,6),IF(AND(J481>=60,J481<65),VLOOKUP(K481,Feuil2!$F$10:$P$28,5),IF(AND(J481>=65,J481<70),VLOOKUP(K481,Feuil2!$F$10:$P$28,4),IF(AND(J481>=70,J481<75),VLOOKUP(K481,Feuil2!$F$10:$P$28,3),IF(AND(J481>=75,J481<80),VLOOKUP(K481,Feuil2!$F$10:$P$28,2),VLOOKUP(K481,Feuil2!$F$10:$P$28,2)))))))))","v":{"$error":"#N/A"}},null,{"$f":"T481-HLOOKUP(X481,Feuil2!$C$1:$CD$9,2,FALSE)","v":{"$error":"#VALUE!"}},{"$f":"T481-HLOOKUP(X481,Feuil2!$C$1:$CD$9,3,FALSE)","v":{"$error":"#VALUE!"}},{"$f":"T481-HLOOKUP(X481,Feuil2!$C$1:$CD$9,4,FALSE)","v":{"$error":"#VALUE!"}},{"$f":"T481-HLOOKUP(X481,Feuil2!$C$1:$CD$9,5,FALSE)","v":{"$error":"#VALUE!"}},{"$f":"T481-HLOOKUP(X481,Feuil2!$C$1:$CD$9,6,FALSE)","v":{"$error":"#VALUE!"}},{"$f":"T481-HLOOKUP(X481,Feuil2!$C$1:$CD$9,7,FALSE)","v":{"$error":"#VALUE!"}},{"$f":"T481-HLOOKUP(X481,Feuil2!$C$1:$CD$9,8,FALSE)","v":{"$error":"#VALUE!"}},{"$f":"T481-HLOOKUP(X481,Feuil2!$C$1:$CD$9,9,FALSE)","v":{"$error":"#VALUE!"}},null,null,null,null,null,null,null,{"$error":"#VALUE!"},114,null,{"$f":"IF(AP481,VLOOKUP(AP481,HOM!$AR$551:$AS$606,2))","v":3.5710000000000002}]
["H",null,null,null,null,false,null,null,null,null,null,null,null,null,"",null,null,null,"","","",{"$f":"IF(K482=\"\",\"\",AO482)","v":""},{"$f":"IF(K482=\"\",\"\",IF(AG482>=0,AG482,IF(AF482>=0,AF482,IF(AE482>=0,AE482,IF(AD482>=0,AD482,IF(AC482>=0,AC482,IF(AB482>=0,AB482,IF(AA482>=0,AA482,Z482))))))))","v":""},{"$f":"IF(AND(J482>=40,J482<45),VLOOKUP(K482,Feuil2!$F$10:$P$28,9),IF(AND(J482>=45,J482<50),VLOOKUP(K482,Feuil2!$F$10:$P$28,8),IF(AND(J482>=50,J482<55),VLOOKUP(K482,Feuil2!$F$10:$P$28,7),IF(AND(J482>=55,J482<60),VLOOKUP(K482,Feuil2!$F$10:$P$28,6),IF(AND(J482>=60,J482<65),VLOOKUP(K482,Feuil2!$F$10:$P$28,5),IF(AND(J482>=65,J482<70),VLOOKUP(K482,Feuil2!$F$10:$P$28,4),IF(AND(J482>=70,J482<75),VLOOKUP(K482,Feuil2!$F$10:$P$28,3),IF(AND(J482>=75,J482<80),VLOOKUP(K482,Feuil2!$F$10:$P$28,2),VLOOKUP(K482,Feuil2!$F$10:$P$28,2)))))))))","v":{"$error":"#N/A"}},null,{"$f":"T482-HLOOKUP(X482,Feuil2!$C$1:$CD$9,2,FALSE)","v":{"$error":"#VALUE!"}},{"$f":"T482-HLOOKUP(X482,Feuil2!$C$1:$CD$9,3,FALSE)","v":{"$error":"#VALUE!"}},{"$f":"T482-HLOOKUP(X482,Feuil2!$C$1:$CD$9,4,FALSE)","v":{"$error":"#VALUE!"}},{"$f":"T482-HLOOKUP(X482,Feuil2!$C$1:$CD$9,5,FALSE)","v":{"$error":"#VALUE!"}},{"$f":"T482-HLOOKUP(X482,Feuil2!$C$1:$CD$9,6,FALSE)","v":{"$error":"#VALUE!"}},{"$f":"T482-HLOOKUP(X482,Feuil2!$C$1:$CD$9,7,FALSE)","v":{"$error":"#VALUE!"}},{"$f":"T482-HLOOKUP(X482,Feuil2!$C$1:$CD$9,8,FALSE)","v":{"$error":"#VALUE!"}},{"$f":"T482-HLOOKUP(X482,Feuil2!$C$1:$CD$9,9,FALSE)","v":{"$error":"#VALUE!"}},null,null,null,null,null,null,null,{"$f":"IF(AG482>=0,$AG$4,IF(AF482>=0,$AF$4,IF(AE482>=0,$AE$4,IF(AD482>=0,$AD$4,IF(AC482>=0,$AC$4,IF(AB482>=0,$AB$4,IF(AA482>=0,$AA$4,IF(Z482>=0,$Z$4,$AH$4))))))))","v":{"$error":"#VALUE!"}},114,null,{"$f":"IF(AP482,VLOOKUP(AP482,HOM!$AR$551:$AS$606,2))","v":3.5710000000000002}]
["H",null,null,null,null,false,null,null,null,null,null,null,null,null,"",null,null,null,"","",{"$f":"IF(K483=\"\",\"\",IF(A483=\"H\",10^(0.794358141*LOG(K483/174.393)^2)*T483*AR483,IF(A483=\"F\",10^(0.89726074 * LOG(K483/148.026)^2)*T483*AR483,\"\")))","v":""},"","",{"$f":"IF(AND(J483>=40,J483<45),VLOOKUP(K483,Feuil2!$F$10:$P$28,9),IF(AND(J483>=45,J483<50),VLOOKUP(K483,Feuil2!$F$10:$P$28,8),IF(AND(J483>=50,J483<55),VLOOKUP(K483,Feuil2!$F$10:$P$28,7),IF(AND(J483>=55,J483<60),VLOOKUP(K483,Feuil2!$F$10:$P$28,6),IF(AND(J483>=60,J483<65),VLOOKUP(K483,Feuil2!$F$10:$P$28,5),IF(AND(J483>=65,J483<70),VLOOKUP(K483,Feuil2!$F$10:$P$28,4),IF(AND(J483>=70,J483<75),VLOOKUP(K483,Feuil2!$F$10:$P$28,3),IF(AND(J483>=75,J483<80),VLOOKUP(K483,Feuil2!$F$10:$P$28,2),VLOOKUP(K483,Feuil2!$F$10:$P$28,2)))))))))","v":{"$error":"#N/A"}},null,{"$f":"T483-HLOOKUP(X483,Feuil2!$C$1:$CD$9,2,FALSE)","v":{"$error":"#VALUE!"}},{"$f":"T483-HLOOKUP(X483,Feuil2!$C$1:$CD$9,3,FALSE)","v":{"$error":"#VALUE!"}},{"$f":"T483-HLOOKUP(X483,Feuil2!$C$1:$CD$9,4,FALSE)","v":{"$error":"#VALUE!"}},{"$f":"T483-HLOOKUP(X483,Feuil2!$C$1:$CD$9,5,FALSE)","v":{"$error":"#VALUE!"}},{"$f":"T483-HLOOKUP(X483,Feuil2!$C$1:$CD$9,6,FALSE)","v":{"$error":"#VALUE!"}},{"$f":"T483-HLOOKUP(X483,Feuil2!$C$1:$CD$9,7,FALSE)","v":{"$error":"#VALUE!"}},{"$f":"T483-HLOOKUP(X483,Feuil2!$C$1:$CD$9,8,FALSE)","v":{"$error":"#VALUE!"}},{"$f":"T483-HLOOKUP(X483,Feuil2!$C$1:$CD$9,9,FALSE)","v":{"$error":"#VALUE!"}},null,null,null,null,null,null,null,{"$error":"#VALUE!"},114,null,{"$f":"IF(AP483,VLOOKUP(AP483,HOM!$AR$551:$AS$606,2))","v":3.5710000000000002}]
["H",null,null,null,null,false,null,null,null,null,null,null,null,null,"",null,null,null,"","","","","",{"$f":"IF(AND(J484>=40,J484<45),VLOOKUP(K484,Feuil2!$F$10:$P$28,9),IF(AND(J484>=45,J484<50),VLOOKUP(K484,Feuil2!$F$10:$P$28,8),IF(AND(J484>=50,J484<55),VLOOKUP(K484,Feuil2!$F$10:$P$28,7),IF(AND(J484>=55,J484<60),VLOOKUP(K484,Feuil2!$F$10:$P$28,6),IF(AND(J484>=60,J484<65),VLOOKUP(K484,Feuil2!$F$10:$P$28,5),IF(AND(J484>=65,J484<70),VLOOKUP(K484,Feuil2!$F$10:$P$28,4),IF(AND(J484>=70,J484<75),VLOOKUP(K484,Feuil2!$F$10:$P$28,3),IF(AND(J484>=75,J484<80),VLOOKUP(K484,Feuil2!$F$10:$P$28,2),VLOOKUP(K484,Feuil2!$F$10:$P$28,2)))))))))","v":{"$error":"#N/A"}},null,{"$f":"T484-HLOOKUP(X484,Feuil2!$C$1:$CD$9,2,FALSE)","v":{"$error":"#VALUE!"}},{"$f":"T484-HLOOKUP(X484,Feuil2!$C$1:$CD$9,3,FALSE)","v":{"$error":"#VALUE!"}},{"$f":"T484-HLOOKUP(X484,Feuil2!$C$1:$CD$9,4,FALSE)","v":{"$error":"#VALUE!"}},{"$f":"T484-HLOOKUP(X484,Feuil2!$C$1:$CD$9,5,FALSE)","v":{"$error":"#VALUE!"}},{"$f":"T484-HLOOKUP(X484,Feuil2!$C$1:$CD$9,6,FALSE)","v":{"$error":"#VALUE!"}},{"$f":"T484-HLOOKUP(X484,Feuil2!$C$1:$CD$9,7,FALSE)","v":{"$error":"#VALUE!"}},{"$f":"T484-HLOOKUP(X484,Feuil2!$C$1:$CD$9,8,FALSE)","v":{"$error":"#VALUE!"}},{"$f":"T484-HLOOKUP(X484,Feuil2!$C$1:$CD$9,9,FALSE)","v":{"$error":"#VALUE!"}},null,null,null,null,null,null,null,{"$error":"#VALUE!"},114,null,{"$f":"IF(AP484,VLOOKUP(AP484,HOM!$AR$551:$AS$606,2))","v":3.5710000000000002}]
["H",null,null,null,null,false,null,null,null,null,null,null,null,null,"",null,null,null,"","","","","",{"$f":"IF(AND(J485>=40,J485<45),VLOOKUP(K485,Feuil2!$F$10:$P$28,9),IF(AND(J485>=45,J485<50),VLOOKUP(K485,Feuil2!$F$10:$P$28,8),IF(AND(J485>=50,J485<55),VLOOKUP(K485,Feuil2!$F$10:$P$28,7),IF(AND(J485>=55,J485<60),VLOOKUP(K485,Feuil2!$F$10:$P$28,6),IF(AND(J485>=60,J485<65),VLOOKUP(K485,Feuil2!$F$10:$P$28,5),IF(AND(J485>=65,J485<70),VLOOKUP(K485,Feuil2!$F$10:$P$28,4),IF(AND(J485>=70,J485<75),VLOOKUP(K485,Feuil2!$F$10:$P$28,3),IF(AND(J485>=75,J485<80),VLOOKUP(K485,Feuil2!$F$10:$P$28,2),VLOOKUP(K485,Feuil2!$F$10:$P$28,2)))))))))","v":{"$error":"#N/A"}},null,{"$f":"T485-HLOOKUP(X485,Feuil2!$C$1:$CD$9,2,FALSE)","v":{"$error":"#VALUE!"}},{"$f":"T485-HLOOKUP(X485,Feuil2!$C$1:$CD$9,3,FALSE)","v":{"$error":"#VALUE!"}},{"$f":"T485-HLOOKUP(X485,Feuil2!$C$1:$CD$9,4,FALSE)","v":{"$error":"#VALUE!"}},{"$f":"T485-HLOOKUP(X485,Feuil2!$C$1:$CD$9,5,FALSE)","v":{"$error":"#VALUE!"}},{"$f":"T485-HLOOKUP(X485,Feuil2!$C$1:$CD$9,6,FALSE)","v":{"$error":"#VALUE!"}},{"$f":"T485-HLOOKUP(X485,Feuil2!$C$1:$CD$9,7,FALSE)","v":{"$error":"#VALUE!"}},{"$f":"T485-HLOOKUP(X485,Feuil2!$C$1:$CD$9,8,FALSE)","v":{"$error":"#VALUE!"}},{"$f":"T485-HLOOKUP(X485,Feuil2!$C$1:$CD$9,9,FALSE)","v":{"$error":"#VALUE!"}},null,null,null,null,null,null,null,{"$error":"#VALUE!"},114,null,{"$f":"IF(AP485,VLOOKUP(AP485,HOM!$AR$551:$AS$606,2))","v":3.5710000000000002}]
["H",null,null,null,null,false,null,null,null,null,null,null,null,null,"",null,null,null,"","","","","",{"$f":"IF(AND(J486>=40,J486<45),VLOOKUP(K486,Feuil2!$F$10:$P$28,9),IF(AND(J486>=45,J486<50),VLOOKUP(K486,Feuil2!$F$10:$P$28,8),IF(AND(J486>=50,J486<55),VLOOKUP(K486,Feuil2!$F$10:$P$28,7),IF(AND(J486>=55,J486<60),VLOOKUP(K486,Feuil2!$F$10:$P$28,6),IF(AND(J486>=60,J486<65),VLOOKUP(K486,Feuil2!$F$10:$P$28,5),IF(AND(J486>=65,J486<70),VLOOKUP(K486,Feuil2!$F$10:$P$28,4),IF(AND(J486>=70,J486<75),VLOOKUP(K486,Feuil2!$F$10:$P$28,3),IF(AND(J486>=75,J486<80),VLOOKUP(K486,Feuil2!$F$10:$P$28,2),VLOOKUP(K486,Feuil2!$F$10:$P$28,2)))))))))","v":{"$error":"#N/A"}},null,{"$f":"T486-HLOOKUP(X486,Feuil2!$C$1:$CD$9,2,FALSE)","v":{"$error":"#VALUE!"}},{"$f":"T486-HLOOKUP(X486,Feuil2!$C$1:$CD$9,3,FALSE)","v":{"$error":"#VALUE!"}},{"$f":"T486-HLOOKUP(X486,Feuil2!$C$1:$CD$9,4,FALSE)","v":{"$error":"#VALUE!"}},{"$f":"T486-HLOOKUP(X486,Feuil2!$C$1:$CD$9,5,FALSE)","v":{"$error":"#VALUE!"}},{"$f":"T486-HLOOKUP(X486,Feuil2!$C$1:$CD$9,6,FALSE)","v":{"$error":"#VALUE!"}},{"$f":"T486-HLOOKUP(X486,Feuil2!$C$1:$CD$9,7,FALSE)","v":{"$error":"#VALUE!"}},{"$f":"T486-HLOOKUP(X486,Feuil2!$C$1:$CD$9,8,FALSE)","v":{"$error":"#VALUE!"}},{"$f":"T486-HLOOKUP(X486,Feuil2!$C$1:$CD$9,9,FALSE)","v":{"$error":"#VALUE!"}},null,null,null,null,null,null,null,{"$error":"#VALUE!"},114,null,{"$f":"IF(AP486,VLOOKUP(AP486,HOM!$AR$551:$AS$606,2))","v":3.5710000000000002}]
["H",null,null,null,null,false,null,null,null,null,null,null,null,null,"",null,null,null,"","","","","",{"$f":"IF(AND(J487>=40,J487<45),VLOOKUP(K487,Feuil2!$F$10:$P$28,9),IF(AND(J487>=45,J487<50),VLOOKUP(K487,Feuil2!$F$10:$P$28,8),IF(AND(J487>=50,J487<55),VLOOKUP(K487,Feuil2!$F$10:$P$28,7),IF(AND(J487>=55,J487<60),VLOOKUP(K487,Feuil2!$F$10:$P$28,6),IF(AND(J487>=60,J487<65),VLOOKUP(K487,Feuil2!$F$10:$P$28,5),IF(AND(J487>=65,J487<70),VLOOKUP(K487,Feuil2!$F$10:$P$28,4),IF(AND(J487>=70,J487<75),VLOOKUP(K487,Feuil2!$F$10:$P$28,3),IF(AND(J487>=75,J487<80),VLOOKUP(K487,Feuil2!$F$10:$P$28,2),VLOOKUP(K487,Feuil2!$F$10:$P$28,2)))))))))","v":{"$error":"#N/A"}},null,{"$f":"T487-HLOOKUP(X487,Feuil2!$C$1:$CD$9,2,FALSE)","v":{"$error":"#VALUE!"}},{"$f":"T487-HLOOKUP(X487,Feuil2!$C$1:$CD$9,3,FALSE)","v":{"$error":"#VALUE!"}},{"$f":"T487-HLOOKUP(X487,Feuil2!$C$1:$CD$9,4,FALSE)","v":{"$error":"#VALUE!"}},{"$f":"T487-HLOOKUP(X487,Feuil2!$C$1:$CD$9,5,FALSE)","v":{"$error":"#VALUE!"}},{"$f":"T487-HLOOKUP(X487,Feuil2!$C$1:$CD$9,6,FALSE)","v":{"$error":"#VALUE!"}},{"$f":"T487-HLOOKUP(X487,Feuil2!$C$1:$CD$9,7,FALSE)","v":{"$error":"#VALUE!"}},{"$f":"T487-HLOOKUP(X487,Feuil2!$C$1:$CD$9,8,FALSE)","v":{"$error":"#VALUE!"}},{"$f":"T487-HLOOKUP(X487,Feuil2!$C$1:$CD$9,9,FALSE)","v":{"$error":"#VALUE!"}},null,null,null,null,null,null,null,{"$error":"#VALUE!"},114,null,{"$f":"IF(AP487,VLOOKUP(AP487,HOM!$AR$551:$AS$606,2))","v":3.5710000000000002}]
["H",null,null,null,null,false,null,null,null,null,null,null,null,null,"",null,null,null,"","","","","",{"$f":"IF(AND(J488>=40,J488<45),VLOOKUP(K488,Feuil2!$F$10:$P$28,9),IF(AND(J488>=45,J488<50),VLOOKUP(K488,Feuil2!$F$10:$P$28,8),IF(AND(J488>=50,J488<55),VLOOKUP(K488,Feuil2!$F$10:$P$28,7),IF(AND(J488>=55,J488<60),VLOOKUP(K488,Feuil2!$F$10:$P$28,6),IF(AND(J488>=60,J488<65),VLOOKUP(K488,Feuil2!$F$10:$P$28,5),IF(AND(J488>=65,J488<70),VLOOKUP(K488,Feuil2!$F$10:$P$28,4),IF(AND(J488>=70,J488<75),VLOOKUP(K488,Feuil2!$F$10:$P$28,3),IF(AND(J488>=75,J488<80),VLOOKUP(K488,Feuil2!$F$10:$P$28,2),VLOOKUP(K488,Feuil2!$F$10:$P$28,2)))))))))","v":{"$error":"#N/A"}},null,{"$f":"T488-HLOOKUP(X488,Feuil2!$C$1:$CD$9,2,FALSE)","v":{"$error":"#VALUE!"}},{"$f":"T488-HLOOKUP(X488,Feuil2!$C$1:$CD$9,3,FALSE)","v":{"$error":"#VALUE!"}},{"$f":"T488-HLOOKUP(X488,Feuil2!$C$1:$CD$9,4,FALSE)","v":{"$error":"#VALUE!"}},{"$f":"T488-HLOOKUP(X488,Feuil2!$C$1:$CD$9,5,FALSE)","v":{"$error":"#VALUE!"}},{"$f":"T488-HLOOKUP(X488,Feuil2!$C$1:$CD$9,6,FALSE)","v":{"$error":"#VALUE!"}},{"$f":"T488-HLOOKUP(X488,Feuil2!$C$1:$CD$9,7,FALSE)","v":{"$error":"#VALUE!"}},{"$f":"T488-HLOOKUP(X488,Feuil2!$C$1:$CD$9,8,FALSE)","v":{"$error":"#VALUE!"}},{"$f":"T488-HLOOKUP(X488,Feuil2!$C$1:$CD$9,9,FALSE)","v":{"$error":"#VALUE!"}},null,null,null,null,null,null,null,{"$error":"#VALUE!"},114,null,{"$f":"IF(AP488,VLOOKUP(AP488,HOM!$AR$551:$AS$606,2))","v":3.5710000000000002}]
["H",null,null,null,null,false,null,null,null,null,null,null,null,null,"",null,null,null,"","","","","",{"$f":"IF(AND(J489>=40,J489<45),VLOOKUP(K489,Feuil2!$F$10:$P$28,9),IF(AND(J489>=45,J489<50),VLOOKUP(K489,Feuil2!$F$10:$P$28,8),IF(AND(J489>=50,J489<55),VLOOKUP(K489,Feuil2!$F$10:$P$28,7),IF(AND(J489>=55,J489<60),VLOOKUP(K489,Feuil2!$F$10:$P$28,6),IF(AND(J489>=60,J489<65),VLOOKUP(K489,Feuil2!$F$10:$P$28,5),IF(AND(J489>=65,J489<70),VLOOKUP(K489,Feuil2!$F$10:$P$28,4),IF(AND(J489>=70,J489<75),VLOOKUP(K489,Feuil2!$F$10:$P$28,3),IF(AND(J489>=75,J489<80),VLOOKUP(K489,Feuil2!$F$10:$P$28,2),VLOOKUP(K489,Feuil2!$F$10:$P$28,2)))))))))","v":{"$error":"#N/A"}},null,{"$f":"T489-HLOOKUP(X489,Feuil2!$C$1:$CD$9,2,FALSE)","v":{"$error":"#VALUE!"}},{"$f":"T489-HLOOKUP(X489,Feuil2!$C$1:$CD$9,3,FALSE)","v":{"$error":"#VALUE!"}},{"$f":"T489-HLOOKUP(X489,Feuil2!$C$1:$CD$9,4,FALSE)","v":{"$error":"#VALUE!"}},{"$f":"T489-HLOOKUP(X489,Feuil2!$C$1:$CD$9,5,FALSE)","v":{"$error":"#VALUE!"}},{"$f":"T489-HLOOKUP(X489,Feuil2!$C$1:$CD$9,6,FALSE)","v":{"$error":"#VALUE!"}},{"$f":"T489-HLOOKUP(X489,Feuil2!$C$1:$CD$9,7,FALSE)","v":{"$error":"#VALUE!"}},{"$f":"T489-HLOOKUP(X489,Feuil2!$C$1:$CD$9,8,FALSE)","v":{"$error":"#VALUE!"}},{"$f":"T489-HLOOKUP(X489,Feuil2!$C$1:$CD$9,9,FALSE)","v":{"$error":"#VALUE!"}},null,null,null,null,null,null,null,{"$error":"#VALUE!"},114,null,{"$f":"IF(AP489,VLOOKUP(AP489,HOM!$AR$551:$AS$606,2))","v":3.5710000000000002}]
["H",null,null,null,null,{"$f":"IF(AP490<95,IF(AP490<=90,VLOOKUP(AP490,$AP$550:$AQ$605,2)))","v":false},null,null,null,null,null,null,null,null,"",null,null,null,"","","","","",{"$f":"IF(AND(J490>=40,J490<45),VLOOKUP(K490,Feuil2!$F$10:$P$28,9),IF(AND(J490>=45,J490<50),VLOOKUP(K490,Feuil2!$F$10:$P$28,8),IF(AND(J490>=50,J490<55),VLOOKUP(K490,Feuil2!$F$10:$P$28,7),IF(AND(J490>=55,J490<60),VLOOKUP(K490,Feuil2!$F$10:$P$28,6),IF(AND(J490>=60,J490<65),VLOOKUP(K490,Feuil2!$F$10:$P$28,5),IF(AND(J490>=65,J490<70),VLOOKUP(K490,Feuil2!$F$10:$P$28,4),IF(AND(J490>=70,J490<75),VLOOKUP(K490,Feuil2!$F$10:$P$28,3),IF(AND(J490>=75,J490<80),VLOOKUP(K490,Feuil2!$F$10:$P$28,2),VLOOKUP(K490,Feuil2!$F$10:$P$28,2)))))))))","v":{"$error":"#N/A"}},null,{"$f":"T490-HLOOKUP(X490,Feuil2!$C$1:$CD$9,2,FALSE)","v":{"$error":"#VALUE!"}},{"$f":"T490-HLOOKUP(X490,Feuil2!$C$1:$CD$9,3,FALSE)","v":{"$error":"#VALUE!"}},{"$f":"T490-HLOOKUP(X490,Feuil2!$C$1:$CD$9,4,FALSE)","v":{"$error":"#VALUE!"}},{"$f":"T490-HLOOKUP(X490,Feuil2!$C$1:$CD$9,5,FALSE)","v":{"$error":"#VALUE!"}},{"$f":"T490-HLOOKUP(X490,Feuil2!$C$1:$CD$9,6,FALSE)","v":{"$error":"#VALUE!"}},{"$f":"T490-HLOOKUP(X490,Feuil2!$C$1:$CD$9,7,FALSE)","v":{"$error":"#VALUE!"}},{"$f":"T490-HLOOKUP(X490,Feuil2!$C$1:$CD$9,8,FALSE)","v":{"$error":"#VALUE!"}},{"$f":"T490-HLOOKUP(X490,Feuil2!$C$1:$CD$9,9,FALSE)","v":{"$error":"#VALUE!"}},null,null,null,null,null,null,null,{"$error":"#VALUE!"},114,null,{"$f":"IF(AP490,VLOOKUP(AP490,HOM!$AR$551:$AS$606,2))","v":3.5710000000000002}]
["H",null,null,null,null,false,null,null,null,null,null,null,null,null,"",null,null,null,"","","","","",{"$f":"IF(AND(J491>=40,J491<45),VLOOKUP(K491,Feuil2!$F$10:$P$28,9),IF(AND(J491>=45,J491<50),VLOOKUP(K491,Feuil2!$F$10:$P$28,8),IF(AND(J491>=50,J491<55),VLOOKUP(K491,Feuil2!$F$10:$P$28,7),IF(AND(J491>=55,J491<60),VLOOKUP(K491,Feuil2!$F$10:$P$28,6),IF(AND(J491>=60,J491<65),VLOOKUP(K491,Feuil2!$F$10:$P$28,5),IF(AND(J491>=65,J491<70),VLOOKUP(K491,Feuil2!$F$10:$P$28,4),IF(AND(J491>=70,J491<75),VLOOKUP(K491,Feuil2!$F$10:$P$28,3),IF(AND(J491>=75,J491<80),VLOOKUP(K491,Feuil2!$F$10:$P$28,2),VLOOKUP(K491,Feuil2!$F$10:$P$28,2)))))))))","v":{"$error":"#N/A"}},null,{"$f":"T491-HLOOKUP(X491,Feuil2!$C$1:$CD$9,2,FALSE)","v":{"$error":"#VALUE!"}},{"$f":"T491-HLOOKUP(X491,Feuil2!$C$1:$CD$9,3,FALSE)","v":{"$error":"#VALUE!"}},{"$f":"T491-HLOOKUP(X491,Feuil2!$C$1:$CD$9,4,FALSE)","v":{"$error":"#VALUE!"}},{"$f":"T491-HLOOKUP(X491,Feuil2!$C$1:$CD$9,5,FALSE)","v":{"$error":"#VALUE!"}},{"$f":"T491-HLOOKUP(X491,Feuil2!$C$1:$CD$9,6,FALSE)","v":{"$error":"#VALUE!"}},{"$f":"T491-HLOOKUP(X491,Feuil2!$C$1:$CD$9,7,FALSE)","v":{"$error":"#VALUE!"}},{"$f":"T491-HLOOKUP(X491,Feuil2!$C$1:$CD$9,8,FALSE)","v":{"$error":"#VALUE!"}},{"$f":"T491-HLOOKUP(X491,Feuil2!$C$1:$CD$9,9,FALSE)","v":{"$error":"#VALUE!"}},null,null,null,null,null,null,null,{"$error":"#VALUE!"},114,null,{"$f":"IF(AP491,VLOOKUP(AP491,HOM!$AR$551:$AS$606,2))","v":3.5710000000000002}]
["H",null,null,null,null,false,null,null,null,null,null,null,null,null,"",null,null,null,"","","","","",{"$f":"IF(AND(J492>=40,J492<45),VLOOKUP(K492,Feuil2!$F$10:$P$28,9),IF(AND(J492>=45,J492<50),VLOOKUP(K492,Feuil2!$F$10:$P$28,8),IF(AND(J492>=50,J492<55),VLOOKUP(K492,Feuil2!$F$10:$P$28,7),IF(AND(J492>=55,J492<60),VLOOKUP(K492,Feuil2!$F$10:$P$28,6),IF(AND(J492>=60,J492<65),VLOOKUP(K492,Feuil2!$F$10:$P$28,5),IF(AND(J492>=65,J492<70),VLOOKUP(K492,Feuil2!$F$10:$P$28,4),IF(AND(J492>=70,J492<75),VLOOKUP(K492,Feuil2!$F$10:$P$28,3),IF(AND(J492>=75,J492<80),VLOOKUP(K492,Feuil2!$F$10:$P$28,2),VLOOKUP(K492,Feuil2!$F$10:$P$28,2)))))))))","v":{"$error":"#N/A"}},null,{"$f":"T492-HLOOKUP(X492,Feuil2!$C$1:$CD$9,2,FALSE)","v":{"$error":"#VALUE!"}},{"$f":"T492-HLOOKUP(X492,Feuil2!$C$1:$CD$9,3,FALSE)","v":{"$error":"#VALUE!"}},{"$f":"T492-HLOOKUP(X492,Feuil2!$C$1:$CD$9,4,FALSE)","v":{"$error":"#VALUE!"}},{"$f":"T492-HLOOKUP(X492,Feuil2!$C$1:$CD$9,5,FALSE)","v":{"$error":"#VALUE!"}},{"$f":"T492-HLOOKUP(X492,Feuil2!$C$1:$CD$9,6,FALSE)","v":{"$error":"#VALUE!"}},{"$f":"T492-HLOOKUP(X492,Feuil2!$C$1:$CD$9,7,FALSE)","v":{"$error":"#VALUE!"}},{"$f":"T492-HLOOKUP(X492,Feuil2!$C$1:$CD$9,8,FALSE)","v":{"$error":"#VALUE!"}},{"$f":"T492-HLOOKUP(X492,Feuil2!$C$1:$CD$9,9,FALSE)","v":{"$error":"#VALUE!"}},null,null,null,null,null,null,null,{"$error":"#VALUE!"},114,null,{"$f":"IF(AP492,VLOOKUP(AP492,HOM!$AR$551:$AS$606,2))","v":3.5710000000000002}]
["H",null,null,null,null,false,null,null,null,null,null,null,null,null,"",null,null,null,"","","","","",{"$f":"IF(AND(J493>=40,J493<45),VLOOKUP(K493,Feuil2!$F$10:$P$28,9),IF(AND(J493>=45,J493<50),VLOOKUP(K493,Feuil2!$F$10:$P$28,8),IF(AND(J493>=50,J493<55),VLOOKUP(K493,Feuil2!$F$10:$P$28,7),IF(AND(J493>=55,J493<60),VLOOKUP(K493,Feuil2!$F$10:$P$28,6),IF(AND(J493>=60,J493<65),VLOOKUP(K493,Feuil2!$F$10:$P$28,5),IF(AND(J493>=65,J493<70),VLOOKUP(K493,Feuil2!$F$10:$P$28,4),IF(AND(J493>=70,J493<75),VLOOKUP(K493,Feuil2!$F$10:$P$28,3),IF(AND(J493>=75,J493<80),VLOOKUP(K493,Feuil2!$F$10:$P$28,2),VLOOKUP(K493,Feuil2!$F$10:$P$28,2)))))))))","v":{"$error":"#N/A"}},null,{"$f":"T493-HLOOKUP(X493,Feuil2!$C$1:$CD$9,2,FALSE)","v":{"$error":"#VALUE!"}},{"$f":"T493-HLOOKUP(X493,Feuil2!$C$1:$CD$9,3,FALSE)","v":{"$error":"#VALUE!"}},{"$f":"T493-HLOOKUP(X493,Feuil2!$C$1:$CD$9,4,FALSE)","v":{"$error":"#VALUE!"}},{"$f":"T493-HLOOKUP(X493,Feuil2!$C$1:$CD$9,5,FALSE)","v":{"$error":"#VALUE!"}},{"$f":"T493-HLOOKUP(X493,Feuil2!$C$1:$CD$9,6,FALSE)","v":{"$error":"#VALUE!"}},{"$f":"T493-HLOOKUP(X493,Feuil2!$C$1:$CD$9,7,FALSE)","v":{"$error":"#VALUE!"}},{"$f":"T493-HLOOKUP(X493,Feuil2!$C$1:$CD$9,8,FALSE)","v":{"$error":"#VALUE!"}},{"$f":"T493-HLOOKUP(X493,Feuil2!$C$1:$CD$9,9,FALSE)","v":{"$error":"#VALUE!"}},null,null,null,null,null,null,null,{"$error":"#VALUE!"},114,null,{"$f":"IF(AP493,VLOOKUP(AP493,HOM!$AR$551:$AS$606,2))","v":3.5710000000000002}]
["H",null,null,null,null,false,null,null,null,null,null,null,null,null,"",null,null,null,"","","","","",{"$f":"IF(AND(J494>=40,J494<45),VLOOKUP(K494,Feuil2!$F$10:$P$28,9),IF(AND(J494>=45,J494<50),VLOOKUP(K494,Feuil2!$F$10:$P$28,8),IF(AND(J494>=50,J494<55),VLOOKUP(K494,Feuil2!$F$10:$P$28,7),IF(AND(J494>=55,J494<60),VLOOKUP(K494,Feuil2!$F$10:$P$28,6),IF(AND(J494>=60,J494<65),VLOOKUP(K494,Feuil2!$F$10:$P$28,5),IF(AND(J494>=65,J494<70),VLOOKUP(K494,Feuil2!$F$10:$P$28,4),IF(AND(J494>=70,J494<75),VLOOKUP(K494,Feuil2!$F$10:$P$28,3),IF(AND(J494>=75,J494<80),VLOOKUP(K494,Feuil2!$F$10:$P$28,2),VLOOKUP(K494,Feuil2!$F$10:$P$28,2)))))))))","v":{"$error":"#N/A"}},null,{"$f":"T494-HLOOKUP(X494,Feuil2!$C$1:$CD$9,2,FALSE)","v":{"$error":"#VALUE!"}},{"$f":"T494-HLOOKUP(X494,Feuil2!$C$1:$CD$9,3,FALSE)","v":{"$error":"#VALUE!"}},{"$f":"T494-HLOOKUP(X494,Feuil2!$C$1:$CD$9,4,FALSE)","v":{"$error":"#VALUE!"}},{"$f":"T494-HLOOKUP(X494,Feuil2!$C$1:$CD$9,5,FALSE)","v":{"$error":"#VALUE!"}},{"$f":"T494-HLOOKUP(X494,Feuil2!$C$1:$CD$9,6,FALSE)","v":{"$error":"#VALUE!"}},{"$f":"T494-HLOOKUP(X494,Feuil2!$C$1:$CD$9,7,FALSE)","v":{"$error":"#VALUE!"}},{"$f":"T494-HLOOKUP(X494,Feuil2!$C$1:$CD$9,8,FALSE)","v":{"$error":"#VALUE!"}},{"$f":"T494-HLOOKUP(X494,Feuil2!$C$1:$CD$9,9,FALSE)","v":{"$error":"#VALUE!"}},null,null,null,null,null,null,null,{"$error":"#VALUE!"},114,null,{"$f":"IF(AP494,VLOOKUP(AP494,HOM!$AR$551:$AS$606,2))","v":3.5710000000000002}]
["H",null,null,null,null,false,null,null,null,null,null,null,null,null,"",null,null,null,"","","","","",{"$f":"IF(AND(J495>=40,J495<45),VLOOKUP(K495,Feuil2!$F$10:$P$28,9),IF(AND(J495>=45,J495<50),VLOOKUP(K495,Feuil2!$F$10:$P$28,8),IF(AND(J495>=50,J495<55),VLOOKUP(K495,Feuil2!$F$10:$P$28,7),IF(AND(J495>=55,J495<60),VLOOKUP(K495,Feuil2!$F$10:$P$28,6),IF(AND(J495>=60,J495<65),VLOOKUP(K495,Feuil2!$F$10:$P$28,5),IF(AND(J495>=65,J495<70),VLOOKUP(K495,Feuil2!$F$10:$P$28,4),IF(AND(J495>=70,J495<75),VLOOKUP(K495,Feuil2!$F$10:$P$28,3),IF(AND(J495>=75,J495<80),VLOOKUP(K495,Feuil2!$F$10:$P$28,2),VLOOKUP(K495,Feuil2!$F$10:$P$28,2)))))))))","v":{"$error":"#N/A"}},null,{"$f":"T495-HLOOKUP(X495,Feuil2!$C$1:$CD$9,2,FALSE)","v":{"$error":"#VALUE!"}},{"$f":"T495-HLOOKUP(X495,Feuil2!$C$1:$CD$9,3,FALSE)","v":{"$error":"#VALUE!"}},{"$f":"T495-HLOOKUP(X495,Feuil2!$C$1:$CD$9,4,FALSE)","v":{"$error":"#VALUE!"}},{"$f":"T495-HLOOKUP(X495,Feuil2!$C$1:$CD$9,5,FALSE)","v":{"$error":"#VALUE!"}},{"$f":"T495-HLOOKUP(X495,Feuil2!$C$1:$CD$9,6,FALSE)","v":{"$error":"#VALUE!"}},{"$f":"T495-HLOOKUP(X495,Feuil2!$C$1:$CD$9,7,FALSE)","v":{"$error":"#VALUE!"}},{"$f":"T495-HLOOKUP(X495,Feuil2!$C$1:$CD$9,8,FALSE)","v":{"$error":"#VALUE!"}},{"$f":"T495-HLOOKUP(X495,Feuil2!$C$1:$CD$9,9,FALSE)","v":{"$error":"#VALUE!"}},null,null,null,null,null,null,null,{"$error":"#VALUE!"},114,null,{"$f":"IF(AP495,VLOOKUP(AP495,HOM!$AR$551:$AS$606,2))","v":3.5710000000000002}]
["H",null,null,null,null,false,null,null,null,null,null,null,null,null,"",null,null,null,"","","","","",{"$f":"IF(AND(J496>=40,J496<45),VLOOKUP(K496,Feuil2!$F$10:$P$28,9),IF(AND(J496>=45,J496<50),VLOOKUP(K496,Feuil2!$F$10:$P$28,8),IF(AND(J496>=50,J496<55),VLOOKUP(K496,Feuil2!$F$10:$P$28,7),IF(AND(J496>=55,J496<60),VLOOKUP(K496,Feuil2!$F$10:$P$28,6),IF(AND(J496>=60,J496<65),VLOOKUP(K496,Feuil2!$F$10:$P$28,5),IF(AND(J496>=65,J496<70),VLOOKUP(K496,Feuil2!$F$10:$P$28,4),IF(AND(J496>=70,J496<75),VLOOKUP(K496,Feuil2!$F$10:$P$28,3),IF(AND(J496>=75,J496<80),VLOOKUP(K496,Feuil2!$F$10:$P$28,2),VLOOKUP(K496,Feuil2!$F$10:$P$28,2)))))))))","v":{"$error":"#N/A"}},null,{"$f":"T496-HLOOKUP(X496,Feuil2!$C$1:$CD$9,2,FALSE)","v":{"$error":"#VALUE!"}},{"$f":"T496-HLOOKUP(X496,Feuil2!$C$1:$CD$9,3,FALSE)","v":{"$error":"#VALUE!"}},{"$f":"T496-HLOOKUP(X496,Feuil2!$C$1:$CD$9,4,FALSE)","v":{"$error":"#VALUE!"}},{"$f":"T496-HLOOKUP(X496,Feuil2!$C$1:$CD$9,5,FALSE)","v":{"$error":"#VALUE!"}},{"$f":"T496-HLOOKUP(X496,Feuil2!$C$1:$CD$9,6,FALSE)","v":{"$error":"#VALUE!"}},{"$f":"T496-HLOOKUP(X496,Feuil2!$C$1:$CD$9,7,FALSE)","v":{"$error":"#VALUE!"}},{"$f":"T496-HLOOKUP(X496,Feuil2!$C$1:$CD$9,8,FALSE)","v":{"$error":"#VALUE!"}},{"$f":"T496-HLOOKUP(X496,Feuil2!$C$1:$CD$9,9,FALSE)","v":{"$error":"#VALUE!"}},null,null,null,null,null,null,null,{"$error":"#VALUE!"},114,null,{"$f":"IF(AP496,VLOOKUP(AP496,HOM!$AR$551:$AS$606,2))","v":3.5710000000000002}]
["H",null,null,null,null,false,null,null,null,null,null,null,null,null,"",null,null,null,"","","","","",{"$f":"IF(AND(J497>=40,J497<45),VLOOKUP(K497,Feuil2!$F$10:$P$28,9),IF(AND(J497>=45,J497<50),VLOOKUP(K497,Feuil2!$F$10:$P$28,8),IF(AND(J497>=50,J497<55),VLOOKUP(K497,Feuil2!$F$10:$P$28,7),IF(AND(J497>=55,J497<60),VLOOKUP(K497,Feuil2!$F$10:$P$28,6),IF(AND(J497>=60,J497<65),VLOOKUP(K497,Feuil2!$F$10:$P$28,5),IF(AND(J497>=65,J497<70),VLOOKUP(K497,Feuil2!$F$10:$P$28,4),IF(AND(J497>=70,J497<75),VLOOKUP(K497,Feuil2!$F$10:$P$28,3),IF(AND(J497>=75,J497<80),VLOOKUP(K497,Feuil2!$F$10:$P$28,2),VLOOKUP(K497,Feuil2!$F$10:$P$28,2)))))))))","v":{"$error":"#N/A"}},null,{"$f":"T497-HLOOKUP(X497,Feuil2!$C$1:$CD$9,2,FALSE)","v":{"$error":"#VALUE!"}},{"$f":"T497-HLOOKUP(X497,Feuil2!$C$1:$CD$9,3,FALSE)","v":{"$error":"#VALUE!"}},{"$f":"T497-HLOOKUP(X497,Feuil2!$C$1:$CD$9,4,FALSE)","v":{"$error":"#VALUE!"}},{"$f":"T497-HLOOKUP(X497,Feuil2!$C$1:$CD$9,5,FALSE)","v":{"$error":"#VALUE!"}},{"$f":"T497-HLOOKUP(X497,Feuil2!$C$1:$CD$9,6,FALSE)","v":{"$error":"#VALUE!"}},{"$f":"T497-HLOOKUP(X497,Feuil2!$C$1:$CD$9,7,FALSE)","v":{"$error":"#VALUE!"}},{"$f":"T497-HLOOKUP(X497,Feuil2!$C$1:$CD$9,8,FALSE)","v":{"$error":"#VALUE!"}},{"$f":"T497-HLOOKUP(X497,Feuil2!$C$1:$CD$9,9,FALSE)","v":{"$error":"#VALUE!"}},null,null,null,null,null,null,null,{"$error":"#VALUE!"},114,null,{"$f":"IF(AP497,VLOOKUP(AP497,HOM!$AR$551:$AS$606,2))","v":3.5710000000000002}]
["H",null,null,null,null,false,null,null,null,null,null,null,null,null,"",null,null,null,"","","","","",{"$f":"IF(AND(J498>=40,J498<45),VLOOKUP(K498,Feuil2!$F$10:$P$28,9),IF(AND(J498>=45,J498<50),VLOOKUP(K498,Feuil2!$F$10:$P$28,8),IF(AND(J498>=50,J498<55),VLOOKUP(K498,Feuil2!$F$10:$P$28,7),IF(AND(J498>=55,J498<60),VLOOKUP(K498,Feuil2!$F$10:$P$28,6),IF(AND(J498>=60,J498<65),VLOOKUP(K498,Feuil2!$F$10:$P$28,5),IF(AND(J498>=65,J498<70),VLOOKUP(K498,Feuil2!$F$10:$P$28,4),IF(AND(J498>=70,J498<75),VLOOKUP(K498,Feuil2!$F$10:$P$28,3),IF(AND(J498>=75,J498<80),VLOOKUP(K498,Feuil2!$F$10:$P$28,2),VLOOKUP(K498,Feuil2!$F$10:$P$28,2)))))))))","v":{"$error":"#N/A"}},null,{"$f":"T498-HLOOKUP(X498,Feuil2!$C$1:$CD$9,2,FALSE)","v":{"$error":"#VALUE!"}},{"$f":"T498-HLOOKUP(X498,Feuil2!$C$1:$CD$9,3,FALSE)","v":{"$error":"#VALUE!"}},{"$f":"T498-HLOOKUP(X498,Feuil2!$C$1:$CD$9,4,FALSE)","v":{"$error":"#VALUE!"}},{"$f":"T498-HLOOKUP(X498,Feuil2!$C$1:$CD$9,5,FALSE)","v":{"$error":"#VALUE!"}},{"$f":"T498-HLOOKUP(X498,Feuil2!$C$1:$CD$9,6,FALSE)","v":{"$error":"#VALUE!"}},{"$f":"T498-HLOOKUP(X498,Feuil2!$C$1:$CD$9,7,FALSE)","v":{"$error":"#VALUE!"}},{"$f":"T498-HLOOKUP(X498,Feuil2!$C$1:$CD$9,8,FALSE)","v":{"$error":"#VALUE!"}},{"$f":"T498-HLOOKUP(X498,Feuil2!$C$1:$CD$9,9,FALSE)","v":{"$error":"#VALUE!"}},null,null,null,null,null,null,null,{"$error":"#VALUE!"},114,null,{"$f":"IF(AP498,VLOOKUP(AP498,HOM!$AR$551:$AS$606,2))","v":3.5710000000000002}]
["H",null,null,null,null,false,null,null,null,null,null,null,null,null,"",null,null,null,"","","","","",{"$f":"IF(AND(J499>=40,J499<45),VLOOKUP(K499,Feuil2!$F$10:$P$28,9),IF(AND(J499>=45,J499<50),VLOOKUP(K499,Feuil2!$F$10:$P$28,8),IF(AND(J499>=50,J499<55),VLOOKUP(K499,Feuil2!$F$10:$P$28,7),IF(AND(J499>=55,J499<60),VLOOKUP(K499,Feuil2!$F$10:$P$28,6),IF(AND(J499>=60,J499<65),VLOOKUP(K499,Feuil2!$F$10:$P$28,5),IF(AND(J499>=65,J499<70),VLOOKUP(K499,Feuil2!$F$10:$P$28,4),IF(AND(J499>=70,J499<75),VLOOKUP(K499,Feuil2!$F$10:$P$28,3),IF(AND(J499>=75,J499<80),VLOOKUP(K499,Feuil2!$F$10:$P$28,2),VLOOKUP(K499,Feuil2!$F$10:$P$28,2)))))))))","v":{"$error":"#N/A"}},null,{"$f":"T499-HLOOKUP(X499,Feuil2!$C$1:$CD$9,2,FALSE)","v":{"$error":"#VALUE!"}},{"$f":"T499-HLOOKUP(X499,Feuil2!$C$1:$CD$9,3,FALSE)","v":{"$error":"#VALUE!"}},{"$f":"T499-HLOOKUP(X499,Feuil2!$C$1:$CD$9,4,FALSE)","v":{"$error":"#VALUE!"}},{"$f":"T499-HLOOKUP(X499,Feuil2!$C$1:$CD$9,5,FALSE)","v":{"$error":"#VALUE!"}},{"$f":"T499-HLOOKUP(X499,Feuil2!$C$1:$CD$9,6,FALSE)","v":{"$error":"#VALUE!"}},{"$f":"T499-HLOOKUP(X499,Feuil2!$C$1:$CD$9,7,FALSE)","v":{"$error":"#VALUE!"}},{"$f":"T499-HLOOKUP(X499,Feuil2!$C$1:$CD$9,8,FALSE)","v":{"$error":"#VALUE!"}},{"$f":"T499-HLOOKUP(X499,Feuil2!$C$1:$CD$9,9,FALSE)","v":{"$error":"#VALUE!"}},null,null,null,null,null,null,null,{"$error":"#VALUE!"},114,null,{"$f":"IF(AP499,VLOOKUP(AP499,HOM!$AR$551:$AS$606,2))","v":3.5710000000000002}]
["H",null,null,null,null,false,null,null,null,null,null,null,null,null,"",null,null,null,"","","","","",{"$f":"IF(AND(J500>=40,J500<45),VLOOKUP(K500,Feuil2!$F$10:$P$28,9),IF(AND(J500>=45,J500<50),VLOOKUP(K500,Feuil2!$F$10:$P$28,8),IF(AND(J500>=50,J500<55),VLOOKUP(K500,Feuil2!$F$10:$P$28,7),IF(AND(J500>=55,J500<60),VLOOKUP(K500,Feuil2!$F$10:$P$28,6),IF(AND(J500>=60,J500<65),VLOOKUP(K500,Feuil2!$F$10:$P$28,5),IF(AND(J500>=65,J500<70),VLOOKUP(K500,Feuil2!$F$10:$P$28,4),IF(AND(J500>=70,J500<75),VLOOKUP(K500,Feuil2!$F$10:$P$28,3),IF(AND(J500>=75,J500<80),VLOOKUP(K500,Feuil2!$F$10:$P$28,2),VLOOKUP(K500,Feuil2!$F$10:$P$28,2)))))))))","v":{"$error":"#N/A"}},null,{"$f":"T500-HLOOKUP(X500,Feuil2!$C$1:$CD$9,2,FALSE)","v":{"$error":"#VALUE!"}},{"$f":"T500-HLOOKUP(X500,Feuil2!$C$1:$CD$9,3,FALSE)","v":{"$error":"#VALUE!"}},{"$f":"T500-HLOOKUP(X500,Feuil2!$C$1:$CD$9,4,FALSE)","v":{"$error":"#VALUE!"}},{"$f":"T500-HLOOKUP(X500,Feuil2!$C$1:$CD$9,5,FALSE)","v":{"$error":"#VALUE!"}},{"$f":"T500-HLOOKUP(X500,Feuil2!$C$1:$CD$9,6,FALSE)","v":{"$error":"#VALUE!"}},{"$f":"T500-HLOOKUP(X500,Feuil2!$C$1:$CD$9,7,FALSE)","v":{"$error":"#VALUE!"}},{"$f":"T500-HLOOKUP(X500,Feuil2!$C$1:$CD$9,8,FALSE)","v":{"$error":"#VALUE!"}},{"$f":"T500-HLOOKUP(X500,Feuil2!$C$1:$CD$9,9,FALSE)","v":{"$error":"#VALUE!"}},null,null,null,null,null,null,null,{"$error":"#VALUE!"},114,null,{"$f":"IF(AP500,VLOOKUP(AP500,HOM!$AR$551:$AS$606,2))","v":3.5710000000000002}]
["H",null,null,null,null,false,null,null,null,null,null,null,null,null,"",null,null,null,"","","","","",{"$f":"IF(AND(J501>=40,J501<45),VLOOKUP(K501,Feuil2!$F$10:$P$28,9),IF(AND(J501>=45,J501<50),VLOOKUP(K501,Feuil2!$F$10:$P$28,8),IF(AND(J501>=50,J501<55),VLOOKUP(K501,Feuil2!$F$10:$P$28,7),IF(AND(J501>=55,J501<60),VLOOKUP(K501,Feuil2!$F$10:$P$28,6),IF(AND(J501>=60,J501<65),VLOOKUP(K501,Feuil2!$F$10:$P$28,5),IF(AND(J501>=65,J501<70),VLOOKUP(K501,Feuil2!$F$10:$P$28,4),IF(AND(J501>=70,J501<75),VLOOKUP(K501,Feuil2!$F$10:$P$28,3),IF(AND(J501>=75,J501<80),VLOOKUP(K501,Feuil2!$F$10:$P$28,2),VLOOKUP(K501,Feuil2!$F$10:$P$28,2)))))))))","v":{"$error":"#N/A"}},null,{"$f":"T501-HLOOKUP(X501,Feuil2!$C$1:$CD$9,2,FALSE)","v":{"$error":"#VALUE!"}},{"$f":"T501-HLOOKUP(X501,Feuil2!$C$1:$CD$9,3,FALSE)","v":{"$error":"#VALUE!"}},{"$f":"T501-HLOOKUP(X501,Feuil2!$C$1:$CD$9,4,FALSE)","v":{"$error":"#VALUE!"}},{"$f":"T501-HLOOKUP(X501,Feuil2!$C$1:$CD$9,5,FALSE)","v":{"$error":"#VALUE!"}},{"$f":"T501-HLOOKUP(X501,Feuil2!$C$1:$CD$9,6,FALSE)","v":{"$error":"#VALUE!"}},{"$f":"T501-HLOOKUP(X501,Feuil2!$C$1:$CD$9,7,FALSE)","v":{"$error":"#VALUE!"}},{"$f":"T501-HLOOKUP(X501,Feuil2!$C$1:$CD$9,8,FALSE)","v":{"$error":"#VALUE!"}},{"$f":"T501-HLOOKUP(X501,Feuil2!$C$1:$CD$9,9,FALSE)","v":{"$error":"#VALUE!"}},null,null,null,null,null,null,null,{"$error":"#VALUE!"},114,null,{"$f":"IF(AP501,VLOOKUP(AP501,HOM!$AR$551:$AS$606,2))","v":3.5710000000000002}]
["H",null,null,null,null,false,null,null,null,null,null,null,null,null,"",null,null,null,"","","","","",{"$f":"IF(AND(J502>=40,J502<45),VLOOKUP(K502,Feuil2!$F$10:$P$28,9),IF(AND(J502>=45,J502<50),VLOOKUP(K502,Feuil2!$F$10:$P$28,8),IF(AND(J502>=50,J502<55),VLOOKUP(K502,Feuil2!$F$10:$P$28,7),IF(AND(J502>=55,J502<60),VLOOKUP(K502,Feuil2!$F$10:$P$28,6),IF(AND(J502>=60,J502<65),VLOOKUP(K502,Feuil2!$F$10:$P$28,5),IF(AND(J502>=65,J502<70),VLOOKUP(K502,Feuil2!$F$10:$P$28,4),IF(AND(J502>=70,J502<75),VLOOKUP(K502,Feuil2!$F$10:$P$28,3),IF(AND(J502>=75,J502<80),VLOOKUP(K502,Feuil2!$F$10:$P$28,2),VLOOKUP(K502,Feuil2!$F$10:$P$28,2)))))))))","v":{"$error":"#N/A"}},null,{"$f":"T502-HLOOKUP(X502,Feuil2!$C$1:$CD$9,2,FALSE)","v":{"$error":"#VALUE!"}},{"$f":"T502-HLOOKUP(X502,Feuil2!$C$1:$CD$9,3,FALSE)","v":{"$error":"#VALUE!"}},{"$f":"T502-HLOOKUP(X502,Feuil2!$C$1:$CD$9,4,FALSE)","v":{"$error":"#VALUE!"}},{"$f":"T502-HLOOKUP(X502,Feuil2!$C$1:$CD$9,5,FALSE)","v":{"$error":"#VALUE!"}},{"$f":"T502-HLOOKUP(X502,Feuil2!$C$1:$CD$9,6,FALSE)","v":{"$error":"#VALUE!"}},{"$f":"T502-HLOOKUP(X502,Feuil2!$C$1:$CD$9,7,FALSE)","v":{"$error":"#VALUE!"}},{"$f":"T502-HLOOKUP(X502,Feuil2!$C$1:$CD$9,8,FALSE)","v":{"$error":"#VALUE!"}},{"$f":"T502-HLOOKUP(X502,Feuil2!$C$1:$CD$9,9,FALSE)","v":{"$error":"#VALUE!"}},null,null,null,null,null,null,null,{"$error":"#VALUE!"},114,null,{"$f":"IF(AP502,VLOOKUP(AP502,HOM!$AR$551:$AS$606,2))","v":3.5710000000000002}]
["H",null,null,null,null,false,null,null,null,null,null,null,null,null,"",null,null,null,"","","","","",{"$f":"IF(AND(J503>=40,J503<45),VLOOKUP(K503,Feuil2!$F$10:$P$28,9),IF(AND(J503>=45,J503<50),VLOOKUP(K503,Feuil2!$F$10:$P$28,8),IF(AND(J503>=50,J503<55),VLOOKUP(K503,Feuil2!$F$10:$P$28,7),IF(AND(J503>=55,J503<60),VLOOKUP(K503,Feuil2!$F$10:$P$28,6),IF(AND(J503>=60,J503<65),VLOOKUP(K503,Feuil2!$F$10:$P$28,5),IF(AND(J503>=65,J503<70),VLOOKUP(K503,Feuil2!$F$10:$P$28,4),IF(AND(J503>=70,J503<75),VLOOKUP(K503,Feuil2!$F$10:$P$28,3),IF(AND(J503>=75,J503<80),VLOOKUP(K503,Feuil2!$F$10:$P$28,2),VLOOKUP(K503,Feuil2!$F$10:$P$28,2)))))))))","v":{"$error":"#N/A"}},null,{"$f":"T503-HLOOKUP(X503,Feuil2!$C$1:$CD$9,2,FALSE)","v":{"$error":"#VALUE!"}},{"$f":"T503-HLOOKUP(X503,Feuil2!$C$1:$CD$9,3,FALSE)","v":{"$error":"#VALUE!"}},{"$f":"T503-HLOOKUP(X503,Feuil2!$C$1:$CD$9,4,FALSE)","v":{"$error":"#VALUE!"}},{"$f":"T503-HLOOKUP(X503,Feuil2!$C$1:$CD$9,5,FALSE)","v":{"$error":"#VALUE!"}},{"$f":"T503-HLOOKUP(X503,Feuil2!$C$1:$CD$9,6,FALSE)","v":{"$error":"#VALUE!"}},{"$f":"T503-HLOOKUP(X503,Feuil2!$C$1:$CD$9,7,FALSE)","v":{"$error":"#VALUE!"}},{"$f":"T503-HLOOKUP(X503,Feuil2!$C$1:$CD$9,8,FALSE)","v":{"$error":"#VALUE!"}},{"$f":"T503-HLOOKUP(X503,Feuil2!$C$1:$CD$9,9,FALSE)","v":{"$error":"#VALUE!"}},null,null,null,null,null,null,null,{"$error":"#VALUE!"},114,null,{"$f":"IF(AP503,VLOOKUP(AP503,HOM!$AR$551:$AS$606,2))","v":3.5710000000000002}]
["H",null,null,null,null,{"$f":"IF(AP504<95,IF(AP504<=90,VLOOKUP(AP504,$AP$550:$AQ$605,2)))","v":false},null,null,null,null,null,null,null,null,{"$f":"IF(K504=\"\",\"\",IF(MAXA(L504:N504)<=0,0,MAXA(L504:N504)))","v":""},null,null,null,{"$f":"IF(K504=\"\",\"\",IF(MAXA(P504:R504)<=0,0,MAXA(P504:R504)))","v":""},{"$f":"IF(K504=\"\",\"\",IF(OR(O504=0,S504=0),0,O504+S504))","v":""},{"$f":"IF(K504=\"\",\"\",IF(A504=\"H\",10^(0.794358141*LOG(K504/174.393)^2)*T504*AR504,IF(A504=\"F\",10^(0.89726074 * LOG(K504/148.026)^2)*T504*AR504,\"\")))","v":""},{"$f":"IF(K504=\"\",\"\",AO504)","v":""},{"$f":"IF(K504=\"\",\"\",IF(AG504>=0,AG504,IF(AF504>=0,AF504,IF(AE504>=0,AE504,IF(AD504>=0,AD504,IF(AC504>=0,AC504,IF(AB504>=0,AB504,IF(AA504>=0,AA504,Z504))))))))","v":""},{"$f":"IF(AND(J504>=40,J504<45),VLOOKUP(K504,Feuil2!$F$10:$P$28,9),IF(AND(J504>=45,J504<50),VLOOKUP(K504,Feuil2!$F$10:$P$28,8),IF(AND(J504>=50,J504<55),VLOOKUP(K504,Feuil2!$F$10:$P$28,7),IF(AND(J504>=55,J504<60),VLOOKUP(K504,Feuil2!$F$10:$P$28,6),IF(AND(J504>=60,J504<65),VLOOKUP(K504,Feuil2!$F$10:$P$28,5),IF(AND(J504>=65,J504<70),VLOOKUP(K504,Feuil2!$F$10:$P$28,4),IF(AND(J504>=70,J504<75),VLOOKUP(K504,Feuil2!$F$10:$P$28,3),IF(AND(J504>=75,J504<80),VLOOKUP(K504,Feuil2!$F$10:$P$28,2),VLOOKUP(K504,Feuil2!$F$10:$P$28,2)))))))))","v":{"$error":"#N/A"}},null,{"$f":"T504-HLOOKUP(X504,Feuil2!$C$1:$CD$9,2,FALSE)","v":{"$error":"#VALUE!"}},{"$f":"T504-HLOOKUP(X504,Feuil2!$C$1:$CD$9,3,FALSE)","v":{"$error":"#VALUE!"}},{"$f":"T504-HLOOKUP(X504,Feuil2!$C$1:$CD$9,4,FALSE)","v":{"$error":"#VALUE!"}},{"$f":"T504-HLOOKUP(X504,Feuil2!$C$1:$CD$9,5,FALSE)","v":{"$error":"#VALUE!"}},{"$f":"T504-HLOOKUP(X504,Feuil2!$C$1:$CD$9,6,FALSE)","v":{"$error":"#VALUE!"}},{"$f":"T504-HLOOKUP(X504,Feuil2!$C$1:$CD$9,7,FALSE)","v":{"$error":"#VALUE!"}},{"$f":"T504-HLOOKUP(X504,Feuil2!$C$1:$CD$9,8,FALSE)","v":{"$error":"#VALUE!"}},{"$f":"T504-HLOOKUP(X504,Feuil2!$C$1:$CD$9,9,FALSE)","v":{"$error":"#VALUE!"}},null,null,null,null,null,null,null,{"$f":"IF(AG504>=0,$AG$4,IF(AF504>=0,$AF$4,IF(AE504>=0,$AE$4,IF(AD504>=0,$AD$4,IF(AC504>=0,$AC$4,IF(AB504>=0,$AB$4,IF(AA504>=0,$AA$4,IF(Z504>=0,$Z$4,$AH$4))))))))","v":{"$error":"#VALUE!"}},{"$f":"114-J504","v":114},null,{"$f":"IF(AP504,VLOOKUP(AP504,HOM!$AR$551:$AS$606,2))","v":3.5710000000000002}]
["H",null,null,null,null,false,null,null,null,null,null,null,null,null,"",null,null,null,"","","","","",{"$f":"IF(AND(J505>=40,J505<45),VLOOKUP(K505,Feuil2!$F$10:$P$28,9),IF(AND(J505>=45,J505<50),VLOOKUP(K505,Feuil2!$F$10:$P$28,8),IF(AND(J505>=50,J505<55),VLOOKUP(K505,Feuil2!$F$10:$P$28,7),IF(AND(J505>=55,J505<60),VLOOKUP(K505,Feuil2!$F$10:$P$28,6),IF(AND(J505>=60,J505<65),VLOOKUP(K505,Feuil2!$F$10:$P$28,5),IF(AND(J505>=65,J505<70),VLOOKUP(K505,Feuil2!$F$10:$P$28,4),IF(AND(J505>=70,J505<75),VLOOKUP(K505,Feuil2!$F$10:$P$28,3),IF(AND(J505>=75,J505<80),VLOOKUP(K505,Feuil2!$F$10:$P$28,2),VLOOKUP(K505,Feuil2!$F$10:$P$28,2)))))))))","v":{"$error":"#N/A"}},null,{"$f":"T505-HLOOKUP(X505,Feuil2!$C$1:$CD$9,2,FALSE)","v":{"$error":"#VALUE!"}},{"$f":"T505-HLOOKUP(X505,Feuil2!$C$1:$CD$9,3,FALSE)","v":{"$error":"#VALUE!"}},{"$f":"T505-HLOOKUP(X505,Feuil2!$C$1:$CD$9,4,FALSE)","v":{"$error":"#VALUE!"}},{"$f":"T505-HLOOKUP(X505,Feuil2!$C$1:$CD$9,5,FALSE)","v":{"$error":"#VALUE!"}},{"$f":"T505-HLOOKUP(X505,Feuil2!$C$1:$CD$9,6,FALSE)","v":{"$error":"#VALUE!"}},{"$f":"T505-HLOOKUP(X505,Feuil2!$C$1:$CD$9,7,FALSE)","v":{"$error":"#VALUE!"}},{"$f":"T505-HLOOKUP(X505,Feuil2!$C$1:$CD$9,8,FALSE)","v":{"$error":"#VALUE!"}},{"$f":"T505-HLOOKUP(X505,Feuil2!$C$1:$CD$9,9,FALSE)","v":{"$error":"#VALUE!"}},null,null,null,null,null,null,null,{"$error":"#VALUE!"},114,null,{"$f":"IF(AP505,VLOOKUP(AP505,HOM!$AR$551:$AS$606,2))","v":3.5710000000000002}]
["H",null,null,null,null,false,null,null,null,null,null,null,null,null,"",null,null,null,"","","","","",{"$f":"IF(AND(J506>=40,J506<45),VLOOKUP(K506,Feuil2!$F$10:$P$28,9),IF(AND(J506>=45,J506<50),VLOOKUP(K506,Feuil2!$F$10:$P$28,8),IF(AND(J506>=50,J506<55),VLOOKUP(K506,Feuil2!$F$10:$P$28,7),IF(AND(J506>=55,J506<60),VLOOKUP(K506,Feuil2!$F$10:$P$28,6),IF(AND(J506>=60,J506<65),VLOOKUP(K506,Feuil2!$F$10:$P$28,5),IF(AND(J506>=65,J506<70),VLOOKUP(K506,Feuil2!$F$10:$P$28,4),IF(AND(J506>=70,J506<75),VLOOKUP(K506,Feuil2!$F$10:$P$28,3),IF(AND(J506>=75,J506<80),VLOOKUP(K506,Feuil2!$F$10:$P$28,2),VLOOKUP(K506,Feuil2!$F$10:$P$28,2)))))))))","v":{"$error":"#N/A"}},null,{"$f":"T506-HLOOKUP(X506,Feuil2!$C$1:$CD$9,2,FALSE)","v":{"$error":"#VALUE!"}},{"$f":"T506-HLOOKUP(X506,Feuil2!$C$1:$CD$9,3,FALSE)","v":{"$error":"#VALUE!"}},{"$f":"T506-HLOOKUP(X506,Feuil2!$C$1:$CD$9,4,FALSE)","v":{"$error":"#VALUE!"}},{"$f":"T506-HLOOKUP(X506,Feuil2!$C$1:$CD$9,5,FALSE)","v":{"$error":"#VALUE!"}},{"$f":"T506-HLOOKUP(X506,Feuil2!$C$1:$CD$9,6,FALSE)","v":{"$error":"#VALUE!"}},{"$f":"T506-HLOOKUP(X506,Feuil2!$C$1:$CD$9,7,FALSE)","v":{"$error":"#VALUE!"}},{"$f":"T506-HLOOKUP(X506,Feuil2!$C$1:$CD$9,8,FALSE)","v":{"$error":"#VALUE!"}},{"$f":"T506-HLOOKUP(X506,Feuil2!$C$1:$CD$9,9,FALSE)","v":{"$error":"#VALUE!"}},null,null,null,null,null,null,null,{"$error":"#VALUE!"},114,null,{"$f":"IF(AP506,VLOOKUP(AP506,HOM!$AR$551:$AS$606,2))","v":3.5710000000000002}]
["H",null,null,null,null,false,null,null,null,null,null,null,null,null,"",null,null,null,"","","","","",{"$f":"IF(AND(J507>=40,J507<45),VLOOKUP(K507,Feuil2!$F$10:$P$28,9),IF(AND(J507>=45,J507<50),VLOOKUP(K507,Feuil2!$F$10:$P$28,8),IF(AND(J507>=50,J507<55),VLOOKUP(K507,Feuil2!$F$10:$P$28,7),IF(AND(J507>=55,J507<60),VLOOKUP(K507,Feuil2!$F$10:$P$28,6),IF(AND(J507>=60,J507<65),VLOOKUP(K507,Feuil2!$F$10:$P$28,5),IF(AND(J507>=65,J507<70),VLOOKUP(K507,Feuil2!$F$10:$P$28,4),IF(AND(J507>=70,J507<75),VLOOKUP(K507,Feuil2!$F$10:$P$28,3),IF(AND(J507>=75,J507<80),VLOOKUP(K507,Feuil2!$F$10:$P$28,2),VLOOKUP(K507,Feuil2!$F$10:$P$28,2)))))))))","v":{"$error":"#N/A"}},null,{"$f":"T507-HLOOKUP(X507,Feuil2!$C$1:$CD$9,2,FALSE)","v":{"$error":"#VALUE!"}},{"$f":"T507-HLOOKUP(X507,Feuil2!$C$1:$CD$9,3,FALSE)","v":{"$error":"#VALUE!"}},{"$f":"T507-HLOOKUP(X507,Feuil2!$C$1:$CD$9,4,FALSE)","v":{"$error":"#VALUE!"}},{"$f":"T507-HLOOKUP(X507,Feuil2!$C$1:$CD$9,5,FALSE)","v":{"$error":"#VALUE!"}},{"$f":"T507-HLOOKUP(X507,Feuil2!$C$1:$CD$9,6,FALSE)","v":{"$error":"#VALUE!"}},{"$f":"T507-HLOOKUP(X507,Feuil2!$C$1:$CD$9,7,FALSE)","v":{"$error":"#VALUE!"}},{"$f":"T507-HLOOKUP(X507,Feuil2!$C$1:$CD$9,8,FALSE)","v":{"$error":"#VALUE!"}},{"$f":"T507-HLOOKUP(X507,Feuil2!$C$1:$CD$9,9,FALSE)","v":{"$error":"#VALUE!"}},null,null,null,null,null,null,null,{"$error":"#VALUE!"},114,null,{"$f":"IF(AP507,VLOOKUP(AP507,HOM!$AR$551:$AS$606,2))","v":3.5710000000000002}]
["H",null,null,null,null,false,null,null,null,null,null,null,null,null,"",null,null,null,"","","","","",{"$f":"IF(AND(J508>=40,J508<45),VLOOKUP(K508,Feuil2!$F$10:$P$28,9),IF(AND(J508>=45,J508<50),VLOOKUP(K508,Feuil2!$F$10:$P$28,8),IF(AND(J508>=50,J508<55),VLOOKUP(K508,Feuil2!$F$10:$P$28,7),IF(AND(J508>=55,J508<60),VLOOKUP(K508,Feuil2!$F$10:$P$28,6),IF(AND(J508>=60,J508<65),VLOOKUP(K508,Feuil2!$F$10:$P$28,5),IF(AND(J508>=65,J508<70),VLOOKUP(K508,Feuil2!$F$10:$P$28,4),IF(AND(J508>=70,J508<75),VLOOKUP(K508,Feuil2!$F$10:$P$28,3),IF(AND(J508>=75,J508<80),VLOOKUP(K508,Feuil2!$F$10:$P$28,2),VLOOKUP(K508,Feuil2!$F$10:$P$28,2)))))))))","v":{"$error":"#N/A"}},null,{"$f":"T508-HLOOKUP(X508,Feuil2!$C$1:$CD$9,2,FALSE)","v":{"$error":"#VALUE!"}},{"$f":"T508-HLOOKUP(X508,Feuil2!$C$1:$CD$9,3,FALSE)","v":{"$error":"#VALUE!"}},{"$f":"T508-HLOOKUP(X508,Feuil2!$C$1:$CD$9,4,FALSE)","v":{"$error":"#VALUE!"}},{"$f":"T508-HLOOKUP(X508,Feuil2!$C$1:$CD$9,5,FALSE)","v":{"$error":"#VALUE!"}},{"$f":"T508-HLOOKUP(X508,Feuil2!$C$1:$CD$9,6,FALSE)","v":{"$error":"#VALUE!"}},{"$f":"T508-HLOOKUP(X508,Feuil2!$C$1:$CD$9,7,FALSE)","v":{"$error":"#VALUE!"}},{"$f":"T508-HLOOKUP(X508,Feuil2!$C$1:$CD$9,8,FALSE)","v":{"$error":"#VALUE!"}},{"$f":"T508-HLOOKUP(X508,Feuil2!$C$1:$CD$9,9,FALSE)","v":{"$error":"#VALUE!"}},null,null,null,null,null,null,null,{"$error":"#VALUE!"},114,null,{"$f":"IF(AP508,VLOOKUP(AP508,HOM!$AR$551:$AS$606,2))","v":3.5710000000000002}]
["H",null,null,null,null,false,null,null,null,null,null,null,null,null,"",null,null,null,"","","","","",{"$f":"IF(AND(J509>=40,J509<45),VLOOKUP(K509,Feuil2!$F$10:$P$28,9),IF(AND(J509>=45,J509<50),VLOOKUP(K509,Feuil2!$F$10:$P$28,8),IF(AND(J509>=50,J509<55),VLOOKUP(K509,Feuil2!$F$10:$P$28,7),IF(AND(J509>=55,J509<60),VLOOKUP(K509,Feuil2!$F$10:$P$28,6),IF(AND(J509>=60,J509<65),VLOOKUP(K509,Feuil2!$F$10:$P$28,5),IF(AND(J509>=65,J509<70),VLOOKUP(K509,Feuil2!$F$10:$P$28,4),IF(AND(J509>=70,J509<75),VLOOKUP(K509,Feuil2!$F$10:$P$28,3),IF(AND(J509>=75,J509<80),VLOOKUP(K509,Feuil2!$F$10:$P$28,2),VLOOKUP(K509,Feuil2!$F$10:$P$28,2)))))))))","v":{"$error":"#N/A"}},null,{"$f":"T509-HLOOKUP(X509,Feuil2!$C$1:$CD$9,2,FALSE)","v":{"$error":"#VALUE!"}},{"$f":"T509-HLOOKUP(X509,Feuil2!$C$1:$CD$9,3,FALSE)","v":{"$error":"#VALUE!"}},{"$f":"T509-HLOOKUP(X509,Feuil2!$C$1:$CD$9,4,FALSE)","v":{"$error":"#VALUE!"}},{"$f":"T509-HLOOKUP(X509,Feuil2!$C$1:$CD$9,5,FALSE)","v":{"$error":"#VALUE!"}},{"$f":"T509-HLOOKUP(X509,Feuil2!$C$1:$CD$9,6,FALSE)","v":{"$error":"#VALUE!"}},{"$f":"T509-HLOOKUP(X509,Feuil2!$C$1:$CD$9,7,FALSE)","v":{"$error":"#VALUE!"}},{"$f":"T509-HLOOKUP(X509,Feuil2!$C$1:$CD$9,8,FALSE)","v":{"$error":"#VALUE!"}},{"$f":"T509-HLOOKUP(X509,Feuil2!$C$1:$CD$9,9,FALSE)","v":{"$error":"#VALUE!"}},null,null,null,null,null,null,null,{"$error":"#VALUE!"},114,null,{"$f":"IF(AP509,VLOOKUP(AP509,HOM!$AR$551:$AS$606,2))","v":3.5710000000000002}]
["H",null,null,null,null,false,null,null,null,null,null,null,null,null,"",null,null,null,"","","","","",{"$f":"IF(AND(J510>=40,J510<45),VLOOKUP(K510,Feuil2!$F$10:$P$28,9),IF(AND(J510>=45,J510<50),VLOOKUP(K510,Feuil2!$F$10:$P$28,8),IF(AND(J510>=50,J510<55),VLOOKUP(K510,Feuil2!$F$10:$P$28,7),IF(AND(J510>=55,J510<60),VLOOKUP(K510,Feuil2!$F$10:$P$28,6),IF(AND(J510>=60,J510<65),VLOOKUP(K510,Feuil2!$F$10:$P$28,5),IF(AND(J510>=65,J510<70),VLOOKUP(K510,Feuil2!$F$10:$P$28,4),IF(AND(J510>=70,J510<75),VLOOKUP(K510,Feuil2!$F$10:$P$28,3),IF(AND(J510>=75,J510<80),VLOOKUP(K510,Feuil2!$F$10:$P$28,2),VLOOKUP(K510,Feuil2!$F$10:$P$28,2)))))))))","v":{"$error":"#N/A"}},null,{"$f":"T510-HLOOKUP(X510,Feuil2!$C$1:$CD$9,2,FALSE)","v":{"$error":"#VALUE!"}},{"$f":"T510-HLOOKUP(X510,Feuil2!$C$1:$CD$9,3,FALSE)","v":{"$error":"#VALUE!"}},{"$f":"T510-HLOOKUP(X510,Feuil2!$C$1:$CD$9,4,FALSE)","v":{"$error":"#VALUE!"}},{"$f":"T510-HLOOKUP(X510,Feuil2!$C$1:$CD$9,5,FALSE)","v":{"$error":"#VALUE!"}},{"$f":"T510-HLOOKUP(X510,Feuil2!$C$1:$CD$9,6,FALSE)","v":{"$error":"#VALUE!"}},{"$f":"T510-HLOOKUP(X510,Feuil2!$C$1:$CD$9,7,FALSE)","v":{"$error":"#VALUE!"}},{"$f":"T510-HLOOKUP(X510,Feuil2!$C$1:$CD$9,8,FALSE)","v":{"$error":"#VALUE!"}},{"$f":"T510-HLOOKUP(X510,Feuil2!$C$1:$CD$9,9,FALSE)","v":{"$error":"#VALUE!"}},null,null,null,null,null,null,null,{"$error":"#VALUE!"},114,null,{"$f":"IF(AP510,VLOOKUP(AP510,HOM!$AR$551:$AS$606,2))","v":3.5710000000000002}]
["H",null,null,null,null,false,null,null,null,null,null,null,null,null,"",null,null,null,"","","","","",{"$f":"IF(AND(J511>=40,J511<45),VLOOKUP(K511,Feuil2!$F$10:$P$28,9),IF(AND(J511>=45,J511<50),VLOOKUP(K511,Feuil2!$F$10:$P$28,8),IF(AND(J511>=50,J511<55),VLOOKUP(K511,Feuil2!$F$10:$P$28,7),IF(AND(J511>=55,J511<60),VLOOKUP(K511,Feuil2!$F$10:$P$28,6),IF(AND(J511>=60,J511<65),VLOOKUP(K511,Feuil2!$F$10:$P$28,5),IF(AND(J511>=65,J511<70),VLOOKUP(K511,Feuil2!$F$10:$P$28,4),IF(AND(J511>=70,J511<75),VLOOKUP(K511,Feuil2!$F$10:$P$28,3),IF(AND(J511>=75,J511<80),VLOOKUP(K511,Feuil2!$F$10:$P$28,2),VLOOKUP(K511,Feuil2!$F$10:$P$28,2)))))))))","v":{"$error":"#N/A"}},null,{"$f":"T511-HLOOKUP(X511,Feuil2!$C$1:$CD$9,2,FALSE)","v":{"$error":"#VALUE!"}},{"$f":"T511-HLOOKUP(X511,Feuil2!$C$1:$CD$9,3,FALSE)","v":{"$error":"#VALUE!"}},{"$f":"T511-HLOOKUP(X511,Feuil2!$C$1:$CD$9,4,FALSE)","v":{"$error":"#VALUE!"}},{"$f":"T511-HLOOKUP(X511,Feuil2!$C$1:$CD$9,5,FALSE)","v":{"$error":"#VALUE!"}},{"$f":"T511-HLOOKUP(X511,Feuil2!$C$1:$CD$9,6,FALSE)","v":{"$error":"#VALUE!"}},{"$f":"T511-HLOOKUP(X511,Feuil2!$C$1:$CD$9,7,FALSE)","v":{"$error":"#VALUE!"}},{"$f":"T511-HLOOKUP(X511,Feuil2!$C$1:$CD$9,8,FALSE)","v":{"$error":"#VALUE!"}},{"$f":"T511-HLOOKUP(X511,Feuil2!$C$1:$CD$9,9,FALSE)","v":{"$error":"#VALUE!"}},null,null,null,null,null,null,null,{"$error":"#VALUE!"},114,null,{"$f":"IF(AP511,VLOOKUP(AP511,HOM!$AR$551:$AS$606,2))","v":3.5710000000000002}]
["H",null,null,null,null,false,null,null,null,null,null,null,null,null,"",null,null,null,"","","","","",{"$f":"IF(AND(J512>=40,J512<45),VLOOKUP(K512,Feuil2!$F$10:$P$28,9),IF(AND(J512>=45,J512<50),VLOOKUP(K512,Feuil2!$F$10:$P$28,8),IF(AND(J512>=50,J512<55),VLOOKUP(K512,Feuil2!$F$10:$P$28,7),IF(AND(J512>=55,J512<60),VLOOKUP(K512,Feuil2!$F$10:$P$28,6),IF(AND(J512>=60,J512<65),VLOOKUP(K512,Feuil2!$F$10:$P$28,5),IF(AND(J512>=65,J512<70),VLOOKUP(K512,Feuil2!$F$10:$P$28,4),IF(AND(J512>=70,J512<75),VLOOKUP(K512,Feuil2!$F$10:$P$28,3),IF(AND(J512>=75,J512<80),VLOOKUP(K512,Feuil2!$F$10:$P$28,2),VLOOKUP(K512,Feuil2!$F$10:$P$28,2)))))))))","v":{"$error":"#N/A"}},null,{"$f":"T512-HLOOKUP(X512,Feuil2!$C$1:$CD$9,2,FALSE)","v":{"$error":"#VALUE!"}},{"$f":"T512-HLOOKUP(X512,Feuil2!$C$1:$CD$9,3,FALSE)","v":{"$error":"#VALUE!"}},{"$f":"T512-HLOOKUP(X512,Feuil2!$C$1:$CD$9,4,FALSE)","v":{"$error":"#VALUE!"}},{"$f":"T512-HLOOKUP(X512,Feuil2!$C$1:$CD$9,5,FALSE)","v":{"$error":"#VALUE!"}},{"$f":"T512-HLOOKUP(X512,Feuil2!$C$1:$CD$9,6,FALSE)","v":{"$error":"#VALUE!"}},{"$f":"T512-HLOOKUP(X512,Feuil2!$C$1:$CD$9,7,FALSE)","v":{"$error":"#VALUE!"}},{"$f":"T512-HLOOKUP(X512,Feuil2!$C$1:$CD$9,8,FALSE)","v":{"$error":"#VALUE!"}},{"$f":"T512-HLOOKUP(X512,Feuil2!$C$1:$CD$9,9,FALSE)","v":{"$error":"#VALUE!"}},null,null,null,null,null,null,null,{"$error":"#VALUE!"},114,null,{"$f":"IF(AP512,VLOOKUP(AP512,HOM!$AR$551:$AS$606,2))","v":3.5710000000000002}]
["H",null,null,null,null,false,null,null,null,null,null,null,null,null,"",null,null,null,"","","","","",{"$f":"IF(AND(J513>=40,J513<45),VLOOKUP(K513,Feuil2!$F$10:$P$28,9),IF(AND(J513>=45,J513<50),VLOOKUP(K513,Feuil2!$F$10:$P$28,8),IF(AND(J513>=50,J513<55),VLOOKUP(K513,Feuil2!$F$10:$P$28,7),IF(AND(J513>=55,J513<60),VLOOKUP(K513,Feuil2!$F$10:$P$28,6),IF(AND(J513>=60,J513<65),VLOOKUP(K513,Feuil2!$F$10:$P$28,5),IF(AND(J513>=65,J513<70),VLOOKUP(K513,Feuil2!$F$10:$P$28,4),IF(AND(J513>=70,J513<75),VLOOKUP(K513,Feuil2!$F$10:$P$28,3),IF(AND(J513>=75,J513<80),VLOOKUP(K513,Feuil2!$F$10:$P$28,2),VLOOKUP(K513,Feuil2!$F$10:$P$28,2)))))))))","v":{"$error":"#N/A"}},null,{"$f":"T513-HLOOKUP(X513,Feuil2!$C$1:$CD$9,2,FALSE)","v":{"$error":"#VALUE!"}},{"$f":"T513-HLOOKUP(X513,Feuil2!$C$1:$CD$9,3,FALSE)","v":{"$error":"#VALUE!"}},{"$f":"T513-HLOOKUP(X513,Feuil2!$C$1:$CD$9,4,FALSE)","v":{"$error":"#VALUE!"}},{"$f":"T513-HLOOKUP(X513,Feuil2!$C$1:$CD$9,5,FALSE)","v":{"$error":"#VALUE!"}},{"$f":"T513-HLOOKUP(X513,Feuil2!$C$1:$CD$9,6,FALSE)","v":{"$error":"#VALUE!"}},{"$f":"T513-HLOOKUP(X513,Feuil2!$C$1:$CD$9,7,FALSE)","v":{"$error":"#VALUE!"}},{"$f":"T513-HLOOKUP(X513,Feuil2!$C$1:$CD$9,8,FALSE)","v":{"$error":"#VALUE!"}},{"$f":"T513-HLOOKUP(X513,Feuil2!$C$1:$CD$9,9,FALSE)","v":{"$error":"#VALUE!"}},null,null,null,null,null,null,null,{"$error":"#VALUE!"},114,null,{"$f":"IF(AP513,VLOOKUP(AP513,HOM!$AR$551:$AS$606,2))","v":3.5710000000000002}]
["H",null,null,null,null,false,null,null,null,null,null,null,null,null,"",null,null,null,"","","","","",{"$f":"IF(AND(J514>=40,J514<45),VLOOKUP(K514,Feuil2!$F$10:$P$28,9),IF(AND(J514>=45,J514<50),VLOOKUP(K514,Feuil2!$F$10:$P$28,8),IF(AND(J514>=50,J514<55),VLOOKUP(K514,Feuil2!$F$10:$P$28,7),IF(AND(J514>=55,J514<60),VLOOKUP(K514,Feuil2!$F$10:$P$28,6),IF(AND(J514>=60,J514<65),VLOOKUP(K514,Feuil2!$F$10:$P$28,5),IF(AND(J514>=65,J514<70),VLOOKUP(K514,Feuil2!$F$10:$P$28,4),IF(AND(J514>=70,J514<75),VLOOKUP(K514,Feuil2!$F$10:$P$28,3),IF(AND(J514>=75,J514<80),VLOOKUP(K514,Feuil2!$F$10:$P$28,2),VLOOKUP(K514,Feuil2!$F$10:$P$28,2)))))))))","v":{"$error":"#N/A"}},null,{"$f":"T514-HLOOKUP(X514,Feuil2!$C$1:$CD$9,2,FALSE)","v":{"$error":"#VALUE!"}},{"$f":"T514-HLOOKUP(X514,Feuil2!$C$1:$CD$9,3,FALSE)","v":{"$error":"#VALUE!"}},{"$f":"T514-HLOOKUP(X514,Feuil2!$C$1:$CD$9,4,FALSE)","v":{"$error":"#VALUE!"}},{"$f":"T514-HLOOKUP(X514,Feuil2!$C$1:$CD$9,5,FALSE)","v":{"$error":"#VALUE!"}},{"$f":"T514-HLOOKUP(X514,Feuil2!$C$1:$CD$9,6,FALSE)","v":{"$error":"#VALUE!"}},{"$f":"T514-HLOOKUP(X514,Feuil2!$C$1:$CD$9,7,FALSE)","v":{"$error":"#VALUE!"}},{"$f":"T514-HLOOKUP(X514,Feuil2!$C$1:$CD$9,8,FALSE)","v":{"$error":"#VALUE!"}},{"$f":"T514-HLOOKUP(X514,Feuil2!$C$1:$CD$9,9,FALSE)","v":{"$error":"#VALUE!"}},null,null,null,null,null,null,null,{"$error":"#VALUE!"},114,null,{"$f":"IF(AP514,VLOOKUP(AP514,HOM!$AR$551:$AS$606,2))","v":3.5710000000000002}]
["H",null,null,null,null,false,null,null,null,null,null,null,null,null,"",null,null,null,"","","","","",{"$f":"IF(AND(J515>=40,J515<45),VLOOKUP(K515,Feuil2!$F$10:$P$28,9),IF(AND(J515>=45,J515<50),VLOOKUP(K515,Feuil2!$F$10:$P$28,8),IF(AND(J515>=50,J515<55),VLOOKUP(K515,Feuil2!$F$10:$P$28,7),IF(AND(J515>=55,J515<60),VLOOKUP(K515,Feuil2!$F$10:$P$28,6),IF(AND(J515>=60,J515<65),VLOOKUP(K515,Feuil2!$F$10:$P$28,5),IF(AND(J515>=65,J515<70),VLOOKUP(K515,Feuil2!$F$10:$P$28,4),IF(AND(J515>=70,J515<75),VLOOKUP(K515,Feuil2!$F$10:$P$28,3),IF(AND(J515>=75,J515<80),VLOOKUP(K515,Feuil2!$F$10:$P$28,2),VLOOKUP(K515,Feuil2!$F$10:$P$28,2)))))))))","v":{"$error":"#N/A"}},null,{"$f":"T515-HLOOKUP(X515,Feuil2!$C$1:$CD$9,2,FALSE)","v":{"$error":"#VALUE!"}},{"$f":"T515-HLOOKUP(X515,Feuil2!$C$1:$CD$9,3,FALSE)","v":{"$error":"#VALUE!"}},{"$f":"T515-HLOOKUP(X515,Feuil2!$C$1:$CD$9,4,FALSE)","v":{"$error":"#VALUE!"}},{"$f":"T515-HLOOKUP(X515,Feuil2!$C$1:$CD$9,5,FALSE)","v":{"$error":"#VALUE!"}},{"$f":"T515-HLOOKUP(X515,Feuil2!$C$1:$CD$9,6,FALSE)","v":{"$error":"#VALUE!"}},{"$f":"T515-HLOOKUP(X515,Feuil2!$C$1:$CD$9,7,FALSE)","v":{"$error":"#VALUE!"}},{"$f":"T515-HLOOKUP(X515,Feuil2!$C$1:$CD$9,8,FALSE)","v":{"$error":"#VALUE!"}},{"$f":"T515-HLOOKUP(X515,Feuil2!$C$1:$CD$9,9,FALSE)","v":{"$error":"#VALUE!"}},null,null,null,null,null,null,null,{"$error":"#VALUE!"},114,null,{"$f":"IF(AP515,VLOOKUP(AP515,HOM!$AR$551:$AS$606,2))","v":3.5710000000000002}]
["H",null,null,null,null,false,null,null,null,null,null,null,null,null,"",null,null,null,"","","","","",{"$f":"IF(AND(J516>=40,J516<45),VLOOKUP(K516,Feuil2!$F$10:$P$28,9),IF(AND(J516>=45,J516<50),VLOOKUP(K516,Feuil2!$F$10:$P$28,8),IF(AND(J516>=50,J516<55),VLOOKUP(K516,Feuil2!$F$10:$P$28,7),IF(AND(J516>=55,J516<60),VLOOKUP(K516,Feuil2!$F$10:$P$28,6),IF(AND(J516>=60,J516<65),VLOOKUP(K516,Feuil2!$F$10:$P$28,5),IF(AND(J516>=65,J516<70),VLOOKUP(K516,Feuil2!$F$10:$P$28,4),IF(AND(J516>=70,J516<75),VLOOKUP(K516,Feuil2!$F$10:$P$28,3),IF(AND(J516>=75,J516<80),VLOOKUP(K516,Feuil2!$F$10:$P$28,2),VLOOKUP(K516,Feuil2!$F$10:$P$28,2)))))))))","v":{"$error":"#N/A"}},null,{"$f":"T516-HLOOKUP(X516,Feuil2!$C$1:$CD$9,2,FALSE)","v":{"$error":"#VALUE!"}},{"$f":"T516-HLOOKUP(X516,Feuil2!$C$1:$CD$9,3,FALSE)","v":{"$error":"#VALUE!"}},{"$f":"T516-HLOOKUP(X516,Feuil2!$C$1:$CD$9,4,FALSE)","v":{"$error":"#VALUE!"}},{"$f":"T516-HLOOKUP(X516,Feuil2!$C$1:$CD$9,5,FALSE)","v":{"$error":"#VALUE!"}},{"$f":"T516-HLOOKUP(X516,Feuil2!$C$1:$CD$9,6,FALSE)","v":{"$error":"#VALUE!"}},{"$f":"T516-HLOOKUP(X516,Feuil2!$C$1:$CD$9,7,FALSE)","v":{"$error":"#VALUE!"}},{"$f":"T516-HLOOKUP(X516,Feuil2!$C$1:$CD$9,8,FALSE)","v":{"$error":"#VALUE!"}},{"$f":"T516-HLOOKUP(X516,Feuil2!$C$1:$CD$9,9,FALSE)","v":{"$error":"#VALUE!"}},null,null,null,null,null,null,null,{"$error":"#VALUE!"},114,null,{"$f":"IF(AP516,VLOOKUP(AP516,HOM!$AR$551:$AS$606,2))","v":3.5710000000000002}]
["H",null,null,null,null,false,null,null,null,null,null,null,null,null,"",null,null,null,"","","","","",{"$f":"IF(AND(J517>=40,J517<45),VLOOKUP(K517,Feuil2!$F$10:$P$28,9),IF(AND(J517>=45,J517<50),VLOOKUP(K517,Feuil2!$F$10:$P$28,8),IF(AND(J517>=50,J517<55),VLOOKUP(K517,Feuil2!$F$10:$P$28,7),IF(AND(J517>=55,J517<60),VLOOKUP(K517,Feuil2!$F$10:$P$28,6),IF(AND(J517>=60,J517<65),VLOOKUP(K517,Feuil2!$F$10:$P$28,5),IF(AND(J517>=65,J517<70),VLOOKUP(K517,Feuil2!$F$10:$P$28,4),IF(AND(J517>=70,J517<75),VLOOKUP(K517,Feuil2!$F$10:$P$28,3),IF(AND(J517>=75,J517<80),VLOOKUP(K517,Feuil2!$F$10:$P$28,2),VLOOKUP(K517,Feuil2!$F$10:$P$28,2)))))))))","v":{"$error":"#N/A"}},null,{"$f":"T517-HLOOKUP(X517,Feuil2!$C$1:$CD$9,2,FALSE)","v":{"$error":"#VALUE!"}},{"$f":"T517-HLOOKUP(X517,Feuil2!$C$1:$CD$9,3,FALSE)","v":{"$error":"#VALUE!"}},{"$f":"T517-HLOOKUP(X517,Feuil2!$C$1:$CD$9,4,FALSE)","v":{"$error":"#VALUE!"}},{"$f":"T517-HLOOKUP(X517,Feuil2!$C$1:$CD$9,5,FALSE)","v":{"$error":"#VALUE!"}},{"$f":"T517-HLOOKUP(X517,Feuil2!$C$1:$CD$9,6,FALSE)","v":{"$error":"#VALUE!"}},{"$f":"T517-HLOOKUP(X517,Feuil2!$C$1:$CD$9,7,FALSE)","v":{"$error":"#VALUE!"}},{"$f":"T517-HLOOKUP(X517,Feuil2!$C$1:$CD$9,8,FALSE)","v":{"$error":"#VALUE!"}},{"$f":"T517-HLOOKUP(X517,Feuil2!$C$1:$CD$9,9,FALSE)","v":{"$error":"#VALUE!"}},null,null,null,null,null,null,null,{"$error":"#VALUE!"},114,null,{"$f":"IF(AP517,VLOOKUP(AP517,HOM!$AR$551:$AS$606,2))","v":3.5710000000000002}]
["H",null,null,null,null,false,null,null,null,null,null,null,null,null,"",null,null,null,"","","","","",{"$f":"IF(AND(J518>=40,J518<45),VLOOKUP(K518,Feuil2!$F$10:$P$28,9),IF(AND(J518>=45,J518<50),VLOOKUP(K518,Feuil2!$F$10:$P$28,8),IF(AND(J518>=50,J518<55),VLOOKUP(K518,Feuil2!$F$10:$P$28,7),IF(AND(J518>=55,J518<60),VLOOKUP(K518,Feuil2!$F$10:$P$28,6),IF(AND(J518>=60,J518<65),VLOOKUP(K518,Feuil2!$F$10:$P$28,5),IF(AND(J518>=65,J518<70),VLOOKUP(K518,Feuil2!$F$10:$P$28,4),IF(AND(J518>=70,J518<75),VLOOKUP(K518,Feuil2!$F$10:$P$28,3),IF(AND(J518>=75,J518<80),VLOOKUP(K518,Feuil2!$F$10:$P$28,2),VLOOKUP(K518,Feuil2!$F$10:$P$28,2)))))))))","v":{"$error":"#N/A"}},null,{"$f":"T518-HLOOKUP(X518,Feuil2!$C$1:$CD$9,2,FALSE)","v":{"$error":"#VALUE!"}},{"$f":"T518-HLOOKUP(X518,Feuil2!$C$1:$CD$9,3,FALSE)","v":{"$error":"#VALUE!"}},{"$f":"T518-HLOOKUP(X518,Feuil2!$C$1:$CD$9,4,FALSE)","v":{"$error":"#VALUE!"}},{"$f":"T518-HLOOKUP(X518,Feuil2!$C$1:$CD$9,5,FALSE)","v":{"$error":"#VALUE!"}},{"$f":"T518-HLOOKUP(X518,Feuil2!$C$1:$CD$9,6,FALSE)","v":{"$error":"#VALUE!"}},{"$f":"T518-HLOOKUP(X518,Feuil2!$C$1:$CD$9,7,FALSE)","v":{"$error":"#VALUE!"}},{"$f":"T518-HLOOKUP(X518,Feuil2!$C$1:$CD$9,8,FALSE)","v":{"$error":"#VALUE!"}},{"$f":"T518-HLOOKUP(X518,Feuil2!$C$1:$CD$9,9,FALSE)","v":{"$error":"#VALUE!"}},null,null,null,null,null,null,null,{"$error":"#VALUE!"},114,null,{"$f":"IF(AP518,VLOOKUP(AP518,HOM!$AR$551:$AS$606,2))","v":3.5710000000000002}]
["H",null,null,null,null,false,null,null,null,null,null,null,null,null,"",null,null,null,"","","","","",{"$f":"IF(AND(J519>=40,J519<45),VLOOKUP(K519,Feuil2!$F$10:$P$28,9),IF(AND(J519>=45,J519<50),VLOOKUP(K519,Feuil2!$F$10:$P$28,8),IF(AND(J519>=50,J519<55),VLOOKUP(K519,Feuil2!$F$10:$P$28,7),IF(AND(J519>=55,J519<60),VLOOKUP(K519,Feuil2!$F$10:$P$28,6),IF(AND(J519>=60,J519<65),VLOOKUP(K519,Feuil2!$F$10:$P$28,5),IF(AND(J519>=65,J519<70),VLOOKUP(K519,Feuil2!$F$10:$P$28,4),IF(AND(J519>=70,J519<75),VLOOKUP(K519,Feuil2!$F$10:$P$28,3),IF(AND(J519>=75,J519<80),VLOOKUP(K519,Feuil2!$F$10:$P$28,2),VLOOKUP(K519,Feuil2!$F$10:$P$28,2)))))))))","v":{"$error":"#N/A"}},null,{"$f":"T519-HLOOKUP(X519,Feuil2!$C$1:$CD$9,2,FALSE)","v":{"$error":"#VALUE!"}},{"$f":"T519-HLOOKUP(X519,Feuil2!$C$1:$CD$9,3,FALSE)","v":{"$error":"#VALUE!"}},{"$f":"T519-HLOOKUP(X519,Feuil2!$C$1:$CD$9,4,FALSE)","v":{"$error":"#VALUE!"}},{"$f":"T519-HLOOKUP(X519,Feuil2!$C$1:$CD$9,5,FALSE)","v":{"$error":"#VALUE!"}},{"$f":"T519-HLOOKUP(X519,Feuil2!$C$1:$CD$9,6,FALSE)","v":{"$error":"#VALUE!"}},{"$f":"T519-HLOOKUP(X519,Feuil2!$C$1:$CD$9,7,FALSE)","v":{"$error":"#VALUE!"}},{"$f":"T519-HLOOKUP(X519,Feuil2!$C$1:$CD$9,8,FALSE)","v":{"$error":"#VALUE!"}},{"$f":"T519-HLOOKUP(X519,Feuil2!$C$1:$CD$9,9,FALSE)","v":{"$error":"#VALUE!"}},null,null,null,null,null,null,null,{"$error":"#VALUE!"},114,null,{"$f":"IF(AP519,VLOOKUP(AP519,HOM!$AR$551:$AS$606,2))","v":3.5710000000000002}]
["H",null,null,null,null,false,null,null,null,null,null,null,null,null,"",null,null,null,"","","","","",{"$f":"IF(AND(J520>=40,J520<45),VLOOKUP(K520,Feuil2!$F$10:$P$28,9),IF(AND(J520>=45,J520<50),VLOOKUP(K520,Feuil2!$F$10:$P$28,8),IF(AND(J520>=50,J520<55),VLOOKUP(K520,Feuil2!$F$10:$P$28,7),IF(AND(J520>=55,J520<60),VLOOKUP(K520,Feuil2!$F$10:$P$28,6),IF(AND(J520>=60,J520<65),VLOOKUP(K520,Feuil2!$F$10:$P$28,5),IF(AND(J520>=65,J520<70),VLOOKUP(K520,Feuil2!$F$10:$P$28,4),IF(AND(J520>=70,J520<75),VLOOKUP(K520,Feuil2!$F$10:$P$28,3),IF(AND(J520>=75,J520<80),VLOOKUP(K520,Feuil2!$F$10:$P$28,2),VLOOKUP(K520,Feuil2!$F$10:$P$28,2)))))))))","v":{"$error":"#N/A"}},null,{"$f":"T520-HLOOKUP(X520,Feuil2!$C$1:$CD$9,2,FALSE)","v":{"$error":"#VALUE!"}},{"$f":"T520-HLOOKUP(X520,Feuil2!$C$1:$CD$9,3,FALSE)","v":{"$error":"#VALUE!"}},{"$f":"T520-HLOOKUP(X520,Feuil2!$C$1:$CD$9,4,FALSE)","v":{"$error":"#VALUE!"}},{"$f":"T520-HLOOKUP(X520,Feuil2!$C$1:$CD$9,5,FALSE)","v":{"$error":"#VALUE!"}},{"$f":"T520-HLOOKUP(X520,Feuil2!$C$1:$CD$9,6,FALSE)","v":{"$error":"#VALUE!"}},{"$f":"T520-HLOOKUP(X520,Feuil2!$C$1:$CD$9,7,FALSE)","v":{"$error":"#VALUE!"}},{"$f":"T520-HLOOKUP(X520,Feuil2!$C$1:$CD$9,8,FALSE)","v":{"$error":"#VALUE!"}},{"$f":"T520-HLOOKUP(X520,Feuil2!$C$1:$CD$9,9,FALSE)","v":{"$error":"#VALUE!"}},null,null,null,null,null,null,null,{"$error":"#VALUE!"},114,null,{"$f":"IF(AP520,VLOOKUP(AP520,HOM!$AR$551:$AS$606,2))","v":3.5710000000000002}]
["H",null,null,null,null,false,null,null,null,null,null,null,null,null,"",null,null,null,"","","","","",{"$f":"IF(AND(J521>=40,J521<45),VLOOKUP(K521,Feuil2!$F$10:$P$28,9),IF(AND(J521>=45,J521<50),VLOOKUP(K521,Feuil2!$F$10:$P$28,8),IF(AND(J521>=50,J521<55),VLOOKUP(K521,Feuil2!$F$10:$P$28,7),IF(AND(J521>=55,J521<60),VLOOKUP(K521,Feuil2!$F$10:$P$28,6),IF(AND(J521>=60,J521<65),VLOOKUP(K521,Feuil2!$F$10:$P$28,5),IF(AND(J521>=65,J521<70),VLOOKUP(K521,Feuil2!$F$10:$P$28,4),IF(AND(J521>=70,J521<75),VLOOKUP(K521,Feuil2!$F$10:$P$28,3),IF(AND(J521>=75,J521<80),VLOOKUP(K521,Feuil2!$F$10:$P$28,2),VLOOKUP(K521,Feuil2!$F$10:$P$28,2)))))))))","v":{"$error":"#N/A"}},null,{"$f":"T521-HLOOKUP(X521,Feuil2!$C$1:$CD$9,2,FALSE)","v":{"$error":"#VALUE!"}},{"$f":"T521-HLOOKUP(X521,Feuil2!$C$1:$CD$9,3,FALSE)","v":{"$error":"#VALUE!"}},{"$f":"T521-HLOOKUP(X521,Feuil2!$C$1:$CD$9,4,FALSE)","v":{"$error":"#VALUE!"}},{"$f":"T521-HLOOKUP(X521,Feuil2!$C$1:$CD$9,5,FALSE)","v":{"$error":"#VALUE!"}},{"$f":"T521-HLOOKUP(X521,Feuil2!$C$1:$CD$9,6,FALSE)","v":{"$error":"#VALUE!"}},{"$f":"T521-HLOOKUP(X521,Feuil2!$C$1:$CD$9,7,FALSE)","v":{"$error":"#VALUE!"}},{"$f":"T521-HLOOKUP(X521,Feuil2!$C$1:$CD$9,8,FALSE)","v":{"$error":"#VALUE!"}},{"$f":"T521-HLOOKUP(X521,Feuil2!$C$1:$CD$9,9,FALSE)","v":{"$error":"#VALUE!"}},null,null,null,null,null,null,null,{"$error":"#VALUE!"},114,null,{"$f":"IF(AP521,VLOOKUP(AP521,HOM!$AR$551:$AS$606,2))","v":3.5710000000000002}]
["H",null,null,null,null,false,null,null,null,null,null,null,null,null,"",null,null,null,"","","","","",{"$f":"IF(AND(J522>=40,J522<45),VLOOKUP(K522,Feuil2!$F$10:$P$28,9),IF(AND(J522>=45,J522<50),VLOOKUP(K522,Feuil2!$F$10:$P$28,8),IF(AND(J522>=50,J522<55),VLOOKUP(K522,Feuil2!$F$10:$P$28,7),IF(AND(J522>=55,J522<60),VLOOKUP(K522,Feuil2!$F$10:$P$28,6),IF(AND(J522>=60,J522<65),VLOOKUP(K522,Feuil2!$F$10:$P$28,5),IF(AND(J522>=65,J522<70),VLOOKUP(K522,Feuil2!$F$10:$P$28,4),IF(AND(J522>=70,J522<75),VLOOKUP(K522,Feuil2!$F$10:$P$28,3),IF(AND(J522>=75,J522<80),VLOOKUP(K522,Feuil2!$F$10:$P$28,2),VLOOKUP(K522,Feuil2!$F$10:$P$28,2)))))))))","v":{"$error":"#N/A"}},null,{"$f":"T522-HLOOKUP(X522,Feuil2!$C$1:$CD$9,2,FALSE)","v":{"$error":"#VALUE!"}},{"$f":"T522-HLOOKUP(X522,Feuil2!$C$1:$CD$9,3,FALSE)","v":{"$error":"#VALUE!"}},{"$f":"T522-HLOOKUP(X522,Feuil2!$C$1:$CD$9,4,FALSE)","v":{"$error":"#VALUE!"}},{"$f":"T522-HLOOKUP(X522,Feuil2!$C$1:$CD$9,5,FALSE)","v":{"$error":"#VALUE!"}},{"$f":"T522-HLOOKUP(X522,Feuil2!$C$1:$CD$9,6,FALSE)","v":{"$error":"#VALUE!"}},{"$f":"T522-HLOOKUP(X522,Feuil2!$C$1:$CD$9,7,FALSE)","v":{"$error":"#VALUE!"}},{"$f":"T522-HLOOKUP(X522,Feuil2!$C$1:$CD$9,8,FALSE)","v":{"$error":"#VALUE!"}},{"$f":"T522-HLOOKUP(X522,Feuil2!$C$1:$CD$9,9,FALSE)","v":{"$error":"#VALUE!"}},null,null,null,null,null,null,null,{"$error":"#VALUE!"},114,null,{"$f":"IF(AP522,VLOOKUP(AP522,HOM!$AR$551:$AS$606,2))","v":3.5710000000000002}]
["H",null,null,null,null,false,null,null,null,null,null,null,null,null,"",null,null,null,"","","","","",{"$f":"IF(AND(J523>=40,J523<45),VLOOKUP(K523,Feuil2!$F$10:$P$28,9),IF(AND(J523>=45,J523<50),VLOOKUP(K523,Feuil2!$F$10:$P$28,8),IF(AND(J523>=50,J523<55),VLOOKUP(K523,Feuil2!$F$10:$P$28,7),IF(AND(J523>=55,J523<60),VLOOKUP(K523,Feuil2!$F$10:$P$28,6),IF(AND(J523>=60,J523<65),VLOOKUP(K523,Feuil2!$F$10:$P$28,5),IF(AND(J523>=65,J523<70),VLOOKUP(K523,Feuil2!$F$10:$P$28,4),IF(AND(J523>=70,J523<75),VLOOKUP(K523,Feuil2!$F$10:$P$28,3),IF(AND(J523>=75,J523<80),VLOOKUP(K523,Feuil2!$F$10:$P$28,2),VLOOKUP(K523,Feuil2!$F$10:$P$28,2)))))))))","v":{"$error":"#N/A"}},null,{"$f":"T523-HLOOKUP(X523,Feuil2!$C$1:$CD$9,2,FALSE)","v":{"$error":"#VALUE!"}},{"$f":"T523-HLOOKUP(X523,Feuil2!$C$1:$CD$9,3,FALSE)","v":{"$error":"#VALUE!"}},{"$f":"T523-HLOOKUP(X523,Feuil2!$C$1:$CD$9,4,FALSE)","v":{"$error":"#VALUE!"}},{"$f":"T523-HLOOKUP(X523,Feuil2!$C$1:$CD$9,5,FALSE)","v":{"$error":"#VALUE!"}},{"$f":"T523-HLOOKUP(X523,Feuil2!$C$1:$CD$9,6,FALSE)","v":{"$error":"#VALUE!"}},{"$f":"T523-HLOOKUP(X523,Feuil2!$C$1:$CD$9,7,FALSE)","v":{"$error":"#VALUE!"}},{"$f":"T523-HLOOKUP(X523,Feuil2!$C$1:$CD$9,8,FALSE)","v":{"$error":"#VALUE!"}},{"$f":"T523-HLOOKUP(X523,Feuil2!$C$1:$CD$9,9,FALSE)","v":{"$error":"#VALUE!"}},null,null,null,null,null,null,null,{"$error":"#VALUE!"},114,null,{"$f":"IF(AP523,VLOOKUP(AP523,HOM!$AR$551:$AS$606,2))","v":3.5710000000000002}]
["H",null,null,null,null,false,null,null,null,null,null,null,null,null,"",null,null,null,"","","","","",{"$f":"IF(AND(J524>=40,J524<45),VLOOKUP(K524,Feuil2!$F$10:$P$28,9),IF(AND(J524>=45,J524<50),VLOOKUP(K524,Feuil2!$F$10:$P$28,8),IF(AND(J524>=50,J524<55),VLOOKUP(K524,Feuil2!$F$10:$P$28,7),IF(AND(J524>=55,J524<60),VLOOKUP(K524,Feuil2!$F$10:$P$28,6),IF(AND(J524>=60,J524<65),VLOOKUP(K524,Feuil2!$F$10:$P$28,5),IF(AND(J524>=65,J524<70),VLOOKUP(K524,Feuil2!$F$10:$P$28,4),IF(AND(J524>=70,J524<75),VLOOKUP(K524,Feuil2!$F$10:$P$28,3),IF(AND(J524>=75,J524<80),VLOOKUP(K524,Feuil2!$F$10:$P$28,2),VLOOKUP(K524,Feuil2!$F$10:$P$28,2)))))))))","v":{"$error":"#N/A"}},null,{"$f":"T524-HLOOKUP(X524,Feuil2!$C$1:$CD$9,2,FALSE)","v":{"$error":"#VALUE!"}},{"$f":"T524-HLOOKUP(X524,Feuil2!$C$1:$CD$9,3,FALSE)","v":{"$error":"#VALUE!"}},{"$f":"T524-HLOOKUP(X524,Feuil2!$C$1:$CD$9,4,FALSE)","v":{"$error":"#VALUE!"}},{"$f":"T524-HLOOKUP(X524,Feuil2!$C$1:$CD$9,5,FALSE)","v":{"$error":"#VALUE!"}},{"$f":"T524-HLOOKUP(X524,Feuil2!$C$1:$CD$9,6,FALSE)","v":{"$error":"#VALUE!"}},{"$f":"T524-HLOOKUP(X524,Feuil2!$C$1:$CD$9,7,FALSE)","v":{"$error":"#VALUE!"}},{"$f":"T524-HLOOKUP(X524,Feuil2!$C$1:$CD$9,8,FALSE)","v":{"$error":"#VALUE!"}},{"$f":"T524-HLOOKUP(X524,Feuil2!$C$1:$CD$9,9,FALSE)","v":{"$error":"#VALUE!"}},null,null,null,null,null,null,null,{"$error":"#VALUE!"},114,null,{"$f":"IF(AP524,VLOOKUP(AP524,HOM!$AR$551:$AS$606,2))","v":3.5710000000000002}]
["H",null,null,null,null,false,null,null,null,null,null,null,null,null,"",null,null,null,"","","","","",{"$f":"IF(AND(J525>=40,J525<45),VLOOKUP(K525,Feuil2!$F$10:$P$28,9),IF(AND(J525>=45,J525<50),VLOOKUP(K525,Feuil2!$F$10:$P$28,8),IF(AND(J525>=50,J525<55),VLOOKUP(K525,Feuil2!$F$10:$P$28,7),IF(AND(J525>=55,J525<60),VLOOKUP(K525,Feuil2!$F$10:$P$28,6),IF(AND(J525>=60,J525<65),VLOOKUP(K525,Feuil2!$F$10:$P$28,5),IF(AND(J525>=65,J525<70),VLOOKUP(K525,Feuil2!$F$10:$P$28,4),IF(AND(J525>=70,J525<75),VLOOKUP(K525,Feuil2!$F$10:$P$28,3),IF(AND(J525>=75,J525<80),VLOOKUP(K525,Feuil2!$F$10:$P$28,2),VLOOKUP(K525,Feuil2!$F$10:$P$28,2)))))))))","v":{"$error":"#N/A"}},null,{"$f":"T525-HLOOKUP(X525,Feuil2!$C$1:$CD$9,2,FALSE)","v":{"$error":"#VALUE!"}},{"$f":"T525-HLOOKUP(X525,Feuil2!$C$1:$CD$9,3,FALSE)","v":{"$error":"#VALUE!"}},{"$f":"T525-HLOOKUP(X525,Feuil2!$C$1:$CD$9,4,FALSE)","v":{"$error":"#VALUE!"}},{"$f":"T525-HLOOKUP(X525,Feuil2!$C$1:$CD$9,5,FALSE)","v":{"$error":"#VALUE!"}},{"$f":"T525-HLOOKUP(X525,Feuil2!$C$1:$CD$9,6,FALSE)","v":{"$error":"#VALUE!"}},{"$f":"T525-HLOOKUP(X525,Feuil2!$C$1:$CD$9,7,FALSE)","v":{"$error":"#VALUE!"}},{"$f":"T525-HLOOKUP(X525,Feuil2!$C$1:$CD$9,8,FALSE)","v":{"$error":"#VALUE!"}},{"$f":"T525-HLOOKUP(X525,Feuil2!$C$1:$CD$9,9,FALSE)","v":{"$error":"#VALUE!"}},null,null,null,null,null,null,null,{"$error":"#VALUE!"},114,null,{"$f":"IF(AP525,VLOOKUP(AP525,HOM!$AR$551:$AS$606,2))","v":3.5710000000000002}]
["H",null,null,null,null,false,null,null,null,null,null,null,null,null,"",null,null,null,"","","","","",{"$f":"IF(AND(J526>=40,J526<45),VLOOKUP(K526,Feuil2!$F$10:$P$28,9),IF(AND(J526>=45,J526<50),VLOOKUP(K526,Feuil2!$F$10:$P$28,8),IF(AND(J526>=50,J526<55),VLOOKUP(K526,Feuil2!$F$10:$P$28,7),IF(AND(J526>=55,J526<60),VLOOKUP(K526,Feuil2!$F$10:$P$28,6),IF(AND(J526>=60,J526<65),VLOOKUP(K526,Feuil2!$F$10:$P$28,5),IF(AND(J526>=65,J526<70),VLOOKUP(K526,Feuil2!$F$10:$P$28,4),IF(AND(J526>=70,J526<75),VLOOKUP(K526,Feuil2!$F$10:$P$28,3),IF(AND(J526>=75,J526<80),VLOOKUP(K526,Feuil2!$F$10:$P$28,2),VLOOKUP(K526,Feuil2!$F$10:$P$28,2)))))))))","v":{"$error":"#N/A"}},null,{"$f":"T526-HLOOKUP(X526,Feuil2!$C$1:$CD$9,2,FALSE)","v":{"$error":"#VALUE!"}},{"$f":"T526-HLOOKUP(X526,Feuil2!$C$1:$CD$9,3,FALSE)","v":{"$error":"#VALUE!"}},{"$f":"T526-HLOOKUP(X526,Feuil2!$C$1:$CD$9,4,FALSE)","v":{"$error":"#VALUE!"}},{"$f":"T526-HLOOKUP(X526,Feuil2!$C$1:$CD$9,5,FALSE)","v":{"$error":"#VALUE!"}},{"$f":"T526-HLOOKUP(X526,Feuil2!$C$1:$CD$9,6,FALSE)","v":{"$error":"#VALUE!"}},{"$f":"T526-HLOOKUP(X526,Feuil2!$C$1:$CD$9,7,FALSE)","v":{"$error":"#VALUE!"}},{"$f":"T526-HLOOKUP(X526,Feuil2!$C$1:$CD$9,8,FALSE)","v":{"$error":"#VALUE!"}},{"$f":"T526-HLOOKUP(X526,Feuil2!$C$1:$CD$9,9,FALSE)","v":{"$error":"#VALUE!"}},null,null,null,null,null,null,null,{"$error":"#VALUE!"},114,null,{"$f":"IF(AP526,VLOOKUP(AP526,HOM!$AR$551:$AS$606,2))","v":3.5710000000000002}]
["H",null,null,null,null,false,null,null,null,null,null,null,null,null,"",null,null,null,"","","","","",{"$f":"IF(AND(J527>=40,J527<45),VLOOKUP(K527,Feuil2!$F$10:$P$28,9),IF(AND(J527>=45,J527<50),VLOOKUP(K527,Feuil2!$F$10:$P$28,8),IF(AND(J527>=50,J527<55),VLOOKUP(K527,Feuil2!$F$10:$P$28,7),IF(AND(J527>=55,J527<60),VLOOKUP(K527,Feuil2!$F$10:$P$28,6),IF(AND(J527>=60,J527<65),VLOOKUP(K527,Feuil2!$F$10:$P$28,5),IF(AND(J527>=65,J527<70),VLOOKUP(K527,Feuil2!$F$10:$P$28,4),IF(AND(J527>=70,J527<75),VLOOKUP(K527,Feuil2!$F$10:$P$28,3),IF(AND(J527>=75,J527<80),VLOOKUP(K527,Feuil2!$F$10:$P$28,2),VLOOKUP(K527,Feuil2!$F$10:$P$28,2)))))))))","v":{"$error":"#N/A"}},null,{"$f":"T527-HLOOKUP(X527,Feuil2!$C$1:$CD$9,2,FALSE)","v":{"$error":"#VALUE!"}},{"$f":"T527-HLOOKUP(X527,Feuil2!$C$1:$CD$9,3,FALSE)","v":{"$error":"#VALUE!"}},{"$f":"T527-HLOOKUP(X527,Feuil2!$C$1:$CD$9,4,FALSE)","v":{"$error":"#VALUE!"}},{"$f":"T527-HLOOKUP(X527,Feuil2!$C$1:$CD$9,5,FALSE)","v":{"$error":"#VALUE!"}},{"$f":"T527-HLOOKUP(X527,Feuil2!$C$1:$CD$9,6,FALSE)","v":{"$error":"#VALUE!"}},{"$f":"T527-HLOOKUP(X527,Feuil2!$C$1:$CD$9,7,FALSE)","v":{"$error":"#VALUE!"}},{"$f":"T527-HLOOKUP(X527,Feuil2!$C$1:$CD$9,8,FALSE)","v":{"$error":"#VALUE!"}},{"$f":"T527-HLOOKUP(X527,Feuil2!$C$1:$CD$9,9,FALSE)","v":{"$error":"#VALUE!"}},null,null,null,null,null,null,null,{"$error":"#VALUE!"},114,null,{"$f":"IF(AP527,VLOOKUP(AP527,HOM!$AR$551:$AS$606,2))","v":3.5710000000000002}]
["H",null,null,null,null,false,null,null,null,null,null,null,null,null,"",null,null,null,"","","","","",{"$f":"IF(AND(J528>=40,J528<45),VLOOKUP(K528,Feuil2!$F$10:$P$28,9),IF(AND(J528>=45,J528<50),VLOOKUP(K528,Feuil2!$F$10:$P$28,8),IF(AND(J528>=50,J528<55),VLOOKUP(K528,Feuil2!$F$10:$P$28,7),IF(AND(J528>=55,J528<60),VLOOKUP(K528,Feuil2!$F$10:$P$28,6),IF(AND(J528>=60,J528<65),VLOOKUP(K528,Feuil2!$F$10:$P$28,5),IF(AND(J528>=65,J528<70),VLOOKUP(K528,Feuil2!$F$10:$P$28,4),IF(AND(J528>=70,J528<75),VLOOKUP(K528,Feuil2!$F$10:$P$28,3),IF(AND(J528>=75,J528<80),VLOOKUP(K528,Feuil2!$F$10:$P$28,2),VLOOKUP(K528,Feuil2!$F$10:$P$28,2)))))))))","v":{"$error":"#N/A"}},null,{"$f":"T528-HLOOKUP(X528,Feuil2!$C$1:$CD$9,2,FALSE)","v":{"$error":"#VALUE!"}},{"$f":"T528-HLOOKUP(X528,Feuil2!$C$1:$CD$9,3,FALSE)","v":{"$error":"#VALUE!"}},{"$f":"T528-HLOOKUP(X528,Feuil2!$C$1:$CD$9,4,FALSE)","v":{"$error":"#VALUE!"}},{"$f":"T528-HLOOKUP(X528,Feuil2!$C$1:$CD$9,5,FALSE)","v":{"$error":"#VALUE!"}},{"$f":"T528-HLOOKUP(X528,Feuil2!$C$1:$CD$9,6,FALSE)","v":{"$error":"#VALUE!"}},{"$f":"T528-HLOOKUP(X528,Feuil2!$C$1:$CD$9,7,FALSE)","v":{"$error":"#VALUE!"}},{"$f":"T528-HLOOKUP(X528,Feuil2!$C$1:$CD$9,8,FALSE)","v":{"$error":"#VALUE!"}},{"$f":"T528-HLOOKUP(X528,Feuil2!$C$1:$CD$9,9,FALSE)","v":{"$error":"#VALUE!"}},null,null,null,null,null,null,null,{"$error":"#VALUE!"},114,null,{"$f":"IF(AP528,VLOOKUP(AP528,HOM!$AR$551:$AS$606,2))","v":3.5710000000000002}]
["H",null,null,null,null,false,null,null,null,null,null,null,null,null,"",null,null,null,"","","","","",{"$f":"IF(AND(J529>=40,J529<45),VLOOKUP(K529,Feuil2!$F$10:$P$28,9),IF(AND(J529>=45,J529<50),VLOOKUP(K529,Feuil2!$F$10:$P$28,8),IF(AND(J529>=50,J529<55),VLOOKUP(K529,Feuil2!$F$10:$P$28,7),IF(AND(J529>=55,J529<60),VLOOKUP(K529,Feuil2!$F$10:$P$28,6),IF(AND(J529>=60,J529<65),VLOOKUP(K529,Feuil2!$F$10:$P$28,5),IF(AND(J529>=65,J529<70),VLOOKUP(K529,Feuil2!$F$10:$P$28,4),IF(AND(J529>=70,J529<75),VLOOKUP(K529,Feuil2!$F$10:$P$28,3),IF(AND(J529>=75,J529<80),VLOOKUP(K529,Feuil2!$F$10:$P$28,2),VLOOKUP(K529,Feuil2!$F$10:$P$28,2)))))))))","v":{"$error":"#N/A"}},null,{"$f":"T529-HLOOKUP(X529,Feuil2!$C$1:$CD$9,2,FALSE)","v":{"$error":"#VALUE!"}},{"$f":"T529-HLOOKUP(X529,Feuil2!$C$1:$CD$9,3,FALSE)","v":{"$error":"#VALUE!"}},{"$f":"T529-HLOOKUP(X529,Feuil2!$C$1:$CD$9,4,FALSE)","v":{"$error":"#VALUE!"}},{"$f":"T529-HLOOKUP(X529,Feuil2!$C$1:$CD$9,5,FALSE)","v":{"$error":"#VALUE!"}},{"$f":"T529-HLOOKUP(X529,Feuil2!$C$1:$CD$9,6,FALSE)","v":{"$error":"#VALUE!"}},{"$f":"T529-HLOOKUP(X529,Feuil2!$C$1:$CD$9,7,FALSE)","v":{"$error":"#VALUE!"}},{"$f":"T529-HLOOKUP(X529,Feuil2!$C$1:$CD$9,8,FALSE)","v":{"$error":"#VALUE!"}},{"$f":"T529-HLOOKUP(X529,Feuil2!$C$1:$CD$9,9,FALSE)","v":{"$error":"#VALUE!"}},null,null,null,null,null,null,null,{"$error":"#VALUE!"},114,null,{"$f":"IF(AP529,VLOOKUP(AP529,HOM!$AR$551:$AS$606,2))","v":3.5710000000000002}]
["H",null,null,null,null,false,null,null,null,null,null,null,null,null,"",null,null,null,"","","","","",{"$f":"IF(AND(J530>=40,J530<45),VLOOKUP(K530,Feuil2!$F$10:$P$28,9),IF(AND(J530>=45,J530<50),VLOOKUP(K530,Feuil2!$F$10:$P$28,8),IF(AND(J530>=50,J530<55),VLOOKUP(K530,Feuil2!$F$10:$P$28,7),IF(AND(J530>=55,J530<60),VLOOKUP(K530,Feuil2!$F$10:$P$28,6),IF(AND(J530>=60,J530<65),VLOOKUP(K530,Feuil2!$F$10:$P$28,5),IF(AND(J530>=65,J530<70),VLOOKUP(K530,Feuil2!$F$10:$P$28,4),IF(AND(J530>=70,J530<75),VLOOKUP(K530,Feuil2!$F$10:$P$28,3),IF(AND(J530>=75,J530<80),VLOOKUP(K530,Feuil2!$F$10:$P$28,2),VLOOKUP(K530,Feuil2!$F$10:$P$28,2)))))))))","v":{"$error":"#N/A"}},null,{"$f":"T530-HLOOKUP(X530,Feuil2!$C$1:$CD$9,2,FALSE)","v":{"$error":"#VALUE!"}},{"$f":"T530-HLOOKUP(X530,Feuil2!$C$1:$CD$9,3,FALSE)","v":{"$error":"#VALUE!"}},{"$f":"T530-HLOOKUP(X530,Feuil2!$C$1:$CD$9,4,FALSE)","v":{"$error":"#VALUE!"}},{"$f":"T530-HLOOKUP(X530,Feuil2!$C$1:$CD$9,5,FALSE)","v":{"$error":"#VALUE!"}},{"$f":"T530-HLOOKUP(X530,Feuil2!$C$1:$CD$9,6,FALSE)","v":{"$error":"#VALUE!"}},{"$f":"T530-HLOOKUP(X530,Feuil2!$C$1:$CD$9,7,FALSE)","v":{"$error":"#VALUE!"}},{"$f":"T530-HLOOKUP(X530,Feuil2!$C$1:$CD$9,8,FALSE)","v":{"$error":"#VALUE!"}},{"$f":"T530-HLOOKUP(X530,Feuil2!$C$1:$CD$9,9,FALSE)","v":{"$error":"#VALUE!"}},null,null,null,null,null,null,null,{"$error":"#VALUE!"},114,null,{"$f":"IF(AP530,VLOOKUP(AP530,HOM!$AR$551:$AS$606,2))","v":3.5710000000000002}]
["H",null,null,null,null,false,null,null,null,null,null,null,null,null,"",null,null,null,"","","","","",{"$f":"IF(AND(J531>=40,J531<45),VLOOKUP(K531,Feuil2!$F$10:$P$28,9),IF(AND(J531>=45,J531<50),VLOOKUP(K531,Feuil2!$F$10:$P$28,8),IF(AND(J531>=50,J531<55),VLOOKUP(K531,Feuil2!$F$10:$P$28,7),IF(AND(J531>=55,J531<60),VLOOKUP(K531,Feuil2!$F$10:$P$28,6),IF(AND(J531>=60,J531<65),VLOOKUP(K531,Feuil2!$F$10:$P$28,5),IF(AND(J531>=65,J531<70),VLOOKUP(K531,Feuil2!$F$10:$P$28,4),IF(AND(J531>=70,J531<75),VLOOKUP(K531,Feuil2!$F$10:$P$28,3),IF(AND(J531>=75,J531<80),VLOOKUP(K531,Feuil2!$F$10:$P$28,2),VLOOKUP(K531,Feuil2!$F$10:$P$28,2)))))))))","v":{"$error":"#N/A"}},null,{"$f":"T531-HLOOKUP(X531,Feuil2!$C$1:$CD$9,2,FALSE)","v":{"$error":"#VALUE!"}},{"$f":"T531-HLOOKUP(X531,Feuil2!$C$1:$CD$9,3,FALSE)","v":{"$error":"#VALUE!"}},{"$f":"T531-HLOOKUP(X531,Feuil2!$C$1:$CD$9,4,FALSE)","v":{"$error":"#VALUE!"}},{"$f":"T531-HLOOKUP(X531,Feuil2!$C$1:$CD$9,5,FALSE)","v":{"$error":"#VALUE!"}},{"$f":"T531-HLOOKUP(X531,Feuil2!$C$1:$CD$9,6,FALSE)","v":{"$error":"#VALUE!"}},{"$f":"T531-HLOOKUP(X531,Feuil2!$C$1:$CD$9,7,FALSE)","v":{"$error":"#VALUE!"}},{"$f":"T531-HLOOKUP(X531,Feuil2!$C$1:$CD$9,8,FALSE)","v":{"$error":"#VALUE!"}},{"$f":"T531-HLOOKUP(X531,Feuil2!$C$1:$CD$9,9,FALSE)","v":{"$error":"#VALUE!"}},null,null,null,null,null,null,null,{"$error":"#VALUE!"},114,null,{"$f":"IF(AP531,VLOOKUP(AP531,HOM!$AR$551:$AS$606,2))","v":3.5710000000000002}]
["H",null,null,null,null,false,null,null,null,null,null,null,null,null,"",null,null,null,"","","","","",{"$f":"IF(AND(J532>=40,J532<45),VLOOKUP(K532,Feuil2!$F$10:$P$28,9),IF(AND(J532>=45,J532<50),VLOOKUP(K532,Feuil2!$F$10:$P$28,8),IF(AND(J532>=50,J532<55),VLOOKUP(K532,Feuil2!$F$10:$P$28,7),IF(AND(J532>=55,J532<60),VLOOKUP(K532,Feuil2!$F$10:$P$28,6),IF(AND(J532>=60,J532<65),VLOOKUP(K532,Feuil2!$F$10:$P$28,5),IF(AND(J532>=65,J532<70),VLOOKUP(K532,Feuil2!$F$10:$P$28,4),IF(AND(J532>=70,J532<75),VLOOKUP(K532,Feuil2!$F$10:$P$28,3),IF(AND(J532>=75,J532<80),VLOOKUP(K532,Feuil2!$F$10:$P$28,2),VLOOKUP(K532,Feuil2!$F$10:$P$28,2)))))))))","v":{"$error":"#N/A"}},null,{"$f":"T532-HLOOKUP(X532,Feuil2!$C$1:$CD$9,2,FALSE)","v":{"$error":"#VALUE!"}},{"$f":"T532-HLOOKUP(X532,Feuil2!$C$1:$CD$9,3,FALSE)","v":{"$error":"#VALUE!"}},{"$f":"T532-HLOOKUP(X532,Feuil2!$C$1:$CD$9,4,FALSE)","v":{"$error":"#VALUE!"}},{"$f":"T532-HLOOKUP(X532,Feuil2!$C$1:$CD$9,5,FALSE)","v":{"$error":"#VALUE!"}},{"$f":"T532-HLOOKUP(X532,Feuil2!$C$1:$CD$9,6,FALSE)","v":{"$error":"#VALUE!"}},{"$f":"T532-HLOOKUP(X532,Feuil2!$C$1:$CD$9,7,FALSE)","v":{"$error":"#VALUE!"}},{"$f":"T532-HLOOKUP(X532,Feuil2!$C$1:$CD$9,8,FALSE)","v":{"$error":"#VALUE!"}},{"$f":"T532-HLOOKUP(X532,Feuil2!$C$1:$CD$9,9,FALSE)","v":{"$error":"#VALUE!"}},null,null,null,null,null,null,null,{"$error":"#VALUE!"},114,null,{"$f":"IF(AP532,VLOOKUP(AP532,HOM!$AR$551:$AS$606,2))","v":3.5710000000000002}]
["H",null,null,null,null,false,null,null,null,null,null,null,null,null,"",null,null,null,"","","","","",{"$f":"IF(AND(J533>=40,J533<45),VLOOKUP(K533,Feuil2!$F$10:$P$28,9),IF(AND(J533>=45,J533<50),VLOOKUP(K533,Feuil2!$F$10:$P$28,8),IF(AND(J533>=50,J533<55),VLOOKUP(K533,Feuil2!$F$10:$P$28,7),IF(AND(J533>=55,J533<60),VLOOKUP(K533,Feuil2!$F$10:$P$28,6),IF(AND(J533>=60,J533<65),VLOOKUP(K533,Feuil2!$F$10:$P$28,5),IF(AND(J533>=65,J533<70),VLOOKUP(K533,Feuil2!$F$10:$P$28,4),IF(AND(J533>=70,J533<75),VLOOKUP(K533,Feuil2!$F$10:$P$28,3),IF(AND(J533>=75,J533<80),VLOOKUP(K533,Feuil2!$F$10:$P$28,2),VLOOKUP(K533,Feuil2!$F$10:$P$28,2)))))))))","v":{"$error":"#N/A"}},null,{"$f":"T533-HLOOKUP(X533,Feuil2!$C$1:$CD$9,2,FALSE)","v":{"$error":"#VALUE!"}},{"$f":"T533-HLOOKUP(X533,Feuil2!$C$1:$CD$9,3,FALSE)","v":{"$error":"#VALUE!"}},{"$f":"T533-HLOOKUP(X533,Feuil2!$C$1:$CD$9,4,FALSE)","v":{"$error":"#VALUE!"}},{"$f":"T533-HLOOKUP(X533,Feuil2!$C$1:$CD$9,5,FALSE)","v":{"$error":"#VALUE!"}},{"$f":"T533-HLOOKUP(X533,Feuil2!$C$1:$CD$9,6,FALSE)","v":{"$error":"#VALUE!"}},{"$f":"T533-HLOOKUP(X533,Feuil2!$C$1:$CD$9,7,FALSE)","v":{"$error":"#VALUE!"}},{"$f":"T533-HLOOKUP(X533,Feuil2!$C$1:$CD$9,8,FALSE)","v":{"$error":"#VALUE!"}},{"$f":"T533-HLOOKUP(X533,Feuil2!$C$1:$CD$9,9,FALSE)","v":{"$error":"#VALUE!"}},null,null,null,null,null,null,null,{"$error":"#VALUE!"},114,null,{"$f":"IF(AP533,VLOOKUP(AP533,HOM!$AR$551:$AS$606,2))","v":3.5710000000000002}]
["H",null,null,null,null,false,null,null,null,null,null,null,null,null,"",null,null,null,"","","","","",{"$f":"IF(AND(J534>=40,J534<45),VLOOKUP(K534,Feuil2!$F$10:$P$28,9),IF(AND(J534>=45,J534<50),VLOOKUP(K534,Feuil2!$F$10:$P$28,8),IF(AND(J534>=50,J534<55),VLOOKUP(K534,Feuil2!$F$10:$P$28,7),IF(AND(J534>=55,J534<60),VLOOKUP(K534,Feuil2!$F$10:$P$28,6),IF(AND(J534>=60,J534<65),VLOOKUP(K534,Feuil2!$F$10:$P$28,5),IF(AND(J534>=65,J534<70),VLOOKUP(K534,Feuil2!$F$10:$P$28,4),IF(AND(J534>=70,J534<75),VLOOKUP(K534,Feuil2!$F$10:$P$28,3),IF(AND(J534>=75,J534<80),VLOOKUP(K534,Feuil2!$F$10:$P$28,2),VLOOKUP(K534,Feuil2!$F$10:$P$28,2)))))))))","v":{"$error":"#N/A"}},null,{"$f":"T534-HLOOKUP(X534,Feuil2!$C$1:$CD$9,2,FALSE)","v":{"$error":"#VALUE!"}},{"$f":"T534-HLOOKUP(X534,Feuil2!$C$1:$CD$9,3,FALSE)","v":{"$error":"#VALUE!"}},{"$f":"T534-HLOOKUP(X534,Feuil2!$C$1:$CD$9,4,FALSE)","v":{"$error":"#VALUE!"}},{"$f":"T534-HLOOKUP(X534,Feuil2!$C$1:$CD$9,5,FALSE)","v":{"$error":"#VALUE!"}},{"$f":"T534-HLOOKUP(X534,Feuil2!$C$1:$CD$9,6,FALSE)","v":{"$error":"#VALUE!"}},{"$f":"T534-HLOOKUP(X534,Feuil2!$C$1:$CD$9,7,FALSE)","v":{"$error":"#VALUE!"}},{"$f":"T534-HLOOKUP(X534,Feuil2!$C$1:$CD$9,8,FALSE)","v":{"$error":"#VALUE!"}},{"$f":"T534-HLOOKUP(X534,Feuil2!$C$1:$CD$9,9,FALSE)","v":{"$error":"#VALUE!"}},null,null,null,null,null,null,null,{"$error":"#VALUE!"},114,null,{"$f":"IF(AP534,VLOOKUP(AP534,HOM!$AR$551:$AS$606,2))","v":3.5710000000000002}]
["H",null,null,null,null,false,null,null,null,null,null,null,null,null,"",null,null,null,"","","","","",{"$f":"IF(AND(J535>=40,J535<45),VLOOKUP(K535,Feuil2!$F$10:$P$28,9),IF(AND(J535>=45,J535<50),VLOOKUP(K535,Feuil2!$F$10:$P$28,8),IF(AND(J535>=50,J535<55),VLOOKUP(K535,Feuil2!$F$10:$P$28,7),IF(AND(J535>=55,J535<60),VLOOKUP(K535,Feuil2!$F$10:$P$28,6),IF(AND(J535>=60,J535<65),VLOOKUP(K535,Feuil2!$F$10:$P$28,5),IF(AND(J535>=65,J535<70),VLOOKUP(K535,Feuil2!$F$10:$P$28,4),IF(AND(J535>=70,J535<75),VLOOKUP(K535,Feuil2!$F$10:$P$28,3),IF(AND(J535>=75,J535<80),VLOOKUP(K535,Feuil2!$F$10:$P$28,2),VLOOKUP(K535,Feuil2!$F$10:$P$28,2)))))))))","v":{"$error":"#N/A"}},null,{"$f":"T535-HLOOKUP(X535,Feuil2!$C$1:$CD$9,2,FALSE)","v":{"$error":"#VALUE!"}},{"$f":"T535-HLOOKUP(X535,Feuil2!$C$1:$CD$9,3,FALSE)","v":{"$error":"#VALUE!"}},{"$f":"T535-HLOOKUP(X535,Feuil2!$C$1:$CD$9,4,FALSE)","v":{"$error":"#VALUE!"}},{"$f":"T535-HLOOKUP(X535,Feuil2!$C$1:$CD$9,5,FALSE)","v":{"$error":"#VALUE!"}},{"$f":"T535-HLOOKUP(X535,Feuil2!$C$1:$CD$9,6,FALSE)","v":{"$error":"#VALUE!"}},{"$f":"T535-HLOOKUP(X535,Feuil2!$C$1:$CD$9,7,FALSE)","v":{"$error":"#VALUE!"}},{"$f":"T535-HLOOKUP(X535,Feuil2!$C$1:$CD$9,8,FALSE)","v":{"$error":"#VALUE!"}},{"$f":"T535-HLOOKUP(X535,Feuil2!$C$1:$CD$9,9,FALSE)","v":{"$error":"#VALUE!"}},null,null,null,null,null,null,null,{"$error":"#VALUE!"},114,null,{"$f":"IF(AP535,VLOOKUP(AP535,HOM!$AR$551:$AS$606,2))","v":3.5710000000000002}]
["H",null,null,null,null,false,null,null,null,null,null,null,null,null,"",null,null,null,"","","","","",{"$f":"IF(AND(J536>=40,J536<45),VLOOKUP(K536,Feuil2!$F$10:$P$28,9),IF(AND(J536>=45,J536<50),VLOOKUP(K536,Feuil2!$F$10:$P$28,8),IF(AND(J536>=50,J536<55),VLOOKUP(K536,Feuil2!$F$10:$P$28,7),IF(AND(J536>=55,J536<60),VLOOKUP(K536,Feuil2!$F$10:$P$28,6),IF(AND(J536>=60,J536<65),VLOOKUP(K536,Feuil2!$F$10:$P$28,5),IF(AND(J536>=65,J536<70),VLOOKUP(K536,Feuil2!$F$10:$P$28,4),IF(AND(J536>=70,J536<75),VLOOKUP(K536,Feuil2!$F$10:$P$28,3),IF(AND(J536>=75,J536<80),VLOOKUP(K536,Feuil2!$F$10:$P$28,2),VLOOKUP(K536,Feuil2!$F$10:$P$28,2)))))))))","v":{"$error":"#N/A"}},null,{"$f":"T536-HLOOKUP(X536,Feuil2!$C$1:$CD$9,2,FALSE)","v":{"$error":"#VALUE!"}},{"$f":"T536-HLOOKUP(X536,Feuil2!$C$1:$CD$9,3,FALSE)","v":{"$error":"#VALUE!"}},{"$f":"T536-HLOOKUP(X536,Feuil2!$C$1:$CD$9,4,FALSE)","v":{"$error":"#VALUE!"}},{"$f":"T536-HLOOKUP(X536,Feuil2!$C$1:$CD$9,5,FALSE)","v":{"$error":"#VALUE!"}},{"$f":"T536-HLOOKUP(X536,Feuil2!$C$1:$CD$9,6,FALSE)","v":{"$error":"#VALUE!"}},{"$f":"T536-HLOOKUP(X536,Feuil2!$C$1:$CD$9,7,FALSE)","v":{"$error":"#VALUE!"}},{"$f":"T536-HLOOKUP(X536,Feuil2!$C$1:$CD$9,8,FALSE)","v":{"$error":"#VALUE!"}},{"$f":"T536-HLOOKUP(X536,Feuil2!$C$1:$CD$9,9,FALSE)","v":{"$error":"#VALUE!"}},null,null,null,null,null,null,null,{"$error":"#VALUE!"},114,null,{"$f":"IF(AP536,VLOOKUP(AP536,HOM!$AR$551:$AS$606,2))","v":3.5710000000000002}]
["H",null,null,null,null,false,null,null,null,null,null,null,null,null,"",null,null,null,"","","","","",{"$f":"IF(AND(J537>=40,J537<45),VLOOKUP(K537,Feuil2!$F$10:$P$28,9),IF(AND(J537>=45,J537<50),VLOOKUP(K537,Feuil2!$F$10:$P$28,8),IF(AND(J537>=50,J537<55),VLOOKUP(K537,Feuil2!$F$10:$P$28,7),IF(AND(J537>=55,J537<60),VLOOKUP(K537,Feuil2!$F$10:$P$28,6),IF(AND(J537>=60,J537<65),VLOOKUP(K537,Feuil2!$F$10:$P$28,5),IF(AND(J537>=65,J537<70),VLOOKUP(K537,Feuil2!$F$10:$P$28,4),IF(AND(J537>=70,J537<75),VLOOKUP(K537,Feuil2!$F$10:$P$28,3),IF(AND(J537>=75,J537<80),VLOOKUP(K537,Feuil2!$F$10:$P$28,2),VLOOKUP(K537,Feuil2!$F$10:$P$28,2)))))))))","v":{"$error":"#N/A"}},null,{"$f":"T537-HLOOKUP(X537,Feuil2!$C$1:$CD$9,2,FALSE)","v":{"$error":"#VALUE!"}},{"$f":"T537-HLOOKUP(X537,Feuil2!$C$1:$CD$9,3,FALSE)","v":{"$error":"#VALUE!"}},{"$f":"T537-HLOOKUP(X537,Feuil2!$C$1:$CD$9,4,FALSE)","v":{"$error":"#VALUE!"}},{"$f":"T537-HLOOKUP(X537,Feuil2!$C$1:$CD$9,5,FALSE)","v":{"$error":"#VALUE!"}},{"$f":"T537-HLOOKUP(X537,Feuil2!$C$1:$CD$9,6,FALSE)","v":{"$error":"#VALUE!"}},{"$f":"T537-HLOOKUP(X537,Feuil2!$C$1:$CD$9,7,FALSE)","v":{"$error":"#VALUE!"}},{"$f":"T537-HLOOKUP(X537,Feuil2!$C$1:$CD$9,8,FALSE)","v":{"$error":"#VALUE!"}},{"$f":"T537-HLOOKUP(X537,Feuil2!$C$1:$CD$9,9,FALSE)","v":{"$error":"#VALUE!"}},null,null,null,null,null,null,null,{"$error":"#VALUE!"},114,null,{"$f":"IF(AP537,VLOOKUP(AP537,HOM!$AR$551:$AS$606,2))","v":3.5710000000000002}]
["H",null,null,null,null,false,null,null,null,null,null,null,null,null,"",null,null,null,"","","","","",{"$f":"IF(AND(J538>=40,J538<45),VLOOKUP(K538,Feuil2!$F$10:$P$28,9),IF(AND(J538>=45,J538<50),VLOOKUP(K538,Feuil2!$F$10:$P$28,8),IF(AND(J538>=50,J538<55),VLOOKUP(K538,Feuil2!$F$10:$P$28,7),IF(AND(J538>=55,J538<60),VLOOKUP(K538,Feuil2!$F$10:$P$28,6),IF(AND(J538>=60,J538<65),VLOOKUP(K538,Feuil2!$F$10:$P$28,5),IF(AND(J538>=65,J538<70),VLOOKUP(K538,Feuil2!$F$10:$P$28,4),IF(AND(J538>=70,J538<75),VLOOKUP(K538,Feuil2!$F$10:$P$28,3),IF(AND(J538>=75,J538<80),VLOOKUP(K538,Feuil2!$F$10:$P$28,2),VLOOKUP(K538,Feuil2!$F$10:$P$28,2)))))))))","v":{"$error":"#N/A"}},null,{"$f":"T538-HLOOKUP(X538,Feuil2!$C$1:$CD$9,2,FALSE)","v":{"$error":"#VALUE!"}},{"$f":"T538-HLOOKUP(X538,Feuil2!$C$1:$CD$9,3,FALSE)","v":{"$error":"#VALUE!"}},{"$f":"T538-HLOOKUP(X538,Feuil2!$C$1:$CD$9,4,FALSE)","v":{"$error":"#VALUE!"}},{"$f":"T538-HLOOKUP(X538,Feuil2!$C$1:$CD$9,5,FALSE)","v":{"$error":"#VALUE!"}},{"$f":"T538-HLOOKUP(X538,Feuil2!$C$1:$CD$9,6,FALSE)","v":{"$error":"#VALUE!"}},{"$f":"T538-HLOOKUP(X538,Feuil2!$C$1:$CD$9,7,FALSE)","v":{"$error":"#VALUE!"}},{"$f":"T538-HLOOKUP(X538,Feuil2!$C$1:$CD$9,8,FALSE)","v":{"$error":"#VALUE!"}},{"$f":"T538-HLOOKUP(X538,Feuil2!$C$1:$CD$9,9,FALSE)","v":{"$error":"#VALUE!"}},null,null,null,null,null,null,null,{"$error":"#VALUE!"},114,null,{"$f":"IF(AP538,VLOOKUP(AP538,HOM!$AR$551:$AS$606,2))","v":3.5710000000000002}]
["H",null,null,null,null,false,null,null,null,null,null,null,null,null,"",null,null,null,"","","","","",{"$f":"IF(AND(J539>=40,J539<45),VLOOKUP(K539,Feuil2!$F$10:$P$28,9),IF(AND(J539>=45,J539<50),VLOOKUP(K539,Feuil2!$F$10:$P$28,8),IF(AND(J539>=50,J539<55),VLOOKUP(K539,Feuil2!$F$10:$P$28,7),IF(AND(J539>=55,J539<60),VLOOKUP(K539,Feuil2!$F$10:$P$28,6),IF(AND(J539>=60,J539<65),VLOOKUP(K539,Feuil2!$F$10:$P$28,5),IF(AND(J539>=65,J539<70),VLOOKUP(K539,Feuil2!$F$10:$P$28,4),IF(AND(J539>=70,J539<75),VLOOKUP(K539,Feuil2!$F$10:$P$28,3),IF(AND(J539>=75,J539<80),VLOOKUP(K539,Feuil2!$F$10:$P$28,2),VLOOKUP(K539,Feuil2!$F$10:$P$28,2)))))))))","v":{"$error":"#N/A"}},null,{"$f":"T539-HLOOKUP(X539,Feuil2!$C$1:$CD$9,2,FALSE)","v":{"$error":"#VALUE!"}},{"$f":"T539-HLOOKUP(X539,Feuil2!$C$1:$CD$9,3,FALSE)","v":{"$error":"#VALUE!"}},{"$f":"T539-HLOOKUP(X539,Feuil2!$C$1:$CD$9,4,FALSE)","v":{"$error":"#VALUE!"}},{"$f":"T539-HLOOKUP(X539,Feuil2!$C$1:$CD$9,5,FALSE)","v":{"$error":"#VALUE!"}},{"$f":"T539-HLOOKUP(X539,Feuil2!$C$1:$CD$9,6,FALSE)","v":{"$error":"#VALUE!"}},{"$f":"T539-HLOOKUP(X539,Feuil2!$C$1:$CD$9,7,FALSE)","v":{"$error":"#VALUE!"}},{"$f":"T539-HLOOKUP(X539,Feuil2!$C$1:$CD$9,8,FALSE)","v":{"$error":"#VALUE!"}},{"$f":"T539-HLOOKUP(X539,Feuil2!$C$1:$CD$9,9,FALSE)","v":{"$error":"#VALUE!"}},null,null,null,null,null,null,null,{"$error":"#VALUE!"},114,null,{"$f":"IF(AP539,VLOOKUP(AP539,HOM!$AR$551:$AS$606,2))","v":3.5710000000000002}]
["H",null,null,null,null,false,null,null,null,null,null,null,null,null,"",null,null,null,"","","","","",{"$f":"IF(AND(J540>=40,J540<45),VLOOKUP(K540,Feuil2!$F$10:$P$28,9),IF(AND(J540>=45,J540<50),VLOOKUP(K540,Feuil2!$F$10:$P$28,8),IF(AND(J540>=50,J540<55),VLOOKUP(K540,Feuil2!$F$10:$P$28,7),IF(AND(J540>=55,J540<60),VLOOKUP(K540,Feuil2!$F$10:$P$28,6),IF(AND(J540>=60,J540<65),VLOOKUP(K540,Feuil2!$F$10:$P$28,5),IF(AND(J540>=65,J540<70),VLOOKUP(K540,Feuil2!$F$10:$P$28,4),IF(AND(J540>=70,J540<75),VLOOKUP(K540,Feuil2!$F$10:$P$28,3),IF(AND(J540>=75,J540<80),VLOOKUP(K540,Feuil2!$F$10:$P$28,2),VLOOKUP(K540,Feuil2!$F$10:$P$28,2)))))))))","v":{"$error":"#N/A"}},null,{"$f":"T540-HLOOKUP(X540,Feuil2!$C$1:$CD$9,2,FALSE)","v":{"$error":"#VALUE!"}},{"$f":"T540-HLOOKUP(X540,Feuil2!$C$1:$CD$9,3,FALSE)","v":{"$error":"#VALUE!"}},{"$f":"T540-HLOOKUP(X540,Feuil2!$C$1:$CD$9,4,FALSE)","v":{"$error":"#VALUE!"}},{"$f":"T540-HLOOKUP(X540,Feuil2!$C$1:$CD$9,5,FALSE)","v":{"$error":"#VALUE!"}},{"$f":"T540-HLOOKUP(X540,Feuil2!$C$1:$CD$9,6,FALSE)","v":{"$error":"#VALUE!"}},{"$f":"T540-HLOOKUP(X540,Feuil2!$C$1:$CD$9,7,FALSE)","v":{"$error":"#VALUE!"}},{"$f":"T540-HLOOKUP(X540,Feuil2!$C$1:$CD$9,8,FALSE)","v":{"$error":"#VALUE!"}},{"$f":"T540-HLOOKUP(X540,Feuil2!$C$1:$CD$9,9,FALSE)","v":{"$error":"#VALUE!"}},null,null,null,null,null,null,null,{"$error":"#VALUE!"},114,null,{"$f":"IF(AP540,VLOOKUP(AP540,HOM!$AR$551:$AS$606,2))","v":3.5710000000000002}]
["H",null,null,null,null,false,null,null,null,null,null,null,null,null,"",null,null,null,"","","","","",{"$f":"IF(AND(J541>=40,J541<45),VLOOKUP(K541,Feuil2!$F$10:$P$28,9),IF(AND(J541>=45,J541<50),VLOOKUP(K541,Feuil2!$F$10:$P$28,8),IF(AND(J541>=50,J541<55),VLOOKUP(K541,Feuil2!$F$10:$P$28,7),IF(AND(J541>=55,J541<60),VLOOKUP(K541,Feuil2!$F$10:$P$28,6),IF(AND(J541>=60,J541<65),VLOOKUP(K541,Feuil2!$F$10:$P$28,5),IF(AND(J541>=65,J541<70),VLOOKUP(K541,Feuil2!$F$10:$P$28,4),IF(AND(J541>=70,J541<75),VLOOKUP(K541,Feuil2!$F$10:$P$28,3),IF(AND(J541>=75,J541<80),VLOOKUP(K541,Feuil2!$F$10:$P$28,2),VLOOKUP(K541,Feuil2!$F$10:$P$28,2)))))))))","v":{"$error":"#N/A"}},null,{"$f":"T541-HLOOKUP(X541,Feuil2!$C$1:$CD$9,2,FALSE)","v":{"$error":"#VALUE!"}},{"$f":"T541-HLOOKUP(X541,Feuil2!$C$1:$CD$9,3,FALSE)","v":{"$error":"#VALUE!"}},{"$f":"T541-HLOOKUP(X541,Feuil2!$C$1:$CD$9,4,FALSE)","v":{"$error":"#VALUE!"}},{"$f":"T541-HLOOKUP(X541,Feuil2!$C$1:$CD$9,5,FALSE)","v":{"$error":"#VALUE!"}},{"$f":"T541-HLOOKUP(X541,Feuil2!$C$1:$CD$9,6,FALSE)","v":{"$error":"#VALUE!"}},{"$f":"T541-HLOOKUP(X541,Feuil2!$C$1:$CD$9,7,FALSE)","v":{"$error":"#VALUE!"}},{"$f":"T541-HLOOKUP(X541,Feuil2!$C$1:$CD$9,8,FALSE)","v":{"$error":"#VALUE!"}},{"$f":"T541-HLOOKUP(X541,Feuil2!$C$1:$CD$9,9,FALSE)","v":{"$error":"#VALUE!"}},null,null,null,null,null,null,null,{"$error":"#VALUE!"},114,null,{"$f":"IF(AP541,VLOOKUP(AP541,HOM!$AR$551:$AS$606,2))","v":3.5710000000000002}]
["H",null,null,null,null,false,null,null,null,null,null,null,null,null,"",null,null,null,"","","","","",{"$f":"IF(AND(J542>=40,J542<45),VLOOKUP(K542,Feuil2!$F$10:$P$28,9),IF(AND(J542>=45,J542<50),VLOOKUP(K542,Feuil2!$F$10:$P$28,8),IF(AND(J542>=50,J542<55),VLOOKUP(K542,Feuil2!$F$10:$P$28,7),IF(AND(J542>=55,J542<60),VLOOKUP(K542,Feuil2!$F$10:$P$28,6),IF(AND(J542>=60,J542<65),VLOOKUP(K542,Feuil2!$F$10:$P$28,5),IF(AND(J542>=65,J542<70),VLOOKUP(K542,Feuil2!$F$10:$P$28,4),IF(AND(J542>=70,J542<75),VLOOKUP(K542,Feuil2!$F$10:$P$28,3),IF(AND(J542>=75,J542<80),VLOOKUP(K542,Feuil2!$F$10:$P$28,2),VLOOKUP(K542,Feuil2!$F$10:$P$28,2)))))))))","v":{"$error":"#N/A"}},null,{"$f":"T542-HLOOKUP(X542,Feuil2!$C$1:$CD$9,2,FALSE)","v":{"$error":"#VALUE!"}},{"$f":"T542-HLOOKUP(X542,Feuil2!$C$1:$CD$9,3,FALSE)","v":{"$error":"#VALUE!"}},{"$f":"T542-HLOOKUP(X542,Feuil2!$C$1:$CD$9,4,FALSE)","v":{"$error":"#VALUE!"}},{"$f":"T542-HLOOKUP(X542,Feuil2!$C$1:$CD$9,5,FALSE)","v":{"$error":"#VALUE!"}},{"$f":"T542-HLOOKUP(X542,Feuil2!$C$1:$CD$9,6,FALSE)","v":{"$error":"#VALUE!"}},{"$f":"T542-HLOOKUP(X542,Feuil2!$C$1:$CD$9,7,FALSE)","v":{"$error":"#VALUE!"}},{"$f":"T542-HLOOKUP(X542,Feuil2!$C$1:$CD$9,8,FALSE)","v":{"$error":"#VALUE!"}},{"$f":"T542-HLOOKUP(X542,Feuil2!$C$1:$CD$9,9,FALSE)","v":{"$error":"#VALUE!"}},null,null,null,null,null,null,null,{"$error":"#VALUE!"},114,null,{"$f":"IF(AP542,VLOOKUP(AP542,HOM!$AR$551:$AS$606,2))","v":3.5710000000000002}]
["H",null,null,null,null,false,null,null,null,null,null,null,null,null,"",null,null,null,"","","","","",{"$f":"IF(AND(J543>=40,J543<45),VLOOKUP(K543,Feuil2!$F$10:$P$28,9),IF(AND(J543>=45,J543<50),VLOOKUP(K543,Feuil2!$F$10:$P$28,8),IF(AND(J543>=50,J543<55),VLOOKUP(K543,Feuil2!$F$10:$P$28,7),IF(AND(J543>=55,J543<60),VLOOKUP(K543,Feuil2!$F$10:$P$28,6),IF(AND(J543>=60,J543<65),VLOOKUP(K543,Feuil2!$F$10:$P$28,5),IF(AND(J543>=65,J543<70),VLOOKUP(K543,Feuil2!$F$10:$P$28,4),IF(AND(J543>=70,J543<75),VLOOKUP(K543,Feuil2!$F$10:$P$28,3),IF(AND(J543>=75,J543<80),VLOOKUP(K543,Feuil2!$F$10:$P$28,2),VLOOKUP(K543,Feuil2!$F$10:$P$28,2)))))))))","v":{"$error":"#N/A"}},null,{"$f":"T543-HLOOKUP(X543,Feuil2!$C$1:$CD$9,2,FALSE)","v":{"$error":"#VALUE!"}},{"$f":"T543-HLOOKUP(X543,Feuil2!$C$1:$CD$9,3,FALSE)","v":{"$error":"#VALUE!"}},{"$f":"T543-HLOOKUP(X543,Feuil2!$C$1:$CD$9,4,FALSE)","v":{"$error":"#VALUE!"}},{"$f":"T543-HLOOKUP(X543,Feuil2!$C$1:$CD$9,5,FALSE)","v":{"$error":"#VALUE!"}},{"$f":"T543-HLOOKUP(X543,Feuil2!$C$1:$CD$9,6,FALSE)","v":{"$error":"#VALUE!"}},{"$f":"T543-HLOOKUP(X543,Feuil2!$C$1:$CD$9,7,FALSE)","v":{"$error":"#VALUE!"}},{"$f":"T543-HLOOKUP(X543,Feuil2!$C$1:$CD$9,8,FALSE)","v":{"$error":"#VALUE!"}},{"$f":"T543-HLOOKUP(X543,Feuil2!$C$1:$CD$9,9,FALSE)","v":{"$error":"#VALUE!"}},null,null,null,null,null,null,null,{"$error":"#VALUE!"},114,null,{"$f":"IF(AP543,VLOOKUP(AP543,HOM!$AR$551:$AS$606,2))","v":3.5710000000000002}]
["H",null,null,null,null,false,null,null,null,null,null,null,null,null,"",null,null,null,"","","","","",{"$f":"IF(AND(J544>=40,J544<45),VLOOKUP(K544,Feuil2!$F$10:$P$28,9),IF(AND(J544>=45,J544<50),VLOOKUP(K544,Feuil2!$F$10:$P$28,8),IF(AND(J544>=50,J544<55),VLOOKUP(K544,Feuil2!$F$10:$P$28,7),IF(AND(J544>=55,J544<60),VLOOKUP(K544,Feuil2!$F$10:$P$28,6),IF(AND(J544>=60,J544<65),VLOOKUP(K544,Feuil2!$F$10:$P$28,5),IF(AND(J544>=65,J544<70),VLOOKUP(K544,Feuil2!$F$10:$P$28,4),IF(AND(J544>=70,J544<75),VLOOKUP(K544,Feuil2!$F$10:$P$28,3),IF(AND(J544>=75,J544<80),VLOOKUP(K544,Feuil2!$F$10:$P$28,2),VLOOKUP(K544,Feuil2!$F$10:$P$28,2)))))))))","v":{"$error":"#N/A"}},null,{"$f":"T544-HLOOKUP(X544,Feuil2!$C$1:$CD$9,2,FALSE)","v":{"$error":"#VALUE!"}},{"$f":"T544-HLOOKUP(X544,Feuil2!$C$1:$CD$9,3,FALSE)","v":{"$error":"#VALUE!"}},{"$f":"T544-HLOOKUP(X544,Feuil2!$C$1:$CD$9,4,FALSE)","v":{"$error":"#VALUE!"}},{"$f":"T544-HLOOKUP(X544,Feuil2!$C$1:$CD$9,5,FALSE)","v":{"$error":"#VALUE!"}},{"$f":"T544-HLOOKUP(X544,Feuil2!$C$1:$CD$9,6,FALSE)","v":{"$error":"#VALUE!"}},{"$f":"T544-HLOOKUP(X544,Feuil2!$C$1:$CD$9,7,FALSE)","v":{"$error":"#VALUE!"}},{"$f":"T544-HLOOKUP(X544,Feuil2!$C$1:$CD$9,8,FALSE)","v":{"$error":"#VALUE!"}},{"$f":"T544-HLOOKUP(X544,Feuil2!$C$1:$CD$9,9,FALSE)","v":{"$error":"#VALUE!"}},null,null,null,null,null,null,null,{"$error":"#VALUE!"},114,null,{"$f":"IF(AP544,VLOOKUP(AP544,HOM!$AR$551:$AS$606,2))","v":3.5710000000000002}]
["H",null,null,null,null,false,null,null,null,null,null,null,null,null,"",null,null,null,"","","","","",{"$f":"IF(AND(J545>=40,J545<45),VLOOKUP(K545,Feuil2!$F$10:$P$28,9),IF(AND(J545>=45,J545<50),VLOOKUP(K545,Feuil2!$F$10:$P$28,8),IF(AND(J545>=50,J545<55),VLOOKUP(K545,Feuil2!$F$10:$P$28,7),IF(AND(J545>=55,J545<60),VLOOKUP(K545,Feuil2!$F$10:$P$28,6),IF(AND(J545>=60,J545<65),VLOOKUP(K545,Feuil2!$F$10:$P$28,5),IF(AND(J545>=65,J545<70),VLOOKUP(K545,Feuil2!$F$10:$P$28,4),IF(AND(J545>=70,J545<75),VLOOKUP(K545,Feuil2!$F$10:$P$28,3),IF(AND(J545>=75,J545<80),VLOOKUP(K545,Feuil2!$F$10:$P$28,2),VLOOKUP(K545,Feuil2!$F$10:$P$28,2)))))))))","v":{"$error":"#N/A"}},null,{"$f":"T545-HLOOKUP(X545,Feuil2!$C$1:$CD$9,2,FALSE)","v":{"$error":"#VALUE!"}},{"$f":"T545-HLOOKUP(X545,Feuil2!$C$1:$CD$9,3,FALSE)","v":{"$error":"#VALUE!"}},{"$f":"T545-HLOOKUP(X545,Feuil2!$C$1:$CD$9,4,FALSE)","v":{"$error":"#VALUE!"}},{"$f":"T545-HLOOKUP(X545,Feuil2!$C$1:$CD$9,5,FALSE)","v":{"$error":"#VALUE!"}},{"$f":"T545-HLOOKUP(X545,Feuil2!$C$1:$CD$9,6,FALSE)","v":{"$error":"#VALUE!"}},{"$f":"T545-HLOOKUP(X545,Feuil2!$C$1:$CD$9,7,FALSE)","v":{"$error":"#VALUE!"}},{"$f":"T545-HLOOKUP(X545,Feuil2!$C$1:$CD$9,8,FALSE)","v":{"$error":"#VALUE!"}},{"$f":"T545-HLOOKUP(X545,Feuil2!$C$1:$CD$9,9,FALSE)","v":{"$error":"#VALUE!"}},null,null,null,null,null,null,null,{"$error":"#VALUE!"},114,null,{"$f":"IF(AP545,VLOOKUP(AP545,HOM!$AR$551:$AS$606,2))","v":3.5710000000000002}]
["H",null,null,null,null,false,null,null,null,null,null,null,null,null,"",null,null,null,"","","","","",{"$f":"IF(AND(J546>=40,J546<45),VLOOKUP(K546,Feuil2!$F$10:$P$28,9),IF(AND(J546>=45,J546<50),VLOOKUP(K546,Feuil2!$F$10:$P$28,8),IF(AND(J546>=50,J546<55),VLOOKUP(K546,Feuil2!$F$10:$P$28,7),IF(AND(J546>=55,J546<60),VLOOKUP(K546,Feuil2!$F$10:$P$28,6),IF(AND(J546>=60,J546<65),VLOOKUP(K546,Feuil2!$F$10:$P$28,5),IF(AND(J546>=65,J546<70),VLOOKUP(K546,Feuil2!$F$10:$P$28,4),IF(AND(J546>=70,J546<75),VLOOKUP(K546,Feuil2!$F$10:$P$28,3),IF(AND(J546>=75,J546<80),VLOOKUP(K546,Feuil2!$F$10:$P$28,2),VLOOKUP(K546,Feuil2!$F$10:$P$28,2)))))))))","v":{"$error":"#N/A"}},null,{"$f":"T546-HLOOKUP(X546,Feuil2!$C$1:$CD$9,2,FALSE)","v":{"$error":"#VALUE!"}},{"$f":"T546-HLOOKUP(X546,Feuil2!$C$1:$CD$9,3,FALSE)","v":{"$error":"#VALUE!"}},{"$f":"T546-HLOOKUP(X546,Feuil2!$C$1:$CD$9,4,FALSE)","v":{"$error":"#VALUE!"}},{"$f":"T546-HLOOKUP(X546,Feuil2!$C$1:$CD$9,5,FALSE)","v":{"$error":"#VALUE!"}},{"$f":"T546-HLOOKUP(X546,Feuil2!$C$1:$CD$9,6,FALSE)","v":{"$error":"#VALUE!"}},{"$f":"T546-HLOOKUP(X546,Feuil2!$C$1:$CD$9,7,FALSE)","v":{"$error":"#VALUE!"}},{"$f":"T546-HLOOKUP(X546,Feuil2!$C$1:$CD$9,8,FALSE)","v":{"$error":"#VALUE!"}},{"$f":"T546-HLOOKUP(X546,Feuil2!$C$1:$CD$9,9,FALSE)","v":{"$error":"#VALUE!"}},null,null,null,null,null,null,null,{"$error":"#VALUE!"},114,null,{"$f":"IF(AP546,VLOOKUP(AP546,HOM!$AR$551:$AS$606,2))","v":3.5710000000000002}]
[null,null,null,null,null,null,null,null,null,null,null,null,null,null,null,null,null,null,null,null,null,null,null,null,null,null,null,null,null,null,null,null,null,null,null,null,null,null,null,null,null," "]
[]
[]
[]
[null,null,null,null,null,null,null,null,null,null,null,null,null,null,null,null,null,null,null,null,null,null,null,null,null,null,null,null,null,null,null,null,null,null,null,null,null,null,null,null,null,35,"V1 H35",35,1.0720000000000001]
[null,null,null,null,null,null,null,null,null,null,null,null,null,null,null,null,null,null,null,null,null,null,null,null,null,null,null,null,null,null,null,null,null,null,null,null,null,null,null,null,null,36,"V1 H35",36,1.087]
[null,null,null,null,null,null,null,null,null,null,null,null,null,null,null,null,null,null,null,null,null,null,null,null,null,null,null,null,null,null,null,null,null,null,null,null,null,null,null,null,null,37,"V1 H35",37,1.1000000000000001]
[null,null,null,null,null,null,null,null,null,null,null,null,null,null,null,null,null,null,null,null,null,null,null,null,null,null,null,null,null,null,null,null,null,null,null,null,null,null,null,null,null,38,"V1 H35",38,1.113]
[null,null,null,null,null,null,null,null,null,null,null,null,null,null,null,null,null,null,null,null,null,null,null,null,null,null,null,null,null,null,null,null,null,null,null,null,null,null,null,null,null,39,"V1 H35",39,1.125]
[null,null,null,null,null,null,null,null,null,null,null,null,null,null,null,null,null,null,null,null,null,null,null,null,null,null,null,null,null,null,null,null,null,null,null,null,null,null,null,null,null,40,"V2 H40",40,1.1359999999999999]
[null,null,null,null,null,null,null,null,null,null,null,null,null,null,null,null,null,null,null,null,null,null,null,null,null,null,null,null,null,null,null,null,null,null,null,null,null,null,null,null,null,41,"V2 H40",41,1.147]
[null,null,null,null,null,null,null,null,null,null,null,null,null,null,null,null,null,null,null,null,null,null,null,null,null,null,null,null,null,null,null,null,null,null,null,null,null,null,null,null,null,42,"V2 H40",42,1.1579999999999999]
[null,null,null,null,null,null,null,null,null,null,null,null,null,null,null,null,null,null,null,null,null,null,null,null,null,null,null,null,null,null,null,null,null,null,null,null,null,null,null,null,null,43,"V2 H40",43,1.17]
[null,null,null,null,null,null,null,null,null,null,null,null,null,null,null,null,null,null,null,null,null,null,null,null,null,null,null,null,null,null,null,null,null,null,null,null,null,null,null,null,null,44,"V2 H40",44,1.1830000000000001]
[null,null,null,null,null,null,null,null,null,null,null,null,null,null,null,null,null,null,null,null,null,null,null,null,null,null,null,null,null,null,null,null,null,null,null,null,null,null,null,null,null,45,"V3 H45",45,1.1950000000000001]
[null,null,null,null,null,null,null,null,null,null,null,null,null,null,null,null,null,null,null,null,null,null,null,null,null,null,null,null,null,null,null,null,null,null,null,null,null,null,null,null,null,46,"V3 H45",46,1.2070000000000001]
[null,null,null,null,null,null,null,null,null,null,null,null,null,null,null,null,null,null,null,null,null,null,null,null,null,null,null,null,null,null,null,null,null,null,null,null,null,null,null,null,null,47,"V3 H45",47,1.2170000000000001]
[null,null,null,null,null,null,null,null,null,null,null,null,null,null,null,null,null,null,null,null,null,null,null,null,null,null,null,null,null,null,null,null,null,null,null,null,null,null,null,null,null,48,"V3 H45",48,1.226]
[null,null,null,null,null,null,null,null,null,null,null,null,null,null,null,null,null,null,null,null,null,null,null,null,null,null,null,null,null,null,null,null,null,null,null,null,null,null,null,null,null,49,"V3 H45",49,1.234]
[null,null,null,null,null,null,null,null,null,null,null,null,null,null,null,null,null,null,null,null,null,null,null,null,null,null,null,null,null,null,null,null,null,null,null,null,null,null,null,null,null,50,"V4 H50",50,1.2430000000000001]
[null,null,null,null,null,null,null,null,null,null,null,null,null,null,null,null,null,null,null,null,null,null,null,null,null,null,null,null,null,null,null,null,null,null,null,null,null,null,null,null,null,51,"V4 H50",51,1.2549999999999999]
[null,null,null,null,null,null,null,null,null,null,null,null,null,null,null,null,null,null,null,null,null,null,null,null,null,null,null,null,null,null,null,null,null,null,null,null,null,null,null,null,null,52,"V4 H50",52,1.2709999999999999]
[null,null,null,null,null,null,null,null,null,null,null,null,null,null,null,null,null,null,null,null,null,null,null,null,null,null,null,null,null,null,null,null,null,null,null,null,null,null,null,null,null,53,"V4 H50",53,1.2929999999999999]
[null,null,null,null,null,null,null,null,null,null,null,null,null,null,null,null,null,null,null,null,null,null,null,null,null,null,null,null,null,null,null,null,null,null,null,null,null,null,null,null,null,54,"V4 H50",54,1.319]
[null,null,null,null,null,null,null,null,null,null,null,null,null,null,null,null,null,null,null,null,null,null,null,null,null,null,null,null,null,null,null,null,null,null,null,null,null,null,null,null,null,55,"V5 H55",55,1.35]
[null,null,null,null,null,null,null,null,null,null,null,null,null,null,null,null,null,null,null,null,null,null,null,null,null,null,null,null,null,null,null,null,null,null,null,null,null,null,null,null,null,56,"V5 H55",56,1.3839999999999999]
[null,null,null,null,null,null,null,null,null,null,null,null,null,null,null,null,null,null,null,null,null,null,null,null,null,null,null,null,null,null,null,null,null,null,null,null,null,null,null,null,null,57,"V5 H55",57,1.417]
[null,null,null,null,null,null,null,null,null,null,null,null,null,null,null,null,null,null,null,null,null,null,null,null,null,null,null,null,null,null,null,null,null,null,null,null,null,null,null,null,null,58,"V5 H55",58,1.4490000000000001]
[null,null,null,null,null,null,null,null,null,null,null,null,null,null,null,null,null,null,null,null,null,null,null,null,null,null,null,null,null,null,null,null,null,null,null,null,null,null,null,null,null,59,"V5 H55",59,1.48]
[null,null,null,null,null,null,null,null,null,null,null,null,null,null,null,null,null,null,null,null,null,null,null,null,null,null,null,null,null,null,null,null,null,null,null,null,null,null,null,null,null,60,"V6 H60",60,1.5089999999999999]
[null,null,null,null,null,null,null,null,null,null,null,null,null,null,null,null,null,null,null,null,null,null,null,null,null,null,null,null,null,null,null,null,null,null,null,null,null,null,null,null,null,61,"V6 H60",61,1.536]
[null,null,null,null,null,null,null,null,null,null,null,null,null,null,null,null,null,null,null,null,null,null,null,null,null,null,null,null,null,null,null,null,null,null,null,null,null,null,null,null,null,62,"V6 H60",62,1.5609999999999999]
[null,null,null,null,null,null,null,null,null,null,null,null,null,null,null,null,null,null,null,null,null,null,null,null,null,null,null,null,null,null,null,null,null,null,null,null,null,null,null,null,null,63,"V6 H60",63,1.5840000000000001]
[null,null,null,null,null,null,null,null,null,null,null,null,null,null,null,null,null,null,null,null,null,null,null,null,null,null,null,null,null,null,null,null,null,null,null,null,null,null,null,null,null,64,"V6 H60",64,1.6080000000000001]
[null,null,null,null,null,null,null,null,null,null,null,null,null,null,null,null,null,null,null,null,null,null,null,null,null,null,null,null,null,null,null,null,null,null,null,null,null,null,null,null,null,65,"V7 H65",65,1.6359999999999999]
[null,null,null,null,null,null,null,null,null,null,null,null,null,null,null,null,null,null,null,null,null,null,null,null,null,null,null,null,null,null,null,null,null,null,null,null,null,null,null,null,null,66,"V7 H65",66,1.671]
[null,null,null,null,null,null,null,null,null,null,null,null,null,null,null,null,null,null,null,null,null,null,null,null,null,null,null,null,null,null,null,null,null,null,null,null,null,null,null,null,null,67,"V7 H65",67,1.7190000000000001]
[null,null,null,null,null,null,null,null,null,null,null,null,null,null,null,null,null,null,null,null,null,null,null,null,null,null,null,null,null,null,null,null,null,null,null,null,null,null,null,null,null,68,"V7 H65",68,1.782]
[null,null,null,null,null,null,null,null,null,null,null,null,null,null,null,null,null,null,null,null,null,null,null,null,null,null,null,null,null,null,null,null,null,null,null,null,null,null,null,null,null,69,"V7 H65",69,1.8560000000000001]
[null,null,null,null,null,null,null,null,null,null,null,null,null,null,null,null,null,null,null,null,null,null,null,null,null,null,null,null,null,null,null,null,null,null,null,null,null,null,null,null,null,70,"V8 H70",70,1.9330000000000001]
[null,null,null,null,null,null,null,null,null,null,null,null,null,null,null,null,null,null,null,null,null,null,null,null,null,null,null,null,null,null,null,null,null,null,null,null,null,null,null,null,null,71,"V8 H70",71,2.0019999999999998]
[null,null,null,null,null,null,null,null,null,null,null,null,null,null,null,null,null,null,null,null,null,null,null,null,null,null,null,null,null,null,null,null,null,null,null,null,null,null,null,null,null,72,"V8 H70",72,2.0529999999999999]
[null,null,null,null,null,null,null,null,null,null,null,null,null,null,null,null,null,null,null,null,null,null,null,null,null,null,null,null,null,null,null,null,null,null,null,null,null,null,null,null,null,73,"V8 H70",73,2.0870000000000002]
[null,null,null,null,null,null,null,null,null,null,null,null,null,null,null,null,null,null,null,null,null,null,null,null,null,null,null,null,null,null,null,null,null,null,null,null,null,null,null,null,null,74,"V8 H70",74,2.113]
[null,null,null,null,null,null,null,null,null,null,null,null,null,null,null,null,null,null,null,null,null,null,null,null,null,null,null,null,null,null,null,null,null,null,null,null,null,null,null,null,null,75,"V9 H75",75,2.1419999999999999]
[null,null,null,null,null,null,null,null,null,null,null,null,null,null,null,null,null,null,null,null,null,null,null,null,null,null,null,null,null,null,null,null,null,null,null,null,null,null,null,null,null,76,"V9 H75",76,2.1840000000000002]
[null,null,null,null,null,null,null,null,null,null,null,null,null,null,null,null,null,null,null,null,null,null,null,null,null,null,null,null,null,null,null,null,null,null,null,null,null,null,null,null,null,77,"V9 H75",77,2.2509999999999999]
[null,null,null,null,null,null,null,null,null,null,null,null,null,null,null,null,null,null,null,null,null,null,null,null,null,null,null,null,null,null,null,null,null,null,null,null,null,null,null,null,null,78,"V9 H75",78,2.3580000000000001]
[null,null,null,null,null,null,null,null,null,null,null,null,null,null,null,null,null,null,null,null,null,null,null,null,null,null,null,null,null,null,null,null,null,null,null,null,null,null,null,null,null,79,"V9 H75",79,2.5]
[null,null,null,null,null,null,null,null,null,null,null,null,null,null,null,null,null,null,null,null,null,null,null,null,null,null,null,null,null,null,null,null,null,null,null,null,null,null,null,null,null,80,"V10 H80+",80,2.669]
[null,null,null,null,null,null,null,null,null,null,null,null,null,null,null,null,null,null,null,null,null,null,null,null,null,null,null,null,null,null,null,null,null,null,null,null,null,null,null,null,null,81,"V10 H80+",81,2.8490000000000002]
[null,null,null,null,null,null,null,null,null,null,null,null,null,null,null,null,null,null,null,null,null,null,null,null,null,null,null,null,null,null,null,null,null,null,null,null,null,null,null,null,null,82,"V10 H80+",82,3.0179999999999998]
[null,null,null,null,null,null,null,null,null,null,null,null,null,null,null,null,null,null,null,null,null,null,null,null,null,null,null,null,null,null,null,null,null,null,null,null,null,null,null,null,null,83,"V10 H80+",83,3.1659999999999999]
[null,null,null,null,null,null,null,null,null,null,null,null,null,null,null,null,null,null,null,null,null,null,null,null,null,null,null,null,null,null,null,null,null,null,null,null,null,null,null,null,null,84,"V10 H80+",84,3.2879999999999998]
[null,null,null,null,null,null,null,null,null,null,null,null,null,null,null,null,null,null,null,null,null,null,null,null,null,null,null,null,null,null,null,null,null,null,null,null,null,null,null,null,null,85,"V10 H80+",85,3.3860000000000001]
[null,null,null,null,null,null,null,null,null,null,null,null,null,null,null,null,null,null,null,null,null,null,null,null,null,null,null,null,null,null,null,null,null,null,null,null,null,null,null,null,null,86,"V10 H80+",86,3.4580000000000002]
[null,null,null,null,null,null,null,null,null,null,null,null,null,null,null,null,null,null,null,null,null,null,null,null,null,null,null,null,null,null,null,null,null,null,null,null,null,null,null,null,null,87,"V10 H80+",87,3.508]
[null,null,null,null,null,null,null,null,null,null,null,null,null,null,null,null,null,null,null,null,null,null,null,null,null,null,null,null,null,null,null,null,null,null,null,null,null,null,null,null,null,88,"V10 H80+",88,3.54]
[null,null,null,null,null,null,null,null,null,null,null,null,null,null,null,null,null,null,null,null,null,null,null,null,null,null,null,null,null,null,null,null,null,null,null,null,null,null,null,null,null,89,"V10 H80+",89,3.5590000000000002]
[null,null,null,null,null,null,null,null,null,null,null,null,null,null,null,null,null,null,null,null,null,null,null,null,null,null,null,null,null,null,null,null,null,null,null,null,null,null,null,null,null,90,"V10 H80+",90,3.5710000000000002]
[]
[]
[]
[]
[]
[]
[]
[]
[]
[]
[]
[]
[]
[]
[]
[]
[]
[]
[]
[]
[]
[]
[]
[]
[]
[]
[]
[]
[]
[]
[]
[]
[]
[]
[]
[]
[]
[]
[]
[]
[]
[]
[]
[]
[]
[]
[]
[]
[]
[]
[]
[]
[]
[]
[]
[]
[]
[]
[]
[]
[]
[]
[]
[]
[]
[]
[]
[]
[]
[]
[]
[]
[]
[]
[]
[]
[]
[]
[]
[]
[]
[]
[]
[]
[]
[]
[]
[]
[]
[null,null,null,null,null,null,null,null,null,null,null,null,null,null,null,null,null,null,null,null,null,null,null,null,"J69","J77","J85","J94","J105","J+105",null,"J56","J62","J69","J77","J85","J94","J105","J+105",null,"S56","S62","S69","S77","S85","S94","S105","S+105"]
[null,null,null,null,null,null,null,null,null,null,null,null,null,null,null,null,null,null,null,null,null,null,null,null,130,145,160,170,180,190,null,100,115,130,145,160,170,180,190,null,115,135,150,165,180,190,200,210]
[null,null,null,null,null,null,null,null,null,null,null,null,null,null,null,null,null,null,null,null,null,null,null,null,150,165,180,190,200,210,null,115,135,150,165,180,190,200,210,null,130,150,165,185,200,210,220,230]
[null,null,null,null,null,null,null,null,null,null,null,null,null,null,null,null,null,null,null,null,null,null,null,null,165,185,200,210,220,230,null,130,150,165,185,200,210,220,230,null,145,165,180,200,220,230,240,250]
[null,null,null,null,null,null,null,null,null,null,null,null,null,null,null,null,null,null,null,null,null,null,null,null,180,200,220,230,240,250,null,145,165,180,200,220,230,240,250,null,175,195,215,235,250,260,275,280]
[null,null,null,null,null,null,null,null,null,null,null,null,null,null,null,null,null,null,null,null,null,null,null,null,215,235,250,260,275,280,null,175,195,215,235,250,260,275,280,null,210,230,250,270,290,300,310,325]
[null,null,null,null,null,null,null,null,null,null,null,null,null,null,null,null,null,null,null,null,null,null,null,null,250,270,290,300,310,325,null,210,230,250,270,290,300,310,325,null,230,255,275,300,315,335,345,355]
[null,null,null,null,null,null,null,null,null,null,null,null,null,null,null,null,null,null,null,null,null,null,null,null,295,320,335,355,370,380,null,245,270,295,320,335,355,370,380,null,245,270,295,320,335,355,370,380]

{"sheet":"Feuil1","index":2,"n_rows":24,"n_cols":58,"rows_kept":24,"cut":false,"hidden":true,"merged":[]}
[null,null,"VF35-48","VF35-53","VF35-58","VF35-63","VF35-69","VF35-75","VF35+75","VF40-48","VF40-53","VF40-58","VF40-63","VF40-69","VF40-75","VF40+75","VF45-48","VF45-53","VF45-58","VF45-63","VF45-69","VF45-75","VF45+75","VF50-48","VF50-53","VF50-58","VF50-63","VF50-69","VF50-75","VF50+75","VF55-48","VF55-53","VF55-58","VF55-63","VF55-69","VF55-75","VF55+75","VF60-48","VF60-53","VF60-58","VF60-63","VF60-69","VF60-75","VF60+75","VF65-48","VF65-53","VF65-58","VF65-63","VF65-69","VF65-75","VF65+75","VF70+-48","VF70+-53","VF70+-58","VF70+-63","VF70+-69","VF70+-75","VF70++75"]
[null,null,null,null,null,null,null,null,null,null,null,null,null,null,null,null,null,null,null,null,null,null,null,null,null,null,null,null,null,null,null,null,null,null,null,null,null,null,null,null,null,null,null,null,null,null,null,null,null,null,null," "]
[null,"REGION",55,60,62,65,70,72,80,52,55,60,62,65,67,75,50,52,55,60,62,65,72,45,47,52,55,57,60,67,42,45,47,50,52,55,57,40,42,45,47,50,52,55,38,40,42,45,48,50,52,36,38,40,43,45,48,50]
[null,"France",60,62,67,70,75,77,85,55,60,62,65,70,72,80,52,55,60,62,65,67,75,50,52,55,60,62,65,72,45,47,52,55,57,60,67,42,45,47,50,52,55,57,40,42,45,47,50,52,55,38,40,42,45,48,50,52]
[null,"EUROPE",70,72,77,80,85,87,95,65,70,72,75,80,82,90,62,65,70,72,75,77,85,60,62,65,70,72,75,82,55,57,62,65,67,70,77,52,55,57,60,62,65,67,50,52,55,57,60,62,65,45,47,49,52,55,57,60]
[null,"MONDE",82,90,95,100,102,107,112,80,85,90,95,97,100,105,72,77,82,85,90,92,97,67,72,75,77,82,85,90,60,65,67,70,75,77,82,55,57,62,65,67,70,72,50,52,55,57,60,62,65,46,48,50,53,56,58,61]
[null,"INTERNATIONAL B",1000,1000,1000,1000,1000,1000,1000,1000,1000,1000,1000,1000,1000,1000,1000,1000,1000,1000,1000,1000,1000,1000,1000,1000,1000,1000,1000,1000,1000,1000,1000,1000,1000,1000,1000,1000,1000,1000,1000,1000,1000,1000,1000,1000,1000,1000,1000,1000,1000,1000,1000,1000,1000,1000,1000,1000]
[null,"INTERNATIONAL A",1000,1000,1000,1000,1000,1000,1000,1000,1000,1000,1000,1000,1000,1000,1000,1000,1000,1000,1000,1000,1000,1000,1000,1000,1000,1000,1000,1000,1000,1000,1000,1000,1000,1000,1000,1000,1000,1000,1000,1000,1000,1000,1000,1000,1000,1000,1000,1000,1000,1000,1000,1000,1000,1000,1000,1000]
[null,"OLYMPIQUE",1000,1000,1000,1000,1000,1000,1000,1000,1000,1000,1000,1000,1000,1000,1000,1000,1000,1000,1000,1000,1000,1000,1000,1000,1000,1000,1000,1000,1000,1000,1000,1000,1000,1000,1000,1000,1000,1000,1000,1000,1000,1000,1000,1000,1000,1000,1000,1000,1000,1000,1000,1000,1000,1000,1000,1000]
[null,null,null,null,null,null,"VF35","VF40","VF45","VF50","VF55","VF60","VF65","VF70+"]
[null,null,null,null,null,20.010000000000002,"VF35-48","VF40-48","VF45-48","VF50-48","VF55-48","VF60-48","VF65-48","VF70+-48"]
[null,null,null,null,null,30.01,"VF35-48","VF40-48","VF45-48","VF50-48","VF55-48","VF60-48","VF65-48","VF70+-48"]
[null,null,null,null,null,35.01,"VF35-48","VF40-48","VF45-48","VF50-48","VF55-48","VF60-48","VF65-48","VF70+-48"]
[null,null,null,null,null,36.01,"VF35-48","VF40-48","VF45-48","VF50-48","VF55-48","VF60-48","VF65-48","VF70+-48"]
[null,null,null,null,null,40.01,"VF35-48","VF40-48","VF45-48","VF50-48","VF55-48","VF60-48","VF65-48","VF70+-48"]
[null,null,null,null,null,44.01,"VF35-48","VF40-48","VF45-48","VF50-48","VF55-48","VF60-48","VF65-48","VF70+-48"]
[null,null,null,null,null,48.01,"VF35-53","VF40-53","VF45-53","VF50-53","VF55-53","VF60-53","VF65-53","VF70+-53"]
[null,null,null,null,null,53.01,"VF35-58","VF40-58","VF45-58","VF50-58","VF55-58","VF60-58","VF65-58","VF70+-58"]
[null,null,null,null,null,58.01,"VF35-63","VF40-63","VF45-63","VF50-63","VF55-63","VF60-63","VF65-63","VF70+-63"]
[null,null,null,null,null,63.01,"VF35-69","VF40-69","VF45-69","VF50-69","VF55-69","VF60-69","VF65-69","VF70+-69"]
[null,null,null,null,null,69.010000000000005,"VF35-75","VF40-75","VF45-75","VF50-75","VF55-75","VF60-75","VF65-75","VF70+-75"]
[null,null,null,null,null,75.010000000000005,"VF35+75","VF40+75","VF45+75","VF50+75","VF55+75","VF60+75","VF65+75","VF70++75"]
[null,null,null,null,null,110,"VF35+75","VF40+75","VF45+75","VF50+75","VF55+75","VF60+75","VF65+75","VF70++75"]
[null,null,null,null,null,140,"VF35+75","VF40+75","VF45+75","VF50+75","VF55+75","VF60+75","VF65+75","VF70++75"]

{"sheet":"Feuil2","index":3,"n_rows":85,"n_cols":83,"rows_kept":85,"cut":false,"hidden":true,"merged":[]}
[null,null,"VH35-56","VH35-62","VH35-69","VH35-77","VH35-85","VH35-94","VH35-105","VH35+105","VH40-56","VH40-62","VH40-69","VH40-77","VH40-85","VH40-94","VH40-105","VH40+105","VH45-56","VH45-62","VH45-69","VH45-77","VH45-85","VH45-94","VH45-105","VH45+105","VH50-56","VH50-62","VH50-69","VH50-77","VH50-85","VH50-94","VH50-105","VH50+105","VH55-56","VH55-62","VH55-69","VH55-77","VH55-85","VH55-94","VH55-105","VH55+105","VH60-56","VH60-62","VH60-69","VH60-77","VH60-85","VH60-94","VH60-105","VH60+105","VH65-56","VH65-62","VH65-69","VH65-77","VH65-85","VH65-94","VH65-105","VH65+105","VH70-56","VH70-62","VH70-69","VH70-77","VH70-85","VH70-94","VH70-105","VH70+105","VH75-56","VH75-62","VH75-69","VH75-77","VH75-85","VH75-94","VH75-105","VH75+105","VH80+-56","VH80+-62","VH80+-69","VH80+-77","VH80+-85","VH80+-94","VH80+-105","VH80++105"]
[null,null,null,null,null,null,null,null,null,null,null,null,null,null,null,null,null,null,null,null,null,null,null,null,null,null,null,null,null,null,null,null,null,null,null,null,null,null,null,null,null,null,null,null,null,null,null,null,null,null,null," "]
[null,"REGION",117,132,147,162,172,182,190,197,110,125,140,152,162,172,180,187,105,117,130,145,155,162,170,177,95,107,120,130,140,147,155,162,82,92,105,115,122,130,137,145,72,82,92,102,110,117,122,130,60,70,77,87,92,100,102,107,47,55,62,70,75,80,82,87,42,47,55,62,67,70,75,80,40,45,50,60,63,64,69,70,"REGIONAL"]
[null,"France",127,142,157,172,182,192,200,202,120,135,150,162,172,18,190,197,115,127,140,155,165,172,180,187,105,117,130,140,150,157,165,172,92,102,115,125,132,140,147,155,82,92,102,112,120,127,132,140,70,80,87,97,102,110,112,117,57,65,72,80,85,90,92,97,52,57,65,72,77,80,85,90,50,55,58,62,64,65,70,75,"France"]
[null,"EUROPE",137,152,167,182,192,202,210,217,130,145,160,172,182,192,200,207,125,137,150,165,175,182,190,197,115,127,140,150,160,167,175,182,102,112,125,135,142,150,157,165,92,102,112,122,130,137,142,150,80,90,97,107,112,120,122,127,67,75,82,90,95,100,102,107,62,67,75,82,87,90,95,100,54,56,59,64,69,71,76,79,"EUROPE"]
[null,"MONDE",155,172,187,202,215,227,237,245,147,162,177,192,205,215,225,232,140,155,170,185,195,205,212,222,130,142,157,170,180,190,197,205,115,127,140,152,162,170,177,182,105,117,127,137,147,155,160,167,92,102,112,120,127,135,140,145,75,82,90,97,102,107,112,117,67,75,82,87,95,97,102,107,55,57,60,65,70,72,77,80,"MONDE"]
[null,"INTERNATIONAL B",1000,1000,1000,1000,1000,1000,1000,1000,1000,1000,1000,1000,1000,1000,1000,1000,1000,1000,1000,1000,1000,1000,1000,1000,1000,1000,1000,1000,1000,1000,1000,1000,1000,1000,1000,1000,1000,1000,1000,1000,1000,1000,1000,1000,1000,1000,1000,1000,1000,1000,1000,1000,1000,1000,1000,1000,1000,1000,1000,1000,1000,1000,1000,1000,1000,1000,1000,1000,1000,1000,1000,1000,1000,1000,1000,1000,1000,1000,1000,1000]
[null,"INTERNATIONAL A",1000,1000,1000,1000,1000,1000,1000,1000,1000,1000,1000,1000,1000,1000,1000,1000,1000,1000,1000,1000,1000,1000,1000,1000,1000,1000,1000,1000,1000,1000,1000,1000,1000,1000,1000,1000,1000,1000,1000,1000,1000,1000,1000,1000,1000,1000,1000,1000,1000,1000,1000,1000,1000,1000,1000,1000,1000,1000,1000,1000,1000,1000,1000,1000,1000,1000,1000,1000,1000,1000,1000,1000,1000,1000,1000,1000,1000,1000,1000,1000]
[null,"OLYMPIQUE",1000,1000,1000,1000,1000,1000,1000,1000,1000,1000,1000,1000,1000,1000,1000,1000,1000,1000,1000,1000,1000,1000,1000,1000,1000,1000,1000,1000,1000,1000,1000,1000,1000,1000,1000,1000,1000,1000,1000,1000,1000,1000,1000,1000,1000,1000,1000,1000,1000,1000,1000,1000,1000,1000,1000,1000,1000,1000,1000,1000,1000,1000,1000,1000,1000,1000,1000,1000,1000,1000,1000,1000,1000,1000,1000,1000,1000,1000,1000,1000]
[null,null,null,null,null,null,"VH35","VH40","VH45","VH50","VH55","VH60","VH65","VH70","VH75","VH80+"]
[null,null,null,null,null,20.010000000000002,"VH35-56","VH40-56","VH45-56","VH50-56","VH55-56","VH60-56","VH65-56","VH70-56","VH75-56","VH80+-56"]
[null,null,null,null,null,34.01,"VH35-56","VH40-56","VH45-56","VH50-56","VH55-56","VH60-56","VH65-56","VH70-56","VH75-56","VH80+-56"]
[null,null,null,null,null,38.01,"VH35-56","VH40-56","VH45-56","VH50-56","VH55-56","VH60-56","VH65-56","VH70-56","VH75-56","VH80+-56"]
[null,null,null,null,null,40.01,"VH35-56","VH40-56","VH45-56","VH50-56","VH55-56","VH60-56","VH65-56","VH70-56","VH75-56","VH80+-56"]
[null,null,null,null,null,45.01,"VH35-56","VH40-56","VH45-56","VH50-56","VH55-56","VH60-56","VH65-56","VH70-56","VH75-56","VH80+-56"]
[null,null,null,null,null,50.01,"VH35-56","VH40-56","VH45-56","VH50-56","VH55-56","VH60-56","VH65-56","VH70-56","VH75-56","VH80+-56"]
[null,null,null,null,null,52.05,"VH35-56","VH40-56","VH45-56","VH50-56","VH55-56","VH60-56","VH65-56","VH70-56","VH75-56","VH80+-56"]
[null,null,null,null,null,56.01,"VH35-62","VH40-62","VH45-62","VH50-62","VH55-62","VH60-62","VH65-62","VH70-62","VH75-62","VH80+-62"]
[null,null,null,null,null,62.01,"VH35-69","VH40-69","VH45-69","VH50-69","VH55-69","VH60-69","VH65-69","VH70-69","VH75-69","VH80+-69"]
[null,null,null,null,null,69.010000000000005,"VH35-77","VH40-77","VH45-77","VH50-77","VH55-77","VH60-77","VH65-77","VH70-77","VH75-77","VH80+-77"]
[null,null,null,null,null,77.010000000000005,"VH35-85","VH40-85","VH45-85","VH50-85","VH55-85","VH60-85","VH65-85","VH70-85","VH75-85","VH80+-85"]
[null,null,null,null,null,85.01,"VH35-94","VH40-94","VH45-94","VH50-94","VH55-94","VH60-94","VH65-94","VH70-94","VH75-94","VH80+-94"]
[null,null,null,null,null,94.01,"VH35-105","VH40-105","VH45-105","VH50-105","VH55-105","VH60-105","VH65-105","VH70-105","VH75-105","VH80+-105"]
[null,null,null,null,null,105.01,"VH35+105","VH40+105","VH45+105","VH50+105","VH55+105","VH60+105","VH65+105","VH70+105","VH75+105","VH80++105"]
[null,null,null,null,null,110,"VH35+105","VH40+105","VH45+105","VH50+105","VH55+105","VH60+105","VH65+105","VH70+105","VH75+105","VH80++105"]
[null,null,null,null,null,120,"VH35+105","VH40+105","VH45+105","VH50+105","VH55+105","VH60+105","VH65+105","VH70+105","VH75+105","VH80++105"]
[null,null,null,null,null,130,"VH35+105","VH40+105","VH45+105","VH50+105","VH55+105","VH60+105","VH65+105","VH70+105","VH75+105","VH80++105"]
[null,null,null,null,null,140,"VH35+105","VH40+105","VH45+105","VH50+105","VH55+105","VH60+105","VH65+105","VH70+105","VH75+105","VH80++105"]
[]
[null,null,null,null,null,35,1.0720000000000001]
[null,null,null,null,null,36,1.087]
[null,null,null,null,null,37,1.1000000000000001]
[null,null,null,null,null,38,1.113]
[null,null,null,null,null,39,1.125]
[null,null,null,null,null,40,1.1359999999999999]
[null,null,null,null,null,41,1.147]
[null,null,null,null,null,42,1.1579999999999999]
[null,null,null,null,null,43,1.17]
[null,null,null,null,null,44,1.1830000000000001]
[null,null,null,null,null,45,1.1950000000000001]
[null,null,null,null,null,46,1.2070000000000001]
[null,null,null,null,null,47,1.2170000000000001]
[null,null,null,null,null,48,1.226]
[null,null,null,null,null,49,1.234]
[null,null,null,null,null,50,1.2430000000000001]
[null,null,null,null,null,51,1.2549999999999999]
[null,null,null,null,null,52,1.2709999999999999]
[null,null,null,null,null,53,1.2929999999999999]
[null,null,null,null,null,54,1.319]
[null,null,null,null,null,55,1.35]
[null,null,null,null,null,56,1.3839999999999999]
[null,null,null,null,null,57,1.417]
[null,null,null,null,null,58,1.4490000000000001]
[null,null,null,null,null,59,1.48]
[null,null,null,null,null,60,1.5089999999999999]
[null,null,null,null,null,61,1.536]
[null,null,null,null,null,62,1.5609999999999999]
[null,null,null,null,null,63,1.5840000000000001]
[null,null,null,null,null,64,1.6080000000000001]
[null,null,null,null,null,65,1.6359999999999999]
[null,null,null,null,null,66,1.671]
[null,null,null,null,null,67,1.7190000000000001]
[null,null,null,null,null,68,1.782]
[null,null,null,null,null,69,1.8560000000000001]
[null,null,null,null,null,70,1.9330000000000001]
[null,null,null,null,null,71,2.0019999999999998]
[null,null,null,null,null,72,2.0529999999999999]
[null,null,null,null,null,73,2.0870000000000002]
[null,null,null,null,null,74,2.113]
[null,null,null,null,null,75,2.1419999999999999]
[null,null,null,null,null,76,2.1840000000000002]
[null,null,null,null,null,77,2.2509999999999999]
[null,null,null,null,null,78,2.3580000000000001]
[null,null,null,null,null,79,2.5]
[null,null,null,null,null,80,2.669]
[null,null,null,null,null,81,2.8490000000000002]
[null,null,null,null,null,82,3.0179999999999998]
[null,null,null,null,null,83,3.1659999999999999]
[null,null,null,null,null,84,3.2879999999999998]
[null,null,null,null,null,85,3.3860000000000001]
[null,null,null,null,null,86,3.4580000000000002]
[null,null,null,null,null,87,3.508]
[null,null,null,null,null,88,3.54]
[null,null,null,null,null,89,3.5590000000000002]
[null,null,null,null,null,90,3.5710000000000002]